{"text_format":"1","workbook":"xlsx","n_sheets":6,"sheets":["Scoresheet","Names","Sheet3","Sheet1","Sheet4","TwoWayQuiz"],"not_rendered":{"charts":0,"images":0,"macros":1,"external_links":0,"defined_names":0,"comments":0,"pivot_tables":0},"unopened":[],"bounds":{"document_bytes":16777216,"sheet_cells":100000,"rows_first":2000,"rows_last":500,"rows_between":2000,"halvings":0,"cell_chars":16384,"cell_head_chars":4096},"cells_cut":0,"cells_raw":0,"read":"whole","date_system":"1900"}

{"sheet":"Scoresheet","index":0,"n_rows":126,"n_cols":215,"rows_kept":126,"cut":false,"hidden":false,"merged":[[86,6,91,28],[11,3,12,30]]}
[null,null,"Craig Hinz"]
[null,null,"Rick Morgan"]
[null,null,"Cindy Hatfield"]
[null,null,"Mona Blair"]
[null,null,"Matt Gutowsky"]
[null,null,"Nate Parker"]
[null,null,"Jim Benson"]
[null,null,"Miriam Benson"]
[null,null," "]
[null,null," "]
[null,"Quizmaster:"," "]
[null,"Sched. Start Time:"," ","Official WBQA Electronic Scoresheet"]
[null,"Event / Date:","Great Lakes 2014"]
[null,"Division / Room #"," "]
[null,null,null,{"$f":"IF(COUNTIF(D17:D21,\"\")+COUNTIF(D40:D44,\"\")+COUNTIF(D63:D67,\"\")=15,IF(E15<15,8,15),COUNTIF(D17:D21,\"\")+COUNTIF(D40:D44,\"\")+COUNTIF(D63:D67,\"\"))","v":15},15,15,15,{"$f":"IF(COUNTIF(H17:H21,\"\")+COUNTIF(H40:H44,\"\")+COUNTIF(H63:H67,\"\")=15,IF(N15<15,8,15),COUNTIF(H17:H21,\"\")+COUNTIF(H40:H44,\"\")+COUNTIF(H63:H67,\"\"))","v":15},{"$f":"IF(COUNTIF(I17:I21,\"\")+COUNTIF(I40:I44,\"\")+COUNTIF(I63:I67,\"\")=15,IF(O15<15,8,15),COUNTIF(I17:I21,\"\")+COUNTIF(I40:I44,\"\")+COUNTIF(I63:I67,\"\"))","v":15},15,15,15,15,15,15,15,15,15,15,15,{"$f":"IF(COUNTIF(U17:U21,\"\")+COUNTIF(U40:U44,\"\")+COUNTIF(U63:U67,\"\")=15,IF(V15<15,8,15),COUNTIF(U17:U21,\"\")+COUNTIF(U40:U44,\"\")+COUNTIF(U63:U67,\"\"))","v":15},{"$f":"COUNTIF(V17:V21,\"\")+COUNTIF(V40:V44,\"\")+COUNTIF(V63:V67,\"\")","v":15},{"$f":"COUNTIF(W17:W21,\"\")+COUNTIF(W40:W44,\"\")+COUNTIF(W63:W67,\"\")","v":15},15,15,15,15,15,15,15,15,15,15,15,15,15,15,15,15,15,15,15,15,15,15,15,15,15,15,15,15,15,15,15,15,15,15,15,15]
["Individual","Errors","Team Name",1,2,3,4,5,6,7,8,9,10,11,12,13,14,15,16,17,{"$f":"IF(T22+T45+T68<S45+S68+S22,\"17A\",\"\")","v":""},{"$f":"IF(U22+U45+U68<T45+T68+T22,\"17B\",\"\")","v":""},18,{"$f":"IF(W22+W45+W68<V45+V68+V22,\"18A\",\"\")","v":""},{"$f":"IF(X22+X45+X68<W45+W68+W22,\"18B\",\"\")","v":""},19,{"$f":"IF(Z22+Z45+Z68<Y45+Y68+Y22,\"19A\",\"\")","v":""},{"$f":"IF(AA22+AA45+AA68<Z45+Z68+Z22,\"19B\",\"\")","v":""},20,{"$f":"IF(AC107=\"\",\"\",AC107)","v":""},{"$f":"IF(AD107=\"\",\"\",AD107)","v":""},"","","","","","","","","","","","","","","","","","","","","","","","","","","",""]
[{"$f":"IF(MAX(D17:BG17)=30,90,COUNTIF(D17:BG17,20)*20)","v":0},{"$f":"COUNTIF(D17:BG17,\"E\")","v":0},"Quizzer #1",null,null,null,null,null,null,null,null,null,null,null,null,null,null,null,null,null,null,null,null,null,null,null,null,null,null,null,null,null,null,null,null,null,null,null,null,null,null,null,null,null,null,null,null,null,null,null,null,null,null,null,null,null,null,null,null,null,null,null,null,null,null,null,null,null,null,null,null,null,null,null,null,null,null,null,null,null,null,{"$f":"Sheet3!D17","v":20},{"$f":"Sheet3!E17","v":20},{"$f":"Sheet3!F17","v":20},{"$f":"Sheet3!G17","v":20},{"$f":"Sheet3!H17","v":20},{"$f":"Sheet3!I17","v":20},{"$f":"Sheet3!J17","v":20},{"$f":"Sheet3!K17","v":20},{"$f":"Sheet3!L17","v":20},{"$f":"Sheet3!M17","v":20},{"$f":"Sheet3!N17","v":20},{"$f":"Sheet3!O17","v":20},{"$f":"Sheet3!P17","v":20},{"$f":"Sheet3!Q17","v":20},{"$f":"Sheet3!R17","v":20},{"$f":"Sheet3!S17","v":20},{"$f":"Sheet3!T17","v":20},{"$f":"Sheet3!U17","v":20},{"$f":"Sheet3!V17","v":10},{"$f":"Sheet3!W17","v":20},{"$f":"Sheet3!X17","v":20},{"$f":"Sheet3!Y17","v":10},{"$f":"Sheet3!Z17","v":20},{"$f":"Sheet3!AA17","v":20},{"$f":"Sheet3!AB17","v":10},{"$f":"Sheet3!AC17","v":20},{"$f":"Sheet3!AD17","v":"?"},{"$f":"Sheet3!AE17","v":"?"},{"$f":"Sheet3!AF17","v":"?"},{"$f":"Sheet3!AG17","v":"?"},{"$f":"Sheet3!AH17","v":"?"},{"$f":"Sheet3!AI17","v":"?"},{"$f":"Sheet3!AJ17","v":"?"},{"$f":"Sheet3!AK17","v":"?"},{"$f":"Sheet3!AL17","v":"?"},{"$f":"Sheet3!AM17","v":"?"},{"$f":"Sheet3!AN17","v":"?"},{"$f":"Sheet3!AO17","v":"?"},{"$f":"Sheet3!AP17","v":"?"},{"$f":"Sheet3!AQ17","v":"?"},{"$f":"Sheet3!AR17","v":"?"},{"$f":"Sheet3!AS17","v":"?"},{"$f":"Sheet3!AT17","v":"?"},{"$f":"Sheet3!AU17","v":"?"},{"$f":"Sheet3!AV17","v":"?"},{"$f":"Sheet3!AW17","v":"?"},{"$f":"Sheet3!AX17","v":"?"},{"$f":"Sheet3!AY17","v":"?"},{"$f":"Sheet3!AZ17","v":"?"},{"$f":"Sheet3!BA17","v":"?"},{"$f":"Sheet3!BB17","v":"?"},{"$f":"Sheet3!BC17","v":"?"},{"$f":"Sheet3!BD17","v":"?"},{"$f":"Sheet3!BE17","v":"?"},{"$f":"Sheet3!BF17","v":"?"},{"$f":"Sheet3!BG17","v":"?"},null,null,null,null,null,null,null,null,null,null,null,null,null,null,null,null,null,null,null,null,null,null,{"$f":"IF(CD17=\".\",\".\",D27)","v":"E"},{"$f":"IF(CE17=\".\",\".\",E27)","v":"E"},"E","E","E","E","E","E","E","E","E","E","E","E","E","E","E","E","A","E","E","A","E","E","A","E",".",".",".",".",".",".",".",".",".",".",".",".",".",".",".",".",".",".",".",".",".",".",".",".",".",".",".",".",".","."]
[{"$f":"IF(MAX(D18:BG18)=30,90,COUNTIF(D18:BG18,20)*20)","v":0},{"$f":"COUNTIF(D18:BG18,\"E\")","v":0},"Quizzer #2",{"$f":"IF(D$17=\"\",\"\",IF(D$17=0,0,\"\"))","v":""},{"$f":"IF(E$17=\"\",\"\",IF(E$17=0,0,\"\"))","v":""},"","","","","","","","","","","","","","","",{"$f":"IF(U$17=\"\",\"\",IF(U$17=0,0,\"\"))","v":""},"","","","","","","","","","","","","","","",{"$f":"IF(AK$17=\"\",\"\",IF(AK$17=0,0,\"\"))","v":""},"","","","","","","","","","","","","","","",{"$f":"IF(BA$17=\"\",\"\",IF(BA$17=0,0,\"\"))","v":""},"","","","","","",null,null,null,null,null,null,null,null,null,null,null,null,null,null,null,null,null,null,null,null,null,null,{"$f":"Sheet3!D18","v":20},{"$f":"Sheet3!E18","v":20},{"$f":"Sheet3!F18","v":20},{"$f":"Sheet3!G18","v":20},{"$f":"Sheet3!H18","v":20},{"$f":"Sheet3!I18","v":20},{"$f":"Sheet3!J18","v":20},{"$f":"Sheet3!K18","v":20},{"$f":"Sheet3!L18","v":20},{"$f":"Sheet3!M18","v":20},{"$f":"Sheet3!N18","v":20},{"$f":"Sheet3!O18","v":20},{"$f":"Sheet3!P18","v":20},{"$f":"Sheet3!Q18","v":20},{"$f":"Sheet3!R18","v":20},{"$f":"Sheet3!S18","v":20},{"$f":"Sheet3!T18","v":20},{"$f":"Sheet3!U18","v":20},{"$f":"Sheet3!V18","v":10},{"$f":"Sheet3!W18","v":20},{"$f":"Sheet3!X18","v":20},{"$f":"Sheet3!Y18","v":10},{"$f":"Sheet3!Z18","v":20},{"$f":"Sheet3!AA18","v":20},{"$f":"Sheet3!AB18","v":10},{"$f":"Sheet3!AC18","v":20},{"$f":"Sheet3!AD18","v":"?"},{"$f":"Sheet3!AE18","v":"?"},{"$f":"Sheet3!AF18","v":"?"},{"$f":"Sheet3!AG18","v":"?"},{"$f":"Sheet3!AH18","v":"?"},{"$f":"Sheet3!AI18","v":"?"},{"$f":"Sheet3!AJ18","v":"?"},{"$f":"Sheet3!AK18","v":"?"},{"$f":"Sheet3!AL18","v":"?"},{"$f":"Sheet3!AM18","v":"?"},{"$f":"Sheet3!AN18","v":"?"},{"$f":"Sheet3!AO18","v":"?"},{"$f":"Sheet3!AP18","v":"?"},{"$f":"Sheet3!AQ18","v":"?"},{"$f":"Sheet3!AR18","v":"?"},{"$f":"Sheet3!AS18","v":"?"},{"$f":"Sheet3!AT18","v":"?"},{"$f":"Sheet3!AU18","v":"?"},{"$f":"Sheet3!AV18","v":"?"},{"$f":"Sheet3!AW18","v":"?"},{"$f":"Sheet3!AX18","v":"?"},{"$f":"Sheet3!AY18","v":"?"},{"$f":"Sheet3!AZ18","v":"?"},{"$f":"Sheet3!BA18","v":"?"},{"$f":"Sheet3!BB18","v":"?"},{"$f":"Sheet3!BC18","v":"?"},{"$f":"Sheet3!BD18","v":"?"},{"$f":"Sheet3!BE18","v":"?"},{"$f":"Sheet3!BF18","v":"?"},{"$f":"Sheet3!BG18","v":"?"},null,null,null,null,null,null,null,null,null,null,null,null,null,null,null,null,null,null,null,null,null,null,{"$f":"IF(CD18=\".\",\".\",D27)","v":"E"},{"$f":"IF(CE18=\".\",\".\",E27)","v":"E"},"E","E","E","E","E","E","E","E","E","E","E","E","E","E","E","E","A","E","E","A","E","E","A","E",".",".",".",".",".",".",".",".",".",".",".",".",".",".",".",".",".",".",".",".",".",".",".",".",".",".",".",".",".","."]
[0,{"$f":"COUNTIF(D19:BG19,\"E\")","v":0},"Quizzer #3",{"$f":"IF(D$17=\"\",\"\",IF(D$17=0,0,\"\"))","v":""},"","","","","","","","","","","","","","","","","","","","","","","","","","","","","","","","","","","","","","","","","","","","","","","","","","","","","","","",null,null,null,null,null,null,null,null,null,null,null,null,null,null,null,null,null,null,null,null,null,null,{"$f":"Sheet3!D19","v":20},{"$f":"Sheet3!E19","v":20},{"$f":"Sheet3!F19","v":20},{"$f":"Sheet3!G19","v":20},{"$f":"Sheet3!H19","v":20},{"$f":"Sheet3!I19","v":20},{"$f":"Sheet3!J19","v":20},{"$f":"Sheet3!K19","v":20},{"$f":"Sheet3!L19","v":20},{"$f":"Sheet3!M19","v":20},{"$f":"Sheet3!N19","v":20},{"$f":"Sheet3!O19","v":20},{"$f":"Sheet3!P19","v":20},{"$f":"Sheet3!Q19","v":20},{"$f":"Sheet3!R19","v":20},{"$f":"Sheet3!S19","v":20},{"$f":"Sheet3!T19","v":20},{"$f":"Sheet3!U19","v":20},{"$f":"Sheet3!V19","v":10},{"$f":"Sheet3!W19","v":20},{"$f":"Sheet3!X19","v":20},{"$f":"Sheet3!Y19","v":10},{"$f":"Sheet3!Z19","v":20},{"$f":"Sheet3!AA19","v":20},{"$f":"Sheet3!AB19","v":10},{"$f":"Sheet3!AC19","v":20},{"$f":"Sheet3!AD19","v":"?"},{"$f":"Sheet3!AE19","v":"?"},{"$f":"Sheet3!AF19","v":"?"},{"$f":"Sheet3!AG19","v":"?"},{"$f":"Sheet3!AH19","v":"?"},{"$f":"Sheet3!AI19","v":"?"},{"$f":"Sheet3!AJ19","v":"?"},{"$f":"Sheet3!AK19","v":"?"},{"$f":"Sheet3!AL19","v":"?"},{"$f":"Sheet3!AM19","v":"?"},{"$f":"Sheet3!AN19","v":"?"},{"$f":"Sheet3!AO19","v":"?"},{"$f":"Sheet3!AP19","v":"?"},{"$f":"Sheet3!AQ19","v":"?"},{"$f":"Sheet3!AR19","v":"?"},{"$f":"Sheet3!AS19","v":"?"},{"$f":"Sheet3!AT19","v":"?"},{"$f":"Sheet3!AU19","v":"?"},{"$f":"Sheet3!AV19","v":"?"},{"$f":"Sheet3!AW19","v":"?"},{"$f":"Sheet3!AX19","v":"?"},{"$f":"Sheet3!AY19","v":"?"},{"$f":"Sheet3!AZ19","v":"?"},{"$f":"Sheet3!BA19","v":"?"},{"$f":"Sheet3!BB19","v":"?"},{"$f":"Sheet3!BC19","v":"?"},{"$f":"Sheet3!BD19","v":"?"},{"$f":"Sheet3!BE19","v":"?"},{"$f":"Sheet3!BF19","v":"?"},{"$f":"Sheet3!BG19","v":"?"},null,null,null,null,null,null,null,null,null,null,null,null,null,null,null,null,null,null,null,null,null,null,{"$f":"IF(CD19=\".\",\".\",D27)","v":"E"},{"$f":"IF(CE19=\".\",\".\",E27)","v":"E"},"E","E","E","E","E","E","E","E","E","E","E","E","E","E","E","E","A","E","E","A","E","E","A","E",".",".",".",".",".",".",".",".",".",".",".",".",".",".",".",".",".",".",".",".",".",".",".",".",".",".",".",".",".","."]
[0,{"$f":"COUNTIF(D20:BG20,\"E\")","v":0},"Quizzer #4","","","","","","","","","","","","","","","","","","","","","","","","","","","","","","","","","","","","","","","","","","","","","","","","","","","","","","","","",null,null,null,null,null,null,null,null,null,null,null,null,null,null,null,null,null,null,null,null,null,null,{"$f":"Sheet3!D20","v":20},{"$f":"Sheet3!E20","v":20},{"$f":"Sheet3!F20","v":20},{"$f":"Sheet3!G20","v":20},{"$f":"Sheet3!H20","v":20},{"$f":"Sheet3!I20","v":20},{"$f":"Sheet3!J20","v":20},{"$f":"Sheet3!K20","v":20},{"$f":"Sheet3!L20","v":20},{"$f":"Sheet3!M20","v":20},{"$f":"Sheet3!N20","v":20},{"$f":"Sheet3!O20","v":20},{"$f":"Sheet3!P20","v":20},{"$f":"Sheet3!Q20","v":20},{"$f":"Sheet3!R20","v":20},{"$f":"Sheet3!S20","v":20},{"$f":"Sheet3!T20","v":20},{"$f":"Sheet3!U20","v":20},{"$f":"Sheet3!V20","v":10},{"$f":"Sheet3!W20","v":20},{"$f":"Sheet3!X20","v":20},{"$f":"Sheet3!Y20","v":10},{"$f":"Sheet3!Z20","v":20},{"$f":"Sheet3!AA20","v":20},{"$f":"Sheet3!AB20","v":10},{"$f":"Sheet3!AC20","v":20},{"$f":"Sheet3!AD20","v":"?"},{"$f":"Sheet3!AE20","v":"?"},{"$f":"Sheet3!AF20","v":"?"},{"$f":"Sheet3!AG20","v":"?"},{"$f":"Sheet3!AH20","v":"?"},{"$f":"Sheet3!AI20","v":"?"},{"$f":"Sheet3!AJ20","v":"?"},{"$f":"Sheet3!AK20","v":"?"},{"$f":"Sheet3!AL20","v":"?"},{"$f":"Sheet3!AM20","v":"?"},{"$f":"Sheet3!AN20","v":"?"},{"$f":"Sheet3!AO20","v":"?"},{"$f":"Sheet3!AP20","v":"?"},{"$f":"Sheet3!AQ20","v":"?"},{"$f":"Sheet3!AR20","v":"?"},{"$f":"Sheet3!AS20","v":"?"},{"$f":"Sheet3!AT20","v":"?"},{"$f":"Sheet3!AU20","v":"?"},{"$f":"Sheet3!AV20","v":"?"},{"$f":"Sheet3!AW20","v":"?"},{"$f":"Sheet3!AX20","v":"?"},{"$f":"Sheet3!AY20","v":"?"},{"$f":"Sheet3!AZ20","v":"?"},{"$f":"Sheet3!BA20","v":"?"},{"$f":"Sheet3!BB20","v":"?"},{"$f":"Sheet3!BC20","v":"?"},{"$f":"Sheet3!BD20","v":"?"},{"$f":"Sheet3!BE20","v":"?"},{"$f":"Sheet3!BF20","v":"?"},{"$f":"Sheet3!BG20","v":"?"},null,null,null,null,null,null,null,null,null,null,null,null,null,null,null,null,null,null,null,null,null,null,{"$f":"IF(CD20=\".\",\".\",D27)","v":"E"},{"$f":"IF(CE20=\".\",\".\",E27)","v":"E"},"E","E","E","E","E","E","E","E","E","E","E","E","E","E","E","E","A","E","E","A","E","E","A","E",".",".",".",".",".",".",".",".",".",".",".",".",".",".",".",".",".",".",".",".",".",".",".",".",".",".",".",".",".","."]
[0,{"$f":"COUNTIF(D21:BG21,\"E\")","v":0}," ","","","","","","","","","","","","","","","","","","","","","","","","","","","","","","","","","","","","","","","","","","","","","","","","","","","","","","","","",null,null,null,null,null,null,null,null,null,null,null,null,null,null,null,null,null,null,null,null,null,null,{"$f":"Sheet3!D21","v":20},{"$f":"Sheet3!E21","v":20},{"$f":"Sheet3!F21","v":20},{"$f":"Sheet3!G21","v":20},{"$f":"Sheet3!H21","v":20},{"$f":"Sheet3!I21","v":20},{"$f":"Sheet3!J21","v":20},{"$f":"Sheet3!K21","v":20},{"$f":"Sheet3!L21","v":20},{"$f":"Sheet3!M21","v":20},{"$f":"Sheet3!N21","v":20},{"$f":"Sheet3!O21","v":20},{"$f":"Sheet3!P21","v":20},{"$f":"Sheet3!Q21","v":20},{"$f":"Sheet3!R21","v":20},{"$f":"Sheet3!S21","v":20},{"$f":"Sheet3!T21","v":20},{"$f":"Sheet3!U21","v":20},{"$f":"Sheet3!V21","v":10},{"$f":"Sheet3!W21","v":20},{"$f":"Sheet3!X21","v":20},{"$f":"Sheet3!Y21","v":10},{"$f":"Sheet3!Z21","v":20},{"$f":"Sheet3!AA21","v":20},{"$f":"Sheet3!AB21","v":10},{"$f":"Sheet3!AC21","v":20},{"$f":"Sheet3!AD21","v":"?"},{"$f":"Sheet3!AE21","v":"?"},{"$f":"Sheet3!AF21","v":"?"},{"$f":"Sheet3!AG21","v":"?"},{"$f":"Sheet3!AH21","v":"?"},{"$f":"Sheet3!AI21","v":"?"},{"$f":"Sheet3!AJ21","v":"?"},{"$f":"Sheet3!AK21","v":"?"},{"$f":"Sheet3!AL21","v":"?"},{"$f":"Sheet3!AM21","v":"?"},{"$f":"Sheet3!AN21","v":"?"},{"$f":"Sheet3!AO21","v":"?"},{"$f":"Sheet3!AP21","v":"?"},{"$f":"Sheet3!AQ21","v":"?"},{"$f":"Sheet3!AR21","v":"?"},{"$f":"Sheet3!AS21","v":"?"},{"$f":"Sheet3!AT21","v":"?"},{"$f":"Sheet3!AU21","v":"?"},{"$f":"Sheet3!AV21","v":"?"},{"$f":"Sheet3!AW21","v":"?"},{"$f":"Sheet3!AX21","v":"?"},{"$f":"Sheet3!AY21","v":"?"},{"$f":"Sheet3!AZ21","v":"?"},{"$f":"Sheet3!BA21","v":"?"},{"$f":"Sheet3!BB21","v":"?"},{"$f":"Sheet3!BC21","v":"?"},{"$f":"Sheet3!BD21","v":"?"},{"$f":"Sheet3!BE21","v":"?"},{"$f":"Sheet3!BF21","v":"?"},{"$f":"Sheet3!BG21","v":"?"},null,null,null,null,null,null,null,null,null,null,null,null,null,null,null,null,null,null,null,null,null,null,{"$f":"IF(CD21=\".\",\".\",D27)","v":"E"},{"$f":"IF(CE21=\".\",\".\",E27)","v":"E"},"E","E","E","E","E","E","E","E","E","E","E","E","E","E","E","E","A","E","E","A","E","E","A","E",".",".",".",".",".",".",".",".",".",".",".",".",".",".",".",".",".",".",".",".",".",".",".",".",".",".",".",".",".","."]
[{"$f":"ROUND(BG22,0)","v":0},{"$f":"B24","v":0},0.25,{"$f":"SUM(D17:D21)+D29+0.25","v":0.25},{"$f":"D22+SUM(E17:E21)+E29","v":0.25},{"$f":"E22+SUM(F17:F21)+F29+F36","v":0.25},{"$f":"F22+SUM(G17:G21)+G29+G36","v":0.25},{"$f":"G22+SUM(H17:H21)+H29+H36","v":0.25},{"$f":"H22+SUM(I17:I21)+I29+I36","v":0.25},0.25,0.25,0.25,0.25,0.25,0.25,0.25,0.25,0.25,0.25,0.25,0.25,0.25,0.25,0.25,0.25,0.25,0.25,0.25,0.25,0.25,0.25,0.25,0.25,0.25,0.25,0.25,0.25,0.25,0.25,0.25,0.25,0.25,0.25,0.25,0.25,0.25,0.25,0.25,0.25,0.25,0.25,0.25,0.25,0.25,0.25,0.25,0.25,0.25,0.25]
["Team Total","Olympic Pts.",{"$f":"IF(Sheet3!B91=0,IF(Sheet3!B92=0,Sheet3!C80,Sheet3!C81),IF(Sheet3!B92=0,Sheet3!C83,Sheet3!C82))","v":"Timeout = T, Foul = F ------------>"},null,null,null,null,null,null,null,null,null,null,null,null,null,null,null,null,null,null,null,null,null,null,null,null,null,null,null,null,null,null,null,null,null,null,null,null,null,null,null,null,null,null,null,null,null,null,null,null,null,null,null,null,null,null,null,null,null,null,null,null,null,null,null,null,null,null,null,null,null,null,null,null,null,null,null,null,null,null,{"$f":"CD17","v":20},{"$f":"CE17","v":20},20,20,20,20,20,20,20,20,20,20,20,20,20,20,20,20,10,20,20,10,20,20,10,20,"?","?","?","?","?","?","?","?","?","?","?","?","?","?","?","?","?","?","?","?","?","?","?","?","?","?","?","?","?","?"]
[null,{"$f":"AB124","v":0},"Devoted",null,{"$f":"COUNTIF(D17:D21,\"E\")","v":0},{"$f":"COUNTIF(D17:E21,\"E\")","v":0},{"$f":"COUNTIF(E17:F21,\"E\")","v":0},{"$f":"COUNTIF(F17:G21,\"E\")","v":0},0,0,0,0,0,0,0,0,0,0,0,0,0,0,0,0,0,0,0,0,0,0,0,0,0,0,0,0,0,0,0,0,0,0,0,0,0,0,0,0,0,0,0,0,0,0,0,0,0,0,0,null,null,null,null,null,null,null,null,null,null,null,null,null,null,null,null,null,null,null,null,null,null,{"$f":"FD17","v":"E"},{"$f":"FE17","v":"E"},"E","E","E","E","E","E","E","E","E","E","E","E","E","E","E","E","A","E","E","A","E","E","A","E",".",".",".",".",".",".",".",".",".",".",".",".",".",".",".",".",".",".",".",".",".",".",".",".",".",".",".",".",".","."]
[null,0,"Harrisburg BIC",null,{"$f":"COUNTIF(D17:D21,\"E\")","v":0},{"$f":"COUNTIF(E17:E21,\"E\")","v":0},{"$f":"COUNTIF(F17:F21,\"E\")","v":0},{"$f":"COUNTIF(G17:G21,\"E\")","v":0},0,0,0,0,0,0,0,0,0,0,0,0,0,0,0,0,0,0,0,0,0,0,0,0,0,0,0,0,0,0,0,0,0,0,0,0,0,0,0,0,0,0,0,0,0,0,0,0,0,0,0,null,null,null,null,null,null,null,null,null,null,null,null,null,null,null,null,null,null,null,null,null,null,0,0,0,0,0,0,0,0,0,0,0,0,0,0,0,0,0,0,0,0,0,0,0,0,0,0,0,0,0,0,0,0,0,0,0,0,0,0,0,0,0,0,0,0,0,0,0,0,0,0,0,0,0,0,0,0]
[null,{"$f":"IF(BG35>=3,2,0)","v":0},"Ministering Spirits",20,{"$f":"IF(E25=1,\".\",20)","v":20},{"$f":"IF(F50=\"A\",\".\",IF(F73=\"A\",\".\",IF(F25=1,\".\",IF(SUM(F47,F70)<2,20,10))))","v":20},20,20,20,20,20,20,20,20,20,20,20,20,20,20,20,{"$f":"IF(COUNTIF(T17:U20,\"\")<8,\".\",10)","v":10},20,{"$f":"IF(COUNTIF(W17:W20,\"\")<4,\".\",20)","v":20},{"$f":"IF(COUNTIF(W17:X20,\"\")<8,\">\",10)","v":10},20,{"$f":"IF(COUNTIF(Z17:Z20,\"\")<4,\".\",20)","v":20},{"$f":"IF(COUNTIF(Z17:AA20,\"\")<8,\">\",10)","v":10},20,{"$f":"AD110","v":"?"},"?",{"$f":"AF110","v":"?"},"?","?","?","?","?","?","?","?","?","?","?","?","?","?","?","?","?","?","?","?","?","?","?","?","?","?","?"]
[null,{"$f":"IF(B26=2,0,IF(B24+B25=10,IF(A22>=130,1,0),IF(B24+B25=5,IF(A22>=100,1,0),IF(A22>=70,1,0))))","v":0},"Not be Shaken","E",{"$f":"IF(E25=1,\".\",\"E\")","v":"E"},{"$f":"IF(F26=\".\",\".\",IF(SUM(F47,F70)<2,\"E\",\"A\"))","v":"E"},"E","E",{"$f":"IF(I26=\".\",\".\",IF(SUM(I47,I70)<2,\"E\",\"A\"))","v":"E"},"E","E","E","E","E","E","E","E","E","E","E","E",{"$f":"IF(V26=10,\"A\",\".\")","v":"A"},"E",{"$f":"IF(X26=20,\"E\",\".\")","v":"E"},{"$f":"IF(Y26=10,\"A\",\".\")","v":"A"},"E",{"$f":"IF(AA26=20,\"E\",\".\")","v":"E"},{"$f":"IF(AB26=10,\"A\",\".\")","v":"A"},"E",".",".",{"$f":"AF111","v":"."},".",".",".",".",".",".",".",".",".",".",".",".",".",".",".",".",".",".",".",".",".",".",".",".",".",".",".",null,null,null,null,null,null,null,null,null,null,null,null,null,null,null,null,null,null,null,null,null,null,{"$f":"CD18","v":20},{"$f":"CE18","v":20},20,20,20,20,20,20,20,20,20,20,20,20,20,20,20,20,10,20,20,10,20,20,10,20,"?","?","?","?","?","?","?","?","?","?","?","?","?","?","?","?","?","?","?","?","?","?","?","?","?","?","?","?","?","?"]
[null,null,"The Witnesses",{"$f":"IF(D15=15,\".\",IF(D15=0,0,\"\"))","v":"."},{"$f":"IF(E15=15,\".\",IF(E15=0,0,\"\"))","v":"."},".",".",".",".",".",".",".",".",".",".",".",".",".",".",".",{"$f":"IF(U15=0,0,IF(U$84=0,\".\",\"\"))","v":"."},{"$f":"IF(V15=0,0,IF(V$84=0,\".\",\"\"))","v":"."},{"$f":"IF(W15=15,\".\",IF(W15=0,0,\"\"))","v":"."},{"$f":"IF(X15=0,0,IF(X$84=0,\".\",\"\"))","v":"."},{"$f":"IF(Y15=0,0,IF(Y$84=0,\".\",\"\"))","v":"."},{"$f":"IF(Z15=15,\".\",IF(Z15=0,0,\"\"))","v":"."},{"$f":"IF(AA15=0,0,IF(AA$84=0,\".\",\"\"))","v":"."},{"$f":"IF(AB15=0,0,IF(AB$84=0,\".\",\"\"))","v":"."},{"$f":"IF(AC15=15,\".\",IF(AC15=0,0,\"\"))","v":"."},{"$f":"IF(AD15=15,\".\",IF(AD15=0,0,\"\"))","v":"."},".",".",".",".",".",".",".",".",".",".",".",".",".",".",".",".",".",".",".",".",".",".",".",".",".",".",".",".",".",null,null,null,null,null,null,null,null,null,null,null,null,null,null,null,null,null,null,null,null,null,null,{"$f":"FD18","v":"E"},{"$f":"FE18","v":"E"},"E","E","E","E","E","E","E","E","E","E","E","E","E","E","E","E","A","E","E","A","E","E","A","E",".",".",".",".",".",".",".",".",".",".",".",".",".",".",".",".",".",".",".",".",".",".",".",".",".",".",".",".",".","."]
[null,null,"With Boldness",{"$f":"Sheet3!D93+IF(E25=0,0,-0.01)","v":0},{"$f":"Sheet3!E93+IF(F25=0,0,-0.01)","v":0},{"$f":"Sheet3!F93+IF(G25=0,0,-0.01)","v":0},{"$f":"Sheet3!G93+IF(H25=0,0,-0.01)","v":0},{"$f":"Sheet3!H93+IF(I25=0,0,IF(SUM($E25:I25)<3,-0.01,IF(SUM($E25:I25)>3,-10,IF(MAX(Sheet3!H23:H27)=3,-10,-0.01))))","v":0},{"$f":"Sheet3!I93+IF(J25=0,0,IF(SUM($E25:J25)<3,-0.01,IF(SUM($E25:J25)>3,-10,IF(MAX(Sheet3!I23:I27)=3,-10,-0.01))))","v":0},{"$f":"Sheet3!J93+IF(K25=0,0,IF(SUM($E25:K25)<3,-0.01,IF(SUM($E25:K25)>3,-10,IF(MAX(Sheet3!J23:J27)=3,-10,-0.01))))","v":0},{"$f":"Sheet3!K93+IF(L25=0,0,IF(SUM($E25:L25)<3,-0.01,IF(SUM($E25:L25)>3,-10,IF(MAX(Sheet3!K23:K27)=3,-10,-0.01))))","v":0},{"$f":"Sheet3!L93+IF(M25=0,0,IF(SUM($E25:M25)<3,-0.01,IF(SUM($E25:M25)>3,-10,IF(MAX(Sheet3!L23:L27)=3,-10,-0.01))))","v":0},{"$f":"Sheet3!M93+IF(N25=0,0,IF(SUM($E25:N25)<3,-0.01,IF(SUM($E25:N25)>3,-10,IF(MAX(Sheet3!M23:M27)=3,-10,-0.01))))","v":0},{"$f":"Sheet3!N93+IF(O25=0,0,IF(SUM($E25:O25)<3,-0.01,IF(SUM($E25:O25)>3,-10,IF(MAX(Sheet3!N23:N27)=3,-10,-0.01))))","v":0},{"$f":"Sheet3!O93+IF(P25=0,0,IF(SUM($E25:P25)<3,-0.01,IF(SUM($E25:P25)>3,-10,IF(MAX(Sheet3!O23:O27)=3,-10,-0.01))))","v":0},{"$f":"Sheet3!P93+IF(Q25=0,0,IF(SUM($E25:Q25)<3,-0.01,IF(SUM($E25:Q25)>3,-10,IF(MAX(Sheet3!P23:P27)=3,-10,-0.01))))","v":0},{"$f":"Sheet3!Q93+IF(R25=0,0,IF(SUM($E25:R25)<3,-0.01,IF(SUM($E25:R25)>3,-10,IF(MAX(Sheet3!Q23:Q27)=3,-10,-0.01))))","v":0},{"$f":"Sheet3!R93+IF(S25=0,0,IF(SUM($E25:S25)<3,-0.01,IF(SUM($E25:S25)>3,-10,IF(MAX(Sheet3!R23:R27)=3,-10,-0.01))))","v":0},{"$f":"Sheet3!S93+IF(T25=1,-10,0)","v":0},{"$f":"Sheet3!T93+IF(U25=1,-10,0)","v":0},{"$f":"Sheet3!U93+IF(V25=1,-10,0)","v":0},{"$f":"Sheet3!V93","v":0},{"$f":"Sheet3!W93+IF(X25=1,-10,0)","v":0},{"$f":"Sheet3!X93+IF(Y25=1,-10,0)","v":0},{"$f":"Sheet3!Y93","v":0},{"$f":"Sheet3!Z93+IF(AA25=1,-10,0)","v":0},{"$f":"Sheet3!AA93+IF(AB25=1,-10,0)","v":0},{"$f":"Sheet3!AB93","v":0},{"$f":"Sheet3!AC93+IF(AD25=1,-10,0)","v":0},{"$f":"Sheet3!AD93+IF(AE25=1,-10,0)","v":0},{"$f":"Sheet3!AE93+IF(AF25=1,-10,0)","v":0},{"$f":"Sheet3!AF93+IF(AG25=1,-10,0)","v":0},{"$f":"Sheet3!AG93+IF(AH25=1,-10,0)","v":0},{"$f":"Sheet3!AH93+IF(AI25=1,-10,0)","v":0},{"$f":"Sheet3!AI93+IF(AJ25=1,-10,0)","v":0},{"$f":"Sheet3!AJ93+IF(AK25=1,-10,0)","v":0},{"$f":"Sheet3!AK93+IF(AL25=1,-10,0)","v":0},{"$f":"Sheet3!AL93+IF(AM25=1,-10,0)","v":0},{"$f":"Sheet3!AM93+IF(AN25=1,-10,0)","v":0},{"$f":"Sheet3!AN93+IF(AO25=1,-10,0)","v":0},{"$f":"Sheet3!AO93+IF(AP25=1,-10,0)","v":0},{"$f":"Sheet3!AP93+IF(AQ25=1,-10,0)","v":0},{"$f":"Sheet3!AQ93+IF(AR25=1,-10,0)","v":0},{"$f":"Sheet3!AR93+IF(AS25=1,-10,0)","v":0},{"$f":"Sheet3!AS93+IF(AT25=1,-10,0)","v":0},{"$f":"Sheet3!AT93+IF(AU25=1,-10,0)","v":0},{"$f":"Sheet3!AU93+IF(AV25=1,-10,0)","v":0},{"$f":"Sheet3!AV93+IF(AW25=1,-10,0)","v":0},{"$f":"Sheet3!AW93+IF(AX25=1,-10,0)","v":0},{"$f":"Sheet3!AX93+IF(AY25=1,-10,0)","v":0},{"$f":"Sheet3!AY93+IF(AZ25=1,-10,0)","v":0},{"$f":"Sheet3!AZ93+IF(BA25=1,-10,0)","v":0},{"$f":"Sheet3!BA93+IF(BB25=1,-10,0)","v":0},{"$f":"Sheet3!BB93+IF(BC25=1,-10,0)","v":0},{"$f":"Sheet3!BC93+IF(BD25=1,-10,0)","v":0},{"$f":"Sheet3!BD93+IF(BE25=1,-10,0)","v":0},{"$f":"Sheet3!BE93+IF(BF25=1,-10,0)","v":0},{"$f":"Sheet3!BF93+IF(BG25=1,-10,0)","v":0},{"$f":"Sheet3!BG93+IF(BH25=1,-10,0)","v":0}]
[null,null,"DBQ Lions",null,null,{"$f":"IF(COUNTIF($D17:F17,20)>=1,1,0)","v":0},{"$f":"IF(COUNTIF($D17:G17,20)>=1,1,0)","v":0},{"$f":"IF(COUNTIF($D17:H17,20)>=1,1,0)","v":0},{"$f":"IF(COUNTIF($D17:I17,20)>=1,1,0)","v":0},{"$f":"IF(COUNTIF($D17:J17,20)>=1,1,0)","v":0},{"$f":"IF(COUNTIF($D17:K17,20)>=1,1,0)","v":0},{"$f":"IF(COUNTIF($D17:L17,20)>=1,1,0)","v":0},{"$f":"IF(COUNTIF($D17:M17,20)>=1,1,0)","v":0},{"$f":"IF(COUNTIF($D17:N17,20)>=1,1,0)","v":0},{"$f":"IF(COUNTIF($D17:O17,20)>=1,1,0)","v":0},{"$f":"IF(COUNTIF($D17:P17,20)>=1,1,0)","v":0},{"$f":"IF(COUNTIF($D17:Q17,20)>=1,1,0)","v":0},{"$f":"IF(COUNTIF($D17:R17,20)>=1,1,0)","v":0},{"$f":"IF(COUNTIF($D17:S17,20)>=1,1,0)","v":0},{"$f":"IF(COUNTIF($D17:T17,20)>=1,1,0)","v":0},{"$f":"IF(COUNTIF($D17:U17,20)>=1,1,0)","v":0},{"$f":"IF(COUNTIF($D17:V17,20)>=1,1,0)","v":0},{"$f":"IF(COUNTIF($D17:W17,20)>=1,1,0)","v":0},{"$f":"IF(COUNTIF($D17:X17,20)>=1,1,0)","v":0},{"$f":"IF(COUNTIF($D17:Y17,20)>=1,1,0)","v":0},{"$f":"IF(COUNTIF($D17:Z17,20)>=1,1,0)","v":0},{"$f":"IF(COUNTIF($D17:AA17,20)>=1,1,0)","v":0},{"$f":"IF(COUNTIF($D17:AB17,20)>=1,1,0)","v":0},{"$f":"IF(COUNTIF($D17:AC17,20)>=1,1,0)","v":0},{"$f":"IF(COUNTIF($D17:AD17,20)>=1,1,0)","v":0},{"$f":"IF(COUNTIF($D17:AE17,20)>=1,1,0)","v":0},{"$f":"IF(COUNTIF($D17:AF17,20)>=1,1,0)","v":0},{"$f":"IF(COUNTIF($D17:AG17,20)>=1,1,0)","v":0},{"$f":"IF(COUNTIF($D17:AH17,20)>=1,1,0)","v":0},{"$f":"IF(COUNTIF($D17:AI17,20)>=1,1,0)","v":0},{"$f":"IF(COUNTIF($D17:AJ17,20)>=1,1,0)","v":0},{"$f":"IF(COUNTIF($D17:AK17,20)>=1,1,0)","v":0},{"$f":"IF(COUNTIF($D17:AL17,20)>=1,1,0)","v":0},{"$f":"IF(COUNTIF($D17:AM17,20)>=1,1,0)","v":0},{"$f":"IF(COUNTIF($D17:AN17,20)>=1,1,0)","v":0},{"$f":"IF(COUNTIF($D17:AO17,20)>=1,1,0)","v":0},{"$f":"IF(COUNTIF($D17:AP17,20)>=1,1,0)","v":0},{"$f":"IF(COUNTIF($D17:AQ17,20)>=1,1,0)","v":0},{"$f":"IF(COUNTIF($D17:AR17,20)>=1,1,0)","v":0},{"$f":"IF(COUNTIF($D17:AS17,20)>=1,1,0)","v":0},{"$f":"IF(COUNTIF($D17:AT17,20)>=1,1,0)","v":0},{"$f":"IF(COUNTIF($D17:AU17,20)>=1,1,0)","v":0},{"$f":"IF(COUNTIF($D17:AV17,20)>=1,1,0)","v":0},{"$f":"IF(COUNTIF($D17:AW17,20)>=1,1,0)","v":0},{"$f":"IF(COUNTIF($D17:AX17,20)>=1,1,0)","v":0},{"$f":"IF(COUNTIF($D17:AY17,20)>=1,1,0)","v":0},{"$f":"IF(COUNTIF($D17:AZ17,20)>=1,1,0)","v":0},{"$f":"IF(COUNTIF($D17:BA17,20)>=1,1,0)","v":0},{"$f":"IF(COUNTIF($D17:BB17,20)>=1,1,0)","v":0},{"$f":"IF(COUNTIF($D17:BC17,20)>=1,1,0)","v":0},{"$f":"IF(COUNTIF($D17:BD17,20)>=1,1,0)","v":0},{"$f":"IF(COUNTIF($D17:BE17,20)>=1,1,0)","v":0},{"$f":"IF(COUNTIF($D17:BF17,20)>=1,1,0)","v":0},{"$f":"IF(COUNTIF($D17:BG17,20)>=1,1,0)","v":0},null,null,null,null,null,null,null,null,null,null,null,null,null,null,null,null,null,null,null,null,null,null,{"$f":"CD19","v":20},{"$f":"CE19","v":20},20,20,20,20,20,20,20,20,20,20,20,20,20,20,20,20,10,20,20,10,20,20,10,20,"?","?","?","?","?","?","?","?","?","?","?","?","?","?","?","?","?","?","?","?","?","?","?","?","?","?","?","?","?","?"]
[null,null,"DBQ Red Wings",null,null,{"$f":"IF(COUNTIF($D18:F18,20)>=1,1,0)","v":0},{"$f":"IF(COUNTIF($D18:G18,20)>=1,1,0)","v":0},{"$f":"IF(COUNTIF($D18:H18,20)>=1,1,0)","v":0},{"$f":"IF(COUNTIF($D18:I18,20)>=1,1,0)","v":0},{"$f":"IF(COUNTIF($D18:J18,20)>=1,1,0)","v":0},{"$f":"IF(COUNTIF($D18:K18,20)>=1,1,0)","v":0},{"$f":"IF(COUNTIF($D18:L18,20)>=1,1,0)","v":0},{"$f":"IF(COUNTIF($D18:M18,20)>=1,1,0)","v":0},{"$f":"IF(COUNTIF($D18:N18,20)>=1,1,0)","v":0},{"$f":"IF(COUNTIF($D18:O18,20)>=1,1,0)","v":0},{"$f":"IF(COUNTIF($D18:P18,20)>=1,1,0)","v":0},{"$f":"IF(COUNTIF($D18:Q18,20)>=1,1,0)","v":0},{"$f":"IF(COUNTIF($D18:R18,20)>=1,1,0)","v":0},{"$f":"IF(COUNTIF($D18:S18,20)>=1,1,0)","v":0},{"$f":"IF(COUNTIF($D18:T18,20)>=1,1,0)","v":0},{"$f":"IF(COUNTIF($D18:U18,20)>=1,1,0)","v":0},{"$f":"IF(COUNTIF($D18:V18,20)>=1,1,0)","v":0},{"$f":"IF(COUNTIF($D18:W18,20)>=1,1,0)","v":0},{"$f":"IF(COUNTIF($D18:X18,20)>=1,1,0)","v":0},{"$f":"IF(COUNTIF($D18:Y18,20)>=1,1,0)","v":0},{"$f":"IF(COUNTIF($D18:Z18,20)>=1,1,0)","v":0},{"$f":"IF(COUNTIF($D18:AA18,20)>=1,1,0)","v":0},{"$f":"IF(COUNTIF($D18:AB18,20)>=1,1,0)","v":0},{"$f":"IF(COUNTIF($D18:AC18,20)>=1,1,0)","v":0},{"$f":"IF(COUNTIF($D18:AD18,20)>=1,1,0)","v":0},{"$f":"IF(COUNTIF($D18:AE18,20)>=1,1,0)","v":0},{"$f":"IF(COUNTIF($D18:AF18,20)>=1,1,0)","v":0},{"$f":"IF(COUNTIF($D18:AG18,20)>=1,1,0)","v":0},{"$f":"IF(COUNTIF($D18:AH18,20)>=1,1,0)","v":0},{"$f":"IF(COUNTIF($D18:AI18,20)>=1,1,0)","v":0},{"$f":"IF(COUNTIF($D18:AJ18,20)>=1,1,0)","v":0},{"$f":"IF(COUNTIF($D18:AK18,20)>=1,1,0)","v":0},{"$f":"IF(COUNTIF($D18:AL18,20)>=1,1,0)","v":0},{"$f":"IF(COUNTIF($D18:AM18,20)>=1,1,0)","v":0},{"$f":"IF(COUNTIF($D18:AN18,20)>=1,1,0)","v":0},{"$f":"IF(COUNTIF($D18:AO18,20)>=1,1,0)","v":0},{"$f":"IF(COUNTIF($D18:AP18,20)>=1,1,0)","v":0},{"$f":"IF(COUNTIF($D18:AQ18,20)>=1,1,0)","v":0},{"$f":"IF(COUNTIF($D18:AR18,20)>=1,1,0)","v":0},{"$f":"IF(COUNTIF($D18:AS18,20)>=1,1,0)","v":0},{"$f":"IF(COUNTIF($D18:AT18,20)>=1,1,0)","v":0},{"$f":"IF(COUNTIF($D18:AU18,20)>=1,1,0)","v":0},{"$f":"IF(COUNTIF($D18:AV18,20)>=1,1,0)","v":0},{"$f":"IF(COUNTIF($D18:AW18,20)>=1,1,0)","v":0},{"$f":"IF(COUNTIF($D18:AX18,20)>=1,1,0)","v":0},{"$f":"IF(COUNTIF($D18:AY18,20)>=1,1,0)","v":0},{"$f":"IF(COUNTIF($D18:AZ18,20)>=1,1,0)","v":0},{"$f":"IF(COUNTIF($D18:BA18,20)>=1,1,0)","v":0},{"$f":"IF(COUNTIF($D18:BB18,20)>=1,1,0)","v":0},{"$f":"IF(COUNTIF($D18:BC18,20)>=1,1,0)","v":0},{"$f":"IF(COUNTIF($D18:BD18,20)>=1,1,0)","v":0},{"$f":"IF(COUNTIF($D18:BE18,20)>=1,1,0)","v":0},{"$f":"IF(COUNTIF($D18:BF18,20)>=1,1,0)","v":0},{"$f":"IF(COUNTIF($D18:BG18,20)>=1,1,0)","v":0},null,null,null,null,null,null,null,null,null,null,null,null,null,null,null,null,null,null,null,null,null,null,{"$f":"FD19","v":"E"},{"$f":"FE19","v":"E"},"E","E","E","E","E","E","E","E","E","E","E","E","E","E","E","E","A","E","E","A","E","E","A","E",".",".",".",".",".",".",".",".",".",".",".",".",".",".",".",".",".",".",".",".",".",".",".",".",".",".",".",".",".","."]
[null,null,"DBQ Tigers",null,null,{"$f":"IF(COUNTIF($D19:F19,20)>=1,1,0)","v":0},{"$f":"IF(COUNTIF($D19:G19,20)>=1,1,0)","v":0},{"$f":"IF(COUNTIF($D19:H19,20)>=1,1,0)","v":0},{"$f":"IF(COUNTIF($D19:I19,20)>=1,1,0)","v":0},{"$f":"IF(COUNTIF($D19:J19,20)>=1,1,0)","v":0},{"$f":"IF(COUNTIF($D19:K19,20)>=1,1,0)","v":0},{"$f":"IF(COUNTIF($D19:L19,20)>=1,1,0)","v":0},{"$f":"IF(COUNTIF($D19:M19,20)>=1,1,0)","v":0},{"$f":"IF(COUNTIF($D19:N19,20)>=1,1,0)","v":0},{"$f":"IF(COUNTIF($D19:O19,20)>=1,1,0)","v":0},{"$f":"IF(COUNTIF($D19:P19,20)>=1,1,0)","v":0},{"$f":"IF(COUNTIF($D19:Q19,20)>=1,1,0)","v":0},{"$f":"IF(COUNTIF($D19:R19,20)>=1,1,0)","v":0},{"$f":"IF(COUNTIF($D19:S19,20)>=1,1,0)","v":0},{"$f":"IF(COUNTIF($D19:T19,20)>=1,1,0)","v":0},{"$f":"IF(COUNTIF($D19:U19,20)>=1,1,0)","v":0},{"$f":"IF(COUNTIF($D19:V19,20)>=1,1,0)","v":0},{"$f":"IF(COUNTIF($D19:W19,20)>=1,1,0)","v":0},{"$f":"IF(COUNTIF($D19:X19,20)>=1,1,0)","v":0},{"$f":"IF(COUNTIF($D19:Y19,20)>=1,1,0)","v":0},{"$f":"IF(COUNTIF($D19:Z19,20)>=1,1,0)","v":0},{"$f":"IF(COUNTIF($D19:AA19,20)>=1,1,0)","v":0},{"$f":"IF(COUNTIF($D19:AB19,20)>=1,1,0)","v":0},{"$f":"IF(COUNTIF($D19:AC19,20)>=1,1,0)","v":0},{"$f":"IF(COUNTIF($D19:AD19,20)>=1,1,0)","v":0},{"$f":"IF(COUNTIF($D19:AE19,20)>=1,1,0)","v":0},{"$f":"IF(COUNTIF($D19:AF19,20)>=1,1,0)","v":0},{"$f":"IF(COUNTIF($D19:AG19,20)>=1,1,0)","v":0},{"$f":"IF(COUNTIF($D19:AH19,20)>=1,1,0)","v":0},{"$f":"IF(COUNTIF($D19:AI19,20)>=1,1,0)","v":0},{"$f":"IF(COUNTIF($D19:AJ19,20)>=1,1,0)","v":0},{"$f":"IF(COUNTIF($D19:AK19,20)>=1,1,0)","v":0},{"$f":"IF(COUNTIF($D19:AL19,20)>=1,1,0)","v":0},{"$f":"IF(COUNTIF($D19:AM19,20)>=1,1,0)","v":0},{"$f":"IF(COUNTIF($D19:AN19,20)>=1,1,0)","v":0},{"$f":"IF(COUNTIF($D19:AO19,20)>=1,1,0)","v":0},{"$f":"IF(COUNTIF($D19:AP19,20)>=1,1,0)","v":0},{"$f":"IF(COUNTIF($D19:AQ19,20)>=1,1,0)","v":0},{"$f":"IF(COUNTIF($D19:AR19,20)>=1,1,0)","v":0},{"$f":"IF(COUNTIF($D19:AS19,20)>=1,1,0)","v":0},{"$f":"IF(COUNTIF($D19:AT19,20)>=1,1,0)","v":0},{"$f":"IF(COUNTIF($D19:AU19,20)>=1,1,0)","v":0},{"$f":"IF(COUNTIF($D19:AV19,20)>=1,1,0)","v":0},{"$f":"IF(COUNTIF($D19:AW19,20)>=1,1,0)","v":0},{"$f":"IF(COUNTIF($D19:AX19,20)>=1,1,0)","v":0},{"$f":"IF(COUNTIF($D19:AY19,20)>=1,1,0)","v":0},{"$f":"IF(COUNTIF($D19:AZ19,20)>=1,1,0)","v":0},{"$f":"IF(COUNTIF($D19:BA19,20)>=1,1,0)","v":0},{"$f":"IF(COUNTIF($D19:BB19,20)>=1,1,0)","v":0},{"$f":"IF(COUNTIF($D19:BC19,20)>=1,1,0)","v":0},{"$f":"IF(COUNTIF($D19:BD19,20)>=1,1,0)","v":0},{"$f":"IF(COUNTIF($D19:BE19,20)>=1,1,0)","v":0},{"$f":"IF(COUNTIF($D19:BF19,20)>=1,1,0)","v":0},{"$f":"IF(COUNTIF($D19:BG19,20)>=1,1,0)","v":0}]
[null,null,"Stephen Lewellyn",null,null,{"$f":"IF(COUNTIF($D20:F20,20)>=1,1,0)","v":0},{"$f":"IF(COUNTIF($D20:G20,20)>=1,1,0)","v":0},{"$f":"IF(COUNTIF($D20:H20,20)>=1,1,0)","v":0},{"$f":"IF(COUNTIF($D20:I20,20)>=1,1,0)","v":0},{"$f":"IF(COUNTIF($D20:J20,20)>=1,1,0)","v":0},{"$f":"IF(COUNTIF($D20:K20,20)>=1,1,0)","v":0},{"$f":"IF(COUNTIF($D20:L20,20)>=1,1,0)","v":0},{"$f":"IF(COUNTIF($D20:M20,20)>=1,1,0)","v":0},{"$f":"IF(COUNTIF($D20:N20,20)>=1,1,0)","v":0},{"$f":"IF(COUNTIF($D20:O20,20)>=1,1,0)","v":0},{"$f":"IF(COUNTIF($D20:P20,20)>=1,1,0)","v":0},{"$f":"IF(COUNTIF($D20:Q20,20)>=1,1,0)","v":0},{"$f":"IF(COUNTIF($D20:R20,20)>=1,1,0)","v":0},{"$f":"IF(COUNTIF($D20:S20,20)>=1,1,0)","v":0},{"$f":"IF(COUNTIF($D20:T20,20)>=1,1,0)","v":0},{"$f":"IF(COUNTIF($D20:U20,20)>=1,1,0)","v":0},{"$f":"IF(COUNTIF($D20:V20,20)>=1,1,0)","v":0},{"$f":"IF(COUNTIF($D20:W20,20)>=1,1,0)","v":0},{"$f":"IF(COUNTIF($D20:X20,20)>=1,1,0)","v":0},{"$f":"IF(COUNTIF($D20:Y20,20)>=1,1,0)","v":0},{"$f":"IF(COUNTIF($D20:Z20,20)>=1,1,0)","v":0},{"$f":"IF(COUNTIF($D20:AA20,20)>=1,1,0)","v":0},{"$f":"IF(COUNTIF($D20:AB20,20)>=1,1,0)","v":0},{"$f":"IF(COUNTIF($D20:AC20,20)>=1,1,0)","v":0},{"$f":"IF(COUNTIF($D20:AD20,20)>=1,1,0)","v":0},{"$f":"IF(COUNTIF($D20:AE20,20)>=1,1,0)","v":0},{"$f":"IF(COUNTIF($D20:AF20,20)>=1,1,0)","v":0},{"$f":"IF(COUNTIF($D20:AG20,20)>=1,1,0)","v":0},{"$f":"IF(COUNTIF($D20:AH20,20)>=1,1,0)","v":0},{"$f":"IF(COUNTIF($D20:AI20,20)>=1,1,0)","v":0},{"$f":"IF(COUNTIF($D20:AJ20,20)>=1,1,0)","v":0},{"$f":"IF(COUNTIF($D20:AK20,20)>=1,1,0)","v":0},{"$f":"IF(COUNTIF($D20:AL20,20)>=1,1,0)","v":0},{"$f":"IF(COUNTIF($D20:AM20,20)>=1,1,0)","v":0},{"$f":"IF(COUNTIF($D20:AN20,20)>=1,1,0)","v":0},{"$f":"IF(COUNTIF($D20:AO20,20)>=1,1,0)","v":0},{"$f":"IF(COUNTIF($D20:AP20,20)>=1,1,0)","v":0},{"$f":"IF(COUNTIF($D20:AQ20,20)>=1,1,0)","v":0},{"$f":"IF(COUNTIF($D20:AR20,20)>=1,1,0)","v":0},{"$f":"IF(COUNTIF($D20:AS20,20)>=1,1,0)","v":0},{"$f":"IF(COUNTIF($D20:AT20,20)>=1,1,0)","v":0},{"$f":"IF(COUNTIF($D20:AU20,20)>=1,1,0)","v":0},{"$f":"IF(COUNTIF($D20:AV20,20)>=1,1,0)","v":0},{"$f":"IF(COUNTIF($D20:AW20,20)>=1,1,0)","v":0},{"$f":"IF(COUNTIF($D20:AX20,20)>=1,1,0)","v":0},{"$f":"IF(COUNTIF($D20:AY20,20)>=1,1,0)","v":0},{"$f":"IF(COUNTIF($D20:AZ20,20)>=1,1,0)","v":0},{"$f":"IF(COUNTIF($D20:BA20,20)>=1,1,0)","v":0},{"$f":"IF(COUNTIF($D20:BB20,20)>=1,1,0)","v":0},{"$f":"IF(COUNTIF($D20:BC20,20)>=1,1,0)","v":0},{"$f":"IF(COUNTIF($D20:BD20,20)>=1,1,0)","v":0},{"$f":"IF(COUNTIF($D20:BE20,20)>=1,1,0)","v":0},{"$f":"IF(COUNTIF($D20:BF20,20)>=1,1,0)","v":0},{"$f":"IF(COUNTIF($D20:BG20,20)>=1,1,0)","v":0},null,null,null,null,null,null,null,null,null,null,null,null,null,null,null,null,null,null,null,null,null,null,{"$f":"CD20","v":20},{"$f":"CE20","v":20},20,20,20,20,20,20,20,20,20,20,20,20,20,20,20,20,10,20,20,10,20,20,10,20,"?","?","?","?","?","?","?","?","?","?","?","?","?","?","?","?","?","?","?","?","?","?","?","?","?","?","?","?","?","?"]
[null,null,"Corbin Ford",null,null,{"$f":"IF(COUNTIF($D21:F21,20)>=1,1,0)","v":0},{"$f":"IF(COUNTIF($D21:G21,20)>=1,1,0)","v":0},{"$f":"IF(COUNTIF($D21:H21,20)>=1,1,0)","v":0},{"$f":"IF(COUNTIF($D21:I21,20)>=1,1,0)","v":0},{"$f":"IF(COUNTIF($D21:J21,20)>=1,1,0)","v":0},{"$f":"IF(COUNTIF($D21:K21,20)>=1,1,0)","v":0},{"$f":"IF(COUNTIF($D21:L21,20)>=1,1,0)","v":0},{"$f":"IF(COUNTIF($D21:M21,20)>=1,1,0)","v":0},{"$f":"IF(COUNTIF($D21:N21,20)>=1,1,0)","v":0},{"$f":"IF(COUNTIF($D21:O21,20)>=1,1,0)","v":0},{"$f":"IF(COUNTIF($D21:P21,20)>=1,1,0)","v":0},{"$f":"IF(COUNTIF($D21:Q21,20)>=1,1,0)","v":0},{"$f":"IF(COUNTIF($D21:R21,20)>=1,1,0)","v":0},{"$f":"IF(COUNTIF($D21:S21,20)>=1,1,0)","v":0},{"$f":"IF(COUNTIF($D21:T21,20)>=1,1,0)","v":0},{"$f":"IF(COUNTIF($D21:U21,20)>=1,1,0)","v":0},{"$f":"IF(COUNTIF($D21:V21,20)>=1,1,0)","v":0},{"$f":"IF(COUNTIF($D21:W21,20)>=1,1,0)","v":0},{"$f":"IF(COUNTIF($D21:X21,20)>=1,1,0)","v":0},{"$f":"IF(COUNTIF($D21:Y21,20)>=1,1,0)","v":0},{"$f":"IF(COUNTIF($D21:Z21,20)>=1,1,0)","v":0},{"$f":"IF(COUNTIF($D21:AA21,20)>=1,1,0)","v":0},{"$f":"IF(COUNTIF($D21:AB21,20)>=1,1,0)","v":0},{"$f":"IF(COUNTIF($D21:AC21,20)>=1,1,0)","v":0},{"$f":"IF(COUNTIF($D21:AD21,20)>=1,1,0)","v":0},{"$f":"IF(COUNTIF($D21:AE21,20)>=1,1,0)","v":0},{"$f":"IF(COUNTIF($D21:AF21,20)>=1,1,0)","v":0},{"$f":"IF(COUNTIF($D21:AG21,20)>=1,1,0)","v":0},{"$f":"IF(COUNTIF($D21:AH21,20)>=1,1,0)","v":0},{"$f":"IF(COUNTIF($D21:AI21,20)>=1,1,0)","v":0},{"$f":"IF(COUNTIF($D21:AJ21,20)>=1,1,0)","v":0},{"$f":"IF(COUNTIF($D21:AK21,20)>=1,1,0)","v":0},{"$f":"IF(COUNTIF($D21:AL21,20)>=1,1,0)","v":0},{"$f":"IF(COUNTIF($D21:AM21,20)>=1,1,0)","v":0},{"$f":"IF(COUNTIF($D21:AN21,20)>=1,1,0)","v":0},{"$f":"IF(COUNTIF($D21:AO21,20)>=1,1,0)","v":0},{"$f":"IF(COUNTIF($D21:AP21,20)>=1,1,0)","v":0},{"$f":"IF(COUNTIF($D21:AQ21,20)>=1,1,0)","v":0},{"$f":"IF(COUNTIF($D21:AR21,20)>=1,1,0)","v":0},{"$f":"IF(COUNTIF($D21:AS21,20)>=1,1,0)","v":0},{"$f":"IF(COUNTIF($D21:AT21,20)>=1,1,0)","v":0},{"$f":"IF(COUNTIF($D21:AU21,20)>=1,1,0)","v":0},{"$f":"IF(COUNTIF($D21:AV21,20)>=1,1,0)","v":0},{"$f":"IF(COUNTIF($D21:AW21,20)>=1,1,0)","v":0},{"$f":"IF(COUNTIF($D21:AX21,20)>=1,1,0)","v":0},{"$f":"IF(COUNTIF($D21:AY21,20)>=1,1,0)","v":0},{"$f":"IF(COUNTIF($D21:AZ21,20)>=1,1,0)","v":0},{"$f":"IF(COUNTIF($D21:BA21,20)>=1,1,0)","v":0},{"$f":"IF(COUNTIF($D21:BB21,20)>=1,1,0)","v":0},{"$f":"IF(COUNTIF($D21:BC21,20)>=1,1,0)","v":0},{"$f":"IF(COUNTIF($D21:BD21,20)>=1,1,0)","v":0},{"$f":"IF(COUNTIF($D21:BE21,20)>=1,1,0)","v":0},{"$f":"IF(COUNTIF($D21:BF21,20)>=1,1,0)","v":0},{"$f":"IF(COUNTIF($D21:BG21,20)>=1,1,0)","v":0},null,null,null,null,null,null,null,null,null,null,null,null,null,null,null,null,null,null,null,null,null,null,{"$f":"FD20","v":"E"},{"$f":"FE20","v":"E"},"E","E","E","E","E","E","E","E","E","E","E","E","E","E","E","E","A","E","E","A","E","E","A","E",".",".",".",".",".",".",".",".",".",".",".",".",".",".",".",".",".",".",".",".",".",".",".",".",".",".",".",".",".","."]
[null,null,"R.J. Scott",null,null,{"$f":"SUM(F30:F34)","v":0},{"$f":"SUM(G30:G34)","v":0},0,0,0,0,0,0,0,0,0,0,0,0,0,0,0,0,0,0,0,0,0,0,0,0,0,0,0,0,0,0,0,0,0,0,0,0,0,0,0,0,0,0,0,0,0,0,0,0,0,0,0,0]
[null,null,"Alex Moncrieff",null,null,{"$f":"IF(F27=\"A\",0.01,IF(F35>=3,IF(F35>E35,10,0),0))","v":0},{"$f":"IF(G27=\"A\",0.01,IF(G35>=3,IF(G35>F35,10,0),0))","v":0},{"$f":"IF(H27=\"A\",0.01,IF(H35>=3,IF(H35>G35,10,0),0))","v":0},{"$f":"IF(I27=\"A\",0.01,IF(I35>=3,IF(I35>H35,10,0),0))","v":0},{"$f":"IF(J27=\"A\",0.01,IF(J35>=3,IF(J35>I35,10,0),0))","v":0},{"$f":"IF(K27=\"A\",0.01,IF(K35>=3,IF(K35>J35,10,0),0))","v":0},{"$f":"IF(L27=\"A\",0.01,IF(L35>=3,IF(L35>K35,10,0),0))","v":0},{"$f":"IF(M27=\"A\",0.01,IF(M35>=3,IF(M35>L35,10,0),0))","v":0},{"$f":"IF(N27=\"A\",0.01,IF(N35>=3,IF(N35>M35,10,0),0))","v":0},{"$f":"IF(O27=\"A\",0.01,IF(O35>=3,IF(O35>N35,10,0),0))","v":0},{"$f":"IF(P27=\"A\",0.01,IF(P35>=3,IF(P35>O35,10,0),0))","v":0},0,0,0,0,{"$f":"IF(U20=\"A\",0.01,IF(U19=\"A\",0.01,IF(U18=\"A\",0.01,IF(U17=\"A\",0.01,IF(U35>=3,IF(U35>T35,10,0),0)))))","v":0},{"$f":"IF(V17=\"A\",0.01,IF(V18=\"A\",0.01,IF(V19=\"A\",0.01,IF(V20=\"A\",0.01,0))))","v":0},{"$f":"IF(W27=\"A\",0.01,IF(W35>=3,IF(W35>V35,10,0),0))","v":0},{"$f":"IF(X27=\"A\",0.01,IF(X35>=3,IF(X35>W35,10,0),0))","v":0},{"$f":"IF(Y17=\"A\",0.01,IF(Y18=\"A\",0.01,IF(Y19=\"A\",0.01,IF(Y20=\"A\",0.01,0))))","v":0},{"$f":"IF(Z27=\"A\",0.01,IF(Z35>=3,IF(Z35>Y35,10,0),0))","v":0},{"$f":"IF(AA27=\"A\",0.01,IF(AA35>=3,IF(AA35>Z35,10,0),0))","v":0},{"$f":"IF(AB17=\"A\",0.01,IF(AB18=\"A\",0.01,IF(AB19=\"A\",0.01,IF(AB20=\"A\",0.01,0))))","v":0},{"$f":"IF(AC27=\"A\",0.01,IF(AC35>=3,IF(AC35>AB35,10,0),0))","v":0},{"$f":"IF(AC107=\"\",0,IF(AD27=\"A\",0.01,IF(AD35>=3,IF(AD35>AC35,10,0),0)))","v":0},{"$f":"IF(AD107=\"\",0,IF(AE27=\"A\",0.01,IF(AE35>=3,IF(AE35>AD35,10,0),0)))","v":0},0,0,0,0,0,0,0,0,0,0,0,0,0,0,0,0,0,0,0,0,0,0,0,0,0,0,0,0,null,null,null,null,null,null,null,null,null,null,null,null,null,null,null,null,null,null,null,null,null,null,{"$f":"CD21","v":20},{"$f":"CE21","v":20},20,20,20,20,20,20,20,20,20,20,20,20,20,20,20,20,10,20,20,10,20,20,10,20,"?","?","?","?","?","?","?","?","?","?","?","?","?","?","?","?","?","?","?","?","?","?","?","?","?","?","?","?","?","?"]
[null,null," ",null,null,null,null,null,null,null,null,null,null,null,null,null,null,null,null,null,null,null,null,null,null,null,null,null,null,null,null,null,null,null,null,null,null,null,null,null,null,null,null,null,null,null,null,null,null,null,null,null,null,null,null,null,null,null,null,null,null,null,null,null,null,null,null,null,null,null,null,null,null,null,null,null,null,null,null,null,null,{"$f":"FD21","v":"E"},{"$f":"FE21","v":"E"},"E","E","E","E","E","E","E","E","E","E","E","E","E","E","E","E","A","E","E","A","E","E","A","E",".",".",".",".",".",".",".",".",".",".",".",".",".",".",".",".",".",".",".",".",".",".",".",".",".",".",".",".",".","."]
[null,null," ",{"$f":"D15","v":15},{"$f":"E15","v":15},15,15,15,15,15,15,15,15,15,15,15,15,15,15,15,15,15,15,15,15,15,15,15,15,15,15,{"$f":"AF15","v":15},15,15,15,15,15,15,15,15,15,15,15,15,15,15,15,15,15,15,15,15,15,15,15,15,15,15,15]
["Individual","Errors","Team Name",1,2,3,4,5,6,7,8,9,10,11,12,13,14,15,16,17,{"$f":"IF(U16=\"\",\"\",U16)","v":""},{"$f":"IF(V16=\"\",\"\",V16)","v":""},18,{"$f":"IF(X16=\"\",\"\",X16)","v":""},{"$f":"IF(Y16=\"\",\"\",Y16)","v":""},19,{"$f":"IF(AA16=\"\",\"\",AA16)","v":""},{"$f":"IF(AB16=\"\",\"\",AB16)","v":""},20,{"$f":"IF(AD16=\"\",\"\",AD16)","v":""},{"$f":"IF(AE16=\"\",\"\",AE16)","v":""},"","","","","","","","","","","","","","","","","","","","","","","","","","","",""]
[{"$f":"IF(MAX(D40:BG40)=30,90,COUNTIF(D40:BG40,20)*20)","v":0},{"$f":"COUNTIF(D40:BG40,\"E\")","v":0},"Quizzer #1",{"$f":"IF(D$17=\"\",\"\",IF(D$17=0,0,\"\"))","v":""},"","","","","","","","","","","","","","","",{"$f":"IF(T$17=\"\",\"\",IF(T$17=0,0,\"\"))","v":""},"","","","","","","","","","","","","","","",{"$f":"IF(AJ$17=\"\",\"\",IF(AJ$17=0,0,\"\"))","v":""},"","","","","","","","","","","","","","","",{"$f":"IF(AZ$17=\"\",\"\",IF(AZ$17=0,0,\"\"))","v":""},"","","","","","","",null,null,null,null,null,null,null,null,null,null,null,null,null,null,null,null,null,null,null,null,null,null,{"$f":"Sheet3!D40","v":20},{"$f":"Sheet3!E40","v":20},{"$f":"Sheet3!F40","v":20},{"$f":"Sheet3!G40","v":20},{"$f":"Sheet3!H40","v":20},{"$f":"Sheet3!I40","v":20},{"$f":"Sheet3!J40","v":20},{"$f":"Sheet3!K40","v":20},{"$f":"Sheet3!L40","v":20},{"$f":"Sheet3!M40","v":20},{"$f":"Sheet3!N40","v":20},{"$f":"Sheet3!O40","v":20},{"$f":"Sheet3!P40","v":20},{"$f":"Sheet3!Q40","v":20},{"$f":"Sheet3!R40","v":20},{"$f":"Sheet3!S40","v":20},{"$f":"Sheet3!T40","v":20},{"$f":"Sheet3!U40","v":20},{"$f":"Sheet3!V40","v":10},{"$f":"Sheet3!W40","v":20},{"$f":"Sheet3!X40","v":20},{"$f":"Sheet3!Y40","v":10},{"$f":"Sheet3!Z40","v":20},{"$f":"Sheet3!AA40","v":20},{"$f":"Sheet3!AB40","v":10},{"$f":"Sheet3!AC40","v":20},{"$f":"Sheet3!AD40","v":"?"},{"$f":"Sheet3!AE40","v":"?"},{"$f":"Sheet3!AF40","v":"?"},{"$f":"Sheet3!AG40","v":"?"},{"$f":"Sheet3!AH40","v":"?"},{"$f":"Sheet3!AI40","v":"?"},{"$f":"Sheet3!AJ40","v":"?"},{"$f":"Sheet3!AK40","v":"?"},{"$f":"Sheet3!AL40","v":"?"},{"$f":"Sheet3!AM40","v":"?"},{"$f":"Sheet3!AN40","v":"?"},{"$f":"Sheet3!AO40","v":"?"},{"$f":"Sheet3!AP40","v":"?"},{"$f":"Sheet3!AQ40","v":"?"},{"$f":"Sheet3!AR40","v":"?"},{"$f":"Sheet3!AS40","v":"?"},{"$f":"Sheet3!AT40","v":"?"},{"$f":"Sheet3!AU40","v":"?"},{"$f":"Sheet3!AV40","v":"?"},{"$f":"Sheet3!AW40","v":"?"},{"$f":"Sheet3!AX40","v":"?"},{"$f":"Sheet3!AY40","v":"?"},{"$f":"Sheet3!AZ40","v":"?"},{"$f":"Sheet3!BA40","v":"?"},{"$f":"Sheet3!BB40","v":"?"},{"$f":"Sheet3!BC40","v":"?"},{"$f":"Sheet3!BD40","v":"?"},{"$f":"Sheet3!BE40","v":"?"},{"$f":"Sheet3!BF40","v":"?"},{"$f":"Sheet3!BG40","v":"?"},null,null,null,null,null,null,null,null,null,null,null,null,null,null,null,null,null,null,null,null,null,null,{"$f":"IF(CD40=\".\",\".\",D50)","v":"E"},{"$f":"IF(CE40=\".\",\".\",E50)","v":"E"},{"$f":"IF(CF40=\".\",\".\",F50)","v":"E"},{"$f":"IF(CG40=\".\",\".\",G50)","v":"E"},{"$f":"IF(CH40=\".\",\".\",H50)","v":"E"},{"$f":"IF(CI40=\".\",\".\",I50)","v":"E"},{"$f":"IF(CJ40=\".\",\".\",J50)","v":"E"},{"$f":"IF(CK40=\".\",\".\",K50)","v":"E"},{"$f":"IF(CL40=\".\",\".\",L50)","v":"E"},{"$f":"IF(CM40=\".\",\".\",M50)","v":"E"},{"$f":"IF(CN40=\".\",\".\",N50)","v":"E"},{"$f":"IF(CO40=\".\",\".\",O50)","v":"E"},{"$f":"IF(CP40=\".\",\".\",P50)","v":"E"},{"$f":"IF(CQ40=\".\",\".\",Q50)","v":"E"},{"$f":"IF(CR40=\".\",\".\",R50)","v":"E"},{"$f":"IF(CS40=\".\",\".\",S50)","v":"E"},{"$f":"IF(CT40=\".\",\".\",T50)","v":"E"},{"$f":"IF(CU40=\".\",\".\",U50)","v":"E"},{"$f":"IF(CV40=\".\",\".\",V50)","v":"A"},{"$f":"IF(CW40=\".\",\".\",W50)","v":"E"},{"$f":"IF(CX40=\".\",\".\",X50)","v":"E"},{"$f":"IF(CY40=\".\",\".\",Y50)","v":"A"},{"$f":"IF(CZ40=\".\",\".\",Z50)","v":"E"},{"$f":"IF(DA40=\".\",\".\",AA50)","v":"E"},{"$f":"IF(DB40=\".\",\".\",AB50)","v":"A"},{"$f":"IF(DC40=\".\",\".\",AC50)","v":"E"},{"$f":"IF(DD40=\".\",\".\",AD50)","v":"."},{"$f":"IF(DE40=\".\",\".\",AE50)","v":"."},{"$f":"IF(DF40=\".\",\".\",AF50)","v":"."},{"$f":"IF(DG40=\".\",\".\",AG50)","v":"."},{"$f":"IF(DH40=\".\",\".\",AH50)","v":"."},{"$f":"IF(DI40=\".\",\".\",AI50)","v":"."},{"$f":"IF(DJ40=\".\",\".\",AJ50)","v":"."},{"$f":"IF(DK40=\".\",\".\",AK50)","v":"."},{"$f":"IF(DL40=\".\",\".\",AL50)","v":"."},{"$f":"IF(DM40=\".\",\".\",AM50)","v":"."},{"$f":"IF(DN40=\".\",\".\",AN50)","v":"."},{"$f":"IF(DO40=\".\",\".\",AO50)","v":"."},{"$f":"IF(DP40=\".\",\".\",AP50)","v":"."},{"$f":"IF(DQ40=\".\",\".\",AQ50)","v":"."},{"$f":"IF(DR40=\".\",\".\",AR50)","v":"."},{"$f":"IF(DS40=\".\",\".\",AS50)","v":"."},{"$f":"IF(DT40=\".\",\".\",AT50)","v":"."},{"$f":"IF(DU40=\".\",\".\",AU50)","v":"."},{"$f":"IF(DV40=\".\",\".\",AV50)","v":"."},{"$f":"IF(DW40=\".\",\".\",AW50)","v":"."},{"$f":"IF(DX40=\".\",\".\",AX50)","v":"."},{"$f":"IF(DY40=\".\",\".\",AY50)","v":"."},{"$f":"IF(DZ40=\".\",\".\",AZ50)","v":"."},{"$f":"IF(EA40=\".\",\".\",BA50)","v":"."},{"$f":"IF(EB40=\".\",\".\",BB50)","v":"."},{"$f":"IF(EC40=\".\",\".\",BC50)","v":"."},{"$f":"IF(ED40=\".\",\".\",BD50)","v":"."},{"$f":"IF(EE40=\".\",\".\",BE50)","v":"."},{"$f":"IF(EF40=\".\",\".\",BF50)","v":"."},{"$f":"IF(EG40=\".\",\".\",BG50)","v":"."}]
[0,{"$f":"COUNTIF(D41:BG41,\"E\")","v":0},"Quizzer #2","","","","","","","","","","","","","","","","","","","","","","","","","","","","","","","","","","","","","","","","","","","","","","","","","","","","","","","","",null,null,null,null,null,null,null,null,null,null,null,null,null,null,null,null,null,null,null,null,null,null,{"$f":"Sheet3!D41","v":20},{"$f":"Sheet3!E41","v":20},{"$f":"Sheet3!F41","v":20},{"$f":"Sheet3!G41","v":20},{"$f":"Sheet3!H41","v":20},{"$f":"Sheet3!I41","v":20},{"$f":"Sheet3!J41","v":20},{"$f":"Sheet3!K41","v":20},{"$f":"Sheet3!L41","v":20},{"$f":"Sheet3!M41","v":20},{"$f":"Sheet3!N41","v":20},{"$f":"Sheet3!O41","v":20},{"$f":"Sheet3!P41","v":20},{"$f":"Sheet3!Q41","v":20},{"$f":"Sheet3!R41","v":20},{"$f":"Sheet3!S41","v":20},{"$f":"Sheet3!T41","v":20},{"$f":"Sheet3!U41","v":20},{"$f":"Sheet3!V41","v":10},{"$f":"Sheet3!W41","v":20},{"$f":"Sheet3!X41","v":20},{"$f":"Sheet3!Y41","v":10},{"$f":"Sheet3!Z41","v":20},{"$f":"Sheet3!AA41","v":20},{"$f":"Sheet3!AB41","v":10},{"$f":"Sheet3!AC41","v":20},{"$f":"Sheet3!AD41","v":"?"},{"$f":"Sheet3!AE41","v":"?"},{"$f":"Sheet3!AF41","v":"?"},{"$f":"Sheet3!AG41","v":"?"},{"$f":"Sheet3!AH41","v":"?"},{"$f":"Sheet3!AI41","v":"?"},{"$f":"Sheet3!AJ41","v":"?"},{"$f":"Sheet3!AK41","v":"?"},{"$f":"Sheet3!AL41","v":"?"},{"$f":"Sheet3!AM41","v":"?"},{"$f":"Sheet3!AN41","v":"?"},{"$f":"Sheet3!AO41","v":"?"},{"$f":"Sheet3!AP41","v":"?"},{"$f":"Sheet3!AQ41","v":"?"},{"$f":"Sheet3!AR41","v":"?"},{"$f":"Sheet3!AS41","v":"?"},{"$f":"Sheet3!AT41","v":"?"},{"$f":"Sheet3!AU41","v":"?"},{"$f":"Sheet3!AV41","v":"?"},{"$f":"Sheet3!AW41","v":"?"},{"$f":"Sheet3!AX41","v":"?"},{"$f":"Sheet3!AY41","v":"?"},{"$f":"Sheet3!AZ41","v":"?"},{"$f":"Sheet3!BA41","v":"?"},{"$f":"Sheet3!BB41","v":"?"},{"$f":"Sheet3!BC41","v":"?"},{"$f":"Sheet3!BD41","v":"?"},{"$f":"Sheet3!BE41","v":"?"},{"$f":"Sheet3!BF41","v":"?"},{"$f":"Sheet3!BG41","v":"?"},null,null,null,null,null,null,null,null,null,null,null,null,null,null,null,null,null,null,null,null,null,null,{"$f":"IF(CD41=\".\",\".\",D50)","v":"E"},{"$f":"IF(CE41=\".\",\".\",E50)","v":"E"},{"$f":"IF(CF41=\".\",\".\",F50)","v":"E"},{"$f":"IF(CG41=\".\",\".\",G50)","v":"E"},{"$f":"IF(CH41=\".\",\".\",H50)","v":"E"},{"$f":"IF(CI41=\".\",\".\",I50)","v":"E"},{"$f":"IF(CJ41=\".\",\".\",J50)","v":"E"},{"$f":"IF(CK41=\".\",\".\",K50)","v":"E"},{"$f":"IF(CL41=\".\",\".\",L50)","v":"E"},{"$f":"IF(CM41=\".\",\".\",M50)","v":"E"},{"$f":"IF(CN41=\".\",\".\",N50)","v":"E"},{"$f":"IF(CO41=\".\",\".\",O50)","v":"E"},{"$f":"IF(CP41=\".\",\".\",P50)","v":"E"},{"$f":"IF(CQ41=\".\",\".\",Q50)","v":"E"},{"$f":"IF(CR41=\".\",\".\",R50)","v":"E"},{"$f":"IF(CS41=\".\",\".\",S50)","v":"E"},{"$f":"IF(CT41=\".\",\".\",T50)","v":"E"},{"$f":"IF(CU41=\".\",\".\",U50)","v":"E"},{"$f":"IF(CV41=\".\",\".\",V50)","v":"A"},{"$f":"IF(CW41=\".\",\".\",W50)","v":"E"},{"$f":"IF(CX41=\".\",\".\",X50)","v":"E"},{"$f":"IF(CY41=\".\",\".\",Y50)","v":"A"},{"$f":"IF(CZ41=\".\",\".\",Z50)","v":"E"},{"$f":"IF(DA41=\".\",\".\",AA50)","v":"E"},{"$f":"IF(DB41=\".\",\".\",AB50)","v":"A"},{"$f":"IF(DC41=\".\",\".\",AC50)","v":"E"},{"$f":"IF(DD41=\".\",\".\",AD50)","v":"."},{"$f":"IF(DE41=\".\",\".\",AE50)","v":"."},{"$f":"IF(DF41=\".\",\".\",AF50)","v":"."},{"$f":"IF(DG41=\".\",\".\",AG50)","v":"."},{"$f":"IF(DH41=\".\",\".\",AH50)","v":"."},{"$f":"IF(DI41=\".\",\".\",AI50)","v":"."},{"$f":"IF(DJ41=\".\",\".\",AJ50)","v":"."},{"$f":"IF(DK41=\".\",\".\",AK50)","v":"."},{"$f":"IF(DL41=\".\",\".\",AL50)","v":"."},{"$f":"IF(DM41=\".\",\".\",AM50)","v":"."},{"$f":"IF(DN41=\".\",\".\",AN50)","v":"."},{"$f":"IF(DO41=\".\",\".\",AO50)","v":"."},{"$f":"IF(DP41=\".\",\".\",AP50)","v":"."},{"$f":"IF(DQ41=\".\",\".\",AQ50)","v":"."},{"$f":"IF(DR41=\".\",\".\",AR50)","v":"."},{"$f":"IF(DS41=\".\",\".\",AS50)","v":"."},{"$f":"IF(DT41=\".\",\".\",AT50)","v":"."},{"$f":"IF(DU41=\".\",\".\",AU50)","v":"."},{"$f":"IF(DV41=\".\",\".\",AV50)","v":"."},{"$f":"IF(DW41=\".\",\".\",AW50)","v":"."},{"$f":"IF(DX41=\".\",\".\",AX50)","v":"."},{"$f":"IF(DY41=\".\",\".\",AY50)","v":"."},{"$f":"IF(DZ41=\".\",\".\",AZ50)","v":"."},{"$f":"IF(EA41=\".\",\".\",BA50)","v":"."},{"$f":"IF(EB41=\".\",\".\",BB50)","v":"."},{"$f":"IF(EC41=\".\",\".\",BC50)","v":"."},{"$f":"IF(ED41=\".\",\".\",BD50)","v":"."},{"$f":"IF(EE41=\".\",\".\",BE50)","v":"."},{"$f":"IF(EF41=\".\",\".\",BF50)","v":"."},{"$f":"IF(EG41=\".\",\".\",BG50)","v":"."}]
[0,{"$f":"COUNTIF(D42:BG42,\"E\")","v":0},"Quizzer #3","","","","","","","","","","","","","","","","","","","","","","","","","","","","","","","","","","","","","","","","","","","","","","","","","","","","","","","","",null,null,null,null,null,null,null,null,null,null,null,null,null,null,null,null,null,null,null,null,null,null,{"$f":"Sheet3!D42","v":20},{"$f":"Sheet3!E42","v":20},{"$f":"Sheet3!F42","v":20},{"$f":"Sheet3!G42","v":20},{"$f":"Sheet3!H42","v":20},{"$f":"Sheet3!I42","v":20},{"$f":"Sheet3!J42","v":20},{"$f":"Sheet3!K42","v":20},{"$f":"Sheet3!L42","v":20},{"$f":"Sheet3!M42","v":20},{"$f":"Sheet3!N42","v":20},{"$f":"Sheet3!O42","v":20},{"$f":"Sheet3!P42","v":20},{"$f":"Sheet3!Q42","v":20},{"$f":"Sheet3!R42","v":20},{"$f":"Sheet3!S42","v":20},{"$f":"Sheet3!T42","v":20},{"$f":"Sheet3!U42","v":20},{"$f":"Sheet3!V42","v":10},{"$f":"Sheet3!W42","v":20},{"$f":"Sheet3!X42","v":20},{"$f":"Sheet3!Y42","v":10},{"$f":"Sheet3!Z42","v":20},{"$f":"Sheet3!AA42","v":20},{"$f":"Sheet3!AB42","v":10},{"$f":"Sheet3!AC42","v":20},{"$f":"Sheet3!AD42","v":"?"},{"$f":"Sheet3!AE42","v":"?"},{"$f":"Sheet3!AF42","v":"?"},{"$f":"Sheet3!AG42","v":"?"},{"$f":"Sheet3!AH42","v":"?"},{"$f":"Sheet3!AI42","v":"?"},{"$f":"Sheet3!AJ42","v":"?"},{"$f":"Sheet3!AK42","v":"?"},{"$f":"Sheet3!AL42","v":"?"},{"$f":"Sheet3!AM42","v":"?"},{"$f":"Sheet3!AN42","v":"?"},{"$f":"Sheet3!AO42","v":"?"},{"$f":"Sheet3!AP42","v":"?"},{"$f":"Sheet3!AQ42","v":"?"},{"$f":"Sheet3!AR42","v":"?"},{"$f":"Sheet3!AS42","v":"?"},{"$f":"Sheet3!AT42","v":"?"},{"$f":"Sheet3!AU42","v":"?"},{"$f":"Sheet3!AV42","v":"?"},{"$f":"Sheet3!AW42","v":"?"},{"$f":"Sheet3!AX42","v":"?"},{"$f":"Sheet3!AY42","v":"?"},{"$f":"Sheet3!AZ42","v":"?"},{"$f":"Sheet3!BA42","v":"?"},{"$f":"Sheet3!BB42","v":"?"},{"$f":"Sheet3!BC42","v":"?"},{"$f":"Sheet3!BD42","v":"?"},{"$f":"Sheet3!BE42","v":"?"},{"$f":"Sheet3!BF42","v":"?"},{"$f":"Sheet3!BG42","v":"?"},null,null,null,null,null,null,null,null,null,null,null,null,null,null,null,null,null,null,null,null,null,null,{"$f":"IF(CD42=\".\",\".\",D50)","v":"E"},{"$f":"IF(CE42=\".\",\".\",E50)","v":"E"},{"$f":"IF(CF42=\".\",\".\",F50)","v":"E"},{"$f":"IF(CG42=\".\",\".\",G50)","v":"E"},{"$f":"IF(CH42=\".\",\".\",H50)","v":"E"},{"$f":"IF(CI42=\".\",\".\",I50)","v":"E"},{"$f":"IF(CJ42=\".\",\".\",J50)","v":"E"},{"$f":"IF(CK42=\".\",\".\",K50)","v":"E"},{"$f":"IF(CL42=\".\",\".\",L50)","v":"E"},{"$f":"IF(CM42=\".\",\".\",M50)","v":"E"},{"$f":"IF(CN42=\".\",\".\",N50)","v":"E"},{"$f":"IF(CO42=\".\",\".\",O50)","v":"E"},{"$f":"IF(CP42=\".\",\".\",P50)","v":"E"},{"$f":"IF(CQ42=\".\",\".\",Q50)","v":"E"},{"$f":"IF(CR42=\".\",\".\",R50)","v":"E"},{"$f":"IF(CS42=\".\",\".\",S50)","v":"E"},{"$f":"IF(CT42=\".\",\".\",T50)","v":"E"},{"$f":"IF(CU42=\".\",\".\",U50)","v":"E"},{"$f":"IF(CV42=\".\",\".\",V50)","v":"A"},{"$f":"IF(CW42=\".\",\".\",W50)","v":"E"},{"$f":"IF(CX42=\".\",\".\",X50)","v":"E"},{"$f":"IF(CY42=\".\",\".\",Y50)","v":"A"},{"$f":"IF(CZ42=\".\",\".\",Z50)","v":"E"},{"$f":"IF(DA42=\".\",\".\",AA50)","v":"E"},{"$f":"IF(DB42=\".\",\".\",AB50)","v":"A"},{"$f":"IF(DC42=\".\",\".\",AC50)","v":"E"},{"$f":"IF(DD42=\".\",\".\",AD50)","v":"."},{"$f":"IF(DE42=\".\",\".\",AE50)","v":"."},{"$f":"IF(DF42=\".\",\".\",AF50)","v":"."},{"$f":"IF(DG42=\".\",\".\",AG50)","v":"."},{"$f":"IF(DH42=\".\",\".\",AH50)","v":"."},{"$f":"IF(DI42=\".\",\".\",AI50)","v":"."},{"$f":"IF(DJ42=\".\",\".\",AJ50)","v":"."},{"$f":"IF(DK42=\".\",\".\",AK50)","v":"."},{"$f":"IF(DL42=\".\",\".\",AL50)","v":"."},{"$f":"IF(DM42=\".\",\".\",AM50)","v":"."},{"$f":"IF(DN42=\".\",\".\",AN50)","v":"."},{"$f":"IF(DO42=\".\",\".\",AO50)","v":"."},{"$f":"IF(DP42=\".\",\".\",AP50)","v":"."},{"$f":"IF(DQ42=\".\",\".\",AQ50)","v":"."},{"$f":"IF(DR42=\".\",\".\",AR50)","v":"."},{"$f":"IF(DS42=\".\",\".\",AS50)","v":"."},{"$f":"IF(DT42=\".\",\".\",AT50)","v":"."},{"$f":"IF(DU42=\".\",\".\",AU50)","v":"."},{"$f":"IF(DV42=\".\",\".\",AV50)","v":"."},{"$f":"IF(DW42=\".\",\".\",AW50)","v":"."},{"$f":"IF(DX42=\".\",\".\",AX50)","v":"."},{"$f":"IF(DY42=\".\",\".\",AY50)","v":"."},{"$f":"IF(DZ42=\".\",\".\",AZ50)","v":"."},{"$f":"IF(EA42=\".\",\".\",BA50)","v":"."},{"$f":"IF(EB42=\".\",\".\",BB50)","v":"."},{"$f":"IF(EC42=\".\",\".\",BC50)","v":"."},{"$f":"IF(ED42=\".\",\".\",BD50)","v":"."},{"$f":"IF(EE42=\".\",\".\",BE50)","v":"."},{"$f":"IF(EF42=\".\",\".\",BF50)","v":"."},{"$f":"IF(EG42=\".\",\".\",BG50)","v":"."}]
[0,{"$f":"COUNTIF(D43:BG43,\"E\")","v":0},"Quizzer #4","","","","","","","","","","","","","","","","","","","","","","","","","","","","","","","","","","","","","","","","","","","","","","","","","","","","","","","","",null,null,null,null,null,null,null,null,null,null,null,null,null,null,null,null,null,null,null,null,null,null,{"$f":"Sheet3!D43","v":20},{"$f":"Sheet3!E43","v":20},{"$f":"Sheet3!F43","v":20},{"$f":"Sheet3!G43","v":20},{"$f":"Sheet3!H43","v":20},{"$f":"Sheet3!I43","v":20},{"$f":"Sheet3!J43","v":20},{"$f":"Sheet3!K43","v":20},{"$f":"Sheet3!L43","v":20},{"$f":"Sheet3!M43","v":20},{"$f":"Sheet3!N43","v":20},{"$f":"Sheet3!O43","v":20},{"$f":"Sheet3!P43","v":20},{"$f":"Sheet3!Q43","v":20},{"$f":"Sheet3!R43","v":20},{"$f":"Sheet3!S43","v":20},{"$f":"Sheet3!T43","v":20},{"$f":"Sheet3!U43","v":20},{"$f":"Sheet3!V43","v":10},{"$f":"Sheet3!W43","v":20},{"$f":"Sheet3!X43","v":20},{"$f":"Sheet3!Y43","v":10},{"$f":"Sheet3!Z43","v":20},{"$f":"Sheet3!AA43","v":20},{"$f":"Sheet3!AB43","v":10},{"$f":"Sheet3!AC43","v":20},{"$f":"Sheet3!AD43","v":"?"},{"$f":"Sheet3!AE43","v":"?"},{"$f":"Sheet3!AF43","v":"?"},{"$f":"Sheet3!AG43","v":"?"},{"$f":"Sheet3!AH43","v":"?"},{"$f":"Sheet3!AI43","v":"?"},{"$f":"Sheet3!AJ43","v":"?"},{"$f":"Sheet3!AK43","v":"?"},{"$f":"Sheet3!AL43","v":"?"},{"$f":"Sheet3!AM43","v":"?"},{"$f":"Sheet3!AN43","v":"?"},{"$f":"Sheet3!AO43","v":"?"},{"$f":"Sheet3!AP43","v":"?"},{"$f":"Sheet3!AQ43","v":"?"},{"$f":"Sheet3!AR43","v":"?"},{"$f":"Sheet3!AS43","v":"?"},{"$f":"Sheet3!AT43","v":"?"},{"$f":"Sheet3!AU43","v":"?"},{"$f":"Sheet3!AV43","v":"?"},{"$f":"Sheet3!AW43","v":"?"},{"$f":"Sheet3!AX43","v":"?"},{"$f":"Sheet3!AY43","v":"?"},{"$f":"Sheet3!AZ43","v":"?"},{"$f":"Sheet3!BA43","v":"?"},{"$f":"Sheet3!BB43","v":"?"},{"$f":"Sheet3!BC43","v":"?"},{"$f":"Sheet3!BD43","v":"?"},{"$f":"Sheet3!BE43","v":"?"},{"$f":"Sheet3!BF43","v":"?"},{"$f":"Sheet3!BG43","v":"?"},null,null,null,null,null,null,null,null,null,null,null,null,null,null,null,null,null,null,null,null,null,null,{"$f":"IF(CD43=\".\",\".\",D50)","v":"E"},{"$f":"IF(CE43=\".\",\".\",E50)","v":"E"},{"$f":"IF(CF43=\".\",\".\",F50)","v":"E"},{"$f":"IF(CG43=\".\",\".\",G50)","v":"E"},{"$f":"IF(CH43=\".\",\".\",H50)","v":"E"},{"$f":"IF(CI43=\".\",\".\",I50)","v":"E"},{"$f":"IF(CJ43=\".\",\".\",J50)","v":"E"},{"$f":"IF(CK43=\".\",\".\",K50)","v":"E"},{"$f":"IF(CL43=\".\",\".\",L50)","v":"E"},{"$f":"IF(CM43=\".\",\".\",M50)","v":"E"},{"$f":"IF(CN43=\".\",\".\",N50)","v":"E"},{"$f":"IF(CO43=\".\",\".\",O50)","v":"E"},{"$f":"IF(CP43=\".\",\".\",P50)","v":"E"},{"$f":"IF(CQ43=\".\",\".\",Q50)","v":"E"},{"$f":"IF(CR43=\".\",\".\",R50)","v":"E"},{"$f":"IF(CS43=\".\",\".\",S50)","v":"E"},{"$f":"IF(CT43=\".\",\".\",T50)","v":"E"},{"$f":"IF(CU43=\".\",\".\",U50)","v":"E"},{"$f":"IF(CV43=\".\",\".\",V50)","v":"A"},{"$f":"IF(CW43=\".\",\".\",W50)","v":"E"},{"$f":"IF(CX43=\".\",\".\",X50)","v":"E"},{"$f":"IF(CY43=\".\",\".\",Y50)","v":"A"},{"$f":"IF(CZ43=\".\",\".\",Z50)","v":"E"},{"$f":"IF(DA43=\".\",\".\",AA50)","v":"E"},{"$f":"IF(DB43=\".\",\".\",AB50)","v":"A"},{"$f":"IF(DC43=\".\",\".\",AC50)","v":"E"},{"$f":"IF(DD43=\".\",\".\",AD50)","v":"."},{"$f":"IF(DE43=\".\",\".\",AE50)","v":"."},{"$f":"IF(DF43=\".\",\".\",AF50)","v":"."},{"$f":"IF(DG43=\".\",\".\",AG50)","v":"."},{"$f":"IF(DH43=\".\",\".\",AH50)","v":"."},{"$f":"IF(DI43=\".\",\".\",AI50)","v":"."},{"$f":"IF(DJ43=\".\",\".\",AJ50)","v":"."},{"$f":"IF(DK43=\".\",\".\",AK50)","v":"."},{"$f":"IF(DL43=\".\",\".\",AL50)","v":"."},{"$f":"IF(DM43=\".\",\".\",AM50)","v":"."},{"$f":"IF(DN43=\".\",\".\",AN50)","v":"."},{"$f":"IF(DO43=\".\",\".\",AO50)","v":"."},{"$f":"IF(DP43=\".\",\".\",AP50)","v":"."},{"$f":"IF(DQ43=\".\",\".\",AQ50)","v":"."},{"$f":"IF(DR43=\".\",\".\",AR50)","v":"."},{"$f":"IF(DS43=\".\",\".\",AS50)","v":"."},{"$f":"IF(DT43=\".\",\".\",AT50)","v":"."},{"$f":"IF(DU43=\".\",\".\",AU50)","v":"."},{"$f":"IF(DV43=\".\",\".\",AV50)","v":"."},{"$f":"IF(DW43=\".\",\".\",AW50)","v":"."},{"$f":"IF(DX43=\".\",\".\",AX50)","v":"."},{"$f":"IF(DY43=\".\",\".\",AY50)","v":"."},{"$f":"IF(DZ43=\".\",\".\",AZ50)","v":"."},{"$f":"IF(EA43=\".\",\".\",BA50)","v":"."},{"$f":"IF(EB43=\".\",\".\",BB50)","v":"."},{"$f":"IF(EC43=\".\",\".\",BC50)","v":"."},{"$f":"IF(ED43=\".\",\".\",BD50)","v":"."},{"$f":"IF(EE43=\".\",\".\",BE50)","v":"."},{"$f":"IF(EF43=\".\",\".\",BF50)","v":"."},{"$f":"IF(EG43=\".\",\".\",BG50)","v":"."}]
[0,{"$f":"COUNTIF(D44:BG44,\"E\")","v":0},null,"","","","","","","","","","","","","","","","","","","","","","","","","","","","","","","","","","","","","","","","","","","","","","","","","","","","","","","","",null,null,null,null,null,null,null,null,null,null,null,null,null,null,null,null,null,null,null,null,null,null,{"$f":"Sheet3!D44","v":20},{"$f":"Sheet3!E44","v":20},{"$f":"Sheet3!F44","v":20},{"$f":"Sheet3!G44","v":20},{"$f":"Sheet3!H44","v":20},{"$f":"Sheet3!I44","v":20},{"$f":"Sheet3!J44","v":20},{"$f":"Sheet3!K44","v":20},{"$f":"Sheet3!L44","v":20},{"$f":"Sheet3!M44","v":20},{"$f":"Sheet3!N44","v":20},{"$f":"Sheet3!O44","v":20},{"$f":"Sheet3!P44","v":20},{"$f":"Sheet3!Q44","v":20},{"$f":"Sheet3!R44","v":20},{"$f":"Sheet3!S44","v":20},{"$f":"Sheet3!T44","v":20},{"$f":"Sheet3!U44","v":20},{"$f":"Sheet3!V44","v":10},{"$f":"Sheet3!W44","v":20},{"$f":"Sheet3!X44","v":20},{"$f":"Sheet3!Y44","v":10},{"$f":"Sheet3!Z44","v":20},{"$f":"Sheet3!AA44","v":20},{"$f":"Sheet3!AB44","v":10},{"$f":"Sheet3!AC44","v":20},{"$f":"Sheet3!AD44","v":"?"},{"$f":"Sheet3!AE44","v":"?"},{"$f":"Sheet3!AF44","v":"?"},{"$f":"Sheet3!AG44","v":"?"},{"$f":"Sheet3!AH44","v":"?"},{"$f":"Sheet3!AI44","v":"?"},{"$f":"Sheet3!AJ44","v":"?"},{"$f":"Sheet3!AK44","v":"?"},{"$f":"Sheet3!AL44","v":"?"},{"$f":"Sheet3!AM44","v":"?"},{"$f":"Sheet3!AN44","v":"?"},{"$f":"Sheet3!AO44","v":"?"},{"$f":"Sheet3!AP44","v":"?"},{"$f":"Sheet3!AQ44","v":"?"},{"$f":"Sheet3!AR44","v":"?"},{"$f":"Sheet3!AS44","v":"?"},{"$f":"Sheet3!AT44","v":"?"},{"$f":"Sheet3!AU44","v":"?"},{"$f":"Sheet3!AV44","v":"?"},{"$f":"Sheet3!AW44","v":"?"},{"$f":"Sheet3!AX44","v":"?"},{"$f":"Sheet3!AY44","v":"?"},{"$f":"Sheet3!AZ44","v":"?"},{"$f":"Sheet3!BA44","v":"?"},{"$f":"Sheet3!BB44","v":"?"},{"$f":"Sheet3!BC44","v":"?"},{"$f":"Sheet3!BD44","v":"?"},{"$f":"Sheet3!BE44","v":"?"},{"$f":"Sheet3!BF44","v":"?"},{"$f":"Sheet3!BG44","v":"?"},null,null,null,null,null,null,null,null,null,null,null,null,null,null,null,null,null,null,null,null,null,null,{"$f":"IF(CD44=\".\",\".\",D50)","v":"E"},{"$f":"IF(CE44=\".\",\".\",E50)","v":"E"},{"$f":"IF(CF44=\".\",\".\",F50)","v":"E"},{"$f":"IF(CG44=\".\",\".\",G50)","v":"E"},{"$f":"IF(CH44=\".\",\".\",H50)","v":"E"},{"$f":"IF(CI44=\".\",\".\",I50)","v":"E"},{"$f":"IF(CJ44=\".\",\".\",J50)","v":"E"},{"$f":"IF(CK44=\".\",\".\",K50)","v":"E"},{"$f":"IF(CL44=\".\",\".\",L50)","v":"E"},{"$f":"IF(CM44=\".\",\".\",M50)","v":"E"},{"$f":"IF(CN44=\".\",\".\",N50)","v":"E"},{"$f":"IF(CO44=\".\",\".\",O50)","v":"E"},{"$f":"IF(CP44=\".\",\".\",P50)","v":"E"},{"$f":"IF(CQ44=\".\",\".\",Q50)","v":"E"},{"$f":"IF(CR44=\".\",\".\",R50)","v":"E"},{"$f":"IF(CS44=\".\",\".\",S50)","v":"E"},{"$f":"IF(CT44=\".\",\".\",T50)","v":"E"},{"$f":"IF(CU44=\".\",\".\",U50)","v":"E"},{"$f":"IF(CV44=\".\",\".\",V50)","v":"A"},{"$f":"IF(CW44=\".\",\".\",W50)","v":"E"},{"$f":"IF(CX44=\".\",\".\",X50)","v":"E"},{"$f":"IF(CY44=\".\",\".\",Y50)","v":"A"},{"$f":"IF(CZ44=\".\",\".\",Z50)","v":"E"},{"$f":"IF(DA44=\".\",\".\",AA50)","v":"E"},{"$f":"IF(DB44=\".\",\".\",AB50)","v":"A"},{"$f":"IF(DC44=\".\",\".\",AC50)","v":"E"},{"$f":"IF(DD44=\".\",\".\",AD50)","v":"."},{"$f":"IF(DE44=\".\",\".\",AE50)","v":"."},{"$f":"IF(DF44=\".\",\".\",AF50)","v":"."},{"$f":"IF(DG44=\".\",\".\",AG50)","v":"."},{"$f":"IF(DH44=\".\",\".\",AH50)","v":"."},{"$f":"IF(DI44=\".\",\".\",AI50)","v":"."},{"$f":"IF(DJ44=\".\",\".\",AJ50)","v":"."},{"$f":"IF(DK44=\".\",\".\",AK50)","v":"."},{"$f":"IF(DL44=\".\",\".\",AL50)","v":"."},{"$f":"IF(DM44=\".\",\".\",AM50)","v":"."},{"$f":"IF(DN44=\".\",\".\",AN50)","v":"."},{"$f":"IF(DO44=\".\",\".\",AO50)","v":"."},{"$f":"IF(DP44=\".\",\".\",AP50)","v":"."},{"$f":"IF(DQ44=\".\",\".\",AQ50)","v":"."},{"$f":"IF(DR44=\".\",\".\",AR50)","v":"."},{"$f":"IF(DS44=\".\",\".\",AS50)","v":"."},{"$f":"IF(DT44=\".\",\".\",AT50)","v":"."},{"$f":"IF(DU44=\".\",\".\",AU50)","v":"."},{"$f":"IF(DV44=\".\",\".\",AV50)","v":"."},{"$f":"IF(DW44=\".\",\".\",AW50)","v":"."},{"$f":"IF(DX44=\".\",\".\",AX50)","v":"."},{"$f":"IF(DY44=\".\",\".\",AY50)","v":"."},{"$f":"IF(DZ44=\".\",\".\",AZ50)","v":"."},{"$f":"IF(EA44=\".\",\".\",BA50)","v":"."},{"$f":"IF(EB44=\".\",\".\",BB50)","v":"."},{"$f":"IF(EC44=\".\",\".\",BC50)","v":"."},{"$f":"IF(ED44=\".\",\".\",BD50)","v":"."},{"$f":"IF(EE44=\".\",\".\",BE50)","v":"."},{"$f":"IF(EF44=\".\",\".\",BF50)","v":"."},{"$f":"IF(EG44=\".\",\".\",BG50)","v":"."}]
[{"$f":"ROUND(BG45,0)","v":0},{"$f":"B47","v":0},0.25,{"$f":"SUM(D40:D44)+D52+0.25","v":0.25},{"$f":"D45+SUM(E40:E44)+E52","v":0.25},{"$f":"E45+SUM(F40:F44)+F52+F59","v":0.25},{"$f":"F45+SUM(G40:G44)+G52+G59","v":0.25},{"$f":"G45+SUM(H40:H44)+H52+H59","v":0.25},{"$f":"H45+SUM(I40:I44)+I52+I59","v":0.25},0.25,0.25,0.25,0.25,0.25,0.25,0.25,0.25,0.25,0.25,0.25,0.25,0.25,0.25,0.25,0.25,0.25,0.25,0.25,0.25,0.25,0.25,0.25,0.25,0.25,0.25,0.25,0.25,0.25,0.25,0.25,0.25,0.25,0.25,0.25,0.25,0.25,0.25,0.25,0.25,0.25,0.25,0.25,0.25,0.25,0.25,0.25,0.25,0.25,0.25]
["Team Total","Olympic Pts.",{"$f":"IF(Sheet3!B114=0,IF(Sheet3!B115=0,Sheet3!C103,Sheet3!C104),IF(Sheet3!B115=0,Sheet3!C106,Sheet3!C105))","v":"Timeout = T, Foul = F ------------>"},null,null,null,null,null,null,null,null,null,null,null,null,null,null,null,null,null,null,null,null,null,null,null,null,null,null,null,null,null,null,null,null,null,null,null,null,null,null,null,null,null,null,null,null,null,null,null,null,null,null,null,null,null,null,null,null,null,null,null,null,null,null,null,null,null,null,null,null,null,null,null,null,null,null,null,null,null,null,{"$f":"CD40","v":20},{"$f":"CE40","v":20},20,20,20,20,20,20,20,20,20,20,20,20,20,20,20,20,10,20,20,10,20,20,10,20,"?","?","?","?","?","?","?","?","?","?","?","?","?","?","?","?","?","?","?","?","?","?","?","?","?","?","?","?","?","?"]
[null,{"$f":"AB125","v":0},"Hannah Lotharius",null,{"$f":"COUNTIF(D40:D44,\"E\")","v":0},{"$f":"COUNTIF(D40:E44,\"E\")","v":0},{"$f":"COUNTIF(E40:F44,\"E\")","v":0},{"$f":"COUNTIF(F40:G44,\"E\")","v":0},{"$f":"COUNTIF(G40:H44,\"E\")","v":0},{"$f":"COUNTIF(H40:I44,\"E\")","v":0},{"$f":"COUNTIF(I40:J44,\"E\")","v":0},{"$f":"COUNTIF(J40:K44,\"E\")","v":0},{"$f":"COUNTIF(K40:L44,\"E\")","v":0},{"$f":"COUNTIF(L40:M44,\"E\")","v":0},{"$f":"COUNTIF(M40:N44,\"E\")","v":0},{"$f":"COUNTIF(N40:O44,\"E\")","v":0},{"$f":"COUNTIF(O40:P44,\"E\")","v":0},{"$f":"COUNTIF(P40:Q44,\"E\")","v":0},{"$f":"COUNTIF(Q40:R44,\"E\")","v":0},{"$f":"COUNTIF(R40:S44,\"E\")","v":0},{"$f":"COUNTIF(S40:T44,\"E\")","v":0},{"$f":"COUNTIF(T40:U44,\"E\")","v":0},{"$f":"COUNTIF(U40:V44,\"E\")","v":0},{"$f":"COUNTIF(V40:W44,\"E\")","v":0},{"$f":"COUNTIF(W40:X44,\"E\")","v":0},{"$f":"COUNTIF(X40:Y44,\"E\")","v":0},{"$f":"COUNTIF(Y40:Z44,\"E\")","v":0},{"$f":"COUNTIF(Z40:AA44,\"E\")","v":0},{"$f":"COUNTIF(AA40:AB44,\"E\")","v":0},{"$f":"COUNTIF(AB40:AC44,\"E\")","v":0},{"$f":"COUNTIF(AC40:AD44,\"E\")","v":0},{"$f":"COUNTIF(AD40:AE44,\"E\")","v":0},{"$f":"COUNTIF(AE40:AF44,\"E\")","v":0},{"$f":"COUNTIF(AF40:AG44,\"E\")","v":0},{"$f":"COUNTIF(AG40:AH44,\"E\")","v":0},{"$f":"COUNTIF(AH40:AI44,\"E\")","v":0},{"$f":"COUNTIF(AI40:AJ44,\"E\")","v":0},{"$f":"COUNTIF(AJ40:AK44,\"E\")","v":0},{"$f":"COUNTIF(AK40:AL44,\"E\")","v":0},{"$f":"COUNTIF(AL40:AM44,\"E\")","v":0},{"$f":"COUNTIF(AM40:AN44,\"E\")","v":0},{"$f":"COUNTIF(AN40:AO44,\"E\")","v":0},{"$f":"COUNTIF(AO40:AP44,\"E\")","v":0},{"$f":"COUNTIF(AP40:AQ44,\"E\")","v":0},{"$f":"COUNTIF(AQ40:AR44,\"E\")","v":0},{"$f":"COUNTIF(AR40:AS44,\"E\")","v":0},{"$f":"COUNTIF(AS40:AT44,\"E\")","v":0},{"$f":"COUNTIF(AT40:AU44,\"E\")","v":0},{"$f":"COUNTIF(AU40:AV44,\"E\")","v":0},{"$f":"COUNTIF(AV40:AW44,\"E\")","v":0},{"$f":"COUNTIF(AW40:AX44,\"E\")","v":0},{"$f":"COUNTIF(AX40:AY44,\"E\")","v":0},{"$f":"COUNTIF(AY40:AZ44,\"E\")","v":0},{"$f":"COUNTIF(AZ40:BA44,\"E\")","v":0},{"$f":"COUNTIF(BA40:BB44,\"E\")","v":0},{"$f":"COUNTIF(BB40:BC44,\"E\")","v":0},{"$f":"COUNTIF(BC40:BD44,\"E\")","v":0},{"$f":"COUNTIF(BD40:BE44,\"E\")","v":0},{"$f":"COUNTIF(BE40:BF44,\"E\")","v":0},null,null,null,null,null,null,null,null,null,null,null,null,null,null,null,null,null,null,null,null,null,null,{"$f":"FD40","v":"E"},{"$f":"FE40","v":"E"},{"$f":"FF40","v":"E"},{"$f":"FG40","v":"E"},{"$f":"FH40","v":"E"},{"$f":"FI40","v":"E"},{"$f":"FJ40","v":"E"},{"$f":"FK40","v":"E"},{"$f":"FL40","v":"E"},{"$f":"FM40","v":"E"},{"$f":"FN40","v":"E"},{"$f":"FO40","v":"E"},{"$f":"FP40","v":"E"},{"$f":"FQ40","v":"E"},{"$f":"FR40","v":"E"},{"$f":"FS40","v":"E"},{"$f":"FT40","v":"E"},{"$f":"FU40","v":"E"},{"$f":"FV40","v":"A"},{"$f":"FW40","v":"E"},{"$f":"FX40","v":"E"},{"$f":"FY40","v":"A"},{"$f":"FZ40","v":"E"},{"$f":"GA40","v":"E"},{"$f":"GB40","v":"A"},{"$f":"GC40","v":"E"},{"$f":"GD40","v":"."},{"$f":"GE40","v":"."},{"$f":"GF40","v":"."},{"$f":"GG40","v":"."},{"$f":"GH40","v":"."},{"$f":"GI40","v":"."},{"$f":"GJ40","v":"."},{"$f":"GK40","v":"."},{"$f":"GL40","v":"."},{"$f":"GM40","v":"."},{"$f":"GN40","v":"."},{"$f":"GO40","v":"."},{"$f":"GP40","v":"."},{"$f":"GQ40","v":"."},{"$f":"GR40","v":"."},{"$f":"GS40","v":"."},{"$f":"GT40","v":"."},{"$f":"GU40","v":"."},{"$f":"GV40","v":"."},{"$f":"GW40","v":"."},{"$f":"GX40","v":"."},{"$f":"GY40","v":"."},{"$f":"GZ40","v":"."},{"$f":"HA40","v":"."},{"$f":"HB40","v":"."},{"$f":"HC40","v":"."},{"$f":"HD40","v":"."},{"$f":"HE40","v":"."},{"$f":"HF40","v":"."},{"$f":"HG40","v":"."}]
[null,0,"Stephen Hall",null,{"$f":"COUNTIF(D40:D44,\"E\")","v":0},{"$f":"COUNTIF(E40:E44,\"E\")","v":0},{"$f":"COUNTIF(F40:F44,\"E\")","v":0},{"$f":"COUNTIF(G40:G44,\"E\")","v":0},0,0,0,0,0,0,0,0,0,0,0,0,0,0,0,0,0,0,0,0,0,0,0,0,0,0,0,0,0,0,0,0,0,0,0,0,0,0,0,0,0,0,0,0,0,0,0,0,0,0,0,null,null,null,null,null,null,null,null,null,null,null,null,null,null,null,null,null,null,null,null,null,null,0,1,2,3,4,5,6,7,8,9,10,11,12,13,14,15,16,17,18,19,20,21,22,23,24,25,26,27,28,29,30,31,32,33,34,35,36,37,38,39,40,41,42,43,44,45,46,47,48,49,50,51,52,53,54,55]
[null,{"$f":"IF(BG58>=3,2,0)","v":0},"Matthew Gedlen",20,{"$f":"IF(E48=1,\".\",20)","v":20},{"$f":"IF(F73=\"A\",\".\",IF(F60=1,\".\",IF(F48=1,\".\",IF(SUM(F70,F24)<2,20,10))))","v":20},20,20,20,20,20,20,20,20,20,20,20,20,20,20,20,{"$f":"IF(COUNTIF(T40:U43,\"\")<8,\".\",10)","v":10},20,{"$f":"IF(COUNTIF(W40:W43,\"\")<4,\".\",20)","v":20},{"$f":"IF(COUNTIF(W40:X43,\"\")<8,\">\",10)","v":10},20,{"$f":"IF(COUNTIF(Z40:Z43,\"\")<4,\".\",20)","v":20},{"$f":"IF(COUNTIF(Z40:AA43,\"\")<8,\">\",10)","v":10},20,{"$f":"AD115","v":"?"},{"$f":"AE115","v":"?"},"?","?","?","?","?","?","?","?","?","?","?","?","?","?","?","?","?","?","?","?","?","?","?","?","?","?","?","?"]
[null,{"$f":"IF(B49=2,0,IF(B47+B48=10,IF(A45>=130,1,0),IF(B47+B48=5,IF(A45>=100,1,0),IF(A45>=70,1,0))))","v":0},"Madeline Dykstra","E",{"$f":"IF(E48=1,\".\",\"E\")","v":"E"},{"$f":"IF(F49=\".\",\".\",IF(SUM(F70,F24)<2,\"E\",\"A\"))","v":"E"},{"$f":"IF(G49=\".\",\".\",IF(SUM(G70,G24)<2,\"E\",\"A\"))","v":"E"},"E","E","E","E","E","E","E","E","E",{"$f":"IF(Q49=\".\",\".\",IF(SUM(Q70,Q24)<2,\"E\",\"A\"))","v":"E"},"E","E","E","E",{"$f":"IF(V49=10,\"A\",\".\")","v":"A"},"E",{"$f":"IF(X49=20,\"E\",\".\")","v":"E"},{"$f":"IF(Y49=10,\"A\",\".\")","v":"A"},"E",{"$f":"IF(AA49=20,\"E\",\".\")","v":"E"},{"$f":"IF(AB49=10,\"A\",\".\")","v":"A"},"E",{"$f":"AD116","v":"."},".",".",".",".",".",".",".",".",".",".",".",".",".",".",".",".",".",".",".",".",".",".",".",".",".",".",".",".",".",null,null,null,null,null,null,null,null,null,null,null,null,null,null,null,null,null,null,null,null,null,null,{"$f":"CD41","v":20},{"$f":"CE41","v":20},20,20,20,20,20,20,20,20,20,20,20,20,20,20,20,20,10,20,20,10,20,20,10,20,"?","?","?","?","?","?","?","?","?","?","?","?","?","?","?","?","?","?","?","?","?","?","?","?","?","?","?","?","?","?"]
[null,null,"Grace Buiten",{"$f":"IF(D38=15,\".\",IF(D38=0,0,\"\"))","v":"."},{"$f":"IF(E38=15,\".\",IF(E38=0,0,\"\"))","v":"."},".",".",".",".",".",".",".",".",".",".",".",".",".",".",".",{"$f":"IF(U38=0,0,IF(U$84=0,\".\",\"\"))","v":"."},{"$f":"IF(V38=0,0,IF(V$84=0,\".\",\"\"))","v":"."},{"$f":"IF(W38=15,\".\",IF(W38=0,0,\"\"))","v":"."},{"$f":"IF(X38=0,0,IF(X$84=0,\".\",\"\"))","v":"."},{"$f":"IF(Y38=0,0,IF(Y$84=0,\".\",\"\"))","v":"."},{"$f":"IF(Z38=15,\".\",IF(Z38=0,0,\"\"))","v":"."},{"$f":"IF(AA38=0,0,IF(AA$84=0,\".\",\"\"))","v":"."},{"$f":"IF(AB38=0,0,IF(AB$84=0,\".\",\"\"))","v":"."},{"$f":"IF(AC38=15,\".\",IF(AC38=0,0,\"\"))","v":"."},{"$f":"IF(AD38=15,\".\",IF(AD38=0,0,\"\"))","v":"."},".",".",".",".",".",".",".",".",".",".",".",".",".",".",".",".",".",".",".",".",".",".",".",".",".",".",".",".",".",null,null,null,null,null,null,null,null,null,null,null,null,null,null,null,null,null,null,null,null,null,null,{"$f":"FD41","v":"E"},{"$f":"FE41","v":"E"},{"$f":"FF41","v":"E"},{"$f":"FG41","v":"E"},{"$f":"FH41","v":"E"},{"$f":"FI41","v":"E"},{"$f":"FJ41","v":"E"},{"$f":"FK41","v":"E"},{"$f":"FL41","v":"E"},{"$f":"FM41","v":"E"},{"$f":"FN41","v":"E"},{"$f":"FO41","v":"E"},{"$f":"FP41","v":"E"},{"$f":"FQ41","v":"E"},{"$f":"FR41","v":"E"},{"$f":"FS41","v":"E"},{"$f":"FT41","v":"E"},{"$f":"FU41","v":"E"},{"$f":"FV41","v":"A"},{"$f":"FW41","v":"E"},{"$f":"FX41","v":"E"},{"$f":"FY41","v":"A"},{"$f":"FZ41","v":"E"},{"$f":"GA41","v":"E"},{"$f":"GB41","v":"A"},{"$f":"GC41","v":"E"},{"$f":"GD41","v":"."},{"$f":"GE41","v":"."},{"$f":"GF41","v":"."},{"$f":"GG41","v":"."},{"$f":"GH41","v":"."},{"$f":"GI41","v":"."},{"$f":"GJ41","v":"."},{"$f":"GK41","v":"."},{"$f":"GL41","v":"."},{"$f":"GM41","v":"."},{"$f":"GN41","v":"."},{"$f":"GO41","v":"."},{"$f":"GP41","v":"."},{"$f":"GQ41","v":"."},{"$f":"GR41","v":"."},{"$f":"GS41","v":"."},{"$f":"GT41","v":"."},{"$f":"GU41","v":"."},{"$f":"GV41","v":"."},{"$f":"GW41","v":"."},{"$f":"GX41","v":"."},{"$f":"GY41","v":"."},{"$f":"GZ41","v":"."},{"$f":"HA41","v":"."},{"$f":"HB41","v":"."},{"$f":"HC41","v":"."},{"$f":"HD41","v":"."},{"$f":"HE41","v":"."},{"$f":"HF41","v":"."},{"$f":"HG41","v":"."}]
[null,null,"Daniel Thompson",{"$f":"Sheet3!D116+IF(E48=0,0,-0.01)","v":0},{"$f":"Sheet3!E116+IF(F48=0,0,-0.01)","v":0},{"$f":"Sheet3!F116+IF(G48=0,0,-0.01)","v":0},{"$f":"Sheet3!G116+IF(H48=0,0,-0.01)","v":0},{"$f":"Sheet3!H116+IF(I48=0,0,IF(SUM($E48:I48)<3,-0.01,IF(SUM($E48:I48)>3,-10,IF(MAX(Sheet3!H46:H50)=3,-10,-0.01))))","v":0},{"$f":"Sheet3!I116+IF(J48=0,0,IF(SUM($E48:J48)<3,-0.01,IF(SUM($E48:J48)>3,-10,IF(MAX(Sheet3!I46:I50)=3,-10,-0.01))))","v":0},{"$f":"Sheet3!J116+IF(K48=0,0,IF(SUM($E48:K48)<3,-0.01,IF(SUM($E48:K48)>3,-10,IF(MAX(Sheet3!J46:J50)=3,-10,-0.01))))","v":0},{"$f":"Sheet3!K116+IF(L48=0,0,IF(SUM($E48:L48)<3,-0.01,IF(SUM($E48:L48)>3,-10,IF(MAX(Sheet3!K46:K50)=3,-10,-0.01))))","v":0},{"$f":"Sheet3!L116+IF(M48=0,0,IF(SUM($E48:M48)<3,-0.01,IF(SUM($E48:M48)>3,-10,IF(MAX(Sheet3!L46:L50)=3,-10,-0.01))))","v":0},{"$f":"Sheet3!M116+IF(N48=0,0,IF(SUM($E48:N48)<3,-0.01,IF(SUM($E48:N48)>3,-10,IF(MAX(Sheet3!M46:M50)=3,-10,-0.01))))","v":0},{"$f":"Sheet3!N116+IF(O48=0,0,IF(SUM($E48:O48)<3,-0.01,IF(SUM($E48:O48)>3,-10,IF(MAX(Sheet3!N46:N50)=3,-10,-0.01))))","v":0},{"$f":"Sheet3!O116+IF(P48=0,0,IF(SUM($E48:P48)<3,-0.01,IF(SUM($E48:P48)>3,-10,IF(MAX(Sheet3!O46:O50)=3,-10,-0.01))))","v":0},{"$f":"Sheet3!P116+IF(Q48=0,0,IF(SUM($E48:Q48)<3,-0.01,IF(SUM($E48:Q48)>3,-10,IF(MAX(Sheet3!P46:P50)=3,-10,-0.01))))","v":0},{"$f":"Sheet3!Q116+IF(R48=0,0,IF(SUM($E48:R48)<3,-0.01,IF(SUM($E48:R48)>3,-10,IF(MAX(Sheet3!Q46:Q50)=3,-10,-0.01))))","v":0},{"$f":"Sheet3!R116+IF(S48=0,0,IF(SUM($E48:S48)<3,-0.01,IF(SUM($E48:S48)>3,-10,IF(MAX(Sheet3!R46:R50)=3,-10,-0.01))))","v":0},{"$f":"Sheet3!S116+IF(T48=1,-10,0)","v":0},{"$f":"Sheet3!T116+IF(U48=1,-10,0)","v":0},{"$f":"Sheet3!U116+IF(V48=1,-10,0)","v":0},{"$f":"Sheet3!V116","v":0},{"$f":"Sheet3!W116+IF(X48=1,-10,0)","v":0},{"$f":"Sheet3!X116+IF(Y48=1,-10,0)","v":0},{"$f":"Sheet3!Y116","v":0},{"$f":"Sheet3!Z116+IF(AA48=1,-10,0)","v":0},{"$f":"Sheet3!AA116+IF(AB48=1,-10,0)","v":0},{"$f":"Sheet3!AB116","v":0},{"$f":"Sheet3!AC116+IF(AD48=1,-10,0)","v":0},{"$f":"Sheet3!AD116+IF(AE48=1,-10,0)","v":0},{"$f":"Sheet3!AE116+IF(AF48=1,-10,0)","v":0},{"$f":"Sheet3!AF116+IF(AG48=1,-10,0)","v":0},{"$f":"Sheet3!AG116+IF(AH48=1,-10,0)","v":0},{"$f":"Sheet3!AH116+IF(AI48=1,-10,0)","v":0},{"$f":"Sheet3!AI116+IF(AJ48=1,-10,0)","v":0},{"$f":"Sheet3!AJ116+IF(AK48=1,-10,0)","v":0},{"$f":"Sheet3!AK116+IF(AL48=1,-10,0)","v":0},{"$f":"Sheet3!AL116+IF(AM48=1,-10,0)","v":0},{"$f":"Sheet3!AM116+IF(AN48=1,-10,0)","v":0},{"$f":"Sheet3!AN116+IF(AO48=1,-10,0)","v":0},{"$f":"Sheet3!AO116+IF(AP48=1,-10,0)","v":0},{"$f":"Sheet3!AP116+IF(AQ48=1,-10,0)","v":0},{"$f":"Sheet3!AQ116+IF(AR48=1,-10,0)","v":0},{"$f":"Sheet3!AR116+IF(AS48=1,-10,0)","v":0},{"$f":"Sheet3!AS116+IF(AT48=1,-10,0)","v":0},{"$f":"Sheet3!AT116+IF(AU48=1,-10,0)","v":0},{"$f":"Sheet3!AU116+IF(AV48=1,-10,0)","v":0},{"$f":"Sheet3!AV116+IF(AW48=1,-10,0)","v":0},{"$f":"Sheet3!AW116+IF(AX48=1,-10,0)","v":0},{"$f":"Sheet3!AX116+IF(AY48=1,-10,0)","v":0},{"$f":"Sheet3!AY116+IF(AZ48=1,-10,0)","v":0},{"$f":"Sheet3!AZ116+IF(BA48=1,-10,0)","v":0},{"$f":"Sheet3!BA116+IF(BB48=1,-10,0)","v":0},{"$f":"Sheet3!BB116+IF(BC48=1,-10,0)","v":0},{"$f":"Sheet3!BC116+IF(BD48=1,-10,0)","v":0},{"$f":"Sheet3!BD116+IF(BE48=1,-10,0)","v":0},{"$f":"Sheet3!BE116+IF(BF48=1,-10,0)","v":0},{"$f":"Sheet3!BF116+IF(BG48=1,-10,0)","v":0},{"$f":"Sheet3!BG116+IF(BH48=1,-10,0)","v":0}]
[null,null,"Gloria Mayer",null,null,{"$f":"IF(COUNTIF($D40:F40,20)>=1,1,0)","v":0},{"$f":"IF(COUNTIF($D40:G40,20)>=1,1,0)","v":0},{"$f":"IF(COUNTIF($D40:H40,20)>=1,1,0)","v":0},{"$f":"IF(COUNTIF($D40:I40,20)>=1,1,0)","v":0},{"$f":"IF(COUNTIF($D40:J40,20)>=1,1,0)","v":0},{"$f":"IF(COUNTIF($D40:K40,20)>=1,1,0)","v":0},{"$f":"IF(COUNTIF($D40:L40,20)>=1,1,0)","v":0},{"$f":"IF(COUNTIF($D40:M40,20)>=1,1,0)","v":0},{"$f":"IF(COUNTIF($D40:N40,20)>=1,1,0)","v":0},{"$f":"IF(COUNTIF($D40:O40,20)>=1,1,0)","v":0},{"$f":"IF(COUNTIF($D40:P40,20)>=1,1,0)","v":0},{"$f":"IF(COUNTIF($D40:Q40,20)>=1,1,0)","v":0},{"$f":"IF(COUNTIF($D40:R40,20)>=1,1,0)","v":0},{"$f":"IF(COUNTIF($D40:S40,20)>=1,1,0)","v":0},{"$f":"IF(COUNTIF($D40:T40,20)>=1,1,0)","v":0},{"$f":"IF(COUNTIF($D40:U40,20)>=1,1,0)","v":0},{"$f":"IF(COUNTIF($D40:V40,20)>=1,1,0)","v":0},{"$f":"IF(COUNTIF($D40:W40,20)>=1,1,0)","v":0},{"$f":"IF(COUNTIF($D40:X40,20)>=1,1,0)","v":0},{"$f":"IF(COUNTIF($D40:Y40,20)>=1,1,0)","v":0},{"$f":"IF(COUNTIF($D40:Z40,20)>=1,1,0)","v":0},{"$f":"IF(COUNTIF($D40:AA40,20)>=1,1,0)","v":0},{"$f":"IF(COUNTIF($D40:AB40,20)>=1,1,0)","v":0},{"$f":"IF(COUNTIF($D40:AC40,20)>=1,1,0)","v":0},{"$f":"IF(COUNTIF($D40:AD40,20)>=1,1,0)","v":0},{"$f":"IF(COUNTIF($D40:AE40,20)>=1,1,0)","v":0},{"$f":"IF(COUNTIF($D40:AF40,20)>=1,1,0)","v":0},{"$f":"IF(COUNTIF($D40:AG40,20)>=1,1,0)","v":0},{"$f":"IF(COUNTIF($D40:AH40,20)>=1,1,0)","v":0},{"$f":"IF(COUNTIF($D40:AI40,20)>=1,1,0)","v":0},{"$f":"IF(COUNTIF($D40:AJ40,20)>=1,1,0)","v":0},{"$f":"IF(COUNTIF($D40:AK40,20)>=1,1,0)","v":0},{"$f":"IF(COUNTIF($D40:AL40,20)>=1,1,0)","v":0},{"$f":"IF(COUNTIF($D40:AM40,20)>=1,1,0)","v":0},{"$f":"IF(COUNTIF($D40:AN40,20)>=1,1,0)","v":0},{"$f":"IF(COUNTIF($D40:AO40,20)>=1,1,0)","v":0},{"$f":"IF(COUNTIF($D40:AP40,20)>=1,1,0)","v":0},{"$f":"IF(COUNTIF($D40:AQ40,20)>=1,1,0)","v":0},{"$f":"IF(COUNTIF($D40:AR40,20)>=1,1,0)","v":0},{"$f":"IF(COUNTIF($D40:AS40,20)>=1,1,0)","v":0},{"$f":"IF(COUNTIF($D40:AT40,20)>=1,1,0)","v":0},{"$f":"IF(COUNTIF($D40:AU40,20)>=1,1,0)","v":0},{"$f":"IF(COUNTIF($D40:AV40,20)>=1,1,0)","v":0},{"$f":"IF(COUNTIF($D40:AW40,20)>=1,1,0)","v":0},{"$f":"IF(COUNTIF($D40:AX40,20)>=1,1,0)","v":0},{"$f":"IF(COUNTIF($D40:AY40,20)>=1,1,0)","v":0},{"$f":"IF(COUNTIF($D40:AZ40,20)>=1,1,0)","v":0},{"$f":"IF(COUNTIF($D40:BA40,20)>=1,1,0)","v":0},{"$f":"IF(COUNTIF($D40:BB40,20)>=1,1,0)","v":0},{"$f":"IF(COUNTIF($D40:BC40,20)>=1,1,0)","v":0},{"$f":"IF(COUNTIF($D40:BD40,20)>=1,1,0)","v":0},{"$f":"IF(COUNTIF($D40:BE40,20)>=1,1,0)","v":0},{"$f":"IF(COUNTIF($D40:BF40,20)>=1,1,0)","v":0},{"$f":"IF(COUNTIF($D40:BG40,20)>=1,1,0)","v":0},null,null,null,null,null,null,null,null,null,null,null,null,null,null,null,null,null,null,null,null,null,null,{"$f":"CD42","v":20},{"$f":"CE42","v":20},20,20,20,20,20,20,20,20,20,20,20,20,20,20,20,20,10,20,20,10,20,20,10,20,"?","?","?","?","?","?","?","?","?","?","?","?","?","?","?","?","?","?","?","?","?","?","?","?","?","?","?","?","?","?"]
[null,null,"Jessica Matthew",null,null,{"$f":"IF(COUNTIF($D41:F41,20)>=1,1,0)","v":0},{"$f":"IF(COUNTIF($D41:G41,20)>=1,1,0)","v":0},{"$f":"IF(COUNTIF($D41:H41,20)>=1,1,0)","v":0},{"$f":"IF(COUNTIF($D41:I41,20)>=1,1,0)","v":0},{"$f":"IF(COUNTIF($D41:J41,20)>=1,1,0)","v":0},{"$f":"IF(COUNTIF($D41:K41,20)>=1,1,0)","v":0},{"$f":"IF(COUNTIF($D41:L41,20)>=1,1,0)","v":0},{"$f":"IF(COUNTIF($D41:M41,20)>=1,1,0)","v":0},{"$f":"IF(COUNTIF($D41:N41,20)>=1,1,0)","v":0},{"$f":"IF(COUNTIF($D41:O41,20)>=1,1,0)","v":0},{"$f":"IF(COUNTIF($D41:P41,20)>=1,1,0)","v":0},{"$f":"IF(COUNTIF($D41:Q41,20)>=1,1,0)","v":0},{"$f":"IF(COUNTIF($D41:R41,20)>=1,1,0)","v":0},{"$f":"IF(COUNTIF($D41:S41,20)>=1,1,0)","v":0},{"$f":"IF(COUNTIF($D41:T41,20)>=1,1,0)","v":0},{"$f":"IF(COUNTIF($D41:U41,20)>=1,1,0)","v":0},{"$f":"IF(COUNTIF($D41:V41,20)>=1,1,0)","v":0},{"$f":"IF(COUNTIF($D41:W41,20)>=1,1,0)","v":0},{"$f":"IF(COUNTIF($D41:X41,20)>=1,1,0)","v":0},{"$f":"IF(COUNTIF($D41:Y41,20)>=1,1,0)","v":0},{"$f":"IF(COUNTIF($D41:Z41,20)>=1,1,0)","v":0},{"$f":"IF(COUNTIF($D41:AA41,20)>=1,1,0)","v":0},{"$f":"IF(COUNTIF($D41:AB41,20)>=1,1,0)","v":0},{"$f":"IF(COUNTIF($D41:AC41,20)>=1,1,0)","v":0},{"$f":"IF(COUNTIF($D41:AD41,20)>=1,1,0)","v":0},{"$f":"IF(COUNTIF($D41:AE41,20)>=1,1,0)","v":0},{"$f":"IF(COUNTIF($D41:AF41,20)>=1,1,0)","v":0},{"$f":"IF(COUNTIF($D41:AG41,20)>=1,1,0)","v":0},{"$f":"IF(COUNTIF($D41:AH41,20)>=1,1,0)","v":0},{"$f":"IF(COUNTIF($D41:AI41,20)>=1,1,0)","v":0},{"$f":"IF(COUNTIF($D41:AJ41,20)>=1,1,0)","v":0},{"$f":"IF(COUNTIF($D41:AK41,20)>=1,1,0)","v":0},{"$f":"IF(COUNTIF($D41:AL41,20)>=1,1,0)","v":0},{"$f":"IF(COUNTIF($D41:AM41,20)>=1,1,0)","v":0},{"$f":"IF(COUNTIF($D41:AN41,20)>=1,1,0)","v":0},{"$f":"IF(COUNTIF($D41:AO41,20)>=1,1,0)","v":0},{"$f":"IF(COUNTIF($D41:AP41,20)>=1,1,0)","v":0},{"$f":"IF(COUNTIF($D41:AQ41,20)>=1,1,0)","v":0},{"$f":"IF(COUNTIF($D41:AR41,20)>=1,1,0)","v":0},{"$f":"IF(COUNTIF($D41:AS41,20)>=1,1,0)","v":0},{"$f":"IF(COUNTIF($D41:AT41,20)>=1,1,0)","v":0},{"$f":"IF(COUNTIF($D41:AU41,20)>=1,1,0)","v":0},{"$f":"IF(COUNTIF($D41:AV41,20)>=1,1,0)","v":0},{"$f":"IF(COUNTIF($D41:AW41,20)>=1,1,0)","v":0},{"$f":"IF(COUNTIF($D41:AX41,20)>=1,1,0)","v":0},{"$f":"IF(COUNTIF($D41:AY41,20)>=1,1,0)","v":0},{"$f":"IF(COUNTIF($D41:AZ41,20)>=1,1,0)","v":0},{"$f":"IF(COUNTIF($D41:BA41,20)>=1,1,0)","v":0},{"$f":"IF(COUNTIF($D41:BB41,20)>=1,1,0)","v":0},{"$f":"IF(COUNTIF($D41:BC41,20)>=1,1,0)","v":0},{"$f":"IF(COUNTIF($D41:BD41,20)>=1,1,0)","v":0},{"$f":"IF(COUNTIF($D41:BE41,20)>=1,1,0)","v":0},{"$f":"IF(COUNTIF($D41:BF41,20)>=1,1,0)","v":0},{"$f":"IF(COUNTIF($D41:BG41,20)>=1,1,0)","v":0},null,null,null,null,null,null,null,null,null,null,null,null,null,null,null,null,null,null,null,null,null,null,{"$f":"FD42","v":"E"},{"$f":"FE42","v":"E"},{"$f":"FF42","v":"E"},{"$f":"FG42","v":"E"},{"$f":"FH42","v":"E"},{"$f":"FI42","v":"E"},{"$f":"FJ42","v":"E"},{"$f":"FK42","v":"E"},{"$f":"FL42","v":"E"},{"$f":"FM42","v":"E"},{"$f":"FN42","v":"E"},{"$f":"FO42","v":"E"},{"$f":"FP42","v":"E"},{"$f":"FQ42","v":"E"},{"$f":"FR42","v":"E"},{"$f":"FS42","v":"E"},{"$f":"FT42","v":"E"},{"$f":"FU42","v":"E"},{"$f":"FV42","v":"A"},{"$f":"FW42","v":"E"},{"$f":"FX42","v":"E"},{"$f":"FY42","v":"A"},{"$f":"FZ42","v":"E"},{"$f":"GA42","v":"E"},{"$f":"GB42","v":"A"},{"$f":"GC42","v":"E"},{"$f":"GD42","v":"."},{"$f":"GE42","v":"."},{"$f":"GF42","v":"."},{"$f":"GG42","v":"."},{"$f":"GH42","v":"."},{"$f":"GI42","v":"."},{"$f":"GJ42","v":"."},{"$f":"GK42","v":"."},{"$f":"GL42","v":"."},{"$f":"GM42","v":"."},{"$f":"GN42","v":"."},{"$f":"GO42","v":"."},{"$f":"GP42","v":"."},{"$f":"GQ42","v":"."},{"$f":"GR42","v":"."},{"$f":"GS42","v":"."},{"$f":"GT42","v":"."},{"$f":"GU42","v":"."},{"$f":"GV42","v":"."},{"$f":"GW42","v":"."},{"$f":"GX42","v":"."},{"$f":"GY42","v":"."},{"$f":"GZ42","v":"."},{"$f":"HA42","v":"."},{"$f":"HB42","v":"."},{"$f":"HC42","v":"."},{"$f":"HD42","v":"."},{"$f":"HE42","v":"."},{"$f":"HF42","v":"."},{"$f":"HG42","v":"."}]
[null,null,"Melody Mayer",null,null,{"$f":"IF(COUNTIF($D42:F42,20)>=1,1,0)","v":0},{"$f":"IF(COUNTIF($D42:G42,20)>=1,1,0)","v":0},{"$f":"IF(COUNTIF($D42:H42,20)>=1,1,0)","v":0},{"$f":"IF(COUNTIF($D42:I42,20)>=1,1,0)","v":0},{"$f":"IF(COUNTIF($D42:J42,20)>=1,1,0)","v":0},{"$f":"IF(COUNTIF($D42:K42,20)>=1,1,0)","v":0},{"$f":"IF(COUNTIF($D42:L42,20)>=1,1,0)","v":0},{"$f":"IF(COUNTIF($D42:M42,20)>=1,1,0)","v":0},{"$f":"IF(COUNTIF($D42:N42,20)>=1,1,0)","v":0},{"$f":"IF(COUNTIF($D42:O42,20)>=1,1,0)","v":0},{"$f":"IF(COUNTIF($D42:P42,20)>=1,1,0)","v":0},{"$f":"IF(COUNTIF($D42:Q42,20)>=1,1,0)","v":0},{"$f":"IF(COUNTIF($D42:R42,20)>=1,1,0)","v":0},{"$f":"IF(COUNTIF($D42:S42,20)>=1,1,0)","v":0},{"$f":"IF(COUNTIF($D42:T42,20)>=1,1,0)","v":0},{"$f":"IF(COUNTIF($D42:U42,20)>=1,1,0)","v":0},{"$f":"IF(COUNTIF($D42:V42,20)>=1,1,0)","v":0},{"$f":"IF(COUNTIF($D42:W42,20)>=1,1,0)","v":0},{"$f":"IF(COUNTIF($D42:X42,20)>=1,1,0)","v":0},{"$f":"IF(COUNTIF($D42:Y42,20)>=1,1,0)","v":0},{"$f":"IF(COUNTIF($D42:Z42,20)>=1,1,0)","v":0},{"$f":"IF(COUNTIF($D42:AA42,20)>=1,1,0)","v":0},{"$f":"IF(COUNTIF($D42:AB42,20)>=1,1,0)","v":0},{"$f":"IF(COUNTIF($D42:AC42,20)>=1,1,0)","v":0},{"$f":"IF(COUNTIF($D42:AD42,20)>=1,1,0)","v":0},{"$f":"IF(COUNTIF($D42:AE42,20)>=1,1,0)","v":0},{"$f":"IF(COUNTIF($D42:AF42,20)>=1,1,0)","v":0},{"$f":"IF(COUNTIF($D42:AG42,20)>=1,1,0)","v":0},{"$f":"IF(COUNTIF($D42:AH42,20)>=1,1,0)","v":0},{"$f":"IF(COUNTIF($D42:AI42,20)>=1,1,0)","v":0},{"$f":"IF(COUNTIF($D42:AJ42,20)>=1,1,0)","v":0},{"$f":"IF(COUNTIF($D42:AK42,20)>=1,1,0)","v":0},{"$f":"IF(COUNTIF($D42:AL42,20)>=1,1,0)","v":0},{"$f":"IF(COUNTIF($D42:AM42,20)>=1,1,0)","v":0},{"$f":"IF(COUNTIF($D42:AN42,20)>=1,1,0)","v":0},{"$f":"IF(COUNTIF($D42:AO42,20)>=1,1,0)","v":0},{"$f":"IF(COUNTIF($D42:AP42,20)>=1,1,0)","v":0},{"$f":"IF(COUNTIF($D42:AQ42,20)>=1,1,0)","v":0},{"$f":"IF(COUNTIF($D42:AR42,20)>=1,1,0)","v":0},{"$f":"IF(COUNTIF($D42:AS42,20)>=1,1,0)","v":0},{"$f":"IF(COUNTIF($D42:AT42,20)>=1,1,0)","v":0},{"$f":"IF(COUNTIF($D42:AU42,20)>=1,1,0)","v":0},{"$f":"IF(COUNTIF($D42:AV42,20)>=1,1,0)","v":0},{"$f":"IF(COUNTIF($D42:AW42,20)>=1,1,0)","v":0},{"$f":"IF(COUNTIF($D42:AX42,20)>=1,1,0)","v":0},{"$f":"IF(COUNTIF($D42:AY42,20)>=1,1,0)","v":0},{"$f":"IF(COUNTIF($D42:AZ42,20)>=1,1,0)","v":0},{"$f":"IF(COUNTIF($D42:BA42,20)>=1,1,0)","v":0},{"$f":"IF(COUNTIF($D42:BB42,20)>=1,1,0)","v":0},{"$f":"IF(COUNTIF($D42:BC42,20)>=1,1,0)","v":0},{"$f":"IF(COUNTIF($D42:BD42,20)>=1,1,0)","v":0},{"$f":"IF(COUNTIF($D42:BE42,20)>=1,1,0)","v":0},{"$f":"IF(COUNTIF($D42:BF42,20)>=1,1,0)","v":0},{"$f":"IF(COUNTIF($D42:BG42,20)>=1,1,0)","v":0}]
[null,null,"Klrissa McCulloch",null,null,{"$f":"IF(COUNTIF($D43:F43,20)>=1,1,0)","v":0},{"$f":"IF(COUNTIF($D43:G43,20)>=1,1,0)","v":0},{"$f":"IF(COUNTIF($D43:H43,20)>=1,1,0)","v":0},{"$f":"IF(COUNTIF($D43:I43,20)>=1,1,0)","v":0},{"$f":"IF(COUNTIF($D43:J43,20)>=1,1,0)","v":0},{"$f":"IF(COUNTIF($D43:K43,20)>=1,1,0)","v":0},{"$f":"IF(COUNTIF($D43:L43,20)>=1,1,0)","v":0},{"$f":"IF(COUNTIF($D43:M43,20)>=1,1,0)","v":0},{"$f":"IF(COUNTIF($D43:N43,20)>=1,1,0)","v":0},{"$f":"IF(COUNTIF($D43:O43,20)>=1,1,0)","v":0},{"$f":"IF(COUNTIF($D43:P43,20)>=1,1,0)","v":0},{"$f":"IF(COUNTIF($D43:Q43,20)>=1,1,0)","v":0},{"$f":"IF(COUNTIF($D43:R43,20)>=1,1,0)","v":0},{"$f":"IF(COUNTIF($D43:S43,20)>=1,1,0)","v":0},{"$f":"IF(COUNTIF($D43:T43,20)>=1,1,0)","v":0},{"$f":"IF(COUNTIF($D43:U43,20)>=1,1,0)","v":0},{"$f":"IF(COUNTIF($D43:V43,20)>=1,1,0)","v":0},{"$f":"IF(COUNTIF($D43:W43,20)>=1,1,0)","v":0},{"$f":"IF(COUNTIF($D43:X43,20)>=1,1,0)","v":0},{"$f":"IF(COUNTIF($D43:Y43,20)>=1,1,0)","v":0},{"$f":"IF(COUNTIF($D43:Z43,20)>=1,1,0)","v":0},{"$f":"IF(COUNTIF($D43:AA43,20)>=1,1,0)","v":0},{"$f":"IF(COUNTIF($D43:AB43,20)>=1,1,0)","v":0},{"$f":"IF(COUNTIF($D43:AC43,20)>=1,1,0)","v":0},{"$f":"IF(COUNTIF($D43:AD43,20)>=1,1,0)","v":0},{"$f":"IF(COUNTIF($D43:AE43,20)>=1,1,0)","v":0},{"$f":"IF(COUNTIF($D43:AF43,20)>=1,1,0)","v":0},{"$f":"IF(COUNTIF($D43:AG43,20)>=1,1,0)","v":0},{"$f":"IF(COUNTIF($D43:AH43,20)>=1,1,0)","v":0},{"$f":"IF(COUNTIF($D43:AI43,20)>=1,1,0)","v":0},{"$f":"IF(COUNTIF($D43:AJ43,20)>=1,1,0)","v":0},{"$f":"IF(COUNTIF($D43:AK43,20)>=1,1,0)","v":0},{"$f":"IF(COUNTIF($D43:AL43,20)>=1,1,0)","v":0},{"$f":"IF(COUNTIF($D43:AM43,20)>=1,1,0)","v":0},{"$f":"IF(COUNTIF($D43:AN43,20)>=1,1,0)","v":0},{"$f":"IF(COUNTIF($D43:AO43,20)>=1,1,0)","v":0},{"$f":"IF(COUNTIF($D43:AP43,20)>=1,1,0)","v":0},{"$f":"IF(COUNTIF($D43:AQ43,20)>=1,1,0)","v":0},{"$f":"IF(COUNTIF($D43:AR43,20)>=1,1,0)","v":0},{"$f":"IF(COUNTIF($D43:AS43,20)>=1,1,0)","v":0},{"$f":"IF(COUNTIF($D43:AT43,20)>=1,1,0)","v":0},{"$f":"IF(COUNTIF($D43:AU43,20)>=1,1,0)","v":0},{"$f":"IF(COUNTIF($D43:AV43,20)>=1,1,0)","v":0},{"$f":"IF(COUNTIF($D43:AW43,20)>=1,1,0)","v":0},{"$f":"IF(COUNTIF($D43:AX43,20)>=1,1,0)","v":0},{"$f":"IF(COUNTIF($D43:AY43,20)>=1,1,0)","v":0},{"$f":"IF(COUNTIF($D43:AZ43,20)>=1,1,0)","v":0},{"$f":"IF(COUNTIF($D43:BA43,20)>=1,1,0)","v":0},{"$f":"IF(COUNTIF($D43:BB43,20)>=1,1,0)","v":0},{"$f":"IF(COUNTIF($D43:BC43,20)>=1,1,0)","v":0},{"$f":"IF(COUNTIF($D43:BD43,20)>=1,1,0)","v":0},{"$f":"IF(COUNTIF($D43:BE43,20)>=1,1,0)","v":0},{"$f":"IF(COUNTIF($D43:BF43,20)>=1,1,0)","v":0},{"$f":"IF(COUNTIF($D43:BG43,20)>=1,1,0)","v":0},null,null,null,null,null,null,null,null,null,null,null,null,null,null,null,null,null,null,null,null,null,null,{"$f":"CD43","v":20},{"$f":"CE43","v":20},20,20,20,20,20,20,20,20,20,20,20,20,20,20,20,20,10,20,20,10,20,20,10,20,"?","?","?","?","?","?","?","?","?","?","?","?","?","?","?","?","?","?","?","?","?","?","?","?","?","?","?","?","?","?"]
[null,null,"Bryan Robey",null,null,{"$f":"IF(COUNTIF($D44:F44,20)>=1,1,0)","v":0},{"$f":"IF(COUNTIF($D44:G44,20)>=1,1,0)","v":0},{"$f":"IF(COUNTIF($D44:H44,20)>=1,1,0)","v":0},{"$f":"IF(COUNTIF($D44:I44,20)>=1,1,0)","v":0},{"$f":"IF(COUNTIF($D44:J44,20)>=1,1,0)","v":0},{"$f":"IF(COUNTIF($D44:K44,20)>=1,1,0)","v":0},{"$f":"IF(COUNTIF($D44:L44,20)>=1,1,0)","v":0},{"$f":"IF(COUNTIF($D44:M44,20)>=1,1,0)","v":0},{"$f":"IF(COUNTIF($D44:N44,20)>=1,1,0)","v":0},{"$f":"IF(COUNTIF($D44:O44,20)>=1,1,0)","v":0},{"$f":"IF(COUNTIF($D44:P44,20)>=1,1,0)","v":0},{"$f":"IF(COUNTIF($D44:Q44,20)>=1,1,0)","v":0},{"$f":"IF(COUNTIF($D44:R44,20)>=1,1,0)","v":0},{"$f":"IF(COUNTIF($D44:S44,20)>=1,1,0)","v":0},{"$f":"IF(COUNTIF($D44:T44,20)>=1,1,0)","v":0},{"$f":"IF(COUNTIF($D44:U44,20)>=1,1,0)","v":0},{"$f":"IF(COUNTIF($D44:V44,20)>=1,1,0)","v":0},{"$f":"IF(COUNTIF($D44:W44,20)>=1,1,0)","v":0},{"$f":"IF(COUNTIF($D44:X44,20)>=1,1,0)","v":0},{"$f":"IF(COUNTIF($D44:Y44,20)>=1,1,0)","v":0},{"$f":"IF(COUNTIF($D44:Z44,20)>=1,1,0)","v":0},{"$f":"IF(COUNTIF($D44:AA44,20)>=1,1,0)","v":0},{"$f":"IF(COUNTIF($D44:AB44,20)>=1,1,0)","v":0},{"$f":"IF(COUNTIF($D44:AC44,20)>=1,1,0)","v":0},{"$f":"IF(COUNTIF($D44:AD44,20)>=1,1,0)","v":0},{"$f":"IF(COUNTIF($D44:AE44,20)>=1,1,0)","v":0},{"$f":"IF(COUNTIF($D44:AF44,20)>=1,1,0)","v":0},{"$f":"IF(COUNTIF($D44:AG44,20)>=1,1,0)","v":0},{"$f":"IF(COUNTIF($D44:AH44,20)>=1,1,0)","v":0},{"$f":"IF(COUNTIF($D44:AI44,20)>=1,1,0)","v":0},{"$f":"IF(COUNTIF($D44:AJ44,20)>=1,1,0)","v":0},{"$f":"IF(COUNTIF($D44:AK44,20)>=1,1,0)","v":0},{"$f":"IF(COUNTIF($D44:AL44,20)>=1,1,0)","v":0},{"$f":"IF(COUNTIF($D44:AM44,20)>=1,1,0)","v":0},{"$f":"IF(COUNTIF($D44:AN44,20)>=1,1,0)","v":0},{"$f":"IF(COUNTIF($D44:AO44,20)>=1,1,0)","v":0},{"$f":"IF(COUNTIF($D44:AP44,20)>=1,1,0)","v":0},{"$f":"IF(COUNTIF($D44:AQ44,20)>=1,1,0)","v":0},{"$f":"IF(COUNTIF($D44:AR44,20)>=1,1,0)","v":0},{"$f":"IF(COUNTIF($D44:AS44,20)>=1,1,0)","v":0},{"$f":"IF(COUNTIF($D44:AT44,20)>=1,1,0)","v":0},{"$f":"IF(COUNTIF($D44:AU44,20)>=1,1,0)","v":0},{"$f":"IF(COUNTIF($D44:AV44,20)>=1,1,0)","v":0},{"$f":"IF(COUNTIF($D44:AW44,20)>=1,1,0)","v":0},{"$f":"IF(COUNTIF($D44:AX44,20)>=1,1,0)","v":0},{"$f":"IF(COUNTIF($D44:AY44,20)>=1,1,0)","v":0},{"$f":"IF(COUNTIF($D44:AZ44,20)>=1,1,0)","v":0},{"$f":"IF(COUNTIF($D44:BA44,20)>=1,1,0)","v":0},{"$f":"IF(COUNTIF($D44:BB44,20)>=1,1,0)","v":0},{"$f":"IF(COUNTIF($D44:BC44,20)>=1,1,0)","v":0},{"$f":"IF(COUNTIF($D44:BD44,20)>=1,1,0)","v":0},{"$f":"IF(COUNTIF($D44:BE44,20)>=1,1,0)","v":0},{"$f":"IF(COUNTIF($D44:BF44,20)>=1,1,0)","v":0},{"$f":"IF(COUNTIF($D44:BG44,20)>=1,1,0)","v":0},null,null,null,null,null,null,null,null,null,null,null,null,null,null,null,null,null,null,null,null,null,null,{"$f":"FD43","v":"E"},{"$f":"FE43","v":"E"},{"$f":"FF43","v":"E"},{"$f":"FG43","v":"E"},{"$f":"FH43","v":"E"},{"$f":"FI43","v":"E"},{"$f":"FJ43","v":"E"},{"$f":"FK43","v":"E"},{"$f":"FL43","v":"E"},{"$f":"FM43","v":"E"},{"$f":"FN43","v":"E"},{"$f":"FO43","v":"E"},{"$f":"FP43","v":"E"},{"$f":"FQ43","v":"E"},{"$f":"FR43","v":"E"},{"$f":"FS43","v":"E"},{"$f":"FT43","v":"E"},{"$f":"FU43","v":"E"},{"$f":"FV43","v":"A"},{"$f":"FW43","v":"E"},{"$f":"FX43","v":"E"},{"$f":"FY43","v":"A"},{"$f":"FZ43","v":"E"},{"$f":"GA43","v":"E"},{"$f":"GB43","v":"A"},{"$f":"GC43","v":"E"},{"$f":"GD43","v":"."},{"$f":"GE43","v":"."},{"$f":"GF43","v":"."},{"$f":"GG43","v":"."},{"$f":"GH43","v":"."},{"$f":"GI43","v":"."},{"$f":"GJ43","v":"."},{"$f":"GK43","v":"."},{"$f":"GL43","v":"."},{"$f":"GM43","v":"."},{"$f":"GN43","v":"."},{"$f":"GO43","v":"."},{"$f":"GP43","v":"."},{"$f":"GQ43","v":"."},{"$f":"GR43","v":"."},{"$f":"GS43","v":"."},{"$f":"GT43","v":"."},{"$f":"GU43","v":"."},{"$f":"GV43","v":"."},{"$f":"GW43","v":"."},{"$f":"GX43","v":"."},{"$f":"GY43","v":"."},{"$f":"GZ43","v":"."},{"$f":"HA43","v":"."},{"$f":"HB43","v":"."},{"$f":"HC43","v":"."},{"$f":"HD43","v":"."},{"$f":"HE43","v":"."},{"$f":"HF43","v":"."},{"$f":"HG43","v":"."}]
[null,null,"Bryce Hansen",null,null,{"$f":"SUM(F53:F57)","v":0},{"$f":"SUM(G53:G57)","v":0},{"$f":"SUM(H53:H57)","v":0},{"$f":"SUM(I53:I57)","v":0},{"$f":"SUM(J53:J57)","v":0},{"$f":"SUM(K53:K57)","v":0},{"$f":"SUM(L53:L57)","v":0},{"$f":"SUM(M53:M57)","v":0},{"$f":"SUM(N53:N57)","v":0},{"$f":"SUM(O53:O57)","v":0},{"$f":"SUM(P53:P57)","v":0},{"$f":"SUM(Q53:Q57)","v":0},{"$f":"SUM(R53:R57)","v":0},{"$f":"SUM(S53:S57)","v":0},{"$f":"SUM(T53:T57)","v":0},{"$f":"SUM(U53:U57)","v":0},{"$f":"SUM(V53:V57)","v":0},{"$f":"SUM(W53:W57)","v":0},{"$f":"SUM(X53:X57)","v":0},{"$f":"SUM(Y53:Y57)","v":0},{"$f":"SUM(Z53:Z57)","v":0},{"$f":"SUM(AA53:AA57)","v":0},{"$f":"SUM(AB53:AB57)","v":0},{"$f":"SUM(AC53:AC57)","v":0},{"$f":"SUM(AD53:AD57)","v":0},{"$f":"SUM(AE53:AE57)","v":0},{"$f":"SUM(AF53:AF57)","v":0},{"$f":"SUM(AG53:AG57)","v":0},{"$f":"SUM(AH53:AH57)","v":0},{"$f":"SUM(AI53:AI57)","v":0},{"$f":"SUM(AJ53:AJ57)","v":0},{"$f":"SUM(AK53:AK57)","v":0},{"$f":"SUM(AL53:AL57)","v":0},{"$f":"SUM(AM53:AM57)","v":0},{"$f":"SUM(AN53:AN57)","v":0},{"$f":"SUM(AO53:AO57)","v":0},{"$f":"SUM(AP53:AP57)","v":0},{"$f":"SUM(AQ53:AQ57)","v":0},{"$f":"SUM(AR53:AR57)","v":0},{"$f":"SUM(AS53:AS57)","v":0},{"$f":"SUM(AT53:AT57)","v":0},{"$f":"SUM(AU53:AU57)","v":0},{"$f":"SUM(AV53:AV57)","v":0},{"$f":"SUM(AW53:AW57)","v":0},{"$f":"SUM(AX53:AX57)","v":0},{"$f":"SUM(AY53:AY57)","v":0},{"$f":"SUM(AZ53:AZ57)","v":0},{"$f":"SUM(BA53:BA57)","v":0},{"$f":"SUM(BB53:BB57)","v":0},{"$f":"SUM(BC53:BC57)","v":0},{"$f":"SUM(BD53:BD57)","v":0},{"$f":"SUM(BE53:BE57)","v":0},{"$f":"SUM(BF53:BF57)","v":0},{"$f":"SUM(BG53:BG57)","v":0}]
[null,null,"Devine Fumey",null,null,{"$f":"IF(F50=\"A\",0.01,IF(F58>=3,IF(F58>E58,10,0),0))","v":0},{"$f":"IF(G50=\"A\",0.01,IF(G58>=3,IF(G58>F58,10,0),0))","v":0},{"$f":"IF(H50=\"A\",0.01,IF(H58>=3,IF(H58>G58,10,0),0))","v":0},{"$f":"IF(I50=\"A\",0.01,IF(I58>=3,IF(I58>H58,10,0),0))","v":0},{"$f":"IF(J50=\"A\",0.01,IF(J58>=3,IF(J58>I58,10,0),0))","v":0},{"$f":"IF(K50=\"A\",0.01,IF(K58>=3,IF(K58>J58,10,0),0))","v":0},{"$f":"IF(L50=\"A\",0.01,IF(L58>=3,IF(L58>K58,10,0),0))","v":0},{"$f":"IF(M50=\"A\",0.01,IF(M58>=3,IF(M58>L58,10,0),0))","v":0},{"$f":"IF(N50=\"A\",0.01,IF(N58>=3,IF(N58>M58,10,0),0))","v":0},{"$f":"IF(O50=\"A\",0.01,IF(O58>=3,IF(O58>N58,10,0),0))","v":0},{"$f":"IF(P50=\"A\",0.01,IF(P58>=3,IF(P58>O58,10,0),0))","v":0},{"$f":"IF(Q50=\"A\",0.01,IF(Q58>=3,IF(Q58>P58,10,0),0))","v":0},{"$f":"IF(R50=\"A\",0.01,IF(R58>=3,IF(R58>Q58,10,0),0))","v":0},{"$f":"IF(S50=\"A\",0.01,IF(S58>=3,IF(S58>R58,10,0),0))","v":0},{"$f":"IF(T50=\"A\",0.01,IF(T58>=3,IF(T58>S58,10,0),0))","v":0},{"$f":"IF(U43=\"A\",0.01,IF(U42=\"A\",0.01,IF(U41=\"A\",0.01,IF(U40=\"A\",0.01,IF(U58>=3,IF(U58>T58,10,0),0)))))","v":0},{"$f":"IF(V40=\"A\",0.01,IF(V41=\"A\",0.01,IF(V42=\"A\",0.01,IF(V43=\"A\",0.01,0))))","v":0},{"$f":"IF(W50=\"A\",0.01,IF(W58>=3,IF(W58>V58,10,0),0))","v":0},{"$f":"IF(X50=\"A\",0.01,IF(X58>=3,IF(X58>W58,10,0),0))","v":0},{"$f":"IF(Y40=\"A\",0.01,IF(Y41=\"A\",0.01,IF(Y42=\"A\",0.01,IF(Y43=\"A\",0.01,0))))","v":0},{"$f":"IF(Z50=\"A\",0.01,IF(Z58>=3,IF(Z58>Y58,10,0),0))","v":0},{"$f":"IF(AA50=\"A\",0.01,IF(AA58>=3,IF(AA58>Z58,10,0),0))","v":0},{"$f":"IF(AB40=\"A\",0.01,IF(AB41=\"A\",0.01,IF(AB42=\"A\",0.01,IF(AB43=\"A\",0.01,0))))","v":0},{"$f":"IF(AC50=\"A\",0.01,IF(AC58>=3,IF(AC58>AB58,10,0),0))","v":0},{"$f":"IF(AC107=\"\",0,IF(AD50=\"A\",0.01,IF(AD58>=3,IF(AD58>AC58,10,0),0)))","v":0},0,0,0,0,0,0,0,0,0,0,0,0,0,0,0,0,0,0,0,0,0,0,0,0,0,0,0,0,0,null,null,null,null,null,null,null,null,null,null,null,null,null,null,null,null,null,null,null,null,null,null,{"$f":"CD44","v":20},{"$f":"CE44","v":20},20,20,20,20,20,20,20,20,20,20,20,20,20,20,20,20,10,20,20,10,20,20,10,20,"?","?","?","?","?","?","?","?","?","?","?","?","?","?","?","?","?","?","?","?","?","?","?","?","?","?","?","?","?","?"]
[null,null," ",null,null,{"$f":"IF(E48=1,IF(F71=1,1,0),0)","v":0},{"$f":"IF(F48=1,IF(G71=1,1,0),0)","v":0},{"$f":"IF(G48=1,IF(H71=1,1,0),0)","v":0},0,{"$f":"IF(I48=1,IF(J71=1,1,0),0)","v":0},0,{"$f":"IF(K48=1,IF(L71=1,1,0),0)","v":0},0,{"$f":"IF(M48=1,IF(N71=1,1,0),0)","v":0},0,{"$f":"IF(O48=1,IF(P71=1,1,0),0)","v":0},0,0,0,0,0,0,0,0,0,0,0,0,0,0,0,0,0,0,0,0,0,0,0,0,0,0,0,0,0,0,0,0,0,0,0,0,0,0,0,0,0,0,0,null,null,null,null,null,null,null,null,null,null,null,null,null,null,null,null,null,null,null,null,null,null,{"$f":"FD44","v":"E"},{"$f":"FE44","v":"E"},{"$f":"FF44","v":"E"},{"$f":"FG44","v":"E"},{"$f":"FH44","v":"E"},{"$f":"FI44","v":"E"},{"$f":"FJ44","v":"E"},{"$f":"FK44","v":"E"},{"$f":"FL44","v":"E"},{"$f":"FM44","v":"E"},{"$f":"FN44","v":"E"},{"$f":"FO44","v":"E"},{"$f":"FP44","v":"E"},{"$f":"FQ44","v":"E"},{"$f":"FR44","v":"E"},{"$f":"FS44","v":"E"},{"$f":"FT44","v":"E"},{"$f":"FU44","v":"E"},{"$f":"FV44","v":"A"},{"$f":"FW44","v":"E"},{"$f":"FX44","v":"E"},{"$f":"FY44","v":"A"},{"$f":"FZ44","v":"E"},{"$f":"GA44","v":"E"},{"$f":"GB44","v":"A"},{"$f":"GC44","v":"E"},{"$f":"GD44","v":"."},{"$f":"GE44","v":"."},{"$f":"GF44","v":"."},{"$f":"GG44","v":"."},{"$f":"GH44","v":"."},{"$f":"GI44","v":"."},{"$f":"GJ44","v":"."},{"$f":"GK44","v":"."},{"$f":"GL44","v":"."},{"$f":"GM44","v":"."},{"$f":"GN44","v":"."},{"$f":"GO44","v":"."},{"$f":"GP44","v":"."},{"$f":"GQ44","v":"."},{"$f":"GR44","v":"."},{"$f":"GS44","v":"."},{"$f":"GT44","v":"."},{"$f":"GU44","v":"."},{"$f":"GV44","v":"."},{"$f":"GW44","v":"."},{"$f":"GX44","v":"."},{"$f":"GY44","v":"."},{"$f":"GZ44","v":"."},{"$f":"HA44","v":"."},{"$f":"HB44","v":"."},{"$f":"HC44","v":"."},{"$f":"HD44","v":"."},{"$f":"HE44","v":"."},{"$f":"HF44","v":"."},{"$f":"HG44","v":"."}]
[null,null," ",{"$f":"D38","v":15},{"$f":"E38","v":15},15,15,15,15,15,15,15,15,15,15,15,15,15,15,15,15,15,15,15,15,15,15,15,15,15,15,{"$f":"AF38","v":15},15,15,15,15,15,15,15,15,15,15,15,15,15,15,15,15,15,15,15,15,15,15,15,15,15,15,15]
["Individual","Errors","Team Name",1,2,3,4,5,6,7,8,9,10,11,12,13,14,15,16,17,{"$f":"IF(U39=\"\",\"\",U39)","v":""},{"$f":"IF(V39=\"\",\"\",V39)","v":""},18,{"$f":"IF(X39=\"\",\"\",X39)","v":""},{"$f":"IF(Y39=\"\",\"\",Y39)","v":""},19,{"$f":"IF(AA39=\"\",\"\",AA39)","v":""},{"$f":"IF(AB39=\"\",\"\",AB39)","v":""},20,{"$f":"IF(AD39=\"\",\"\",AD39)","v":""},{"$f":"IF(AE39=\"\",\"\",AE39)","v":""},"","","","","","","","","","","","","","","","","","","","","","","","","","","",""]
[{"$f":"IF(MAX(D63:BG63)=30,90,COUNTIF(D63:BG63,20)*20)","v":0},{"$f":"COUNTIF(D63:BG63,\"E\")","v":0},"Quizzer #1",{"$f":"IF(D$17=\"\",\"\",IF(D$17=0,0,\"\"))","v":""},"","","","","","","","","","","","","","","",{"$f":"IF(T$17=\"\",\"\",IF(T$17=0,0,\"\"))","v":""},"","","","","","","","","","","","","","","",{"$f":"IF(AJ$17=\"\",\"\",IF(AJ$17=0,0,\"\"))","v":""},"","","","","","","","","","","","","","","",{"$f":"IF(AZ$17=\"\",\"\",IF(AZ$17=0,0,\"\"))","v":""},"","","","","","","",null,null,null,null,null,null,null,null,null,null,null,null,null,null,null,null,null,null,null,null,null,null,{"$f":"Sheet3!D63","v":20},{"$f":"Sheet3!E63","v":20},{"$f":"Sheet3!F63","v":20},{"$f":"Sheet3!G63","v":20},{"$f":"Sheet3!H63","v":20},{"$f":"Sheet3!I63","v":20},{"$f":"Sheet3!J63","v":20},{"$f":"Sheet3!K63","v":20},{"$f":"Sheet3!L63","v":20},{"$f":"Sheet3!M63","v":20},{"$f":"Sheet3!N63","v":20},{"$f":"Sheet3!O63","v":20},{"$f":"Sheet3!P63","v":20},{"$f":"Sheet3!Q63","v":20},{"$f":"Sheet3!R63","v":20},{"$f":"Sheet3!S63","v":20},{"$f":"Sheet3!T63","v":20},{"$f":"Sheet3!U63","v":20},{"$f":"Sheet3!V63","v":10},{"$f":"Sheet3!W63","v":20},{"$f":"Sheet3!X63","v":20},{"$f":"Sheet3!Y63","v":10},{"$f":"Sheet3!Z63","v":20},{"$f":"Sheet3!AA63","v":20},{"$f":"Sheet3!AB63","v":10},{"$f":"Sheet3!AC63","v":20},{"$f":"Sheet3!AD63","v":"?"},{"$f":"Sheet3!AE63","v":"?"},{"$f":"Sheet3!AF63","v":"?"},{"$f":"Sheet3!AG63","v":"?"},{"$f":"Sheet3!AH63","v":"?"},{"$f":"Sheet3!AI63","v":"?"},{"$f":"Sheet3!AJ63","v":"?"},{"$f":"Sheet3!AK63","v":"?"},{"$f":"Sheet3!AL63","v":"?"},{"$f":"Sheet3!AM63","v":"?"},{"$f":"Sheet3!AN63","v":"?"},{"$f":"Sheet3!AO63","v":"?"},{"$f":"Sheet3!AP63","v":"?"},{"$f":"Sheet3!AQ63","v":"?"},{"$f":"Sheet3!AR63","v":"?"},{"$f":"Sheet3!AS63","v":"?"},{"$f":"Sheet3!AT63","v":"?"},{"$f":"Sheet3!AU63","v":"?"},{"$f":"Sheet3!AV63","v":"?"},{"$f":"Sheet3!AW63","v":"?"},{"$f":"Sheet3!AX63","v":"?"},{"$f":"Sheet3!AY63","v":"?"},{"$f":"Sheet3!AZ63","v":"?"},{"$f":"Sheet3!BA63","v":"?"},{"$f":"Sheet3!BB63","v":"?"},{"$f":"Sheet3!BC63","v":"?"},{"$f":"Sheet3!BD63","v":"?"},{"$f":"Sheet3!BE63","v":"?"},{"$f":"Sheet3!BF63","v":"?"},{"$f":"Sheet3!BG63","v":"?"},null,null,null,null,null,null,null,null,null,null,null,null,null,null,null,null,null,null,null,null,null,null,{"$f":"IF(CD63=\".\",\".\",D73)","v":"E"},{"$f":"IF(CE63=\".\",\".\",E73)","v":"E"},{"$f":"IF(CF63=\".\",\".\",F73)","v":"E"},{"$f":"IF(CG63=\".\",\".\",G73)","v":"E"},{"$f":"IF(CH63=\".\",\".\",H73)","v":"E"},{"$f":"IF(CI63=\".\",\".\",I73)","v":"E"},{"$f":"IF(CJ63=\".\",\".\",J73)","v":"E"},{"$f":"IF(CK63=\".\",\".\",K73)","v":"E"},{"$f":"IF(CL63=\".\",\".\",L73)","v":"E"},{"$f":"IF(CM63=\".\",\".\",M73)","v":"E"},{"$f":"IF(CN63=\".\",\".\",N73)","v":"E"},{"$f":"IF(CO63=\".\",\".\",O73)","v":"E"},{"$f":"IF(CP63=\".\",\".\",P73)","v":"E"},{"$f":"IF(CQ63=\".\",\".\",Q73)","v":"E"},{"$f":"IF(CR63=\".\",\".\",R73)","v":"E"},{"$f":"IF(CS63=\".\",\".\",S73)","v":"E"},{"$f":"IF(CT63=\".\",\".\",T73)","v":"E"},{"$f":"IF(CU63=\".\",\".\",U73)","v":"E"},{"$f":"IF(CV63=\".\",\".\",V73)","v":"A"},{"$f":"IF(CW63=\".\",\".\",W73)","v":"E"},{"$f":"IF(CX63=\".\",\".\",X73)","v":"E"},{"$f":"IF(CY63=\".\",\".\",Y73)","v":"A"},{"$f":"IF(CZ63=\".\",\".\",Z73)","v":"E"},{"$f":"IF(DA63=\".\",\".\",AA73)","v":"E"},{"$f":"IF(DB63=\".\",\".\",AB73)","v":"A"},{"$f":"IF(DC63=\".\",\".\",AC73)","v":"E"},{"$f":"IF(DD63=\".\",\".\",AD73)","v":"."},{"$f":"IF(DE63=\".\",\".\",AE73)","v":"."},{"$f":"IF(DF63=\".\",\".\",AF73)","v":"."},{"$f":"IF(DG63=\".\",\".\",AG73)","v":"."},{"$f":"IF(DH63=\".\",\".\",AH73)","v":"."},{"$f":"IF(DI63=\".\",\".\",AI73)","v":"."},{"$f":"IF(DJ63=\".\",\".\",AJ73)","v":"."},{"$f":"IF(DK63=\".\",\".\",AK73)","v":"."},{"$f":"IF(DL63=\".\",\".\",AL73)","v":"."},{"$f":"IF(DM63=\".\",\".\",AM73)","v":"."},{"$f":"IF(DN63=\".\",\".\",AN73)","v":"."},{"$f":"IF(DO63=\".\",\".\",AO73)","v":"."},{"$f":"IF(DP63=\".\",\".\",AP73)","v":"."},{"$f":"IF(DQ63=\".\",\".\",AQ73)","v":"."},{"$f":"IF(DR63=\".\",\".\",AR73)","v":"."},{"$f":"IF(DS63=\".\",\".\",AS73)","v":"."},{"$f":"IF(DT63=\".\",\".\",AT73)","v":"."},{"$f":"IF(DU63=\".\",\".\",AU73)","v":"."},{"$f":"IF(DV63=\".\",\".\",AV73)","v":"."},{"$f":"IF(DW63=\".\",\".\",AW73)","v":"."},{"$f":"IF(DX63=\".\",\".\",AX73)","v":"."},{"$f":"IF(DY63=\".\",\".\",AY73)","v":"."},{"$f":"IF(DZ63=\".\",\".\",AZ73)","v":"."},{"$f":"IF(EA63=\".\",\".\",BA73)","v":"."},{"$f":"IF(EB63=\".\",\".\",BB73)","v":"."},{"$f":"IF(EC63=\".\",\".\",BC73)","v":"."},{"$f":"IF(ED63=\".\",\".\",BD73)","v":"."},{"$f":"IF(EE63=\".\",\".\",BE73)","v":"."},{"$f":"IF(EF63=\".\",\".\",BF73)","v":"."},{"$f":"IF(EG63=\".\",\".\",BG73)","v":"."}]
[0,{"$f":"COUNTIF(D64:BG64,\"E\")","v":0},"Quizzer #2","","","","","","","","","","","","","","","","","","","","","","","","","","","","","","","","","","","","","","","","","","","","","","","","","","","","","","","","",null,null,null,null,null,null,null,null,null,null,null,null,null,null,null,null,null,null,null,null,null,null,{"$f":"Sheet3!D64","v":20},{"$f":"Sheet3!E64","v":20},{"$f":"Sheet3!F64","v":20},{"$f":"Sheet3!G64","v":20},{"$f":"Sheet3!H64","v":20},{"$f":"Sheet3!I64","v":20},{"$f":"Sheet3!J64","v":20},{"$f":"Sheet3!K64","v":20},{"$f":"Sheet3!L64","v":20},{"$f":"Sheet3!M64","v":20},{"$f":"Sheet3!N64","v":20},{"$f":"Sheet3!O64","v":20},{"$f":"Sheet3!P64","v":20},{"$f":"Sheet3!Q64","v":20},{"$f":"Sheet3!R64","v":20},{"$f":"Sheet3!S64","v":20},{"$f":"Sheet3!T64","v":20},{"$f":"Sheet3!U64","v":20},{"$f":"Sheet3!V64","v":10},{"$f":"Sheet3!W64","v":20},{"$f":"Sheet3!X64","v":20},{"$f":"Sheet3!Y64","v":10},{"$f":"Sheet3!Z64","v":20},{"$f":"Sheet3!AA64","v":20},{"$f":"Sheet3!AB64","v":10},{"$f":"Sheet3!AC64","v":20},{"$f":"Sheet3!AD64","v":"?"},{"$f":"Sheet3!AE64","v":"?"},{"$f":"Sheet3!AF64","v":"?"},{"$f":"Sheet3!AG64","v":"?"},{"$f":"Sheet3!AH64","v":"?"},{"$f":"Sheet3!AI64","v":"?"},{"$f":"Sheet3!AJ64","v":"?"},{"$f":"Sheet3!AK64","v":"?"},{"$f":"Sheet3!AL64","v":"?"},{"$f":"Sheet3!AM64","v":"?"},{"$f":"Sheet3!AN64","v":"?"},{"$f":"Sheet3!AO64","v":"?"},{"$f":"Sheet3!AP64","v":"?"},{"$f":"Sheet3!AQ64","v":"?"},{"$f":"Sheet3!AR64","v":"?"},{"$f":"Sheet3!AS64","v":"?"},{"$f":"Sheet3!AT64","v":"?"},{"$f":"Sheet3!AU64","v":"?"},{"$f":"Sheet3!AV64","v":"?"},{"$f":"Sheet3!AW64","v":"?"},{"$f":"Sheet3!AX64","v":"?"},{"$f":"Sheet3!AY64","v":"?"},{"$f":"Sheet3!AZ64","v":"?"},{"$f":"Sheet3!BA64","v":"?"},{"$f":"Sheet3!BB64","v":"?"},{"$f":"Sheet3!BC64","v":"?"},{"$f":"Sheet3!BD64","v":"?"},{"$f":"Sheet3!BE64","v":"?"},{"$f":"Sheet3!BF64","v":"?"},{"$f":"Sheet3!BG64","v":"?"},null,null,null,null,null,null,null,null,null,null,null,null,null,null,null,null,null,null,null,null,null,null,{"$f":"IF(CD64=\".\",\".\",D73)","v":"E"},{"$f":"IF(CE64=\".\",\".\",E73)","v":"E"},{"$f":"IF(CF64=\".\",\".\",F73)","v":"E"},{"$f":"IF(CG64=\".\",\".\",G73)","v":"E"},{"$f":"IF(CH64=\".\",\".\",H73)","v":"E"},{"$f":"IF(CI64=\".\",\".\",I73)","v":"E"},{"$f":"IF(CJ64=\".\",\".\",J73)","v":"E"},{"$f":"IF(CK64=\".\",\".\",K73)","v":"E"},{"$f":"IF(CL64=\".\",\".\",L73)","v":"E"},{"$f":"IF(CM64=\".\",\".\",M73)","v":"E"},{"$f":"IF(CN64=\".\",\".\",N73)","v":"E"},{"$f":"IF(CO64=\".\",\".\",O73)","v":"E"},{"$f":"IF(CP64=\".\",\".\",P73)","v":"E"},{"$f":"IF(CQ64=\".\",\".\",Q73)","v":"E"},{"$f":"IF(CR64=\".\",\".\",R73)","v":"E"},{"$f":"IF(CS64=\".\",\".\",S73)","v":"E"},{"$f":"IF(CT64=\".\",\".\",T73)","v":"E"},{"$f":"IF(CU64=\".\",\".\",U73)","v":"E"},{"$f":"IF(CV64=\".\",\".\",V73)","v":"A"},{"$f":"IF(CW64=\".\",\".\",W73)","v":"E"},{"$f":"IF(CX64=\".\",\".\",X73)","v":"E"},{"$f":"IF(CY64=\".\",\".\",Y73)","v":"A"},{"$f":"IF(CZ64=\".\",\".\",Z73)","v":"E"},{"$f":"IF(DA64=\".\",\".\",AA73)","v":"E"},{"$f":"IF(DB64=\".\",\".\",AB73)","v":"A"},{"$f":"IF(DC64=\".\",\".\",AC73)","v":"E"},{"$f":"IF(DD64=\".\",\".\",AD73)","v":"."},{"$f":"IF(DE64=\".\",\".\",AE73)","v":"."},{"$f":"IF(DF64=\".\",\".\",AF73)","v":"."},{"$f":"IF(DG64=\".\",\".\",AG73)","v":"."},{"$f":"IF(DH64=\".\",\".\",AH73)","v":"."},{"$f":"IF(DI64=\".\",\".\",AI73)","v":"."},{"$f":"IF(DJ64=\".\",\".\",AJ73)","v":"."},{"$f":"IF(DK64=\".\",\".\",AK73)","v":"."},{"$f":"IF(DL64=\".\",\".\",AL73)","v":"."},{"$f":"IF(DM64=\".\",\".\",AM73)","v":"."},{"$f":"IF(DN64=\".\",\".\",AN73)","v":"."},{"$f":"IF(DO64=\".\",\".\",AO73)","v":"."},{"$f":"IF(DP64=\".\",\".\",AP73)","v":"."},{"$f":"IF(DQ64=\".\",\".\",AQ73)","v":"."},{"$f":"IF(DR64=\".\",\".\",AR73)","v":"."},{"$f":"IF(DS64=\".\",\".\",AS73)","v":"."},{"$f":"IF(DT64=\".\",\".\",AT73)","v":"."},{"$f":"IF(DU64=\".\",\".\",AU73)","v":"."},{"$f":"IF(DV64=\".\",\".\",AV73)","v":"."},{"$f":"IF(DW64=\".\",\".\",AW73)","v":"."},{"$f":"IF(DX64=\".\",\".\",AX73)","v":"."},{"$f":"IF(DY64=\".\",\".\",AY73)","v":"."},{"$f":"IF(DZ64=\".\",\".\",AZ73)","v":"."},{"$f":"IF(EA64=\".\",\".\",BA73)","v":"."},{"$f":"IF(EB64=\".\",\".\",BB73)","v":"."},{"$f":"IF(EC64=\".\",\".\",BC73)","v":"."},{"$f":"IF(ED64=\".\",\".\",BD73)","v":"."},{"$f":"IF(EE64=\".\",\".\",BE73)","v":"."},{"$f":"IF(EF64=\".\",\".\",BF73)","v":"."},{"$f":"IF(EG64=\".\",\".\",BG73)","v":"."}]
[0,{"$f":"COUNTIF(D65:BG65,\"E\")","v":0},"Quizzer #3","","","","","","","","","","","","","","","","","","","","","","","","","","","","","","","","","","","","","","","","","","","","","","","","","","","","","","","","",null,null,null,null,null,null,null,null,null,null,null,null,null,null,null,null,null,null,null,null,null,null,{"$f":"Sheet3!D65","v":20},{"$f":"Sheet3!E65","v":20},{"$f":"Sheet3!F65","v":20},{"$f":"Sheet3!G65","v":20},{"$f":"Sheet3!H65","v":20},{"$f":"Sheet3!I65","v":20},{"$f":"Sheet3!J65","v":20},{"$f":"Sheet3!K65","v":20},{"$f":"Sheet3!L65","v":20},{"$f":"Sheet3!M65","v":20},{"$f":"Sheet3!N65","v":20},{"$f":"Sheet3!O65","v":20},{"$f":"Sheet3!P65","v":20},{"$f":"Sheet3!Q65","v":20},{"$f":"Sheet3!R65","v":20},{"$f":"Sheet3!S65","v":20},{"$f":"Sheet3!T65","v":20},{"$f":"Sheet3!U65","v":20},{"$f":"Sheet3!V65","v":10},{"$f":"Sheet3!W65","v":20},{"$f":"Sheet3!X65","v":20},{"$f":"Sheet3!Y65","v":10},{"$f":"Sheet3!Z65","v":20},{"$f":"Sheet3!AA65","v":20},{"$f":"Sheet3!AB65","v":10},{"$f":"Sheet3!AC65","v":20},{"$f":"Sheet3!AD65","v":"?"},{"$f":"Sheet3!AE65","v":"?"},{"$f":"Sheet3!AF65","v":"?"},{"$f":"Sheet3!AG65","v":"?"},{"$f":"Sheet3!AH65","v":"?"},{"$f":"Sheet3!AI65","v":"?"},{"$f":"Sheet3!AJ65","v":"?"},{"$f":"Sheet3!AK65","v":"?"},{"$f":"Sheet3!AL65","v":"?"},{"$f":"Sheet3!AM65","v":"?"},{"$f":"Sheet3!AN65","v":"?"},{"$f":"Sheet3!AO65","v":"?"},{"$f":"Sheet3!AP65","v":"?"},{"$f":"Sheet3!AQ65","v":"?"},{"$f":"Sheet3!AR65","v":"?"},{"$f":"Sheet3!AS65","v":"?"},{"$f":"Sheet3!AT65","v":"?"},{"$f":"Sheet3!AU65","v":"?"},{"$f":"Sheet3!AV65","v":"?"},{"$f":"Sheet3!AW65","v":"?"},{"$f":"Sheet3!AX65","v":"?"},{"$f":"Sheet3!AY65","v":"?"},{"$f":"Sheet3!AZ65","v":"?"},{"$f":"Sheet3!BA65","v":"?"},{"$f":"Sheet3!BB65","v":"?"},{"$f":"Sheet3!BC65","v":"?"},{"$f":"Sheet3!BD65","v":"?"},{"$f":"Sheet3!BE65","v":"?"},{"$f":"Sheet3!BF65","v":"?"},{"$f":"Sheet3!BG65","v":"?"},null,null,null,null,null,null,null,null,null,null,null,null,null,null,null,null,null,null,null,null,null,null,{"$f":"IF(CD65=\".\",\".\",D73)","v":"E"},{"$f":"IF(CE65=\".\",\".\",E73)","v":"E"},{"$f":"IF(CF65=\".\",\".\",F73)","v":"E"},{"$f":"IF(CG65=\".\",\".\",G73)","v":"E"},{"$f":"IF(CH65=\".\",\".\",H73)","v":"E"},{"$f":"IF(CI65=\".\",\".\",I73)","v":"E"},{"$f":"IF(CJ65=\".\",\".\",J73)","v":"E"},{"$f":"IF(CK65=\".\",\".\",K73)","v":"E"},{"$f":"IF(CL65=\".\",\".\",L73)","v":"E"},{"$f":"IF(CM65=\".\",\".\",M73)","v":"E"},{"$f":"IF(CN65=\".\",\".\",N73)","v":"E"},{"$f":"IF(CO65=\".\",\".\",O73)","v":"E"},{"$f":"IF(CP65=\".\",\".\",P73)","v":"E"},{"$f":"IF(CQ65=\".\",\".\",Q73)","v":"E"},{"$f":"IF(CR65=\".\",\".\",R73)","v":"E"},{"$f":"IF(CS65=\".\",\".\",S73)","v":"E"},{"$f":"IF(CT65=\".\",\".\",T73)","v":"E"},{"$f":"IF(CU65=\".\",\".\",U73)","v":"E"},{"$f":"IF(CV65=\".\",\".\",V73)","v":"A"},{"$f":"IF(CW65=\".\",\".\",W73)","v":"E"},{"$f":"IF(CX65=\".\",\".\",X73)","v":"E"},{"$f":"IF(CY65=\".\",\".\",Y73)","v":"A"},{"$f":"IF(CZ65=\".\",\".\",Z73)","v":"E"},{"$f":"IF(DA65=\".\",\".\",AA73)","v":"E"},{"$f":"IF(DB65=\".\",\".\",AB73)","v":"A"},{"$f":"IF(DC65=\".\",\".\",AC73)","v":"E"},{"$f":"IF(DD65=\".\",\".\",AD73)","v":"."},{"$f":"IF(DE65=\".\",\".\",AE73)","v":"."},{"$f":"IF(DF65=\".\",\".\",AF73)","v":"."},{"$f":"IF(DG65=\".\",\".\",AG73)","v":"."},{"$f":"IF(DH65=\".\",\".\",AH73)","v":"."},{"$f":"IF(DI65=\".\",\".\",AI73)","v":"."},{"$f":"IF(DJ65=\".\",\".\",AJ73)","v":"."},{"$f":"IF(DK65=\".\",\".\",AK73)","v":"."},{"$f":"IF(DL65=\".\",\".\",AL73)","v":"."},{"$f":"IF(DM65=\".\",\".\",AM73)","v":"."},{"$f":"IF(DN65=\".\",\".\",AN73)","v":"."},{"$f":"IF(DO65=\".\",\".\",AO73)","v":"."},{"$f":"IF(DP65=\".\",\".\",AP73)","v":"."},{"$f":"IF(DQ65=\".\",\".\",AQ73)","v":"."},{"$f":"IF(DR65=\".\",\".\",AR73)","v":"."},{"$f":"IF(DS65=\".\",\".\",AS73)","v":"."},{"$f":"IF(DT65=\".\",\".\",AT73)","v":"."},{"$f":"IF(DU65=\".\",\".\",AU73)","v":"."},{"$f":"IF(DV65=\".\",\".\",AV73)","v":"."},{"$f":"IF(DW65=\".\",\".\",AW73)","v":"."},{"$f":"IF(DX65=\".\",\".\",AX73)","v":"."},{"$f":"IF(DY65=\".\",\".\",AY73)","v":"."},{"$f":"IF(DZ65=\".\",\".\",AZ73)","v":"."},{"$f":"IF(EA65=\".\",\".\",BA73)","v":"."},{"$f":"IF(EB65=\".\",\".\",BB73)","v":"."},{"$f":"IF(EC65=\".\",\".\",BC73)","v":"."},{"$f":"IF(ED65=\".\",\".\",BD73)","v":"."},{"$f":"IF(EE65=\".\",\".\",BE73)","v":"."},{"$f":"IF(EF65=\".\",\".\",BF73)","v":"."},{"$f":"IF(EG65=\".\",\".\",BG73)","v":"."}]
[0,{"$f":"COUNTIF(D66:BG66,\"E\")","v":0},"Quizzer #4","","","","","","","","","","","","","","","","","","","","","","","","","","","","","","","","","","","","","","","","","","","","","","","","","","","","","","","","",null,null,null,null,null,null,null,null,null,null,null,null,null,null,null,null,null,null,null,null,null,null,{"$f":"Sheet3!D66","v":20},{"$f":"Sheet3!E66","v":20},{"$f":"Sheet3!F66","v":20},{"$f":"Sheet3!G66","v":20},{"$f":"Sheet3!H66","v":20},{"$f":"Sheet3!I66","v":20},{"$f":"Sheet3!J66","v":20},{"$f":"Sheet3!K66","v":20},{"$f":"Sheet3!L66","v":20},{"$f":"Sheet3!M66","v":20},{"$f":"Sheet3!N66","v":20},{"$f":"Sheet3!O66","v":20},{"$f":"Sheet3!P66","v":20},{"$f":"Sheet3!Q66","v":20},{"$f":"Sheet3!R66","v":20},{"$f":"Sheet3!S66","v":20},{"$f":"Sheet3!T66","v":20},{"$f":"Sheet3!U66","v":20},{"$f":"Sheet3!V66","v":10},{"$f":"Sheet3!W66","v":20},{"$f":"Sheet3!X66","v":20},{"$f":"Sheet3!Y66","v":10},{"$f":"Sheet3!Z66","v":20},{"$f":"Sheet3!AA66","v":20},{"$f":"Sheet3!AB66","v":10},{"$f":"Sheet3!AC66","v":20},{"$f":"Sheet3!AD66","v":"?"},{"$f":"Sheet3!AE66","v":"?"},{"$f":"Sheet3!AF66","v":"?"},{"$f":"Sheet3!AG66","v":"?"},{"$f":"Sheet3!AH66","v":"?"},{"$f":"Sheet3!AI66","v":"?"},{"$f":"Sheet3!AJ66","v":"?"},{"$f":"Sheet3!AK66","v":"?"},{"$f":"Sheet3!AL66","v":"?"},{"$f":"Sheet3!AM66","v":"?"},{"$f":"Sheet3!AN66","v":"?"},{"$f":"Sheet3!AO66","v":"?"},{"$f":"Sheet3!AP66","v":"?"},{"$f":"Sheet3!AQ66","v":"?"},{"$f":"Sheet3!AR66","v":"?"},{"$f":"Sheet3!AS66","v":"?"},{"$f":"Sheet3!AT66","v":"?"},{"$f":"Sheet3!AU66","v":"?"},{"$f":"Sheet3!AV66","v":"?"},{"$f":"Sheet3!AW66","v":"?"},{"$f":"Sheet3!AX66","v":"?"},{"$f":"Sheet3!AY66","v":"?"},{"$f":"Sheet3!AZ66","v":"?"},{"$f":"Sheet3!BA66","v":"?"},{"$f":"Sheet3!BB66","v":"?"},{"$f":"Sheet3!BC66","v":"?"},{"$f":"Sheet3!BD66","v":"?"},{"$f":"Sheet3!BE66","v":"?"},{"$f":"Sheet3!BF66","v":"?"},{"$f":"Sheet3!BG66","v":"?"},null,null,null,null,null,null,null,null,null,null,null,null,null,null,null,null,null,null,null,null,null,null,{"$f":"IF(CD66=\".\",\".\",D73)","v":"E"},{"$f":"IF(CE66=\".\",\".\",E73)","v":"E"},{"$f":"IF(CF66=\".\",\".\",F73)","v":"E"},{"$f":"IF(CG66=\".\",\".\",G73)","v":"E"},{"$f":"IF(CH66=\".\",\".\",H73)","v":"E"},{"$f":"IF(CI66=\".\",\".\",I73)","v":"E"},{"$f":"IF(CJ66=\".\",\".\",J73)","v":"E"},{"$f":"IF(CK66=\".\",\".\",K73)","v":"E"},{"$f":"IF(CL66=\".\",\".\",L73)","v":"E"},{"$f":"IF(CM66=\".\",\".\",M73)","v":"E"},{"$f":"IF(CN66=\".\",\".\",N73)","v":"E"},{"$f":"IF(CO66=\".\",\".\",O73)","v":"E"},{"$f":"IF(CP66=\".\",\".\",P73)","v":"E"},{"$f":"IF(CQ66=\".\",\".\",Q73)","v":"E"},{"$f":"IF(CR66=\".\",\".\",R73)","v":"E"},{"$f":"IF(CS66=\".\",\".\",S73)","v":"E"},{"$f":"IF(CT66=\".\",\".\",T73)","v":"E"},{"$f":"IF(CU66=\".\",\".\",U73)","v":"E"},{"$f":"IF(CV66=\".\",\".\",V73)","v":"A"},{"$f":"IF(CW66=\".\",\".\",W73)","v":"E"},{"$f":"IF(CX66=\".\",\".\",X73)","v":"E"},{"$f":"IF(CY66=\".\",\".\",Y73)","v":"A"},{"$f":"IF(CZ66=\".\",\".\",Z73)","v":"E"},{"$f":"IF(DA66=\".\",\".\",AA73)","v":"E"},{"$f":"IF(DB66=\".\",\".\",AB73)","v":"A"},{"$f":"IF(DC66=\".\",\".\",AC73)","v":"E"},{"$f":"IF(DD66=\".\",\".\",AD73)","v":"."},{"$f":"IF(DE66=\".\",\".\",AE73)","v":"."},{"$f":"IF(DF66=\".\",\".\",AF73)","v":"."},{"$f":"IF(DG66=\".\",\".\",AG73)","v":"."},{"$f":"IF(DH66=\".\",\".\",AH73)","v":"."},{"$f":"IF(DI66=\".\",\".\",AI73)","v":"."},{"$f":"IF(DJ66=\".\",\".\",AJ73)","v":"."},{"$f":"IF(DK66=\".\",\".\",AK73)","v":"."},{"$f":"IF(DL66=\".\",\".\",AL73)","v":"."},{"$f":"IF(DM66=\".\",\".\",AM73)","v":"."},{"$f":"IF(DN66=\".\",\".\",AN73)","v":"."},{"$f":"IF(DO66=\".\",\".\",AO73)","v":"."},{"$f":"IF(DP66=\".\",\".\",AP73)","v":"."},{"$f":"IF(DQ66=\".\",\".\",AQ73)","v":"."},{"$f":"IF(DR66=\".\",\".\",AR73)","v":"."},{"$f":"IF(DS66=\".\",\".\",AS73)","v":"."},{"$f":"IF(DT66=\".\",\".\",AT73)","v":"."},{"$f":"IF(DU66=\".\",\".\",AU73)","v":"."},{"$f":"IF(DV66=\".\",\".\",AV73)","v":"."},{"$f":"IF(DW66=\".\",\".\",AW73)","v":"."},{"$f":"IF(DX66=\".\",\".\",AX73)","v":"."},{"$f":"IF(DY66=\".\",\".\",AY73)","v":"."},{"$f":"IF(DZ66=\".\",\".\",AZ73)","v":"."},{"$f":"IF(EA66=\".\",\".\",BA73)","v":"."},{"$f":"IF(EB66=\".\",\".\",BB73)","v":"."},{"$f":"IF(EC66=\".\",\".\",BC73)","v":"."},{"$f":"IF(ED66=\".\",\".\",BD73)","v":"."},{"$f":"IF(EE66=\".\",\".\",BE73)","v":"."},{"$f":"IF(EF66=\".\",\".\",BF73)","v":"."},{"$f":"IF(EG66=\".\",\".\",BG73)","v":"."}]
[0,{"$f":"COUNTIF(D67:BG67,\"E\")","v":0},null,"","","","","","","","","","","","","","","","","","","","","","","","","","","","","","","","","","","","","","","","","","","","","","","","","","","","","","","","",null,null,null,null,null,null,null,null,null,null,null,null,null,null,null,null,null,null,null,null,null,null,{"$f":"Sheet3!D67","v":20},{"$f":"Sheet3!E67","v":20},{"$f":"Sheet3!F67","v":20},{"$f":"Sheet3!G67","v":20},{"$f":"Sheet3!H67","v":20},{"$f":"Sheet3!I67","v":20},{"$f":"Sheet3!J67","v":20},{"$f":"Sheet3!K67","v":20},{"$f":"Sheet3!L67","v":20},{"$f":"Sheet3!M67","v":20},{"$f":"Sheet3!N67","v":20},{"$f":"Sheet3!O67","v":20},{"$f":"Sheet3!P67","v":20},{"$f":"Sheet3!Q67","v":20},{"$f":"Sheet3!R67","v":20},{"$f":"Sheet3!S67","v":20},{"$f":"Sheet3!T67","v":20},{"$f":"Sheet3!U67","v":20},{"$f":"Sheet3!V67","v":10},{"$f":"Sheet3!W67","v":20},{"$f":"Sheet3!X67","v":20},{"$f":"Sheet3!Y67","v":10},{"$f":"Sheet3!Z67","v":20},{"$f":"Sheet3!AA67","v":20},{"$f":"Sheet3!AB67","v":10},{"$f":"Sheet3!AC67","v":20},{"$f":"Sheet3!AD67","v":"?"},{"$f":"Sheet3!AE67","v":"?"},{"$f":"Sheet3!AF67","v":"?"},{"$f":"Sheet3!AG67","v":"?"},{"$f":"Sheet3!AH67","v":"?"},{"$f":"Sheet3!AI67","v":"?"},{"$f":"Sheet3!AJ67","v":"?"},{"$f":"Sheet3!AK67","v":"?"},{"$f":"Sheet3!AL67","v":"?"},{"$f":"Sheet3!AM67","v":"?"},{"$f":"Sheet3!AN67","v":"?"},{"$f":"Sheet3!AO67","v":"?"},{"$f":"Sheet3!AP67","v":"?"},{"$f":"Sheet3!AQ67","v":"?"},{"$f":"Sheet3!AR67","v":"?"},{"$f":"Sheet3!AS67","v":"?"},{"$f":"Sheet3!AT67","v":"?"},{"$f":"Sheet3!AU67","v":"?"},{"$f":"Sheet3!AV67","v":"?"},{"$f":"Sheet3!AW67","v":"?"},{"$f":"Sheet3!AX67","v":"?"},{"$f":"Sheet3!AY67","v":"?"},{"$f":"Sheet3!AZ67","v":"?"},{"$f":"Sheet3!BA67","v":"?"},{"$f":"Sheet3!BB67","v":"?"},{"$f":"Sheet3!BC67","v":"?"},{"$f":"Sheet3!BD67","v":"?"},{"$f":"Sheet3!BE67","v":"?"},{"$f":"Sheet3!BF67","v":"?"},{"$f":"Sheet3!BG67","v":"?"},null,null,null,null,null,null,null,null,null,null,null,null,null,null,null,null,null,null,null,null,null,null,{"$f":"IF(CD67=\".\",\".\",D73)","v":"E"},{"$f":"IF(CE67=\".\",\".\",E73)","v":"E"},{"$f":"IF(CF67=\".\",\".\",F73)","v":"E"},{"$f":"IF(CG67=\".\",\".\",G73)","v":"E"},{"$f":"IF(CH67=\".\",\".\",H73)","v":"E"},{"$f":"IF(CI67=\".\",\".\",I73)","v":"E"},{"$f":"IF(CJ67=\".\",\".\",J73)","v":"E"},{"$f":"IF(CK67=\".\",\".\",K73)","v":"E"},{"$f":"IF(CL67=\".\",\".\",L73)","v":"E"},{"$f":"IF(CM67=\".\",\".\",M73)","v":"E"},{"$f":"IF(CN67=\".\",\".\",N73)","v":"E"},{"$f":"IF(CO67=\".\",\".\",O73)","v":"E"},{"$f":"IF(CP67=\".\",\".\",P73)","v":"E"},{"$f":"IF(CQ67=\".\",\".\",Q73)","v":"E"},{"$f":"IF(CR67=\".\",\".\",R73)","v":"E"},{"$f":"IF(CS67=\".\",\".\",S73)","v":"E"},{"$f":"IF(CT67=\".\",\".\",T73)","v":"E"},{"$f":"IF(CU67=\".\",\".\",U73)","v":"E"},{"$f":"IF(CV67=\".\",\".\",V73)","v":"A"},{"$f":"IF(CW67=\".\",\".\",W73)","v":"E"},{"$f":"IF(CX67=\".\",\".\",X73)","v":"E"},{"$f":"IF(CY67=\".\",\".\",Y73)","v":"A"},{"$f":"IF(CZ67=\".\",\".\",Z73)","v":"E"},{"$f":"IF(DA67=\".\",\".\",AA73)","v":"E"},{"$f":"IF(DB67=\".\",\".\",AB73)","v":"A"},{"$f":"IF(DC67=\".\",\".\",AC73)","v":"E"},{"$f":"IF(DD67=\".\",\".\",AD73)","v":"."},{"$f":"IF(DE67=\".\",\".\",AE73)","v":"."},{"$f":"IF(DF67=\".\",\".\",AF73)","v":"."},{"$f":"IF(DG67=\".\",\".\",AG73)","v":"."},{"$f":"IF(DH67=\".\",\".\",AH73)","v":"."},{"$f":"IF(DI67=\".\",\".\",AI73)","v":"."},{"$f":"IF(DJ67=\".\",\".\",AJ73)","v":"."},{"$f":"IF(DK67=\".\",\".\",AK73)","v":"."},{"$f":"IF(DL67=\".\",\".\",AL73)","v":"."},{"$f":"IF(DM67=\".\",\".\",AM73)","v":"."},{"$f":"IF(DN67=\".\",\".\",AN73)","v":"."},{"$f":"IF(DO67=\".\",\".\",AO73)","v":"."},{"$f":"IF(DP67=\".\",\".\",AP73)","v":"."},{"$f":"IF(DQ67=\".\",\".\",AQ73)","v":"."},{"$f":"IF(DR67=\".\",\".\",AR73)","v":"."},{"$f":"IF(DS67=\".\",\".\",AS73)","v":"."},{"$f":"IF(DT67=\".\",\".\",AT73)","v":"."},{"$f":"IF(DU67=\".\",\".\",AU73)","v":"."},{"$f":"IF(DV67=\".\",\".\",AV73)","v":"."},{"$f":"IF(DW67=\".\",\".\",AW73)","v":"."},{"$f":"IF(DX67=\".\",\".\",AX73)","v":"."},{"$f":"IF(DY67=\".\",\".\",AY73)","v":"."},{"$f":"IF(DZ67=\".\",\".\",AZ73)","v":"."},{"$f":"IF(EA67=\".\",\".\",BA73)","v":"."},{"$f":"IF(EB67=\".\",\".\",BB73)","v":"."},{"$f":"IF(EC67=\".\",\".\",BC73)","v":"."},{"$f":"IF(ED67=\".\",\".\",BD73)","v":"."},{"$f":"IF(EE67=\".\",\".\",BE73)","v":"."},{"$f":"IF(EF67=\".\",\".\",BF73)","v":"."},{"$f":"IF(EG67=\".\",\".\",BG73)","v":"."}]
[{"$f":"ROUND(BG68,0)","v":0},{"$f":"B70","v":0},0.25,{"$f":"SUM(D63:D67)+D75+0.25","v":0.25},{"$f":"D68+SUM(E63:E67)+E75","v":0.25},{"$f":"E68+SUM(F63:F67)+F75+F82","v":0.25},{"$f":"F68+SUM(G63:G67)+G75+G82","v":0.25},{"$f":"G68+SUM(H63:H67)+H75+H82","v":0.25},{"$f":"H68+SUM(I63:I67)+I75+I82","v":0.25},0.25,0.25,0.25,0.25,0.25,0.25,0.25,0.25,0.25,0.25,0.25,0.25,0.25,0.25,0.25,0.25,0.25,0.25,0.25,0.25,0.25,0.25,0.25,0.25,0.25,0.25,0.25,0.25,0.25,0.25,0.25,0.25,0.25,0.25,0.25,0.25,0.25,0.25,0.25,0.25,0.25,0.25,0.25,0.25,0.25,0.25,0.25,0.25,0.25,0.25]
["Team Total","Olympic Pts.",{"$f":"IF(Sheet3!B137=0,IF(Sheet3!B138=0,Sheet3!C126,Sheet3!C127),IF(Sheet3!B138=0,Sheet3!C129,Sheet3!C128))","v":"Timeout = T, Foul = F ------------>"},null,null,null,null,null,null,null,null,null,null,null,null,null,null,null,null,null,null,null,null,null,null,null,null,null,null,null,null,null,null,null,null,null,null,null,null,null,null,null,null,null,null,null,null,null,null,null,null,null,null,null,null,null,null,null,null,null,null,null,null,null,null,null,null,null,null,null,null,null,null,null,null,null,null,null,null,null,null,{"$f":"CD63","v":20},{"$f":"CE63","v":20},20,20,20,20,20,20,20,20,20,20,20,20,20,20,20,20,10,20,20,10,20,20,10,20,"?","?","?","?","?","?","?","?","?","?","?","?","?","?","?","?","?","?","?","?","?","?","?","?","?","?","?","?","?","?"]
[null,{"$f":"AB126","v":0},"Hannah Trombley",null,{"$f":"COUNTIF(D63:D67,\"E\")","v":0},{"$f":"COUNTIF(D63:E67,\"E\")","v":0},{"$f":"COUNTIF(E63:F67,\"E\")","v":0},{"$f":"COUNTIF(F63:G67,\"E\")","v":0},{"$f":"COUNTIF(G63:H67,\"E\")","v":0},{"$f":"COUNTIF(H63:I67,\"E\")","v":0},{"$f":"COUNTIF(I63:J67,\"E\")","v":0},{"$f":"COUNTIF(J63:K67,\"E\")","v":0},{"$f":"COUNTIF(K63:L67,\"E\")","v":0},{"$f":"COUNTIF(L63:M67,\"E\")","v":0},{"$f":"COUNTIF(M63:N67,\"E\")","v":0},{"$f":"COUNTIF(N63:O67,\"E\")","v":0},{"$f":"COUNTIF(O63:P67,\"E\")","v":0},{"$f":"COUNTIF(P63:Q67,\"E\")","v":0},{"$f":"COUNTIF(Q63:R67,\"E\")","v":0},{"$f":"COUNTIF(R63:S67,\"E\")","v":0},{"$f":"COUNTIF(S63:T67,\"E\")","v":0},{"$f":"COUNTIF(T63:U67,\"E\")","v":0},{"$f":"COUNTIF(U63:V67,\"E\")","v":0},{"$f":"COUNTIF(V63:W67,\"E\")","v":0},{"$f":"COUNTIF(W63:X67,\"E\")","v":0},{"$f":"COUNTIF(X63:Y67,\"E\")","v":0},{"$f":"COUNTIF(Y63:Z67,\"E\")","v":0},{"$f":"COUNTIF(Z63:AA67,\"E\")","v":0},{"$f":"COUNTIF(AA63:AB67,\"E\")","v":0},{"$f":"COUNTIF(AB63:AC67,\"E\")","v":0},{"$f":"COUNTIF(AC63:AD67,\"E\")","v":0},{"$f":"COUNTIF(AD63:AE67,\"E\")","v":0},{"$f":"COUNTIF(AE63:AF67,\"E\")","v":0},{"$f":"COUNTIF(AF63:AG67,\"E\")","v":0},{"$f":"COUNTIF(AG63:AH67,\"E\")","v":0},{"$f":"COUNTIF(AH63:AI67,\"E\")","v":0},{"$f":"COUNTIF(AI63:AJ67,\"E\")","v":0},{"$f":"COUNTIF(AJ63:AK67,\"E\")","v":0},{"$f":"COUNTIF(AK63:AL67,\"E\")","v":0},{"$f":"COUNTIF(AL63:AM67,\"E\")","v":0},{"$f":"COUNTIF(AM63:AN67,\"E\")","v":0},{"$f":"COUNTIF(AN63:AO67,\"E\")","v":0},{"$f":"COUNTIF(AO63:AP67,\"E\")","v":0},{"$f":"COUNTIF(AP63:AQ67,\"E\")","v":0},{"$f":"COUNTIF(AQ63:AR67,\"E\")","v":0},{"$f":"COUNTIF(AR63:AS67,\"E\")","v":0},{"$f":"COUNTIF(AS63:AT67,\"E\")","v":0},{"$f":"COUNTIF(AT63:AU67,\"E\")","v":0},{"$f":"COUNTIF(AU63:AV67,\"E\")","v":0},{"$f":"COUNTIF(AV63:AW67,\"E\")","v":0},{"$f":"COUNTIF(AW63:AX67,\"E\")","v":0},{"$f":"COUNTIF(AX63:AY67,\"E\")","v":0},{"$f":"COUNTIF(AY63:AZ67,\"E\")","v":0},{"$f":"COUNTIF(AZ63:BA67,\"E\")","v":0},{"$f":"COUNTIF(BA63:BB67,\"E\")","v":0},{"$f":"COUNTIF(BB63:BC67,\"E\")","v":0},{"$f":"COUNTIF(BC63:BD67,\"E\")","v":0},{"$f":"COUNTIF(BD63:BE67,\"E\")","v":0},{"$f":"COUNTIF(BE63:BF67,\"E\")","v":0},null,null,null,null,null,null,null,null,null,null,null,null,null,null,null,null,null,null,null,null,null,null,{"$f":"FD63","v":"E"},{"$f":"FE63","v":"E"},{"$f":"FF63","v":"E"},{"$f":"FG63","v":"E"},{"$f":"FH63","v":"E"},{"$f":"FI63","v":"E"},{"$f":"FJ63","v":"E"},{"$f":"FK63","v":"E"},{"$f":"FL63","v":"E"},{"$f":"FM63","v":"E"},{"$f":"FN63","v":"E"},{"$f":"FO63","v":"E"},{"$f":"FP63","v":"E"},{"$f":"FQ63","v":"E"},{"$f":"FR63","v":"E"},{"$f":"FS63","v":"E"},{"$f":"FT63","v":"E"},{"$f":"FU63","v":"E"},{"$f":"FV63","v":"A"},{"$f":"FW63","v":"E"},{"$f":"FX63","v":"E"},{"$f":"FY63","v":"A"},{"$f":"FZ63","v":"E"},{"$f":"GA63","v":"E"},{"$f":"GB63","v":"A"},{"$f":"GC63","v":"E"},{"$f":"GD63","v":"."},{"$f":"GE63","v":"."},{"$f":"GF63","v":"."},{"$f":"GG63","v":"."},{"$f":"GH63","v":"."},{"$f":"GI63","v":"."},{"$f":"GJ63","v":"."},{"$f":"GK63","v":"."},{"$f":"GL63","v":"."},{"$f":"GM63","v":"."},{"$f":"GN63","v":"."},{"$f":"GO63","v":"."},{"$f":"GP63","v":"."},{"$f":"GQ63","v":"."},{"$f":"GR63","v":"."},{"$f":"GS63","v":"."},{"$f":"GT63","v":"."},{"$f":"GU63","v":"."},{"$f":"GV63","v":"."},{"$f":"GW63","v":"."},{"$f":"GX63","v":"."},{"$f":"GY63","v":"."},{"$f":"GZ63","v":"."},{"$f":"HA63","v":"."},{"$f":"HB63","v":"."},{"$f":"HC63","v":"."},{"$f":"HD63","v":"."},{"$f":"HE63","v":"."},{"$f":"HF63","v":"."},{"$f":"HG63","v":"."}]
[null,0,"Rachel Gervais",null,{"$f":"COUNTIF(D63:D67,\"E\")","v":0},{"$f":"COUNTIF(E63:E67,\"E\")","v":0},{"$f":"COUNTIF(F63:F67,\"E\")","v":0},{"$f":"COUNTIF(G63:G67,\"E\")","v":0},0,0,0,0,0,0,0,0,0,0,0,0,0,0,0,0,0,0,0,0,0,0,0,0,0,0,0,0,0,0,0,0,0,0,0,0,0,0,0,0,0,0,0,0,0,0,0,0,0,0,0,null,null,null,null,null,null,null,null,null,null,null,null,null,null,null,null,null,null,null,null,null,null,0,1,2,3,4,5,6,7,8,9,10,11,12,13,14,15,16,17,18,19,20,21,22,23,24,25,26,27,28,29,30,31,32,33,34,35,36,37,38,39,40,41,42,43,44,45,46,47,48,49,50,51,52,53,54,55]
[null,{"$f":"IF(BG81>=3,2,0)","v":0},"Lorissa Morgan",20,{"$f":"IF(E71=1,\".\",20)","v":20},{"$f":"IF(F83=1,\".\",IF(F71=1,\".\",IF(SUM(F47,F24)<2,20,10)))","v":20},20,20,20,20,20,20,20,20,20,20,20,20,20,20,20,{"$f":"IF(COUNTIF(T63:U66,\"\")<8,\".\",10)","v":10},20,{"$f":"IF(COUNTIF(W63:W66,\"\")<4,\".\",20)","v":20},{"$f":"IF(COUNTIF(W63:X66,\"\")<8,\">\",10)","v":10},20,{"$f":"IF(COUNTIF(Z63:Z66,\"\")<4,\".\",20)","v":20},{"$f":"IF(COUNTIF(Z63:AA66,\"\")<8,\">\",10)","v":10},20,{"$f":"AD120","v":"?"},{"$f":"AE120","v":"?"},"?","?","?","?","?","?","?","?","?","?","?","?","?","?","?","?","?","?","?","?","?","?","?","?","?","?","?","?"]
[null,{"$f":"IF(B72=2,0,IF(B70+B71=10,IF(A68>=130,1,0),IF(B70+B71=5,IF(A68>=100,1,0),IF(A68>=70,1,0))))","v":0},"Brittany Moncrieff","E",{"$f":"IF(E71=1,\".\",\"E\")","v":"E"},{"$f":"IF(F72=\".\",\".\",IF(SUM(F47,F24)<2,\"E\",\"A\"))","v":"E"},{"$f":"IF(G72=\".\",\".\",IF(SUM(G47,G24)<2,\"E\",\"A\"))","v":"E"},"E",{"$f":"IF(I72=\".\",\".\",IF(SUM(I47,I24)<2,\"E\",\"A\"))","v":"E"},"E","E","E","E","E","E","E","E","E","E","E","E",{"$f":"IF(V72=10,\"A\",\".\")","v":"A"},"E",{"$f":"IF(X72=20,\"E\",\".\")","v":"E"},{"$f":"IF(Y72=10,\"A\",\".\")","v":"A"},"E",{"$f":"IF(AA72=20,\"E\",\".\")","v":"E"},{"$f":"IF(AB72=10,\"A\",\".\")","v":"A"},"E",{"$f":"AD121","v":"."},".",".",".",".",".",".",".",".",".",".",".",".",".",".",".",".",".",".",".",".",".",".",".",".",".",".",".",".",".",null,null,null,null,null,null,null,null,null,null,null,null,null,null,null,null,null,null,null,null,null,null,{"$f":"CD64","v":20},{"$f":"CE64","v":20},20,20,20,20,20,20,20,20,20,20,20,20,20,20,20,20,10,20,20,10,20,20,10,20,"?","?","?","?","?","?","?","?","?","?","?","?","?","?","?","?","?","?","?","?","?","?","?","?","?","?","?","?","?","?"]
[null,null,"Ronald Mahon",{"$f":"IF(D61=15,\".\",IF(D61=0,0,\"\"))","v":"."},{"$f":"IF(E61=15,\".\",IF(E61=0,0,\"\"))","v":"."},".",".",".",".",".",".",".",".",".",".",".",".",".",".",".",{"$f":"IF(U61=0,0,IF(U$84=0,\".\",\"\"))","v":"."},{"$f":"IF(V61=0,0,IF(V$84=0,\".\",\"\"))","v":"."},{"$f":"IF(W61=15,\".\",IF(W61=0,0,\"\"))","v":"."},{"$f":"IF(X61=0,0,IF(X$84=0,\".\",\"\"))","v":"."},{"$f":"IF(Y61=0,0,IF(Y$84=0,\".\",\"\"))","v":"."},{"$f":"IF(Z61=15,\".\",IF(Z61=0,0,\"\"))","v":"."},{"$f":"IF(AA61=0,0,IF(AA$84=0,\".\",\"\"))","v":"."},{"$f":"IF(AB61=0,0,IF(AB$84=0,\".\",\"\"))","v":"."},{"$f":"IF(AC61=15,\".\",IF(AC61=0,0,\"\"))","v":"."},{"$f":"IF(AD61=15,\".\",IF(AD61=0,0,\"\"))","v":"."},".",".",".",".",".",".",".",".",".",".",".",".",".",".",".",".",".",".",".",".",".",".",".",".",".",".",".",".",".",null,null,null,null,null,null,null,null,null,null,null,null,null,null,null,null,null,null,null,null,null,null,{"$f":"FD64","v":"E"},{"$f":"FE64","v":"E"},{"$f":"FF64","v":"E"},{"$f":"FG64","v":"E"},{"$f":"FH64","v":"E"},{"$f":"FI64","v":"E"},{"$f":"FJ64","v":"E"},{"$f":"FK64","v":"E"},{"$f":"FL64","v":"E"},{"$f":"FM64","v":"E"},{"$f":"FN64","v":"E"},{"$f":"FO64","v":"E"},{"$f":"FP64","v":"E"},{"$f":"FQ64","v":"E"},{"$f":"FR64","v":"E"},{"$f":"FS64","v":"E"},{"$f":"FT64","v":"E"},{"$f":"FU64","v":"E"},{"$f":"FV64","v":"A"},{"$f":"FW64","v":"E"},{"$f":"FX64","v":"E"},{"$f":"FY64","v":"A"},{"$f":"FZ64","v":"E"},{"$f":"GA64","v":"E"},{"$f":"GB64","v":"A"},{"$f":"GC64","v":"E"},{"$f":"GD64","v":"."},{"$f":"GE64","v":"."},{"$f":"GF64","v":"."},{"$f":"GG64","v":"."},{"$f":"GH64","v":"."},{"$f":"GI64","v":"."},{"$f":"GJ64","v":"."},{"$f":"GK64","v":"."},{"$f":"GL64","v":"."},{"$f":"GM64","v":"."},{"$f":"GN64","v":"."},{"$f":"GO64","v":"."},{"$f":"GP64","v":"."},{"$f":"GQ64","v":"."},{"$f":"GR64","v":"."},{"$f":"GS64","v":"."},{"$f":"GT64","v":"."},{"$f":"GU64","v":"."},{"$f":"GV64","v":"."},{"$f":"GW64","v":"."},{"$f":"GX64","v":"."},{"$f":"GY64","v":"."},{"$f":"GZ64","v":"."},{"$f":"HA64","v":"."},{"$f":"HB64","v":"."},{"$f":"HC64","v":"."},{"$f":"HD64","v":"."},{"$f":"HE64","v":"."},{"$f":"HF64","v":"."},{"$f":"HG64","v":"."}]
[null,null,"Jordan Hatfield",{"$f":"Sheet3!D139+IF(E71=0,0,-0.01)","v":0},{"$f":"Sheet3!E139+IF(F71=0,0,-0.01)","v":0},{"$f":"Sheet3!F139+IF(G71=0,0,-0.01)","v":0},{"$f":"Sheet3!G139+IF(H71=0,0,-0.01)","v":0},{"$f":"Sheet3!H139+IF(I71=0,0,IF(SUM($E71:I71)<3,-0.01,IF(SUM($E71:I71)>3,-10,IF(MAX(Sheet3!H69:H73)=3,-10,-0.01))))","v":0},{"$f":"Sheet3!I139+IF(J71=0,0,IF(SUM($E71:J71)<3,-0.01,IF(SUM($E71:J71)>3,-10,IF(MAX(Sheet3!I69:I73)=3,-10,-0.01))))","v":0},{"$f":"Sheet3!J139+IF(K71=0,0,IF(SUM($E71:K71)<3,-0.01,IF(SUM($E71:K71)>3,-10,IF(MAX(Sheet3!J69:J73)=3,-10,-0.01))))","v":0},{"$f":"Sheet3!K139+IF(L71=0,0,IF(SUM($E71:L71)<3,-0.01,IF(SUM($E71:L71)>3,-10,IF(MAX(Sheet3!K69:K73)=3,-10,-0.01))))","v":0},{"$f":"Sheet3!L139+IF(M71=0,0,IF(SUM($E71:M71)<3,-0.01,IF(SUM($E71:M71)>3,-10,IF(MAX(Sheet3!L69:L73)=3,-10,-0.01))))","v":0},{"$f":"Sheet3!M139+IF(N71=0,0,IF(SUM($E71:N71)<3,-0.01,IF(SUM($E71:N71)>3,-10,IF(MAX(Sheet3!M69:M73)=3,-10,-0.01))))","v":0},{"$f":"Sheet3!N139+IF(O71=0,0,IF(SUM($E71:O71)<3,-0.01,IF(SUM($E71:O71)>3,-10,IF(MAX(Sheet3!N69:N73)=3,-10,-0.01))))","v":0},{"$f":"Sheet3!O139+IF(P71=0,0,IF(SUM($E71:P71)<3,-0.01,IF(SUM($E71:P71)>3,-10,IF(MAX(Sheet3!O69:O73)=3,-10,-0.01))))","v":0},{"$f":"Sheet3!P139+IF(Q71=0,0,IF(SUM($E71:Q71)<3,-0.01,IF(SUM($E71:Q71)>3,-10,IF(MAX(Sheet3!P69:P73)=3,-10,-0.01))))","v":0},{"$f":"Sheet3!Q139+IF(R71=0,0,IF(SUM($E71:R71)<3,-0.01,IF(SUM($E71:R71)>3,-10,IF(MAX(Sheet3!Q69:Q73)=3,-10,-0.01))))","v":0},{"$f":"Sheet3!R139+IF(S71=0,0,IF(SUM($E71:S71)<3,-0.01,IF(SUM($E71:S71)>3,-10,IF(MAX(Sheet3!R69:R73)=3,-10,-0.01))))","v":0},{"$f":"Sheet3!S139+IF(T71=1,-10,0)","v":0},{"$f":"Sheet3!T139+IF(U71=1,-10,0)","v":0},{"$f":"Sheet3!U139+IF(V71=1,-10,0)","v":0},{"$f":"Sheet3!V139","v":0},{"$f":"Sheet3!W139+IF(X71=1,-10,0)","v":0},{"$f":"Sheet3!X139+IF(Y71=1,-10,0)","v":0},{"$f":"Sheet3!Y139","v":0},{"$f":"Sheet3!Z139+IF(AA71=1,-10,0)","v":0},{"$f":"Sheet3!AA139+IF(AB71=1,-10,0)","v":0},{"$f":"Sheet3!AB139","v":0},{"$f":"Sheet3!AC139+IF(AD71=1,-10,0)","v":0},{"$f":"Sheet3!AD139+IF(AE71=1,-10,0)","v":0},{"$f":"Sheet3!AE139+IF(AF71=1,-10,0)","v":0},{"$f":"Sheet3!AF139+IF(AG71=1,-10,0)","v":0},{"$f":"Sheet3!AG139+IF(AH71=1,-10,0)","v":0},{"$f":"Sheet3!AH139+IF(AI71=1,-10,0)","v":0},{"$f":"Sheet3!AI139+IF(AJ71=1,-10,0)","v":0},{"$f":"Sheet3!AJ139+IF(AK71=1,-10,0)","v":0},{"$f":"Sheet3!AK139+IF(AL71=1,-10,0)","v":0},{"$f":"Sheet3!AL139+IF(AM71=1,-10,0)","v":0},{"$f":"Sheet3!AM139+IF(AN71=1,-10,0)","v":0},{"$f":"Sheet3!AN139+IF(AO71=1,-10,0)","v":0},{"$f":"Sheet3!AO139+IF(AP71=1,-10,0)","v":0},{"$f":"Sheet3!AP139+IF(AQ71=1,-10,0)","v":0},{"$f":"Sheet3!AQ139+IF(AR71=1,-10,0)","v":0},{"$f":"Sheet3!AR139+IF(AS71=1,-10,0)","v":0},{"$f":"Sheet3!AS139+IF(AT71=1,-10,0)","v":0},{"$f":"Sheet3!AT139+IF(AU71=1,-10,0)","v":0},{"$f":"Sheet3!AU139+IF(AV71=1,-10,0)","v":0},{"$f":"Sheet3!AV139+IF(AW71=1,-10,0)","v":0},{"$f":"Sheet3!AW139+IF(AX71=1,-10,0)","v":0},{"$f":"Sheet3!AX139+IF(AY71=1,-10,0)","v":0},{"$f":"Sheet3!AY139+IF(AZ71=1,-10,0)","v":0},{"$f":"Sheet3!AZ139+IF(BA71=1,-10,0)","v":0},{"$f":"Sheet3!BA139+IF(BB71=1,-10,0)","v":0},{"$f":"Sheet3!BB139+IF(BC71=1,-10,0)","v":0},{"$f":"Sheet3!BC139+IF(BD71=1,-10,0)","v":0},{"$f":"Sheet3!BD139+IF(BE71=1,-10,0)","v":0},{"$f":"Sheet3!BE139+IF(BF71=1,-10,0)","v":0},{"$f":"Sheet3!BF139+IF(BG71=1,-10,0)","v":0},{"$f":"Sheet3!BG139+IF(BH71=1,-10,0)","v":0}]
[null,null,"Daishawn Hughes",null,null,{"$f":"IF(COUNTIF($D63:F63,20)>=1,1,0)","v":0},{"$f":"IF(COUNTIF($D63:G63,20)>=1,1,0)","v":0},{"$f":"IF(COUNTIF($D63:H63,20)>=1,1,0)","v":0},{"$f":"IF(COUNTIF($D63:I63,20)>=1,1,0)","v":0},{"$f":"IF(COUNTIF($D63:J63,20)>=1,1,0)","v":0},{"$f":"IF(COUNTIF($D63:K63,20)>=1,1,0)","v":0},{"$f":"IF(COUNTIF($D63:L63,20)>=1,1,0)","v":0},{"$f":"IF(COUNTIF($D63:M63,20)>=1,1,0)","v":0},{"$f":"IF(COUNTIF($D63:N63,20)>=1,1,0)","v":0},{"$f":"IF(COUNTIF($D63:O63,20)>=1,1,0)","v":0},{"$f":"IF(COUNTIF($D63:P63,20)>=1,1,0)","v":0},{"$f":"IF(COUNTIF($D63:Q63,20)>=1,1,0)","v":0},{"$f":"IF(COUNTIF($D63:R63,20)>=1,1,0)","v":0},{"$f":"IF(COUNTIF($D63:S63,20)>=1,1,0)","v":0},{"$f":"IF(COUNTIF($D63:T63,20)>=1,1,0)","v":0},{"$f":"IF(COUNTIF($D63:U63,20)>=1,1,0)","v":0},{"$f":"IF(COUNTIF($D63:V63,20)>=1,1,0)","v":0},{"$f":"IF(COUNTIF($D63:W63,20)>=1,1,0)","v":0},{"$f":"IF(COUNTIF($D63:X63,20)>=1,1,0)","v":0},{"$f":"IF(COUNTIF($D63:Y63,20)>=1,1,0)","v":0},{"$f":"IF(COUNTIF($D63:Z63,20)>=1,1,0)","v":0},{"$f":"IF(COUNTIF($D63:AA63,20)>=1,1,0)","v":0},{"$f":"IF(COUNTIF($D63:AB63,20)>=1,1,0)","v":0},{"$f":"IF(COUNTIF($D63:AC63,20)>=1,1,0)","v":0},{"$f":"IF(COUNTIF($D63:AD63,20)>=1,1,0)","v":0},{"$f":"IF(COUNTIF($D63:AE63,20)>=1,1,0)","v":0},{"$f":"IF(COUNTIF($D63:AF63,20)>=1,1,0)","v":0},{"$f":"IF(COUNTIF($D63:AG63,20)>=1,1,0)","v":0},{"$f":"IF(COUNTIF($D63:AH63,20)>=1,1,0)","v":0},{"$f":"IF(COUNTIF($D63:AI63,20)>=1,1,0)","v":0},{"$f":"IF(COUNTIF($D63:AJ63,20)>=1,1,0)","v":0},{"$f":"IF(COUNTIF($D63:AK63,20)>=1,1,0)","v":0},{"$f":"IF(COUNTIF($D63:AL63,20)>=1,1,0)","v":0},{"$f":"IF(COUNTIF($D63:AM63,20)>=1,1,0)","v":0},{"$f":"IF(COUNTIF($D63:AN63,20)>=1,1,0)","v":0},{"$f":"IF(COUNTIF($D63:AO63,20)>=1,1,0)","v":0},{"$f":"IF(COUNTIF($D63:AP63,20)>=1,1,0)","v":0},{"$f":"IF(COUNTIF($D63:AQ63,20)>=1,1,0)","v":0},{"$f":"IF(COUNTIF($D63:AR63,20)>=1,1,0)","v":0},{"$f":"IF(COUNTIF($D63:AS63,20)>=1,1,0)","v":0},{"$f":"IF(COUNTIF($D63:AT63,20)>=1,1,0)","v":0},{"$f":"IF(COUNTIF($D63:AU63,20)>=1,1,0)","v":0},{"$f":"IF(COUNTIF($D63:AV63,20)>=1,1,0)","v":0},{"$f":"IF(COUNTIF($D63:AW63,20)>=1,1,0)","v":0},{"$f":"IF(COUNTIF($D63:AX63,20)>=1,1,0)","v":0},{"$f":"IF(COUNTIF($D63:AY63,20)>=1,1,0)","v":0},{"$f":"IF(COUNTIF($D63:AZ63,20)>=1,1,0)","v":0},{"$f":"IF(COUNTIF($D63:BA63,20)>=1,1,0)","v":0},{"$f":"IF(COUNTIF($D63:BB63,20)>=1,1,0)","v":0},{"$f":"IF(COUNTIF($D63:BC63,20)>=1,1,0)","v":0},{"$f":"IF(COUNTIF($D63:BD63,20)>=1,1,0)","v":0},{"$f":"IF(COUNTIF($D63:BE63,20)>=1,1,0)","v":0},{"$f":"IF(COUNTIF($D63:BF63,20)>=1,1,0)","v":0},{"$f":"IF(COUNTIF($D63:BG63,20)>=1,1,0)","v":0},null,null,null,null,null,null,null,null,null,null,null,null,null,null,null,null,null,null,null,null,null,null,{"$f":"CD65","v":20},{"$f":"CE65","v":20},20,20,20,20,20,20,20,20,20,20,20,20,20,20,20,20,10,20,20,10,20,20,10,20,"?","?","?","?","?","?","?","?","?","?","?","?","?","?","?","?","?","?","?","?","?","?","?","?","?","?","?","?","?","?"]
[null,null,"Jose Garcia",null,null,{"$f":"IF(COUNTIF($D64:F64,20)>=1,1,0)","v":0},{"$f":"IF(COUNTIF($D64:G64,20)>=1,1,0)","v":0},{"$f":"IF(COUNTIF($D64:H64,20)>=1,1,0)","v":0},{"$f":"IF(COUNTIF($D64:I64,20)>=1,1,0)","v":0},{"$f":"IF(COUNTIF($D64:J64,20)>=1,1,0)","v":0},{"$f":"IF(COUNTIF($D64:K64,20)>=1,1,0)","v":0},{"$f":"IF(COUNTIF($D64:L64,20)>=1,1,0)","v":0},{"$f":"IF(COUNTIF($D64:M64,20)>=1,1,0)","v":0},{"$f":"IF(COUNTIF($D64:N64,20)>=1,1,0)","v":0},{"$f":"IF(COUNTIF($D64:O64,20)>=1,1,0)","v":0},{"$f":"IF(COUNTIF($D64:P64,20)>=1,1,0)","v":0},{"$f":"IF(COUNTIF($D64:Q64,20)>=1,1,0)","v":0},{"$f":"IF(COUNTIF($D64:R64,20)>=1,1,0)","v":0},{"$f":"IF(COUNTIF($D64:S64,20)>=1,1,0)","v":0},{"$f":"IF(COUNTIF($D64:T64,20)>=1,1,0)","v":0},{"$f":"IF(COUNTIF($D64:U64,20)>=1,1,0)","v":0},{"$f":"IF(COUNTIF($D64:V64,20)>=1,1,0)","v":0},{"$f":"IF(COUNTIF($D64:W64,20)>=1,1,0)","v":0},{"$f":"IF(COUNTIF($D64:X64,20)>=1,1,0)","v":0},{"$f":"IF(COUNTIF($D64:Y64,20)>=1,1,0)","v":0},{"$f":"IF(COUNTIF($D64:Z64,20)>=1,1,0)","v":0},{"$f":"IF(COUNTIF($D64:AA64,20)>=1,1,0)","v":0},{"$f":"IF(COUNTIF($D64:AB64,20)>=1,1,0)","v":0},{"$f":"IF(COUNTIF($D64:AC64,20)>=1,1,0)","v":0},{"$f":"IF(COUNTIF($D64:AD64,20)>=1,1,0)","v":0},{"$f":"IF(COUNTIF($D64:AE64,20)>=1,1,0)","v":0},{"$f":"IF(COUNTIF($D64:AF64,20)>=1,1,0)","v":0},{"$f":"IF(COUNTIF($D64:AG64,20)>=1,1,0)","v":0},{"$f":"IF(COUNTIF($D64:AH64,20)>=1,1,0)","v":0},{"$f":"IF(COUNTIF($D64:AI64,20)>=1,1,0)","v":0},{"$f":"IF(COUNTIF($D64:AJ64,20)>=1,1,0)","v":0},{"$f":"IF(COUNTIF($D64:AK64,20)>=1,1,0)","v":0},{"$f":"IF(COUNTIF($D64:AL64,20)>=1,1,0)","v":0},{"$f":"IF(COUNTIF($D64:AM64,20)>=1,1,0)","v":0},{"$f":"IF(COUNTIF($D64:AN64,20)>=1,1,0)","v":0},{"$f":"IF(COUNTIF($D64:AO64,20)>=1,1,0)","v":0},{"$f":"IF(COUNTIF($D64:AP64,20)>=1,1,0)","v":0},{"$f":"IF(COUNTIF($D64:AQ64,20)>=1,1,0)","v":0},{"$f":"IF(COUNTIF($D64:AR64,20)>=1,1,0)","v":0},{"$f":"IF(COUNTIF($D64:AS64,20)>=1,1,0)","v":0},{"$f":"IF(COUNTIF($D64:AT64,20)>=1,1,0)","v":0},{"$f":"IF(COUNTIF($D64:AU64,20)>=1,1,0)","v":0},{"$f":"IF(COUNTIF($D64:AV64,20)>=1,1,0)","v":0},{"$f":"IF(COUNTIF($D64:AW64,20)>=1,1,0)","v":0},{"$f":"IF(COUNTIF($D64:AX64,20)>=1,1,0)","v":0},{"$f":"IF(COUNTIF($D64:AY64,20)>=1,1,0)","v":0},{"$f":"IF(COUNTIF($D64:AZ64,20)>=1,1,0)","v":0},{"$f":"IF(COUNTIF($D64:BA64,20)>=1,1,0)","v":0},{"$f":"IF(COUNTIF($D64:BB64,20)>=1,1,0)","v":0},{"$f":"IF(COUNTIF($D64:BC64,20)>=1,1,0)","v":0},{"$f":"IF(COUNTIF($D64:BD64,20)>=1,1,0)","v":0},{"$f":"IF(COUNTIF($D64:BE64,20)>=1,1,0)","v":0},{"$f":"IF(COUNTIF($D64:BF64,20)>=1,1,0)","v":0},{"$f":"IF(COUNTIF($D64:BG64,20)>=1,1,0)","v":0},null,null,null,null,null,null,null,null,null,null,null,null,null,null,null,null,null,null,null,null,null,null,{"$f":"FD65","v":"E"},{"$f":"FE65","v":"E"},{"$f":"FF65","v":"E"},{"$f":"FG65","v":"E"},{"$f":"FH65","v":"E"},{"$f":"FI65","v":"E"},{"$f":"FJ65","v":"E"},{"$f":"FK65","v":"E"},{"$f":"FL65","v":"E"},{"$f":"FM65","v":"E"},{"$f":"FN65","v":"E"},{"$f":"FO65","v":"E"},{"$f":"FP65","v":"E"},{"$f":"FQ65","v":"E"},{"$f":"FR65","v":"E"},{"$f":"FS65","v":"E"},{"$f":"FT65","v":"E"},{"$f":"FU65","v":"E"},{"$f":"FV65","v":"A"},{"$f":"FW65","v":"E"},{"$f":"FX65","v":"E"},{"$f":"FY65","v":"A"},{"$f":"FZ65","v":"E"},{"$f":"GA65","v":"E"},{"$f":"GB65","v":"A"},{"$f":"GC65","v":"E"},{"$f":"GD65","v":"."},{"$f":"GE65","v":"."},{"$f":"GF65","v":"."},{"$f":"GG65","v":"."},{"$f":"GH65","v":"."},{"$f":"GI65","v":"."},{"$f":"GJ65","v":"."},{"$f":"GK65","v":"."},{"$f":"GL65","v":"."},{"$f":"GM65","v":"."},{"$f":"GN65","v":"."},{"$f":"GO65","v":"."},{"$f":"GP65","v":"."},{"$f":"GQ65","v":"."},{"$f":"GR65","v":"."},{"$f":"GS65","v":"."},{"$f":"GT65","v":"."},{"$f":"GU65","v":"."},{"$f":"GV65","v":"."},{"$f":"GW65","v":"."},{"$f":"GX65","v":"."},{"$f":"GY65","v":"."},{"$f":"GZ65","v":"."},{"$f":"HA65","v":"."},{"$f":"HB65","v":"."},{"$f":"HC65","v":"."},{"$f":"HD65","v":"."},{"$f":"HE65","v":"."},{"$f":"HF65","v":"."},{"$f":"HG65","v":"."}]
[null,null,"Isaiah Rodrigues",null,null,{"$f":"IF(COUNTIF($D65:F65,20)>=1,1,0)","v":0},{"$f":"IF(COUNTIF($D65:G65,20)>=1,1,0)","v":0},{"$f":"IF(COUNTIF($D65:H65,20)>=1,1,0)","v":0},{"$f":"IF(COUNTIF($D65:I65,20)>=1,1,0)","v":0},{"$f":"IF(COUNTIF($D65:J65,20)>=1,1,0)","v":0},{"$f":"IF(COUNTIF($D65:K65,20)>=1,1,0)","v":0},{"$f":"IF(COUNTIF($D65:L65,20)>=1,1,0)","v":0},{"$f":"IF(COUNTIF($D65:M65,20)>=1,1,0)","v":0},{"$f":"IF(COUNTIF($D65:N65,20)>=1,1,0)","v":0},{"$f":"IF(COUNTIF($D65:O65,20)>=1,1,0)","v":0},{"$f":"IF(COUNTIF($D65:P65,20)>=1,1,0)","v":0},{"$f":"IF(COUNTIF($D65:Q65,20)>=1,1,0)","v":0},{"$f":"IF(COUNTIF($D65:R65,20)>=1,1,0)","v":0},{"$f":"IF(COUNTIF($D65:S65,20)>=1,1,0)","v":0},{"$f":"IF(COUNTIF($D65:T65,20)>=1,1,0)","v":0},{"$f":"IF(COUNTIF($D65:U65,20)>=1,1,0)","v":0},{"$f":"IF(COUNTIF($D65:V65,20)>=1,1,0)","v":0},{"$f":"IF(COUNTIF($D65:W65,20)>=1,1,0)","v":0},{"$f":"IF(COUNTIF($D65:X65,20)>=1,1,0)","v":0},{"$f":"IF(COUNTIF($D65:Y65,20)>=1,1,0)","v":0},{"$f":"IF(COUNTIF($D65:Z65,20)>=1,1,0)","v":0},{"$f":"IF(COUNTIF($D65:AA65,20)>=1,1,0)","v":0},{"$f":"IF(COUNTIF($D65:AB65,20)>=1,1,0)","v":0},{"$f":"IF(COUNTIF($D65:AC65,20)>=1,1,0)","v":0},{"$f":"IF(COUNTIF($D65:AD65,20)>=1,1,0)","v":0},{"$f":"IF(COUNTIF($D65:AE65,20)>=1,1,0)","v":0},{"$f":"IF(COUNTIF($D65:AF65,20)>=1,1,0)","v":0},{"$f":"IF(COUNTIF($D65:AG65,20)>=1,1,0)","v":0},{"$f":"IF(COUNTIF($D65:AH65,20)>=1,1,0)","v":0},{"$f":"IF(COUNTIF($D65:AI65,20)>=1,1,0)","v":0},{"$f":"IF(COUNTIF($D65:AJ65,20)>=1,1,0)","v":0},{"$f":"IF(COUNTIF($D65:AK65,20)>=1,1,0)","v":0},{"$f":"IF(COUNTIF($D65:AL65,20)>=1,1,0)","v":0},{"$f":"IF(COUNTIF($D65:AM65,20)>=1,1,0)","v":0},{"$f":"IF(COUNTIF($D65:AN65,20)>=1,1,0)","v":0},{"$f":"IF(COUNTIF($D65:AO65,20)>=1,1,0)","v":0},{"$f":"IF(COUNTIF($D65:AP65,20)>=1,1,0)","v":0},{"$f":"IF(COUNTIF($D65:AQ65,20)>=1,1,0)","v":0},{"$f":"IF(COUNTIF($D65:AR65,20)>=1,1,0)","v":0},{"$f":"IF(COUNTIF($D65:AS65,20)>=1,1,0)","v":0},{"$f":"IF(COUNTIF($D65:AT65,20)>=1,1,0)","v":0},{"$f":"IF(COUNTIF($D65:AU65,20)>=1,1,0)","v":0},{"$f":"IF(COUNTIF($D65:AV65,20)>=1,1,0)","v":0},{"$f":"IF(COUNTIF($D65:AW65,20)>=1,1,0)","v":0},{"$f":"IF(COUNTIF($D65:AX65,20)>=1,1,0)","v":0},{"$f":"IF(COUNTIF($D65:AY65,20)>=1,1,0)","v":0},{"$f":"IF(COUNTIF($D65:AZ65,20)>=1,1,0)","v":0},{"$f":"IF(COUNTIF($D65:BA65,20)>=1,1,0)","v":0},{"$f":"IF(COUNTIF($D65:BB65,20)>=1,1,0)","v":0},{"$f":"IF(COUNTIF($D65:BC65,20)>=1,1,0)","v":0},{"$f":"IF(COUNTIF($D65:BD65,20)>=1,1,0)","v":0},{"$f":"IF(COUNTIF($D65:BE65,20)>=1,1,0)","v":0},{"$f":"IF(COUNTIF($D65:BF65,20)>=1,1,0)","v":0},{"$f":"IF(COUNTIF($D65:BG65,20)>=1,1,0)","v":0}]
[null,null,"Anna Gedlen",null,null,{"$f":"IF(COUNTIF($D66:F66,20)>=1,1,0)","v":0},{"$f":"IF(COUNTIF($D66:G66,20)>=1,1,0)","v":0},{"$f":"IF(COUNTIF($D66:H66,20)>=1,1,0)","v":0},{"$f":"IF(COUNTIF($D66:I66,20)>=1,1,0)","v":0},{"$f":"IF(COUNTIF($D66:J66,20)>=1,1,0)","v":0},{"$f":"IF(COUNTIF($D66:K66,20)>=1,1,0)","v":0},{"$f":"IF(COUNTIF($D66:L66,20)>=1,1,0)","v":0},{"$f":"IF(COUNTIF($D66:M66,20)>=1,1,0)","v":0},{"$f":"IF(COUNTIF($D66:N66,20)>=1,1,0)","v":0},{"$f":"IF(COUNTIF($D66:O66,20)>=1,1,0)","v":0},{"$f":"IF(COUNTIF($D66:P66,20)>=1,1,0)","v":0},{"$f":"IF(COUNTIF($D66:Q66,20)>=1,1,0)","v":0},{"$f":"IF(COUNTIF($D66:R66,20)>=1,1,0)","v":0},{"$f":"IF(COUNTIF($D66:S66,20)>=1,1,0)","v":0},{"$f":"IF(COUNTIF($D66:T66,20)>=1,1,0)","v":0},{"$f":"IF(COUNTIF($D66:U66,20)>=1,1,0)","v":0},{"$f":"IF(COUNTIF($D66:V66,20)>=1,1,0)","v":0},{"$f":"IF(COUNTIF($D66:W66,20)>=1,1,0)","v":0},{"$f":"IF(COUNTIF($D66:X66,20)>=1,1,0)","v":0},{"$f":"IF(COUNTIF($D66:Y66,20)>=1,1,0)","v":0},{"$f":"IF(COUNTIF($D66:Z66,20)>=1,1,0)","v":0},{"$f":"IF(COUNTIF($D66:AA66,20)>=1,1,0)","v":0},{"$f":"IF(COUNTIF($D66:AB66,20)>=1,1,0)","v":0},{"$f":"IF(COUNTIF($D66:AC66,20)>=1,1,0)","v":0},{"$f":"IF(COUNTIF($D66:AD66,20)>=1,1,0)","v":0},{"$f":"IF(COUNTIF($D66:AE66,20)>=1,1,0)","v":0},{"$f":"IF(COUNTIF($D66:AF66,20)>=1,1,0)","v":0},{"$f":"IF(COUNTIF($D66:AG66,20)>=1,1,0)","v":0},{"$f":"IF(COUNTIF($D66:AH66,20)>=1,1,0)","v":0},{"$f":"IF(COUNTIF($D66:AI66,20)>=1,1,0)","v":0},{"$f":"IF(COUNTIF($D66:AJ66,20)>=1,1,0)","v":0},{"$f":"IF(COUNTIF($D66:AK66,20)>=1,1,0)","v":0},{"$f":"IF(COUNTIF($D66:AL66,20)>=1,1,0)","v":0},{"$f":"IF(COUNTIF($D66:AM66,20)>=1,1,0)","v":0},{"$f":"IF(COUNTIF($D66:AN66,20)>=1,1,0)","v":0},{"$f":"IF(COUNTIF($D66:AO66,20)>=1,1,0)","v":0},{"$f":"IF(COUNTIF($D66:AP66,20)>=1,1,0)","v":0},{"$f":"IF(COUNTIF($D66:AQ66,20)>=1,1,0)","v":0},{"$f":"IF(COUNTIF($D66:AR66,20)>=1,1,0)","v":0},{"$f":"IF(COUNTIF($D66:AS66,20)>=1,1,0)","v":0},{"$f":"IF(COUNTIF($D66:AT66,20)>=1,1,0)","v":0},{"$f":"IF(COUNTIF($D66:AU66,20)>=1,1,0)","v":0},{"$f":"IF(COUNTIF($D66:AV66,20)>=1,1,0)","v":0},{"$f":"IF(COUNTIF($D66:AW66,20)>=1,1,0)","v":0},{"$f":"IF(COUNTIF($D66:AX66,20)>=1,1,0)","v":0},{"$f":"IF(COUNTIF($D66:AY66,20)>=1,1,0)","v":0},{"$f":"IF(COUNTIF($D66:AZ66,20)>=1,1,0)","v":0},{"$f":"IF(COUNTIF($D66:BA66,20)>=1,1,0)","v":0},{"$f":"IF(COUNTIF($D66:BB66,20)>=1,1,0)","v":0},{"$f":"IF(COUNTIF($D66:BC66,20)>=1,1,0)","v":0},{"$f":"IF(COUNTIF($D66:BD66,20)>=1,1,0)","v":0},{"$f":"IF(COUNTIF($D66:BE66,20)>=1,1,0)","v":0},{"$f":"IF(COUNTIF($D66:BF66,20)>=1,1,0)","v":0},{"$f":"IF(COUNTIF($D66:BG66,20)>=1,1,0)","v":0},null,null,null,null,null,null,null,null,null,null,null,null,null,null,null,null,null,null,null,null,null,null,{"$f":"CD66","v":20},{"$f":"CE66","v":20},20,20,20,20,20,20,20,20,20,20,20,20,20,20,20,20,10,20,20,10,20,20,10,20,"?","?","?","?","?","?","?","?","?","?","?","?","?","?","?","?","?","?","?","?","?","?","?","?","?","?","?","?","?","?"]
[null,null,"Kylie Wampler",null,null,{"$f":"IF(COUNTIF($D67:F67,20)>=1,1,0)","v":0},{"$f":"IF(COUNTIF($D67:G67,20)>=1,1,0)","v":0},{"$f":"IF(COUNTIF($D67:H67,20)>=1,1,0)","v":0},{"$f":"IF(COUNTIF($D67:I67,20)>=1,1,0)","v":0},{"$f":"IF(COUNTIF($D67:J67,20)>=1,1,0)","v":0},{"$f":"IF(COUNTIF($D67:K67,20)>=1,1,0)","v":0},{"$f":"IF(COUNTIF($D67:L67,20)>=1,1,0)","v":0},{"$f":"IF(COUNTIF($D67:M67,20)>=1,1,0)","v":0},{"$f":"IF(COUNTIF($D67:N67,20)>=1,1,0)","v":0},{"$f":"IF(COUNTIF($D67:O67,20)>=1,1,0)","v":0},{"$f":"IF(COUNTIF($D67:P67,20)>=1,1,0)","v":0},{"$f":"IF(COUNTIF($D67:Q67,20)>=1,1,0)","v":0},{"$f":"IF(COUNTIF($D67:R67,20)>=1,1,0)","v":0},{"$f":"IF(COUNTIF($D67:S67,20)>=1,1,0)","v":0},{"$f":"IF(COUNTIF($D67:T67,20)>=1,1,0)","v":0},{"$f":"IF(COUNTIF($D67:U67,20)>=1,1,0)","v":0},{"$f":"IF(COUNTIF($D67:V67,20)>=1,1,0)","v":0},{"$f":"IF(COUNTIF($D67:W67,20)>=1,1,0)","v":0},{"$f":"IF(COUNTIF($D67:X67,20)>=1,1,0)","v":0},{"$f":"IF(COUNTIF($D67:Y67,20)>=1,1,0)","v":0},{"$f":"IF(COUNTIF($D67:Z67,20)>=1,1,0)","v":0},{"$f":"IF(COUNTIF($D67:AA67,20)>=1,1,0)","v":0},{"$f":"IF(COUNTIF($D67:AB67,20)>=1,1,0)","v":0},{"$f":"IF(COUNTIF($D67:AC67,20)>=1,1,0)","v":0},{"$f":"IF(COUNTIF($D67:AD67,20)>=1,1,0)","v":0},{"$f":"IF(COUNTIF($D67:AE67,20)>=1,1,0)","v":0},{"$f":"IF(COUNTIF($D67:AF67,20)>=1,1,0)","v":0},{"$f":"IF(COUNTIF($D67:AG67,20)>=1,1,0)","v":0},{"$f":"IF(COUNTIF($D67:AH67,20)>=1,1,0)","v":0},{"$f":"IF(COUNTIF($D67:AI67,20)>=1,1,0)","v":0},{"$f":"IF(COUNTIF($D67:AJ67,20)>=1,1,0)","v":0},{"$f":"IF(COUNTIF($D67:AK67,20)>=1,1,0)","v":0},{"$f":"IF(COUNTIF($D67:AL67,20)>=1,1,0)","v":0},{"$f":"IF(COUNTIF($D67:AM67,20)>=1,1,0)","v":0},{"$f":"IF(COUNTIF($D67:AN67,20)>=1,1,0)","v":0},{"$f":"IF(COUNTIF($D67:AO67,20)>=1,1,0)","v":0},{"$f":"IF(COUNTIF($D67:AP67,20)>=1,1,0)","v":0},{"$f":"IF(COUNTIF($D67:AQ67,20)>=1,1,0)","v":0},{"$f":"IF(COUNTIF($D67:AR67,20)>=1,1,0)","v":0},{"$f":"IF(COUNTIF($D67:AS67,20)>=1,1,0)","v":0},{"$f":"IF(COUNTIF($D67:AT67,20)>=1,1,0)","v":0},{"$f":"IF(COUNTIF($D67:AU67,20)>=1,1,0)","v":0},{"$f":"IF(COUNTIF($D67:AV67,20)>=1,1,0)","v":0},{"$f":"IF(COUNTIF($D67:AW67,20)>=1,1,0)","v":0},{"$f":"IF(COUNTIF($D67:AX67,20)>=1,1,0)","v":0},{"$f":"IF(COUNTIF($D67:AY67,20)>=1,1,0)","v":0},{"$f":"IF(COUNTIF($D67:AZ67,20)>=1,1,0)","v":0},{"$f":"IF(COUNTIF($D67:BA67,20)>=1,1,0)","v":0},{"$f":"IF(COUNTIF($D67:BB67,20)>=1,1,0)","v":0},{"$f":"IF(COUNTIF($D67:BC67,20)>=1,1,0)","v":0},{"$f":"IF(COUNTIF($D67:BD67,20)>=1,1,0)","v":0},{"$f":"IF(COUNTIF($D67:BE67,20)>=1,1,0)","v":0},{"$f":"IF(COUNTIF($D67:BF67,20)>=1,1,0)","v":0},{"$f":"IF(COUNTIF($D67:BG67,20)>=1,1,0)","v":0},null,null,null,null,null,null,null,null,null,null,null,null,null,null,null,null,null,null,null,null,null,null,{"$f":"FD66","v":"E"},{"$f":"FE66","v":"E"},{"$f":"FF66","v":"E"},{"$f":"FG66","v":"E"},{"$f":"FH66","v":"E"},{"$f":"FI66","v":"E"},{"$f":"FJ66","v":"E"},{"$f":"FK66","v":"E"},{"$f":"FL66","v":"E"},{"$f":"FM66","v":"E"},{"$f":"FN66","v":"E"},{"$f":"FO66","v":"E"},{"$f":"FP66","v":"E"},{"$f":"FQ66","v":"E"},{"$f":"FR66","v":"E"},{"$f":"FS66","v":"E"},{"$f":"FT66","v":"E"},{"$f":"FU66","v":"E"},{"$f":"FV66","v":"A"},{"$f":"FW66","v":"E"},{"$f":"FX66","v":"E"},{"$f":"FY66","v":"A"},{"$f":"FZ66","v":"E"},{"$f":"GA66","v":"E"},{"$f":"GB66","v":"A"},{"$f":"GC66","v":"E"},{"$f":"GD66","v":"."},{"$f":"GE66","v":"."},{"$f":"GF66","v":"."},{"$f":"GG66","v":"."},{"$f":"GH66","v":"."},{"$f":"GI66","v":"."},{"$f":"GJ66","v":"."},{"$f":"GK66","v":"."},{"$f":"GL66","v":"."},{"$f":"GM66","v":"."},{"$f":"GN66","v":"."},{"$f":"GO66","v":"."},{"$f":"GP66","v":"."},{"$f":"GQ66","v":"."},{"$f":"GR66","v":"."},{"$f":"GS66","v":"."},{"$f":"GT66","v":"."},{"$f":"GU66","v":"."},{"$f":"GV66","v":"."},{"$f":"GW66","v":"."},{"$f":"GX66","v":"."},{"$f":"GY66","v":"."},{"$f":"GZ66","v":"."},{"$f":"HA66","v":"."},{"$f":"HB66","v":"."},{"$f":"HC66","v":"."},{"$f":"HD66","v":"."},{"$f":"HE66","v":"."},{"$f":"HF66","v":"."},{"$f":"HG66","v":"."}]
[null,null,"Ellie White",null,null,{"$f":"SUM(F76:F80)","v":0},{"$f":"SUM(G76:G80)","v":0},{"$f":"SUM(H76:H80)","v":0},{"$f":"SUM(I76:I80)","v":0},{"$f":"SUM(J76:J80)","v":0},{"$f":"SUM(K76:K80)","v":0},{"$f":"SUM(L76:L80)","v":0},{"$f":"SUM(M76:M80)","v":0},{"$f":"SUM(N76:N80)","v":0},{"$f":"SUM(O76:O80)","v":0},{"$f":"SUM(P76:P80)","v":0},{"$f":"SUM(Q76:Q80)","v":0},{"$f":"SUM(R76:R80)","v":0},{"$f":"SUM(S76:S80)","v":0},{"$f":"SUM(T76:T80)","v":0},{"$f":"SUM(U76:U80)","v":0},{"$f":"SUM(V76:V80)","v":0},{"$f":"SUM(W76:W80)","v":0},{"$f":"SUM(X76:X80)","v":0},{"$f":"SUM(Y76:Y80)","v":0},{"$f":"SUM(Z76:Z80)","v":0},{"$f":"SUM(AA76:AA80)","v":0},{"$f":"SUM(AB76:AB80)","v":0},{"$f":"SUM(AC76:AC80)","v":0},{"$f":"SUM(AD76:AD80)","v":0},{"$f":"SUM(AE76:AE80)","v":0},{"$f":"SUM(AF76:AF80)","v":0},{"$f":"SUM(AG76:AG80)","v":0},{"$f":"SUM(AH76:AH80)","v":0},{"$f":"SUM(AI76:AI80)","v":0},{"$f":"SUM(AJ76:AJ80)","v":0},{"$f":"SUM(AK76:AK80)","v":0},{"$f":"SUM(AL76:AL80)","v":0},{"$f":"SUM(AM76:AM80)","v":0},{"$f":"SUM(AN76:AN80)","v":0},{"$f":"SUM(AO76:AO80)","v":0},{"$f":"SUM(AP76:AP80)","v":0},{"$f":"SUM(AQ76:AQ80)","v":0},{"$f":"SUM(AR76:AR80)","v":0},{"$f":"SUM(AS76:AS80)","v":0},{"$f":"SUM(AT76:AT80)","v":0},{"$f":"SUM(AU76:AU80)","v":0},{"$f":"SUM(AV76:AV80)","v":0},{"$f":"SUM(AW76:AW80)","v":0},{"$f":"SUM(AX76:AX80)","v":0},{"$f":"SUM(AY76:AY80)","v":0},{"$f":"SUM(AZ76:AZ80)","v":0},{"$f":"SUM(BA76:BA80)","v":0},{"$f":"SUM(BB76:BB80)","v":0},{"$f":"SUM(BC76:BC80)","v":0},{"$f":"SUM(BD76:BD80)","v":0},{"$f":"SUM(BE76:BE80)","v":0},{"$f":"SUM(BF76:BF80)","v":0},{"$f":"SUM(BG76:BG80)","v":0}]
[null,null,"Corinne Vaughan",null,null,{"$f":"IF(F73=\"A\",0.01,IF(F81>=3,IF(F81>E81,10,0),0))","v":0},{"$f":"IF(G73=\"A\",0.01,IF(G81>=3,IF(G81>F81,10,0),0))","v":0},{"$f":"IF(H73=\"A\",0.01,IF(H81>=3,IF(H81>G81,10,0),0))","v":0},{"$f":"IF(I73=\"A\",0.01,IF(I81>=3,IF(I81>H81,10,0),0))","v":0},{"$f":"IF(J73=\"A\",0.01,IF(J81>=3,IF(J81>I81,10,0),0))","v":0},{"$f":"IF(K73=\"A\",0.01,IF(K81>=3,IF(K81>J81,10,0),0))","v":0},{"$f":"IF(L73=\"A\",0.01,IF(L81>=3,IF(L81>K81,10,0),0))","v":0},{"$f":"IF(M73=\"A\",0.01,IF(M81>=3,IF(M81>L81,10,0),0))","v":0},{"$f":"IF(N73=\"A\",0.01,IF(N81>=3,IF(N81>M81,10,0),0))","v":0},{"$f":"IF(O73=\"A\",0.01,IF(O81>=3,IF(O81>N81,10,0),0))","v":0},{"$f":"IF(P73=\"A\",0.01,IF(P81>=3,IF(P81>O81,10,0),0))","v":0},{"$f":"IF(Q73=\"A\",0.01,IF(Q81>=3,IF(Q81>P81,10,0),0))","v":0},{"$f":"IF(R73=\"A\",0.01,IF(R81>=3,IF(R81>Q81,10,0),0))","v":0},{"$f":"IF(S73=\"A\",0.01,IF(S81>=3,IF(S81>R81,10,0),0))","v":0},{"$f":"IF(T73=\"A\",0.01,IF(T81>=3,IF(T81>S81,10,0),0))","v":0},{"$f":"IF(U66=\"A\",0.01,IF(U65=\"A\",0.01,IF(U64=\"A\",0.01,IF(U63=\"A\",0.01,IF(U81>=3,IF(U81>T81,10,0),0)))))","v":0},{"$f":"IF(V63=\"A\",0.01,IF(V64=\"A\",0.01,IF(V65=\"A\",0.01,IF(V66=\"A\",0.01,0))))","v":0},{"$f":"IF(W73=\"A\",0.01,IF(W81>=3,IF(W81>V81,10,0),0))","v":0},{"$f":"IF(X73=\"A\",0.01,IF(X81>=3,IF(X81>W81,10,0),0))","v":0},{"$f":"IF(Y63=\"A\",0.01,IF(Y64=\"A\",0.01,IF(Y65=\"A\",0.01,IF(Y66=\"A\",0.01,0))))","v":0},{"$f":"IF(Z73=\"A\",0.01,IF(Z81>=3,IF(Z81>Y81,10,0),0))","v":0},{"$f":"IF(AA73=\"A\",0.01,IF(AA81>=3,IF(AA81>Z81,10,0),0))","v":0},{"$f":"IF(AB63=\"A\",0.01,IF(AB64=\"A\",0.01,IF(AB65=\"A\",0.01,IF(AB66=\"A\",0.01,0))))","v":0},{"$f":"IF(AC73=\"A\",0.01,IF(AC81>=3,IF(AC81>AB81,10,0),0))","v":0},{"$f":"IF(AC107=\"\",0,IF(AD73=\"A\",0.01,IF(AD81>=3,IF(AD81>AC81,10,0),0)))","v":0},0,0,0,0,0,0,0,0,0,0,0,0,0,0,0,0,0,0,0,0,0,0,0,0,0,0,0,0,0,null,null,null,null,null,null,null,null,null,null,null,null,null,null,null,null,null,null,null,null,null,null,{"$f":"CD67","v":20},{"$f":"CE67","v":20},20,20,20,20,20,20,20,20,20,20,20,20,20,20,20,20,10,20,20,10,20,20,10,20,"?","?","?","?","?","?","?","?","?","?","?","?","?","?","?","?","?","?","?","?","?","?","?","?","?","?","?","?","?","?"]
[null,null,"Andrew Hubbard",null,null,{"$f":"IF(E71=1,IF(F48+F25=1, 1,0),0)","v":0},{"$f":"IF(F71=1,IF(G48+G25=1, 1,0),0)","v":0},0,{"$f":"IF(H71=1,IF(I48+I25=1, 1,0),0)","v":0},{"$f":"IF(I71=1,IF(J48+J25=1, 1,0),0)","v":0},{"$f":"IF(J71=1,IF(K48+K25=1, 1,0),0)","v":0},{"$f":"IF(K71=1,IF(L48+L25=1, 1,0),0)","v":0},{"$f":"IF(L71=1,IF(M48+M25=1, 1,0),0)","v":0},{"$f":"IF(M71=1,IF(N48+N25=1, 1,0),0)","v":0},{"$f":"IF(N71=1,IF(O48+O25=1, 1,0),0)","v":0},0,0,0,0,0,0,0,0,0,0,0,0,0,0,0,0,0,0,0,0,0,0,0,0,0,0,0,0,0,0,0,0,0,0,0,0,0,0,0,0,0,0,0,0,null,null,null,null,null,null,null,null,null,null,null,null,null,null,null,null,null,null,null,null,null,null,{"$f":"FD67","v":"E"},{"$f":"FE67","v":"E"},{"$f":"FF67","v":"E"},{"$f":"FG67","v":"E"},{"$f":"FH67","v":"E"},{"$f":"FI67","v":"E"},{"$f":"FJ67","v":"E"},{"$f":"FK67","v":"E"},{"$f":"FL67","v":"E"},{"$f":"FM67","v":"E"},{"$f":"FN67","v":"E"},{"$f":"FO67","v":"E"},{"$f":"FP67","v":"E"},{"$f":"FQ67","v":"E"},{"$f":"FR67","v":"E"},{"$f":"FS67","v":"E"},{"$f":"FT67","v":"E"},{"$f":"FU67","v":"E"},{"$f":"FV67","v":"A"},{"$f":"FW67","v":"E"},{"$f":"FX67","v":"E"},{"$f":"FY67","v":"A"},{"$f":"FZ67","v":"E"},{"$f":"GA67","v":"E"},{"$f":"GB67","v":"A"},{"$f":"GC67","v":"E"},{"$f":"GD67","v":"."},{"$f":"GE67","v":"."},{"$f":"GF67","v":"."},{"$f":"GG67","v":"."},{"$f":"GH67","v":"."},{"$f":"GI67","v":"."},{"$f":"GJ67","v":"."},{"$f":"GK67","v":"."},{"$f":"GL67","v":"."},{"$f":"GM67","v":"."},{"$f":"GN67","v":"."},{"$f":"GO67","v":"."},{"$f":"GP67","v":"."},{"$f":"GQ67","v":"."},{"$f":"GR67","v":"."},{"$f":"GS67","v":"."},{"$f":"GT67","v":"."},{"$f":"GU67","v":"."},{"$f":"GV67","v":"."},{"$f":"GW67","v":"."},{"$f":"GX67","v":"."},{"$f":"GY67","v":"."},{"$f":"GZ67","v":"."},{"$f":"HA67","v":"."},{"$f":"HB67","v":"."},{"$f":"HC67","v":"."},{"$f":"HD67","v":"."},{"$f":"HE67","v":"."},{"$f":"HF67","v":"."},{"$f":"HG67","v":"."}]
[null,null,"Julia Mayer",{"$f":"IF(D61=15,0,1)","v":0},{"$f":"IF(E61=15,0,1)","v":0},0,0,0,0,0,0,0,0,0,0,0,0,0,0,{"$f":"IF(T61=15,0,1)","v":0},{"$f":"IF(T84=0,0,IF(U61<15,1,IF(U71+U48+U25=1,0,1)))","v":0},{"$f":"IF(U84=0,0,IF(V61<15,1,IF(V71+V48+V25=1,0,1)))","v":0},{"$f":"IF(W61=15,0,1)","v":0},{"$f":"IF(W84=0,0,IF(X61<15,1,IF(X71+X48+X25=1,0,1)))","v":0},{"$f":"IF(X84=0,0,IF(Y61<15,1,IF(Y71+Y48+Y25=1,0,1)))","v":0},{"$f":"IF(Z61=15,0,1)","v":0},{"$f":"IF(Z84=0,0,IF(AA61<15,1,IF(AA71+AA48+AA25=1,0,1)))","v":0},{"$f":"IF(AA84=0,0,IF(AB61<15,1,IF(AB71+AB48+AB25=1,0,1)))","v":0},{"$f":"IF(AC61=15,0,1)","v":0},{"$f":"IF(AD61=15,0,1)","v":0},0,0,0,0,0,0,0,0,0,0,0,0,0,0,0,0,0,0,0,0,0,0,0,0,0,0,0,0,0]
[null,null,"Danielle Leidy",1,2,3,4,5,6,7,8,9,10,11,12,13,14,15,16,17,18,19,20,21,22,23,24,25,26,27,28,29,30,31,32,33,34,35,36,37,38,39,40,41,42,43,44,45,46,47,48,49,50,51,52,53,54,55,56]
[null,null,null,1,2,3,4,5,6,7,8,9,10,11,12,13,14,15,16,17,"17A","17B",18,"18A","18B",19,"19A","19B",20,{"$f":"AD62","v":""},{"$f":"AE62","v":""},"","","","","","","","","","","","","","","","","","","","","","","","","","","",""]
["Question\nNumber","Score"," ",null,null,"Instructions:","* If an incorrect value is entered into a cell, it will remain red.\n* Spreadsheet will automatically calculate team bonus, error points, and olympic points.\n* Mark fouls with \"F\" and timeouts with \"T\" under the appropriate question on the indicated line for each team.\n* If nobody jumps on a question, mark \"0\" in the box for quizzer #1 on team #1.  This will proliferate zeros for\n   all quizzers on that question."]
[{"$f":"HLOOKUP(SUM($D$84:$BG$84)+1,$D$85:$BG$86,2)","v":1},{"$f":"$A22","v":0},{"$f":"C16","v":"Team Name"}]
[null,{"$f":"$A45","v":0},{"$f":"C39","v":"Team Name"}]
[null,{"$f":"$A68","v":0},{"$f":"C62","v":"Team Name"}]
[null,null," "]
[null,null," "]
[null,null,null,null,null,null,null,null,null,null,null,null,null,null,null,null,null,null,null,null,null,null,null,null,null,null,null,"Q#",{"$f":"AC16","v":20},{"$f":"AD16","v":""},"","","","","","","","","","","","","","","","","","","","","","","","","","","","",""]
[null,null,null,null,null,null,null,null,null,null,null,null,null,null,null,null,null,null,null,null,null,null,null,null,null,null,null,"Score",{"$f":"ROUND(AC22,0)","v":0},{"$f":"IF(AC101=\"A\",\"\",ROUND(AD22,0))","v":0},{"$f":"IF(AD101=\"A\",\"\",ROUND(AE22,0))","v":0},0,0,0,0,0,0,0,0,0,0,0,0,0,0,0,0,0,0,0,0,0,0,0,0,0,0,0,0]
[null,null,null,null,null,null,null,null,null,null,null,null,null,null,null,null,null,null,null,null,null,null,null,null,null,null,null,"Score",{"$f":"ROUND(AC45,0)","v":0},{"$f":"IF(AC101=\"B\",\"\",ROUND(AD45,0))","v":0},{"$f":"IF(AD101=\"B\",\"\",ROUND(AE45,0))","v":0},0,0,0,0,0,0,0,0,0,0,0,0,0,0,0,0,0,0,0,0,0,0,0,0,0,0,0,0]
[null,null,null,null,null,null,null,null,null,null,null,null,null,null,null,null,null,null,null,null,null,null,null,null,null,null,null,"Score",{"$f":"ROUND(AC68,0)","v":0},{"$f":"IF(AC101=\"C\",\"\",ROUND(AD68,0))","v":0},{"$f":"IF(AD101=\"C\",\"\",ROUND(AE68,0))","v":0},0,0,0,0,0,0,0,0,0,0,0,0,0,0,0,0,0,0,0,0,0,0,0,0,0,0,0,0]
[null,null,null,null,null,null,null,null,null,null,null,null,null,null,null,null,null,null,null,null,null,null,null,null,null,null,null,"Answered correctly?",{"$f":"IF(AC84=0,-1,IF(ROUND((AC68+AC45+AC22),-1)>ROUND((AB22+AB45+AB68),-1),1,0))","v":-1},{"$f":"IF(AD84=0,-1,IF(ROUND((AD68+AD45+AD22),-1)>ROUND((AC22+AC45+AC68),-1),1,0))","v":-1},{"$f":"IF(AE84=0,-1,IF(ROUND((AE68+AE45+AE22),-1)>ROUND((AD22+AD45+AD68),-1),1,0))","v":-1},{"$f":"IF(AF84=0,-1,IF(ROUND((AF68+AF45+AF22),-1)>ROUND((AE22+AE45+AE68),-1),1,0))","v":-1},-1,-1,-1,-1,-1,-1,-1,-1,-1,-1,-1,-1,-1,-1,-1,-1,-1,-1,-1,-1,-1,-1,-1,-1,-1,-1,-1]
[null,null,null,null,null,null,null,null,null,null,null,null,null,null,null,null,null,null,null,null,null,null,null,null,null,null,null,"Tie for 1st?",{"$f":"IF(MEDIAN(AC94:AC96)=MAX(AC94:AC96),1,0)","v":1},{"$f":"IF(MEDIAN(AD94:AD96)=MAX(AD94:AD96),1,0)","v":1},1,1,1,1,1,1,1,1,1,1,1,1,1,1,1,1,1,1,1,1,1,1,1,1,1,1,1,1,1]
[null,null,null,null,null,null,null,null,null,null,null,null,null,null,null,null,null,null,null,null,null,null,null,null,null,null,null,"Tie for 2nd?",{"$f":"IF(MEDIAN(AC94:AC96)=MIN(AC94:AC96),1,0)","v":1},{"$f":"IF(MEDIAN(AD94:AD96)=MIN(AD94:AD96),1,0)","v":1},1,1,1,1,1,1,1,1,1,1,1,1,1,1,1,1,1,1,1,1,1,1,1,1,1,1,1,1,1]
[null,null,null,null,null,null,null,null,null,null,null,null,null,null,null,null,null,null,null,null,null,null,null,null,null,null,null,"3-way tie?",{"$f":"FLOOR(SUM(AC98:AC99)/2,1)","v":1},{"$f":"FLOOR(SUM(AD98:AD99)/2,1)","v":1},1,1,1,1,1,1,1,1,1,1,1,1,1,1,1,1,1,1,1,1,1,1,1,1,1,1,1,1,1]
[null,null,null,null,null,null,null,null,null,null,null,null,null,null,null,null,null,null,null,null,null,null,null,null,null,null,null,"Who's out?",{"$f":"IF(AC106=2,IF(AC94=AC95,\"C\",IF(AC95=AC96,\"A\",\"B\")),0)","v":0},{"$f":"IF(AC101=0,IF(AD106=2,IF(AD94=AD95,\"C\",IF(AD95=AD96,\"A\",\"B\")),0),AC101)","v":0},{"$f":"IF(AD101=0,IF(AE106=2,IF(AE94=AE95,\"C\",IF(AE95=AE96,\"A\",\"B\")),0),AD101)","v":0},0,0,0,0,0,0,0,0,0,0,0,0,0,0,0,0,0,0,0,0,0,0,0,0,0,0,0,0]
[null,null,null,null,null,null,null,null,null,null,null,null,null,null,null,null,null,null,null,null,null,null,null,null,null,null,null,"Nobody jump?",{"$f":"IF(AC17=\"\",0,IF(AC17=0,1,0))","v":0},{"$f":"IF(AD17=\"\",0,IF(AD17=0,1,0))","v":0},0,0,0,0,0,0,0,0,0,0,0,0,0,0,0,0,0,0,0,0,0,0,0,0,0,0,0,0,0]
[null,null,null,null,null,null,null,null,null,null,null,null,null,null,null,null,null,null,null,null,null,null,null,null,null,null,null,"Next Q Reg?",{"$f":"IF(AC106=0,0,IF(AB105=1,1,IF(AC97=1,1,IF(AC102=1,1,0))))","v":0},{"$f":"IF(AD106=0,0,IF(AC105=1,1,IF(AD97=1,1,IF(AD102=1,1,0))))","v":0},0,0,0,0,0,0,0,0,0,0,0,0,0,0,0,0,0,0,0,0,0,0,0,0,0,0,0,0,0]
[null,null,null,null,null,null,null,null,null,null,null,null,null,null,null,null,null,null,null,null,null,null,null,null,null,null,null,"Next Q Tossup?",{"$f":"IF(AC103=1,0,IF(AC108<3,0,IF(RIGHT(AC93,1)=\"a\",0,IF(AC97=0,1,0))))","v":0},{"$f":"IF(AD103=1,0,IF(AD108<3,0,IF(RIGHT(AD93,1)=\"a\",0,IF(AD97=0,1,0))))","v":0},0,0,0,0,0,0,0,0,0,0,0,0,0,0,0,0,0,0,0,0,0,0,0,0,0,0,0,0,0]
[null,null,null,null,null,null,null,null,null,null,null,null,null,null,null,null,null,null,null,null,null,null,null,null,null,null,null,"Next Q Free?",{"$f":"IF(SUM(AC103:AC104)=0,IF(AC97=0,IF(AC104<>1,1,0),0),0)","v":0},{"$f":"IF(SUM(AD103:AD104)=0,IF(AD97=0,IF(AD104<>1,1,0),0),0)","v":0},0,0,0,0,0,0,0,0,0,0,0,0,0,0,0,0,0,0,0,0,0,0,0,0,0,0,0,0,0]
[null,null,null,null,null,null,null,null,null,null,null,null,null,null,null,null,null,null,null,null,null,null,null,null,null,null,null,"#teams next Q:",{"$f":"IF(AC108=3,IF(AC97=1,IF(SUM(AC98:AC100)=0,0,IF(AC100=1,3,2)),AC108),IF(AC97=1,IF(SUM(AC98:AC99)=0,0,2),2))","v":3},{"$f":"IF(AD108=0,0,IF(AD108=3,IF(AD97=1,IF(SUM(AD98:AD100)=0,0,IF(AD100=1,3,2)),AD108),IF(AD97=1,IF(SUM(AD98:AD99)=0,0,2),2)))","v":3},{"$f":"IF(AE108=0,0,IF(AE108=3,IF(AE97=1,IF(SUM(AE98:AE100)=0,0,IF(AE100=1,3,2)),AE108),IF(AE97=1,IF(SUM(AE98:AE99)=0,0,2),2)))","v":3},3,3,3,3,3,3,3,3,3,3,3,3,3,3,3,3,3,3,3,3,3,3,3,3,3,3,3,3]
[null,null,null,null,null,null,null,null,null,null,null,null,null,null,null,null,null,null,null,null,null,null,null,null,null,null,null,"Next Question#:",{"$f":"IF(AC97=-1,\"\",IF(AC106=0,\"\",IF(AC103=1,LEFT(AC93,2)+1,IF(AC104=1,CONCATENATE(AC93,\"A\"),IF(AC108=3,CONCATENATE(LEFT(AC93,2),\"B\"),CONCATENATE(AC93,\"A\"))))))","v":""},{"$f":"IF(AD97=-1,\"\",IF(AD106=0,\"\",IF(AD103=1,LEFT(AD93,2)+1,IF(AD104=1,CONCATENATE(AD93,\"A\"),IF(AD108=3,CONCATENATE(LEFT(AD93,2),\"B\"),CONCATENATE(AD93,\"A\"))))))","v":""},"","","","","","","","","","","","","","","","","","","","","","","","","","","","",""]
[null,null,null,null,null,null,null,null,null,null,null,null,null,null,null,null,null,null,null,null,null,null,null,null,null,null,null,"# teams in this Q:",3,{"$f":"AC106","v":3},{"$f":"AD106","v":3},3,3,3,3,3,3,3,3,3,3,3,3,3,3,3,3,3,3,3,3,3,3,3,3,3,3,3,3]
[]
[null,null,null,null,null,null,null,null,null,null,null,null,null,null,null,null,null,null,null,null,null,null,null,null,null,null,null,null,null,{"$f":"IF(AD102=1,0,IF(AD108=3,IF(AC103=1,20,IF(AC104=1,IF(AD25=1,\".\",20),IF(AC105=1,IF(AD24=0,10,\".\"),\"?\"))),IF(AD108=2,IF(AC101=\"A\",\".\",IF(AC103=1,20,IF(AD25=1,\".\",10))),\".\")))","v":"?"},{"$f":"IF(AE102=1,0,IF(AE108=3,IF(AD103=1,20,IF(AD104=1,IF(AE25=1,\".\",20),IF(AD105=1,IF(AE24=0,10,\".\"),\"?\"))),IF(AE108=2,IF(AD101=\"A\",\".\",IF(AD103=1,20,IF(AE25=1,\".\",10))),\".\")))","v":"?"},"?","?","?","?","?","?","?","?","?","?","?","?","?","?","?","?","?","?","?","?","?","?","?","?","?","?","?","?"]
[null,null,null,null,null,null,null,null,null,null,null,null,null,null,null,null,null,null,null,null,null,null,null,null,null,null,null,null,null,{"$f":"IF(AD110=20,\"E\",IF(AD110=10,\"A\",\".\"))","v":"."},{"$f":"IF(AE110=20,\"E\",IF(AE110=10,\"A\",\".\"))","v":"."},".",".",".",".",".",".",".",".",".",".",".",".",".",".",".",".",".",".",".",".",".",".",".",".",".",".",".","."]
[null,null,null,null,null,null,null,null,null,null,null,null,null,null,null,null,null,null,null,null,null,null,null,null,null,null,null,null,null,{"$f":"IF(AD102=1,0,\"\")","v":""},{"$f":"IF(AE102=1,0,\"\")","v":""},"","","","","","","","","","","","","","","","","","","","","","","","","","","",""]
[]
[]
[null,null,null,null,null,null,null,null,null,null,null,null,null,null,null,null,null,null,null,null,null,null,null,null,null,null,null,null,null,{"$f":"IF(AD102=1,0,IF(AD108=3,IF(AC103=1,20,IF(AC104=1,IF(AD48=1,\".\",20),IF(AC105=1,IF(AD47=0,10,\".\"),\"?\"))),IF(AD108=2,IF(AC101=\"B\",\".\",IF(AC103=1,20,IF(AD48=1,\".\",10))),\".\")))","v":"?"},{"$f":"IF(AE102=1,0,IF(AE108=3,IF(AD103=1,20,IF(AD104=1,IF(AE48=1,\".\",20),IF(AD105=1,IF(AE47=0,10,\".\"),\"?\"))),IF(AE108=2,IF(AD101=\"B\",\".\",IF(AD103=1,20,IF(AE48=1,\".\",10))),\".\")))","v":"?"},"?","?","?","?","?","?","?","?","?","?","?","?","?","?","?","?","?","?","?","?","?","?","?","?","?","?","?","?"]
[null,null,null,null,null,null,null,null,null,null,null,null,null,null,null,null,null,null,null,null,null,null,null,null,null,null,null,null,null,{"$f":"IF(AD115=20,\"E\",IF(AD115=10,\"A\",\".\"))","v":"."},{"$f":"IF(AE115=20,\"E\",IF(AE115=10,\"A\",\".\"))","v":"."},".",".",".",".",".",".",".",".",".",".",".",".",".",".",".",".",".",".",".",".",".",".",".",".",".",".",".","."]
[null,null,null,null,null,null,null,null,null,null,null,null,null,null,null,null,null,null,null,null,null,null,null,null,null,null,null,null,null,{"$f":"IF(AD102=1,0,\"\")","v":""},{"$f":"IF(AE102=1,0,\"\")","v":""},"","","","","","","","","","","","","","","","","","","","","","","","","","","",""]
[]
[]
[null,null,null,null,null,null,null,null,null,null,null,null,null,null,null,null,null,null,null,null,null,null,null,null,null,null,null,null,null,{"$f":"IF(AD102=1,0,IF(AD108=3,IF(AC103=1,20,IF(AC104=1,IF(AD71=1,\".\",20),IF(AC105=1,IF(AD70=0,10,\".\"),\"?\"))),IF(AD108=2,IF(AC101=\"C\",\".\",IF(AC103=1,20,IF(AD71=1,\".\",10))),\".\")))","v":"?"},{"$f":"IF(AE102=1,0,IF(AE108=3,IF(AD103=1,20,IF(AD104=1,IF(AE71=1,\".\",20),IF(AD105=1,IF(AE70=0,10,\".\"),\"?\"))),IF(AE108=2,IF(AD101=\"C\",\".\",IF(AD103=1,20,IF(AE71=1,\".\",10))),\".\")))","v":"?"},"?","?","?","?","?","?","?","?","?","?","?","?","?","?","?","?","?","?","?","?","?","?","?","?","?","?","?","?"]
[null,null,null,null,null,null,null,null,null,null,null,null,null,null,null,null,null,null,null,null,null,null,null,null,null,null,null,null,null,{"$f":"IF(AD120=20,\"E\",IF(AD120=10,\"A\",\".\"))","v":"."},{"$f":"IF(AE120=20,\"E\",IF(AE120=10,\"A\",\".\"))","v":"."},".",".",".",".",".",".",".",".",".",".",".",".",".",".",".",".",".",".",".",".",".",".",".",".",".",".",".","."]
[null,null,null,null,null,null,null,null,null,null,null,null,null,null,null,null,null,null,null,null,null,null,null,null,null,null,null,null,null,{"$f":"IF(AD102=1,0,\"\")","v":""},{"$f":"IF(AE102=1,0,\"\")","v":""},"","","","","","","","","","","","","","","","","","","","","","","","","","","",""]
[]
[null,null,null,null,null,null,null,null,null,null,null,null,null,null,null,null,null,null,null,null,null,null,null,null,null,null,null,{"$f":"MAX(AC124:BG124)","v":0},{"$f":"IF(AC$108-AC$106=3,IF(AC94=MAX(AC$94:AC$96),10,IF(AC94=MIN(AC$94:AC$96),1,5)),IF(AC$108-AC$106=2,\"later\",IF(AC$108-AC$106=1,IF(AC$101=\"A\",IF(AC94=MAX(AC$94:AC$96),10,1),0),0)))","v":0},{"$f":"IF(AC124>0,AC124,IF(AD$108-AD$106=3,IF(AD94=MAX(AD$94:AD$96),10,IF(AD94=MIN(AD$94:AD$96),1,5)),IF(AD$108-AD$106=2,IF(MAX($AC$124:AC$126 )=10,IF(AD94=MIN(AD$94:AD$96),1,5),IF(AD94=MIN(AD$94:AD$96),5,10)),IF(AD$108-AD$106=1,IF(AD$101=\"A\",IF(AD94=MAX(AD$94:AD$96),10,1),0),0))))","v":0},{"$f":"IF(AD124>0,AD124,IF(AE$108-AE$106=3,IF(AE94=MAX(AE$94:AE$96),10,IF(AE94=MIN(AE$94:AE$96),1,5)),IF(AE$108-AE$106=2,IF(MAX($AC$124:AD$126 )=10,IF(AE94=MIN(AE$94:AE$96),1,5),IF(AE94=MIN(AE$94:AE$96),5,10)),IF(AE$108-AE$106=1,IF(AE$101=\"A\",IF(AE94=MAX(AE$94:AE$96),10,1),0),0))))","v":0},{"$f":"IF(AE124>0,AE124,IF(AF$108-AF$106=3,IF(AF94=MAX(AF$94:AF$96),10,IF(AF94=MIN(AF$94:AF$96),1,5)),IF(AF$108-AF$106=2,IF(MAX($AC$124:AE$126 )=10,IF(AF94=MIN(AF$94:AF$96),1,5),IF(AF94=MIN(AF$94:AF$96),5,10)),IF(AF$108-AF$106=1,IF(AF$101=\"A\",IF(AF94=MAX(AF$94:AF$96),10,1),0),0))))","v":0},{"$f":"IF(AF124>0,AF124,IF(AG$108-AG$106=3,IF(AG94=MAX(AG$94:AG$96),10,IF(AG94=MIN(AG$94:AG$96),1,5)),IF(AG$108-AG$106=2,IF(MAX($AC$124:AF$126 )=10,IF(AG94=MIN(AG$94:AG$96),1,5),IF(AG94=MIN(AG$94:AG$96),5,10)),IF(AG$108-AG$106=1,IF(AG$101=\"A\",IF(AG94=MAX(AG$94:AG$96),10,1),0),0))))","v":0},{"$f":"IF(AG124>0,AG124,IF(AH$108-AH$106=3,IF(AH94=MAX(AH$94:AH$96),10,IF(AH94=MIN(AH$94:AH$96),1,5)),IF(AH$108-AH$106=2,IF(MAX($AC$124:AG$126 )=10,IF(AH94=MIN(AH$94:AH$96),1,5),IF(AH94=MIN(AH$94:AH$96),5,10)),IF(AH$108-AH$106=1,IF(AH$101=\"A\",IF(AH94=MAX(AH$94:AH$96),10,1),0),0))))","v":0},{"$f":"IF(AH124>0,AH124,IF(AI$108-AI$106=3,IF(AI94=MAX(AI$94:AI$96),10,IF(AI94=MIN(AI$94:AI$96),1,5)),IF(AI$108-AI$106=2,IF(MAX($AC$124:AH$126 )=10,IF(AI94=MIN(AI$94:AI$96),1,5),IF(AI94=MIN(AI$94:AI$96),5,10)),IF(AI$108-AI$106=1,IF(AI$101=\"A\",IF(AI94=MAX(AI$94:AI$96),10,1),0),0))))","v":0},{"$f":"IF(AI124>0,AI124,IF(AJ$108-AJ$106=3,IF(AJ94=MAX(AJ$94:AJ$96),10,IF(AJ94=MIN(AJ$94:AJ$96),1,5)),IF(AJ$108-AJ$106=2,IF(MAX($AC$124:AI$126 )=10,IF(AJ94=MIN(AJ$94:AJ$96),1,5),IF(AJ94=MIN(AJ$94:AJ$96),5,10)),IF(AJ$108-AJ$106=1,IF(AJ$101=\"A\",IF(AJ94=MAX(AJ$94:AJ$96),10,1),0),0))))","v":0},{"$f":"IF(AJ124>0,AJ124,IF(AK$108-AK$106=3,IF(AK94=MAX(AK$94:AK$96),10,IF(AK94=MIN(AK$94:AK$96),1,5)),IF(AK$108-AK$106=2,IF(MAX($AC$124:AJ$126 )=10,IF(AK94=MIN(AK$94:AK$96),1,5),IF(AK94=MIN(AK$94:AK$96),5,10)),IF(AK$108-AK$106=1,IF(AK$101=\"A\",IF(AK94=MAX(AK$94:AK$96),10,1),0),0))))","v":0},{"$f":"IF(AK124>0,AK124,IF(AL$108-AL$106=3,IF(AL94=MAX(AL$94:AL$96),10,IF(AL94=MIN(AL$94:AL$96),1,5)),IF(AL$108-AL$106=2,IF(MAX($AC$124:AK$126 )=10,IF(AL94=MIN(AL$94:AL$96),1,5),IF(AL94=MIN(AL$94:AL$96),5,10)),IF(AL$108-AL$106=1,IF(AL$101=\"A\",IF(AL94=MAX(AL$94:AL$96),10,1),0),0))))","v":0},{"$f":"IF(AL124>0,AL124,IF(AM$108-AM$106=3,IF(AM94=MAX(AM$94:AM$96),10,IF(AM94=MIN(AM$94:AM$96),1,5)),IF(AM$108-AM$106=2,IF(MAX($AC$124:AL$126 )=10,IF(AM94=MIN(AM$94:AM$96),1,5),IF(AM94=MIN(AM$94:AM$96),5,10)),IF(AM$108-AM$106=1,IF(AM$101=\"A\",IF(AM94=MAX(AM$94:AM$96),10,1),0),0))))","v":0},{"$f":"IF(AM124>0,AM124,IF(AN$108-AN$106=3,IF(AN94=MAX(AN$94:AN$96),10,IF(AN94=MIN(AN$94:AN$96),1,5)),IF(AN$108-AN$106=2,IF(MAX($AC$124:AM$126 )=10,IF(AN94=MIN(AN$94:AN$96),1,5),IF(AN94=MIN(AN$94:AN$96),5,10)),IF(AN$108-AN$106=1,IF(AN$101=\"A\",IF(AN94=MAX(AN$94:AN$96),10,1),0),0))))","v":0},{"$f":"IF(AN124>0,AN124,IF(AO$108-AO$106=3,IF(AO94=MAX(AO$94:AO$96),10,IF(AO94=MIN(AO$94:AO$96),1,5)),IF(AO$108-AO$106=2,IF(MAX($AC$124:AN$126 )=10,IF(AO94=MIN(AO$94:AO$96),1,5),IF(AO94=MIN(AO$94:AO$96),5,10)),IF(AO$108-AO$106=1,IF(AO$101=\"A\",IF(AO94=MAX(AO$94:AO$96),10,1),0),0))))","v":0},{"$f":"IF(AO124>0,AO124,IF(AP$108-AP$106=3,IF(AP94=MAX(AP$94:AP$96),10,IF(AP94=MIN(AP$94:AP$96),1,5)),IF(AP$108-AP$106=2,IF(MAX($AC$124:AO$126 )=10,IF(AP94=MIN(AP$94:AP$96),1,5),IF(AP94=MIN(AP$94:AP$96),5,10)),IF(AP$108-AP$106=1,IF(AP$101=\"A\",IF(AP94=MAX(AP$94:AP$96),10,1),0),0))))","v":0},{"$f":"IF(AP124>0,AP124,IF(AQ$108-AQ$106=3,IF(AQ94=MAX(AQ$94:AQ$96),10,IF(AQ94=MIN(AQ$94:AQ$96),1,5)),IF(AQ$108-AQ$106=2,IF(MAX($AC$124:AP$126 )=10,IF(AQ94=MIN(AQ$94:AQ$96),1,5),IF(AQ94=MIN(AQ$94:AQ$96),5,10)),IF(AQ$108-AQ$106=1,IF(AQ$101=\"A\",IF(AQ94=MAX(AQ$94:AQ$96),10,1),0),0))))","v":0},{"$f":"IF(AQ124>0,AQ124,IF(AR$108-AR$106=3,IF(AR94=MAX(AR$94:AR$96),10,IF(AR94=MIN(AR$94:AR$96),1,5)),IF(AR$108-AR$106=2,IF(MAX($AC$124:AQ$126 )=10,IF(AR94=MIN(AR$94:AR$96),1,5),IF(AR94=MIN(AR$94:AR$96),5,10)),IF(AR$108-AR$106=1,IF(AR$101=\"A\",IF(AR94=MAX(AR$94:AR$96),10,1),0),0))))","v":0},{"$f":"IF(AR124>0,AR124,IF(AS$108-AS$106=3,IF(AS94=MAX(AS$94:AS$96),10,IF(AS94=MIN(AS$94:AS$96),1,5)),IF(AS$108-AS$106=2,IF(MAX($AC$124:AR$126 )=10,IF(AS94=MIN(AS$94:AS$96),1,5),IF(AS94=MIN(AS$94:AS$96),5,10)),IF(AS$108-AS$106=1,IF(AS$101=\"A\",IF(AS94=MAX(AS$94:AS$96),10,1),0),0))))","v":0},{"$f":"IF(AS124>0,AS124,IF(AT$108-AT$106=3,IF(AT94=MAX(AT$94:AT$96),10,IF(AT94=MIN(AT$94:AT$96),1,5)),IF(AT$108-AT$106=2,IF(MAX($AC$124:AS$126 )=10,IF(AT94=MIN(AT$94:AT$96),1,5),IF(AT94=MIN(AT$94:AT$96),5,10)),IF(AT$108-AT$106=1,IF(AT$101=\"A\",IF(AT94=MAX(AT$94:AT$96),10,1),0),0))))","v":0},{"$f":"IF(AT124>0,AT124,IF(AU$108-AU$106=3,IF(AU94=MAX(AU$94:AU$96),10,IF(AU94=MIN(AU$94:AU$96),1,5)),IF(AU$108-AU$106=2,IF(MAX($AC$124:AT$126 )=10,IF(AU94=MIN(AU$94:AU$96),1,5),IF(AU94=MIN(AU$94:AU$96),5,10)),IF(AU$108-AU$106=1,IF(AU$101=\"A\",IF(AU94=MAX(AU$94:AU$96),10,1),0),0))))","v":0},{"$f":"IF(AU124>0,AU124,IF(AV$108-AV$106=3,IF(AV94=MAX(AV$94:AV$96),10,IF(AV94=MIN(AV$94:AV$96),1,5)),IF(AV$108-AV$106=2,IF(MAX($AC$124:AU$126 )=10,IF(AV94=MIN(AV$94:AV$96),1,5),IF(AV94=MIN(AV$94:AV$96),5,10)),IF(AV$108-AV$106=1,IF(AV$101=\"A\",IF(AV94=MAX(AV$94:AV$96),10,1),0),0))))","v":0},{"$f":"IF(AV124>0,AV124,IF(AW$108-AW$106=3,IF(AW94=MAX(AW$94:AW$96),10,IF(AW94=MIN(AW$94:AW$96),1,5)),IF(AW$108-AW$106=2,IF(MAX($AC$124:AV$126 )=10,IF(AW94=MIN(AW$94:AW$96),1,5),IF(AW94=MIN(AW$94:AW$96),5,10)),IF(AW$108-AW$106=1,IF(AW$101=\"A\",IF(AW94=MAX(AW$94:AW$96),10,1),0),0))))","v":0},{"$f":"IF(AW124>0,AW124,IF(AX$108-AX$106=3,IF(AX94=MAX(AX$94:AX$96),10,IF(AX94=MIN(AX$94:AX$96),1,5)),IF(AX$108-AX$106=2,IF(MAX($AC$124:AW$126 )=10,IF(AX94=MIN(AX$94:AX$96),1,5),IF(AX94=MIN(AX$94:AX$96),5,10)),IF(AX$108-AX$106=1,IF(AX$101=\"A\",IF(AX94=MAX(AX$94:AX$96),10,1),0),0))))","v":0},{"$f":"IF(AX124>0,AX124,IF(AY$108-AY$106=3,IF(AY94=MAX(AY$94:AY$96),10,IF(AY94=MIN(AY$94:AY$96),1,5)),IF(AY$108-AY$106=2,IF(MAX($AC$124:AX$126 )=10,IF(AY94=MIN(AY$94:AY$96),1,5),IF(AY94=MIN(AY$94:AY$96),5,10)),IF(AY$108-AY$106=1,IF(AY$101=\"A\",IF(AY94=MAX(AY$94:AY$96),10,1),0),0))))","v":0},{"$f":"IF(AY124>0,AY124,IF(AZ$108-AZ$106=3,IF(AZ94=MAX(AZ$94:AZ$96),10,IF(AZ94=MIN(AZ$94:AZ$96),1,5)),IF(AZ$108-AZ$106=2,IF(MAX($AC$124:AY$126 )=10,IF(AZ94=MIN(AZ$94:AZ$96),1,5),IF(AZ94=MIN(AZ$94:AZ$96),5,10)),IF(AZ$108-AZ$106=1,IF(AZ$101=\"A\",IF(AZ94=MAX(AZ$94:AZ$96),10,1),0),0))))","v":0},{"$f":"IF(AZ124>0,AZ124,IF(BA$108-BA$106=3,IF(BA94=MAX(BA$94:BA$96),10,IF(BA94=MIN(BA$94:BA$96),1,5)),IF(BA$108-BA$106=2,IF(MAX($AC$124:AZ$126 )=10,IF(BA94=MIN(BA$94:BA$96),1,5),IF(BA94=MIN(BA$94:BA$96),5,10)),IF(BA$108-BA$106=1,IF(BA$101=\"A\",IF(BA94=MAX(BA$94:BA$96),10,1),0),0))))","v":0},{"$f":"IF(BA124>0,BA124,IF(BB$108-BB$106=3,IF(BB94=MAX(BB$94:BB$96),10,IF(BB94=MIN(BB$94:BB$96),1,5)),IF(BB$108-BB$106=2,IF(MAX($AC$124:BA$126 )=10,IF(BB94=MIN(BB$94:BB$96),1,5),IF(BB94=MIN(BB$94:BB$96),5,10)),IF(BB$108-BB$106=1,IF(BB$101=\"A\",IF(BB94=MAX(BB$94:BB$96),10,1),0),0))))","v":0},{"$f":"IF(BB124>0,BB124,IF(BC$108-BC$106=3,IF(BC94=MAX(BC$94:BC$96),10,IF(BC94=MIN(BC$94:BC$96),1,5)),IF(BC$108-BC$106=2,IF(MAX($AC$124:BB$126 )=10,IF(BC94=MIN(BC$94:BC$96),1,5),IF(BC94=MIN(BC$94:BC$96),5,10)),IF(BC$108-BC$106=1,IF(BC$101=\"A\",IF(BC94=MAX(BC$94:BC$96),10,1),0),0))))","v":0},{"$f":"IF(BC124>0,BC124,IF(BD$108-BD$106=3,IF(BD94=MAX(BD$94:BD$96),10,IF(BD94=MIN(BD$94:BD$96),1,5)),IF(BD$108-BD$106=2,IF(MAX($AC$124:BC$126 )=10,IF(BD94=MIN(BD$94:BD$96),1,5),IF(BD94=MIN(BD$94:BD$96),5,10)),IF(BD$108-BD$106=1,IF(BD$101=\"A\",IF(BD94=MAX(BD$94:BD$96),10,1),0),0))))","v":0},{"$f":"IF(BD124>0,BD124,IF(BE$108-BE$106=3,IF(BE94=MAX(BE$94:BE$96),10,IF(BE94=MIN(BE$94:BE$96),1,5)),IF(BE$108-BE$106=2,IF(MAX($AC$124:BD$126 )=10,IF(BE94=MIN(BE$94:BE$96),1,5),IF(BE94=MIN(BE$94:BE$96),5,10)),IF(BE$108-BE$106=1,IF(BE$101=\"A\",IF(BE94=MAX(BE$94:BE$96),10,1),0),0))))","v":0},{"$f":"IF(BE124>0,BE124,IF(BF$108-BF$106=3,IF(BF94=MAX(BF$94:BF$96),10,IF(BF94=MIN(BF$94:BF$96),1,5)),IF(BF$108-BF$106=2,IF(MAX($AC$124:BE$126 )=10,IF(BF94=MIN(BF$94:BF$96),1,5),IF(BF94=MIN(BF$94:BF$96),5,10)),IF(BF$108-BF$106=1,IF(BF$101=\"A\",IF(BF94=MAX(BF$94:BF$96),10,1),0),0))))","v":0},{"$f":"IF(BF124>0,BF124,IF(BG$108-BG$106=3,IF(BG94=MAX(BG$94:BG$96),10,IF(BG94=MIN(BG$94:BG$96),1,5)),IF(BG$108-BG$106=2,IF(MAX($AC$124:BF$126 )=10,IF(BG94=MIN(BG$94:BG$96),1,5),IF(BG94=MIN(BG$94:BG$96),5,10)),IF(BG$108-BG$106=1,IF(BG$101=\"A\",IF(BG94=MAX(BG$94:BG$96),10,1),0),0))))","v":0}]
[null,null,null,null,null,null,null,null,null,null,null,null,null,null,null,null,null,null,null,null,null,null,null,null,null,null,null,{"$f":"MAX(AC125:BG125)","v":0},{"$f":"IF(AC$108-AC$106=3,IF(AC95=MAX(AC$94:AC$96),10,IF(AC95=MIN(AC$94:AC$96),1,5)),IF(AC$108-AC$106=2,\"later\",IF(AC$108-AC$106=1,IF(AC$101=\"B\",IF(AC95=MAX(AC$94:AC$96),10,1),0),0)))","v":0},{"$f":"IF(AC125>0,AC125,IF(AD$108-AD$106=3,IF(AD95=MAX(AD$94:AD$96),10,IF(AD95=MIN(AD$94:AD$96),1,5)),IF(AD$108-AD$106=2,IF(MAX($AC$124:AC$126 )=10,IF(AD95=MIN(AD$94:AD$96),1,5),IF(AD95=MIN(AD$94:AD$96),5,10)),IF(AD$108-AD$106=1,IF(AD$101=\"B\",IF(AD95=MAX(AD$94:AD$96),10,1),0),0))))","v":0},{"$f":"IF(AD125>0,AD125,IF(AE$108-AE$106=3,IF(AE95=MAX(AE$94:AE$96),10,IF(AE95=MIN(AE$94:AE$96),1,5)),IF(AE$108-AE$106=2,IF(MAX($AC$124:AD$126 )=10,IF(AE95=MIN(AE$94:AE$96),1,5),IF(AE95=MIN(AE$94:AE$96),5,10)),IF(AE$108-AE$106=1,IF(AE$101=\"B\",IF(AE95=MAX(AE$94:AE$96),10,1),0),0))))","v":0},{"$f":"IF(AE125>0,AE125,IF(AF$108-AF$106=3,IF(AF95=MAX(AF$94:AF$96),10,IF(AF95=MIN(AF$94:AF$96),1,5)),IF(AF$108-AF$106=2,IF(MAX($AC$124:AE$126 )=10,IF(AF95=MIN(AF$94:AF$96),1,5),IF(AF95=MIN(AF$94:AF$96),5,10)),IF(AF$108-AF$106=1,IF(AF$101=\"B\",IF(AF95=MAX(AF$94:AF$96),10,1),0),0))))","v":0},{"$f":"IF(AF125>0,AF125,IF(AG$108-AG$106=3,IF(AG95=MAX(AG$94:AG$96),10,IF(AG95=MIN(AG$94:AG$96),1,5)),IF(AG$108-AG$106=2,IF(MAX($AC$124:AF$126 )=10,IF(AG95=MIN(AG$94:AG$96),1,5),IF(AG95=MIN(AG$94:AG$96),5,10)),IF(AG$108-AG$106=1,IF(AG$101=\"B\",IF(AG95=MAX(AG$94:AG$96),10,1),0),0))))","v":0},{"$f":"IF(AG125>0,AG125,IF(AH$108-AH$106=3,IF(AH95=MAX(AH$94:AH$96),10,IF(AH95=MIN(AH$94:AH$96),1,5)),IF(AH$108-AH$106=2,IF(MAX($AC$124:AG$126 )=10,IF(AH95=MIN(AH$94:AH$96),1,5),IF(AH95=MIN(AH$94:AH$96),5,10)),IF(AH$108-AH$106=1,IF(AH$101=\"B\",IF(AH95=MAX(AH$94:AH$96),10,1),0),0))))","v":0},{"$f":"IF(AH125>0,AH125,IF(AI$108-AI$106=3,IF(AI95=MAX(AI$94:AI$96),10,IF(AI95=MIN(AI$94:AI$96),1,5)),IF(AI$108-AI$106=2,IF(MAX($AC$124:AH$126 )=10,IF(AI95=MIN(AI$94:AI$96),1,5),IF(AI95=MIN(AI$94:AI$96),5,10)),IF(AI$108-AI$106=1,IF(AI$101=\"B\",IF(AI95=MAX(AI$94:AI$96),10,1),0),0))))","v":0},{"$f":"IF(AI125>0,AI125,IF(AJ$108-AJ$106=3,IF(AJ95=MAX(AJ$94:AJ$96),10,IF(AJ95=MIN(AJ$94:AJ$96),1,5)),IF(AJ$108-AJ$106=2,IF(MAX($AC$124:AI$126 )=10,IF(AJ95=MIN(AJ$94:AJ$96),1,5),IF(AJ95=MIN(AJ$94:AJ$96),5,10)),IF(AJ$108-AJ$106=1,IF(AJ$101=\"B\",IF(AJ95=MAX(AJ$94:AJ$96),10,1),0),0))))","v":0},{"$f":"IF(AJ125>0,AJ125,IF(AK$108-AK$106=3,IF(AK95=MAX(AK$94:AK$96),10,IF(AK95=MIN(AK$94:AK$96),1,5)),IF(AK$108-AK$106=2,IF(MAX($AC$124:AJ$126 )=10,IF(AK95=MIN(AK$94:AK$96),1,5),IF(AK95=MIN(AK$94:AK$96),5,10)),IF(AK$108-AK$106=1,IF(AK$101=\"B\",IF(AK95=MAX(AK$94:AK$96),10,1),0),0))))","v":0},{"$f":"IF(AK125>0,AK125,IF(AL$108-AL$106=3,IF(AL95=MAX(AL$94:AL$96),10,IF(AL95=MIN(AL$94:AL$96),1,5)),IF(AL$108-AL$106=2,IF(MAX($AC$124:AK$126 )=10,IF(AL95=MIN(AL$94:AL$96),1,5),IF(AL95=MIN(AL$94:AL$96),5,10)),IF(AL$108-AL$106=1,IF(AL$101=\"B\",IF(AL95=MAX(AL$94:AL$96),10,1),0),0))))","v":0},{"$f":"IF(AL125>0,AL125,IF(AM$108-AM$106=3,IF(AM95=MAX(AM$94:AM$96),10,IF(AM95=MIN(AM$94:AM$96),1,5)),IF(AM$108-AM$106=2,IF(MAX($AC$124:AL$126 )=10,IF(AM95=MIN(AM$94:AM$96),1,5),IF(AM95=MIN(AM$94:AM$96),5,10)),IF(AM$108-AM$106=1,IF(AM$101=\"B\",IF(AM95=MAX(AM$94:AM$96),10,1),0),0))))","v":0},{"$f":"IF(AM125>0,AM125,IF(AN$108-AN$106=3,IF(AN95=MAX(AN$94:AN$96),10,IF(AN95=MIN(AN$94:AN$96),1,5)),IF(AN$108-AN$106=2,IF(MAX($AC$124:AM$126 )=10,IF(AN95=MIN(AN$94:AN$96),1,5),IF(AN95=MIN(AN$94:AN$96),5,10)),IF(AN$108-AN$106=1,IF(AN$101=\"B\",IF(AN95=MAX(AN$94:AN$96),10,1),0),0))))","v":0},{"$f":"IF(AN125>0,AN125,IF(AO$108-AO$106=3,IF(AO95=MAX(AO$94:AO$96),10,IF(AO95=MIN(AO$94:AO$96),1,5)),IF(AO$108-AO$106=2,IF(MAX($AC$124:AN$126 )=10,IF(AO95=MIN(AO$94:AO$96),1,5),IF(AO95=MIN(AO$94:AO$96),5,10)),IF(AO$108-AO$106=1,IF(AO$101=\"B\",IF(AO95=MAX(AO$94:AO$96),10,1),0),0))))","v":0},{"$f":"IF(AO125>0,AO125,IF(AP$108-AP$106=3,IF(AP95=MAX(AP$94:AP$96),10,IF(AP95=MIN(AP$94:AP$96),1,5)),IF(AP$108-AP$106=2,IF(MAX($AC$124:AO$126 )=10,IF(AP95=MIN(AP$94:AP$96),1,5),IF(AP95=MIN(AP$94:AP$96),5,10)),IF(AP$108-AP$106=1,IF(AP$101=\"B\",IF(AP95=MAX(AP$94:AP$96),10,1),0),0))))","v":0},{"$f":"IF(AP125>0,AP125,IF(AQ$108-AQ$106=3,IF(AQ95=MAX(AQ$94:AQ$96),10,IF(AQ95=MIN(AQ$94:AQ$96),1,5)),IF(AQ$108-AQ$106=2,IF(MAX($AC$124:AP$126 )=10,IF(AQ95=MIN(AQ$94:AQ$96),1,5),IF(AQ95=MIN(AQ$94:AQ$96),5,10)),IF(AQ$108-AQ$106=1,IF(AQ$101=\"B\",IF(AQ95=MAX(AQ$94:AQ$96),10,1),0),0))))","v":0},{"$f":"IF(AQ125>0,AQ125,IF(AR$108-AR$106=3,IF(AR95=MAX(AR$94:AR$96),10,IF(AR95=MIN(AR$94:AR$96),1,5)),IF(AR$108-AR$106=2,IF(MAX($AC$124:AQ$126 )=10,IF(AR95=MIN(AR$94:AR$96),1,5),IF(AR95=MIN(AR$94:AR$96),5,10)),IF(AR$108-AR$106=1,IF(AR$101=\"B\",IF(AR95=MAX(AR$94:AR$96),10,1),0),0))))","v":0},{"$f":"IF(AR125>0,AR125,IF(AS$108-AS$106=3,IF(AS95=MAX(AS$94:AS$96),10,IF(AS95=MIN(AS$94:AS$96),1,5)),IF(AS$108-AS$106=2,IF(MAX($AC$124:AR$126 )=10,IF(AS95=MIN(AS$94:AS$96),1,5),IF(AS95=MIN(AS$94:AS$96),5,10)),IF(AS$108-AS$106=1,IF(AS$101=\"B\",IF(AS95=MAX(AS$94:AS$96),10,1),0),0))))","v":0},{"$f":"IF(AS125>0,AS125,IF(AT$108-AT$106=3,IF(AT95=MAX(AT$94:AT$96),10,IF(AT95=MIN(AT$94:AT$96),1,5)),IF(AT$108-AT$106=2,IF(MAX($AC$124:AS$126 )=10,IF(AT95=MIN(AT$94:AT$96),1,5),IF(AT95=MIN(AT$94:AT$96),5,10)),IF(AT$108-AT$106=1,IF(AT$101=\"B\",IF(AT95=MAX(AT$94:AT$96),10,1),0),0))))","v":0},{"$f":"IF(AT125>0,AT125,IF(AU$108-AU$106=3,IF(AU95=MAX(AU$94:AU$96),10,IF(AU95=MIN(AU$94:AU$96),1,5)),IF(AU$108-AU$106=2,IF(MAX($AC$124:AT$126 )=10,IF(AU95=MIN(AU$94:AU$96),1,5),IF(AU95=MIN(AU$94:AU$96),5,10)),IF(AU$108-AU$106=1,IF(AU$101=\"B\",IF(AU95=MAX(AU$94:AU$96),10,1),0),0))))","v":0},{"$f":"IF(AU125>0,AU125,IF(AV$108-AV$106=3,IF(AV95=MAX(AV$94:AV$96),10,IF(AV95=MIN(AV$94:AV$96),1,5)),IF(AV$108-AV$106=2,IF(MAX($AC$124:AU$126 )=10,IF(AV95=MIN(AV$94:AV$96),1,5),IF(AV95=MIN(AV$94:AV$96),5,10)),IF(AV$108-AV$106=1,IF(AV$101=\"B\",IF(AV95=MAX(AV$94:AV$96),10,1),0),0))))","v":0},{"$f":"IF(AV125>0,AV125,IF(AW$108-AW$106=3,IF(AW95=MAX(AW$94:AW$96),10,IF(AW95=MIN(AW$94:AW$96),1,5)),IF(AW$108-AW$106=2,IF(MAX($AC$124:AV$126 )=10,IF(AW95=MIN(AW$94:AW$96),1,5),IF(AW95=MIN(AW$94:AW$96),5,10)),IF(AW$108-AW$106=1,IF(AW$101=\"B\",IF(AW95=MAX(AW$94:AW$96),10,1),0),0))))","v":0},{"$f":"IF(AW125>0,AW125,IF(AX$108-AX$106=3,IF(AX95=MAX(AX$94:AX$96),10,IF(AX95=MIN(AX$94:AX$96),1,5)),IF(AX$108-AX$106=2,IF(MAX($AC$124:AW$126 )=10,IF(AX95=MIN(AX$94:AX$96),1,5),IF(AX95=MIN(AX$94:AX$96),5,10)),IF(AX$108-AX$106=1,IF(AX$101=\"B\",IF(AX95=MAX(AX$94:AX$96),10,1),0),0))))","v":0},{"$f":"IF(AX125>0,AX125,IF(AY$108-AY$106=3,IF(AY95=MAX(AY$94:AY$96),10,IF(AY95=MIN(AY$94:AY$96),1,5)),IF(AY$108-AY$106=2,IF(MAX($AC$124:AX$126 )=10,IF(AY95=MIN(AY$94:AY$96),1,5),IF(AY95=MIN(AY$94:AY$96),5,10)),IF(AY$108-AY$106=1,IF(AY$101=\"B\",IF(AY95=MAX(AY$94:AY$96),10,1),0),0))))","v":0},{"$f":"IF(AY125>0,AY125,IF(AZ$108-AZ$106=3,IF(AZ95=MAX(AZ$94:AZ$96),10,IF(AZ95=MIN(AZ$94:AZ$96),1,5)),IF(AZ$108-AZ$106=2,IF(MAX($AC$124:AY$126 )=10,IF(AZ95=MIN(AZ$94:AZ$96),1,5),IF(AZ95=MIN(AZ$94:AZ$96),5,10)),IF(AZ$108-AZ$106=1,IF(AZ$101=\"B\",IF(AZ95=MAX(AZ$94:AZ$96),10,1),0),0))))","v":0},{"$f":"IF(AZ125>0,AZ125,IF(BA$108-BA$106=3,IF(BA95=MAX(BA$94:BA$96),10,IF(BA95=MIN(BA$94:BA$96),1,5)),IF(BA$108-BA$106=2,IF(MAX($AC$124:AZ$126 )=10,IF(BA95=MIN(BA$94:BA$96),1,5),IF(BA95=MIN(BA$94:BA$96),5,10)),IF(BA$108-BA$106=1,IF(BA$101=\"B\",IF(BA95=MAX(BA$94:BA$96),10,1),0),0))))","v":0},{"$f":"IF(BA125>0,BA125,IF(BB$108-BB$106=3,IF(BB95=MAX(BB$94:BB$96),10,IF(BB95=MIN(BB$94:BB$96),1,5)),IF(BB$108-BB$106=2,IF(MAX($AC$124:BA$126 )=10,IF(BB95=MIN(BB$94:BB$96),1,5),IF(BB95=MIN(BB$94:BB$96),5,10)),IF(BB$108-BB$106=1,IF(BB$101=\"B\",IF(BB95=MAX(BB$94:BB$96),10,1),0),0))))","v":0},{"$f":"IF(BB125>0,BB125,IF(BC$108-BC$106=3,IF(BC95=MAX(BC$94:BC$96),10,IF(BC95=MIN(BC$94:BC$96),1,5)),IF(BC$108-BC$106=2,IF(MAX($AC$124:BB$126 )=10,IF(BC95=MIN(BC$94:BC$96),1,5),IF(BC95=MIN(BC$94:BC$96),5,10)),IF(BC$108-BC$106=1,IF(BC$101=\"B\",IF(BC95=MAX(BC$94:BC$96),10,1),0),0))))","v":0},{"$f":"IF(BC125>0,BC125,IF(BD$108-BD$106=3,IF(BD95=MAX(BD$94:BD$96),10,IF(BD95=MIN(BD$94:BD$96),1,5)),IF(BD$108-BD$106=2,IF(MAX($AC$124:BC$126 )=10,IF(BD95=MIN(BD$94:BD$96),1,5),IF(BD95=MIN(BD$94:BD$96),5,10)),IF(BD$108-BD$106=1,IF(BD$101=\"B\",IF(BD95=MAX(BD$94:BD$96),10,1),0),0))))","v":0},{"$f":"IF(BD125>0,BD125,IF(BE$108-BE$106=3,IF(BE95=MAX(BE$94:BE$96),10,IF(BE95=MIN(BE$94:BE$96),1,5)),IF(BE$108-BE$106=2,IF(MAX($AC$124:BD$126 )=10,IF(BE95=MIN(BE$94:BE$96),1,5),IF(BE95=MIN(BE$94:BE$96),5,10)),IF(BE$108-BE$106=1,IF(BE$101=\"B\",IF(BE95=MAX(BE$94:BE$96),10,1),0),0))))","v":0},{"$f":"IF(BE125>0,BE125,IF(BF$108-BF$106=3,IF(BF95=MAX(BF$94:BF$96),10,IF(BF95=MIN(BF$94:BF$96),1,5)),IF(BF$108-BF$106=2,IF(MAX($AC$124:BE$126 )=10,IF(BF95=MIN(BF$94:BF$96),1,5),IF(BF95=MIN(BF$94:BF$96),5,10)),IF(BF$108-BF$106=1,IF(BF$101=\"B\",IF(BF95=MAX(BF$94:BF$96),10,1),0),0))))","v":0},{"$f":"IF(BF125>0,BF125,IF(BG$108-BG$106=3,IF(BG95=MAX(BG$94:BG$96),10,IF(BG95=MIN(BG$94:BG$96),1,5)),IF(BG$108-BG$106=2,IF(MAX($AC$124:BF$126 )=10,IF(BG95=MIN(BG$94:BG$96),1,5),IF(BG95=MIN(BG$94:BG$96),5,10)),IF(BG$108-BG$106=1,IF(BG$101=\"B\",IF(BG95=MAX(BG$94:BG$96),10,1),0),0))))","v":0}]
[null,null,null,null,null,null,null,null,null,null,null,null,null,null,null,null,null,null,null,null,null,null,null,null,null,null,null,0,{"$f":"IF(AC$108-AC$106=3,IF(AC96=MAX(AC$94:AC$96),10,IF(AC96=MIN(AC$94:AC$96),1,5)),IF(AC$108-AC$106=2,\"later\",IF(AC$108-AC$106=1,IF(AC$101=\"C\",IF(AC96=MAX(AC$94:AC$96),10,1),0),0)))","v":0},{"$f":"IF(AC126>0,AC126,IF(AD$108-AD$106=3,IF(AD96=MAX(AD$94:AD$96),10,IF(AD96=MIN(AD$94:AD$96),1,5)),IF(AD$108-AD$106=2,IF(MAX($AC$124:AC$126 )=10,IF(AD96=MIN(AD$94:AD$96),1,5),IF(AD96=MIN(AD$94:AD$96),5,10)),IF(AD$108-AD$106=1,IF(AD$101=\"C\",IF(AD96=MAX(AD$94:AD$96),10,1),0),0))))","v":0},{"$f":"IF(AD126>0,AD126,IF(AE$108-AE$106=3,IF(AE96=MAX(AE$94:AE$96),10,IF(AE96=MIN(AE$94:AE$96),1,5)),IF(AE$108-AE$106=2,IF(MAX($AC$124:AD$126 )=10,IF(AE96=MIN(AE$94:AE$96),1,5),IF(AE96=MIN(AE$94:AE$96),5,10)),IF(AE$108-AE$106=1,IF(AE$101=\"C\",IF(AE96=MAX(AE$94:AE$96),10,1),0),0))))","v":0},{"$f":"IF(AE126>0,AE126,IF(AF$108-AF$106=3,IF(AF96=MAX(AF$94:AF$96),10,IF(AF96=MIN(AF$94:AF$96),1,5)),IF(AF$108-AF$106=2,IF(MAX($AC$124:AE$126 )=10,IF(AF96=MIN(AF$94:AF$96),1,5),IF(AF96=MIN(AF$94:AF$96),5,10)),IF(AF$108-AF$106=1,IF(AF$101=\"C\",IF(AF96=MAX(AF$94:AF$96),10,1),0),0))))","v":0},{"$f":"IF(AF126>0,AF126,IF(AG$108-AG$106=3,IF(AG96=MAX(AG$94:AG$96),10,IF(AG96=MIN(AG$94:AG$96),1,5)),IF(AG$108-AG$106=2,IF(MAX($AC$124:AF$126 )=10,IF(AG96=MIN(AG$94:AG$96),1,5),IF(AG96=MIN(AG$94:AG$96),5,10)),IF(AG$108-AG$106=1,IF(AG$101=\"C\",IF(AG96=MAX(AG$94:AG$96),10,1),0),0))))","v":0},{"$f":"IF(AG126>0,AG126,IF(AH$108-AH$106=3,IF(AH96=MAX(AH$94:AH$96),10,IF(AH96=MIN(AH$94:AH$96),1,5)),IF(AH$108-AH$106=2,IF(MAX($AC$124:AG$126 )=10,IF(AH96=MIN(AH$94:AH$96),1,5),IF(AH96=MIN(AH$94:AH$96),5,10)),IF(AH$108-AH$106=1,IF(AH$101=\"C\",IF(AH96=MAX(AH$94:AH$96),10,1),0),0))))","v":0},{"$f":"IF(AH126>0,AH126,IF(AI$108-AI$106=3,IF(AI96=MAX(AI$94:AI$96),10,IF(AI96=MIN(AI$94:AI$96),1,5)),IF(AI$108-AI$106=2,IF(MAX($AC$124:AH$126 )=10,IF(AI96=MIN(AI$94:AI$96),1,5),IF(AI96=MIN(AI$94:AI$96),5,10)),IF(AI$108-AI$106=1,IF(AI$101=\"C\",IF(AI96=MAX(AI$94:AI$96),10,1),0),0))))","v":0},{"$f":"IF(AI126>0,AI126,IF(AJ$108-AJ$106=3,IF(AJ96=MAX(AJ$94:AJ$96),10,IF(AJ96=MIN(AJ$94:AJ$96),1,5)),IF(AJ$108-AJ$106=2,IF(MAX($AC$124:AI$126 )=10,IF(AJ96=MIN(AJ$94:AJ$96),1,5),IF(AJ96=MIN(AJ$94:AJ$96),5,10)),IF(AJ$108-AJ$106=1,IF(AJ$101=\"C\",IF(AJ96=MAX(AJ$94:AJ$96),10,1),0),0))))","v":0},{"$f":"IF(AJ126>0,AJ126,IF(AK$108-AK$106=3,IF(AK96=MAX(AK$94:AK$96),10,IF(AK96=MIN(AK$94:AK$96),1,5)),IF(AK$108-AK$106=2,IF(MAX($AC$124:AJ$126 )=10,IF(AK96=MIN(AK$94:AK$96),1,5),IF(AK96=MIN(AK$94:AK$96),5,10)),IF(AK$108-AK$106=1,IF(AK$101=\"C\",IF(AK96=MAX(AK$94:AK$96),10,1),0),0))))","v":0},{"$f":"IF(AK126>0,AK126,IF(AL$108-AL$106=3,IF(AL96=MAX(AL$94:AL$96),10,IF(AL96=MIN(AL$94:AL$96),1,5)),IF(AL$108-AL$106=2,IF(MAX($AC$124:AK$126 )=10,IF(AL96=MIN(AL$94:AL$96),1,5),IF(AL96=MIN(AL$94:AL$96),5,10)),IF(AL$108-AL$106=1,IF(AL$101=\"C\",IF(AL96=MAX(AL$94:AL$96),10,1),0),0))))","v":0},{"$f":"IF(AL126>0,AL126,IF(AM$108-AM$106=3,IF(AM96=MAX(AM$94:AM$96),10,IF(AM96=MIN(AM$94:AM$96),1,5)),IF(AM$108-AM$106=2,IF(MAX($AC$124:AL$126 )=10,IF(AM96=MIN(AM$94:AM$96),1,5),IF(AM96=MIN(AM$94:AM$96),5,10)),IF(AM$108-AM$106=1,IF(AM$101=\"C\",IF(AM96=MAX(AM$94:AM$96),10,1),0),0))))","v":0},{"$f":"IF(AM126>0,AM126,IF(AN$108-AN$106=3,IF(AN96=MAX(AN$94:AN$96),10,IF(AN96=MIN(AN$94:AN$96),1,5)),IF(AN$108-AN$106=2,IF(MAX($AC$124:AM$126 )=10,IF(AN96=MIN(AN$94:AN$96),1,5),IF(AN96=MIN(AN$94:AN$96),5,10)),IF(AN$108-AN$106=1,IF(AN$101=\"C\",IF(AN96=MAX(AN$94:AN$96),10,1),0),0))))","v":0},{"$f":"IF(AN126>0,AN126,IF(AO$108-AO$106=3,IF(AO96=MAX(AO$94:AO$96),10,IF(AO96=MIN(AO$94:AO$96),1,5)),IF(AO$108-AO$106=2,IF(MAX($AC$124:AN$126 )=10,IF(AO96=MIN(AO$94:AO$96),1,5),IF(AO96=MIN(AO$94:AO$96),5,10)),IF(AO$108-AO$106=1,IF(AO$101=\"C\",IF(AO96=MAX(AO$94:AO$96),10,1),0),0))))","v":0},{"$f":"IF(AO126>0,AO126,IF(AP$108-AP$106=3,IF(AP96=MAX(AP$94:AP$96),10,IF(AP96=MIN(AP$94:AP$96),1,5)),IF(AP$108-AP$106=2,IF(MAX($AC$124:AO$126 )=10,IF(AP96=MIN(AP$94:AP$96),1,5),IF(AP96=MIN(AP$94:AP$96),5,10)),IF(AP$108-AP$106=1,IF(AP$101=\"C\",IF(AP96=MAX(AP$94:AP$96),10,1),0),0))))","v":0},{"$f":"IF(AP126>0,AP126,IF(AQ$108-AQ$106=3,IF(AQ96=MAX(AQ$94:AQ$96),10,IF(AQ96=MIN(AQ$94:AQ$96),1,5)),IF(AQ$108-AQ$106=2,IF(MAX($AC$124:AP$126 )=10,IF(AQ96=MIN(AQ$94:AQ$96),1,5),IF(AQ96=MIN(AQ$94:AQ$96),5,10)),IF(AQ$108-AQ$106=1,IF(AQ$101=\"C\",IF(AQ96=MAX(AQ$94:AQ$96),10,1),0),0))))","v":0},{"$f":"IF(AQ126>0,AQ126,IF(AR$108-AR$106=3,IF(AR96=MAX(AR$94:AR$96),10,IF(AR96=MIN(AR$94:AR$96),1,5)),IF(AR$108-AR$106=2,IF(MAX($AC$124:AQ$126 )=10,IF(AR96=MIN(AR$94:AR$96),1,5),IF(AR96=MIN(AR$94:AR$96),5,10)),IF(AR$108-AR$106=1,IF(AR$101=\"C\",IF(AR96=MAX(AR$94:AR$96),10,1),0),0))))","v":0},{"$f":"IF(AR126>0,AR126,IF(AS$108-AS$106=3,IF(AS96=MAX(AS$94:AS$96),10,IF(AS96=MIN(AS$94:AS$96),1,5)),IF(AS$108-AS$106=2,IF(MAX($AC$124:AR$126 )=10,IF(AS96=MIN(AS$94:AS$96),1,5),IF(AS96=MIN(AS$94:AS$96),5,10)),IF(AS$108-AS$106=1,IF(AS$101=\"C\",IF(AS96=MAX(AS$94:AS$96),10,1),0),0))))","v":0},{"$f":"IF(AS126>0,AS126,IF(AT$108-AT$106=3,IF(AT96=MAX(AT$94:AT$96),10,IF(AT96=MIN(AT$94:AT$96),1,5)),IF(AT$108-AT$106=2,IF(MAX($AC$124:AS$126 )=10,IF(AT96=MIN(AT$94:AT$96),1,5),IF(AT96=MIN(AT$94:AT$96),5,10)),IF(AT$108-AT$106=1,IF(AT$101=\"C\",IF(AT96=MAX(AT$94:AT$96),10,1),0),0))))","v":0},{"$f":"IF(AT126>0,AT126,IF(AU$108-AU$106=3,IF(AU96=MAX(AU$94:AU$96),10,IF(AU96=MIN(AU$94:AU$96),1,5)),IF(AU$108-AU$106=2,IF(MAX($AC$124:AT$126 )=10,IF(AU96=MIN(AU$94:AU$96),1,5),IF(AU96=MIN(AU$94:AU$96),5,10)),IF(AU$108-AU$106=1,IF(AU$101=\"C\",IF(AU96=MAX(AU$94:AU$96),10,1),0),0))))","v":0},{"$f":"IF(AU126>0,AU126,IF(AV$108-AV$106=3,IF(AV96=MAX(AV$94:AV$96),10,IF(AV96=MIN(AV$94:AV$96),1,5)),IF(AV$108-AV$106=2,IF(MAX($AC$124:AU$126 )=10,IF(AV96=MIN(AV$94:AV$96),1,5),IF(AV96=MIN(AV$94:AV$96),5,10)),IF(AV$108-AV$106=1,IF(AV$101=\"C\",IF(AV96=MAX(AV$94:AV$96),10,1),0),0))))","v":0},{"$f":"IF(AV126>0,AV126,IF(AW$108-AW$106=3,IF(AW96=MAX(AW$94:AW$96),10,IF(AW96=MIN(AW$94:AW$96),1,5)),IF(AW$108-AW$106=2,IF(MAX($AC$124:AV$126 )=10,IF(AW96=MIN(AW$94:AW$96),1,5),IF(AW96=MIN(AW$94:AW$96),5,10)),IF(AW$108-AW$106=1,IF(AW$101=\"C\",IF(AW96=MAX(AW$94:AW$96),10,1),0),0))))","v":0},{"$f":"IF(AW126>0,AW126,IF(AX$108-AX$106=3,IF(AX96=MAX(AX$94:AX$96),10,IF(AX96=MIN(AX$94:AX$96),1,5)),IF(AX$108-AX$106=2,IF(MAX($AC$124:AW$126 )=10,IF(AX96=MIN(AX$94:AX$96),1,5),IF(AX96=MIN(AX$94:AX$96),5,10)),IF(AX$108-AX$106=1,IF(AX$101=\"C\",IF(AX96=MAX(AX$94:AX$96),10,1),0),0))))","v":0},{"$f":"IF(AX126>0,AX126,IF(AY$108-AY$106=3,IF(AY96=MAX(AY$94:AY$96),10,IF(AY96=MIN(AY$94:AY$96),1,5)),IF(AY$108-AY$106=2,IF(MAX($AC$124:AX$126 )=10,IF(AY96=MIN(AY$94:AY$96),1,5),IF(AY96=MIN(AY$94:AY$96),5,10)),IF(AY$108-AY$106=1,IF(AY$101=\"C\",IF(AY96=MAX(AY$94:AY$96),10,1),0),0))))","v":0},{"$f":"IF(AY126>0,AY126,IF(AZ$108-AZ$106=3,IF(AZ96=MAX(AZ$94:AZ$96),10,IF(AZ96=MIN(AZ$94:AZ$96),1,5)),IF(AZ$108-AZ$106=2,IF(MAX($AC$124:AY$126 )=10,IF(AZ96=MIN(AZ$94:AZ$96),1,5),IF(AZ96=MIN(AZ$94:AZ$96),5,10)),IF(AZ$108-AZ$106=1,IF(AZ$101=\"C\",IF(AZ96=MAX(AZ$94:AZ$96),10,1),0),0))))","v":0},{"$f":"IF(AZ126>0,AZ126,IF(BA$108-BA$106=3,IF(BA96=MAX(BA$94:BA$96),10,IF(BA96=MIN(BA$94:BA$96),1,5)),IF(BA$108-BA$106=2,IF(MAX($AC$124:AZ$126 )=10,IF(BA96=MIN(BA$94:BA$96),1,5),IF(BA96=MIN(BA$94:BA$96),5,10)),IF(BA$108-BA$106=1,IF(BA$101=\"C\",IF(BA96=MAX(BA$94:BA$96),10,1),0),0))))","v":0},{"$f":"IF(BA126>0,BA126,IF(BB$108-BB$106=3,IF(BB96=MAX(BB$94:BB$96),10,IF(BB96=MIN(BB$94:BB$96),1,5)),IF(BB$108-BB$106=2,IF(MAX($AC$124:BA$126 )=10,IF(BB96=MIN(BB$94:BB$96),1,5),IF(BB96=MIN(BB$94:BB$96),5,10)),IF(BB$108-BB$106=1,IF(BB$101=\"C\",IF(BB96=MAX(BB$94:BB$96),10,1),0),0))))","v":0},{"$f":"IF(BB126>0,BB126,IF(BC$108-BC$106=3,IF(BC96=MAX(BC$94:BC$96),10,IF(BC96=MIN(BC$94:BC$96),1,5)),IF(BC$108-BC$106=2,IF(MAX($AC$124:BB$126 )=10,IF(BC96=MIN(BC$94:BC$96),1,5),IF(BC96=MIN(BC$94:BC$96),5,10)),IF(BC$108-BC$106=1,IF(BC$101=\"C\",IF(BC96=MAX(BC$94:BC$96),10,1),0),0))))","v":0},{"$f":"IF(BC126>0,BC126,IF(BD$108-BD$106=3,IF(BD96=MAX(BD$94:BD$96),10,IF(BD96=MIN(BD$94:BD$96),1,5)),IF(BD$108-BD$106=2,IF(MAX($AC$124:BC$126 )=10,IF(BD96=MIN(BD$94:BD$96),1,5),IF(BD96=MIN(BD$94:BD$96),5,10)),IF(BD$108-BD$106=1,IF(BD$101=\"C\",IF(BD96=MAX(BD$94:BD$96),10,1),0),0))))","v":0},{"$f":"IF(BD126>0,BD126,IF(BE$108-BE$106=3,IF(BE96=MAX(BE$94:BE$96),10,IF(BE96=MIN(BE$94:BE$96),1,5)),IF(BE$108-BE$106=2,IF(MAX($AC$124:BD$126 )=10,IF(BE96=MIN(BE$94:BE$96),1,5),IF(BE96=MIN(BE$94:BE$96),5,10)),IF(BE$108-BE$106=1,IF(BE$101=\"C\",IF(BE96=MAX(BE$94:BE$96),10,1),0),0))))","v":0},{"$f":"IF(BE126>0,BE126,IF(BF$108-BF$106=3,IF(BF96=MAX(BF$94:BF$96),10,IF(BF96=MIN(BF$94:BF$96),1,5)),IF(BF$108-BF$106=2,IF(MAX($AC$124:BE$126 )=10,IF(BF96=MIN(BF$94:BF$96),1,5),IF(BF96=MIN(BF$94:BF$96),5,10)),IF(BF$108-BF$106=1,IF(BF$101=\"C\",IF(BF96=MAX(BF$94:BF$96),10,1),0),0))))","v":0},{"$f":"IF(BF126>0,BF126,IF(BG$108-BG$106=3,IF(BG96=MAX(BG$94:BG$96),10,IF(BG96=MIN(BG$94:BG$96),1,5)),IF(BG$108-BG$106=2,IF(MAX($AC$124:BF$126 )=10,IF(BG96=MIN(BG$94:BG$96),1,5),IF(BG96=MIN(BG$94:BG$96),5,10)),IF(BG$108-BG$106=1,IF(BG$101=\"C\",IF(BG96=MAX(BG$94:BG$96),10,1),0),0))))","v":0}]

{"sheet":"Names","index":1,"n_rows":1,"n_cols":6,"rows_kept":1,"cut":false,"hidden":false,"merged":[]}
["Team Name","Coach","Quizzer 1","Quizzer 2","Quizzer 3","Quizzer 4"]

{"sheet":"Sheet3","index":2,"n_rows":140,"n_cols":59,"rows_kept":140,"cut":false,"hidden":true,"merged":[]}
[null,null,null,1,2,3,4,5,6,7,8,9,10,11,12,13,14,15,16,17,"A","B",18,"A","B",19,"A","B",20]
[]
[]
[]
[]
[]
[]
[]
[]
[]
[]
[]
[]
[]
[]
[null,"20/30/10/.",{"$f":"Scoresheet!C16","v":"Team Name"}]
[null,null,{"$f":"Scoresheet!C17","v":"Quizzer #1"},20,{"$f":"IF(D23>2,\".\",IF(D29=3,IF(D23=0,IF(Scoresheet!E26=20,30,Scoresheet!E26),Scoresheet!E26),IF(E29>3,\".\",Scoresheet!E26)))","v":20},{"$f":"IF(E23>2,\".\",IF(E29=3,IF(E23=0,IF(Scoresheet!F26=20,30,Scoresheet!F26),Scoresheet!F26),IF(F29>3,\".\",Scoresheet!F26)))","v":20},{"$f":"IF(F23>2,\".\",IF(F29=3,IF(F23=0,IF(Scoresheet!G26=20,30,Scoresheet!G26),Scoresheet!G26),IF(G29>3,\".\",Scoresheet!G26)))","v":20},{"$f":"IF(G23>2,\".\",IF(G29=3,IF(G23=0,IF(Scoresheet!H26=20,30,Scoresheet!H26),Scoresheet!H26),IF(H29>3,\".\",Scoresheet!H26)))","v":20},{"$f":"IF(H23>2,\".\",IF(H29=3,IF(H23=0,IF(Scoresheet!I26=20,30,Scoresheet!I26),Scoresheet!I26),IF(I29>3,\".\",Scoresheet!I26)))","v":20},{"$f":"IF(I23>2,\".\",IF(I29=3,IF(I23=0,IF(Scoresheet!J26=20,30,Scoresheet!J26),Scoresheet!J26),IF(J29>3,\".\",Scoresheet!J26)))","v":20},{"$f":"IF(J23>2,\".\",IF(J29=3,IF(J23=0,IF(Scoresheet!K26=20,30,Scoresheet!K26),Scoresheet!K26),IF(K29>3,\".\",Scoresheet!K26)))","v":20},{"$f":"IF(K23>2,\".\",IF(K29=3,IF(K23=0,IF(Scoresheet!L26=20,30,Scoresheet!L26),Scoresheet!L26),IF(L29>3,\".\",Scoresheet!L26)))","v":20},{"$f":"IF(L23>2,\".\",IF(L29=3,IF(L23=0,IF(Scoresheet!M26=20,30,Scoresheet!M26),Scoresheet!M26),IF(M29>3,\".\",Scoresheet!M26)))","v":20},{"$f":"IF(M23>2,\".\",IF(M29=3,IF(M23=0,IF(Scoresheet!N26=20,30,Scoresheet!N26),Scoresheet!N26),IF(N29>3,\".\",Scoresheet!N26)))","v":20},{"$f":"IF(N23>2,\".\",IF(N29=3,IF(N23=0,IF(Scoresheet!O26=20,30,Scoresheet!O26),Scoresheet!O26),IF(O29>3,\".\",Scoresheet!O26)))","v":20},{"$f":"IF(O23>2,\".\",IF(O29=3,IF(O23=0,IF(Scoresheet!P26=20,30,Scoresheet!P26),Scoresheet!P26),IF(P29>3,\".\",Scoresheet!P26)))","v":20},{"$f":"IF(P23>2,\".\",IF(P29=3,IF(P23=0,IF(Scoresheet!Q26=20,30,Scoresheet!Q26),Scoresheet!Q26),IF(Q29>3,\".\",Scoresheet!Q26)))","v":20},{"$f":"IF(Q23>2,\".\",IF(Q29=3,IF(Q23=0,IF(Scoresheet!R26=20,30,Scoresheet!R26),Scoresheet!R26),IF(R29>3,\".\",Scoresheet!R26)))","v":20},{"$f":"IF(R23>2,\".\",IF(R29=3,IF(R23=0,IF(Scoresheet!S26=20,30,Scoresheet!S26),Scoresheet!S26),IF(S29>3,\".\",Scoresheet!S26)))","v":20},{"$f":"IF(S23>2,\".\",IF(S29=3,IF(S23=0,IF(Scoresheet!T26=20,30,Scoresheet!T26),Scoresheet!T26),IF(T29>3,\".\",Scoresheet!T26)))","v":20},{"$f":"IF(T23>2,\".\",IF(T29=3,IF(T23=0,IF(Scoresheet!U26=20,30,Scoresheet!U26),Scoresheet!U26),IF(U29>3,\".\",Scoresheet!U26)))","v":20},{"$f":"IF(U23>2,\".\",IF(U29=3,IF(U23=0,IF(Scoresheet!V26=20,30,Scoresheet!V26),Scoresheet!V26),IF(V29>3,\".\",Scoresheet!V26)))","v":10},{"$f":"IF(V23>2,\".\",IF(V29=3,IF(V23=0,IF(Scoresheet!W26=20,30,Scoresheet!W26),Scoresheet!W26),IF(W29>3,\".\",Scoresheet!W26)))","v":20},{"$f":"IF(W23>2,\".\",IF(W29=3,IF(W23=0,IF(Scoresheet!X26=20,30,Scoresheet!X26),Scoresheet!X26),IF(X29>3,\".\",Scoresheet!X26)))","v":20},{"$f":"IF(X23>2,\".\",IF(X29=3,IF(X23=0,IF(Scoresheet!Y26=20,30,Scoresheet!Y26),Scoresheet!Y26),IF(Y29>3,\".\",Scoresheet!Y26)))","v":10},{"$f":"IF(Y23>2,\".\",IF(Y29=3,IF(Y23=0,IF(Scoresheet!Z26=20,30,Scoresheet!Z26),Scoresheet!Z26),IF(Z29>3,\".\",Scoresheet!Z26)))","v":20},{"$f":"IF(Z23>2,\".\",IF(Z29=3,IF(Z23=0,IF(Scoresheet!AA26=20,30,Scoresheet!AA26),Scoresheet!AA26),IF(AA29>3,\".\",Scoresheet!AA26)))","v":20},{"$f":"IF(AA23>2,\".\",IF(AA29=3,IF(AA23=0,IF(Scoresheet!AB26=20,30,Scoresheet!AB26),Scoresheet!AB26),IF(AB29>3,\".\",Scoresheet!AB26)))","v":10},{"$f":"IF(AB23>2,\".\",IF(AB29=3,IF(AB23=0,IF(Scoresheet!AC26=20,30,Scoresheet!AC26),Scoresheet!AC26),IF(AC29>3,\".\",Scoresheet!AC26)))","v":20},{"$f":"IF(AC23>2,\".\",IF(AC29=3,IF(AC23=0,IF(Scoresheet!AD26=20,30,Scoresheet!AD26),Scoresheet!AD26),IF(AD29>3,\".\",Scoresheet!AD26)))","v":"?"},{"$f":"IF(AD23>2,\".\",IF(AD29=3,IF(AD23=0,IF(Scoresheet!AE26=20,30,Scoresheet!AE26),Scoresheet!AE26),IF(AE29>3,\".\",Scoresheet!AE26)))","v":"?"},{"$f":"IF(AE23>2,\".\",IF(AE29=3,IF(AE23=0,IF(Scoresheet!AF26=20,30,Scoresheet!AF26),Scoresheet!AF26),IF(AF29>3,\".\",Scoresheet!AF26)))","v":"?"},{"$f":"IF(AF23>2,\".\",IF(AF29=3,IF(AF23=0,IF(Scoresheet!AG26=20,30,Scoresheet!AG26),Scoresheet!AG26),IF(AG29>3,\".\",Scoresheet!AG26)))","v":"?"},{"$f":"IF(AG23>2,\".\",IF(AG29=3,IF(AG23=0,IF(Scoresheet!AH26=20,30,Scoresheet!AH26),Scoresheet!AH26),IF(AH29>3,\".\",Scoresheet!AH26)))","v":"?"},{"$f":"IF(AH23>2,\".\",IF(AH29=3,IF(AH23=0,IF(Scoresheet!AI26=20,30,Scoresheet!AI26),Scoresheet!AI26),IF(AI29>3,\".\",Scoresheet!AI26)))","v":"?"},{"$f":"IF(AI23>2,\".\",IF(AI29=3,IF(AI23=0,IF(Scoresheet!AJ26=20,30,Scoresheet!AJ26),Scoresheet!AJ26),IF(AJ29>3,\".\",Scoresheet!AJ26)))","v":"?"},{"$f":"IF(AJ23>2,\".\",IF(AJ29=3,IF(AJ23=0,IF(Scoresheet!AK26=20,30,Scoresheet!AK26),Scoresheet!AK26),IF(AK29>3,\".\",Scoresheet!AK26)))","v":"?"},{"$f":"IF(AK23>2,\".\",IF(AK29=3,IF(AK23=0,IF(Scoresheet!AL26=20,30,Scoresheet!AL26),Scoresheet!AL26),IF(AL29>3,\".\",Scoresheet!AL26)))","v":"?"},{"$f":"IF(AL23>2,\".\",IF(AL29=3,IF(AL23=0,IF(Scoresheet!AM26=20,30,Scoresheet!AM26),Scoresheet!AM26),IF(AM29>3,\".\",Scoresheet!AM26)))","v":"?"},{"$f":"IF(AM23>2,\".\",IF(AM29=3,IF(AM23=0,IF(Scoresheet!AN26=20,30,Scoresheet!AN26),Scoresheet!AN26),IF(AN29>3,\".\",Scoresheet!AN26)))","v":"?"},{"$f":"IF(AN23>2,\".\",IF(AN29=3,IF(AN23=0,IF(Scoresheet!AO26=20,30,Scoresheet!AO26),Scoresheet!AO26),IF(AO29>3,\".\",Scoresheet!AO26)))","v":"?"},{"$f":"IF(AO23>2,\".\",IF(AO29=3,IF(AO23=0,IF(Scoresheet!AP26=20,30,Scoresheet!AP26),Scoresheet!AP26),IF(AP29>3,\".\",Scoresheet!AP26)))","v":"?"},{"$f":"IF(AP23>2,\".\",IF(AP29=3,IF(AP23=0,IF(Scoresheet!AQ26=20,30,Scoresheet!AQ26),Scoresheet!AQ26),IF(AQ29>3,\".\",Scoresheet!AQ26)))","v":"?"},{"$f":"IF(AQ23>2,\".\",IF(AQ29=3,IF(AQ23=0,IF(Scoresheet!AR26=20,30,Scoresheet!AR26),Scoresheet!AR26),IF(AR29>3,\".\",Scoresheet!AR26)))","v":"?"},{"$f":"IF(AR23>2,\".\",IF(AR29=3,IF(AR23=0,IF(Scoresheet!AS26=20,30,Scoresheet!AS26),Scoresheet!AS26),IF(AS29>3,\".\",Scoresheet!AS26)))","v":"?"},{"$f":"IF(AS23>2,\".\",IF(AS29=3,IF(AS23=0,IF(Scoresheet!AT26=20,30,Scoresheet!AT26),Scoresheet!AT26),IF(AT29>3,\".\",Scoresheet!AT26)))","v":"?"},{"$f":"IF(AT23>2,\".\",IF(AT29=3,IF(AT23=0,IF(Scoresheet!AU26=20,30,Scoresheet!AU26),Scoresheet!AU26),IF(AU29>3,\".\",Scoresheet!AU26)))","v":"?"},{"$f":"IF(AU23>2,\".\",IF(AU29=3,IF(AU23=0,IF(Scoresheet!AV26=20,30,Scoresheet!AV26),Scoresheet!AV26),IF(AV29>3,\".\",Scoresheet!AV26)))","v":"?"},{"$f":"IF(AV23>2,\".\",IF(AV29=3,IF(AV23=0,IF(Scoresheet!AW26=20,30,Scoresheet!AW26),Scoresheet!AW26),IF(AW29>3,\".\",Scoresheet!AW26)))","v":"?"},{"$f":"IF(AW23>2,\".\",IF(AW29=3,IF(AW23=0,IF(Scoresheet!AX26=20,30,Scoresheet!AX26),Scoresheet!AX26),IF(AX29>3,\".\",Scoresheet!AX26)))","v":"?"},{"$f":"IF(AX23>2,\".\",IF(AX29=3,IF(AX23=0,IF(Scoresheet!AY26=20,30,Scoresheet!AY26),Scoresheet!AY26),IF(AY29>3,\".\",Scoresheet!AY26)))","v":"?"},{"$f":"IF(AY23>2,\".\",IF(AY29=3,IF(AY23=0,IF(Scoresheet!AZ26=20,30,Scoresheet!AZ26),Scoresheet!AZ26),IF(AZ29>3,\".\",Scoresheet!AZ26)))","v":"?"},{"$f":"IF(AZ23>2,\".\",IF(AZ29=3,IF(AZ23=0,IF(Scoresheet!BA26=20,30,Scoresheet!BA26),Scoresheet!BA26),IF(BA29>3,\".\",Scoresheet!BA26)))","v":"?"},{"$f":"IF(BA23>2,\".\",IF(BA29=3,IF(BA23=0,IF(Scoresheet!BB26=20,30,Scoresheet!BB26),Scoresheet!BB26),IF(BB29>3,\".\",Scoresheet!BB26)))","v":"?"},{"$f":"IF(BB23>2,\".\",IF(BB29=3,IF(BB23=0,IF(Scoresheet!BC26=20,30,Scoresheet!BC26),Scoresheet!BC26),IF(BC29>3,\".\",Scoresheet!BC26)))","v":"?"},{"$f":"IF(BC23>2,\".\",IF(BC29=3,IF(BC23=0,IF(Scoresheet!BD26=20,30,Scoresheet!BD26),Scoresheet!BD26),IF(BD29>3,\".\",Scoresheet!BD26)))","v":"?"},{"$f":"IF(BD23>2,\".\",IF(BD29=3,IF(BD23=0,IF(Scoresheet!BE26=20,30,Scoresheet!BE26),Scoresheet!BE26),IF(BE29>3,\".\",Scoresheet!BE26)))","v":"?"},{"$f":"IF(BE23>2,\".\",IF(BE29=3,IF(BE23=0,IF(Scoresheet!BF26=20,30,Scoresheet!BF26),Scoresheet!BF26),IF(BF29>3,\".\",Scoresheet!BF26)))","v":"?"},{"$f":"IF(BF23>2,\".\",IF(BF29=3,IF(BF23=0,IF(Scoresheet!BG26=20,30,Scoresheet!BG26),Scoresheet!BG26),IF(BG29>3,\".\",Scoresheet!BG26)))","v":"?"}]
[null,null,{"$f":"Scoresheet!C18","v":"Quizzer #2"},20,{"$f":"IF(D24>2,\".\",IF(D30=3,IF(D24=0,IF(Scoresheet!E26=20,30,Scoresheet!E26),Scoresheet!E26),IF(E30>3,\".\",Scoresheet!E26)))","v":20},{"$f":"IF(E24>2,\".\",IF(E30=3,IF(E24=0,IF(Scoresheet!F26=20,30,Scoresheet!F26),Scoresheet!F26),IF(F30>3,\".\",Scoresheet!F26)))","v":20},{"$f":"IF(F24>2,\".\",IF(F30=3,IF(F24=0,IF(Scoresheet!G26=20,30,Scoresheet!G26),Scoresheet!G26),IF(G30>3,\".\",Scoresheet!G26)))","v":20},{"$f":"IF(G24>2,\".\",IF(G30=3,IF(G24=0,IF(Scoresheet!H26=20,30,Scoresheet!H26),Scoresheet!H26),IF(H30>3,\".\",Scoresheet!H26)))","v":20},{"$f":"IF(H24>2,\".\",IF(H30=3,IF(H24=0,IF(Scoresheet!I26=20,30,Scoresheet!I26),Scoresheet!I26),IF(I30>3,\".\",Scoresheet!I26)))","v":20},{"$f":"IF(I24>2,\".\",IF(I30=3,IF(I24=0,IF(Scoresheet!J26=20,30,Scoresheet!J26),Scoresheet!J26),IF(J30>3,\".\",Scoresheet!J26)))","v":20},{"$f":"IF(J24>2,\".\",IF(J30=3,IF(J24=0,IF(Scoresheet!K26=20,30,Scoresheet!K26),Scoresheet!K26),IF(K30>3,\".\",Scoresheet!K26)))","v":20},{"$f":"IF(K24>2,\".\",IF(K30=3,IF(K24=0,IF(Scoresheet!L26=20,30,Scoresheet!L26),Scoresheet!L26),IF(L30>3,\".\",Scoresheet!L26)))","v":20},{"$f":"IF(L24>2,\".\",IF(L30=3,IF(L24=0,IF(Scoresheet!M26=20,30,Scoresheet!M26),Scoresheet!M26),IF(M30>3,\".\",Scoresheet!M26)))","v":20},{"$f":"IF(M24>2,\".\",IF(M30=3,IF(M24=0,IF(Scoresheet!N26=20,30,Scoresheet!N26),Scoresheet!N26),IF(N30>3,\".\",Scoresheet!N26)))","v":20},{"$f":"IF(N24>2,\".\",IF(N30=3,IF(N24=0,IF(Scoresheet!O26=20,30,Scoresheet!O26),Scoresheet!O26),IF(O30>3,\".\",Scoresheet!O26)))","v":20},{"$f":"IF(O24>2,\".\",IF(O30=3,IF(O24=0,IF(Scoresheet!P26=20,30,Scoresheet!P26),Scoresheet!P26),IF(P30>3,\".\",Scoresheet!P26)))","v":20},{"$f":"IF(P24>2,\".\",IF(P30=3,IF(P24=0,IF(Scoresheet!Q26=20,30,Scoresheet!Q26),Scoresheet!Q26),IF(Q30>3,\".\",Scoresheet!Q26)))","v":20},{"$f":"IF(Q24>2,\".\",IF(Q30=3,IF(Q24=0,IF(Scoresheet!R26=20,30,Scoresheet!R26),Scoresheet!R26),IF(R30>3,\".\",Scoresheet!R26)))","v":20},{"$f":"IF(R24>2,\".\",IF(R30=3,IF(R24=0,IF(Scoresheet!S26=20,30,Scoresheet!S26),Scoresheet!S26),IF(S30>3,\".\",Scoresheet!S26)))","v":20},{"$f":"IF(S24>2,\".\",IF(S30=3,IF(S24=0,IF(Scoresheet!T26=20,30,Scoresheet!T26),Scoresheet!T26),IF(T30>3,\".\",Scoresheet!T26)))","v":20},{"$f":"IF(T24>2,\".\",IF(T30=3,IF(T24=0,IF(Scoresheet!U26=20,30,Scoresheet!U26),Scoresheet!U26),IF(U30>3,\".\",Scoresheet!U26)))","v":20},{"$f":"IF(U24>2,\".\",IF(U30=3,IF(U24=0,IF(Scoresheet!V26=20,30,Scoresheet!V26),Scoresheet!V26),IF(V30>3,\".\",Scoresheet!V26)))","v":10},{"$f":"IF(V24>2,\".\",IF(V30=3,IF(V24=0,IF(Scoresheet!W26=20,30,Scoresheet!W26),Scoresheet!W26),IF(W30>3,\".\",Scoresheet!W26)))","v":20},{"$f":"IF(W24>2,\".\",IF(W30=3,IF(W24=0,IF(Scoresheet!X26=20,30,Scoresheet!X26),Scoresheet!X26),IF(X30>3,\".\",Scoresheet!X26)))","v":20},{"$f":"IF(X24>2,\".\",IF(X30=3,IF(X24=0,IF(Scoresheet!Y26=20,30,Scoresheet!Y26),Scoresheet!Y26),IF(Y30>3,\".\",Scoresheet!Y26)))","v":10},{"$f":"IF(Y24>2,\".\",IF(Y30=3,IF(Y24=0,IF(Scoresheet!Z26=20,30,Scoresheet!Z26),Scoresheet!Z26),IF(Z30>3,\".\",Scoresheet!Z26)))","v":20},{"$f":"IF(Z24>2,\".\",IF(Z30=3,IF(Z24=0,IF(Scoresheet!AA26=20,30,Scoresheet!AA26),Scoresheet!AA26),IF(AA30>3,\".\",Scoresheet!AA26)))","v":20},{"$f":"IF(AA24>2,\".\",IF(AA30=3,IF(AA24=0,IF(Scoresheet!AB26=20,30,Scoresheet!AB26),Scoresheet!AB26),IF(AB30>3,\".\",Scoresheet!AB26)))","v":10},{"$f":"IF(AB24>2,\".\",IF(AB30=3,IF(AB24=0,IF(Scoresheet!AC26=20,30,Scoresheet!AC26),Scoresheet!AC26),IF(AC30>3,\".\",Scoresheet!AC26)))","v":20},{"$f":"IF(AC24>2,\".\",IF(AC30=3,IF(AC24=0,IF(Scoresheet!AD26=20,30,Scoresheet!AD26),Scoresheet!AD26),IF(AD30>3,\".\",Scoresheet!AD26)))","v":"?"},{"$f":"IF(AD24>2,\".\",IF(AD30=3,IF(AD24=0,IF(Scoresheet!AE26=20,30,Scoresheet!AE26),Scoresheet!AE26),IF(AE30>3,\".\",Scoresheet!AE26)))","v":"?"},{"$f":"IF(AE24>2,\".\",IF(AE30=3,IF(AE24=0,IF(Scoresheet!AF26=20,30,Scoresheet!AF26),Scoresheet!AF26),IF(AF30>3,\".\",Scoresheet!AF26)))","v":"?"},{"$f":"IF(AF24>2,\".\",IF(AF30=3,IF(AF24=0,IF(Scoresheet!AG26=20,30,Scoresheet!AG26),Scoresheet!AG26),IF(AG30>3,\".\",Scoresheet!AG26)))","v":"?"},{"$f":"IF(AG24>2,\".\",IF(AG30=3,IF(AG24=0,IF(Scoresheet!AH26=20,30,Scoresheet!AH26),Scoresheet!AH26),IF(AH30>3,\".\",Scoresheet!AH26)))","v":"?"},{"$f":"IF(AH24>2,\".\",IF(AH30=3,IF(AH24=0,IF(Scoresheet!AI26=20,30,Scoresheet!AI26),Scoresheet!AI26),IF(AI30>3,\".\",Scoresheet!AI26)))","v":"?"},{"$f":"IF(AI24>2,\".\",IF(AI30=3,IF(AI24=0,IF(Scoresheet!AJ26=20,30,Scoresheet!AJ26),Scoresheet!AJ26),IF(AJ30>3,\".\",Scoresheet!AJ26)))","v":"?"},{"$f":"IF(AJ24>2,\".\",IF(AJ30=3,IF(AJ24=0,IF(Scoresheet!AK26=20,30,Scoresheet!AK26),Scoresheet!AK26),IF(AK30>3,\".\",Scoresheet!AK26)))","v":"?"},{"$f":"IF(AK24>2,\".\",IF(AK30=3,IF(AK24=0,IF(Scoresheet!AL26=20,30,Scoresheet!AL26),Scoresheet!AL26),IF(AL30>3,\".\",Scoresheet!AL26)))","v":"?"},{"$f":"IF(AL24>2,\".\",IF(AL30=3,IF(AL24=0,IF(Scoresheet!AM26=20,30,Scoresheet!AM26),Scoresheet!AM26),IF(AM30>3,\".\",Scoresheet!AM26)))","v":"?"},{"$f":"IF(AM24>2,\".\",IF(AM30=3,IF(AM24=0,IF(Scoresheet!AN26=20,30,Scoresheet!AN26),Scoresheet!AN26),IF(AN30>3,\".\",Scoresheet!AN26)))","v":"?"},{"$f":"IF(AN24>2,\".\",IF(AN30=3,IF(AN24=0,IF(Scoresheet!AO26=20,30,Scoresheet!AO26),Scoresheet!AO26),IF(AO30>3,\".\",Scoresheet!AO26)))","v":"?"},{"$f":"IF(AO24>2,\".\",IF(AO30=3,IF(AO24=0,IF(Scoresheet!AP26=20,30,Scoresheet!AP26),Scoresheet!AP26),IF(AP30>3,\".\",Scoresheet!AP26)))","v":"?"},{"$f":"IF(AP24>2,\".\",IF(AP30=3,IF(AP24=0,IF(Scoresheet!AQ26=20,30,Scoresheet!AQ26),Scoresheet!AQ26),IF(AQ30>3,\".\",Scoresheet!AQ26)))","v":"?"},{"$f":"IF(AQ24>2,\".\",IF(AQ30=3,IF(AQ24=0,IF(Scoresheet!AR26=20,30,Scoresheet!AR26),Scoresheet!AR26),IF(AR30>3,\".\",Scoresheet!AR26)))","v":"?"},{"$f":"IF(AR24>2,\".\",IF(AR30=3,IF(AR24=0,IF(Scoresheet!AS26=20,30,Scoresheet!AS26),Scoresheet!AS26),IF(AS30>3,\".\",Scoresheet!AS26)))","v":"?"},{"$f":"IF(AS24>2,\".\",IF(AS30=3,IF(AS24=0,IF(Scoresheet!AT26=20,30,Scoresheet!AT26),Scoresheet!AT26),IF(AT30>3,\".\",Scoresheet!AT26)))","v":"?"},{"$f":"IF(AT24>2,\".\",IF(AT30=3,IF(AT24=0,IF(Scoresheet!AU26=20,30,Scoresheet!AU26),Scoresheet!AU26),IF(AU30>3,\".\",Scoresheet!AU26)))","v":"?"},{"$f":"IF(AU24>2,\".\",IF(AU30=3,IF(AU24=0,IF(Scoresheet!AV26=20,30,Scoresheet!AV26),Scoresheet!AV26),IF(AV30>3,\".\",Scoresheet!AV26)))","v":"?"},{"$f":"IF(AV24>2,\".\",IF(AV30=3,IF(AV24=0,IF(Scoresheet!AW26=20,30,Scoresheet!AW26),Scoresheet!AW26),IF(AW30>3,\".\",Scoresheet!AW26)))","v":"?"},{"$f":"IF(AW24>2,\".\",IF(AW30=3,IF(AW24=0,IF(Scoresheet!AX26=20,30,Scoresheet!AX26),Scoresheet!AX26),IF(AX30>3,\".\",Scoresheet!AX26)))","v":"?"},{"$f":"IF(AX24>2,\".\",IF(AX30=3,IF(AX24=0,IF(Scoresheet!AY26=20,30,Scoresheet!AY26),Scoresheet!AY26),IF(AY30>3,\".\",Scoresheet!AY26)))","v":"?"},{"$f":"IF(AY24>2,\".\",IF(AY30=3,IF(AY24=0,IF(Scoresheet!AZ26=20,30,Scoresheet!AZ26),Scoresheet!AZ26),IF(AZ30>3,\".\",Scoresheet!AZ26)))","v":"?"},{"$f":"IF(AZ24>2,\".\",IF(AZ30=3,IF(AZ24=0,IF(Scoresheet!BA26=20,30,Scoresheet!BA26),Scoresheet!BA26),IF(BA30>3,\".\",Scoresheet!BA26)))","v":"?"},{"$f":"IF(BA24>2,\".\",IF(BA30=3,IF(BA24=0,IF(Scoresheet!BB26=20,30,Scoresheet!BB26),Scoresheet!BB26),IF(BB30>3,\".\",Scoresheet!BB26)))","v":"?"},{"$f":"IF(BB24>2,\".\",IF(BB30=3,IF(BB24=0,IF(Scoresheet!BC26=20,30,Scoresheet!BC26),Scoresheet!BC26),IF(BC30>3,\".\",Scoresheet!BC26)))","v":"?"},{"$f":"IF(BC24>2,\".\",IF(BC30=3,IF(BC24=0,IF(Scoresheet!BD26=20,30,Scoresheet!BD26),Scoresheet!BD26),IF(BD30>3,\".\",Scoresheet!BD26)))","v":"?"},{"$f":"IF(BD24>2,\".\",IF(BD30=3,IF(BD24=0,IF(Scoresheet!BE26=20,30,Scoresheet!BE26),Scoresheet!BE26),IF(BE30>3,\".\",Scoresheet!BE26)))","v":"?"},{"$f":"IF(BE24>2,\".\",IF(BE30=3,IF(BE24=0,IF(Scoresheet!BF26=20,30,Scoresheet!BF26),Scoresheet!BF26),IF(BF30>3,\".\",Scoresheet!BF26)))","v":"?"},{"$f":"IF(BF24>2,\".\",IF(BF30=3,IF(BF24=0,IF(Scoresheet!BG26=20,30,Scoresheet!BG26),Scoresheet!BG26),IF(BG30>3,\".\",Scoresheet!BG26)))","v":"?"}]
[null,null,{"$f":"Scoresheet!C19","v":"Quizzer #3"},20,{"$f":"IF(D25>2,\".\",IF(D31=3,IF(D25=0,IF(Scoresheet!E26=20,30,Scoresheet!E26),Scoresheet!E26),IF(E31>3,\".\",Scoresheet!E26)))","v":20},{"$f":"IF(E25>2,\".\",IF(E31=3,IF(E25=0,IF(Scoresheet!F26=20,30,Scoresheet!F26),Scoresheet!F26),IF(F31>3,\".\",Scoresheet!F26)))","v":20},{"$f":"IF(F25>2,\".\",IF(F31=3,IF(F25=0,IF(Scoresheet!G26=20,30,Scoresheet!G26),Scoresheet!G26),IF(G31>3,\".\",Scoresheet!G26)))","v":20},{"$f":"IF(G25>2,\".\",IF(G31=3,IF(G25=0,IF(Scoresheet!H26=20,30,Scoresheet!H26),Scoresheet!H26),IF(H31>3,\".\",Scoresheet!H26)))","v":20},{"$f":"IF(H25>2,\".\",IF(H31=3,IF(H25=0,IF(Scoresheet!I26=20,30,Scoresheet!I26),Scoresheet!I26),IF(I31>3,\".\",Scoresheet!I26)))","v":20},{"$f":"IF(I25>2,\".\",IF(I31=3,IF(I25=0,IF(Scoresheet!J26=20,30,Scoresheet!J26),Scoresheet!J26),IF(J31>3,\".\",Scoresheet!J26)))","v":20},{"$f":"IF(J25>2,\".\",IF(J31=3,IF(J25=0,IF(Scoresheet!K26=20,30,Scoresheet!K26),Scoresheet!K26),IF(K31>3,\".\",Scoresheet!K26)))","v":20},{"$f":"IF(K25>2,\".\",IF(K31=3,IF(K25=0,IF(Scoresheet!L26=20,30,Scoresheet!L26),Scoresheet!L26),IF(L31>3,\".\",Scoresheet!L26)))","v":20},{"$f":"IF(L25>2,\".\",IF(L31=3,IF(L25=0,IF(Scoresheet!M26=20,30,Scoresheet!M26),Scoresheet!M26),IF(M31>3,\".\",Scoresheet!M26)))","v":20},{"$f":"IF(M25>2,\".\",IF(M31=3,IF(M25=0,IF(Scoresheet!N26=20,30,Scoresheet!N26),Scoresheet!N26),IF(N31>3,\".\",Scoresheet!N26)))","v":20},{"$f":"IF(N25>2,\".\",IF(N31=3,IF(N25=0,IF(Scoresheet!O26=20,30,Scoresheet!O26),Scoresheet!O26),IF(O31>3,\".\",Scoresheet!O26)))","v":20},{"$f":"IF(O25>2,\".\",IF(O31=3,IF(O25=0,IF(Scoresheet!P26=20,30,Scoresheet!P26),Scoresheet!P26),IF(P31>3,\".\",Scoresheet!P26)))","v":20},{"$f":"IF(P25>2,\".\",IF(P31=3,IF(P25=0,IF(Scoresheet!Q26=20,30,Scoresheet!Q26),Scoresheet!Q26),IF(Q31>3,\".\",Scoresheet!Q26)))","v":20},{"$f":"IF(Q25>2,\".\",IF(Q31=3,IF(Q25=0,IF(Scoresheet!R26=20,30,Scoresheet!R26),Scoresheet!R26),IF(R31>3,\".\",Scoresheet!R26)))","v":20},{"$f":"IF(R25>2,\".\",IF(R31=3,IF(R25=0,IF(Scoresheet!S26=20,30,Scoresheet!S26),Scoresheet!S26),IF(S31>3,\".\",Scoresheet!S26)))","v":20},{"$f":"IF(S25>2,\".\",IF(S31=3,IF(S25=0,IF(Scoresheet!T26=20,30,Scoresheet!T26),Scoresheet!T26),IF(T31>3,\".\",Scoresheet!T26)))","v":20},{"$f":"IF(T25>2,\".\",IF(T31=3,IF(T25=0,IF(Scoresheet!U26=20,30,Scoresheet!U26),Scoresheet!U26),IF(U31>3,\".\",Scoresheet!U26)))","v":20},{"$f":"IF(U25>2,\".\",IF(U31=3,IF(U25=0,IF(Scoresheet!V26=20,30,Scoresheet!V26),Scoresheet!V26),IF(V31>3,\".\",Scoresheet!V26)))","v":10},{"$f":"IF(V25>2,\".\",IF(V31=3,IF(V25=0,IF(Scoresheet!W26=20,30,Scoresheet!W26),Scoresheet!W26),IF(W31>3,\".\",Scoresheet!W26)))","v":20},{"$f":"IF(W25>2,\".\",IF(W31=3,IF(W25=0,IF(Scoresheet!X26=20,30,Scoresheet!X26),Scoresheet!X26),IF(X31>3,\".\",Scoresheet!X26)))","v":20},{"$f":"IF(X25>2,\".\",IF(X31=3,IF(X25=0,IF(Scoresheet!Y26=20,30,Scoresheet!Y26),Scoresheet!Y26),IF(Y31>3,\".\",Scoresheet!Y26)))","v":10},{"$f":"IF(Y25>2,\".\",IF(Y31=3,IF(Y25=0,IF(Scoresheet!Z26=20,30,Scoresheet!Z26),Scoresheet!Z26),IF(Z31>3,\".\",Scoresheet!Z26)))","v":20},{"$f":"IF(Z25>2,\".\",IF(Z31=3,IF(Z25=0,IF(Scoresheet!AA26=20,30,Scoresheet!AA26),Scoresheet!AA26),IF(AA31>3,\".\",Scoresheet!AA26)))","v":20},{"$f":"IF(AA25>2,\".\",IF(AA31=3,IF(AA25=0,IF(Scoresheet!AB26=20,30,Scoresheet!AB26),Scoresheet!AB26),IF(AB31>3,\".\",Scoresheet!AB26)))","v":10},{"$f":"IF(AB25>2,\".\",IF(AB31=3,IF(AB25=0,IF(Scoresheet!AC26=20,30,Scoresheet!AC26),Scoresheet!AC26),IF(AC31>3,\".\",Scoresheet!AC26)))","v":20},{"$f":"IF(AC25>2,\".\",IF(AC31=3,IF(AC25=0,IF(Scoresheet!AD26=20,30,Scoresheet!AD26),Scoresheet!AD26),IF(AD31>3,\".\",Scoresheet!AD26)))","v":"?"},{"$f":"IF(AD25>2,\".\",IF(AD31=3,IF(AD25=0,IF(Scoresheet!AE26=20,30,Scoresheet!AE26),Scoresheet!AE26),IF(AE31>3,\".\",Scoresheet!AE26)))","v":"?"},{"$f":"IF(AE25>2,\".\",IF(AE31=3,IF(AE25=0,IF(Scoresheet!AF26=20,30,Scoresheet!AF26),Scoresheet!AF26),IF(AF31>3,\".\",Scoresheet!AF26)))","v":"?"},{"$f":"IF(AF25>2,\".\",IF(AF31=3,IF(AF25=0,IF(Scoresheet!AG26=20,30,Scoresheet!AG26),Scoresheet!AG26),IF(AG31>3,\".\",Scoresheet!AG26)))","v":"?"},{"$f":"IF(AG25>2,\".\",IF(AG31=3,IF(AG25=0,IF(Scoresheet!AH26=20,30,Scoresheet!AH26),Scoresheet!AH26),IF(AH31>3,\".\",Scoresheet!AH26)))","v":"?"},{"$f":"IF(AH25>2,\".\",IF(AH31=3,IF(AH25=0,IF(Scoresheet!AI26=20,30,Scoresheet!AI26),Scoresheet!AI26),IF(AI31>3,\".\",Scoresheet!AI26)))","v":"?"},{"$f":"IF(AI25>2,\".\",IF(AI31=3,IF(AI25=0,IF(Scoresheet!AJ26=20,30,Scoresheet!AJ26),Scoresheet!AJ26),IF(AJ31>3,\".\",Scoresheet!AJ26)))","v":"?"},{"$f":"IF(AJ25>2,\".\",IF(AJ31=3,IF(AJ25=0,IF(Scoresheet!AK26=20,30,Scoresheet!AK26),Scoresheet!AK26),IF(AK31>3,\".\",Scoresheet!AK26)))","v":"?"},{"$f":"IF(AK25>2,\".\",IF(AK31=3,IF(AK25=0,IF(Scoresheet!AL26=20,30,Scoresheet!AL26),Scoresheet!AL26),IF(AL31>3,\".\",Scoresheet!AL26)))","v":"?"},{"$f":"IF(AL25>2,\".\",IF(AL31=3,IF(AL25=0,IF(Scoresheet!AM26=20,30,Scoresheet!AM26),Scoresheet!AM26),IF(AM31>3,\".\",Scoresheet!AM26)))","v":"?"},{"$f":"IF(AM25>2,\".\",IF(AM31=3,IF(AM25=0,IF(Scoresheet!AN26=20,30,Scoresheet!AN26),Scoresheet!AN26),IF(AN31>3,\".\",Scoresheet!AN26)))","v":"?"},{"$f":"IF(AN25>2,\".\",IF(AN31=3,IF(AN25=0,IF(Scoresheet!AO26=20,30,Scoresheet!AO26),Scoresheet!AO26),IF(AO31>3,\".\",Scoresheet!AO26)))","v":"?"},{"$f":"IF(AO25>2,\".\",IF(AO31=3,IF(AO25=0,IF(Scoresheet!AP26=20,30,Scoresheet!AP26),Scoresheet!AP26),IF(AP31>3,\".\",Scoresheet!AP26)))","v":"?"},{"$f":"IF(AP25>2,\".\",IF(AP31=3,IF(AP25=0,IF(Scoresheet!AQ26=20,30,Scoresheet!AQ26),Scoresheet!AQ26),IF(AQ31>3,\".\",Scoresheet!AQ26)))","v":"?"},{"$f":"IF(AQ25>2,\".\",IF(AQ31=3,IF(AQ25=0,IF(Scoresheet!AR26=20,30,Scoresheet!AR26),Scoresheet!AR26),IF(AR31>3,\".\",Scoresheet!AR26)))","v":"?"},{"$f":"IF(AR25>2,\".\",IF(AR31=3,IF(AR25=0,IF(Scoresheet!AS26=20,30,Scoresheet!AS26),Scoresheet!AS26),IF(AS31>3,\".\",Scoresheet!AS26)))","v":"?"},{"$f":"IF(AS25>2,\".\",IF(AS31=3,IF(AS25=0,IF(Scoresheet!AT26=20,30,Scoresheet!AT26),Scoresheet!AT26),IF(AT31>3,\".\",Scoresheet!AT26)))","v":"?"},{"$f":"IF(AT25>2,\".\",IF(AT31=3,IF(AT25=0,IF(Scoresheet!AU26=20,30,Scoresheet!AU26),Scoresheet!AU26),IF(AU31>3,\".\",Scoresheet!AU26)))","v":"?"},{"$f":"IF(AU25>2,\".\",IF(AU31=3,IF(AU25=0,IF(Scoresheet!AV26=20,30,Scoresheet!AV26),Scoresheet!AV26),IF(AV31>3,\".\",Scoresheet!AV26)))","v":"?"},{"$f":"IF(AV25>2,\".\",IF(AV31=3,IF(AV25=0,IF(Scoresheet!AW26=20,30,Scoresheet!AW26),Scoresheet!AW26),IF(AW31>3,\".\",Scoresheet!AW26)))","v":"?"},{"$f":"IF(AW25>2,\".\",IF(AW31=3,IF(AW25=0,IF(Scoresheet!AX26=20,30,Scoresheet!AX26),Scoresheet!AX26),IF(AX31>3,\".\",Scoresheet!AX26)))","v":"?"},{"$f":"IF(AX25>2,\".\",IF(AX31=3,IF(AX25=0,IF(Scoresheet!AY26=20,30,Scoresheet!AY26),Scoresheet!AY26),IF(AY31>3,\".\",Scoresheet!AY26)))","v":"?"},{"$f":"IF(AY25>2,\".\",IF(AY31=3,IF(AY25=0,IF(Scoresheet!AZ26=20,30,Scoresheet!AZ26),Scoresheet!AZ26),IF(AZ31>3,\".\",Scoresheet!AZ26)))","v":"?"},{"$f":"IF(AZ25>2,\".\",IF(AZ31=3,IF(AZ25=0,IF(Scoresheet!BA26=20,30,Scoresheet!BA26),Scoresheet!BA26),IF(BA31>3,\".\",Scoresheet!BA26)))","v":"?"},{"$f":"IF(BA25>2,\".\",IF(BA31=3,IF(BA25=0,IF(Scoresheet!BB26=20,30,Scoresheet!BB26),Scoresheet!BB26),IF(BB31>3,\".\",Scoresheet!BB26)))","v":"?"},{"$f":"IF(BB25>2,\".\",IF(BB31=3,IF(BB25=0,IF(Scoresheet!BC26=20,30,Scoresheet!BC26),Scoresheet!BC26),IF(BC31>3,\".\",Scoresheet!BC26)))","v":"?"},{"$f":"IF(BC25>2,\".\",IF(BC31=3,IF(BC25=0,IF(Scoresheet!BD26=20,30,Scoresheet!BD26),Scoresheet!BD26),IF(BD31>3,\".\",Scoresheet!BD26)))","v":"?"},{"$f":"IF(BD25>2,\".\",IF(BD31=3,IF(BD25=0,IF(Scoresheet!BE26=20,30,Scoresheet!BE26),Scoresheet!BE26),IF(BE31>3,\".\",Scoresheet!BE26)))","v":"?"},{"$f":"IF(BE25>2,\".\",IF(BE31=3,IF(BE25=0,IF(Scoresheet!BF26=20,30,Scoresheet!BF26),Scoresheet!BF26),IF(BF31>3,\".\",Scoresheet!BF26)))","v":"?"},{"$f":"IF(BF25>2,\".\",IF(BF31=3,IF(BF25=0,IF(Scoresheet!BG26=20,30,Scoresheet!BG26),Scoresheet!BG26),IF(BG31>3,\".\",Scoresheet!BG26)))","v":"?"}]
[null,null,{"$f":"Scoresheet!C20","v":"Quizzer #4"},20,{"$f":"IF(D26>2,\".\",IF(D32=3,IF(D26=0,IF(Scoresheet!E26=20,30,Scoresheet!E26),Scoresheet!E26),IF(E32>3,\".\",Scoresheet!E26)))","v":20},{"$f":"IF(E26>2,\".\",IF(E32=3,IF(E26=0,IF(Scoresheet!F26=20,30,Scoresheet!F26),Scoresheet!F26),IF(F32>3,\".\",Scoresheet!F26)))","v":20},{"$f":"IF(F26>2,\".\",IF(F32=3,IF(F26=0,IF(Scoresheet!G26=20,30,Scoresheet!G26),Scoresheet!G26),IF(G32>3,\".\",Scoresheet!G26)))","v":20},{"$f":"IF(G26>2,\".\",IF(G32=3,IF(G26=0,IF(Scoresheet!H26=20,30,Scoresheet!H26),Scoresheet!H26),IF(H32>3,\".\",Scoresheet!H26)))","v":20},{"$f":"IF(H26>2,\".\",IF(H32=3,IF(H26=0,IF(Scoresheet!I26=20,30,Scoresheet!I26),Scoresheet!I26),IF(I32>3,\".\",Scoresheet!I26)))","v":20},{"$f":"IF(I26>2,\".\",IF(I32=3,IF(I26=0,IF(Scoresheet!J26=20,30,Scoresheet!J26),Scoresheet!J26),IF(J32>3,\".\",Scoresheet!J26)))","v":20},{"$f":"IF(J26>2,\".\",IF(J32=3,IF(J26=0,IF(Scoresheet!K26=20,30,Scoresheet!K26),Scoresheet!K26),IF(K32>3,\".\",Scoresheet!K26)))","v":20},{"$f":"IF(K26>2,\".\",IF(K32=3,IF(K26=0,IF(Scoresheet!L26=20,30,Scoresheet!L26),Scoresheet!L26),IF(L32>3,\".\",Scoresheet!L26)))","v":20},{"$f":"IF(L26>2,\".\",IF(L32=3,IF(L26=0,IF(Scoresheet!M26=20,30,Scoresheet!M26),Scoresheet!M26),IF(M32>3,\".\",Scoresheet!M26)))","v":20},{"$f":"IF(M26>2,\".\",IF(M32=3,IF(M26=0,IF(Scoresheet!N26=20,30,Scoresheet!N26),Scoresheet!N26),IF(N32>3,\".\",Scoresheet!N26)))","v":20},{"$f":"IF(N26>2,\".\",IF(N32=3,IF(N26=0,IF(Scoresheet!O26=20,30,Scoresheet!O26),Scoresheet!O26),IF(O32>3,\".\",Scoresheet!O26)))","v":20},{"$f":"IF(O26>2,\".\",IF(O32=3,IF(O26=0,IF(Scoresheet!P26=20,30,Scoresheet!P26),Scoresheet!P26),IF(P32>3,\".\",Scoresheet!P26)))","v":20},{"$f":"IF(P26>2,\".\",IF(P32=3,IF(P26=0,IF(Scoresheet!Q26=20,30,Scoresheet!Q26),Scoresheet!Q26),IF(Q32>3,\".\",Scoresheet!Q26)))","v":20},{"$f":"IF(Q26>2,\".\",IF(Q32=3,IF(Q26=0,IF(Scoresheet!R26=20,30,Scoresheet!R26),Scoresheet!R26),IF(R32>3,\".\",Scoresheet!R26)))","v":20},{"$f":"IF(R26>2,\".\",IF(R32=3,IF(R26=0,IF(Scoresheet!S26=20,30,Scoresheet!S26),Scoresheet!S26),IF(S32>3,\".\",Scoresheet!S26)))","v":20},{"$f":"IF(S26>2,\".\",IF(S32=3,IF(S26=0,IF(Scoresheet!T26=20,30,Scoresheet!T26),Scoresheet!T26),IF(T32>3,\".\",Scoresheet!T26)))","v":20},{"$f":"IF(T26>2,\".\",IF(T32=3,IF(T26=0,IF(Scoresheet!U26=20,30,Scoresheet!U26),Scoresheet!U26),IF(U32>3,\".\",Scoresheet!U26)))","v":20},{"$f":"IF(U26>2,\".\",IF(U32=3,IF(U26=0,IF(Scoresheet!V26=20,30,Scoresheet!V26),Scoresheet!V26),IF(V32>3,\".\",Scoresheet!V26)))","v":10},{"$f":"IF(V26>2,\".\",IF(V32=3,IF(V26=0,IF(Scoresheet!W26=20,30,Scoresheet!W26),Scoresheet!W26),IF(W32>3,\".\",Scoresheet!W26)))","v":20},{"$f":"IF(W26>2,\".\",IF(W32=3,IF(W26=0,IF(Scoresheet!X26=20,30,Scoresheet!X26),Scoresheet!X26),IF(X32>3,\".\",Scoresheet!X26)))","v":20},{"$f":"IF(X26>2,\".\",IF(X32=3,IF(X26=0,IF(Scoresheet!Y26=20,30,Scoresheet!Y26),Scoresheet!Y26),IF(Y32>3,\".\",Scoresheet!Y26)))","v":10},{"$f":"IF(Y26>2,\".\",IF(Y32=3,IF(Y26=0,IF(Scoresheet!Z26=20,30,Scoresheet!Z26),Scoresheet!Z26),IF(Z32>3,\".\",Scoresheet!Z26)))","v":20},{"$f":"IF(Z26>2,\".\",IF(Z32=3,IF(Z26=0,IF(Scoresheet!AA26=20,30,Scoresheet!AA26),Scoresheet!AA26),IF(AA32>3,\".\",Scoresheet!AA26)))","v":20},{"$f":"IF(AA26>2,\".\",IF(AA32=3,IF(AA26=0,IF(Scoresheet!AB26=20,30,Scoresheet!AB26),Scoresheet!AB26),IF(AB32>3,\".\",Scoresheet!AB26)))","v":10},{"$f":"IF(AB26>2,\".\",IF(AB32=3,IF(AB26=0,IF(Scoresheet!AC26=20,30,Scoresheet!AC26),Scoresheet!AC26),IF(AC32>3,\".\",Scoresheet!AC26)))","v":20},{"$f":"IF(AC26>2,\".\",IF(AC32=3,IF(AC26=0,IF(Scoresheet!AD26=20,30,Scoresheet!AD26),Scoresheet!AD26),IF(AD32>3,\".\",Scoresheet!AD26)))","v":"?"},{"$f":"IF(AD26>2,\".\",IF(AD32=3,IF(AD26=0,IF(Scoresheet!AE26=20,30,Scoresheet!AE26),Scoresheet!AE26),IF(AE32>3,\".\",Scoresheet!AE26)))","v":"?"},{"$f":"IF(AE26>2,\".\",IF(AE32=3,IF(AE26=0,IF(Scoresheet!AF26=20,30,Scoresheet!AF26),Scoresheet!AF26),IF(AF32>3,\".\",Scoresheet!AF26)))","v":"?"},{"$f":"IF(AF26>2,\".\",IF(AF32=3,IF(AF26=0,IF(Scoresheet!AG26=20,30,Scoresheet!AG26),Scoresheet!AG26),IF(AG32>3,\".\",Scoresheet!AG26)))","v":"?"},{"$f":"IF(AG26>2,\".\",IF(AG32=3,IF(AG26=0,IF(Scoresheet!AH26=20,30,Scoresheet!AH26),Scoresheet!AH26),IF(AH32>3,\".\",Scoresheet!AH26)))","v":"?"},{"$f":"IF(AH26>2,\".\",IF(AH32=3,IF(AH26=0,IF(Scoresheet!AI26=20,30,Scoresheet!AI26),Scoresheet!AI26),IF(AI32>3,\".\",Scoresheet!AI26)))","v":"?"},{"$f":"IF(AI26>2,\".\",IF(AI32=3,IF(AI26=0,IF(Scoresheet!AJ26=20,30,Scoresheet!AJ26),Scoresheet!AJ26),IF(AJ32>3,\".\",Scoresheet!AJ26)))","v":"?"},{"$f":"IF(AJ26>2,\".\",IF(AJ32=3,IF(AJ26=0,IF(Scoresheet!AK26=20,30,Scoresheet!AK26),Scoresheet!AK26),IF(AK32>3,\".\",Scoresheet!AK26)))","v":"?"},{"$f":"IF(AK26>2,\".\",IF(AK32=3,IF(AK26=0,IF(Scoresheet!AL26=20,30,Scoresheet!AL26),Scoresheet!AL26),IF(AL32>3,\".\",Scoresheet!AL26)))","v":"?"},{"$f":"IF(AL26>2,\".\",IF(AL32=3,IF(AL26=0,IF(Scoresheet!AM26=20,30,Scoresheet!AM26),Scoresheet!AM26),IF(AM32>3,\".\",Scoresheet!AM26)))","v":"?"},{"$f":"IF(AM26>2,\".\",IF(AM32=3,IF(AM26=0,IF(Scoresheet!AN26=20,30,Scoresheet!AN26),Scoresheet!AN26),IF(AN32>3,\".\",Scoresheet!AN26)))","v":"?"},{"$f":"IF(AN26>2,\".\",IF(AN32=3,IF(AN26=0,IF(Scoresheet!AO26=20,30,Scoresheet!AO26),Scoresheet!AO26),IF(AO32>3,\".\",Scoresheet!AO26)))","v":"?"},{"$f":"IF(AO26>2,\".\",IF(AO32=3,IF(AO26=0,IF(Scoresheet!AP26=20,30,Scoresheet!AP26),Scoresheet!AP26),IF(AP32>3,\".\",Scoresheet!AP26)))","v":"?"},{"$f":"IF(AP26>2,\".\",IF(AP32=3,IF(AP26=0,IF(Scoresheet!AQ26=20,30,Scoresheet!AQ26),Scoresheet!AQ26),IF(AQ32>3,\".\",Scoresheet!AQ26)))","v":"?"},{"$f":"IF(AQ26>2,\".\",IF(AQ32=3,IF(AQ26=0,IF(Scoresheet!AR26=20,30,Scoresheet!AR26),Scoresheet!AR26),IF(AR32>3,\".\",Scoresheet!AR26)))","v":"?"},{"$f":"IF(AR26>2,\".\",IF(AR32=3,IF(AR26=0,IF(Scoresheet!AS26=20,30,Scoresheet!AS26),Scoresheet!AS26),IF(AS32>3,\".\",Scoresheet!AS26)))","v":"?"},{"$f":"IF(AS26>2,\".\",IF(AS32=3,IF(AS26=0,IF(Scoresheet!AT26=20,30,Scoresheet!AT26),Scoresheet!AT26),IF(AT32>3,\".\",Scoresheet!AT26)))","v":"?"},{"$f":"IF(AT26>2,\".\",IF(AT32=3,IF(AT26=0,IF(Scoresheet!AU26=20,30,Scoresheet!AU26),Scoresheet!AU26),IF(AU32>3,\".\",Scoresheet!AU26)))","v":"?"},{"$f":"IF(AU26>2,\".\",IF(AU32=3,IF(AU26=0,IF(Scoresheet!AV26=20,30,Scoresheet!AV26),Scoresheet!AV26),IF(AV32>3,\".\",Scoresheet!AV26)))","v":"?"},{"$f":"IF(AV26>2,\".\",IF(AV32=3,IF(AV26=0,IF(Scoresheet!AW26=20,30,Scoresheet!AW26),Scoresheet!AW26),IF(AW32>3,\".\",Scoresheet!AW26)))","v":"?"},{"$f":"IF(AW26>2,\".\",IF(AW32=3,IF(AW26=0,IF(Scoresheet!AX26=20,30,Scoresheet!AX26),Scoresheet!AX26),IF(AX32>3,\".\",Scoresheet!AX26)))","v":"?"},{"$f":"IF(AX26>2,\".\",IF(AX32=3,IF(AX26=0,IF(Scoresheet!AY26=20,30,Scoresheet!AY26),Scoresheet!AY26),IF(AY32>3,\".\",Scoresheet!AY26)))","v":"?"},{"$f":"IF(AY26>2,\".\",IF(AY32=3,IF(AY26=0,IF(Scoresheet!AZ26=20,30,Scoresheet!AZ26),Scoresheet!AZ26),IF(AZ32>3,\".\",Scoresheet!AZ26)))","v":"?"},{"$f":"IF(AZ26>2,\".\",IF(AZ32=3,IF(AZ26=0,IF(Scoresheet!BA26=20,30,Scoresheet!BA26),Scoresheet!BA26),IF(BA32>3,\".\",Scoresheet!BA26)))","v":"?"},{"$f":"IF(BA26>2,\".\",IF(BA32=3,IF(BA26=0,IF(Scoresheet!BB26=20,30,Scoresheet!BB26),Scoresheet!BB26),IF(BB32>3,\".\",Scoresheet!BB26)))","v":"?"},{"$f":"IF(BB26>2,\".\",IF(BB32=3,IF(BB26=0,IF(Scoresheet!BC26=20,30,Scoresheet!BC26),Scoresheet!BC26),IF(BC32>3,\".\",Scoresheet!BC26)))","v":"?"},{"$f":"IF(BC26>2,\".\",IF(BC32=3,IF(BC26=0,IF(Scoresheet!BD26=20,30,Scoresheet!BD26),Scoresheet!BD26),IF(BD32>3,\".\",Scoresheet!BD26)))","v":"?"},{"$f":"IF(BD26>2,\".\",IF(BD32=3,IF(BD26=0,IF(Scoresheet!BE26=20,30,Scoresheet!BE26),Scoresheet!BE26),IF(BE32>3,\".\",Scoresheet!BE26)))","v":"?"},{"$f":"IF(BE26>2,\".\",IF(BE32=3,IF(BE26=0,IF(Scoresheet!BF26=20,30,Scoresheet!BF26),Scoresheet!BF26),IF(BF32>3,\".\",Scoresheet!BF26)))","v":"?"},{"$f":"IF(BF26>2,\".\",IF(BF32=3,IF(BF26=0,IF(Scoresheet!BG26=20,30,Scoresheet!BG26),Scoresheet!BG26),IF(BG32>3,\".\",Scoresheet!BG26)))","v":"?"}]
[null,null,{"$f":"Scoresheet!C21","v":" "},20,{"$f":"IF(D27>2,\".\",IF(D33=3,IF(D27=0,IF(Scoresheet!E26=20,30,Scoresheet!E26),Scoresheet!E26),IF(E33>3,\".\",Scoresheet!E26)))","v":20},{"$f":"IF(E27>2,\".\",IF(E33=3,IF(E27=0,IF(Scoresheet!F26=20,30,Scoresheet!F26),Scoresheet!F26),IF(F33>3,\".\",Scoresheet!F26)))","v":20},{"$f":"IF(F27>2,\".\",IF(F33=3,IF(F27=0,IF(Scoresheet!G26=20,30,Scoresheet!G26),Scoresheet!G26),IF(G33>3,\".\",Scoresheet!G26)))","v":20},{"$f":"IF(G27>2,\".\",IF(G33=3,IF(G27=0,IF(Scoresheet!H26=20,30,Scoresheet!H26),Scoresheet!H26),IF(H33>3,\".\",Scoresheet!H26)))","v":20},{"$f":"IF(H27>2,\".\",IF(H33=3,IF(H27=0,IF(Scoresheet!I26=20,30,Scoresheet!I26),Scoresheet!I26),IF(I33>3,\".\",Scoresheet!I26)))","v":20},{"$f":"IF(I27>2,\".\",IF(I33=3,IF(I27=0,IF(Scoresheet!J26=20,30,Scoresheet!J26),Scoresheet!J26),IF(J33>3,\".\",Scoresheet!J26)))","v":20},{"$f":"IF(J27>2,\".\",IF(J33=3,IF(J27=0,IF(Scoresheet!K26=20,30,Scoresheet!K26),Scoresheet!K26),IF(K33>3,\".\",Scoresheet!K26)))","v":20},{"$f":"IF(K27>2,\".\",IF(K33=3,IF(K27=0,IF(Scoresheet!L26=20,30,Scoresheet!L26),Scoresheet!L26),IF(L33>3,\".\",Scoresheet!L26)))","v":20},{"$f":"IF(L27>2,\".\",IF(L33=3,IF(L27=0,IF(Scoresheet!M26=20,30,Scoresheet!M26),Scoresheet!M26),IF(M33>3,\".\",Scoresheet!M26)))","v":20},{"$f":"IF(M27>2,\".\",IF(M33=3,IF(M27=0,IF(Scoresheet!N26=20,30,Scoresheet!N26),Scoresheet!N26),IF(N33>3,\".\",Scoresheet!N26)))","v":20},{"$f":"IF(N27>2,\".\",IF(N33=3,IF(N27=0,IF(Scoresheet!O26=20,30,Scoresheet!O26),Scoresheet!O26),IF(O33>3,\".\",Scoresheet!O26)))","v":20},{"$f":"IF(O27>2,\".\",IF(O33=3,IF(O27=0,IF(Scoresheet!P26=20,30,Scoresheet!P26),Scoresheet!P26),IF(P33>3,\".\",Scoresheet!P26)))","v":20},{"$f":"IF(P27>2,\".\",IF(P33=3,IF(P27=0,IF(Scoresheet!Q26=20,30,Scoresheet!Q26),Scoresheet!Q26),IF(Q33>3,\".\",Scoresheet!Q26)))","v":20},{"$f":"IF(Q27>2,\".\",IF(Q33=3,IF(Q27=0,IF(Scoresheet!R26=20,30,Scoresheet!R26),Scoresheet!R26),IF(R33>3,\".\",Scoresheet!R26)))","v":20},{"$f":"IF(R27>2,\".\",IF(R33=3,IF(R27=0,IF(Scoresheet!S26=20,30,Scoresheet!S26),Scoresheet!S26),IF(S33>3,\".\",Scoresheet!S26)))","v":20},{"$f":"IF(S27>2,\".\",IF(S33=3,IF(S27=0,IF(Scoresheet!T26=20,30,Scoresheet!T26),Scoresheet!T26),IF(T33>3,\".\",Scoresheet!T26)))","v":20},{"$f":"IF(T27>2,\".\",IF(T33=3,IF(T27=0,IF(Scoresheet!U26=20,30,Scoresheet!U26),Scoresheet!U26),IF(U33>3,\".\",Scoresheet!U26)))","v":20},{"$f":"IF(U27>2,\".\",IF(U33=3,IF(U27=0,IF(Scoresheet!V26=20,30,Scoresheet!V26),Scoresheet!V26),IF(V33>3,\".\",Scoresheet!V26)))","v":10},{"$f":"IF(V27>2,\".\",IF(V33=3,IF(V27=0,IF(Scoresheet!W26=20,30,Scoresheet!W26),Scoresheet!W26),IF(W33>3,\".\",Scoresheet!W26)))","v":20},{"$f":"IF(W27>2,\".\",IF(W33=3,IF(W27=0,IF(Scoresheet!X26=20,30,Scoresheet!X26),Scoresheet!X26),IF(X33>3,\".\",Scoresheet!X26)))","v":20},{"$f":"IF(X27>2,\".\",IF(X33=3,IF(X27=0,IF(Scoresheet!Y26=20,30,Scoresheet!Y26),Scoresheet!Y26),IF(Y33>3,\".\",Scoresheet!Y26)))","v":10},{"$f":"IF(Y27>2,\".\",IF(Y33=3,IF(Y27=0,IF(Scoresheet!Z26=20,30,Scoresheet!Z26),Scoresheet!Z26),IF(Z33>3,\".\",Scoresheet!Z26)))","v":20},{"$f":"IF(Z27>2,\".\",IF(Z33=3,IF(Z27=0,IF(Scoresheet!AA26=20,30,Scoresheet!AA26),Scoresheet!AA26),IF(AA33>3,\".\",Scoresheet!AA26)))","v":20},{"$f":"IF(AA27>2,\".\",IF(AA33=3,IF(AA27=0,IF(Scoresheet!AB26=20,30,Scoresheet!AB26),Scoresheet!AB26),IF(AB33>3,\".\",Scoresheet!AB26)))","v":10},{"$f":"IF(AB27>2,\".\",IF(AB33=3,IF(AB27=0,IF(Scoresheet!AC26=20,30,Scoresheet!AC26),Scoresheet!AC26),IF(AC33>3,\".\",Scoresheet!AC26)))","v":20},{"$f":"IF(AC27>2,\".\",IF(AC33=3,IF(AC27=0,IF(Scoresheet!AD26=20,30,Scoresheet!AD26),Scoresheet!AD26),IF(AD33>3,\".\",Scoresheet!AD26)))","v":"?"},{"$f":"IF(AD27>2,\".\",IF(AD33=3,IF(AD27=0,IF(Scoresheet!AE26=20,30,Scoresheet!AE26),Scoresheet!AE26),IF(AE33>3,\".\",Scoresheet!AE26)))","v":"?"},{"$f":"IF(AE27>2,\".\",IF(AE33=3,IF(AE27=0,IF(Scoresheet!AF26=20,30,Scoresheet!AF26),Scoresheet!AF26),IF(AF33>3,\".\",Scoresheet!AF26)))","v":"?"},{"$f":"IF(AF27>2,\".\",IF(AF33=3,IF(AF27=0,IF(Scoresheet!AG26=20,30,Scoresheet!AG26),Scoresheet!AG26),IF(AG33>3,\".\",Scoresheet!AG26)))","v":"?"},{"$f":"IF(AG27>2,\".\",IF(AG33=3,IF(AG27=0,IF(Scoresheet!AH26=20,30,Scoresheet!AH26),Scoresheet!AH26),IF(AH33>3,\".\",Scoresheet!AH26)))","v":"?"},{"$f":"IF(AH27>2,\".\",IF(AH33=3,IF(AH27=0,IF(Scoresheet!AI26=20,30,Scoresheet!AI26),Scoresheet!AI26),IF(AI33>3,\".\",Scoresheet!AI26)))","v":"?"},{"$f":"IF(AI27>2,\".\",IF(AI33=3,IF(AI27=0,IF(Scoresheet!AJ26=20,30,Scoresheet!AJ26),Scoresheet!AJ26),IF(AJ33>3,\".\",Scoresheet!AJ26)))","v":"?"},{"$f":"IF(AJ27>2,\".\",IF(AJ33=3,IF(AJ27=0,IF(Scoresheet!AK26=20,30,Scoresheet!AK26),Scoresheet!AK26),IF(AK33>3,\".\",Scoresheet!AK26)))","v":"?"},{"$f":"IF(AK27>2,\".\",IF(AK33=3,IF(AK27=0,IF(Scoresheet!AL26=20,30,Scoresheet!AL26),Scoresheet!AL26),IF(AL33>3,\".\",Scoresheet!AL26)))","v":"?"},{"$f":"IF(AL27>2,\".\",IF(AL33=3,IF(AL27=0,IF(Scoresheet!AM26=20,30,Scoresheet!AM26),Scoresheet!AM26),IF(AM33>3,\".\",Scoresheet!AM26)))","v":"?"},{"$f":"IF(AM27>2,\".\",IF(AM33=3,IF(AM27=0,IF(Scoresheet!AN26=20,30,Scoresheet!AN26),Scoresheet!AN26),IF(AN33>3,\".\",Scoresheet!AN26)))","v":"?"},{"$f":"IF(AN27>2,\".\",IF(AN33=3,IF(AN27=0,IF(Scoresheet!AO26=20,30,Scoresheet!AO26),Scoresheet!AO26),IF(AO33>3,\".\",Scoresheet!AO26)))","v":"?"},{"$f":"IF(AO27>2,\".\",IF(AO33=3,IF(AO27=0,IF(Scoresheet!AP26=20,30,Scoresheet!AP26),Scoresheet!AP26),IF(AP33>3,\".\",Scoresheet!AP26)))","v":"?"},{"$f":"IF(AP27>2,\".\",IF(AP33=3,IF(AP27=0,IF(Scoresheet!AQ26=20,30,Scoresheet!AQ26),Scoresheet!AQ26),IF(AQ33>3,\".\",Scoresheet!AQ26)))","v":"?"},{"$f":"IF(AQ27>2,\".\",IF(AQ33=3,IF(AQ27=0,IF(Scoresheet!AR26=20,30,Scoresheet!AR26),Scoresheet!AR26),IF(AR33>3,\".\",Scoresheet!AR26)))","v":"?"},{"$f":"IF(AR27>2,\".\",IF(AR33=3,IF(AR27=0,IF(Scoresheet!AS26=20,30,Scoresheet!AS26),Scoresheet!AS26),IF(AS33>3,\".\",Scoresheet!AS26)))","v":"?"},{"$f":"IF(AS27>2,\".\",IF(AS33=3,IF(AS27=0,IF(Scoresheet!AT26=20,30,Scoresheet!AT26),Scoresheet!AT26),IF(AT33>3,\".\",Scoresheet!AT26)))","v":"?"},{"$f":"IF(AT27>2,\".\",IF(AT33=3,IF(AT27=0,IF(Scoresheet!AU26=20,30,Scoresheet!AU26),Scoresheet!AU26),IF(AU33>3,\".\",Scoresheet!AU26)))","v":"?"},{"$f":"IF(AU27>2,\".\",IF(AU33=3,IF(AU27=0,IF(Scoresheet!AV26=20,30,Scoresheet!AV26),Scoresheet!AV26),IF(AV33>3,\".\",Scoresheet!AV26)))","v":"?"},{"$f":"IF(AV27>2,\".\",IF(AV33=3,IF(AV27=0,IF(Scoresheet!AW26=20,30,Scoresheet!AW26),Scoresheet!AW26),IF(AW33>3,\".\",Scoresheet!AW26)))","v":"?"},{"$f":"IF(AW27>2,\".\",IF(AW33=3,IF(AW27=0,IF(Scoresheet!AX26=20,30,Scoresheet!AX26),Scoresheet!AX26),IF(AX33>3,\".\",Scoresheet!AX26)))","v":"?"},{"$f":"IF(AX27>2,\".\",IF(AX33=3,IF(AX27=0,IF(Scoresheet!AY26=20,30,Scoresheet!AY26),Scoresheet!AY26),IF(AY33>3,\".\",Scoresheet!AY26)))","v":"?"},{"$f":"IF(AY27>2,\".\",IF(AY33=3,IF(AY27=0,IF(Scoresheet!AZ26=20,30,Scoresheet!AZ26),Scoresheet!AZ26),IF(AZ33>3,\".\",Scoresheet!AZ26)))","v":"?"},{"$f":"IF(AZ27>2,\".\",IF(AZ33=3,IF(AZ27=0,IF(Scoresheet!BA26=20,30,Scoresheet!BA26),Scoresheet!BA26),IF(BA33>3,\".\",Scoresheet!BA26)))","v":"?"},{"$f":"IF(BA27>2,\".\",IF(BA33=3,IF(BA27=0,IF(Scoresheet!BB26=20,30,Scoresheet!BB26),Scoresheet!BB26),IF(BB33>3,\".\",Scoresheet!BB26)))","v":"?"},{"$f":"IF(BB27>2,\".\",IF(BB33=3,IF(BB27=0,IF(Scoresheet!BC26=20,30,Scoresheet!BC26),Scoresheet!BC26),IF(BC33>3,\".\",Scoresheet!BC26)))","v":"?"},{"$f":"IF(BC27>2,\".\",IF(BC33=3,IF(BC27=0,IF(Scoresheet!BD26=20,30,Scoresheet!BD26),Scoresheet!BD26),IF(BD33>3,\".\",Scoresheet!BD26)))","v":"?"},{"$f":"IF(BD27>2,\".\",IF(BD33=3,IF(BD27=0,IF(Scoresheet!BE26=20,30,Scoresheet!BE26),Scoresheet!BE26),IF(BE33>3,\".\",Scoresheet!BE26)))","v":"?"},{"$f":"IF(BE27>2,\".\",IF(BE33=3,IF(BE27=0,IF(Scoresheet!BF26=20,30,Scoresheet!BF26),Scoresheet!BF26),IF(BF33>3,\".\",Scoresheet!BF26)))","v":"?"},{"$f":"IF(BF27>2,\".\",IF(BF33=3,IF(BF27=0,IF(Scoresheet!BG26=20,30,Scoresheet!BG26),Scoresheet!BG26),IF(BG33>3,\".\",Scoresheet!BG26)))","v":"?"}]
[]
[null,null,{"$f":"CONCATENATE(\"# of errors \",C17)","v":"# of errors Quizzer #1"},{"$f":"IF(Scoresheet!D17=\"E\",1,0)","v":0},{"$f":"IF(Scoresheet!E17=\"E\",1+D23,D23)","v":0},{"$f":"IF(Scoresheet!F17=\"E\",1+E23,E23)","v":0},{"$f":"IF(Scoresheet!G17=\"E\",1+F23,F23)","v":0},{"$f":"IF(Scoresheet!H17=\"E\",1+G23,G23)","v":0},{"$f":"IF(Scoresheet!I17=\"E\",1+H23,H23)","v":0},{"$f":"IF(Scoresheet!J17=\"E\",1+I23,I23)","v":0},{"$f":"IF(Scoresheet!K17=\"E\",1+J23,J23)","v":0},{"$f":"IF(Scoresheet!L17=\"E\",1+K23,K23)","v":0},{"$f":"IF(Scoresheet!M17=\"E\",1+L23,L23)","v":0},{"$f":"IF(Scoresheet!N17=\"E\",1+M23,M23)","v":0},{"$f":"IF(Scoresheet!O17=\"E\",1+N23,N23)","v":0},{"$f":"IF(Scoresheet!P17=\"E\",1+O23,O23)","v":0},{"$f":"IF(Scoresheet!Q17=\"E\",1+P23,P23)","v":0},{"$f":"IF(Scoresheet!R17=\"E\",1+Q23,Q23)","v":0},{"$f":"IF(Scoresheet!S17=\"E\",1+R23,R23)","v":0},{"$f":"IF(Scoresheet!T17=\"E\",1+S23,S23)","v":0},{"$f":"IF(Scoresheet!U17=\"E\",1+T23,T23)","v":0},{"$f":"IF(Scoresheet!V17=\"E\",1+U23,U23)","v":0},{"$f":"IF(Scoresheet!W17=\"E\",1+V23,V23)","v":0},{"$f":"IF(Scoresheet!X17=\"E\",1+W23,W23)","v":0},{"$f":"IF(Scoresheet!Y17=\"E\",1+X23,X23)","v":0},{"$f":"IF(Scoresheet!Z17=\"E\",1+Y23,Y23)","v":0},{"$f":"IF(Scoresheet!AA17=\"E\",1+Z23,Z23)","v":0},{"$f":"IF(Scoresheet!AB17=\"E\",1+AA23,AA23)","v":0},{"$f":"IF(Scoresheet!AC17=\"E\",1+AB23,AB23)","v":0},{"$f":"IF(Scoresheet!AD17=\"E\",1+AC23,AC23)","v":0},{"$f":"IF(Scoresheet!AE17=\"E\",1+AD23,AD23)","v":0},{"$f":"IF(Scoresheet!AF17=\"E\",1+AE23,AE23)","v":0},{"$f":"IF(Scoresheet!AG17=\"E\",1+AF23,AF23)","v":0},{"$f":"IF(Scoresheet!AH17=\"E\",1+AG23,AG23)","v":0},{"$f":"IF(Scoresheet!AI17=\"E\",1+AH23,AH23)","v":0},{"$f":"IF(Scoresheet!AJ17=\"E\",1+AI23,AI23)","v":0},{"$f":"IF(Scoresheet!AK17=\"E\",1+AJ23,AJ23)","v":0},{"$f":"IF(Scoresheet!AL17=\"E\",1+AK23,AK23)","v":0},{"$f":"IF(Scoresheet!AM17=\"E\",1+AL23,AL23)","v":0},{"$f":"IF(Scoresheet!AN17=\"E\",1+AM23,AM23)","v":0},{"$f":"IF(Scoresheet!AO17=\"E\",1+AN23,AN23)","v":0},{"$f":"IF(Scoresheet!AP17=\"E\",1+AO23,AO23)","v":0},{"$f":"IF(Scoresheet!AQ17=\"E\",1+AP23,AP23)","v":0},{"$f":"IF(Scoresheet!AR17=\"E\",1+AQ23,AQ23)","v":0},{"$f":"IF(Scoresheet!AS17=\"E\",1+AR23,AR23)","v":0},{"$f":"IF(Scoresheet!AT17=\"E\",1+AS23,AS23)","v":0},{"$f":"IF(Scoresheet!AU17=\"E\",1+AT23,AT23)","v":0},{"$f":"IF(Scoresheet!AV17=\"E\",1+AU23,AU23)","v":0},{"$f":"IF(Scoresheet!AW17=\"E\",1+AV23,AV23)","v":0},{"$f":"IF(Scoresheet!AX17=\"E\",1+AW23,AW23)","v":0},{"$f":"IF(Scoresheet!AY17=\"E\",1+AX23,AX23)","v":0},{"$f":"IF(Scoresheet!AZ17=\"E\",1+AY23,AY23)","v":0},{"$f":"IF(Scoresheet!BA17=\"E\",1+AZ23,AZ23)","v":0},{"$f":"IF(Scoresheet!BB17=\"E\",1+BA23,BA23)","v":0},{"$f":"IF(Scoresheet!BC17=\"E\",1+BB23,BB23)","v":0},{"$f":"IF(Scoresheet!BD17=\"E\",1+BC23,BC23)","v":0},{"$f":"IF(Scoresheet!BE17=\"E\",1+BD23,BD23)","v":0},{"$f":"IF(Scoresheet!BF17=\"E\",1+BE23,BE23)","v":0},{"$f":"IF(Scoresheet!BG17=\"E\",1+BF23,BF23)","v":0}]
[null,null,{"$f":"CONCATENATE(\"# of errors \",C18)","v":"# of errors Quizzer #2"},{"$f":"IF(Scoresheet!D18=\"E\",1,0)","v":0},{"$f":"IF(Scoresheet!E18=\"E\",1+D24,D24)","v":0},{"$f":"IF(Scoresheet!F18=\"E\",1+E24,E24)","v":0},{"$f":"IF(Scoresheet!G18=\"E\",1+F24,F24)","v":0},{"$f":"IF(Scoresheet!H18=\"E\",1+G24,G24)","v":0},{"$f":"IF(Scoresheet!I18=\"E\",1+H24,H24)","v":0},{"$f":"IF(Scoresheet!J18=\"E\",1+I24,I24)","v":0},{"$f":"IF(Scoresheet!K18=\"E\",1+J24,J24)","v":0},{"$f":"IF(Scoresheet!L18=\"E\",1+K24,K24)","v":0},{"$f":"IF(Scoresheet!M18=\"E\",1+L24,L24)","v":0},{"$f":"IF(Scoresheet!N18=\"E\",1+M24,M24)","v":0},{"$f":"IF(Scoresheet!O18=\"E\",1+N24,N24)","v":0},{"$f":"IF(Scoresheet!P18=\"E\",1+O24,O24)","v":0},{"$f":"IF(Scoresheet!Q18=\"E\",1+P24,P24)","v":0},{"$f":"IF(Scoresheet!R18=\"E\",1+Q24,Q24)","v":0},{"$f":"IF(Scoresheet!S18=\"E\",1+R24,R24)","v":0},{"$f":"IF(Scoresheet!T18=\"E\",1+S24,S24)","v":0},{"$f":"IF(Scoresheet!U18=\"E\",1+T24,T24)","v":0},{"$f":"IF(Scoresheet!V18=\"E\",1+U24,U24)","v":0},{"$f":"IF(Scoresheet!W18=\"E\",1+V24,V24)","v":0},{"$f":"IF(Scoresheet!X18=\"E\",1+W24,W24)","v":0},{"$f":"IF(Scoresheet!Y18=\"E\",1+X24,X24)","v":0},{"$f":"IF(Scoresheet!Z18=\"E\",1+Y24,Y24)","v":0},{"$f":"IF(Scoresheet!AA18=\"E\",1+Z24,Z24)","v":0},{"$f":"IF(Scoresheet!AB18=\"E\",1+AA24,AA24)","v":0},{"$f":"IF(Scoresheet!AC18=\"E\",1+AB24,AB24)","v":0},{"$f":"IF(Scoresheet!AD18=\"E\",1+AC24,AC24)","v":0},{"$f":"IF(Scoresheet!AE18=\"E\",1+AD24,AD24)","v":0},{"$f":"IF(Scoresheet!AF18=\"E\",1+AE24,AE24)","v":0},{"$f":"IF(Scoresheet!AG18=\"E\",1+AF24,AF24)","v":0},{"$f":"IF(Scoresheet!AH18=\"E\",1+AG24,AG24)","v":0},{"$f":"IF(Scoresheet!AI18=\"E\",1+AH24,AH24)","v":0},{"$f":"IF(Scoresheet!AJ18=\"E\",1+AI24,AI24)","v":0},{"$f":"IF(Scoresheet!AK18=\"E\",1+AJ24,AJ24)","v":0},{"$f":"IF(Scoresheet!AL18=\"E\",1+AK24,AK24)","v":0},{"$f":"IF(Scoresheet!AM18=\"E\",1+AL24,AL24)","v":0},{"$f":"IF(Scoresheet!AN18=\"E\",1+AM24,AM24)","v":0},{"$f":"IF(Scoresheet!AO18=\"E\",1+AN24,AN24)","v":0},{"$f":"IF(Scoresheet!AP18=\"E\",1+AO24,AO24)","v":0},{"$f":"IF(Scoresheet!AQ18=\"E\",1+AP24,AP24)","v":0},{"$f":"IF(Scoresheet!AR18=\"E\",1+AQ24,AQ24)","v":0},{"$f":"IF(Scoresheet!AS18=\"E\",1+AR24,AR24)","v":0},{"$f":"IF(Scoresheet!AT18=\"E\",1+AS24,AS24)","v":0},{"$f":"IF(Scoresheet!AU18=\"E\",1+AT24,AT24)","v":0},{"$f":"IF(Scoresheet!AV18=\"E\",1+AU24,AU24)","v":0},{"$f":"IF(Scoresheet!AW18=\"E\",1+AV24,AV24)","v":0},{"$f":"IF(Scoresheet!AX18=\"E\",1+AW24,AW24)","v":0},{"$f":"IF(Scoresheet!AY18=\"E\",1+AX24,AX24)","v":0},{"$f":"IF(Scoresheet!AZ18=\"E\",1+AY24,AY24)","v":0},{"$f":"IF(Scoresheet!BA18=\"E\",1+AZ24,AZ24)","v":0},{"$f":"IF(Scoresheet!BB18=\"E\",1+BA24,BA24)","v":0},{"$f":"IF(Scoresheet!BC18=\"E\",1+BB24,BB24)","v":0},{"$f":"IF(Scoresheet!BD18=\"E\",1+BC24,BC24)","v":0},{"$f":"IF(Scoresheet!BE18=\"E\",1+BD24,BD24)","v":0},{"$f":"IF(Scoresheet!BF18=\"E\",1+BE24,BE24)","v":0},{"$f":"IF(Scoresheet!BG18=\"E\",1+BF24,BF24)","v":0}]
[null,null,"# of errors Quizzer #3",{"$f":"IF(Scoresheet!D19=\"E\",1,0)","v":0},{"$f":"IF(Scoresheet!E19=\"E\",1+D25,D25)","v":0},{"$f":"IF(Scoresheet!F19=\"E\",1+E25,E25)","v":0},{"$f":"IF(Scoresheet!G19=\"E\",1+F25,F25)","v":0},{"$f":"IF(Scoresheet!H19=\"E\",1+G25,G25)","v":0},{"$f":"IF(Scoresheet!I19=\"E\",1+H25,H25)","v":0},{"$f":"IF(Scoresheet!J19=\"E\",1+I25,I25)","v":0},{"$f":"IF(Scoresheet!K19=\"E\",1+J25,J25)","v":0},{"$f":"IF(Scoresheet!L19=\"E\",1+K25,K25)","v":0},{"$f":"IF(Scoresheet!M19=\"E\",1+L25,L25)","v":0},{"$f":"IF(Scoresheet!N19=\"E\",1+M25,M25)","v":0},{"$f":"IF(Scoresheet!O19=\"E\",1+N25,N25)","v":0},{"$f":"IF(Scoresheet!P19=\"E\",1+O25,O25)","v":0},{"$f":"IF(Scoresheet!Q19=\"E\",1+P25,P25)","v":0},{"$f":"IF(Scoresheet!R19=\"E\",1+Q25,Q25)","v":0},{"$f":"IF(Scoresheet!S19=\"E\",1+R25,R25)","v":0},{"$f":"IF(Scoresheet!T19=\"E\",1+S25,S25)","v":0},{"$f":"IF(Scoresheet!U19=\"E\",1+T25,T25)","v":0},{"$f":"IF(Scoresheet!V19=\"E\",1+U25,U25)","v":0},{"$f":"IF(Scoresheet!W19=\"E\",1+V25,V25)","v":0},{"$f":"IF(Scoresheet!X19=\"E\",1+W25,W25)","v":0},{"$f":"IF(Scoresheet!Y19=\"E\",1+X25,X25)","v":0},{"$f":"IF(Scoresheet!Z19=\"E\",1+Y25,Y25)","v":0},{"$f":"IF(Scoresheet!AA19=\"E\",1+Z25,Z25)","v":0},{"$f":"IF(Scoresheet!AB19=\"E\",1+AA25,AA25)","v":0},{"$f":"IF(Scoresheet!AC19=\"E\",1+AB25,AB25)","v":0},{"$f":"IF(Scoresheet!AD19=\"E\",1+AC25,AC25)","v":0},{"$f":"IF(Scoresheet!AE19=\"E\",1+AD25,AD25)","v":0},{"$f":"IF(Scoresheet!AF19=\"E\",1+AE25,AE25)","v":0},{"$f":"IF(Scoresheet!AG19=\"E\",1+AF25,AF25)","v":0},{"$f":"IF(Scoresheet!AH19=\"E\",1+AG25,AG25)","v":0},{"$f":"IF(Scoresheet!AI19=\"E\",1+AH25,AH25)","v":0},{"$f":"IF(Scoresheet!AJ19=\"E\",1+AI25,AI25)","v":0},{"$f":"IF(Scoresheet!AK19=\"E\",1+AJ25,AJ25)","v":0},{"$f":"IF(Scoresheet!AL19=\"E\",1+AK25,AK25)","v":0},{"$f":"IF(Scoresheet!AM19=\"E\",1+AL25,AL25)","v":0},{"$f":"IF(Scoresheet!AN19=\"E\",1+AM25,AM25)","v":0},{"$f":"IF(Scoresheet!AO19=\"E\",1+AN25,AN25)","v":0},{"$f":"IF(Scoresheet!AP19=\"E\",1+AO25,AO25)","v":0},{"$f":"IF(Scoresheet!AQ19=\"E\",1+AP25,AP25)","v":0},{"$f":"IF(Scoresheet!AR19=\"E\",1+AQ25,AQ25)","v":0},{"$f":"IF(Scoresheet!AS19=\"E\",1+AR25,AR25)","v":0},{"$f":"IF(Scoresheet!AT19=\"E\",1+AS25,AS25)","v":0},{"$f":"IF(Scoresheet!AU19=\"E\",1+AT25,AT25)","v":0},{"$f":"IF(Scoresheet!AV19=\"E\",1+AU25,AU25)","v":0},{"$f":"IF(Scoresheet!AW19=\"E\",1+AV25,AV25)","v":0},{"$f":"IF(Scoresheet!AX19=\"E\",1+AW25,AW25)","v":0},{"$f":"IF(Scoresheet!AY19=\"E\",1+AX25,AX25)","v":0},{"$f":"IF(Scoresheet!AZ19=\"E\",1+AY25,AY25)","v":0},{"$f":"IF(Scoresheet!BA19=\"E\",1+AZ25,AZ25)","v":0},{"$f":"IF(Scoresheet!BB19=\"E\",1+BA25,BA25)","v":0},{"$f":"IF(Scoresheet!BC19=\"E\",1+BB25,BB25)","v":0},{"$f":"IF(Scoresheet!BD19=\"E\",1+BC25,BC25)","v":0},{"$f":"IF(Scoresheet!BE19=\"E\",1+BD25,BD25)","v":0},{"$f":"IF(Scoresheet!BF19=\"E\",1+BE25,BE25)","v":0},{"$f":"IF(Scoresheet!BG19=\"E\",1+BF25,BF25)","v":0}]
[null,null,"# of errors Quizzer #4",{"$f":"IF(Scoresheet!D20=\"E\",1,0)","v":0},{"$f":"IF(Scoresheet!E20=\"E\",1+D26,D26)","v":0},{"$f":"IF(Scoresheet!F20=\"E\",1+E26,E26)","v":0},{"$f":"IF(Scoresheet!G20=\"E\",1+F26,F26)","v":0},{"$f":"IF(Scoresheet!H20=\"E\",1+G26,G26)","v":0},{"$f":"IF(Scoresheet!I20=\"E\",1+H26,H26)","v":0},{"$f":"IF(Scoresheet!J20=\"E\",1+I26,I26)","v":0},{"$f":"IF(Scoresheet!K20=\"E\",1+J26,J26)","v":0},{"$f":"IF(Scoresheet!L20=\"E\",1+K26,K26)","v":0},{"$f":"IF(Scoresheet!M20=\"E\",1+L26,L26)","v":0},{"$f":"IF(Scoresheet!N20=\"E\",1+M26,M26)","v":0},{"$f":"IF(Scoresheet!O20=\"E\",1+N26,N26)","v":0},{"$f":"IF(Scoresheet!P20=\"E\",1+O26,O26)","v":0},{"$f":"IF(Scoresheet!Q20=\"E\",1+P26,P26)","v":0},{"$f":"IF(Scoresheet!R20=\"E\",1+Q26,Q26)","v":0},{"$f":"IF(Scoresheet!S20=\"E\",1+R26,R26)","v":0},{"$f":"IF(Scoresheet!T20=\"E\",1+S26,S26)","v":0},{"$f":"IF(Scoresheet!U20=\"E\",1+T26,T26)","v":0},{"$f":"IF(Scoresheet!V20=\"E\",1+U26,U26)","v":0},{"$f":"IF(Scoresheet!W20=\"E\",1+V26,V26)","v":0},{"$f":"IF(Scoresheet!X20=\"E\",1+W26,W26)","v":0},{"$f":"IF(Scoresheet!Y20=\"E\",1+X26,X26)","v":0},{"$f":"IF(Scoresheet!Z20=\"E\",1+Y26,Y26)","v":0},{"$f":"IF(Scoresheet!AA20=\"E\",1+Z26,Z26)","v":0},{"$f":"IF(Scoresheet!AB20=\"E\",1+AA26,AA26)","v":0},{"$f":"IF(Scoresheet!AC20=\"E\",1+AB26,AB26)","v":0},{"$f":"IF(Scoresheet!AD20=\"E\",1+AC26,AC26)","v":0},{"$f":"IF(Scoresheet!AE20=\"E\",1+AD26,AD26)","v":0},{"$f":"IF(Scoresheet!AF20=\"E\",1+AE26,AE26)","v":0},{"$f":"IF(Scoresheet!AG20=\"E\",1+AF26,AF26)","v":0},{"$f":"IF(Scoresheet!AH20=\"E\",1+AG26,AG26)","v":0},{"$f":"IF(Scoresheet!AI20=\"E\",1+AH26,AH26)","v":0},{"$f":"IF(Scoresheet!AJ20=\"E\",1+AI26,AI26)","v":0},{"$f":"IF(Scoresheet!AK20=\"E\",1+AJ26,AJ26)","v":0},{"$f":"IF(Scoresheet!AL20=\"E\",1+AK26,AK26)","v":0},{"$f":"IF(Scoresheet!AM20=\"E\",1+AL26,AL26)","v":0},{"$f":"IF(Scoresheet!AN20=\"E\",1+AM26,AM26)","v":0},{"$f":"IF(Scoresheet!AO20=\"E\",1+AN26,AN26)","v":0},{"$f":"IF(Scoresheet!AP20=\"E\",1+AO26,AO26)","v":0},{"$f":"IF(Scoresheet!AQ20=\"E\",1+AP26,AP26)","v":0},{"$f":"IF(Scoresheet!AR20=\"E\",1+AQ26,AQ26)","v":0},{"$f":"IF(Scoresheet!AS20=\"E\",1+AR26,AR26)","v":0},{"$f":"IF(Scoresheet!AT20=\"E\",1+AS26,AS26)","v":0},{"$f":"IF(Scoresheet!AU20=\"E\",1+AT26,AT26)","v":0},{"$f":"IF(Scoresheet!AV20=\"E\",1+AU26,AU26)","v":0},{"$f":"IF(Scoresheet!AW20=\"E\",1+AV26,AV26)","v":0},{"$f":"IF(Scoresheet!AX20=\"E\",1+AW26,AW26)","v":0},{"$f":"IF(Scoresheet!AY20=\"E\",1+AX26,AX26)","v":0},{"$f":"IF(Scoresheet!AZ20=\"E\",1+AY26,AY26)","v":0},{"$f":"IF(Scoresheet!BA20=\"E\",1+AZ26,AZ26)","v":0},{"$f":"IF(Scoresheet!BB20=\"E\",1+BA26,BA26)","v":0},{"$f":"IF(Scoresheet!BC20=\"E\",1+BB26,BB26)","v":0},{"$f":"IF(Scoresheet!BD20=\"E\",1+BC26,BC26)","v":0},{"$f":"IF(Scoresheet!BE20=\"E\",1+BD26,BD26)","v":0},{"$f":"IF(Scoresheet!BF20=\"E\",1+BE26,BE26)","v":0},{"$f":"IF(Scoresheet!BG20=\"E\",1+BF26,BF26)","v":0}]
[null,null,"# of errors  ",{"$f":"IF(Scoresheet!D21=\"E\",1,0)","v":0},{"$f":"IF(Scoresheet!E21=\"E\",1+D27,D27)","v":0},{"$f":"IF(Scoresheet!F21=\"E\",1+E27,E27)","v":0},{"$f":"IF(Scoresheet!G21=\"E\",1+F27,F27)","v":0},{"$f":"IF(Scoresheet!H21=\"E\",1+G27,G27)","v":0},{"$f":"IF(Scoresheet!I21=\"E\",1+H27,H27)","v":0},{"$f":"IF(Scoresheet!J21=\"E\",1+I27,I27)","v":0},{"$f":"IF(Scoresheet!K21=\"E\",1+J27,J27)","v":0},{"$f":"IF(Scoresheet!L21=\"E\",1+K27,K27)","v":0},{"$f":"IF(Scoresheet!M21=\"E\",1+L27,L27)","v":0},{"$f":"IF(Scoresheet!N21=\"E\",1+M27,M27)","v":0},{"$f":"IF(Scoresheet!O21=\"E\",1+N27,N27)","v":0},{"$f":"IF(Scoresheet!P21=\"E\",1+O27,O27)","v":0},{"$f":"IF(Scoresheet!Q21=\"E\",1+P27,P27)","v":0},{"$f":"IF(Scoresheet!R21=\"E\",1+Q27,Q27)","v":0},{"$f":"IF(Scoresheet!S21=\"E\",1+R27,R27)","v":0},{"$f":"IF(Scoresheet!T21=\"E\",1+S27,S27)","v":0},{"$f":"IF(Scoresheet!U21=\"E\",1+T27,T27)","v":0},{"$f":"IF(Scoresheet!V21=\"E\",1+U27,U27)","v":0},{"$f":"IF(Scoresheet!W21=\"E\",1+V27,V27)","v":0},{"$f":"IF(Scoresheet!X21=\"E\",1+W27,W27)","v":0},{"$f":"IF(Scoresheet!Y21=\"E\",1+X27,X27)","v":0},{"$f":"IF(Scoresheet!Z21=\"E\",1+Y27,Y27)","v":0},{"$f":"IF(Scoresheet!AA21=\"E\",1+Z27,Z27)","v":0},{"$f":"IF(Scoresheet!AB21=\"E\",1+AA27,AA27)","v":0},{"$f":"IF(Scoresheet!AC21=\"E\",1+AB27,AB27)","v":0},{"$f":"IF(Scoresheet!AD21=\"E\",1+AC27,AC27)","v":0},{"$f":"IF(Scoresheet!AE21=\"E\",1+AD27,AD27)","v":0},{"$f":"IF(Scoresheet!AF21=\"E\",1+AE27,AE27)","v":0},{"$f":"IF(Scoresheet!AG21=\"E\",1+AF27,AF27)","v":0},{"$f":"IF(Scoresheet!AH21=\"E\",1+AG27,AG27)","v":0},{"$f":"IF(Scoresheet!AI21=\"E\",1+AH27,AH27)","v":0},{"$f":"IF(Scoresheet!AJ21=\"E\",1+AI27,AI27)","v":0},{"$f":"IF(Scoresheet!AK21=\"E\",1+AJ27,AJ27)","v":0},{"$f":"IF(Scoresheet!AL21=\"E\",1+AK27,AK27)","v":0},{"$f":"IF(Scoresheet!AM21=\"E\",1+AL27,AL27)","v":0},{"$f":"IF(Scoresheet!AN21=\"E\",1+AM27,AM27)","v":0},{"$f":"IF(Scoresheet!AO21=\"E\",1+AN27,AN27)","v":0},{"$f":"IF(Scoresheet!AP21=\"E\",1+AO27,AO27)","v":0},{"$f":"IF(Scoresheet!AQ21=\"E\",1+AP27,AP27)","v":0},{"$f":"IF(Scoresheet!AR21=\"E\",1+AQ27,AQ27)","v":0},{"$f":"IF(Scoresheet!AS21=\"E\",1+AR27,AR27)","v":0},{"$f":"IF(Scoresheet!AT21=\"E\",1+AS27,AS27)","v":0},{"$f":"IF(Scoresheet!AU21=\"E\",1+AT27,AT27)","v":0},{"$f":"IF(Scoresheet!AV21=\"E\",1+AU27,AU27)","v":0},{"$f":"IF(Scoresheet!AW21=\"E\",1+AV27,AV27)","v":0},{"$f":"IF(Scoresheet!AX21=\"E\",1+AW27,AW27)","v":0},{"$f":"IF(Scoresheet!AY21=\"E\",1+AX27,AX27)","v":0},{"$f":"IF(Scoresheet!AZ21=\"E\",1+AY27,AY27)","v":0},{"$f":"IF(Scoresheet!BA21=\"E\",1+AZ27,AZ27)","v":0},{"$f":"IF(Scoresheet!BB21=\"E\",1+BA27,BA27)","v":0},{"$f":"IF(Scoresheet!BC21=\"E\",1+BB27,BB27)","v":0},{"$f":"IF(Scoresheet!BD21=\"E\",1+BC27,BC27)","v":0},{"$f":"IF(Scoresheet!BE21=\"E\",1+BD27,BD27)","v":0},{"$f":"IF(Scoresheet!BF21=\"E\",1+BE27,BE27)","v":0},{"$f":"IF(Scoresheet!BG21=\"E\",1+BF27,BF27)","v":0}]
[]
[null,null,{"$f":"CONCATENATE(\"# 20's \",Sheet3!C17)","v":"# 20's Quizzer #1"},{"$f":"COUNTIF(Scoresheet!$D17:D17,20)+COUNTIF(Scoresheet!$D17:D17,30)","v":0},{"$f":"COUNTIF(Scoresheet!$D17:E17,20)+COUNTIF(Scoresheet!$D17:E17,30)","v":0},{"$f":"COUNTIF(Scoresheet!$D17:F17,20)+COUNTIF(Scoresheet!$D17:F17,30)","v":0},{"$f":"COUNTIF(Scoresheet!$D17:G17,20)+COUNTIF(Scoresheet!$D17:G17,30)","v":0},{"$f":"COUNTIF(Scoresheet!$D17:H17,20)+COUNTIF(Scoresheet!$D17:H17,30)","v":0},{"$f":"COUNTIF(Scoresheet!$D17:I17,20)+COUNTIF(Scoresheet!$D17:I17,30)","v":0},{"$f":"COUNTIF(Scoresheet!$D17:J17,20)+COUNTIF(Scoresheet!$D17:J17,30)","v":0},{"$f":"COUNTIF(Scoresheet!$D17:K17,20)+COUNTIF(Scoresheet!$D17:K17,30)","v":0},{"$f":"COUNTIF(Scoresheet!$D17:L17,20)+COUNTIF(Scoresheet!$D17:L17,30)","v":0},{"$f":"COUNTIF(Scoresheet!$D17:M17,20)+COUNTIF(Scoresheet!$D17:M17,30)","v":0},{"$f":"COUNTIF(Scoresheet!$D17:N17,20)+COUNTIF(Scoresheet!$D17:N17,30)","v":0},{"$f":"COUNTIF(Scoresheet!$D17:O17,20)+COUNTIF(Scoresheet!$D17:O17,30)","v":0},{"$f":"COUNTIF(Scoresheet!$D17:P17,20)+COUNTIF(Scoresheet!$D17:P17,30)","v":0},{"$f":"COUNTIF(Scoresheet!$D17:Q17,20)+COUNTIF(Scoresheet!$D17:Q17,30)","v":0},{"$f":"COUNTIF(Scoresheet!$D17:R17,20)+COUNTIF(Scoresheet!$D17:R17,30)","v":0},{"$f":"COUNTIF(Scoresheet!$D17:S17,20)+COUNTIF(Scoresheet!$D17:S17,30)","v":0},{"$f":"COUNTIF(Scoresheet!$D17:T17,20)+COUNTIF(Scoresheet!$D17:T17,30)","v":0},{"$f":"COUNTIF(Scoresheet!$D17:U17,20)+COUNTIF(Scoresheet!$D17:U17,30)","v":0},{"$f":"COUNTIF(Scoresheet!$D17:V17,20)+COUNTIF(Scoresheet!$D17:V17,30)","v":0},{"$f":"COUNTIF(Scoresheet!$D17:W17,20)+COUNTIF(Scoresheet!$D17:W17,30)","v":0},{"$f":"COUNTIF(Scoresheet!$D17:X17,20)+COUNTIF(Scoresheet!$D17:X17,30)","v":0},{"$f":"COUNTIF(Scoresheet!$D17:Y17,20)+COUNTIF(Scoresheet!$D17:Y17,30)","v":0},{"$f":"COUNTIF(Scoresheet!$D17:Z17,20)+COUNTIF(Scoresheet!$D17:Z17,30)","v":0},{"$f":"COUNTIF(Scoresheet!$D17:AA17,20)+COUNTIF(Scoresheet!$D17:AA17,30)","v":0},{"$f":"COUNTIF(Scoresheet!$D17:AB17,20)+COUNTIF(Scoresheet!$D17:AB17,30)","v":0},{"$f":"COUNTIF(Scoresheet!$D17:AC17,20)+COUNTIF(Scoresheet!$D17:AC17,30)","v":0},{"$f":"COUNTIF(Scoresheet!$D17:AD17,20)+COUNTIF(Scoresheet!$D17:AD17,30)","v":0},{"$f":"COUNTIF(Scoresheet!$D17:AE17,20)+COUNTIF(Scoresheet!$D17:AE17,30)","v":0},{"$f":"COUNTIF(Scoresheet!$D17:AF17,20)+COUNTIF(Scoresheet!$D17:AF17,30)","v":0},{"$f":"COUNTIF(Scoresheet!$D17:AG17,20)+COUNTIF(Scoresheet!$D17:AG17,30)","v":0},{"$f":"COUNTIF(Scoresheet!$D17:AH17,20)+COUNTIF(Scoresheet!$D17:AH17,30)","v":0},{"$f":"COUNTIF(Scoresheet!$D17:AI17,20)+COUNTIF(Scoresheet!$D17:AI17,30)","v":0},{"$f":"COUNTIF(Scoresheet!$D17:AJ17,20)+COUNTIF(Scoresheet!$D17:AJ17,30)","v":0},{"$f":"COUNTIF(Scoresheet!$D17:AK17,20)+COUNTIF(Scoresheet!$D17:AK17,30)","v":0},{"$f":"COUNTIF(Scoresheet!$D17:AL17,20)+COUNTIF(Scoresheet!$D17:AL17,30)","v":0},{"$f":"COUNTIF(Scoresheet!$D17:AM17,20)+COUNTIF(Scoresheet!$D17:AM17,30)","v":0},{"$f":"COUNTIF(Scoresheet!$D17:AN17,20)+COUNTIF(Scoresheet!$D17:AN17,30)","v":0},{"$f":"COUNTIF(Scoresheet!$D17:AO17,20)+COUNTIF(Scoresheet!$D17:AO17,30)","v":0},{"$f":"COUNTIF(Scoresheet!$D17:AP17,20)+COUNTIF(Scoresheet!$D17:AP17,30)","v":0},{"$f":"COUNTIF(Scoresheet!$D17:AQ17,20)+COUNTIF(Scoresheet!$D17:AQ17,30)","v":0},{"$f":"COUNTIF(Scoresheet!$D17:AR17,20)+COUNTIF(Scoresheet!$D17:AR17,30)","v":0},{"$f":"COUNTIF(Scoresheet!$D17:AS17,20)+COUNTIF(Scoresheet!$D17:AS17,30)","v":0},{"$f":"COUNTIF(Scoresheet!$D17:AT17,20)+COUNTIF(Scoresheet!$D17:AT17,30)","v":0},{"$f":"COUNTIF(Scoresheet!$D17:AU17,20)+COUNTIF(Scoresheet!$D17:AU17,30)","v":0},{"$f":"COUNTIF(Scoresheet!$D17:AV17,20)+COUNTIF(Scoresheet!$D17:AV17,30)","v":0},{"$f":"COUNTIF(Scoresheet!$D17:AW17,20)+COUNTIF(Scoresheet!$D17:AW17,30)","v":0},{"$f":"COUNTIF(Scoresheet!$D17:AX17,20)+COUNTIF(Scoresheet!$D17:AX17,30)","v":0},{"$f":"COUNTIF(Scoresheet!$D17:AY17,20)+COUNTIF(Scoresheet!$D17:AY17,30)","v":0},{"$f":"COUNTIF(Scoresheet!$D17:AZ17,20)+COUNTIF(Scoresheet!$D17:AZ17,30)","v":0},{"$f":"COUNTIF(Scoresheet!$D17:BA17,20)+COUNTIF(Scoresheet!$D17:BA17,30)","v":0},{"$f":"COUNTIF(Scoresheet!$D17:BB17,20)+COUNTIF(Scoresheet!$D17:BB17,30)","v":0},{"$f":"COUNTIF(Scoresheet!$D17:BC17,20)+COUNTIF(Scoresheet!$D17:BC17,30)","v":0},{"$f":"COUNTIF(Scoresheet!$D17:BD17,20)+COUNTIF(Scoresheet!$D17:BD17,30)","v":0},{"$f":"COUNTIF(Scoresheet!$D17:BE17,20)+COUNTIF(Scoresheet!$D17:BE17,30)","v":0},{"$f":"COUNTIF(Scoresheet!$D17:BF17,20)+COUNTIF(Scoresheet!$D17:BF17,30)","v":0},{"$f":"COUNTIF(Scoresheet!$D17:BG17,20)+COUNTIF(Scoresheet!$D17:BG17,30)","v":0}]
[null,null,{"$f":"CONCATENATE(\"# 20's \",Sheet3!C18)","v":"# 20's Quizzer #2"},{"$f":"COUNTIF(Scoresheet!$D18:D18,20)+COUNTIF(Scoresheet!$D18:D18,30)","v":0},{"$f":"COUNTIF(Scoresheet!$D18:E18,20)+COUNTIF(Scoresheet!$D18:E18,30)","v":0},{"$f":"COUNTIF(Scoresheet!$D18:F18,20)+COUNTIF(Scoresheet!$D18:F18,30)","v":0},{"$f":"COUNTIF(Scoresheet!$D18:G18,20)+COUNTIF(Scoresheet!$D18:G18,30)","v":0},{"$f":"COUNTIF(Scoresheet!$D18:H18,20)+COUNTIF(Scoresheet!$D18:H18,30)","v":0},{"$f":"COUNTIF(Scoresheet!$D18:I18,20)+COUNTIF(Scoresheet!$D18:I18,30)","v":0},{"$f":"COUNTIF(Scoresheet!$D18:J18,20)+COUNTIF(Scoresheet!$D18:J18,30)","v":0},{"$f":"COUNTIF(Scoresheet!$D18:K18,20)+COUNTIF(Scoresheet!$D18:K18,30)","v":0},{"$f":"COUNTIF(Scoresheet!$D18:L18,20)+COUNTIF(Scoresheet!$D18:L18,30)","v":0},{"$f":"COUNTIF(Scoresheet!$D18:M18,20)+COUNTIF(Scoresheet!$D18:M18,30)","v":0},{"$f":"COUNTIF(Scoresheet!$D18:N18,20)+COUNTIF(Scoresheet!$D18:N18,30)","v":0},{"$f":"COUNTIF(Scoresheet!$D18:O18,20)+COUNTIF(Scoresheet!$D18:O18,30)","v":0},{"$f":"COUNTIF(Scoresheet!$D18:P18,20)+COUNTIF(Scoresheet!$D18:P18,30)","v":0},{"$f":"COUNTIF(Scoresheet!$D18:Q18,20)+COUNTIF(Scoresheet!$D18:Q18,30)","v":0},{"$f":"COUNTIF(Scoresheet!$D18:R18,20)+COUNTIF(Scoresheet!$D18:R18,30)","v":0},{"$f":"COUNTIF(Scoresheet!$D18:S18,20)+COUNTIF(Scoresheet!$D18:S18,30)","v":0},{"$f":"COUNTIF(Scoresheet!$D18:T18,20)+COUNTIF(Scoresheet!$D18:T18,30)","v":0},{"$f":"COUNTIF(Scoresheet!$D18:U18,20)+COUNTIF(Scoresheet!$D18:U18,30)","v":0},{"$f":"COUNTIF(Scoresheet!$D18:V18,20)+COUNTIF(Scoresheet!$D18:V18,30)","v":0},{"$f":"COUNTIF(Scoresheet!$D18:W18,20)+COUNTIF(Scoresheet!$D18:W18,30)","v":0},{"$f":"COUNTIF(Scoresheet!$D18:X18,20)+COUNTIF(Scoresheet!$D18:X18,30)","v":0},{"$f":"COUNTIF(Scoresheet!$D18:Y18,20)+COUNTIF(Scoresheet!$D18:Y18,30)","v":0},{"$f":"COUNTIF(Scoresheet!$D18:Z18,20)+COUNTIF(Scoresheet!$D18:Z18,30)","v":0},{"$f":"COUNTIF(Scoresheet!$D18:AA18,20)+COUNTIF(Scoresheet!$D18:AA18,30)","v":0},{"$f":"COUNTIF(Scoresheet!$D18:AB18,20)+COUNTIF(Scoresheet!$D18:AB18,30)","v":0},{"$f":"COUNTIF(Scoresheet!$D18:AC18,20)+COUNTIF(Scoresheet!$D18:AC18,30)","v":0},{"$f":"COUNTIF(Scoresheet!$D18:AD18,20)+COUNTIF(Scoresheet!$D18:AD18,30)","v":0},{"$f":"COUNTIF(Scoresheet!$D18:AE18,20)+COUNTIF(Scoresheet!$D18:AE18,30)","v":0},{"$f":"COUNTIF(Scoresheet!$D18:AF18,20)+COUNTIF(Scoresheet!$D18:AF18,30)","v":0},{"$f":"COUNTIF(Scoresheet!$D18:AG18,20)+COUNTIF(Scoresheet!$D18:AG18,30)","v":0},{"$f":"COUNTIF(Scoresheet!$D18:AH18,20)+COUNTIF(Scoresheet!$D18:AH18,30)","v":0},{"$f":"COUNTIF(Scoresheet!$D18:AI18,20)+COUNTIF(Scoresheet!$D18:AI18,30)","v":0},{"$f":"COUNTIF(Scoresheet!$D18:AJ18,20)+COUNTIF(Scoresheet!$D18:AJ18,30)","v":0},{"$f":"COUNTIF(Scoresheet!$D18:AK18,20)+COUNTIF(Scoresheet!$D18:AK18,30)","v":0},{"$f":"COUNTIF(Scoresheet!$D18:AL18,20)+COUNTIF(Scoresheet!$D18:AL18,30)","v":0},{"$f":"COUNTIF(Scoresheet!$D18:AM18,20)+COUNTIF(Scoresheet!$D18:AM18,30)","v":0},{"$f":"COUNTIF(Scoresheet!$D18:AN18,20)+COUNTIF(Scoresheet!$D18:AN18,30)","v":0},{"$f":"COUNTIF(Scoresheet!$D18:AO18,20)+COUNTIF(Scoresheet!$D18:AO18,30)","v":0},{"$f":"COUNTIF(Scoresheet!$D18:AP18,20)+COUNTIF(Scoresheet!$D18:AP18,30)","v":0},{"$f":"COUNTIF(Scoresheet!$D18:AQ18,20)+COUNTIF(Scoresheet!$D18:AQ18,30)","v":0},{"$f":"COUNTIF(Scoresheet!$D18:AR18,20)+COUNTIF(Scoresheet!$D18:AR18,30)","v":0},{"$f":"COUNTIF(Scoresheet!$D18:AS18,20)+COUNTIF(Scoresheet!$D18:AS18,30)","v":0},{"$f":"COUNTIF(Scoresheet!$D18:AT18,20)+COUNTIF(Scoresheet!$D18:AT18,30)","v":0},{"$f":"COUNTIF(Scoresheet!$D18:AU18,20)+COUNTIF(Scoresheet!$D18:AU18,30)","v":0},{"$f":"COUNTIF(Scoresheet!$D18:AV18,20)+COUNTIF(Scoresheet!$D18:AV18,30)","v":0},{"$f":"COUNTIF(Scoresheet!$D18:AW18,20)+COUNTIF(Scoresheet!$D18:AW18,30)","v":0},{"$f":"COUNTIF(Scoresheet!$D18:AX18,20)+COUNTIF(Scoresheet!$D18:AX18,30)","v":0},{"$f":"COUNTIF(Scoresheet!$D18:AY18,20)+COUNTIF(Scoresheet!$D18:AY18,30)","v":0},{"$f":"COUNTIF(Scoresheet!$D18:AZ18,20)+COUNTIF(Scoresheet!$D18:AZ18,30)","v":0},{"$f":"COUNTIF(Scoresheet!$D18:BA18,20)+COUNTIF(Scoresheet!$D18:BA18,30)","v":0},{"$f":"COUNTIF(Scoresheet!$D18:BB18,20)+COUNTIF(Scoresheet!$D18:BB18,30)","v":0},{"$f":"COUNTIF(Scoresheet!$D18:BC18,20)+COUNTIF(Scoresheet!$D18:BC18,30)","v":0},{"$f":"COUNTIF(Scoresheet!$D18:BD18,20)+COUNTIF(Scoresheet!$D18:BD18,30)","v":0},{"$f":"COUNTIF(Scoresheet!$D18:BE18,20)+COUNTIF(Scoresheet!$D18:BE18,30)","v":0},{"$f":"COUNTIF(Scoresheet!$D18:BF18,20)+COUNTIF(Scoresheet!$D18:BF18,30)","v":0},{"$f":"COUNTIF(Scoresheet!$D18:BG18,20)+COUNTIF(Scoresheet!$D18:BG18,30)","v":0}]
[null,null,{"$f":"CONCATENATE(\"# 20's \",Sheet3!C19)","v":"# 20's Quizzer #3"},{"$f":"COUNTIF(Scoresheet!$D19:D19,20)+COUNTIF(Scoresheet!$D19:D19,30)","v":0},{"$f":"COUNTIF(Scoresheet!$D19:E19,20)+COUNTIF(Scoresheet!$D19:E19,30)","v":0},{"$f":"COUNTIF(Scoresheet!$D19:F19,20)+COUNTIF(Scoresheet!$D19:F19,30)","v":0},{"$f":"COUNTIF(Scoresheet!$D19:G19,20)+COUNTIF(Scoresheet!$D19:G19,30)","v":0},{"$f":"COUNTIF(Scoresheet!$D19:H19,20)+COUNTIF(Scoresheet!$D19:H19,30)","v":0},{"$f":"COUNTIF(Scoresheet!$D19:I19,20)+COUNTIF(Scoresheet!$D19:I19,30)","v":0},{"$f":"COUNTIF(Scoresheet!$D19:J19,20)+COUNTIF(Scoresheet!$D19:J19,30)","v":0},{"$f":"COUNTIF(Scoresheet!$D19:K19,20)+COUNTIF(Scoresheet!$D19:K19,30)","v":0},{"$f":"COUNTIF(Scoresheet!$D19:L19,20)+COUNTIF(Scoresheet!$D19:L19,30)","v":0},{"$f":"COUNTIF(Scoresheet!$D19:M19,20)+COUNTIF(Scoresheet!$D19:M19,30)","v":0},{"$f":"COUNTIF(Scoresheet!$D19:N19,20)+COUNTIF(Scoresheet!$D19:N19,30)","v":0},{"$f":"COUNTIF(Scoresheet!$D19:O19,20)+COUNTIF(Scoresheet!$D19:O19,30)","v":0},{"$f":"COUNTIF(Scoresheet!$D19:P19,20)+COUNTIF(Scoresheet!$D19:P19,30)","v":0},{"$f":"COUNTIF(Scoresheet!$D19:Q19,20)+COUNTIF(Scoresheet!$D19:Q19,30)","v":0},{"$f":"COUNTIF(Scoresheet!$D19:R19,20)+COUNTIF(Scoresheet!$D19:R19,30)","v":0},{"$f":"COUNTIF(Scoresheet!$D19:S19,20)+COUNTIF(Scoresheet!$D19:S19,30)","v":0},{"$f":"COUNTIF(Scoresheet!$D19:T19,20)+COUNTIF(Scoresheet!$D19:T19,30)","v":0},{"$f":"COUNTIF(Scoresheet!$D19:U19,20)+COUNTIF(Scoresheet!$D19:U19,30)","v":0},{"$f":"COUNTIF(Scoresheet!$D19:V19,20)+COUNTIF(Scoresheet!$D19:V19,30)","v":0},{"$f":"COUNTIF(Scoresheet!$D19:W19,20)+COUNTIF(Scoresheet!$D19:W19,30)","v":0},{"$f":"COUNTIF(Scoresheet!$D19:X19,20)+COUNTIF(Scoresheet!$D19:X19,30)","v":0},{"$f":"COUNTIF(Scoresheet!$D19:Y19,20)+COUNTIF(Scoresheet!$D19:Y19,30)","v":0},{"$f":"COUNTIF(Scoresheet!$D19:Z19,20)+COUNTIF(Scoresheet!$D19:Z19,30)","v":0},{"$f":"COUNTIF(Scoresheet!$D19:AA19,20)+COUNTIF(Scoresheet!$D19:AA19,30)","v":0},{"$f":"COUNTIF(Scoresheet!$D19:AB19,20)+COUNTIF(Scoresheet!$D19:AB19,30)","v":0},{"$f":"COUNTIF(Scoresheet!$D19:AC19,20)+COUNTIF(Scoresheet!$D19:AC19,30)","v":0},{"$f":"COUNTIF(Scoresheet!$D19:AD19,20)+COUNTIF(Scoresheet!$D19:AD19,30)","v":0},{"$f":"COUNTIF(Scoresheet!$D19:AE19,20)+COUNTIF(Scoresheet!$D19:AE19,30)","v":0},{"$f":"COUNTIF(Scoresheet!$D19:AF19,20)+COUNTIF(Scoresheet!$D19:AF19,30)","v":0},{"$f":"COUNTIF(Scoresheet!$D19:AG19,20)+COUNTIF(Scoresheet!$D19:AG19,30)","v":0},{"$f":"COUNTIF(Scoresheet!$D19:AH19,20)+COUNTIF(Scoresheet!$D19:AH19,30)","v":0},{"$f":"COUNTIF(Scoresheet!$D19:AI19,20)+COUNTIF(Scoresheet!$D19:AI19,30)","v":0},{"$f":"COUNTIF(Scoresheet!$D19:AJ19,20)+COUNTIF(Scoresheet!$D19:AJ19,30)","v":0},{"$f":"COUNTIF(Scoresheet!$D19:AK19,20)+COUNTIF(Scoresheet!$D19:AK19,30)","v":0},{"$f":"COUNTIF(Scoresheet!$D19:AL19,20)+COUNTIF(Scoresheet!$D19:AL19,30)","v":0},{"$f":"COUNTIF(Scoresheet!$D19:AM19,20)+COUNTIF(Scoresheet!$D19:AM19,30)","v":0},{"$f":"COUNTIF(Scoresheet!$D19:AN19,20)+COUNTIF(Scoresheet!$D19:AN19,30)","v":0},{"$f":"COUNTIF(Scoresheet!$D19:AO19,20)+COUNTIF(Scoresheet!$D19:AO19,30)","v":0},{"$f":"COUNTIF(Scoresheet!$D19:AP19,20)+COUNTIF(Scoresheet!$D19:AP19,30)","v":0},{"$f":"COUNTIF(Scoresheet!$D19:AQ19,20)+COUNTIF(Scoresheet!$D19:AQ19,30)","v":0},{"$f":"COUNTIF(Scoresheet!$D19:AR19,20)+COUNTIF(Scoresheet!$D19:AR19,30)","v":0},{"$f":"COUNTIF(Scoresheet!$D19:AS19,20)+COUNTIF(Scoresheet!$D19:AS19,30)","v":0},{"$f":"COUNTIF(Scoresheet!$D19:AT19,20)+COUNTIF(Scoresheet!$D19:AT19,30)","v":0},{"$f":"COUNTIF(Scoresheet!$D19:AU19,20)+COUNTIF(Scoresheet!$D19:AU19,30)","v":0},{"$f":"COUNTIF(Scoresheet!$D19:AV19,20)+COUNTIF(Scoresheet!$D19:AV19,30)","v":0},{"$f":"COUNTIF(Scoresheet!$D19:AW19,20)+COUNTIF(Scoresheet!$D19:AW19,30)","v":0},{"$f":"COUNTIF(Scoresheet!$D19:AX19,20)+COUNTIF(Scoresheet!$D19:AX19,30)","v":0},{"$f":"COUNTIF(Scoresheet!$D19:AY19,20)+COUNTIF(Scoresheet!$D19:AY19,30)","v":0},{"$f":"COUNTIF(Scoresheet!$D19:AZ19,20)+COUNTIF(Scoresheet!$D19:AZ19,30)","v":0},{"$f":"COUNTIF(Scoresheet!$D19:BA19,20)+COUNTIF(Scoresheet!$D19:BA19,30)","v":0},{"$f":"COUNTIF(Scoresheet!$D19:BB19,20)+COUNTIF(Scoresheet!$D19:BB19,30)","v":0},{"$f":"COUNTIF(Scoresheet!$D19:BC19,20)+COUNTIF(Scoresheet!$D19:BC19,30)","v":0},{"$f":"COUNTIF(Scoresheet!$D19:BD19,20)+COUNTIF(Scoresheet!$D19:BD19,30)","v":0},{"$f":"COUNTIF(Scoresheet!$D19:BE19,20)+COUNTIF(Scoresheet!$D19:BE19,30)","v":0},{"$f":"COUNTIF(Scoresheet!$D19:BF19,20)+COUNTIF(Scoresheet!$D19:BF19,30)","v":0},{"$f":"COUNTIF(Scoresheet!$D19:BG19,20)+COUNTIF(Scoresheet!$D19:BG19,30)","v":0}]
[null,null,{"$f":"CONCATENATE(\"# 20's \",Sheet3!C20)","v":"# 20's Quizzer #4"},{"$f":"COUNTIF(Scoresheet!$D20:D20,20)+COUNTIF(Scoresheet!$D20:D20,30)","v":0},{"$f":"COUNTIF(Scoresheet!$D20:E20,20)+COUNTIF(Scoresheet!$D20:E20,30)","v":0},{"$f":"COUNTIF(Scoresheet!$D20:F20,20)+COUNTIF(Scoresheet!$D20:F20,30)","v":0},{"$f":"COUNTIF(Scoresheet!$D20:G20,20)+COUNTIF(Scoresheet!$D20:G20,30)","v":0},{"$f":"COUNTIF(Scoresheet!$D20:H20,20)+COUNTIF(Scoresheet!$D20:H20,30)","v":0},{"$f":"COUNTIF(Scoresheet!$D20:I20,20)+COUNTIF(Scoresheet!$D20:I20,30)","v":0},{"$f":"COUNTIF(Scoresheet!$D20:J20,20)+COUNTIF(Scoresheet!$D20:J20,30)","v":0},{"$f":"COUNTIF(Scoresheet!$D20:K20,20)+COUNTIF(Scoresheet!$D20:K20,30)","v":0},{"$f":"COUNTIF(Scoresheet!$D20:L20,20)+COUNTIF(Scoresheet!$D20:L20,30)","v":0},{"$f":"COUNTIF(Scoresheet!$D20:M20,20)+COUNTIF(Scoresheet!$D20:M20,30)","v":0},{"$f":"COUNTIF(Scoresheet!$D20:N20,20)+COUNTIF(Scoresheet!$D20:N20,30)","v":0},{"$f":"COUNTIF(Scoresheet!$D20:O20,20)+COUNTIF(Scoresheet!$D20:O20,30)","v":0},{"$f":"COUNTIF(Scoresheet!$D20:P20,20)+COUNTIF(Scoresheet!$D20:P20,30)","v":0},{"$f":"COUNTIF(Scoresheet!$D20:Q20,20)+COUNTIF(Scoresheet!$D20:Q20,30)","v":0},{"$f":"COUNTIF(Scoresheet!$D20:R20,20)+COUNTIF(Scoresheet!$D20:R20,30)","v":0},{"$f":"COUNTIF(Scoresheet!$D20:S20,20)+COUNTIF(Scoresheet!$D20:S20,30)","v":0},{"$f":"COUNTIF(Scoresheet!$D20:T20,20)+COUNTIF(Scoresheet!$D20:T20,30)","v":0},{"$f":"COUNTIF(Scoresheet!$D20:U20,20)+COUNTIF(Scoresheet!$D20:U20,30)","v":0},{"$f":"COUNTIF(Scoresheet!$D20:V20,20)+COUNTIF(Scoresheet!$D20:V20,30)","v":0},{"$f":"COUNTIF(Scoresheet!$D20:W20,20)+COUNTIF(Scoresheet!$D20:W20,30)","v":0},{"$f":"COUNTIF(Scoresheet!$D20:X20,20)+COUNTIF(Scoresheet!$D20:X20,30)","v":0},{"$f":"COUNTIF(Scoresheet!$D20:Y20,20)+COUNTIF(Scoresheet!$D20:Y20,30)","v":0},{"$f":"COUNTIF(Scoresheet!$D20:Z20,20)+COUNTIF(Scoresheet!$D20:Z20,30)","v":0},{"$f":"COUNTIF(Scoresheet!$D20:AA20,20)+COUNTIF(Scoresheet!$D20:AA20,30)","v":0},{"$f":"COUNTIF(Scoresheet!$D20:AB20,20)+COUNTIF(Scoresheet!$D20:AB20,30)","v":0},{"$f":"COUNTIF(Scoresheet!$D20:AC20,20)+COUNTIF(Scoresheet!$D20:AC20,30)","v":0},{"$f":"COUNTIF(Scoresheet!$D20:AD20,20)+COUNTIF(Scoresheet!$D20:AD20,30)","v":0},{"$f":"COUNTIF(Scoresheet!$D20:AE20,20)+COUNTIF(Scoresheet!$D20:AE20,30)","v":0},{"$f":"COUNTIF(Scoresheet!$D20:AF20,20)+COUNTIF(Scoresheet!$D20:AF20,30)","v":0},{"$f":"COUNTIF(Scoresheet!$D20:AG20,20)+COUNTIF(Scoresheet!$D20:AG20,30)","v":0},{"$f":"COUNTIF(Scoresheet!$D20:AH20,20)+COUNTIF(Scoresheet!$D20:AH20,30)","v":0},{"$f":"COUNTIF(Scoresheet!$D20:AI20,20)+COUNTIF(Scoresheet!$D20:AI20,30)","v":0},{"$f":"COUNTIF(Scoresheet!$D20:AJ20,20)+COUNTIF(Scoresheet!$D20:AJ20,30)","v":0},{"$f":"COUNTIF(Scoresheet!$D20:AK20,20)+COUNTIF(Scoresheet!$D20:AK20,30)","v":0},{"$f":"COUNTIF(Scoresheet!$D20:AL20,20)+COUNTIF(Scoresheet!$D20:AL20,30)","v":0},{"$f":"COUNTIF(Scoresheet!$D20:AM20,20)+COUNTIF(Scoresheet!$D20:AM20,30)","v":0},{"$f":"COUNTIF(Scoresheet!$D20:AN20,20)+COUNTIF(Scoresheet!$D20:AN20,30)","v":0},{"$f":"COUNTIF(Scoresheet!$D20:AO20,20)+COUNTIF(Scoresheet!$D20:AO20,30)","v":0},{"$f":"COUNTIF(Scoresheet!$D20:AP20,20)+COUNTIF(Scoresheet!$D20:AP20,30)","v":0},{"$f":"COUNTIF(Scoresheet!$D20:AQ20,20)+COUNTIF(Scoresheet!$D20:AQ20,30)","v":0},{"$f":"COUNTIF(Scoresheet!$D20:AR20,20)+COUNTIF(Scoresheet!$D20:AR20,30)","v":0},{"$f":"COUNTIF(Scoresheet!$D20:AS20,20)+COUNTIF(Scoresheet!$D20:AS20,30)","v":0},{"$f":"COUNTIF(Scoresheet!$D20:AT20,20)+COUNTIF(Scoresheet!$D20:AT20,30)","v":0},{"$f":"COUNTIF(Scoresheet!$D20:AU20,20)+COUNTIF(Scoresheet!$D20:AU20,30)","v":0},{"$f":"COUNTIF(Scoresheet!$D20:AV20,20)+COUNTIF(Scoresheet!$D20:AV20,30)","v":0},{"$f":"COUNTIF(Scoresheet!$D20:AW20,20)+COUNTIF(Scoresheet!$D20:AW20,30)","v":0},{"$f":"COUNTIF(Scoresheet!$D20:AX20,20)+COUNTIF(Scoresheet!$D20:AX20,30)","v":0},{"$f":"COUNTIF(Scoresheet!$D20:AY20,20)+COUNTIF(Scoresheet!$D20:AY20,30)","v":0},{"$f":"COUNTIF(Scoresheet!$D20:AZ20,20)+COUNTIF(Scoresheet!$D20:AZ20,30)","v":0},{"$f":"COUNTIF(Scoresheet!$D20:BA20,20)+COUNTIF(Scoresheet!$D20:BA20,30)","v":0},{"$f":"COUNTIF(Scoresheet!$D20:BB20,20)+COUNTIF(Scoresheet!$D20:BB20,30)","v":0},{"$f":"COUNTIF(Scoresheet!$D20:BC20,20)+COUNTIF(Scoresheet!$D20:BC20,30)","v":0},{"$f":"COUNTIF(Scoresheet!$D20:BD20,20)+COUNTIF(Scoresheet!$D20:BD20,30)","v":0},{"$f":"COUNTIF(Scoresheet!$D20:BE20,20)+COUNTIF(Scoresheet!$D20:BE20,30)","v":0},{"$f":"COUNTIF(Scoresheet!$D20:BF20,20)+COUNTIF(Scoresheet!$D20:BF20,30)","v":0},{"$f":"COUNTIF(Scoresheet!$D20:BG20,20)+COUNTIF(Scoresheet!$D20:BG20,30)","v":0}]
[null,null,{"$f":"CONCATENATE(\"# 20's \",Sheet3!C21)","v":"# 20's  "},{"$f":"COUNTIF(Scoresheet!$D21:D21,20)+COUNTIF(Scoresheet!$D21:D21,30)","v":0},{"$f":"COUNTIF(Scoresheet!$D21:E21,20)+COUNTIF(Scoresheet!$D21:E21,30)","v":0},{"$f":"COUNTIF(Scoresheet!$D21:F21,20)+COUNTIF(Scoresheet!$D21:F21,30)","v":0},{"$f":"COUNTIF(Scoresheet!$D21:G21,20)+COUNTIF(Scoresheet!$D21:G21,30)","v":0},{"$f":"COUNTIF(Scoresheet!$D21:H21,20)+COUNTIF(Scoresheet!$D21:H21,30)","v":0},{"$f":"COUNTIF(Scoresheet!$D21:I21,20)+COUNTIF(Scoresheet!$D21:I21,30)","v":0},{"$f":"COUNTIF(Scoresheet!$D21:J21,20)+COUNTIF(Scoresheet!$D21:J21,30)","v":0},{"$f":"COUNTIF(Scoresheet!$D21:K21,20)+COUNTIF(Scoresheet!$D21:K21,30)","v":0},{"$f":"COUNTIF(Scoresheet!$D21:L21,20)+COUNTIF(Scoresheet!$D21:L21,30)","v":0},{"$f":"COUNTIF(Scoresheet!$D21:M21,20)+COUNTIF(Scoresheet!$D21:M21,30)","v":0},{"$f":"COUNTIF(Scoresheet!$D21:N21,20)+COUNTIF(Scoresheet!$D21:N21,30)","v":0},{"$f":"COUNTIF(Scoresheet!$D21:O21,20)+COUNTIF(Scoresheet!$D21:O21,30)","v":0},{"$f":"COUNTIF(Scoresheet!$D21:P21,20)+COUNTIF(Scoresheet!$D21:P21,30)","v":0},{"$f":"COUNTIF(Scoresheet!$D21:Q21,20)+COUNTIF(Scoresheet!$D21:Q21,30)","v":0},{"$f":"COUNTIF(Scoresheet!$D21:R21,20)+COUNTIF(Scoresheet!$D21:R21,30)","v":0},{"$f":"COUNTIF(Scoresheet!$D21:S21,20)+COUNTIF(Scoresheet!$D21:S21,30)","v":0},{"$f":"COUNTIF(Scoresheet!$D21:T21,20)+COUNTIF(Scoresheet!$D21:T21,30)","v":0},{"$f":"COUNTIF(Scoresheet!$D21:U21,20)+COUNTIF(Scoresheet!$D21:U21,30)","v":0},{"$f":"COUNTIF(Scoresheet!$D21:V21,20)+COUNTIF(Scoresheet!$D21:V21,30)","v":0},{"$f":"COUNTIF(Scoresheet!$D21:W21,20)+COUNTIF(Scoresheet!$D21:W21,30)","v":0},{"$f":"COUNTIF(Scoresheet!$D21:X21,20)+COUNTIF(Scoresheet!$D21:X21,30)","v":0},{"$f":"COUNTIF(Scoresheet!$D21:Y21,20)+COUNTIF(Scoresheet!$D21:Y21,30)","v":0},{"$f":"COUNTIF(Scoresheet!$D21:Z21,20)+COUNTIF(Scoresheet!$D21:Z21,30)","v":0},{"$f":"COUNTIF(Scoresheet!$D21:AA21,20)+COUNTIF(Scoresheet!$D21:AA21,30)","v":0},{"$f":"COUNTIF(Scoresheet!$D21:AB21,20)+COUNTIF(Scoresheet!$D21:AB21,30)","v":0},{"$f":"COUNTIF(Scoresheet!$D21:AC21,20)+COUNTIF(Scoresheet!$D21:AC21,30)","v":0},{"$f":"COUNTIF(Scoresheet!$D21:AD21,20)+COUNTIF(Scoresheet!$D21:AD21,30)","v":0},{"$f":"COUNTIF(Scoresheet!$D21:AE21,20)+COUNTIF(Scoresheet!$D21:AE21,30)","v":0},{"$f":"COUNTIF(Scoresheet!$D21:AF21,20)+COUNTIF(Scoresheet!$D21:AF21,30)","v":0},{"$f":"COUNTIF(Scoresheet!$D21:AG21,20)+COUNTIF(Scoresheet!$D21:AG21,30)","v":0},{"$f":"COUNTIF(Scoresheet!$D21:AH21,20)+COUNTIF(Scoresheet!$D21:AH21,30)","v":0},{"$f":"COUNTIF(Scoresheet!$D21:AI21,20)+COUNTIF(Scoresheet!$D21:AI21,30)","v":0},{"$f":"COUNTIF(Scoresheet!$D21:AJ21,20)+COUNTIF(Scoresheet!$D21:AJ21,30)","v":0},{"$f":"COUNTIF(Scoresheet!$D21:AK21,20)+COUNTIF(Scoresheet!$D21:AK21,30)","v":0},{"$f":"COUNTIF(Scoresheet!$D21:AL21,20)+COUNTIF(Scoresheet!$D21:AL21,30)","v":0},{"$f":"COUNTIF(Scoresheet!$D21:AM21,20)+COUNTIF(Scoresheet!$D21:AM21,30)","v":0},{"$f":"COUNTIF(Scoresheet!$D21:AN21,20)+COUNTIF(Scoresheet!$D21:AN21,30)","v":0},{"$f":"COUNTIF(Scoresheet!$D21:AO21,20)+COUNTIF(Scoresheet!$D21:AO21,30)","v":0},{"$f":"COUNTIF(Scoresheet!$D21:AP21,20)+COUNTIF(Scoresheet!$D21:AP21,30)","v":0},{"$f":"COUNTIF(Scoresheet!$D21:AQ21,20)+COUNTIF(Scoresheet!$D21:AQ21,30)","v":0},{"$f":"COUNTIF(Scoresheet!$D21:AR21,20)+COUNTIF(Scoresheet!$D21:AR21,30)","v":0},{"$f":"COUNTIF(Scoresheet!$D21:AS21,20)+COUNTIF(Scoresheet!$D21:AS21,30)","v":0},{"$f":"COUNTIF(Scoresheet!$D21:AT21,20)+COUNTIF(Scoresheet!$D21:AT21,30)","v":0},{"$f":"COUNTIF(Scoresheet!$D21:AU21,20)+COUNTIF(Scoresheet!$D21:AU21,30)","v":0},{"$f":"COUNTIF(Scoresheet!$D21:AV21,20)+COUNTIF(Scoresheet!$D21:AV21,30)","v":0},{"$f":"COUNTIF(Scoresheet!$D21:AW21,20)+COUNTIF(Scoresheet!$D21:AW21,30)","v":0},{"$f":"COUNTIF(Scoresheet!$D21:AX21,20)+COUNTIF(Scoresheet!$D21:AX21,30)","v":0},{"$f":"COUNTIF(Scoresheet!$D21:AY21,20)+COUNTIF(Scoresheet!$D21:AY21,30)","v":0},{"$f":"COUNTIF(Scoresheet!$D21:AZ21,20)+COUNTIF(Scoresheet!$D21:AZ21,30)","v":0},{"$f":"COUNTIF(Scoresheet!$D21:BA21,20)+COUNTIF(Scoresheet!$D21:BA21,30)","v":0},{"$f":"COUNTIF(Scoresheet!$D21:BB21,20)+COUNTIF(Scoresheet!$D21:BB21,30)","v":0},{"$f":"COUNTIF(Scoresheet!$D21:BC21,20)+COUNTIF(Scoresheet!$D21:BC21,30)","v":0},{"$f":"COUNTIF(Scoresheet!$D21:BD21,20)+COUNTIF(Scoresheet!$D21:BD21,30)","v":0},{"$f":"COUNTIF(Scoresheet!$D21:BE21,20)+COUNTIF(Scoresheet!$D21:BE21,30)","v":0},{"$f":"COUNTIF(Scoresheet!$D21:BF21,20)+COUNTIF(Scoresheet!$D21:BF21,30)","v":0},{"$f":"COUNTIF(Scoresheet!$D21:BG21,20)+COUNTIF(Scoresheet!$D21:BG21,30)","v":0}]
[]
[]
[]
[]
[]
[null,null,{"$f":"Scoresheet!C39","v":"Team Name"}]
[null,null,{"$f":"Scoresheet!C40","v":"Quizzer #1"},20,{"$f":"IF(D46>2,\".\",IF(D52=3,IF(D46=0,IF(Scoresheet!E49=20,30,Scoresheet!E49),Scoresheet!E49),IF(E52>3,\".\",Scoresheet!E49)))","v":20},{"$f":"IF(E46>2,\".\",IF(E52=3,IF(E46=0,IF(Scoresheet!F49=20,30,Scoresheet!F49),Scoresheet!F49),IF(F52>3,\".\",Scoresheet!F49)))","v":20},{"$f":"IF(F46>2,\".\",IF(F52=3,IF(F46=0,IF(Scoresheet!G49=20,30,Scoresheet!G49),Scoresheet!G49),IF(G52>3,\".\",Scoresheet!G49)))","v":20},{"$f":"IF(G46>2,\".\",IF(G52=3,IF(G46=0,IF(Scoresheet!H49=20,30,Scoresheet!H49),Scoresheet!H49),IF(H52>3,\".\",Scoresheet!H49)))","v":20},{"$f":"IF(H46>2,\".\",IF(H52=3,IF(H46=0,IF(Scoresheet!I49=20,30,Scoresheet!I49),Scoresheet!I49),IF(I52>3,\".\",Scoresheet!I49)))","v":20},{"$f":"IF(I46>2,\".\",IF(I52=3,IF(I46=0,IF(Scoresheet!J49=20,30,Scoresheet!J49),Scoresheet!J49),IF(J52>3,\".\",Scoresheet!J49)))","v":20},{"$f":"IF(J46>2,\".\",IF(J52=3,IF(J46=0,IF(Scoresheet!K49=20,30,Scoresheet!K49),Scoresheet!K49),IF(K52>3,\".\",Scoresheet!K49)))","v":20},{"$f":"IF(K46>2,\".\",IF(K52=3,IF(K46=0,IF(Scoresheet!L49=20,30,Scoresheet!L49),Scoresheet!L49),IF(L52>3,\".\",Scoresheet!L49)))","v":20},{"$f":"IF(L46>2,\".\",IF(L52=3,IF(L46=0,IF(Scoresheet!M49=20,30,Scoresheet!M49),Scoresheet!M49),IF(M52>3,\".\",Scoresheet!M49)))","v":20},{"$f":"IF(M46>2,\".\",IF(M52=3,IF(M46=0,IF(Scoresheet!N49=20,30,Scoresheet!N49),Scoresheet!N49),IF(N52>3,\".\",Scoresheet!N49)))","v":20},{"$f":"IF(N46>2,\".\",IF(N52=3,IF(N46=0,IF(Scoresheet!O49=20,30,Scoresheet!O49),Scoresheet!O49),IF(O52>3,\".\",Scoresheet!O49)))","v":20},{"$f":"IF(O46>2,\".\",IF(O52=3,IF(O46=0,IF(Scoresheet!P49=20,30,Scoresheet!P49),Scoresheet!P49),IF(P52>3,\".\",Scoresheet!P49)))","v":20},{"$f":"IF(P46>2,\".\",IF(P52=3,IF(P46=0,IF(Scoresheet!Q49=20,30,Scoresheet!Q49),Scoresheet!Q49),IF(Q52>3,\".\",Scoresheet!Q49)))","v":20},{"$f":"IF(Q46>2,\".\",IF(Q52=3,IF(Q46=0,IF(Scoresheet!R49=20,30,Scoresheet!R49),Scoresheet!R49),IF(R52>3,\".\",Scoresheet!R49)))","v":20},{"$f":"IF(R46>2,\".\",IF(R52=3,IF(R46=0,IF(Scoresheet!S49=20,30,Scoresheet!S49),Scoresheet!S49),IF(S52>3,\".\",Scoresheet!S49)))","v":20},{"$f":"IF(S46>2,\".\",IF(S52=3,IF(S46=0,IF(Scoresheet!T49=20,30,Scoresheet!T49),Scoresheet!T49),IF(T52>3,\".\",Scoresheet!T49)))","v":20},{"$f":"IF(T46>2,\".\",IF(T52=3,IF(T46=0,IF(Scoresheet!U49=20,30,Scoresheet!U49),Scoresheet!U49),IF(U52>3,\".\",Scoresheet!U49)))","v":20},{"$f":"IF(U46>2,\".\",IF(U52=3,IF(U46=0,IF(Scoresheet!V49=20,30,Scoresheet!V49),Scoresheet!V49),IF(V52>3,\".\",Scoresheet!V49)))","v":10},{"$f":"IF(V46>2,\".\",IF(V52=3,IF(V46=0,IF(Scoresheet!W49=20,30,Scoresheet!W49),Scoresheet!W49),IF(W52>3,\".\",Scoresheet!W49)))","v":20},{"$f":"IF(W46>2,\".\",IF(W52=3,IF(W46=0,IF(Scoresheet!X49=20,30,Scoresheet!X49),Scoresheet!X49),IF(X52>3,\".\",Scoresheet!X49)))","v":20},{"$f":"IF(X46>2,\".\",IF(X52=3,IF(X46=0,IF(Scoresheet!Y49=20,30,Scoresheet!Y49),Scoresheet!Y49),IF(Y52>3,\".\",Scoresheet!Y49)))","v":10},{"$f":"IF(Y46>2,\".\",IF(Y52=3,IF(Y46=0,IF(Scoresheet!Z49=20,30,Scoresheet!Z49),Scoresheet!Z49),IF(Z52>3,\".\",Scoresheet!Z49)))","v":20},{"$f":"IF(Z46>2,\".\",IF(Z52=3,IF(Z46=0,IF(Scoresheet!AA49=20,30,Scoresheet!AA49),Scoresheet!AA49),IF(AA52>3,\".\",Scoresheet!AA49)))","v":20},{"$f":"IF(AA46>2,\".\",IF(AA52=3,IF(AA46=0,IF(Scoresheet!AB49=20,30,Scoresheet!AB49),Scoresheet!AB49),IF(AB52>3,\".\",Scoresheet!AB49)))","v":10},{"$f":"IF(AB46>2,\".\",IF(AB52=3,IF(AB46=0,IF(Scoresheet!AC49=20,30,Scoresheet!AC49),Scoresheet!AC49),IF(AC52>3,\".\",Scoresheet!AC49)))","v":20},{"$f":"IF(AC46>2,\".\",IF(AC52=3,IF(AC46=0,IF(Scoresheet!AD49=20,30,Scoresheet!AD49),Scoresheet!AD49),IF(AD52>3,\".\",Scoresheet!AD49)))","v":"?"},{"$f":"IF(AD46>2,\".\",IF(AD52=3,IF(AD46=0,IF(Scoresheet!AE49=20,30,Scoresheet!AE49),Scoresheet!AE49),IF(AE52>3,\".\",Scoresheet!AE49)))","v":"?"},{"$f":"IF(AE46>2,\".\",IF(AE52=3,IF(AE46=0,IF(Scoresheet!AF49=20,30,Scoresheet!AF49),Scoresheet!AF49),IF(AF52>3,\".\",Scoresheet!AF49)))","v":"?"},{"$f":"IF(AF46>2,\".\",IF(AF52=3,IF(AF46=0,IF(Scoresheet!AG49=20,30,Scoresheet!AG49),Scoresheet!AG49),IF(AG52>3,\".\",Scoresheet!AG49)))","v":"?"},{"$f":"IF(AG46>2,\".\",IF(AG52=3,IF(AG46=0,IF(Scoresheet!AH49=20,30,Scoresheet!AH49),Scoresheet!AH49),IF(AH52>3,\".\",Scoresheet!AH49)))","v":"?"},{"$f":"IF(AH46>2,\".\",IF(AH52=3,IF(AH46=0,IF(Scoresheet!AI49=20,30,Scoresheet!AI49),Scoresheet!AI49),IF(AI52>3,\".\",Scoresheet!AI49)))","v":"?"},{"$f":"IF(AI46>2,\".\",IF(AI52=3,IF(AI46=0,IF(Scoresheet!AJ49=20,30,Scoresheet!AJ49),Scoresheet!AJ49),IF(AJ52>3,\".\",Scoresheet!AJ49)))","v":"?"},{"$f":"IF(AJ46>2,\".\",IF(AJ52=3,IF(AJ46=0,IF(Scoresheet!AK49=20,30,Scoresheet!AK49),Scoresheet!AK49),IF(AK52>3,\".\",Scoresheet!AK49)))","v":"?"},{"$f":"IF(AK46>2,\".\",IF(AK52=3,IF(AK46=0,IF(Scoresheet!AL49=20,30,Scoresheet!AL49),Scoresheet!AL49),IF(AL52>3,\".\",Scoresheet!AL49)))","v":"?"},{"$f":"IF(AL46>2,\".\",IF(AL52=3,IF(AL46=0,IF(Scoresheet!AM49=20,30,Scoresheet!AM49),Scoresheet!AM49),IF(AM52>3,\".\",Scoresheet!AM49)))","v":"?"},{"$f":"IF(AM46>2,\".\",IF(AM52=3,IF(AM46=0,IF(Scoresheet!AN49=20,30,Scoresheet!AN49),Scoresheet!AN49),IF(AN52>3,\".\",Scoresheet!AN49)))","v":"?"},{"$f":"IF(AN46>2,\".\",IF(AN52=3,IF(AN46=0,IF(Scoresheet!AO49=20,30,Scoresheet!AO49),Scoresheet!AO49),IF(AO52>3,\".\",Scoresheet!AO49)))","v":"?"},{"$f":"IF(AO46>2,\".\",IF(AO52=3,IF(AO46=0,IF(Scoresheet!AP49=20,30,Scoresheet!AP49),Scoresheet!AP49),IF(AP52>3,\".\",Scoresheet!AP49)))","v":"?"},{"$f":"IF(AP46>2,\".\",IF(AP52=3,IF(AP46=0,IF(Scoresheet!AQ49=20,30,Scoresheet!AQ49),Scoresheet!AQ49),IF(AQ52>3,\".\",Scoresheet!AQ49)))","v":"?"},{"$f":"IF(AQ46>2,\".\",IF(AQ52=3,IF(AQ46=0,IF(Scoresheet!AR49=20,30,Scoresheet!AR49),Scoresheet!AR49),IF(AR52>3,\".\",Scoresheet!AR49)))","v":"?"},{"$f":"IF(AR46>2,\".\",IF(AR52=3,IF(AR46=0,IF(Scoresheet!AS49=20,30,Scoresheet!AS49),Scoresheet!AS49),IF(AS52>3,\".\",Scoresheet!AS49)))","v":"?"},{"$f":"IF(AS46>2,\".\",IF(AS52=3,IF(AS46=0,IF(Scoresheet!AT49=20,30,Scoresheet!AT49),Scoresheet!AT49),IF(AT52>3,\".\",Scoresheet!AT49)))","v":"?"},{"$f":"IF(AT46>2,\".\",IF(AT52=3,IF(AT46=0,IF(Scoresheet!AU49=20,30,Scoresheet!AU49),Scoresheet!AU49),IF(AU52>3,\".\",Scoresheet!AU49)))","v":"?"},{"$f":"IF(AU46>2,\".\",IF(AU52=3,IF(AU46=0,IF(Scoresheet!AV49=20,30,Scoresheet!AV49),Scoresheet!AV49),IF(AV52>3,\".\",Scoresheet!AV49)))","v":"?"},{"$f":"IF(AV46>2,\".\",IF(AV52=3,IF(AV46=0,IF(Scoresheet!AW49=20,30,Scoresheet!AW49),Scoresheet!AW49),IF(AW52>3,\".\",Scoresheet!AW49)))","v":"?"},{"$f":"IF(AW46>2,\".\",IF(AW52=3,IF(AW46=0,IF(Scoresheet!AX49=20,30,Scoresheet!AX49),Scoresheet!AX49),IF(AX52>3,\".\",Scoresheet!AX49)))","v":"?"},{"$f":"IF(AX46>2,\".\",IF(AX52=3,IF(AX46=0,IF(Scoresheet!AY49=20,30,Scoresheet!AY49),Scoresheet!AY49),IF(AY52>3,\".\",Scoresheet!AY49)))","v":"?"},{"$f":"IF(AY46>2,\".\",IF(AY52=3,IF(AY46=0,IF(Scoresheet!AZ49=20,30,Scoresheet!AZ49),Scoresheet!AZ49),IF(AZ52>3,\".\",Scoresheet!AZ49)))","v":"?"},{"$f":"IF(AZ46>2,\".\",IF(AZ52=3,IF(AZ46=0,IF(Scoresheet!BA49=20,30,Scoresheet!BA49),Scoresheet!BA49),IF(BA52>3,\".\",Scoresheet!BA49)))","v":"?"},{"$f":"IF(BA46>2,\".\",IF(BA52=3,IF(BA46=0,IF(Scoresheet!BB49=20,30,Scoresheet!BB49),Scoresheet!BB49),IF(BB52>3,\".\",Scoresheet!BB49)))","v":"?"},{"$f":"IF(BB46>2,\".\",IF(BB52=3,IF(BB46=0,IF(Scoresheet!BC49=20,30,Scoresheet!BC49),Scoresheet!BC49),IF(BC52>3,\".\",Scoresheet!BC49)))","v":"?"},{"$f":"IF(BC46>2,\".\",IF(BC52=3,IF(BC46=0,IF(Scoresheet!BD49=20,30,Scoresheet!BD49),Scoresheet!BD49),IF(BD52>3,\".\",Scoresheet!BD49)))","v":"?"},{"$f":"IF(BD46>2,\".\",IF(BD52=3,IF(BD46=0,IF(Scoresheet!BE49=20,30,Scoresheet!BE49),Scoresheet!BE49),IF(BE52>3,\".\",Scoresheet!BE49)))","v":"?"},{"$f":"IF(BE46>2,\".\",IF(BE52=3,IF(BE46=0,IF(Scoresheet!BF49=20,30,Scoresheet!BF49),Scoresheet!BF49),IF(BF52>3,\".\",Scoresheet!BF49)))","v":"?"},{"$f":"IF(BF46>2,\".\",IF(BF52=3,IF(BF46=0,IF(Scoresheet!BG49=20,30,Scoresheet!BG49),Scoresheet!BG49),IF(BG52>3,\".\",Scoresheet!BG49)))","v":"?"}]
[null,null,{"$f":"Scoresheet!C41","v":"Quizzer #2"},20,{"$f":"IF(D47>2,\".\",IF(D53=3,IF(D47=0,IF(Scoresheet!E49=20,30,Scoresheet!E49),Scoresheet!E49),IF(E53>3,\".\",Scoresheet!E49)))","v":20},{"$f":"IF(E47>2,\".\",IF(E53=3,IF(E47=0,IF(Scoresheet!F49=20,30,Scoresheet!F49),Scoresheet!F49),IF(F53>3,\".\",Scoresheet!F49)))","v":20},{"$f":"IF(F47>2,\".\",IF(F53=3,IF(F47=0,IF(Scoresheet!G49=20,30,Scoresheet!G49),Scoresheet!G49),IF(G53>3,\".\",Scoresheet!G49)))","v":20},{"$f":"IF(G47>2,\".\",IF(G53=3,IF(G47=0,IF(Scoresheet!H49=20,30,Scoresheet!H49),Scoresheet!H49),IF(H53>3,\".\",Scoresheet!H49)))","v":20},{"$f":"IF(H47>2,\".\",IF(H53=3,IF(H47=0,IF(Scoresheet!I49=20,30,Scoresheet!I49),Scoresheet!I49),IF(I53>3,\".\",Scoresheet!I49)))","v":20},{"$f":"IF(I47>2,\".\",IF(I53=3,IF(I47=0,IF(Scoresheet!J49=20,30,Scoresheet!J49),Scoresheet!J49),IF(J53>3,\".\",Scoresheet!J49)))","v":20},{"$f":"IF(J47>2,\".\",IF(J53=3,IF(J47=0,IF(Scoresheet!K49=20,30,Scoresheet!K49),Scoresheet!K49),IF(K53>3,\".\",Scoresheet!K49)))","v":20},{"$f":"IF(K47>2,\".\",IF(K53=3,IF(K47=0,IF(Scoresheet!L49=20,30,Scoresheet!L49),Scoresheet!L49),IF(L53>3,\".\",Scoresheet!L49)))","v":20},{"$f":"IF(L47>2,\".\",IF(L53=3,IF(L47=0,IF(Scoresheet!M49=20,30,Scoresheet!M49),Scoresheet!M49),IF(M53>3,\".\",Scoresheet!M49)))","v":20},{"$f":"IF(M47>2,\".\",IF(M53=3,IF(M47=0,IF(Scoresheet!N49=20,30,Scoresheet!N49),Scoresheet!N49),IF(N53>3,\".\",Scoresheet!N49)))","v":20},{"$f":"IF(N47>2,\".\",IF(N53=3,IF(N47=0,IF(Scoresheet!O49=20,30,Scoresheet!O49),Scoresheet!O49),IF(O53>3,\".\",Scoresheet!O49)))","v":20},{"$f":"IF(O47>2,\".\",IF(O53=3,IF(O47=0,IF(Scoresheet!P49=20,30,Scoresheet!P49),Scoresheet!P49),IF(P53>3,\".\",Scoresheet!P49)))","v":20},{"$f":"IF(P47>2,\".\",IF(P53=3,IF(P47=0,IF(Scoresheet!Q49=20,30,Scoresheet!Q49),Scoresheet!Q49),IF(Q53>3,\".\",Scoresheet!Q49)))","v":20},{"$f":"IF(Q47>2,\".\",IF(Q53=3,IF(Q47=0,IF(Scoresheet!R49=20,30,Scoresheet!R49),Scoresheet!R49),IF(R53>3,\".\",Scoresheet!R49)))","v":20},{"$f":"IF(R47>2,\".\",IF(R53=3,IF(R47=0,IF(Scoresheet!S49=20,30,Scoresheet!S49),Scoresheet!S49),IF(S53>3,\".\",Scoresheet!S49)))","v":20},{"$f":"IF(S47>2,\".\",IF(S53=3,IF(S47=0,IF(Scoresheet!T49=20,30,Scoresheet!T49),Scoresheet!T49),IF(T53>3,\".\",Scoresheet!T49)))","v":20},{"$f":"IF(T47>2,\".\",IF(T53=3,IF(T47=0,IF(Scoresheet!U49=20,30,Scoresheet!U49),Scoresheet!U49),IF(U53>3,\".\",Scoresheet!U49)))","v":20},{"$f":"IF(U47>2,\".\",IF(U53=3,IF(U47=0,IF(Scoresheet!V49=20,30,Scoresheet!V49),Scoresheet!V49),IF(V53>3,\".\",Scoresheet!V49)))","v":10},{"$f":"IF(V47>2,\".\",IF(V53=3,IF(V47=0,IF(Scoresheet!W49=20,30,Scoresheet!W49),Scoresheet!W49),IF(W53>3,\".\",Scoresheet!W49)))","v":20},{"$f":"IF(W47>2,\".\",IF(W53=3,IF(W47=0,IF(Scoresheet!X49=20,30,Scoresheet!X49),Scoresheet!X49),IF(X53>3,\".\",Scoresheet!X49)))","v":20},{"$f":"IF(X47>2,\".\",IF(X53=3,IF(X47=0,IF(Scoresheet!Y49=20,30,Scoresheet!Y49),Scoresheet!Y49),IF(Y53>3,\".\",Scoresheet!Y49)))","v":10},{"$f":"IF(Y47>2,\".\",IF(Y53=3,IF(Y47=0,IF(Scoresheet!Z49=20,30,Scoresheet!Z49),Scoresheet!Z49),IF(Z53>3,\".\",Scoresheet!Z49)))","v":20},{"$f":"IF(Z47>2,\".\",IF(Z53=3,IF(Z47=0,IF(Scoresheet!AA49=20,30,Scoresheet!AA49),Scoresheet!AA49),IF(AA53>3,\".\",Scoresheet!AA49)))","v":20},{"$f":"IF(AA47>2,\".\",IF(AA53=3,IF(AA47=0,IF(Scoresheet!AB49=20,30,Scoresheet!AB49),Scoresheet!AB49),IF(AB53>3,\".\",Scoresheet!AB49)))","v":10},{"$f":"IF(AB47>2,\".\",IF(AB53=3,IF(AB47=0,IF(Scoresheet!AC49=20,30,Scoresheet!AC49),Scoresheet!AC49),IF(AC53>3,\".\",Scoresheet!AC49)))","v":20},{"$f":"IF(AC47>2,\".\",IF(AC53=3,IF(AC47=0,IF(Scoresheet!AD49=20,30,Scoresheet!AD49),Scoresheet!AD49),IF(AD53>3,\".\",Scoresheet!AD49)))","v":"?"},{"$f":"IF(AD47>2,\".\",IF(AD53=3,IF(AD47=0,IF(Scoresheet!AE49=20,30,Scoresheet!AE49),Scoresheet!AE49),IF(AE53>3,\".\",Scoresheet!AE49)))","v":"?"},{"$f":"IF(AE47>2,\".\",IF(AE53=3,IF(AE47=0,IF(Scoresheet!AF49=20,30,Scoresheet!AF49),Scoresheet!AF49),IF(AF53>3,\".\",Scoresheet!AF49)))","v":"?"},{"$f":"IF(AF47>2,\".\",IF(AF53=3,IF(AF47=0,IF(Scoresheet!AG49=20,30,Scoresheet!AG49),Scoresheet!AG49),IF(AG53>3,\".\",Scoresheet!AG49)))","v":"?"},{"$f":"IF(AG47>2,\".\",IF(AG53=3,IF(AG47=0,IF(Scoresheet!AH49=20,30,Scoresheet!AH49),Scoresheet!AH49),IF(AH53>3,\".\",Scoresheet!AH49)))","v":"?"},{"$f":"IF(AH47>2,\".\",IF(AH53=3,IF(AH47=0,IF(Scoresheet!AI49=20,30,Scoresheet!AI49),Scoresheet!AI49),IF(AI53>3,\".\",Scoresheet!AI49)))","v":"?"},{"$f":"IF(AI47>2,\".\",IF(AI53=3,IF(AI47=0,IF(Scoresheet!AJ49=20,30,Scoresheet!AJ49),Scoresheet!AJ49),IF(AJ53>3,\".\",Scoresheet!AJ49)))","v":"?"},{"$f":"IF(AJ47>2,\".\",IF(AJ53=3,IF(AJ47=0,IF(Scoresheet!AK49=20,30,Scoresheet!AK49),Scoresheet!AK49),IF(AK53>3,\".\",Scoresheet!AK49)))","v":"?"},{"$f":"IF(AK47>2,\".\",IF(AK53=3,IF(AK47=0,IF(Scoresheet!AL49=20,30,Scoresheet!AL49),Scoresheet!AL49),IF(AL53>3,\".\",Scoresheet!AL49)))","v":"?"},{"$f":"IF(AL47>2,\".\",IF(AL53=3,IF(AL47=0,IF(Scoresheet!AM49=20,30,Scoresheet!AM49),Scoresheet!AM49),IF(AM53>3,\".\",Scoresheet!AM49)))","v":"?"},{"$f":"IF(AM47>2,\".\",IF(AM53=3,IF(AM47=0,IF(Scoresheet!AN49=20,30,Scoresheet!AN49),Scoresheet!AN49),IF(AN53>3,\".\",Scoresheet!AN49)))","v":"?"},{"$f":"IF(AN47>2,\".\",IF(AN53=3,IF(AN47=0,IF(Scoresheet!AO49=20,30,Scoresheet!AO49),Scoresheet!AO49),IF(AO53>3,\".\",Scoresheet!AO49)))","v":"?"},{"$f":"IF(AO47>2,\".\",IF(AO53=3,IF(AO47=0,IF(Scoresheet!AP49=20,30,Scoresheet!AP49),Scoresheet!AP49),IF(AP53>3,\".\",Scoresheet!AP49)))","v":"?"},{"$f":"IF(AP47>2,\".\",IF(AP53=3,IF(AP47=0,IF(Scoresheet!AQ49=20,30,Scoresheet!AQ49),Scoresheet!AQ49),IF(AQ53>3,\".\",Scoresheet!AQ49)))","v":"?"},{"$f":"IF(AQ47>2,\".\",IF(AQ53=3,IF(AQ47=0,IF(Scoresheet!AR49=20,30,Scoresheet!AR49),Scoresheet!AR49),IF(AR53>3,\".\",Scoresheet!AR49)))","v":"?"},{"$f":"IF(AR47>2,\".\",IF(AR53=3,IF(AR47=0,IF(Scoresheet!AS49=20,30,Scoresheet!AS49),Scoresheet!AS49),IF(AS53>3,\".\",Scoresheet!AS49)))","v":"?"},{"$f":"IF(AS47>2,\".\",IF(AS53=3,IF(AS47=0,IF(Scoresheet!AT49=20,30,Scoresheet!AT49),Scoresheet!AT49),IF(AT53>3,\".\",Scoresheet!AT49)))","v":"?"},{"$f":"IF(AT47>2,\".\",IF(AT53=3,IF(AT47=0,IF(Scoresheet!AU49=20,30,Scoresheet!AU49),Scoresheet!AU49),IF(AU53>3,\".\",Scoresheet!AU49)))","v":"?"},{"$f":"IF(AU47>2,\".\",IF(AU53=3,IF(AU47=0,IF(Scoresheet!AV49=20,30,Scoresheet!AV49),Scoresheet!AV49),IF(AV53>3,\".\",Scoresheet!AV49)))","v":"?"},{"$f":"IF(AV47>2,\".\",IF(AV53=3,IF(AV47=0,IF(Scoresheet!AW49=20,30,Scoresheet!AW49),Scoresheet!AW49),IF(AW53>3,\".\",Scoresheet!AW49)))","v":"?"},{"$f":"IF(AW47>2,\".\",IF(AW53=3,IF(AW47=0,IF(Scoresheet!AX49=20,30,Scoresheet!AX49),Scoresheet!AX49),IF(AX53>3,\".\",Scoresheet!AX49)))","v":"?"},{"$f":"IF(AX47>2,\".\",IF(AX53=3,IF(AX47=0,IF(Scoresheet!AY49=20,30,Scoresheet!AY49),Scoresheet!AY49),IF(AY53>3,\".\",Scoresheet!AY49)))","v":"?"},{"$f":"IF(AY47>2,\".\",IF(AY53=3,IF(AY47=0,IF(Scoresheet!AZ49=20,30,Scoresheet!AZ49),Scoresheet!AZ49),IF(AZ53>3,\".\",Scoresheet!AZ49)))","v":"?"},{"$f":"IF(AZ47>2,\".\",IF(AZ53=3,IF(AZ47=0,IF(Scoresheet!BA49=20,30,Scoresheet!BA49),Scoresheet!BA49),IF(BA53>3,\".\",Scoresheet!BA49)))","v":"?"},{"$f":"IF(BA47>2,\".\",IF(BA53=3,IF(BA47=0,IF(Scoresheet!BB49=20,30,Scoresheet!BB49),Scoresheet!BB49),IF(BB53>3,\".\",Scoresheet!BB49)))","v":"?"},{"$f":"IF(BB47>2,\".\",IF(BB53=3,IF(BB47=0,IF(Scoresheet!BC49=20,30,Scoresheet!BC49),Scoresheet!BC49),IF(BC53>3,\".\",Scoresheet!BC49)))","v":"?"},{"$f":"IF(BC47>2,\".\",IF(BC53=3,IF(BC47=0,IF(Scoresheet!BD49=20,30,Scoresheet!BD49),Scoresheet!BD49),IF(BD53>3,\".\",Scoresheet!BD49)))","v":"?"},{"$f":"IF(BD47>2,\".\",IF(BD53=3,IF(BD47=0,IF(Scoresheet!BE49=20,30,Scoresheet!BE49),Scoresheet!BE49),IF(BE53>3,\".\",Scoresheet!BE49)))","v":"?"},{"$f":"IF(BE47>2,\".\",IF(BE53=3,IF(BE47=0,IF(Scoresheet!BF49=20,30,Scoresheet!BF49),Scoresheet!BF49),IF(BF53>3,\".\",Scoresheet!BF49)))","v":"?"},{"$f":"IF(BF47>2,\".\",IF(BF53=3,IF(BF47=0,IF(Scoresheet!BG49=20,30,Scoresheet!BG49),Scoresheet!BG49),IF(BG53>3,\".\",Scoresheet!BG49)))","v":"?"}]
[null,null,{"$f":"Scoresheet!C42","v":"Quizzer #3"},20,{"$f":"IF(D48>2,\".\",IF(D54=3,IF(D48=0,IF(Scoresheet!E49=20,30,Scoresheet!E49),Scoresheet!E49),IF(E54>3,\".\",Scoresheet!E49)))","v":20},{"$f":"IF(E48>2,\".\",IF(E54=3,IF(E48=0,IF(Scoresheet!F49=20,30,Scoresheet!F49),Scoresheet!F49),IF(F54>3,\".\",Scoresheet!F49)))","v":20},{"$f":"IF(F48>2,\".\",IF(F54=3,IF(F48=0,IF(Scoresheet!G49=20,30,Scoresheet!G49),Scoresheet!G49),IF(G54>3,\".\",Scoresheet!G49)))","v":20},{"$f":"IF(G48>2,\".\",IF(G54=3,IF(G48=0,IF(Scoresheet!H49=20,30,Scoresheet!H49),Scoresheet!H49),IF(H54>3,\".\",Scoresheet!H49)))","v":20},{"$f":"IF(H48>2,\".\",IF(H54=3,IF(H48=0,IF(Scoresheet!I49=20,30,Scoresheet!I49),Scoresheet!I49),IF(I54>3,\".\",Scoresheet!I49)))","v":20},{"$f":"IF(I48>2,\".\",IF(I54=3,IF(I48=0,IF(Scoresheet!J49=20,30,Scoresheet!J49),Scoresheet!J49),IF(J54>3,\".\",Scoresheet!J49)))","v":20},{"$f":"IF(J48>2,\".\",IF(J54=3,IF(J48=0,IF(Scoresheet!K49=20,30,Scoresheet!K49),Scoresheet!K49),IF(K54>3,\".\",Scoresheet!K49)))","v":20},{"$f":"IF(K48>2,\".\",IF(K54=3,IF(K48=0,IF(Scoresheet!L49=20,30,Scoresheet!L49),Scoresheet!L49),IF(L54>3,\".\",Scoresheet!L49)))","v":20},{"$f":"IF(L48>2,\".\",IF(L54=3,IF(L48=0,IF(Scoresheet!M49=20,30,Scoresheet!M49),Scoresheet!M49),IF(M54>3,\".\",Scoresheet!M49)))","v":20},{"$f":"IF(M48>2,\".\",IF(M54=3,IF(M48=0,IF(Scoresheet!N49=20,30,Scoresheet!N49),Scoresheet!N49),IF(N54>3,\".\",Scoresheet!N49)))","v":20},{"$f":"IF(N48>2,\".\",IF(N54=3,IF(N48=0,IF(Scoresheet!O49=20,30,Scoresheet!O49),Scoresheet!O49),IF(O54>3,\".\",Scoresheet!O49)))","v":20},{"$f":"IF(O48>2,\".\",IF(O54=3,IF(O48=0,IF(Scoresheet!P49=20,30,Scoresheet!P49),Scoresheet!P49),IF(P54>3,\".\",Scoresheet!P49)))","v":20},{"$f":"IF(P48>2,\".\",IF(P54=3,IF(P48=0,IF(Scoresheet!Q49=20,30,Scoresheet!Q49),Scoresheet!Q49),IF(Q54>3,\".\",Scoresheet!Q49)))","v":20},{"$f":"IF(Q48>2,\".\",IF(Q54=3,IF(Q48=0,IF(Scoresheet!R49=20,30,Scoresheet!R49),Scoresheet!R49),IF(R54>3,\".\",Scoresheet!R49)))","v":20},{"$f":"IF(R48>2,\".\",IF(R54=3,IF(R48=0,IF(Scoresheet!S49=20,30,Scoresheet!S49),Scoresheet!S49),IF(S54>3,\".\",Scoresheet!S49)))","v":20},{"$f":"IF(S48>2,\".\",IF(S54=3,IF(S48=0,IF(Scoresheet!T49=20,30,Scoresheet!T49),Scoresheet!T49),IF(T54>3,\".\",Scoresheet!T49)))","v":20},{"$f":"IF(T48>2,\".\",IF(T54=3,IF(T48=0,IF(Scoresheet!U49=20,30,Scoresheet!U49),Scoresheet!U49),IF(U54>3,\".\",Scoresheet!U49)))","v":20},{"$f":"IF(U48>2,\".\",IF(U54=3,IF(U48=0,IF(Scoresheet!V49=20,30,Scoresheet!V49),Scoresheet!V49),IF(V54>3,\".\",Scoresheet!V49)))","v":10},{"$f":"IF(V48>2,\".\",IF(V54=3,IF(V48=0,IF(Scoresheet!W49=20,30,Scoresheet!W49),Scoresheet!W49),IF(W54>3,\".\",Scoresheet!W49)))","v":20},{"$f":"IF(W48>2,\".\",IF(W54=3,IF(W48=0,IF(Scoresheet!X49=20,30,Scoresheet!X49),Scoresheet!X49),IF(X54>3,\".\",Scoresheet!X49)))","v":20},{"$f":"IF(X48>2,\".\",IF(X54=3,IF(X48=0,IF(Scoresheet!Y49=20,30,Scoresheet!Y49),Scoresheet!Y49),IF(Y54>3,\".\",Scoresheet!Y49)))","v":10},{"$f":"IF(Y48>2,\".\",IF(Y54=3,IF(Y48=0,IF(Scoresheet!Z49=20,30,Scoresheet!Z49),Scoresheet!Z49),IF(Z54>3,\".\",Scoresheet!Z49)))","v":20},{"$f":"IF(Z48>2,\".\",IF(Z54=3,IF(Z48=0,IF(Scoresheet!AA49=20,30,Scoresheet!AA49),Scoresheet!AA49),IF(AA54>3,\".\",Scoresheet!AA49)))","v":20},{"$f":"IF(AA48>2,\".\",IF(AA54=3,IF(AA48=0,IF(Scoresheet!AB49=20,30,Scoresheet!AB49),Scoresheet!AB49),IF(AB54>3,\".\",Scoresheet!AB49)))","v":10},{"$f":"IF(AB48>2,\".\",IF(AB54=3,IF(AB48=0,IF(Scoresheet!AC49=20,30,Scoresheet!AC49),Scoresheet!AC49),IF(AC54>3,\".\",Scoresheet!AC49)))","v":20},{"$f":"IF(AC48>2,\".\",IF(AC54=3,IF(AC48=0,IF(Scoresheet!AD49=20,30,Scoresheet!AD49),Scoresheet!AD49),IF(AD54>3,\".\",Scoresheet!AD49)))","v":"?"},{"$f":"IF(AD48>2,\".\",IF(AD54=3,IF(AD48=0,IF(Scoresheet!AE49=20,30,Scoresheet!AE49),Scoresheet!AE49),IF(AE54>3,\".\",Scoresheet!AE49)))","v":"?"},{"$f":"IF(AE48>2,\".\",IF(AE54=3,IF(AE48=0,IF(Scoresheet!AF49=20,30,Scoresheet!AF49),Scoresheet!AF49),IF(AF54>3,\".\",Scoresheet!AF49)))","v":"?"},{"$f":"IF(AF48>2,\".\",IF(AF54=3,IF(AF48=0,IF(Scoresheet!AG49=20,30,Scoresheet!AG49),Scoresheet!AG49),IF(AG54>3,\".\",Scoresheet!AG49)))","v":"?"},{"$f":"IF(AG48>2,\".\",IF(AG54=3,IF(AG48=0,IF(Scoresheet!AH49=20,30,Scoresheet!AH49),Scoresheet!AH49),IF(AH54>3,\".\",Scoresheet!AH49)))","v":"?"},{"$f":"IF(AH48>2,\".\",IF(AH54=3,IF(AH48=0,IF(Scoresheet!AI49=20,30,Scoresheet!AI49),Scoresheet!AI49),IF(AI54>3,\".\",Scoresheet!AI49)))","v":"?"},{"$f":"IF(AI48>2,\".\",IF(AI54=3,IF(AI48=0,IF(Scoresheet!AJ49=20,30,Scoresheet!AJ49),Scoresheet!AJ49),IF(AJ54>3,\".\",Scoresheet!AJ49)))","v":"?"},{"$f":"IF(AJ48>2,\".\",IF(AJ54=3,IF(AJ48=0,IF(Scoresheet!AK49=20,30,Scoresheet!AK49),Scoresheet!AK49),IF(AK54>3,\".\",Scoresheet!AK49)))","v":"?"},{"$f":"IF(AK48>2,\".\",IF(AK54=3,IF(AK48=0,IF(Scoresheet!AL49=20,30,Scoresheet!AL49),Scoresheet!AL49),IF(AL54>3,\".\",Scoresheet!AL49)))","v":"?"},{"$f":"IF(AL48>2,\".\",IF(AL54=3,IF(AL48=0,IF(Scoresheet!AM49=20,30,Scoresheet!AM49),Scoresheet!AM49),IF(AM54>3,\".\",Scoresheet!AM49)))","v":"?"},{"$f":"IF(AM48>2,\".\",IF(AM54=3,IF(AM48=0,IF(Scoresheet!AN49=20,30,Scoresheet!AN49),Scoresheet!AN49),IF(AN54>3,\".\",Scoresheet!AN49)))","v":"?"},{"$f":"IF(AN48>2,\".\",IF(AN54=3,IF(AN48=0,IF(Scoresheet!AO49=20,30,Scoresheet!AO49),Scoresheet!AO49),IF(AO54>3,\".\",Scoresheet!AO49)))","v":"?"},{"$f":"IF(AO48>2,\".\",IF(AO54=3,IF(AO48=0,IF(Scoresheet!AP49=20,30,Scoresheet!AP49),Scoresheet!AP49),IF(AP54>3,\".\",Scoresheet!AP49)))","v":"?"},{"$f":"IF(AP48>2,\".\",IF(AP54=3,IF(AP48=0,IF(Scoresheet!AQ49=20,30,Scoresheet!AQ49),Scoresheet!AQ49),IF(AQ54>3,\".\",Scoresheet!AQ49)))","v":"?"},{"$f":"IF(AQ48>2,\".\",IF(AQ54=3,IF(AQ48=0,IF(Scoresheet!AR49=20,30,Scoresheet!AR49),Scoresheet!AR49),IF(AR54>3,\".\",Scoresheet!AR49)))","v":"?"},{"$f":"IF(AR48>2,\".\",IF(AR54=3,IF(AR48=0,IF(Scoresheet!AS49=20,30,Scoresheet!AS49),Scoresheet!AS49),IF(AS54>3,\".\",Scoresheet!AS49)))","v":"?"},{"$f":"IF(AS48>2,\".\",IF(AS54=3,IF(AS48=0,IF(Scoresheet!AT49=20,30,Scoresheet!AT49),Scoresheet!AT49),IF(AT54>3,\".\",Scoresheet!AT49)))","v":"?"},{"$f":"IF(AT48>2,\".\",IF(AT54=3,IF(AT48=0,IF(Scoresheet!AU49=20,30,Scoresheet!AU49),Scoresheet!AU49),IF(AU54>3,\".\",Scoresheet!AU49)))","v":"?"},{"$f":"IF(AU48>2,\".\",IF(AU54=3,IF(AU48=0,IF(Scoresheet!AV49=20,30,Scoresheet!AV49),Scoresheet!AV49),IF(AV54>3,\".\",Scoresheet!AV49)))","v":"?"},{"$f":"IF(AV48>2,\".\",IF(AV54=3,IF(AV48=0,IF(Scoresheet!AW49=20,30,Scoresheet!AW49),Scoresheet!AW49),IF(AW54>3,\".\",Scoresheet!AW49)))","v":"?"},{"$f":"IF(AW48>2,\".\",IF(AW54=3,IF(AW48=0,IF(Scoresheet!AX49=20,30,Scoresheet!AX49),Scoresheet!AX49),IF(AX54>3,\".\",Scoresheet!AX49)))","v":"?"},{"$f":"IF(AX48>2,\".\",IF(AX54=3,IF(AX48=0,IF(Scoresheet!AY49=20,30,Scoresheet!AY49),Scoresheet!AY49),IF(AY54>3,\".\",Scoresheet!AY49)))","v":"?"},{"$f":"IF(AY48>2,\".\",IF(AY54=3,IF(AY48=0,IF(Scoresheet!AZ49=20,30,Scoresheet!AZ49),Scoresheet!AZ49),IF(AZ54>3,\".\",Scoresheet!AZ49)))","v":"?"},{"$f":"IF(AZ48>2,\".\",IF(AZ54=3,IF(AZ48=0,IF(Scoresheet!BA49=20,30,Scoresheet!BA49),Scoresheet!BA49),IF(BA54>3,\".\",Scoresheet!BA49)))","v":"?"},{"$f":"IF(BA48>2,\".\",IF(BA54=3,IF(BA48=0,IF(Scoresheet!BB49=20,30,Scoresheet!BB49),Scoresheet!BB49),IF(BB54>3,\".\",Scoresheet!BB49)))","v":"?"},{"$f":"IF(BB48>2,\".\",IF(BB54=3,IF(BB48=0,IF(Scoresheet!BC49=20,30,Scoresheet!BC49),Scoresheet!BC49),IF(BC54>3,\".\",Scoresheet!BC49)))","v":"?"},{"$f":"IF(BC48>2,\".\",IF(BC54=3,IF(BC48=0,IF(Scoresheet!BD49=20,30,Scoresheet!BD49),Scoresheet!BD49),IF(BD54>3,\".\",Scoresheet!BD49)))","v":"?"},{"$f":"IF(BD48>2,\".\",IF(BD54=3,IF(BD48=0,IF(Scoresheet!BE49=20,30,Scoresheet!BE49),Scoresheet!BE49),IF(BE54>3,\".\",Scoresheet!BE49)))","v":"?"},{"$f":"IF(BE48>2,\".\",IF(BE54=3,IF(BE48=0,IF(Scoresheet!BF49=20,30,Scoresheet!BF49),Scoresheet!BF49),IF(BF54>3,\".\",Scoresheet!BF49)))","v":"?"},{"$f":"IF(BF48>2,\".\",IF(BF54=3,IF(BF48=0,IF(Scoresheet!BG49=20,30,Scoresheet!BG49),Scoresheet!BG49),IF(BG54>3,\".\",Scoresheet!BG49)))","v":"?"}]
[null,null,{"$f":"Scoresheet!C43","v":"Quizzer #4"},20,{"$f":"IF(D49>2,\".\",IF(D55=3,IF(D49=0,IF(Scoresheet!E49=20,30,Scoresheet!E49),Scoresheet!E49),IF(E55>3,\".\",Scoresheet!E49)))","v":20},{"$f":"IF(E49>2,\".\",IF(E55=3,IF(E49=0,IF(Scoresheet!F49=20,30,Scoresheet!F49),Scoresheet!F49),IF(F55>3,\".\",Scoresheet!F49)))","v":20},{"$f":"IF(F49>2,\".\",IF(F55=3,IF(F49=0,IF(Scoresheet!G49=20,30,Scoresheet!G49),Scoresheet!G49),IF(G55>3,\".\",Scoresheet!G49)))","v":20},{"$f":"IF(G49>2,\".\",IF(G55=3,IF(G49=0,IF(Scoresheet!H49=20,30,Scoresheet!H49),Scoresheet!H49),IF(H55>3,\".\",Scoresheet!H49)))","v":20},{"$f":"IF(H49>2,\".\",IF(H55=3,IF(H49=0,IF(Scoresheet!I49=20,30,Scoresheet!I49),Scoresheet!I49),IF(I55>3,\".\",Scoresheet!I49)))","v":20},{"$f":"IF(I49>2,\".\",IF(I55=3,IF(I49=0,IF(Scoresheet!J49=20,30,Scoresheet!J49),Scoresheet!J49),IF(J55>3,\".\",Scoresheet!J49)))","v":20},{"$f":"IF(J49>2,\".\",IF(J55=3,IF(J49=0,IF(Scoresheet!K49=20,30,Scoresheet!K49),Scoresheet!K49),IF(K55>3,\".\",Scoresheet!K49)))","v":20},{"$f":"IF(K49>2,\".\",IF(K55=3,IF(K49=0,IF(Scoresheet!L49=20,30,Scoresheet!L49),Scoresheet!L49),IF(L55>3,\".\",Scoresheet!L49)))","v":20},{"$f":"IF(L49>2,\".\",IF(L55=3,IF(L49=0,IF(Scoresheet!M49=20,30,Scoresheet!M49),Scoresheet!M49),IF(M55>3,\".\",Scoresheet!M49)))","v":20},{"$f":"IF(M49>2,\".\",IF(M55=3,IF(M49=0,IF(Scoresheet!N49=20,30,Scoresheet!N49),Scoresheet!N49),IF(N55>3,\".\",Scoresheet!N49)))","v":20},{"$f":"IF(N49>2,\".\",IF(N55=3,IF(N49=0,IF(Scoresheet!O49=20,30,Scoresheet!O49),Scoresheet!O49),IF(O55>3,\".\",Scoresheet!O49)))","v":20},{"$f":"IF(O49>2,\".\",IF(O55=3,IF(O49=0,IF(Scoresheet!P49=20,30,Scoresheet!P49),Scoresheet!P49),IF(P55>3,\".\",Scoresheet!P49)))","v":20},{"$f":"IF(P49>2,\".\",IF(P55=3,IF(P49=0,IF(Scoresheet!Q49=20,30,Scoresheet!Q49),Scoresheet!Q49),IF(Q55>3,\".\",Scoresheet!Q49)))","v":20},{"$f":"IF(Q49>2,\".\",IF(Q55=3,IF(Q49=0,IF(Scoresheet!R49=20,30,Scoresheet!R49),Scoresheet!R49),IF(R55>3,\".\",Scoresheet!R49)))","v":20},{"$f":"IF(R49>2,\".\",IF(R55=3,IF(R49=0,IF(Scoresheet!S49=20,30,Scoresheet!S49),Scoresheet!S49),IF(S55>3,\".\",Scoresheet!S49)))","v":20},{"$f":"IF(S49>2,\".\",IF(S55=3,IF(S49=0,IF(Scoresheet!T49=20,30,Scoresheet!T49),Scoresheet!T49),IF(T55>3,\".\",Scoresheet!T49)))","v":20},{"$f":"IF(T49>2,\".\",IF(T55=3,IF(T49=0,IF(Scoresheet!U49=20,30,Scoresheet!U49),Scoresheet!U49),IF(U55>3,\".\",Scoresheet!U49)))","v":20},{"$f":"IF(U49>2,\".\",IF(U55=3,IF(U49=0,IF(Scoresheet!V49=20,30,Scoresheet!V49),Scoresheet!V49),IF(V55>3,\".\",Scoresheet!V49)))","v":10},{"$f":"IF(V49>2,\".\",IF(V55=3,IF(V49=0,IF(Scoresheet!W49=20,30,Scoresheet!W49),Scoresheet!W49),IF(W55>3,\".\",Scoresheet!W49)))","v":20},{"$f":"IF(W49>2,\".\",IF(W55=3,IF(W49=0,IF(Scoresheet!X49=20,30,Scoresheet!X49),Scoresheet!X49),IF(X55>3,\".\",Scoresheet!X49)))","v":20},{"$f":"IF(X49>2,\".\",IF(X55=3,IF(X49=0,IF(Scoresheet!Y49=20,30,Scoresheet!Y49),Scoresheet!Y49),IF(Y55>3,\".\",Scoresheet!Y49)))","v":10},{"$f":"IF(Y49>2,\".\",IF(Y55=3,IF(Y49=0,IF(Scoresheet!Z49=20,30,Scoresheet!Z49),Scoresheet!Z49),IF(Z55>3,\".\",Scoresheet!Z49)))","v":20},{"$f":"IF(Z49>2,\".\",IF(Z55=3,IF(Z49=0,IF(Scoresheet!AA49=20,30,Scoresheet!AA49),Scoresheet!AA49),IF(AA55>3,\".\",Scoresheet!AA49)))","v":20},{"$f":"IF(AA49>2,\".\",IF(AA55=3,IF(AA49=0,IF(Scoresheet!AB49=20,30,Scoresheet!AB49),Scoresheet!AB49),IF(AB55>3,\".\",Scoresheet!AB49)))","v":10},{"$f":"IF(AB49>2,\".\",IF(AB55=3,IF(AB49=0,IF(Scoresheet!AC49=20,30,Scoresheet!AC49),Scoresheet!AC49),IF(AC55>3,\".\",Scoresheet!AC49)))","v":20},{"$f":"IF(AC49>2,\".\",IF(AC55=3,IF(AC49=0,IF(Scoresheet!AD49=20,30,Scoresheet!AD49),Scoresheet!AD49),IF(AD55>3,\".\",Scoresheet!AD49)))","v":"?"},{"$f":"IF(AD49>2,\".\",IF(AD55=3,IF(AD49=0,IF(Scoresheet!AE49=20,30,Scoresheet!AE49),Scoresheet!AE49),IF(AE55>3,\".\",Scoresheet!AE49)))","v":"?"},{"$f":"IF(AE49>2,\".\",IF(AE55=3,IF(AE49=0,IF(Scoresheet!AF49=20,30,Scoresheet!AF49),Scoresheet!AF49),IF(AF55>3,\".\",Scoresheet!AF49)))","v":"?"},{"$f":"IF(AF49>2,\".\",IF(AF55=3,IF(AF49=0,IF(Scoresheet!AG49=20,30,Scoresheet!AG49),Scoresheet!AG49),IF(AG55>3,\".\",Scoresheet!AG49)))","v":"?"},{"$f":"IF(AG49>2,\".\",IF(AG55=3,IF(AG49=0,IF(Scoresheet!AH49=20,30,Scoresheet!AH49),Scoresheet!AH49),IF(AH55>3,\".\",Scoresheet!AH49)))","v":"?"},{"$f":"IF(AH49>2,\".\",IF(AH55=3,IF(AH49=0,IF(Scoresheet!AI49=20,30,Scoresheet!AI49),Scoresheet!AI49),IF(AI55>3,\".\",Scoresheet!AI49)))","v":"?"},{"$f":"IF(AI49>2,\".\",IF(AI55=3,IF(AI49=0,IF(Scoresheet!AJ49=20,30,Scoresheet!AJ49),Scoresheet!AJ49),IF(AJ55>3,\".\",Scoresheet!AJ49)))","v":"?"},{"$f":"IF(AJ49>2,\".\",IF(AJ55=3,IF(AJ49=0,IF(Scoresheet!AK49=20,30,Scoresheet!AK49),Scoresheet!AK49),IF(AK55>3,\".\",Scoresheet!AK49)))","v":"?"},{"$f":"IF(AK49>2,\".\",IF(AK55=3,IF(AK49=0,IF(Scoresheet!AL49=20,30,Scoresheet!AL49),Scoresheet!AL49),IF(AL55>3,\".\",Scoresheet!AL49)))","v":"?"},{"$f":"IF(AL49>2,\".\",IF(AL55=3,IF(AL49=0,IF(Scoresheet!AM49=20,30,Scoresheet!AM49),Scoresheet!AM49),IF(AM55>3,\".\",Scoresheet!AM49)))","v":"?"},{"$f":"IF(AM49>2,\".\",IF(AM55=3,IF(AM49=0,IF(Scoresheet!AN49=20,30,Scoresheet!AN49),Scoresheet!AN49),IF(AN55>3,\".\",Scoresheet!AN49)))","v":"?"},{"$f":"IF(AN49>2,\".\",IF(AN55=3,IF(AN49=0,IF(Scoresheet!AO49=20,30,Scoresheet!AO49),Scoresheet!AO49),IF(AO55>3,\".\",Scoresheet!AO49)))","v":"?"},{"$f":"IF(AO49>2,\".\",IF(AO55=3,IF(AO49=0,IF(Scoresheet!AP49=20,30,Scoresheet!AP49),Scoresheet!AP49),IF(AP55>3,\".\",Scoresheet!AP49)))","v":"?"},{"$f":"IF(AP49>2,\".\",IF(AP55=3,IF(AP49=0,IF(Scoresheet!AQ49=20,30,Scoresheet!AQ49),Scoresheet!AQ49),IF(AQ55>3,\".\",Scoresheet!AQ49)))","v":"?"},{"$f":"IF(AQ49>2,\".\",IF(AQ55=3,IF(AQ49=0,IF(Scoresheet!AR49=20,30,Scoresheet!AR49),Scoresheet!AR49),IF(AR55>3,\".\",Scoresheet!AR49)))","v":"?"},{"$f":"IF(AR49>2,\".\",IF(AR55=3,IF(AR49=0,IF(Scoresheet!AS49=20,30,Scoresheet!AS49),Scoresheet!AS49),IF(AS55>3,\".\",Scoresheet!AS49)))","v":"?"},{"$f":"IF(AS49>2,\".\",IF(AS55=3,IF(AS49=0,IF(Scoresheet!AT49=20,30,Scoresheet!AT49),Scoresheet!AT49),IF(AT55>3,\".\",Scoresheet!AT49)))","v":"?"},{"$f":"IF(AT49>2,\".\",IF(AT55=3,IF(AT49=0,IF(Scoresheet!AU49=20,30,Scoresheet!AU49),Scoresheet!AU49),IF(AU55>3,\".\",Scoresheet!AU49)))","v":"?"},{"$f":"IF(AU49>2,\".\",IF(AU55=3,IF(AU49=0,IF(Scoresheet!AV49=20,30,Scoresheet!AV49),Scoresheet!AV49),IF(AV55>3,\".\",Scoresheet!AV49)))","v":"?"},{"$f":"IF(AV49>2,\".\",IF(AV55=3,IF(AV49=0,IF(Scoresheet!AW49=20,30,Scoresheet!AW49),Scoresheet!AW49),IF(AW55>3,\".\",Scoresheet!AW49)))","v":"?"},{"$f":"IF(AW49>2,\".\",IF(AW55=3,IF(AW49=0,IF(Scoresheet!AX49=20,30,Scoresheet!AX49),Scoresheet!AX49),IF(AX55>3,\".\",Scoresheet!AX49)))","v":"?"},{"$f":"IF(AX49>2,\".\",IF(AX55=3,IF(AX49=0,IF(Scoresheet!AY49=20,30,Scoresheet!AY49),Scoresheet!AY49),IF(AY55>3,\".\",Scoresheet!AY49)))","v":"?"},{"$f":"IF(AY49>2,\".\",IF(AY55=3,IF(AY49=0,IF(Scoresheet!AZ49=20,30,Scoresheet!AZ49),Scoresheet!AZ49),IF(AZ55>3,\".\",Scoresheet!AZ49)))","v":"?"},{"$f":"IF(AZ49>2,\".\",IF(AZ55=3,IF(AZ49=0,IF(Scoresheet!BA49=20,30,Scoresheet!BA49),Scoresheet!BA49),IF(BA55>3,\".\",Scoresheet!BA49)))","v":"?"},{"$f":"IF(BA49>2,\".\",IF(BA55=3,IF(BA49=0,IF(Scoresheet!BB49=20,30,Scoresheet!BB49),Scoresheet!BB49),IF(BB55>3,\".\",Scoresheet!BB49)))","v":"?"},{"$f":"IF(BB49>2,\".\",IF(BB55=3,IF(BB49=0,IF(Scoresheet!BC49=20,30,Scoresheet!BC49),Scoresheet!BC49),IF(BC55>3,\".\",Scoresheet!BC49)))","v":"?"},{"$f":"IF(BC49>2,\".\",IF(BC55=3,IF(BC49=0,IF(Scoresheet!BD49=20,30,Scoresheet!BD49),Scoresheet!BD49),IF(BD55>3,\".\",Scoresheet!BD49)))","v":"?"},{"$f":"IF(BD49>2,\".\",IF(BD55=3,IF(BD49=0,IF(Scoresheet!BE49=20,30,Scoresheet!BE49),Scoresheet!BE49),IF(BE55>3,\".\",Scoresheet!BE49)))","v":"?"},{"$f":"IF(BE49>2,\".\",IF(BE55=3,IF(BE49=0,IF(Scoresheet!BF49=20,30,Scoresheet!BF49),Scoresheet!BF49),IF(BF55>3,\".\",Scoresheet!BF49)))","v":"?"},{"$f":"IF(BF49>2,\".\",IF(BF55=3,IF(BF49=0,IF(Scoresheet!BG49=20,30,Scoresheet!BG49),Scoresheet!BG49),IF(BG55>3,\".\",Scoresheet!BG49)))","v":"?"}]
[null,null,{"$f":"Scoresheet!C44","v":0},20,{"$f":"IF(D50>2,\".\",IF(D56=3,IF(D50=0,IF(Scoresheet!E49=20,30,Scoresheet!E49),Scoresheet!E49),IF(E56>3,\".\",Scoresheet!E49)))","v":20},{"$f":"IF(E50>2,\".\",IF(E56=3,IF(E50=0,IF(Scoresheet!F49=20,30,Scoresheet!F49),Scoresheet!F49),IF(F56>3,\".\",Scoresheet!F49)))","v":20},{"$f":"IF(F50>2,\".\",IF(F56=3,IF(F50=0,IF(Scoresheet!G49=20,30,Scoresheet!G49),Scoresheet!G49),IF(G56>3,\".\",Scoresheet!G49)))","v":20},{"$f":"IF(G50>2,\".\",IF(G56=3,IF(G50=0,IF(Scoresheet!H49=20,30,Scoresheet!H49),Scoresheet!H49),IF(H56>3,\".\",Scoresheet!H49)))","v":20},{"$f":"IF(H50>2,\".\",IF(H56=3,IF(H50=0,IF(Scoresheet!I49=20,30,Scoresheet!I49),Scoresheet!I49),IF(I56>3,\".\",Scoresheet!I49)))","v":20},{"$f":"IF(I50>2,\".\",IF(I56=3,IF(I50=0,IF(Scoresheet!J49=20,30,Scoresheet!J49),Scoresheet!J49),IF(J56>3,\".\",Scoresheet!J49)))","v":20},{"$f":"IF(J50>2,\".\",IF(J56=3,IF(J50=0,IF(Scoresheet!K49=20,30,Scoresheet!K49),Scoresheet!K49),IF(K56>3,\".\",Scoresheet!K49)))","v":20},{"$f":"IF(K50>2,\".\",IF(K56=3,IF(K50=0,IF(Scoresheet!L49=20,30,Scoresheet!L49),Scoresheet!L49),IF(L56>3,\".\",Scoresheet!L49)))","v":20},{"$f":"IF(L50>2,\".\",IF(L56=3,IF(L50=0,IF(Scoresheet!M49=20,30,Scoresheet!M49),Scoresheet!M49),IF(M56>3,\".\",Scoresheet!M49)))","v":20},{"$f":"IF(M50>2,\".\",IF(M56=3,IF(M50=0,IF(Scoresheet!N49=20,30,Scoresheet!N49),Scoresheet!N49),IF(N56>3,\".\",Scoresheet!N49)))","v":20},{"$f":"IF(N50>2,\".\",IF(N56=3,IF(N50=0,IF(Scoresheet!O49=20,30,Scoresheet!O49),Scoresheet!O49),IF(O56>3,\".\",Scoresheet!O49)))","v":20},{"$f":"IF(O50>2,\".\",IF(O56=3,IF(O50=0,IF(Scoresheet!P49=20,30,Scoresheet!P49),Scoresheet!P49),IF(P56>3,\".\",Scoresheet!P49)))","v":20},{"$f":"IF(P50>2,\".\",IF(P56=3,IF(P50=0,IF(Scoresheet!Q49=20,30,Scoresheet!Q49),Scoresheet!Q49),IF(Q56>3,\".\",Scoresheet!Q49)))","v":20},{"$f":"IF(Q50>2,\".\",IF(Q56=3,IF(Q50=0,IF(Scoresheet!R49=20,30,Scoresheet!R49),Scoresheet!R49),IF(R56>3,\".\",Scoresheet!R49)))","v":20},{"$f":"IF(R50>2,\".\",IF(R56=3,IF(R50=0,IF(Scoresheet!S49=20,30,Scoresheet!S49),Scoresheet!S49),IF(S56>3,\".\",Scoresheet!S49)))","v":20},{"$f":"IF(S50>2,\".\",IF(S56=3,IF(S50=0,IF(Scoresheet!T49=20,30,Scoresheet!T49),Scoresheet!T49),IF(T56>3,\".\",Scoresheet!T49)))","v":20},{"$f":"IF(T50>2,\".\",IF(T56=3,IF(T50=0,IF(Scoresheet!U49=20,30,Scoresheet!U49),Scoresheet!U49),IF(U56>3,\".\",Scoresheet!U49)))","v":20},{"$f":"IF(U50>2,\".\",IF(U56=3,IF(U50=0,IF(Scoresheet!V49=20,30,Scoresheet!V49),Scoresheet!V49),IF(V56>3,\".\",Scoresheet!V49)))","v":10},{"$f":"IF(V50>2,\".\",IF(V56=3,IF(V50=0,IF(Scoresheet!W49=20,30,Scoresheet!W49),Scoresheet!W49),IF(W56>3,\".\",Scoresheet!W49)))","v":20},{"$f":"IF(W50>2,\".\",IF(W56=3,IF(W50=0,IF(Scoresheet!X49=20,30,Scoresheet!X49),Scoresheet!X49),IF(X56>3,\".\",Scoresheet!X49)))","v":20},{"$f":"IF(X50>2,\".\",IF(X56=3,IF(X50=0,IF(Scoresheet!Y49=20,30,Scoresheet!Y49),Scoresheet!Y49),IF(Y56>3,\".\",Scoresheet!Y49)))","v":10},{"$f":"IF(Y50>2,\".\",IF(Y56=3,IF(Y50=0,IF(Scoresheet!Z49=20,30,Scoresheet!Z49),Scoresheet!Z49),IF(Z56>3,\".\",Scoresheet!Z49)))","v":20},{"$f":"IF(Z50>2,\".\",IF(Z56=3,IF(Z50=0,IF(Scoresheet!AA49=20,30,Scoresheet!AA49),Scoresheet!AA49),IF(AA56>3,\".\",Scoresheet!AA49)))","v":20},{"$f":"IF(AA50>2,\".\",IF(AA56=3,IF(AA50=0,IF(Scoresheet!AB49=20,30,Scoresheet!AB49),Scoresheet!AB49),IF(AB56>3,\".\",Scoresheet!AB49)))","v":10},{"$f":"IF(AB50>2,\".\",IF(AB56=3,IF(AB50=0,IF(Scoresheet!AC49=20,30,Scoresheet!AC49),Scoresheet!AC49),IF(AC56>3,\".\",Scoresheet!AC49)))","v":20},{"$f":"IF(AC50>2,\".\",IF(AC56=3,IF(AC50=0,IF(Scoresheet!AD49=20,30,Scoresheet!AD49),Scoresheet!AD49),IF(AD56>3,\".\",Scoresheet!AD49)))","v":"?"},{"$f":"IF(AD50>2,\".\",IF(AD56=3,IF(AD50=0,IF(Scoresheet!AE49=20,30,Scoresheet!AE49),Scoresheet!AE49),IF(AE56>3,\".\",Scoresheet!AE49)))","v":"?"},{"$f":"IF(AE50>2,\".\",IF(AE56=3,IF(AE50=0,IF(Scoresheet!AF49=20,30,Scoresheet!AF49),Scoresheet!AF49),IF(AF56>3,\".\",Scoresheet!AF49)))","v":"?"},{"$f":"IF(AF50>2,\".\",IF(AF56=3,IF(AF50=0,IF(Scoresheet!AG49=20,30,Scoresheet!AG49),Scoresheet!AG49),IF(AG56>3,\".\",Scoresheet!AG49)))","v":"?"},{"$f":"IF(AG50>2,\".\",IF(AG56=3,IF(AG50=0,IF(Scoresheet!AH49=20,30,Scoresheet!AH49),Scoresheet!AH49),IF(AH56>3,\".\",Scoresheet!AH49)))","v":"?"},{"$f":"IF(AH50>2,\".\",IF(AH56=3,IF(AH50=0,IF(Scoresheet!AI49=20,30,Scoresheet!AI49),Scoresheet!AI49),IF(AI56>3,\".\",Scoresheet!AI49)))","v":"?"},{"$f":"IF(AI50>2,\".\",IF(AI56=3,IF(AI50=0,IF(Scoresheet!AJ49=20,30,Scoresheet!AJ49),Scoresheet!AJ49),IF(AJ56>3,\".\",Scoresheet!AJ49)))","v":"?"},{"$f":"IF(AJ50>2,\".\",IF(AJ56=3,IF(AJ50=0,IF(Scoresheet!AK49=20,30,Scoresheet!AK49),Scoresheet!AK49),IF(AK56>3,\".\",Scoresheet!AK49)))","v":"?"},{"$f":"IF(AK50>2,\".\",IF(AK56=3,IF(AK50=0,IF(Scoresheet!AL49=20,30,Scoresheet!AL49),Scoresheet!AL49),IF(AL56>3,\".\",Scoresheet!AL49)))","v":"?"},{"$f":"IF(AL50>2,\".\",IF(AL56=3,IF(AL50=0,IF(Scoresheet!AM49=20,30,Scoresheet!AM49),Scoresheet!AM49),IF(AM56>3,\".\",Scoresheet!AM49)))","v":"?"},{"$f":"IF(AM50>2,\".\",IF(AM56=3,IF(AM50=0,IF(Scoresheet!AN49=20,30,Scoresheet!AN49),Scoresheet!AN49),IF(AN56>3,\".\",Scoresheet!AN49)))","v":"?"},{"$f":"IF(AN50>2,\".\",IF(AN56=3,IF(AN50=0,IF(Scoresheet!AO49=20,30,Scoresheet!AO49),Scoresheet!AO49),IF(AO56>3,\".\",Scoresheet!AO49)))","v":"?"},{"$f":"IF(AO50>2,\".\",IF(AO56=3,IF(AO50=0,IF(Scoresheet!AP49=20,30,Scoresheet!AP49),Scoresheet!AP49),IF(AP56>3,\".\",Scoresheet!AP49)))","v":"?"},{"$f":"IF(AP50>2,\".\",IF(AP56=3,IF(AP50=0,IF(Scoresheet!AQ49=20,30,Scoresheet!AQ49),Scoresheet!AQ49),IF(AQ56>3,\".\",Scoresheet!AQ49)))","v":"?"},{"$f":"IF(AQ50>2,\".\",IF(AQ56=3,IF(AQ50=0,IF(Scoresheet!AR49=20,30,Scoresheet!AR49),Scoresheet!AR49),IF(AR56>3,\".\",Scoresheet!AR49)))","v":"?"},{"$f":"IF(AR50>2,\".\",IF(AR56=3,IF(AR50=0,IF(Scoresheet!AS49=20,30,Scoresheet!AS49),Scoresheet!AS49),IF(AS56>3,\".\",Scoresheet!AS49)))","v":"?"},{"$f":"IF(AS50>2,\".\",IF(AS56=3,IF(AS50=0,IF(Scoresheet!AT49=20,30,Scoresheet!AT49),Scoresheet!AT49),IF(AT56>3,\".\",Scoresheet!AT49)))","v":"?"},{"$f":"IF(AT50>2,\".\",IF(AT56=3,IF(AT50=0,IF(Scoresheet!AU49=20,30,Scoresheet!AU49),Scoresheet!AU49),IF(AU56>3,\".\",Scoresheet!AU49)))","v":"?"},{"$f":"IF(AU50>2,\".\",IF(AU56=3,IF(AU50=0,IF(Scoresheet!AV49=20,30,Scoresheet!AV49),Scoresheet!AV49),IF(AV56>3,\".\",Scoresheet!AV49)))","v":"?"},{"$f":"IF(AV50>2,\".\",IF(AV56=3,IF(AV50=0,IF(Scoresheet!AW49=20,30,Scoresheet!AW49),Scoresheet!AW49),IF(AW56>3,\".\",Scoresheet!AW49)))","v":"?"},{"$f":"IF(AW50>2,\".\",IF(AW56=3,IF(AW50=0,IF(Scoresheet!AX49=20,30,Scoresheet!AX49),Scoresheet!AX49),IF(AX56>3,\".\",Scoresheet!AX49)))","v":"?"},{"$f":"IF(AX50>2,\".\",IF(AX56=3,IF(AX50=0,IF(Scoresheet!AY49=20,30,Scoresheet!AY49),Scoresheet!AY49),IF(AY56>3,\".\",Scoresheet!AY49)))","v":"?"},{"$f":"IF(AY50>2,\".\",IF(AY56=3,IF(AY50=0,IF(Scoresheet!AZ49=20,30,Scoresheet!AZ49),Scoresheet!AZ49),IF(AZ56>3,\".\",Scoresheet!AZ49)))","v":"?"},{"$f":"IF(AZ50>2,\".\",IF(AZ56=3,IF(AZ50=0,IF(Scoresheet!BA49=20,30,Scoresheet!BA49),Scoresheet!BA49),IF(BA56>3,\".\",Scoresheet!BA49)))","v":"?"},{"$f":"IF(BA50>2,\".\",IF(BA56=3,IF(BA50=0,IF(Scoresheet!BB49=20,30,Scoresheet!BB49),Scoresheet!BB49),IF(BB56>3,\".\",Scoresheet!BB49)))","v":"?"},{"$f":"IF(BB50>2,\".\",IF(BB56=3,IF(BB50=0,IF(Scoresheet!BC49=20,30,Scoresheet!BC49),Scoresheet!BC49),IF(BC56>3,\".\",Scoresheet!BC49)))","v":"?"},{"$f":"IF(BC50>2,\".\",IF(BC56=3,IF(BC50=0,IF(Scoresheet!BD49=20,30,Scoresheet!BD49),Scoresheet!BD49),IF(BD56>3,\".\",Scoresheet!BD49)))","v":"?"},{"$f":"IF(BD50>2,\".\",IF(BD56=3,IF(BD50=0,IF(Scoresheet!BE49=20,30,Scoresheet!BE49),Scoresheet!BE49),IF(BE56>3,\".\",Scoresheet!BE49)))","v":"?"},{"$f":"IF(BE50>2,\".\",IF(BE56=3,IF(BE50=0,IF(Scoresheet!BF49=20,30,Scoresheet!BF49),Scoresheet!BF49),IF(BF56>3,\".\",Scoresheet!BF49)))","v":"?"},{"$f":"IF(BF50>2,\".\",IF(BF56=3,IF(BF50=0,IF(Scoresheet!BG49=20,30,Scoresheet!BG49),Scoresheet!BG49),IF(BG56>3,\".\",Scoresheet!BG49)))","v":"?"}]
[]
[null,null,{"$f":"CONCATENATE(\"# of errors \",C40)","v":"# of errors Quizzer #1"},{"$f":"IF(Scoresheet!D40=\"E\",1,0)","v":0},{"$f":"IF(Scoresheet!E40=\"E\",1+D46,D46)","v":0},{"$f":"IF(Scoresheet!F40=\"E\",1+E46,E46)","v":0},{"$f":"IF(Scoresheet!G40=\"E\",1+F46,F46)","v":0},{"$f":"IF(Scoresheet!H40=\"E\",1+G46,G46)","v":0},{"$f":"IF(Scoresheet!I40=\"E\",1+H46,H46)","v":0},{"$f":"IF(Scoresheet!J40=\"E\",1+I46,I46)","v":0},{"$f":"IF(Scoresheet!K40=\"E\",1+J46,J46)","v":0},{"$f":"IF(Scoresheet!L40=\"E\",1+K46,K46)","v":0},{"$f":"IF(Scoresheet!M40=\"E\",1+L46,L46)","v":0},{"$f":"IF(Scoresheet!N40=\"E\",1+M46,M46)","v":0},{"$f":"IF(Scoresheet!O40=\"E\",1+N46,N46)","v":0},{"$f":"IF(Scoresheet!P40=\"E\",1+O46,O46)","v":0},{"$f":"IF(Scoresheet!Q40=\"E\",1+P46,P46)","v":0},{"$f":"IF(Scoresheet!R40=\"E\",1+Q46,Q46)","v":0},{"$f":"IF(Scoresheet!S40=\"E\",1+R46,R46)","v":0},{"$f":"IF(Scoresheet!T40=\"E\",1+S46,S46)","v":0},{"$f":"IF(Scoresheet!U40=\"E\",1+T46,T46)","v":0},{"$f":"IF(Scoresheet!V40=\"E\",1+U46,U46)","v":0},{"$f":"IF(Scoresheet!W40=\"E\",1+V46,V46)","v":0},{"$f":"IF(Scoresheet!X40=\"E\",1+W46,W46)","v":0},{"$f":"IF(Scoresheet!Y40=\"E\",1+X46,X46)","v":0},{"$f":"IF(Scoresheet!Z40=\"E\",1+Y46,Y46)","v":0},{"$f":"IF(Scoresheet!AA40=\"E\",1+Z46,Z46)","v":0},{"$f":"IF(Scoresheet!AB40=\"E\",1+AA46,AA46)","v":0},{"$f":"IF(Scoresheet!AC40=\"E\",1+AB46,AB46)","v":0},{"$f":"IF(Scoresheet!AD40=\"E\",1+AC46,AC46)","v":0},{"$f":"IF(Scoresheet!AE40=\"E\",1+AD46,AD46)","v":0},{"$f":"IF(Scoresheet!AF40=\"E\",1+AE46,AE46)","v":0},{"$f":"IF(Scoresheet!AG40=\"E\",1+AF46,AF46)","v":0},{"$f":"IF(Scoresheet!AH40=\"E\",1+AG46,AG46)","v":0},{"$f":"IF(Scoresheet!AI40=\"E\",1+AH46,AH46)","v":0},{"$f":"IF(Scoresheet!AJ40=\"E\",1+AI46,AI46)","v":0},{"$f":"IF(Scoresheet!AK40=\"E\",1+AJ46,AJ46)","v":0},{"$f":"IF(Scoresheet!AL40=\"E\",1+AK46,AK46)","v":0},{"$f":"IF(Scoresheet!AM40=\"E\",1+AL46,AL46)","v":0},{"$f":"IF(Scoresheet!AN40=\"E\",1+AM46,AM46)","v":0},{"$f":"IF(Scoresheet!AO40=\"E\",1+AN46,AN46)","v":0},{"$f":"IF(Scoresheet!AP40=\"E\",1+AO46,AO46)","v":0},{"$f":"IF(Scoresheet!AQ40=\"E\",1+AP46,AP46)","v":0},{"$f":"IF(Scoresheet!AR40=\"E\",1+AQ46,AQ46)","v":0},{"$f":"IF(Scoresheet!AS40=\"E\",1+AR46,AR46)","v":0},{"$f":"IF(Scoresheet!AT40=\"E\",1+AS46,AS46)","v":0},{"$f":"IF(Scoresheet!AU40=\"E\",1+AT46,AT46)","v":0},{"$f":"IF(Scoresheet!AV40=\"E\",1+AU46,AU46)","v":0},{"$f":"IF(Scoresheet!AW40=\"E\",1+AV46,AV46)","v":0},{"$f":"IF(Scoresheet!AX40=\"E\",1+AW46,AW46)","v":0},{"$f":"IF(Scoresheet!AY40=\"E\",1+AX46,AX46)","v":0},{"$f":"IF(Scoresheet!AZ40=\"E\",1+AY46,AY46)","v":0},{"$f":"IF(Scoresheet!BA40=\"E\",1+AZ46,AZ46)","v":0},{"$f":"IF(Scoresheet!BB40=\"E\",1+BA46,BA46)","v":0},{"$f":"IF(Scoresheet!BC40=\"E\",1+BB46,BB46)","v":0},{"$f":"IF(Scoresheet!BD40=\"E\",1+BC46,BC46)","v":0},{"$f":"IF(Scoresheet!BE40=\"E\",1+BD46,BD46)","v":0},{"$f":"IF(Scoresheet!BF40=\"E\",1+BE46,BE46)","v":0},{"$f":"IF(Scoresheet!BG40=\"E\",1+BF46,BF46)","v":0}]
[null,null,{"$f":"CONCATENATE(\"# of errors \",C41)","v":"# of errors Quizzer #2"},{"$f":"IF(Scoresheet!D41=\"E\",1,0)","v":0},{"$f":"IF(Scoresheet!E41=\"E\",1+D47,D47)","v":0},{"$f":"IF(Scoresheet!F41=\"E\",1+E47,E47)","v":0},{"$f":"IF(Scoresheet!G41=\"E\",1+F47,F47)","v":0},{"$f":"IF(Scoresheet!H41=\"E\",1+G47,G47)","v":0},{"$f":"IF(Scoresheet!I41=\"E\",1+H47,H47)","v":0},{"$f":"IF(Scoresheet!J41=\"E\",1+I47,I47)","v":0},{"$f":"IF(Scoresheet!K41=\"E\",1+J47,J47)","v":0},{"$f":"IF(Scoresheet!L41=\"E\",1+K47,K47)","v":0},{"$f":"IF(Scoresheet!M41=\"E\",1+L47,L47)","v":0},{"$f":"IF(Scoresheet!N41=\"E\",1+M47,M47)","v":0},{"$f":"IF(Scoresheet!O41=\"E\",1+N47,N47)","v":0},{"$f":"IF(Scoresheet!P41=\"E\",1+O47,O47)","v":0},{"$f":"IF(Scoresheet!Q41=\"E\",1+P47,P47)","v":0},{"$f":"IF(Scoresheet!R41=\"E\",1+Q47,Q47)","v":0},{"$f":"IF(Scoresheet!S41=\"E\",1+R47,R47)","v":0},{"$f":"IF(Scoresheet!T41=\"E\",1+S47,S47)","v":0},{"$f":"IF(Scoresheet!U41=\"E\",1+T47,T47)","v":0},{"$f":"IF(Scoresheet!V41=\"E\",1+U47,U47)","v":0},{"$f":"IF(Scoresheet!W41=\"E\",1+V47,V47)","v":0},{"$f":"IF(Scoresheet!X41=\"E\",1+W47,W47)","v":0},{"$f":"IF(Scoresheet!Y41=\"E\",1+X47,X47)","v":0},{"$f":"IF(Scoresheet!Z41=\"E\",1+Y47,Y47)","v":0},{"$f":"IF(Scoresheet!AA41=\"E\",1+Z47,Z47)","v":0},{"$f":"IF(Scoresheet!AB41=\"E\",1+AA47,AA47)","v":0},{"$f":"IF(Scoresheet!AC41=\"E\",1+AB47,AB47)","v":0},{"$f":"IF(Scoresheet!AD41=\"E\",1+AC47,AC47)","v":0},{"$f":"IF(Scoresheet!AE41=\"E\",1+AD47,AD47)","v":0},{"$f":"IF(Scoresheet!AF41=\"E\",1+AE47,AE47)","v":0},{"$f":"IF(Scoresheet!AG41=\"E\",1+AF47,AF47)","v":0},{"$f":"IF(Scoresheet!AH41=\"E\",1+AG47,AG47)","v":0},{"$f":"IF(Scoresheet!AI41=\"E\",1+AH47,AH47)","v":0},{"$f":"IF(Scoresheet!AJ41=\"E\",1+AI47,AI47)","v":0},{"$f":"IF(Scoresheet!AK41=\"E\",1+AJ47,AJ47)","v":0},{"$f":"IF(Scoresheet!AL41=\"E\",1+AK47,AK47)","v":0},{"$f":"IF(Scoresheet!AM41=\"E\",1+AL47,AL47)","v":0},{"$f":"IF(Scoresheet!AN41=\"E\",1+AM47,AM47)","v":0},{"$f":"IF(Scoresheet!AO41=\"E\",1+AN47,AN47)","v":0},{"$f":"IF(Scoresheet!AP41=\"E\",1+AO47,AO47)","v":0},{"$f":"IF(Scoresheet!AQ41=\"E\",1+AP47,AP47)","v":0},{"$f":"IF(Scoresheet!AR41=\"E\",1+AQ47,AQ47)","v":0},{"$f":"IF(Scoresheet!AS41=\"E\",1+AR47,AR47)","v":0},{"$f":"IF(Scoresheet!AT41=\"E\",1+AS47,AS47)","v":0},{"$f":"IF(Scoresheet!AU41=\"E\",1+AT47,AT47)","v":0},{"$f":"IF(Scoresheet!AV41=\"E\",1+AU47,AU47)","v":0},{"$f":"IF(Scoresheet!AW41=\"E\",1+AV47,AV47)","v":0},{"$f":"IF(Scoresheet!AX41=\"E\",1+AW47,AW47)","v":0},{"$f":"IF(Scoresheet!AY41=\"E\",1+AX47,AX47)","v":0},{"$f":"IF(Scoresheet!AZ41=\"E\",1+AY47,AY47)","v":0},{"$f":"IF(Scoresheet!BA41=\"E\",1+AZ47,AZ47)","v":0},{"$f":"IF(Scoresheet!BB41=\"E\",1+BA47,BA47)","v":0},{"$f":"IF(Scoresheet!BC41=\"E\",1+BB47,BB47)","v":0},{"$f":"IF(Scoresheet!BD41=\"E\",1+BC47,BC47)","v":0},{"$f":"IF(Scoresheet!BE41=\"E\",1+BD47,BD47)","v":0},{"$f":"IF(Scoresheet!BF41=\"E\",1+BE47,BE47)","v":0},{"$f":"IF(Scoresheet!BG41=\"E\",1+BF47,BF47)","v":0}]
[null,null,"# of errors Quizzer #3",{"$f":"IF(Scoresheet!D42=\"E\",1,0)","v":0},{"$f":"IF(Scoresheet!E42=\"E\",1+D48,D48)","v":0},{"$f":"IF(Scoresheet!F42=\"E\",1+E48,E48)","v":0},{"$f":"IF(Scoresheet!G42=\"E\",1+F48,F48)","v":0},{"$f":"IF(Scoresheet!H42=\"E\",1+G48,G48)","v":0},{"$f":"IF(Scoresheet!I42=\"E\",1+H48,H48)","v":0},{"$f":"IF(Scoresheet!J42=\"E\",1+I48,I48)","v":0},{"$f":"IF(Scoresheet!K42=\"E\",1+J48,J48)","v":0},{"$f":"IF(Scoresheet!L42=\"E\",1+K48,K48)","v":0},{"$f":"IF(Scoresheet!M42=\"E\",1+L48,L48)","v":0},{"$f":"IF(Scoresheet!N42=\"E\",1+M48,M48)","v":0},{"$f":"IF(Scoresheet!O42=\"E\",1+N48,N48)","v":0},{"$f":"IF(Scoresheet!P42=\"E\",1+O48,O48)","v":0},{"$f":"IF(Scoresheet!Q42=\"E\",1+P48,P48)","v":0},{"$f":"IF(Scoresheet!R42=\"E\",1+Q48,Q48)","v":0},{"$f":"IF(Scoresheet!S42=\"E\",1+R48,R48)","v":0},{"$f":"IF(Scoresheet!T42=\"E\",1+S48,S48)","v":0},{"$f":"IF(Scoresheet!U42=\"E\",1+T48,T48)","v":0},{"$f":"IF(Scoresheet!V42=\"E\",1+U48,U48)","v":0},{"$f":"IF(Scoresheet!W42=\"E\",1+V48,V48)","v":0},{"$f":"IF(Scoresheet!X42=\"E\",1+W48,W48)","v":0},{"$f":"IF(Scoresheet!Y42=\"E\",1+X48,X48)","v":0},{"$f":"IF(Scoresheet!Z42=\"E\",1+Y48,Y48)","v":0},{"$f":"IF(Scoresheet!AA42=\"E\",1+Z48,Z48)","v":0},{"$f":"IF(Scoresheet!AB42=\"E\",1+AA48,AA48)","v":0},{"$f":"IF(Scoresheet!AC42=\"E\",1+AB48,AB48)","v":0},{"$f":"IF(Scoresheet!AD42=\"E\",1+AC48,AC48)","v":0},{"$f":"IF(Scoresheet!AE42=\"E\",1+AD48,AD48)","v":0},{"$f":"IF(Scoresheet!AF42=\"E\",1+AE48,AE48)","v":0},{"$f":"IF(Scoresheet!AG42=\"E\",1+AF48,AF48)","v":0},{"$f":"IF(Scoresheet!AH42=\"E\",1+AG48,AG48)","v":0},{"$f":"IF(Scoresheet!AI42=\"E\",1+AH48,AH48)","v":0},{"$f":"IF(Scoresheet!AJ42=\"E\",1+AI48,AI48)","v":0},{"$f":"IF(Scoresheet!AK42=\"E\",1+AJ48,AJ48)","v":0},{"$f":"IF(Scoresheet!AL42=\"E\",1+AK48,AK48)","v":0},{"$f":"IF(Scoresheet!AM42=\"E\",1+AL48,AL48)","v":0},{"$f":"IF(Scoresheet!AN42=\"E\",1+AM48,AM48)","v":0},{"$f":"IF(Scoresheet!AO42=\"E\",1+AN48,AN48)","v":0},{"$f":"IF(Scoresheet!AP42=\"E\",1+AO48,AO48)","v":0},{"$f":"IF(Scoresheet!AQ42=\"E\",1+AP48,AP48)","v":0},{"$f":"IF(Scoresheet!AR42=\"E\",1+AQ48,AQ48)","v":0},{"$f":"IF(Scoresheet!AS42=\"E\",1+AR48,AR48)","v":0},{"$f":"IF(Scoresheet!AT42=\"E\",1+AS48,AS48)","v":0},{"$f":"IF(Scoresheet!AU42=\"E\",1+AT48,AT48)","v":0},{"$f":"IF(Scoresheet!AV42=\"E\",1+AU48,AU48)","v":0},{"$f":"IF(Scoresheet!AW42=\"E\",1+AV48,AV48)","v":0},{"$f":"IF(Scoresheet!AX42=\"E\",1+AW48,AW48)","v":0},{"$f":"IF(Scoresheet!AY42=\"E\",1+AX48,AX48)","v":0},{"$f":"IF(Scoresheet!AZ42=\"E\",1+AY48,AY48)","v":0},{"$f":"IF(Scoresheet!BA42=\"E\",1+AZ48,AZ48)","v":0},{"$f":"IF(Scoresheet!BB42=\"E\",1+BA48,BA48)","v":0},{"$f":"IF(Scoresheet!BC42=\"E\",1+BB48,BB48)","v":0},{"$f":"IF(Scoresheet!BD42=\"E\",1+BC48,BC48)","v":0},{"$f":"IF(Scoresheet!BE42=\"E\",1+BD48,BD48)","v":0},{"$f":"IF(Scoresheet!BF42=\"E\",1+BE48,BE48)","v":0},{"$f":"IF(Scoresheet!BG42=\"E\",1+BF48,BF48)","v":0}]
[null,null,"# of errors Quizzer #4",{"$f":"IF(Scoresheet!D43=\"E\",1,0)","v":0},{"$f":"IF(Scoresheet!E43=\"E\",1+D49,D49)","v":0},{"$f":"IF(Scoresheet!F43=\"E\",1+E49,E49)","v":0},{"$f":"IF(Scoresheet!G43=\"E\",1+F49,F49)","v":0},{"$f":"IF(Scoresheet!H43=\"E\",1+G49,G49)","v":0},{"$f":"IF(Scoresheet!I43=\"E\",1+H49,H49)","v":0},{"$f":"IF(Scoresheet!J43=\"E\",1+I49,I49)","v":0},{"$f":"IF(Scoresheet!K43=\"E\",1+J49,J49)","v":0},{"$f":"IF(Scoresheet!L43=\"E\",1+K49,K49)","v":0},{"$f":"IF(Scoresheet!M43=\"E\",1+L49,L49)","v":0},{"$f":"IF(Scoresheet!N43=\"E\",1+M49,M49)","v":0},{"$f":"IF(Scoresheet!O43=\"E\",1+N49,N49)","v":0},{"$f":"IF(Scoresheet!P43=\"E\",1+O49,O49)","v":0},{"$f":"IF(Scoresheet!Q43=\"E\",1+P49,P49)","v":0},{"$f":"IF(Scoresheet!R43=\"E\",1+Q49,Q49)","v":0},{"$f":"IF(Scoresheet!S43=\"E\",1+R49,R49)","v":0},{"$f":"IF(Scoresheet!T43=\"E\",1+S49,S49)","v":0},{"$f":"IF(Scoresheet!U43=\"E\",1+T49,T49)","v":0},{"$f":"IF(Scoresheet!V43=\"E\",1+U49,U49)","v":0},{"$f":"IF(Scoresheet!W43=\"E\",1+V49,V49)","v":0},{"$f":"IF(Scoresheet!X43=\"E\",1+W49,W49)","v":0},{"$f":"IF(Scoresheet!Y43=\"E\",1+X49,X49)","v":0},{"$f":"IF(Scoresheet!Z43=\"E\",1+Y49,Y49)","v":0},{"$f":"IF(Scoresheet!AA43=\"E\",1+Z49,Z49)","v":0},{"$f":"IF(Scoresheet!AB43=\"E\",1+AA49,AA49)","v":0},{"$f":"IF(Scoresheet!AC43=\"E\",1+AB49,AB49)","v":0},{"$f":"IF(Scoresheet!AD43=\"E\",1+AC49,AC49)","v":0},{"$f":"IF(Scoresheet!AE43=\"E\",1+AD49,AD49)","v":0},{"$f":"IF(Scoresheet!AF43=\"E\",1+AE49,AE49)","v":0},{"$f":"IF(Scoresheet!AG43=\"E\",1+AF49,AF49)","v":0},{"$f":"IF(Scoresheet!AH43=\"E\",1+AG49,AG49)","v":0},{"$f":"IF(Scoresheet!AI43=\"E\",1+AH49,AH49)","v":0},{"$f":"IF(Scoresheet!AJ43=\"E\",1+AI49,AI49)","v":0},{"$f":"IF(Scoresheet!AK43=\"E\",1+AJ49,AJ49)","v":0},{"$f":"IF(Scoresheet!AL43=\"E\",1+AK49,AK49)","v":0},{"$f":"IF(Scoresheet!AM43=\"E\",1+AL49,AL49)","v":0},{"$f":"IF(Scoresheet!AN43=\"E\",1+AM49,AM49)","v":0},{"$f":"IF(Scoresheet!AO43=\"E\",1+AN49,AN49)","v":0},{"$f":"IF(Scoresheet!AP43=\"E\",1+AO49,AO49)","v":0},{"$f":"IF(Scoresheet!AQ43=\"E\",1+AP49,AP49)","v":0},{"$f":"IF(Scoresheet!AR43=\"E\",1+AQ49,AQ49)","v":0},{"$f":"IF(Scoresheet!AS43=\"E\",1+AR49,AR49)","v":0},{"$f":"IF(Scoresheet!AT43=\"E\",1+AS49,AS49)","v":0},{"$f":"IF(Scoresheet!AU43=\"E\",1+AT49,AT49)","v":0},{"$f":"IF(Scoresheet!AV43=\"E\",1+AU49,AU49)","v":0},{"$f":"IF(Scoresheet!AW43=\"E\",1+AV49,AV49)","v":0},{"$f":"IF(Scoresheet!AX43=\"E\",1+AW49,AW49)","v":0},{"$f":"IF(Scoresheet!AY43=\"E\",1+AX49,AX49)","v":0},{"$f":"IF(Scoresheet!AZ43=\"E\",1+AY49,AY49)","v":0},{"$f":"IF(Scoresheet!BA43=\"E\",1+AZ49,AZ49)","v":0},{"$f":"IF(Scoresheet!BB43=\"E\",1+BA49,BA49)","v":0},{"$f":"IF(Scoresheet!BC43=\"E\",1+BB49,BB49)","v":0},{"$f":"IF(Scoresheet!BD43=\"E\",1+BC49,BC49)","v":0},{"$f":"IF(Scoresheet!BE43=\"E\",1+BD49,BD49)","v":0},{"$f":"IF(Scoresheet!BF43=\"E\",1+BE49,BE49)","v":0},{"$f":"IF(Scoresheet!BG43=\"E\",1+BF49,BF49)","v":0}]
[null,null,"# of errors 0",{"$f":"IF(Scoresheet!D44=\"E\",1,0)","v":0},{"$f":"IF(Scoresheet!E44=\"E\",1+D50,D50)","v":0},{"$f":"IF(Scoresheet!F44=\"E\",1+E50,E50)","v":0},{"$f":"IF(Scoresheet!G44=\"E\",1+F50,F50)","v":0},{"$f":"IF(Scoresheet!H44=\"E\",1+G50,G50)","v":0},{"$f":"IF(Scoresheet!I44=\"E\",1+H50,H50)","v":0},{"$f":"IF(Scoresheet!J44=\"E\",1+I50,I50)","v":0},{"$f":"IF(Scoresheet!K44=\"E\",1+J50,J50)","v":0},{"$f":"IF(Scoresheet!L44=\"E\",1+K50,K50)","v":0},{"$f":"IF(Scoresheet!M44=\"E\",1+L50,L50)","v":0},{"$f":"IF(Scoresheet!N44=\"E\",1+M50,M50)","v":0},{"$f":"IF(Scoresheet!O44=\"E\",1+N50,N50)","v":0},{"$f":"IF(Scoresheet!P44=\"E\",1+O50,O50)","v":0},{"$f":"IF(Scoresheet!Q44=\"E\",1+P50,P50)","v":0},{"$f":"IF(Scoresheet!R44=\"E\",1+Q50,Q50)","v":0},{"$f":"IF(Scoresheet!S44=\"E\",1+R50,R50)","v":0},{"$f":"IF(Scoresheet!T44=\"E\",1+S50,S50)","v":0},{"$f":"IF(Scoresheet!U44=\"E\",1+T50,T50)","v":0},{"$f":"IF(Scoresheet!V44=\"E\",1+U50,U50)","v":0},{"$f":"IF(Scoresheet!W44=\"E\",1+V50,V50)","v":0},{"$f":"IF(Scoresheet!X44=\"E\",1+W50,W50)","v":0},{"$f":"IF(Scoresheet!Y44=\"E\",1+X50,X50)","v":0},{"$f":"IF(Scoresheet!Z44=\"E\",1+Y50,Y50)","v":0},{"$f":"IF(Scoresheet!AA44=\"E\",1+Z50,Z50)","v":0},{"$f":"IF(Scoresheet!AB44=\"E\",1+AA50,AA50)","v":0},{"$f":"IF(Scoresheet!AC44=\"E\",1+AB50,AB50)","v":0},{"$f":"IF(Scoresheet!AD44=\"E\",1+AC50,AC50)","v":0},{"$f":"IF(Scoresheet!AE44=\"E\",1+AD50,AD50)","v":0},{"$f":"IF(Scoresheet!AF44=\"E\",1+AE50,AE50)","v":0},{"$f":"IF(Scoresheet!AG44=\"E\",1+AF50,AF50)","v":0},{"$f":"IF(Scoresheet!AH44=\"E\",1+AG50,AG50)","v":0},{"$f":"IF(Scoresheet!AI44=\"E\",1+AH50,AH50)","v":0},{"$f":"IF(Scoresheet!AJ44=\"E\",1+AI50,AI50)","v":0},{"$f":"IF(Scoresheet!AK44=\"E\",1+AJ50,AJ50)","v":0},{"$f":"IF(Scoresheet!AL44=\"E\",1+AK50,AK50)","v":0},{"$f":"IF(Scoresheet!AM44=\"E\",1+AL50,AL50)","v":0},{"$f":"IF(Scoresheet!AN44=\"E\",1+AM50,AM50)","v":0},{"$f":"IF(Scoresheet!AO44=\"E\",1+AN50,AN50)","v":0},{"$f":"IF(Scoresheet!AP44=\"E\",1+AO50,AO50)","v":0},{"$f":"IF(Scoresheet!AQ44=\"E\",1+AP50,AP50)","v":0},{"$f":"IF(Scoresheet!AR44=\"E\",1+AQ50,AQ50)","v":0},{"$f":"IF(Scoresheet!AS44=\"E\",1+AR50,AR50)","v":0},{"$f":"IF(Scoresheet!AT44=\"E\",1+AS50,AS50)","v":0},{"$f":"IF(Scoresheet!AU44=\"E\",1+AT50,AT50)","v":0},{"$f":"IF(Scoresheet!AV44=\"E\",1+AU50,AU50)","v":0},{"$f":"IF(Scoresheet!AW44=\"E\",1+AV50,AV50)","v":0},{"$f":"IF(Scoresheet!AX44=\"E\",1+AW50,AW50)","v":0},{"$f":"IF(Scoresheet!AY44=\"E\",1+AX50,AX50)","v":0},{"$f":"IF(Scoresheet!AZ44=\"E\",1+AY50,AY50)","v":0},{"$f":"IF(Scoresheet!BA44=\"E\",1+AZ50,AZ50)","v":0},{"$f":"IF(Scoresheet!BB44=\"E\",1+BA50,BA50)","v":0},{"$f":"IF(Scoresheet!BC44=\"E\",1+BB50,BB50)","v":0},{"$f":"IF(Scoresheet!BD44=\"E\",1+BC50,BC50)","v":0},{"$f":"IF(Scoresheet!BE44=\"E\",1+BD50,BD50)","v":0},{"$f":"IF(Scoresheet!BF44=\"E\",1+BE50,BE50)","v":0},{"$f":"IF(Scoresheet!BG44=\"E\",1+BF50,BF50)","v":0}]
[]
[null,null,{"$f":"CONCATENATE(\"# 20's \",Sheet3!C40)","v":"# 20's Quizzer #1"},{"$f":"COUNTIF(Scoresheet!$D40:D40,20)+COUNTIF(Scoresheet!$D40:D40,30)","v":0},{"$f":"COUNTIF(Scoresheet!$D40:E40,20)+COUNTIF(Scoresheet!$D40:E40,30)","v":0},{"$f":"COUNTIF(Scoresheet!$D40:F40,20)+COUNTIF(Scoresheet!$D40:F40,30)","v":0},{"$f":"COUNTIF(Scoresheet!$D40:G40,20)+COUNTIF(Scoresheet!$D40:G40,30)","v":0},{"$f":"COUNTIF(Scoresheet!$D40:H40,20)+COUNTIF(Scoresheet!$D40:H40,30)","v":0},{"$f":"COUNTIF(Scoresheet!$D40:I40,20)+COUNTIF(Scoresheet!$D40:I40,30)","v":0},{"$f":"COUNTIF(Scoresheet!$D40:J40,20)+COUNTIF(Scoresheet!$D40:J40,30)","v":0},{"$f":"COUNTIF(Scoresheet!$D40:K40,20)+COUNTIF(Scoresheet!$D40:K40,30)","v":0},{"$f":"COUNTIF(Scoresheet!$D40:L40,20)+COUNTIF(Scoresheet!$D40:L40,30)","v":0},{"$f":"COUNTIF(Scoresheet!$D40:M40,20)+COUNTIF(Scoresheet!$D40:M40,30)","v":0},{"$f":"COUNTIF(Scoresheet!$D40:N40,20)+COUNTIF(Scoresheet!$D40:N40,30)","v":0},{"$f":"COUNTIF(Scoresheet!$D40:O40,20)+COUNTIF(Scoresheet!$D40:O40,30)","v":0},{"$f":"COUNTIF(Scoresheet!$D40:P40,20)+COUNTIF(Scoresheet!$D40:P40,30)","v":0},{"$f":"COUNTIF(Scoresheet!$D40:Q40,20)+COUNTIF(Scoresheet!$D40:Q40,30)","v":0},{"$f":"COUNTIF(Scoresheet!$D40:R40,20)+COUNTIF(Scoresheet!$D40:R40,30)","v":0},{"$f":"COUNTIF(Scoresheet!$D40:S40,20)+COUNTIF(Scoresheet!$D40:S40,30)","v":0},{"$f":"COUNTIF(Scoresheet!$D40:T40,20)+COUNTIF(Scoresheet!$D40:T40,30)","v":0},{"$f":"COUNTIF(Scoresheet!$D40:U40,20)+COUNTIF(Scoresheet!$D40:U40,30)","v":0},{"$f":"COUNTIF(Scoresheet!$D40:V40,20)+COUNTIF(Scoresheet!$D40:V40,30)","v":0},{"$f":"COUNTIF(Scoresheet!$D40:W40,20)+COUNTIF(Scoresheet!$D40:W40,30)","v":0},{"$f":"COUNTIF(Scoresheet!$D40:X40,20)+COUNTIF(Scoresheet!$D40:X40,30)","v":0},{"$f":"COUNTIF(Scoresheet!$D40:Y40,20)+COUNTIF(Scoresheet!$D40:Y40,30)","v":0},{"$f":"COUNTIF(Scoresheet!$D40:Z40,20)+COUNTIF(Scoresheet!$D40:Z40,30)","v":0},{"$f":"COUNTIF(Scoresheet!$D40:AA40,20)+COUNTIF(Scoresheet!$D40:AA40,30)","v":0},{"$f":"COUNTIF(Scoresheet!$D40:AB40,20)+COUNTIF(Scoresheet!$D40:AB40,30)","v":0},{"$f":"COUNTIF(Scoresheet!$D40:AC40,20)+COUNTIF(Scoresheet!$D40:AC40,30)","v":0},{"$f":"COUNTIF(Scoresheet!$D40:AD40,20)+COUNTIF(Scoresheet!$D40:AD40,30)","v":0},{"$f":"COUNTIF(Scoresheet!$D40:AE40,20)+COUNTIF(Scoresheet!$D40:AE40,30)","v":0},{"$f":"COUNTIF(Scoresheet!$D40:AF40,20)+COUNTIF(Scoresheet!$D40:AF40,30)","v":0},{"$f":"COUNTIF(Scoresheet!$D40:AG40,20)+COUNTIF(Scoresheet!$D40:AG40,30)","v":0},{"$f":"COUNTIF(Scoresheet!$D40:AH40,20)+COUNTIF(Scoresheet!$D40:AH40,30)","v":0},{"$f":"COUNTIF(Scoresheet!$D40:AI40,20)+COUNTIF(Scoresheet!$D40:AI40,30)","v":0},{"$f":"COUNTIF(Scoresheet!$D40:AJ40,20)+COUNTIF(Scoresheet!$D40:AJ40,30)","v":0},{"$f":"COUNTIF(Scoresheet!$D40:AK40,20)+COUNTIF(Scoresheet!$D40:AK40,30)","v":0},{"$f":"COUNTIF(Scoresheet!$D40:AL40,20)+COUNTIF(Scoresheet!$D40:AL40,30)","v":0},{"$f":"COUNTIF(Scoresheet!$D40:AM40,20)+COUNTIF(Scoresheet!$D40:AM40,30)","v":0},{"$f":"COUNTIF(Scoresheet!$D40:AN40,20)+COUNTIF(Scoresheet!$D40:AN40,30)","v":0},{"$f":"COUNTIF(Scoresheet!$D40:AO40,20)+COUNTIF(Scoresheet!$D40:AO40,30)","v":0},{"$f":"COUNTIF(Scoresheet!$D40:AP40,20)+COUNTIF(Scoresheet!$D40:AP40,30)","v":0},{"$f":"COUNTIF(Scoresheet!$D40:AQ40,20)+COUNTIF(Scoresheet!$D40:AQ40,30)","v":0},{"$f":"COUNTIF(Scoresheet!$D40:AR40,20)+COUNTIF(Scoresheet!$D40:AR40,30)","v":0},{"$f":"COUNTIF(Scoresheet!$D40:AS40,20)+COUNTIF(Scoresheet!$D40:AS40,30)","v":0},{"$f":"COUNTIF(Scoresheet!$D40:AT40,20)+COUNTIF(Scoresheet!$D40:AT40,30)","v":0},{"$f":"COUNTIF(Scoresheet!$D40:AU40,20)+COUNTIF(Scoresheet!$D40:AU40,30)","v":0},{"$f":"COUNTIF(Scoresheet!$D40:AV40,20)+COUNTIF(Scoresheet!$D40:AV40,30)","v":0},{"$f":"COUNTIF(Scoresheet!$D40:AW40,20)+COUNTIF(Scoresheet!$D40:AW40,30)","v":0},{"$f":"COUNTIF(Scoresheet!$D40:AX40,20)+COUNTIF(Scoresheet!$D40:AX40,30)","v":0},{"$f":"COUNTIF(Scoresheet!$D40:AY40,20)+COUNTIF(Scoresheet!$D40:AY40,30)","v":0},{"$f":"COUNTIF(Scoresheet!$D40:AZ40,20)+COUNTIF(Scoresheet!$D40:AZ40,30)","v":0},{"$f":"COUNTIF(Scoresheet!$D40:BA40,20)+COUNTIF(Scoresheet!$D40:BA40,30)","v":0},{"$f":"COUNTIF(Scoresheet!$D40:BB40,20)+COUNTIF(Scoresheet!$D40:BB40,30)","v":0},{"$f":"COUNTIF(Scoresheet!$D40:BC40,20)+COUNTIF(Scoresheet!$D40:BC40,30)","v":0},{"$f":"COUNTIF(Scoresheet!$D40:BD40,20)+COUNTIF(Scoresheet!$D40:BD40,30)","v":0},{"$f":"COUNTIF(Scoresheet!$D40:BE40,20)+COUNTIF(Scoresheet!$D40:BE40,30)","v":0},{"$f":"COUNTIF(Scoresheet!$D40:BF40,20)+COUNTIF(Scoresheet!$D40:BF40,30)","v":0},{"$f":"COUNTIF(Scoresheet!$D40:BG40,20)+COUNTIF(Scoresheet!$D40:BG40,30)","v":0}]
[null,null,{"$f":"CONCATENATE(\"# 20's \",Sheet3!C41)","v":"# 20's Quizzer #2"},{"$f":"COUNTIF(Scoresheet!$D41:D41,20)+COUNTIF(Scoresheet!$D41:D41,30)","v":0},{"$f":"COUNTIF(Scoresheet!$D41:E41,20)+COUNTIF(Scoresheet!$D41:E41,30)","v":0},{"$f":"COUNTIF(Scoresheet!$D41:F41,20)+COUNTIF(Scoresheet!$D41:F41,30)","v":0},{"$f":"COUNTIF(Scoresheet!$D41:G41,20)+COUNTIF(Scoresheet!$D41:G41,30)","v":0},{"$f":"COUNTIF(Scoresheet!$D41:H41,20)+COUNTIF(Scoresheet!$D41:H41,30)","v":0},{"$f":"COUNTIF(Scoresheet!$D41:I41,20)+COUNTIF(Scoresheet!$D41:I41,30)","v":0},{"$f":"COUNTIF(Scoresheet!$D41:J41,20)+COUNTIF(Scoresheet!$D41:J41,30)","v":0},{"$f":"COUNTIF(Scoresheet!$D41:K41,20)+COUNTIF(Scoresheet!$D41:K41,30)","v":0},{"$f":"COUNTIF(Scoresheet!$D41:L41,20)+COUNTIF(Scoresheet!$D41:L41,30)","v":0},{"$f":"COUNTIF(Scoresheet!$D41:M41,20)+COUNTIF(Scoresheet!$D41:M41,30)","v":0},{"$f":"COUNTIF(Scoresheet!$D41:N41,20)+COUNTIF(Scoresheet!$D41:N41,30)","v":0},{"$f":"COUNTIF(Scoresheet!$D41:O41,20)+COUNTIF(Scoresheet!$D41:O41,30)","v":0},{"$f":"COUNTIF(Scoresheet!$D41:P41,20)+COUNTIF(Scoresheet!$D41:P41,30)","v":0},{"$f":"COUNTIF(Scoresheet!$D41:Q41,20)+COUNTIF(Scoresheet!$D41:Q41,30)","v":0},{"$f":"COUNTIF(Scoresheet!$D41:R41,20)+COUNTIF(Scoresheet!$D41:R41,30)","v":0},{"$f":"COUNTIF(Scoresheet!$D41:S41,20)+COUNTIF(Scoresheet!$D41:S41,30)","v":0},{"$f":"COUNTIF(Scoresheet!$D41:T41,20)+COUNTIF(Scoresheet!$D41:T41,30)","v":0},{"$f":"COUNTIF(Scoresheet!$D41:U41,20)+COUNTIF(Scoresheet!$D41:U41,30)","v":0},{"$f":"COUNTIF(Scoresheet!$D41:V41,20)+COUNTIF(Scoresheet!$D41:V41,30)","v":0},{"$f":"COUNTIF(Scoresheet!$D41:W41,20)+COUNTIF(Scoresheet!$D41:W41,30)","v":0},{"$f":"COUNTIF(Scoresheet!$D41:X41,20)+COUNTIF(Scoresheet!$D41:X41,30)","v":0},{"$f":"COUNTIF(Scoresheet!$D41:Y41,20)+COUNTIF(Scoresheet!$D41:Y41,30)","v":0},{"$f":"COUNTIF(Scoresheet!$D41:Z41,20)+COUNTIF(Scoresheet!$D41:Z41,30)","v":0},{"$f":"COUNTIF(Scoresheet!$D41:AA41,20)+COUNTIF(Scoresheet!$D41:AA41,30)","v":0},{"$f":"COUNTIF(Scoresheet!$D41:AB41,20)+COUNTIF(Scoresheet!$D41:AB41,30)","v":0},{"$f":"COUNTIF(Scoresheet!$D41:AC41,20)+COUNTIF(Scoresheet!$D41:AC41,30)","v":0},{"$f":"COUNTIF(Scoresheet!$D41:AD41,20)+COUNTIF(Scoresheet!$D41:AD41,30)","v":0},{"$f":"COUNTIF(Scoresheet!$D41:AE41,20)+COUNTIF(Scoresheet!$D41:AE41,30)","v":0},{"$f":"COUNTIF(Scoresheet!$D41:AF41,20)+COUNTIF(Scoresheet!$D41:AF41,30)","v":0},{"$f":"COUNTIF(Scoresheet!$D41:AG41,20)+COUNTIF(Scoresheet!$D41:AG41,30)","v":0},{"$f":"COUNTIF(Scoresheet!$D41:AH41,20)+COUNTIF(Scoresheet!$D41:AH41,30)","v":0},{"$f":"COUNTIF(Scoresheet!$D41:AI41,20)+COUNTIF(Scoresheet!$D41:AI41,30)","v":0},{"$f":"COUNTIF(Scoresheet!$D41:AJ41,20)+COUNTIF(Scoresheet!$D41:AJ41,30)","v":0},{"$f":"COUNTIF(Scoresheet!$D41:AK41,20)+COUNTIF(Scoresheet!$D41:AK41,30)","v":0},{"$f":"COUNTIF(Scoresheet!$D41:AL41,20)+COUNTIF(Scoresheet!$D41:AL41,30)","v":0},{"$f":"COUNTIF(Scoresheet!$D41:AM41,20)+COUNTIF(Scoresheet!$D41:AM41,30)","v":0},{"$f":"COUNTIF(Scoresheet!$D41:AN41,20)+COUNTIF(Scoresheet!$D41:AN41,30)","v":0},{"$f":"COUNTIF(Scoresheet!$D41:AO41,20)+COUNTIF(Scoresheet!$D41:AO41,30)","v":0},{"$f":"COUNTIF(Scoresheet!$D41:AP41,20)+COUNTIF(Scoresheet!$D41:AP41,30)","v":0},{"$f":"COUNTIF(Scoresheet!$D41:AQ41,20)+COUNTIF(Scoresheet!$D41:AQ41,30)","v":0},{"$f":"COUNTIF(Scoresheet!$D41:AR41,20)+COUNTIF(Scoresheet!$D41:AR41,30)","v":0},{"$f":"COUNTIF(Scoresheet!$D41:AS41,20)+COUNTIF(Scoresheet!$D41:AS41,30)","v":0},{"$f":"COUNTIF(Scoresheet!$D41:AT41,20)+COUNTIF(Scoresheet!$D41:AT41,30)","v":0},{"$f":"COUNTIF(Scoresheet!$D41:AU41,20)+COUNTIF(Scoresheet!$D41:AU41,30)","v":0},{"$f":"COUNTIF(Scoresheet!$D41:AV41,20)+COUNTIF(Scoresheet!$D41:AV41,30)","v":0},{"$f":"COUNTIF(Scoresheet!$D41:AW41,20)+COUNTIF(Scoresheet!$D41:AW41,30)","v":0},{"$f":"COUNTIF(Scoresheet!$D41:AX41,20)+COUNTIF(Scoresheet!$D41:AX41,30)","v":0},{"$f":"COUNTIF(Scoresheet!$D41:AY41,20)+COUNTIF(Scoresheet!$D41:AY41,30)","v":0},{"$f":"COUNTIF(Scoresheet!$D41:AZ41,20)+COUNTIF(Scoresheet!$D41:AZ41,30)","v":0},{"$f":"COUNTIF(Scoresheet!$D41:BA41,20)+COUNTIF(Scoresheet!$D41:BA41,30)","v":0},{"$f":"COUNTIF(Scoresheet!$D41:BB41,20)+COUNTIF(Scoresheet!$D41:BB41,30)","v":0},{"$f":"COUNTIF(Scoresheet!$D41:BC41,20)+COUNTIF(Scoresheet!$D41:BC41,30)","v":0},{"$f":"COUNTIF(Scoresheet!$D41:BD41,20)+COUNTIF(Scoresheet!$D41:BD41,30)","v":0},{"$f":"COUNTIF(Scoresheet!$D41:BE41,20)+COUNTIF(Scoresheet!$D41:BE41,30)","v":0},{"$f":"COUNTIF(Scoresheet!$D41:BF41,20)+COUNTIF(Scoresheet!$D41:BF41,30)","v":0},{"$f":"COUNTIF(Scoresheet!$D41:BG41,20)+COUNTIF(Scoresheet!$D41:BG41,30)","v":0}]
[null,null,{"$f":"CONCATENATE(\"# 20's \",Sheet3!C42)","v":"# 20's Quizzer #3"},{"$f":"COUNTIF(Scoresheet!$D42:D42,20)+COUNTIF(Scoresheet!$D42:D42,30)","v":0},{"$f":"COUNTIF(Scoresheet!$D42:E42,20)+COUNTIF(Scoresheet!$D42:E42,30)","v":0},{"$f":"COUNTIF(Scoresheet!$D42:F42,20)+COUNTIF(Scoresheet!$D42:F42,30)","v":0},{"$f":"COUNTIF(Scoresheet!$D42:G42,20)+COUNTIF(Scoresheet!$D42:G42,30)","v":0},{"$f":"COUNTIF(Scoresheet!$D42:H42,20)+COUNTIF(Scoresheet!$D42:H42,30)","v":0},{"$f":"COUNTIF(Scoresheet!$D42:I42,20)+COUNTIF(Scoresheet!$D42:I42,30)","v":0},{"$f":"COUNTIF(Scoresheet!$D42:J42,20)+COUNTIF(Scoresheet!$D42:J42,30)","v":0},{"$f":"COUNTIF(Scoresheet!$D42:K42,20)+COUNTIF(Scoresheet!$D42:K42,30)","v":0},{"$f":"COUNTIF(Scoresheet!$D42:L42,20)+COUNTIF(Scoresheet!$D42:L42,30)","v":0},{"$f":"COUNTIF(Scoresheet!$D42:M42,20)+COUNTIF(Scoresheet!$D42:M42,30)","v":0},{"$f":"COUNTIF(Scoresheet!$D42:N42,20)+COUNTIF(Scoresheet!$D42:N42,30)","v":0},{"$f":"COUNTIF(Scoresheet!$D42:O42,20)+COUNTIF(Scoresheet!$D42:O42,30)","v":0},{"$f":"COUNTIF(Scoresheet!$D42:P42,20)+COUNTIF(Scoresheet!$D42:P42,30)","v":0},{"$f":"COUNTIF(Scoresheet!$D42:Q42,20)+COUNTIF(Scoresheet!$D42:Q42,30)","v":0},{"$f":"COUNTIF(Scoresheet!$D42:R42,20)+COUNTIF(Scoresheet!$D42:R42,30)","v":0},{"$f":"COUNTIF(Scoresheet!$D42:S42,20)+COUNTIF(Scoresheet!$D42:S42,30)","v":0},{"$f":"COUNTIF(Scoresheet!$D42:T42,20)+COUNTIF(Scoresheet!$D42:T42,30)","v":0},{"$f":"COUNTIF(Scoresheet!$D42:U42,20)+COUNTIF(Scoresheet!$D42:U42,30)","v":0},{"$f":"COUNTIF(Scoresheet!$D42:V42,20)+COUNTIF(Scoresheet!$D42:V42,30)","v":0},{"$f":"COUNTIF(Scoresheet!$D42:W42,20)+COUNTIF(Scoresheet!$D42:W42,30)","v":0},{"$f":"COUNTIF(Scoresheet!$D42:X42,20)+COUNTIF(Scoresheet!$D42:X42,30)","v":0},{"$f":"COUNTIF(Scoresheet!$D42:Y42,20)+COUNTIF(Scoresheet!$D42:Y42,30)","v":0},{"$f":"COUNTIF(Scoresheet!$D42:Z42,20)+COUNTIF(Scoresheet!$D42:Z42,30)","v":0},{"$f":"COUNTIF(Scoresheet!$D42:AA42,20)+COUNTIF(Scoresheet!$D42:AA42,30)","v":0},{"$f":"COUNTIF(Scoresheet!$D42:AB42,20)+COUNTIF(Scoresheet!$D42:AB42,30)","v":0},{"$f":"COUNTIF(Scoresheet!$D42:AC42,20)+COUNTIF(Scoresheet!$D42:AC42,30)","v":0},{"$f":"COUNTIF(Scoresheet!$D42:AD42,20)+COUNTIF(Scoresheet!$D42:AD42,30)","v":0},{"$f":"COUNTIF(Scoresheet!$D42:AE42,20)+COUNTIF(Scoresheet!$D42:AE42,30)","v":0},{"$f":"COUNTIF(Scoresheet!$D42:AF42,20)+COUNTIF(Scoresheet!$D42:AF42,30)","v":0},{"$f":"COUNTIF(Scoresheet!$D42:AG42,20)+COUNTIF(Scoresheet!$D42:AG42,30)","v":0},{"$f":"COUNTIF(Scoresheet!$D42:AH42,20)+COUNTIF(Scoresheet!$D42:AH42,30)","v":0},{"$f":"COUNTIF(Scoresheet!$D42:AI42,20)+COUNTIF(Scoresheet!$D42:AI42,30)","v":0},{"$f":"COUNTIF(Scoresheet!$D42:AJ42,20)+COUNTIF(Scoresheet!$D42:AJ42,30)","v":0},{"$f":"COUNTIF(Scoresheet!$D42:AK42,20)+COUNTIF(Scoresheet!$D42:AK42,30)","v":0},{"$f":"COUNTIF(Scoresheet!$D42:AL42,20)+COUNTIF(Scoresheet!$D42:AL42,30)","v":0},{"$f":"COUNTIF(Scoresheet!$D42:AM42,20)+COUNTIF(Scoresheet!$D42:AM42,30)","v":0},{"$f":"COUNTIF(Scoresheet!$D42:AN42,20)+COUNTIF(Scoresheet!$D42:AN42,30)","v":0},{"$f":"COUNTIF(Scoresheet!$D42:AO42,20)+COUNTIF(Scoresheet!$D42:AO42,30)","v":0},{"$f":"COUNTIF(Scoresheet!$D42:AP42,20)+COUNTIF(Scoresheet!$D42:AP42,30)","v":0},{"$f":"COUNTIF(Scoresheet!$D42:AQ42,20)+COUNTIF(Scoresheet!$D42:AQ42,30)","v":0},{"$f":"COUNTIF(Scoresheet!$D42:AR42,20)+COUNTIF(Scoresheet!$D42:AR42,30)","v":0},{"$f":"COUNTIF(Scoresheet!$D42:AS42,20)+COUNTIF(Scoresheet!$D42:AS42,30)","v":0},{"$f":"COUNTIF(Scoresheet!$D42:AT42,20)+COUNTIF(Scoresheet!$D42:AT42,30)","v":0},{"$f":"COUNTIF(Scoresheet!$D42:AU42,20)+COUNTIF(Scoresheet!$D42:AU42,30)","v":0},{"$f":"COUNTIF(Scoresheet!$D42:AV42,20)+COUNTIF(Scoresheet!$D42:AV42,30)","v":0},{"$f":"COUNTIF(Scoresheet!$D42:AW42,20)+COUNTIF(Scoresheet!$D42:AW42,30)","v":0},{"$f":"COUNTIF(Scoresheet!$D42:AX42,20)+COUNTIF(Scoresheet!$D42:AX42,30)","v":0},{"$f":"COUNTIF(Scoresheet!$D42:AY42,20)+COUNTIF(Scoresheet!$D42:AY42,30)","v":0},{"$f":"COUNTIF(Scoresheet!$D42:AZ42,20)+COUNTIF(Scoresheet!$D42:AZ42,30)","v":0},{"$f":"COUNTIF(Scoresheet!$D42:BA42,20)+COUNTIF(Scoresheet!$D42:BA42,30)","v":0},{"$f":"COUNTIF(Scoresheet!$D42:BB42,20)+COUNTIF(Scoresheet!$D42:BB42,30)","v":0},{"$f":"COUNTIF(Scoresheet!$D42:BC42,20)+COUNTIF(Scoresheet!$D42:BC42,30)","v":0},{"$f":"COUNTIF(Scoresheet!$D42:BD42,20)+COUNTIF(Scoresheet!$D42:BD42,30)","v":0},{"$f":"COUNTIF(Scoresheet!$D42:BE42,20)+COUNTIF(Scoresheet!$D42:BE42,30)","v":0},{"$f":"COUNTIF(Scoresheet!$D42:BF42,20)+COUNTIF(Scoresheet!$D42:BF42,30)","v":0},{"$f":"COUNTIF(Scoresheet!$D42:BG42,20)+COUNTIF(Scoresheet!$D42:BG42,30)","v":0}]
[null,null,{"$f":"CONCATENATE(\"# 20's \",Sheet3!C43)","v":"# 20's Quizzer #4"},{"$f":"COUNTIF(Scoresheet!$D43:D43,20)+COUNTIF(Scoresheet!$D43:D43,30)","v":0},{"$f":"COUNTIF(Scoresheet!$D43:E43,20)+COUNTIF(Scoresheet!$D43:E43,30)","v":0},{"$f":"COUNTIF(Scoresheet!$D43:F43,20)+COUNTIF(Scoresheet!$D43:F43,30)","v":0},{"$f":"COUNTIF(Scoresheet!$D43:G43,20)+COUNTIF(Scoresheet!$D43:G43,30)","v":0},{"$f":"COUNTIF(Scoresheet!$D43:H43,20)+COUNTIF(Scoresheet!$D43:H43,30)","v":0},{"$f":"COUNTIF(Scoresheet!$D43:I43,20)+COUNTIF(Scoresheet!$D43:I43,30)","v":0},{"$f":"COUNTIF(Scoresheet!$D43:J43,20)+COUNTIF(Scoresheet!$D43:J43,30)","v":0},{"$f":"COUNTIF(Scoresheet!$D43:K43,20)+COUNTIF(Scoresheet!$D43:K43,30)","v":0},{"$f":"COUNTIF(Scoresheet!$D43:L43,20)+COUNTIF(Scoresheet!$D43:L43,30)","v":0},{"$f":"COUNTIF(Scoresheet!$D43:M43,20)+COUNTIF(Scoresheet!$D43:M43,30)","v":0},{"$f":"COUNTIF(Scoresheet!$D43:N43,20)+COUNTIF(Scoresheet!$D43:N43,30)","v":0},{"$f":"COUNTIF(Scoresheet!$D43:O43,20)+COUNTIF(Scoresheet!$D43:O43,30)","v":0},{"$f":"COUNTIF(Scoresheet!$D43:P43,20)+COUNTIF(Scoresheet!$D43:P43,30)","v":0},{"$f":"COUNTIF(Scoresheet!$D43:Q43,20)+COUNTIF(Scoresheet!$D43:Q43,30)","v":0},{"$f":"COUNTIF(Scoresheet!$D43:R43,20)+COUNTIF(Scoresheet!$D43:R43,30)","v":0},{"$f":"COUNTIF(Scoresheet!$D43:S43,20)+COUNTIF(Scoresheet!$D43:S43,30)","v":0},{"$f":"COUNTIF(Scoresheet!$D43:T43,20)+COUNTIF(Scoresheet!$D43:T43,30)","v":0},{"$f":"COUNTIF(Scoresheet!$D43:U43,20)+COUNTIF(Scoresheet!$D43:U43,30)","v":0},{"$f":"COUNTIF(Scoresheet!$D43:V43,20)+COUNTIF(Scoresheet!$D43:V43,30)","v":0},{"$f":"COUNTIF(Scoresheet!$D43:W43,20)+COUNTIF(Scoresheet!$D43:W43,30)","v":0},{"$f":"COUNTIF(Scoresheet!$D43:X43,20)+COUNTIF(Scoresheet!$D43:X43,30)","v":0},{"$f":"COUNTIF(Scoresheet!$D43:Y43,20)+COUNTIF(Scoresheet!$D43:Y43,30)","v":0},{"$f":"COUNTIF(Scoresheet!$D43:Z43,20)+COUNTIF(Scoresheet!$D43:Z43,30)","v":0},{"$f":"COUNTIF(Scoresheet!$D43:AA43,20)+COUNTIF(Scoresheet!$D43:AA43,30)","v":0},{"$f":"COUNTIF(Scoresheet!$D43:AB43,20)+COUNTIF(Scoresheet!$D43:AB43,30)","v":0},{"$f":"COUNTIF(Scoresheet!$D43:AC43,20)+COUNTIF(Scoresheet!$D43:AC43,30)","v":0},{"$f":"COUNTIF(Scoresheet!$D43:AD43,20)+COUNTIF(Scoresheet!$D43:AD43,30)","v":0},{"$f":"COUNTIF(Scoresheet!$D43:AE43,20)+COUNTIF(Scoresheet!$D43:AE43,30)","v":0},{"$f":"COUNTIF(Scoresheet!$D43:AF43,20)+COUNTIF(Scoresheet!$D43:AF43,30)","v":0},{"$f":"COUNTIF(Scoresheet!$D43:AG43,20)+COUNTIF(Scoresheet!$D43:AG43,30)","v":0},{"$f":"COUNTIF(Scoresheet!$D43:AH43,20)+COUNTIF(Scoresheet!$D43:AH43,30)","v":0},{"$f":"COUNTIF(Scoresheet!$D43:AI43,20)+COUNTIF(Scoresheet!$D43:AI43,30)","v":0},{"$f":"COUNTIF(Scoresheet!$D43:AJ43,20)+COUNTIF(Scoresheet!$D43:AJ43,30)","v":0},{"$f":"COUNTIF(Scoresheet!$D43:AK43,20)+COUNTIF(Scoresheet!$D43:AK43,30)","v":0},{"$f":"COUNTIF(Scoresheet!$D43:AL43,20)+COUNTIF(Scoresheet!$D43:AL43,30)","v":0},{"$f":"COUNTIF(Scoresheet!$D43:AM43,20)+COUNTIF(Scoresheet!$D43:AM43,30)","v":0},{"$f":"COUNTIF(Scoresheet!$D43:AN43,20)+COUNTIF(Scoresheet!$D43:AN43,30)","v":0},{"$f":"COUNTIF(Scoresheet!$D43:AO43,20)+COUNTIF(Scoresheet!$D43:AO43,30)","v":0},{"$f":"COUNTIF(Scoresheet!$D43:AP43,20)+COUNTIF(Scoresheet!$D43:AP43,30)","v":0},{"$f":"COUNTIF(Scoresheet!$D43:AQ43,20)+COUNTIF(Scoresheet!$D43:AQ43,30)","v":0},{"$f":"COUNTIF(Scoresheet!$D43:AR43,20)+COUNTIF(Scoresheet!$D43:AR43,30)","v":0},{"$f":"COUNTIF(Scoresheet!$D43:AS43,20)+COUNTIF(Scoresheet!$D43:AS43,30)","v":0},{"$f":"COUNTIF(Scoresheet!$D43:AT43,20)+COUNTIF(Scoresheet!$D43:AT43,30)","v":0},{"$f":"COUNTIF(Scoresheet!$D43:AU43,20)+COUNTIF(Scoresheet!$D43:AU43,30)","v":0},{"$f":"COUNTIF(Scoresheet!$D43:AV43,20)+COUNTIF(Scoresheet!$D43:AV43,30)","v":0},{"$f":"COUNTIF(Scoresheet!$D43:AW43,20)+COUNTIF(Scoresheet!$D43:AW43,30)","v":0},{"$f":"COUNTIF(Scoresheet!$D43:AX43,20)+COUNTIF(Scoresheet!$D43:AX43,30)","v":0},{"$f":"COUNTIF(Scoresheet!$D43:AY43,20)+COUNTIF(Scoresheet!$D43:AY43,30)","v":0},{"$f":"COUNTIF(Scoresheet!$D43:AZ43,20)+COUNTIF(Scoresheet!$D43:AZ43,30)","v":0},{"$f":"COUNTIF(Scoresheet!$D43:BA43,20)+COUNTIF(Scoresheet!$D43:BA43,30)","v":0},{"$f":"COUNTIF(Scoresheet!$D43:BB43,20)+COUNTIF(Scoresheet!$D43:BB43,30)","v":0},{"$f":"COUNTIF(Scoresheet!$D43:BC43,20)+COUNTIF(Scoresheet!$D43:BC43,30)","v":0},{"$f":"COUNTIF(Scoresheet!$D43:BD43,20)+COUNTIF(Scoresheet!$D43:BD43,30)","v":0},{"$f":"COUNTIF(Scoresheet!$D43:BE43,20)+COUNTIF(Scoresheet!$D43:BE43,30)","v":0},{"$f":"COUNTIF(Scoresheet!$D43:BF43,20)+COUNTIF(Scoresheet!$D43:BF43,30)","v":0},{"$f":"COUNTIF(Scoresheet!$D43:BG43,20)+COUNTIF(Scoresheet!$D43:BG43,30)","v":0}]
[null,null,{"$f":"CONCATENATE(\"# 20's \",Sheet3!C44)","v":"# 20's 0"},{"$f":"COUNTIF(Scoresheet!$D44:D44,20)+COUNTIF(Scoresheet!$D44:D44,30)","v":0},{"$f":"COUNTIF(Scoresheet!$D44:E44,20)+COUNTIF(Scoresheet!$D44:E44,30)","v":0},{"$f":"COUNTIF(Scoresheet!$D44:F44,20)+COUNTIF(Scoresheet!$D44:F44,30)","v":0},{"$f":"COUNTIF(Scoresheet!$D44:G44,20)+COUNTIF(Scoresheet!$D44:G44,30)","v":0},{"$f":"COUNTIF(Scoresheet!$D44:H44,20)+COUNTIF(Scoresheet!$D44:H44,30)","v":0},{"$f":"COUNTIF(Scoresheet!$D44:I44,20)+COUNTIF(Scoresheet!$D44:I44,30)","v":0},{"$f":"COUNTIF(Scoresheet!$D44:J44,20)+COUNTIF(Scoresheet!$D44:J44,30)","v":0},{"$f":"COUNTIF(Scoresheet!$D44:K44,20)+COUNTIF(Scoresheet!$D44:K44,30)","v":0},{"$f":"COUNTIF(Scoresheet!$D44:L44,20)+COUNTIF(Scoresheet!$D44:L44,30)","v":0},{"$f":"COUNTIF(Scoresheet!$D44:M44,20)+COUNTIF(Scoresheet!$D44:M44,30)","v":0},{"$f":"COUNTIF(Scoresheet!$D44:N44,20)+COUNTIF(Scoresheet!$D44:N44,30)","v":0},{"$f":"COUNTIF(Scoresheet!$D44:O44,20)+COUNTIF(Scoresheet!$D44:O44,30)","v":0},{"$f":"COUNTIF(Scoresheet!$D44:P44,20)+COUNTIF(Scoresheet!$D44:P44,30)","v":0},{"$f":"COUNTIF(Scoresheet!$D44:Q44,20)+COUNTIF(Scoresheet!$D44:Q44,30)","v":0},{"$f":"COUNTIF(Scoresheet!$D44:R44,20)+COUNTIF(Scoresheet!$D44:R44,30)","v":0},{"$f":"COUNTIF(Scoresheet!$D44:S44,20)+COUNTIF(Scoresheet!$D44:S44,30)","v":0},{"$f":"COUNTIF(Scoresheet!$D44:T44,20)+COUNTIF(Scoresheet!$D44:T44,30)","v":0},{"$f":"COUNTIF(Scoresheet!$D44:U44,20)+COUNTIF(Scoresheet!$D44:U44,30)","v":0},{"$f":"COUNTIF(Scoresheet!$D44:V44,20)+COUNTIF(Scoresheet!$D44:V44,30)","v":0},{"$f":"COUNTIF(Scoresheet!$D44:W44,20)+COUNTIF(Scoresheet!$D44:W44,30)","v":0},{"$f":"COUNTIF(Scoresheet!$D44:X44,20)+COUNTIF(Scoresheet!$D44:X44,30)","v":0},{"$f":"COUNTIF(Scoresheet!$D44:Y44,20)+COUNTIF(Scoresheet!$D44:Y44,30)","v":0},{"$f":"COUNTIF(Scoresheet!$D44:Z44,20)+COUNTIF(Scoresheet!$D44:Z44,30)","v":0},{"$f":"COUNTIF(Scoresheet!$D44:AA44,20)+COUNTIF(Scoresheet!$D44:AA44,30)","v":0},{"$f":"COUNTIF(Scoresheet!$D44:AB44,20)+COUNTIF(Scoresheet!$D44:AB44,30)","v":0},{"$f":"COUNTIF(Scoresheet!$D44:AC44,20)+COUNTIF(Scoresheet!$D44:AC44,30)","v":0},{"$f":"COUNTIF(Scoresheet!$D44:AD44,20)+COUNTIF(Scoresheet!$D44:AD44,30)","v":0},{"$f":"COUNTIF(Scoresheet!$D44:AE44,20)+COUNTIF(Scoresheet!$D44:AE44,30)","v":0},{"$f":"COUNTIF(Scoresheet!$D44:AF44,20)+COUNTIF(Scoresheet!$D44:AF44,30)","v":0},{"$f":"COUNTIF(Scoresheet!$D44:AG44,20)+COUNTIF(Scoresheet!$D44:AG44,30)","v":0},{"$f":"COUNTIF(Scoresheet!$D44:AH44,20)+COUNTIF(Scoresheet!$D44:AH44,30)","v":0},{"$f":"COUNTIF(Scoresheet!$D44:AI44,20)+COUNTIF(Scoresheet!$D44:AI44,30)","v":0},{"$f":"COUNTIF(Scoresheet!$D44:AJ44,20)+COUNTIF(Scoresheet!$D44:AJ44,30)","v":0},{"$f":"COUNTIF(Scoresheet!$D44:AK44,20)+COUNTIF(Scoresheet!$D44:AK44,30)","v":0},{"$f":"COUNTIF(Scoresheet!$D44:AL44,20)+COUNTIF(Scoresheet!$D44:AL44,30)","v":0},{"$f":"COUNTIF(Scoresheet!$D44:AM44,20)+COUNTIF(Scoresheet!$D44:AM44,30)","v":0},{"$f":"COUNTIF(Scoresheet!$D44:AN44,20)+COUNTIF(Scoresheet!$D44:AN44,30)","v":0},{"$f":"COUNTIF(Scoresheet!$D44:AO44,20)+COUNTIF(Scoresheet!$D44:AO44,30)","v":0},{"$f":"COUNTIF(Scoresheet!$D44:AP44,20)+COUNTIF(Scoresheet!$D44:AP44,30)","v":0},{"$f":"COUNTIF(Scoresheet!$D44:AQ44,20)+COUNTIF(Scoresheet!$D44:AQ44,30)","v":0},{"$f":"COUNTIF(Scoresheet!$D44:AR44,20)+COUNTIF(Scoresheet!$D44:AR44,30)","v":0},{"$f":"COUNTIF(Scoresheet!$D44:AS44,20)+COUNTIF(Scoresheet!$D44:AS44,30)","v":0},{"$f":"COUNTIF(Scoresheet!$D44:AT44,20)+COUNTIF(Scoresheet!$D44:AT44,30)","v":0},{"$f":"COUNTIF(Scoresheet!$D44:AU44,20)+COUNTIF(Scoresheet!$D44:AU44,30)","v":0},{"$f":"COUNTIF(Scoresheet!$D44:AV44,20)+COUNTIF(Scoresheet!$D44:AV44,30)","v":0},{"$f":"COUNTIF(Scoresheet!$D44:AW44,20)+COUNTIF(Scoresheet!$D44:AW44,30)","v":0},{"$f":"COUNTIF(Scoresheet!$D44:AX44,20)+COUNTIF(Scoresheet!$D44:AX44,30)","v":0},{"$f":"COUNTIF(Scoresheet!$D44:AY44,20)+COUNTIF(Scoresheet!$D44:AY44,30)","v":0},{"$f":"COUNTIF(Scoresheet!$D44:AZ44,20)+COUNTIF(Scoresheet!$D44:AZ44,30)","v":0},{"$f":"COUNTIF(Scoresheet!$D44:BA44,20)+COUNTIF(Scoresheet!$D44:BA44,30)","v":0},{"$f":"COUNTIF(Scoresheet!$D44:BB44,20)+COUNTIF(Scoresheet!$D44:BB44,30)","v":0},{"$f":"COUNTIF(Scoresheet!$D44:BC44,20)+COUNTIF(Scoresheet!$D44:BC44,30)","v":0},{"$f":"COUNTIF(Scoresheet!$D44:BD44,20)+COUNTIF(Scoresheet!$D44:BD44,30)","v":0},{"$f":"COUNTIF(Scoresheet!$D44:BE44,20)+COUNTIF(Scoresheet!$D44:BE44,30)","v":0},{"$f":"COUNTIF(Scoresheet!$D44:BF44,20)+COUNTIF(Scoresheet!$D44:BF44,30)","v":0},{"$f":"COUNTIF(Scoresheet!$D44:BG44,20)+COUNTIF(Scoresheet!$D44:BG44,30)","v":0}]
[]
[]
[]
[]
[]
[null,null,{"$f":"Scoresheet!C62","v":"Team Name"}]
[null,null,{"$f":"Scoresheet!C63","v":"Quizzer #1"},20,{"$f":"IF(D69>2,\".\",IF(D75=3,IF(D69=0,IF(Scoresheet!E72=20,30,Scoresheet!E72),Scoresheet!E72),IF(E75>3,\".\",Scoresheet!E72)))","v":20},{"$f":"IF(E69>2,\".\",IF(E75=3,IF(E69=0,IF(Scoresheet!F72=20,30,Scoresheet!F72),Scoresheet!F72),IF(F75>3,\".\",Scoresheet!F72)))","v":20},{"$f":"IF(F69>2,\".\",IF(F75=3,IF(F69=0,IF(Scoresheet!G72=20,30,Scoresheet!G72),Scoresheet!G72),IF(G75>3,\".\",Scoresheet!G72)))","v":20},{"$f":"IF(G69>2,\".\",IF(G75=3,IF(G69=0,IF(Scoresheet!H72=20,30,Scoresheet!H72),Scoresheet!H72),IF(H75>3,\".\",Scoresheet!H72)))","v":20},{"$f":"IF(H69>2,\".\",IF(H75=3,IF(H69=0,IF(Scoresheet!I72=20,30,Scoresheet!I72),Scoresheet!I72),IF(I75>3,\".\",Scoresheet!I72)))","v":20},{"$f":"IF(I69>2,\".\",IF(I75=3,IF(I69=0,IF(Scoresheet!J72=20,30,Scoresheet!J72),Scoresheet!J72),IF(J75>3,\".\",Scoresheet!J72)))","v":20},{"$f":"IF(J69>2,\".\",IF(J75=3,IF(J69=0,IF(Scoresheet!K72=20,30,Scoresheet!K72),Scoresheet!K72),IF(K75>3,\".\",Scoresheet!K72)))","v":20},{"$f":"IF(K69>2,\".\",IF(K75=3,IF(K69=0,IF(Scoresheet!L72=20,30,Scoresheet!L72),Scoresheet!L72),IF(L75>3,\".\",Scoresheet!L72)))","v":20},{"$f":"IF(L69>2,\".\",IF(L75=3,IF(L69=0,IF(Scoresheet!M72=20,30,Scoresheet!M72),Scoresheet!M72),IF(M75>3,\".\",Scoresheet!M72)))","v":20},{"$f":"IF(M69>2,\".\",IF(M75=3,IF(M69=0,IF(Scoresheet!N72=20,30,Scoresheet!N72),Scoresheet!N72),IF(N75>3,\".\",Scoresheet!N72)))","v":20},{"$f":"IF(N69>2,\".\",IF(N75=3,IF(N69=0,IF(Scoresheet!O72=20,30,Scoresheet!O72),Scoresheet!O72),IF(O75>3,\".\",Scoresheet!O72)))","v":20},{"$f":"IF(O69>2,\".\",IF(O75=3,IF(O69=0,IF(Scoresheet!P72=20,30,Scoresheet!P72),Scoresheet!P72),IF(P75>3,\".\",Scoresheet!P72)))","v":20},{"$f":"IF(P69>2,\".\",IF(P75=3,IF(P69=0,IF(Scoresheet!Q72=20,30,Scoresheet!Q72),Scoresheet!Q72),IF(Q75>3,\".\",Scoresheet!Q72)))","v":20},{"$f":"IF(Q69>2,\".\",IF(Q75=3,IF(Q69=0,IF(Scoresheet!R72=20,30,Scoresheet!R72),Scoresheet!R72),IF(R75>3,\".\",Scoresheet!R72)))","v":20},{"$f":"IF(R69>2,\".\",IF(R75=3,IF(R69=0,IF(Scoresheet!S72=20,30,Scoresheet!S72),Scoresheet!S72),IF(S75>3,\".\",Scoresheet!S72)))","v":20},{"$f":"IF(S69>2,\".\",IF(S75=3,IF(S69=0,IF(Scoresheet!T72=20,30,Scoresheet!T72),Scoresheet!T72),IF(T75>3,\".\",Scoresheet!T72)))","v":20},{"$f":"IF(T69>2,\".\",IF(T75=3,IF(T69=0,IF(Scoresheet!U72=20,30,Scoresheet!U72),Scoresheet!U72),IF(U75>3,\".\",Scoresheet!U72)))","v":20},{"$f":"IF(U69>2,\".\",IF(U75=3,IF(U69=0,IF(Scoresheet!V72=20,30,Scoresheet!V72),Scoresheet!V72),IF(V75>3,\".\",Scoresheet!V72)))","v":10},{"$f":"IF(V69>2,\".\",IF(V75=3,IF(V69=0,IF(Scoresheet!W72=20,30,Scoresheet!W72),Scoresheet!W72),IF(W75>3,\".\",Scoresheet!W72)))","v":20},{"$f":"IF(W69>2,\".\",IF(W75=3,IF(W69=0,IF(Scoresheet!X72=20,30,Scoresheet!X72),Scoresheet!X72),IF(X75>3,\".\",Scoresheet!X72)))","v":20},{"$f":"IF(X69>2,\".\",IF(X75=3,IF(X69=0,IF(Scoresheet!Y72=20,30,Scoresheet!Y72),Scoresheet!Y72),IF(Y75>3,\".\",Scoresheet!Y72)))","v":10},{"$f":"IF(Y69>2,\".\",IF(Y75=3,IF(Y69=0,IF(Scoresheet!Z72=20,30,Scoresheet!Z72),Scoresheet!Z72),IF(Z75>3,\".\",Scoresheet!Z72)))","v":20},{"$f":"IF(Z69>2,\".\",IF(Z75=3,IF(Z69=0,IF(Scoresheet!AA72=20,30,Scoresheet!AA72),Scoresheet!AA72),IF(AA75>3,\".\",Scoresheet!AA72)))","v":20},{"$f":"IF(AA69>2,\".\",IF(AA75=3,IF(AA69=0,IF(Scoresheet!AB72=20,30,Scoresheet!AB72),Scoresheet!AB72),IF(AB75>3,\".\",Scoresheet!AB72)))","v":10},{"$f":"IF(AB69>2,\".\",IF(AB75=3,IF(AB69=0,IF(Scoresheet!AC72=20,30,Scoresheet!AC72),Scoresheet!AC72),IF(AC75>3,\".\",Scoresheet!AC72)))","v":20},{"$f":"IF(AC69>2,\".\",IF(AC75=3,IF(AC69=0,IF(Scoresheet!AD72=20,30,Scoresheet!AD72),Scoresheet!AD72),IF(AD75>3,\".\",Scoresheet!AD72)))","v":"?"},{"$f":"IF(AD69>2,\".\",IF(AD75=3,IF(AD69=0,IF(Scoresheet!AE72=20,30,Scoresheet!AE72),Scoresheet!AE72),IF(AE75>3,\".\",Scoresheet!AE72)))","v":"?"},{"$f":"IF(AE69>2,\".\",IF(AE75=3,IF(AE69=0,IF(Scoresheet!AF72=20,30,Scoresheet!AF72),Scoresheet!AF72),IF(AF75>3,\".\",Scoresheet!AF72)))","v":"?"},{"$f":"IF(AF69>2,\".\",IF(AF75=3,IF(AF69=0,IF(Scoresheet!AG72=20,30,Scoresheet!AG72),Scoresheet!AG72),IF(AG75>3,\".\",Scoresheet!AG72)))","v":"?"},{"$f":"IF(AG69>2,\".\",IF(AG75=3,IF(AG69=0,IF(Scoresheet!AH72=20,30,Scoresheet!AH72),Scoresheet!AH72),IF(AH75>3,\".\",Scoresheet!AH72)))","v":"?"},{"$f":"IF(AH69>2,\".\",IF(AH75=3,IF(AH69=0,IF(Scoresheet!AI72=20,30,Scoresheet!AI72),Scoresheet!AI72),IF(AI75>3,\".\",Scoresheet!AI72)))","v":"?"},{"$f":"IF(AI69>2,\".\",IF(AI75=3,IF(AI69=0,IF(Scoresheet!AJ72=20,30,Scoresheet!AJ72),Scoresheet!AJ72),IF(AJ75>3,\".\",Scoresheet!AJ72)))","v":"?"},{"$f":"IF(AJ69>2,\".\",IF(AJ75=3,IF(AJ69=0,IF(Scoresheet!AK72=20,30,Scoresheet!AK72),Scoresheet!AK72),IF(AK75>3,\".\",Scoresheet!AK72)))","v":"?"},{"$f":"IF(AK69>2,\".\",IF(AK75=3,IF(AK69=0,IF(Scoresheet!AL72=20,30,Scoresheet!AL72),Scoresheet!AL72),IF(AL75>3,\".\",Scoresheet!AL72)))","v":"?"},{"$f":"IF(AL69>2,\".\",IF(AL75=3,IF(AL69=0,IF(Scoresheet!AM72=20,30,Scoresheet!AM72),Scoresheet!AM72),IF(AM75>3,\".\",Scoresheet!AM72)))","v":"?"},{"$f":"IF(AM69>2,\".\",IF(AM75=3,IF(AM69=0,IF(Scoresheet!AN72=20,30,Scoresheet!AN72),Scoresheet!AN72),IF(AN75>3,\".\",Scoresheet!AN72)))","v":"?"},{"$f":"IF(AN69>2,\".\",IF(AN75=3,IF(AN69=0,IF(Scoresheet!AO72=20,30,Scoresheet!AO72),Scoresheet!AO72),IF(AO75>3,\".\",Scoresheet!AO72)))","v":"?"},{"$f":"IF(AO69>2,\".\",IF(AO75=3,IF(AO69=0,IF(Scoresheet!AP72=20,30,Scoresheet!AP72),Scoresheet!AP72),IF(AP75>3,\".\",Scoresheet!AP72)))","v":"?"},{"$f":"IF(AP69>2,\".\",IF(AP75=3,IF(AP69=0,IF(Scoresheet!AQ72=20,30,Scoresheet!AQ72),Scoresheet!AQ72),IF(AQ75>3,\".\",Scoresheet!AQ72)))","v":"?"},{"$f":"IF(AQ69>2,\".\",IF(AQ75=3,IF(AQ69=0,IF(Scoresheet!AR72=20,30,Scoresheet!AR72),Scoresheet!AR72),IF(AR75>3,\".\",Scoresheet!AR72)))","v":"?"},{"$f":"IF(AR69>2,\".\",IF(AR75=3,IF(AR69=0,IF(Scoresheet!AS72=20,30,Scoresheet!AS72),Scoresheet!AS72),IF(AS75>3,\".\",Scoresheet!AS72)))","v":"?"},{"$f":"IF(AS69>2,\".\",IF(AS75=3,IF(AS69=0,IF(Scoresheet!AT72=20,30,Scoresheet!AT72),Scoresheet!AT72),IF(AT75>3,\".\",Scoresheet!AT72)))","v":"?"},{"$f":"IF(AT69>2,\".\",IF(AT75=3,IF(AT69=0,IF(Scoresheet!AU72=20,30,Scoresheet!AU72),Scoresheet!AU72),IF(AU75>3,\".\",Scoresheet!AU72)))","v":"?"},{"$f":"IF(AU69>2,\".\",IF(AU75=3,IF(AU69=0,IF(Scoresheet!AV72=20,30,Scoresheet!AV72),Scoresheet!AV72),IF(AV75>3,\".\",Scoresheet!AV72)))","v":"?"},{"$f":"IF(AV69>2,\".\",IF(AV75=3,IF(AV69=0,IF(Scoresheet!AW72=20,30,Scoresheet!AW72),Scoresheet!AW72),IF(AW75>3,\".\",Scoresheet!AW72)))","v":"?"},{"$f":"IF(AW69>2,\".\",IF(AW75=3,IF(AW69=0,IF(Scoresheet!AX72=20,30,Scoresheet!AX72),Scoresheet!AX72),IF(AX75>3,\".\",Scoresheet!AX72)))","v":"?"},{"$f":"IF(AX69>2,\".\",IF(AX75=3,IF(AX69=0,IF(Scoresheet!AY72=20,30,Scoresheet!AY72),Scoresheet!AY72),IF(AY75>3,\".\",Scoresheet!AY72)))","v":"?"},{"$f":"IF(AY69>2,\".\",IF(AY75=3,IF(AY69=0,IF(Scoresheet!AZ72=20,30,Scoresheet!AZ72),Scoresheet!AZ72),IF(AZ75>3,\".\",Scoresheet!AZ72)))","v":"?"},{"$f":"IF(AZ69>2,\".\",IF(AZ75=3,IF(AZ69=0,IF(Scoresheet!BA72=20,30,Scoresheet!BA72),Scoresheet!BA72),IF(BA75>3,\".\",Scoresheet!BA72)))","v":"?"},{"$f":"IF(BA69>2,\".\",IF(BA75=3,IF(BA69=0,IF(Scoresheet!BB72=20,30,Scoresheet!BB72),Scoresheet!BB72),IF(BB75>3,\".\",Scoresheet!BB72)))","v":"?"},{"$f":"IF(BB69>2,\".\",IF(BB75=3,IF(BB69=0,IF(Scoresheet!BC72=20,30,Scoresheet!BC72),Scoresheet!BC72),IF(BC75>3,\".\",Scoresheet!BC72)))","v":"?"},{"$f":"IF(BC69>2,\".\",IF(BC75=3,IF(BC69=0,IF(Scoresheet!BD72=20,30,Scoresheet!BD72),Scoresheet!BD72),IF(BD75>3,\".\",Scoresheet!BD72)))","v":"?"},{"$f":"IF(BD69>2,\".\",IF(BD75=3,IF(BD69=0,IF(Scoresheet!BE72=20,30,Scoresheet!BE72),Scoresheet!BE72),IF(BE75>3,\".\",Scoresheet!BE72)))","v":"?"},{"$f":"IF(BE69>2,\".\",IF(BE75=3,IF(BE69=0,IF(Scoresheet!BF72=20,30,Scoresheet!BF72),Scoresheet!BF72),IF(BF75>3,\".\",Scoresheet!BF72)))","v":"?"},{"$f":"IF(BF69>2,\".\",IF(BF75=3,IF(BF69=0,IF(Scoresheet!BG72=20,30,Scoresheet!BG72),Scoresheet!BG72),IF(BG75>3,\".\",Scoresheet!BG72)))","v":"?"}]
[null,null,{"$f":"Scoresheet!C64","v":"Quizzer #2"},20,{"$f":"IF(D70>2,\".\",IF(D76=3,IF(D70=0,IF(Scoresheet!E72=20,30,Scoresheet!E72),Scoresheet!E72),IF(E76>3,\".\",Scoresheet!E72)))","v":20},{"$f":"IF(E70>2,\".\",IF(E76=3,IF(E70=0,IF(Scoresheet!F72=20,30,Scoresheet!F72),Scoresheet!F72),IF(F76>3,\".\",Scoresheet!F72)))","v":20},{"$f":"IF(F70>2,\".\",IF(F76=3,IF(F70=0,IF(Scoresheet!G72=20,30,Scoresheet!G72),Scoresheet!G72),IF(G76>3,\".\",Scoresheet!G72)))","v":20},{"$f":"IF(G70>2,\".\",IF(G76=3,IF(G70=0,IF(Scoresheet!H72=20,30,Scoresheet!H72),Scoresheet!H72),IF(H76>3,\".\",Scoresheet!H72)))","v":20},{"$f":"IF(H70>2,\".\",IF(H76=3,IF(H70=0,IF(Scoresheet!I72=20,30,Scoresheet!I72),Scoresheet!I72),IF(I76>3,\".\",Scoresheet!I72)))","v":20},{"$f":"IF(I70>2,\".\",IF(I76=3,IF(I70=0,IF(Scoresheet!J72=20,30,Scoresheet!J72),Scoresheet!J72),IF(J76>3,\".\",Scoresheet!J72)))","v":20},{"$f":"IF(J70>2,\".\",IF(J76=3,IF(J70=0,IF(Scoresheet!K72=20,30,Scoresheet!K72),Scoresheet!K72),IF(K76>3,\".\",Scoresheet!K72)))","v":20},{"$f":"IF(K70>2,\".\",IF(K76=3,IF(K70=0,IF(Scoresheet!L72=20,30,Scoresheet!L72),Scoresheet!L72),IF(L76>3,\".\",Scoresheet!L72)))","v":20},{"$f":"IF(L70>2,\".\",IF(L76=3,IF(L70=0,IF(Scoresheet!M72=20,30,Scoresheet!M72),Scoresheet!M72),IF(M76>3,\".\",Scoresheet!M72)))","v":20},{"$f":"IF(M70>2,\".\",IF(M76=3,IF(M70=0,IF(Scoresheet!N72=20,30,Scoresheet!N72),Scoresheet!N72),IF(N76>3,\".\",Scoresheet!N72)))","v":20},{"$f":"IF(N70>2,\".\",IF(N76=3,IF(N70=0,IF(Scoresheet!O72=20,30,Scoresheet!O72),Scoresheet!O72),IF(O76>3,\".\",Scoresheet!O72)))","v":20},{"$f":"IF(O70>2,\".\",IF(O76=3,IF(O70=0,IF(Scoresheet!P72=20,30,Scoresheet!P72),Scoresheet!P72),IF(P76>3,\".\",Scoresheet!P72)))","v":20},{"$f":"IF(P70>2,\".\",IF(P76=3,IF(P70=0,IF(Scoresheet!Q72=20,30,Scoresheet!Q72),Scoresheet!Q72),IF(Q76>3,\".\",Scoresheet!Q72)))","v":20},{"$f":"IF(Q70>2,\".\",IF(Q76=3,IF(Q70=0,IF(Scoresheet!R72=20,30,Scoresheet!R72),Scoresheet!R72),IF(R76>3,\".\",Scoresheet!R72)))","v":20},{"$f":"IF(R70>2,\".\",IF(R76=3,IF(R70=0,IF(Scoresheet!S72=20,30,Scoresheet!S72),Scoresheet!S72),IF(S76>3,\".\",Scoresheet!S72)))","v":20},{"$f":"IF(S70>2,\".\",IF(S76=3,IF(S70=0,IF(Scoresheet!T72=20,30,Scoresheet!T72),Scoresheet!T72),IF(T76>3,\".\",Scoresheet!T72)))","v":20},{"$f":"IF(T70>2,\".\",IF(T76=3,IF(T70=0,IF(Scoresheet!U72=20,30,Scoresheet!U72),Scoresheet!U72),IF(U76>3,\".\",Scoresheet!U72)))","v":20},{"$f":"IF(U70>2,\".\",IF(U76=3,IF(U70=0,IF(Scoresheet!V72=20,30,Scoresheet!V72),Scoresheet!V72),IF(V76>3,\".\",Scoresheet!V72)))","v":10},{"$f":"IF(V70>2,\".\",IF(V76=3,IF(V70=0,IF(Scoresheet!W72=20,30,Scoresheet!W72),Scoresheet!W72),IF(W76>3,\".\",Scoresheet!W72)))","v":20},{"$f":"IF(W70>2,\".\",IF(W76=3,IF(W70=0,IF(Scoresheet!X72=20,30,Scoresheet!X72),Scoresheet!X72),IF(X76>3,\".\",Scoresheet!X72)))","v":20},{"$f":"IF(X70>2,\".\",IF(X76=3,IF(X70=0,IF(Scoresheet!Y72=20,30,Scoresheet!Y72),Scoresheet!Y72),IF(Y76>3,\".\",Scoresheet!Y72)))","v":10},{"$f":"IF(Y70>2,\".\",IF(Y76=3,IF(Y70=0,IF(Scoresheet!Z72=20,30,Scoresheet!Z72),Scoresheet!Z72),IF(Z76>3,\".\",Scoresheet!Z72)))","v":20},{"$f":"IF(Z70>2,\".\",IF(Z76=3,IF(Z70=0,IF(Scoresheet!AA72=20,30,Scoresheet!AA72),Scoresheet!AA72),IF(AA76>3,\".\",Scoresheet!AA72)))","v":20},{"$f":"IF(AA70>2,\".\",IF(AA76=3,IF(AA70=0,IF(Scoresheet!AB72=20,30,Scoresheet!AB72),Scoresheet!AB72),IF(AB76>3,\".\",Scoresheet!AB72)))","v":10},{"$f":"IF(AB70>2,\".\",IF(AB76=3,IF(AB70=0,IF(Scoresheet!AC72=20,30,Scoresheet!AC72),Scoresheet!AC72),IF(AC76>3,\".\",Scoresheet!AC72)))","v":20},{"$f":"IF(AC70>2,\".\",IF(AC76=3,IF(AC70=0,IF(Scoresheet!AD72=20,30,Scoresheet!AD72),Scoresheet!AD72),IF(AD76>3,\".\",Scoresheet!AD72)))","v":"?"},{"$f":"IF(AD70>2,\".\",IF(AD76=3,IF(AD70=0,IF(Scoresheet!AE72=20,30,Scoresheet!AE72),Scoresheet!AE72),IF(AE76>3,\".\",Scoresheet!AE72)))","v":"?"},{"$f":"IF(AE70>2,\".\",IF(AE76=3,IF(AE70=0,IF(Scoresheet!AF72=20,30,Scoresheet!AF72),Scoresheet!AF72),IF(AF76>3,\".\",Scoresheet!AF72)))","v":"?"},{"$f":"IF(AF70>2,\".\",IF(AF76=3,IF(AF70=0,IF(Scoresheet!AG72=20,30,Scoresheet!AG72),Scoresheet!AG72),IF(AG76>3,\".\",Scoresheet!AG72)))","v":"?"},{"$f":"IF(AG70>2,\".\",IF(AG76=3,IF(AG70=0,IF(Scoresheet!AH72=20,30,Scoresheet!AH72),Scoresheet!AH72),IF(AH76>3,\".\",Scoresheet!AH72)))","v":"?"},{"$f":"IF(AH70>2,\".\",IF(AH76=3,IF(AH70=0,IF(Scoresheet!AI72=20,30,Scoresheet!AI72),Scoresheet!AI72),IF(AI76>3,\".\",Scoresheet!AI72)))","v":"?"},{"$f":"IF(AI70>2,\".\",IF(AI76=3,IF(AI70=0,IF(Scoresheet!AJ72=20,30,Scoresheet!AJ72),Scoresheet!AJ72),IF(AJ76>3,\".\",Scoresheet!AJ72)))","v":"?"},{"$f":"IF(AJ70>2,\".\",IF(AJ76=3,IF(AJ70=0,IF(Scoresheet!AK72=20,30,Scoresheet!AK72),Scoresheet!AK72),IF(AK76>3,\".\",Scoresheet!AK72)))","v":"?"},{"$f":"IF(AK70>2,\".\",IF(AK76=3,IF(AK70=0,IF(Scoresheet!AL72=20,30,Scoresheet!AL72),Scoresheet!AL72),IF(AL76>3,\".\",Scoresheet!AL72)))","v":"?"},{"$f":"IF(AL70>2,\".\",IF(AL76=3,IF(AL70=0,IF(Scoresheet!AM72=20,30,Scoresheet!AM72),Scoresheet!AM72),IF(AM76>3,\".\",Scoresheet!AM72)))","v":"?"},{"$f":"IF(AM70>2,\".\",IF(AM76=3,IF(AM70=0,IF(Scoresheet!AN72=20,30,Scoresheet!AN72),Scoresheet!AN72),IF(AN76>3,\".\",Scoresheet!AN72)))","v":"?"},{"$f":"IF(AN70>2,\".\",IF(AN76=3,IF(AN70=0,IF(Scoresheet!AO72=20,30,Scoresheet!AO72),Scoresheet!AO72),IF(AO76>3,\".\",Scoresheet!AO72)))","v":"?"},{"$f":"IF(AO70>2,\".\",IF(AO76=3,IF(AO70=0,IF(Scoresheet!AP72=20,30,Scoresheet!AP72),Scoresheet!AP72),IF(AP76>3,\".\",Scoresheet!AP72)))","v":"?"},{"$f":"IF(AP70>2,\".\",IF(AP76=3,IF(AP70=0,IF(Scoresheet!AQ72=20,30,Scoresheet!AQ72),Scoresheet!AQ72),IF(AQ76>3,\".\",Scoresheet!AQ72)))","v":"?"},{"$f":"IF(AQ70>2,\".\",IF(AQ76=3,IF(AQ70=0,IF(Scoresheet!AR72=20,30,Scoresheet!AR72),Scoresheet!AR72),IF(AR76>3,\".\",Scoresheet!AR72)))","v":"?"},{"$f":"IF(AR70>2,\".\",IF(AR76=3,IF(AR70=0,IF(Scoresheet!AS72=20,30,Scoresheet!AS72),Scoresheet!AS72),IF(AS76>3,\".\",Scoresheet!AS72)))","v":"?"},{"$f":"IF(AS70>2,\".\",IF(AS76=3,IF(AS70=0,IF(Scoresheet!AT72=20,30,Scoresheet!AT72),Scoresheet!AT72),IF(AT76>3,\".\",Scoresheet!AT72)))","v":"?"},{"$f":"IF(AT70>2,\".\",IF(AT76=3,IF(AT70=0,IF(Scoresheet!AU72=20,30,Scoresheet!AU72),Scoresheet!AU72),IF(AU76>3,\".\",Scoresheet!AU72)))","v":"?"},{"$f":"IF(AU70>2,\".\",IF(AU76=3,IF(AU70=0,IF(Scoresheet!AV72=20,30,Scoresheet!AV72),Scoresheet!AV72),IF(AV76>3,\".\",Scoresheet!AV72)))","v":"?"},{"$f":"IF(AV70>2,\".\",IF(AV76=3,IF(AV70=0,IF(Scoresheet!AW72=20,30,Scoresheet!AW72),Scoresheet!AW72),IF(AW76>3,\".\",Scoresheet!AW72)))","v":"?"},{"$f":"IF(AW70>2,\".\",IF(AW76=3,IF(AW70=0,IF(Scoresheet!AX72=20,30,Scoresheet!AX72),Scoresheet!AX72),IF(AX76>3,\".\",Scoresheet!AX72)))","v":"?"},{"$f":"IF(AX70>2,\".\",IF(AX76=3,IF(AX70=0,IF(Scoresheet!AY72=20,30,Scoresheet!AY72),Scoresheet!AY72),IF(AY76>3,\".\",Scoresheet!AY72)))","v":"?"},{"$f":"IF(AY70>2,\".\",IF(AY76=3,IF(AY70=0,IF(Scoresheet!AZ72=20,30,Scoresheet!AZ72),Scoresheet!AZ72),IF(AZ76>3,\".\",Scoresheet!AZ72)))","v":"?"},{"$f":"IF(AZ70>2,\".\",IF(AZ76=3,IF(AZ70=0,IF(Scoresheet!BA72=20,30,Scoresheet!BA72),Scoresheet!BA72),IF(BA76>3,\".\",Scoresheet!BA72)))","v":"?"},{"$f":"IF(BA70>2,\".\",IF(BA76=3,IF(BA70=0,IF(Scoresheet!BB72=20,30,Scoresheet!BB72),Scoresheet!BB72),IF(BB76>3,\".\",Scoresheet!BB72)))","v":"?"},{"$f":"IF(BB70>2,\".\",IF(BB76=3,IF(BB70=0,IF(Scoresheet!BC72=20,30,Scoresheet!BC72),Scoresheet!BC72),IF(BC76>3,\".\",Scoresheet!BC72)))","v":"?"},{"$f":"IF(BC70>2,\".\",IF(BC76=3,IF(BC70=0,IF(Scoresheet!BD72=20,30,Scoresheet!BD72),Scoresheet!BD72),IF(BD76>3,\".\",Scoresheet!BD72)))","v":"?"},{"$f":"IF(BD70>2,\".\",IF(BD76=3,IF(BD70=0,IF(Scoresheet!BE72=20,30,Scoresheet!BE72),Scoresheet!BE72),IF(BE76>3,\".\",Scoresheet!BE72)))","v":"?"},{"$f":"IF(BE70>2,\".\",IF(BE76=3,IF(BE70=0,IF(Scoresheet!BF72=20,30,Scoresheet!BF72),Scoresheet!BF72),IF(BF76>3,\".\",Scoresheet!BF72)))","v":"?"},{"$f":"IF(BF70>2,\".\",IF(BF76=3,IF(BF70=0,IF(Scoresheet!BG72=20,30,Scoresheet!BG72),Scoresheet!BG72),IF(BG76>3,\".\",Scoresheet!BG72)))","v":"?"}]
[null,null,{"$f":"Scoresheet!C65","v":"Quizzer #3"},20,{"$f":"IF(D71>2,\".\",IF(D77=3,IF(D71=0,IF(Scoresheet!E72=20,30,Scoresheet!E72),Scoresheet!E72),IF(E77>3,\".\",Scoresheet!E72)))","v":20},{"$f":"IF(E71>2,\".\",IF(E77=3,IF(E71=0,IF(Scoresheet!F72=20,30,Scoresheet!F72),Scoresheet!F72),IF(F77>3,\".\",Scoresheet!F72)))","v":20},{"$f":"IF(F71>2,\".\",IF(F77=3,IF(F71=0,IF(Scoresheet!G72=20,30,Scoresheet!G72),Scoresheet!G72),IF(G77>3,\".\",Scoresheet!G72)))","v":20},{"$f":"IF(G71>2,\".\",IF(G77=3,IF(G71=0,IF(Scoresheet!H72=20,30,Scoresheet!H72),Scoresheet!H72),IF(H77>3,\".\",Scoresheet!H72)))","v":20},{"$f":"IF(H71>2,\".\",IF(H77=3,IF(H71=0,IF(Scoresheet!I72=20,30,Scoresheet!I72),Scoresheet!I72),IF(I77>3,\".\",Scoresheet!I72)))","v":20},{"$f":"IF(I71>2,\".\",IF(I77=3,IF(I71=0,IF(Scoresheet!J72=20,30,Scoresheet!J72),Scoresheet!J72),IF(J77>3,\".\",Scoresheet!J72)))","v":20},{"$f":"IF(J71>2,\".\",IF(J77=3,IF(J71=0,IF(Scoresheet!K72=20,30,Scoresheet!K72),Scoresheet!K72),IF(K77>3,\".\",Scoresheet!K72)))","v":20},{"$f":"IF(K71>2,\".\",IF(K77=3,IF(K71=0,IF(Scoresheet!L72=20,30,Scoresheet!L72),Scoresheet!L72),IF(L77>3,\".\",Scoresheet!L72)))","v":20},{"$f":"IF(L71>2,\".\",IF(L77=3,IF(L71=0,IF(Scoresheet!M72=20,30,Scoresheet!M72),Scoresheet!M72),IF(M77>3,\".\",Scoresheet!M72)))","v":20},{"$f":"IF(M71>2,\".\",IF(M77=3,IF(M71=0,IF(Scoresheet!N72=20,30,Scoresheet!N72),Scoresheet!N72),IF(N77>3,\".\",Scoresheet!N72)))","v":20},{"$f":"IF(N71>2,\".\",IF(N77=3,IF(N71=0,IF(Scoresheet!O72=20,30,Scoresheet!O72),Scoresheet!O72),IF(O77>3,\".\",Scoresheet!O72)))","v":20},{"$f":"IF(O71>2,\".\",IF(O77=3,IF(O71=0,IF(Scoresheet!P72=20,30,Scoresheet!P72),Scoresheet!P72),IF(P77>3,\".\",Scoresheet!P72)))","v":20},{"$f":"IF(P71>2,\".\",IF(P77=3,IF(P71=0,IF(Scoresheet!Q72=20,30,Scoresheet!Q72),Scoresheet!Q72),IF(Q77>3,\".\",Scoresheet!Q72)))","v":20},{"$f":"IF(Q71>2,\".\",IF(Q77=3,IF(Q71=0,IF(Scoresheet!R72=20,30,Scoresheet!R72),Scoresheet!R72),IF(R77>3,\".\",Scoresheet!R72)))","v":20},{"$f":"IF(R71>2,\".\",IF(R77=3,IF(R71=0,IF(Scoresheet!S72=20,30,Scoresheet!S72),Scoresheet!S72),IF(S77>3,\".\",Scoresheet!S72)))","v":20},{"$f":"IF(S71>2,\".\",IF(S77=3,IF(S71=0,IF(Scoresheet!T72=20,30,Scoresheet!T72),Scoresheet!T72),IF(T77>3,\".\",Scoresheet!T72)))","v":20},{"$f":"IF(T71>2,\".\",IF(T77=3,IF(T71=0,IF(Scoresheet!U72=20,30,Scoresheet!U72),Scoresheet!U72),IF(U77>3,\".\",Scoresheet!U72)))","v":20},{"$f":"IF(U71>2,\".\",IF(U77=3,IF(U71=0,IF(Scoresheet!V72=20,30,Scoresheet!V72),Scoresheet!V72),IF(V77>3,\".\",Scoresheet!V72)))","v":10},{"$f":"IF(V71>2,\".\",IF(V77=3,IF(V71=0,IF(Scoresheet!W72=20,30,Scoresheet!W72),Scoresheet!W72),IF(W77>3,\".\",Scoresheet!W72)))","v":20},{"$f":"IF(W71>2,\".\",IF(W77=3,IF(W71=0,IF(Scoresheet!X72=20,30,Scoresheet!X72),Scoresheet!X72),IF(X77>3,\".\",Scoresheet!X72)))","v":20},{"$f":"IF(X71>2,\".\",IF(X77=3,IF(X71=0,IF(Scoresheet!Y72=20,30,Scoresheet!Y72),Scoresheet!Y72),IF(Y77>3,\".\",Scoresheet!Y72)))","v":10},{"$f":"IF(Y71>2,\".\",IF(Y77=3,IF(Y71=0,IF(Scoresheet!Z72=20,30,Scoresheet!Z72),Scoresheet!Z72),IF(Z77>3,\".\",Scoresheet!Z72)))","v":20},{"$f":"IF(Z71>2,\".\",IF(Z77=3,IF(Z71=0,IF(Scoresheet!AA72=20,30,Scoresheet!AA72),Scoresheet!AA72),IF(AA77>3,\".\",Scoresheet!AA72)))","v":20},{"$f":"IF(AA71>2,\".\",IF(AA77=3,IF(AA71=0,IF(Scoresheet!AB72=20,30,Scoresheet!AB72),Scoresheet!AB72),IF(AB77>3,\".\",Scoresheet!AB72)))","v":10},{"$f":"IF(AB71>2,\".\",IF(AB77=3,IF(AB71=0,IF(Scoresheet!AC72=20,30,Scoresheet!AC72),Scoresheet!AC72),IF(AC77>3,\".\",Scoresheet!AC72)))","v":20},{"$f":"IF(AC71>2,\".\",IF(AC77=3,IF(AC71=0,IF(Scoresheet!AD72=20,30,Scoresheet!AD72),Scoresheet!AD72),IF(AD77>3,\".\",Scoresheet!AD72)))","v":"?"},{"$f":"IF(AD71>2,\".\",IF(AD77=3,IF(AD71=0,IF(Scoresheet!AE72=20,30,Scoresheet!AE72),Scoresheet!AE72),IF(AE77>3,\".\",Scoresheet!AE72)))","v":"?"},{"$f":"IF(AE71>2,\".\",IF(AE77=3,IF(AE71=0,IF(Scoresheet!AF72=20,30,Scoresheet!AF72),Scoresheet!AF72),IF(AF77>3,\".\",Scoresheet!AF72)))","v":"?"},{"$f":"IF(AF71>2,\".\",IF(AF77=3,IF(AF71=0,IF(Scoresheet!AG72=20,30,Scoresheet!AG72),Scoresheet!AG72),IF(AG77>3,\".\",Scoresheet!AG72)))","v":"?"},{"$f":"IF(AG71>2,\".\",IF(AG77=3,IF(AG71=0,IF(Scoresheet!AH72=20,30,Scoresheet!AH72),Scoresheet!AH72),IF(AH77>3,\".\",Scoresheet!AH72)))","v":"?"},{"$f":"IF(AH71>2,\".\",IF(AH77=3,IF(AH71=0,IF(Scoresheet!AI72=20,30,Scoresheet!AI72),Scoresheet!AI72),IF(AI77>3,\".\",Scoresheet!AI72)))","v":"?"},{"$f":"IF(AI71>2,\".\",IF(AI77=3,IF(AI71=0,IF(Scoresheet!AJ72=20,30,Scoresheet!AJ72),Scoresheet!AJ72),IF(AJ77>3,\".\",Scoresheet!AJ72)))","v":"?"},{"$f":"IF(AJ71>2,\".\",IF(AJ77=3,IF(AJ71=0,IF(Scoresheet!AK72=20,30,Scoresheet!AK72),Scoresheet!AK72),IF(AK77>3,\".\",Scoresheet!AK72)))","v":"?"},{"$f":"IF(AK71>2,\".\",IF(AK77=3,IF(AK71=0,IF(Scoresheet!AL72=20,30,Scoresheet!AL72),Scoresheet!AL72),IF(AL77>3,\".\",Scoresheet!AL72)))","v":"?"},{"$f":"IF(AL71>2,\".\",IF(AL77=3,IF(AL71=0,IF(Scoresheet!AM72=20,30,Scoresheet!AM72),Scoresheet!AM72),IF(AM77>3,\".\",Scoresheet!AM72)))","v":"?"},{"$f":"IF(AM71>2,\".\",IF(AM77=3,IF(AM71=0,IF(Scoresheet!AN72=20,30,Scoresheet!AN72),Scoresheet!AN72),IF(AN77>3,\".\",Scoresheet!AN72)))","v":"?"},{"$f":"IF(AN71>2,\".\",IF(AN77=3,IF(AN71=0,IF(Scoresheet!AO72=20,30,Scoresheet!AO72),Scoresheet!AO72),IF(AO77>3,\".\",Scoresheet!AO72)))","v":"?"},{"$f":"IF(AO71>2,\".\",IF(AO77=3,IF(AO71=0,IF(Scoresheet!AP72=20,30,Scoresheet!AP72),Scoresheet!AP72),IF(AP77>3,\".\",Scoresheet!AP72)))","v":"?"},{"$f":"IF(AP71>2,\".\",IF(AP77=3,IF(AP71=0,IF(Scoresheet!AQ72=20,30,Scoresheet!AQ72),Scoresheet!AQ72),IF(AQ77>3,\".\",Scoresheet!AQ72)))","v":"?"},{"$f":"IF(AQ71>2,\".\",IF(AQ77=3,IF(AQ71=0,IF(Scoresheet!AR72=20,30,Scoresheet!AR72),Scoresheet!AR72),IF(AR77>3,\".\",Scoresheet!AR72)))","v":"?"},{"$f":"IF(AR71>2,\".\",IF(AR77=3,IF(AR71=0,IF(Scoresheet!AS72=20,30,Scoresheet!AS72),Scoresheet!AS72),IF(AS77>3,\".\",Scoresheet!AS72)))","v":"?"},{"$f":"IF(AS71>2,\".\",IF(AS77=3,IF(AS71=0,IF(Scoresheet!AT72=20,30,Scoresheet!AT72),Scoresheet!AT72),IF(AT77>3,\".\",Scoresheet!AT72)))","v":"?"},{"$f":"IF(AT71>2,\".\",IF(AT77=3,IF(AT71=0,IF(Scoresheet!AU72=20,30,Scoresheet!AU72),Scoresheet!AU72),IF(AU77>3,\".\",Scoresheet!AU72)))","v":"?"},{"$f":"IF(AU71>2,\".\",IF(AU77=3,IF(AU71=0,IF(Scoresheet!AV72=20,30,Scoresheet!AV72),Scoresheet!AV72),IF(AV77>3,\".\",Scoresheet!AV72)))","v":"?"},{"$f":"IF(AV71>2,\".\",IF(AV77=3,IF(AV71=0,IF(Scoresheet!AW72=20,30,Scoresheet!AW72),Scoresheet!AW72),IF(AW77>3,\".\",Scoresheet!AW72)))","v":"?"},{"$f":"IF(AW71>2,\".\",IF(AW77=3,IF(AW71=0,IF(Scoresheet!AX72=20,30,Scoresheet!AX72),Scoresheet!AX72),IF(AX77>3,\".\",Scoresheet!AX72)))","v":"?"},{"$f":"IF(AX71>2,\".\",IF(AX77=3,IF(AX71=0,IF(Scoresheet!AY72=20,30,Scoresheet!AY72),Scoresheet!AY72),IF(AY77>3,\".\",Scoresheet!AY72)))","v":"?"},{"$f":"IF(AY71>2,\".\",IF(AY77=3,IF(AY71=0,IF(Scoresheet!AZ72=20,30,Scoresheet!AZ72),Scoresheet!AZ72),IF(AZ77>3,\".\",Scoresheet!AZ72)))","v":"?"},{"$f":"IF(AZ71>2,\".\",IF(AZ77=3,IF(AZ71=0,IF(Scoresheet!BA72=20,30,Scoresheet!BA72),Scoresheet!BA72),IF(BA77>3,\".\",Scoresheet!BA72)))","v":"?"},{"$f":"IF(BA71>2,\".\",IF(BA77=3,IF(BA71=0,IF(Scoresheet!BB72=20,30,Scoresheet!BB72),Scoresheet!BB72),IF(BB77>3,\".\",Scoresheet!BB72)))","v":"?"},{"$f":"IF(BB71>2,\".\",IF(BB77=3,IF(BB71=0,IF(Scoresheet!BC72=20,30,Scoresheet!BC72),Scoresheet!BC72),IF(BC77>3,\".\",Scoresheet!BC72)))","v":"?"},{"$f":"IF(BC71>2,\".\",IF(BC77=3,IF(BC71=0,IF(Scoresheet!BD72=20,30,Scoresheet!BD72),Scoresheet!BD72),IF(BD77>3,\".\",Scoresheet!BD72)))","v":"?"},{"$f":"IF(BD71>2,\".\",IF(BD77=3,IF(BD71=0,IF(Scoresheet!BE72=20,30,Scoresheet!BE72),Scoresheet!BE72),IF(BE77>3,\".\",Scoresheet!BE72)))","v":"?"},{"$f":"IF(BE71>2,\".\",IF(BE77=3,IF(BE71=0,IF(Scoresheet!BF72=20,30,Scoresheet!BF72),Scoresheet!BF72),IF(BF77>3,\".\",Scoresheet!BF72)))","v":"?"},{"$f":"IF(BF71>2,\".\",IF(BF77=3,IF(BF71=0,IF(Scoresheet!BG72=20,30,Scoresheet!BG72),Scoresheet!BG72),IF(BG77>3,\".\",Scoresheet!BG72)))","v":"?"}]
[null,null,{"$f":"Scoresheet!C66","v":"Quizzer #4"},20,{"$f":"IF(D72>2,\".\",IF(D78=3,IF(D72=0,IF(Scoresheet!E72=20,30,Scoresheet!E72),Scoresheet!E72),IF(E78>3,\".\",Scoresheet!E72)))","v":20},{"$f":"IF(E72>2,\".\",IF(E78=3,IF(E72=0,IF(Scoresheet!F72=20,30,Scoresheet!F72),Scoresheet!F72),IF(F78>3,\".\",Scoresheet!F72)))","v":20},{"$f":"IF(F72>2,\".\",IF(F78=3,IF(F72=0,IF(Scoresheet!G72=20,30,Scoresheet!G72),Scoresheet!G72),IF(G78>3,\".\",Scoresheet!G72)))","v":20},{"$f":"IF(G72>2,\".\",IF(G78=3,IF(G72=0,IF(Scoresheet!H72=20,30,Scoresheet!H72),Scoresheet!H72),IF(H78>3,\".\",Scoresheet!H72)))","v":20},{"$f":"IF(H72>2,\".\",IF(H78=3,IF(H72=0,IF(Scoresheet!I72=20,30,Scoresheet!I72),Scoresheet!I72),IF(I78>3,\".\",Scoresheet!I72)))","v":20},{"$f":"IF(I72>2,\".\",IF(I78=3,IF(I72=0,IF(Scoresheet!J72=20,30,Scoresheet!J72),Scoresheet!J72),IF(J78>3,\".\",Scoresheet!J72)))","v":20},{"$f":"IF(J72>2,\".\",IF(J78=3,IF(J72=0,IF(Scoresheet!K72=20,30,Scoresheet!K72),Scoresheet!K72),IF(K78>3,\".\",Scoresheet!K72)))","v":20},{"$f":"IF(K72>2,\".\",IF(K78=3,IF(K72=0,IF(Scoresheet!L72=20,30,Scoresheet!L72),Scoresheet!L72),IF(L78>3,\".\",Scoresheet!L72)))","v":20},{"$f":"IF(L72>2,\".\",IF(L78=3,IF(L72=0,IF(Scoresheet!M72=20,30,Scoresheet!M72),Scoresheet!M72),IF(M78>3,\".\",Scoresheet!M72)))","v":20},{"$f":"IF(M72>2,\".\",IF(M78=3,IF(M72=0,IF(Scoresheet!N72=20,30,Scoresheet!N72),Scoresheet!N72),IF(N78>3,\".\",Scoresheet!N72)))","v":20},{"$f":"IF(N72>2,\".\",IF(N78=3,IF(N72=0,IF(Scoresheet!O72=20,30,Scoresheet!O72),Scoresheet!O72),IF(O78>3,\".\",Scoresheet!O72)))","v":20},{"$f":"IF(O72>2,\".\",IF(O78=3,IF(O72=0,IF(Scoresheet!P72=20,30,Scoresheet!P72),Scoresheet!P72),IF(P78>3,\".\",Scoresheet!P72)))","v":20},{"$f":"IF(P72>2,\".\",IF(P78=3,IF(P72=0,IF(Scoresheet!Q72=20,30,Scoresheet!Q72),Scoresheet!Q72),IF(Q78>3,\".\",Scoresheet!Q72)))","v":20},{"$f":"IF(Q72>2,\".\",IF(Q78=3,IF(Q72=0,IF(Scoresheet!R72=20,30,Scoresheet!R72),Scoresheet!R72),IF(R78>3,\".\",Scoresheet!R72)))","v":20},{"$f":"IF(R72>2,\".\",IF(R78=3,IF(R72=0,IF(Scoresheet!S72=20,30,Scoresheet!S72),Scoresheet!S72),IF(S78>3,\".\",Scoresheet!S72)))","v":20},{"$f":"IF(S72>2,\".\",IF(S78=3,IF(S72=0,IF(Scoresheet!T72=20,30,Scoresheet!T72),Scoresheet!T72),IF(T78>3,\".\",Scoresheet!T72)))","v":20},{"$f":"IF(T72>2,\".\",IF(T78=3,IF(T72=0,IF(Scoresheet!U72=20,30,Scoresheet!U72),Scoresheet!U72),IF(U78>3,\".\",Scoresheet!U72)))","v":20},{"$f":"IF(U72>2,\".\",IF(U78=3,IF(U72=0,IF(Scoresheet!V72=20,30,Scoresheet!V72),Scoresheet!V72),IF(V78>3,\".\",Scoresheet!V72)))","v":10},{"$f":"IF(V72>2,\".\",IF(V78=3,IF(V72=0,IF(Scoresheet!W72=20,30,Scoresheet!W72),Scoresheet!W72),IF(W78>3,\".\",Scoresheet!W72)))","v":20},{"$f":"IF(W72>2,\".\",IF(W78=3,IF(W72=0,IF(Scoresheet!X72=20,30,Scoresheet!X72),Scoresheet!X72),IF(X78>3,\".\",Scoresheet!X72)))","v":20},{"$f":"IF(X72>2,\".\",IF(X78=3,IF(X72=0,IF(Scoresheet!Y72=20,30,Scoresheet!Y72),Scoresheet!Y72),IF(Y78>3,\".\",Scoresheet!Y72)))","v":10},{"$f":"IF(Y72>2,\".\",IF(Y78=3,IF(Y72=0,IF(Scoresheet!Z72=20,30,Scoresheet!Z72),Scoresheet!Z72),IF(Z78>3,\".\",Scoresheet!Z72)))","v":20},{"$f":"IF(Z72>2,\".\",IF(Z78=3,IF(Z72=0,IF(Scoresheet!AA72=20,30,Scoresheet!AA72),Scoresheet!AA72),IF(AA78>3,\".\",Scoresheet!AA72)))","v":20},{"$f":"IF(AA72>2,\".\",IF(AA78=3,IF(AA72=0,IF(Scoresheet!AB72=20,30,Scoresheet!AB72),Scoresheet!AB72),IF(AB78>3,\".\",Scoresheet!AB72)))","v":10},{"$f":"IF(AB72>2,\".\",IF(AB78=3,IF(AB72=0,IF(Scoresheet!AC72=20,30,Scoresheet!AC72),Scoresheet!AC72),IF(AC78>3,\".\",Scoresheet!AC72)))","v":20},{"$f":"IF(AC72>2,\".\",IF(AC78=3,IF(AC72=0,IF(Scoresheet!AD72=20,30,Scoresheet!AD72),Scoresheet!AD72),IF(AD78>3,\".\",Scoresheet!AD72)))","v":"?"},{"$f":"IF(AD72>2,\".\",IF(AD78=3,IF(AD72=0,IF(Scoresheet!AE72=20,30,Scoresheet!AE72),Scoresheet!AE72),IF(AE78>3,\".\",Scoresheet!AE72)))","v":"?"},{"$f":"IF(AE72>2,\".\",IF(AE78=3,IF(AE72=0,IF(Scoresheet!AF72=20,30,Scoresheet!AF72),Scoresheet!AF72),IF(AF78>3,\".\",Scoresheet!AF72)))","v":"?"},{"$f":"IF(AF72>2,\".\",IF(AF78=3,IF(AF72=0,IF(Scoresheet!AG72=20,30,Scoresheet!AG72),Scoresheet!AG72),IF(AG78>3,\".\",Scoresheet!AG72)))","v":"?"},{"$f":"IF(AG72>2,\".\",IF(AG78=3,IF(AG72=0,IF(Scoresheet!AH72=20,30,Scoresheet!AH72),Scoresheet!AH72),IF(AH78>3,\".\",Scoresheet!AH72)))","v":"?"},{"$f":"IF(AH72>2,\".\",IF(AH78=3,IF(AH72=0,IF(Scoresheet!AI72=20,30,Scoresheet!AI72),Scoresheet!AI72),IF(AI78>3,\".\",Scoresheet!AI72)))","v":"?"},{"$f":"IF(AI72>2,\".\",IF(AI78=3,IF(AI72=0,IF(Scoresheet!AJ72=20,30,Scoresheet!AJ72),Scoresheet!AJ72),IF(AJ78>3,\".\",Scoresheet!AJ72)))","v":"?"},{"$f":"IF(AJ72>2,\".\",IF(AJ78=3,IF(AJ72=0,IF(Scoresheet!AK72=20,30,Scoresheet!AK72),Scoresheet!AK72),IF(AK78>3,\".\",Scoresheet!AK72)))","v":"?"},{"$f":"IF(AK72>2,\".\",IF(AK78=3,IF(AK72=0,IF(Scoresheet!AL72=20,30,Scoresheet!AL72),Scoresheet!AL72),IF(AL78>3,\".\",Scoresheet!AL72)))","v":"?"},{"$f":"IF(AL72>2,\".\",IF(AL78=3,IF(AL72=0,IF(Scoresheet!AM72=20,30,Scoresheet!AM72),Scoresheet!AM72),IF(AM78>3,\".\",Scoresheet!AM72)))","v":"?"},{"$f":"IF(AM72>2,\".\",IF(AM78=3,IF(AM72=0,IF(Scoresheet!AN72=20,30,Scoresheet!AN72),Scoresheet!AN72),IF(AN78>3,\".\",Scoresheet!AN72)))","v":"?"},{"$f":"IF(AN72>2,\".\",IF(AN78=3,IF(AN72=0,IF(Scoresheet!AO72=20,30,Scoresheet!AO72),Scoresheet!AO72),IF(AO78>3,\".\",Scoresheet!AO72)))","v":"?"},{"$f":"IF(AO72>2,\".\",IF(AO78=3,IF(AO72=0,IF(Scoresheet!AP72=20,30,Scoresheet!AP72),Scoresheet!AP72),IF(AP78>3,\".\",Scoresheet!AP72)))","v":"?"},{"$f":"IF(AP72>2,\".\",IF(AP78=3,IF(AP72=0,IF(Scoresheet!AQ72=20,30,Scoresheet!AQ72),Scoresheet!AQ72),IF(AQ78>3,\".\",Scoresheet!AQ72)))","v":"?"},{"$f":"IF(AQ72>2,\".\",IF(AQ78=3,IF(AQ72=0,IF(Scoresheet!AR72=20,30,Scoresheet!AR72),Scoresheet!AR72),IF(AR78>3,\".\",Scoresheet!AR72)))","v":"?"},{"$f":"IF(AR72>2,\".\",IF(AR78=3,IF(AR72=0,IF(Scoresheet!AS72=20,30,Scoresheet!AS72),Scoresheet!AS72),IF(AS78>3,\".\",Scoresheet!AS72)))","v":"?"},{"$f":"IF(AS72>2,\".\",IF(AS78=3,IF(AS72=0,IF(Scoresheet!AT72=20,30,Scoresheet!AT72),Scoresheet!AT72),IF(AT78>3,\".\",Scoresheet!AT72)))","v":"?"},{"$f":"IF(AT72>2,\".\",IF(AT78=3,IF(AT72=0,IF(Scoresheet!AU72=20,30,Scoresheet!AU72),Scoresheet!AU72),IF(AU78>3,\".\",Scoresheet!AU72)))","v":"?"},{"$f":"IF(AU72>2,\".\",IF(AU78=3,IF(AU72=0,IF(Scoresheet!AV72=20,30,Scoresheet!AV72),Scoresheet!AV72),IF(AV78>3,\".\",Scoresheet!AV72)))","v":"?"},{"$f":"IF(AV72>2,\".\",IF(AV78=3,IF(AV72=0,IF(Scoresheet!AW72=20,30,Scoresheet!AW72),Scoresheet!AW72),IF(AW78>3,\".\",Scoresheet!AW72)))","v":"?"},{"$f":"IF(AW72>2,\".\",IF(AW78=3,IF(AW72=0,IF(Scoresheet!AX72=20,30,Scoresheet!AX72),Scoresheet!AX72),IF(AX78>3,\".\",Scoresheet!AX72)))","v":"?"},{"$f":"IF(AX72>2,\".\",IF(AX78=3,IF(AX72=0,IF(Scoresheet!AY72=20,30,Scoresheet!AY72),Scoresheet!AY72),IF(AY78>3,\".\",Scoresheet!AY72)))","v":"?"},{"$f":"IF(AY72>2,\".\",IF(AY78=3,IF(AY72=0,IF(Scoresheet!AZ72=20,30,Scoresheet!AZ72),Scoresheet!AZ72),IF(AZ78>3,\".\",Scoresheet!AZ72)))","v":"?"},{"$f":"IF(AZ72>2,\".\",IF(AZ78=3,IF(AZ72=0,IF(Scoresheet!BA72=20,30,Scoresheet!BA72),Scoresheet!BA72),IF(BA78>3,\".\",Scoresheet!BA72)))","v":"?"},{"$f":"IF(BA72>2,\".\",IF(BA78=3,IF(BA72=0,IF(Scoresheet!BB72=20,30,Scoresheet!BB72),Scoresheet!BB72),IF(BB78>3,\".\",Scoresheet!BB72)))","v":"?"},{"$f":"IF(BB72>2,\".\",IF(BB78=3,IF(BB72=0,IF(Scoresheet!BC72=20,30,Scoresheet!BC72),Scoresheet!BC72),IF(BC78>3,\".\",Scoresheet!BC72)))","v":"?"},{"$f":"IF(BC72>2,\".\",IF(BC78=3,IF(BC72=0,IF(Scoresheet!BD72=20,30,Scoresheet!BD72),Scoresheet!BD72),IF(BD78>3,\".\",Scoresheet!BD72)))","v":"?"},{"$f":"IF(BD72>2,\".\",IF(BD78=3,IF(BD72=0,IF(Scoresheet!BE72=20,30,Scoresheet!BE72),Scoresheet!BE72),IF(BE78>3,\".\",Scoresheet!BE72)))","v":"?"},{"$f":"IF(BE72>2,\".\",IF(BE78=3,IF(BE72=0,IF(Scoresheet!BF72=20,30,Scoresheet!BF72),Scoresheet!BF72),IF(BF78>3,\".\",Scoresheet!BF72)))","v":"?"},{"$f":"IF(BF72>2,\".\",IF(BF78=3,IF(BF72=0,IF(Scoresheet!BG72=20,30,Scoresheet!BG72),Scoresheet!BG72),IF(BG78>3,\".\",Scoresheet!BG72)))","v":"?"}]
[null,null,{"$f":"Scoresheet!C67","v":0},20,{"$f":"IF(D73>2,\".\",IF(D79=3,IF(D73=0,IF(Scoresheet!E72=20,30,Scoresheet!E72),Scoresheet!E72),IF(E79>3,\".\",Scoresheet!E72)))","v":20},{"$f":"IF(E73>2,\".\",IF(E79=3,IF(E73=0,IF(Scoresheet!F72=20,30,Scoresheet!F72),Scoresheet!F72),IF(F79>3,\".\",Scoresheet!F72)))","v":20},{"$f":"IF(F73>2,\".\",IF(F79=3,IF(F73=0,IF(Scoresheet!G72=20,30,Scoresheet!G72),Scoresheet!G72),IF(G79>3,\".\",Scoresheet!G72)))","v":20},{"$f":"IF(G73>2,\".\",IF(G79=3,IF(G73=0,IF(Scoresheet!H72=20,30,Scoresheet!H72),Scoresheet!H72),IF(H79>3,\".\",Scoresheet!H72)))","v":20},{"$f":"IF(H73>2,\".\",IF(H79=3,IF(H73=0,IF(Scoresheet!I72=20,30,Scoresheet!I72),Scoresheet!I72),IF(I79>3,\".\",Scoresheet!I72)))","v":20},{"$f":"IF(I73>2,\".\",IF(I79=3,IF(I73=0,IF(Scoresheet!J72=20,30,Scoresheet!J72),Scoresheet!J72),IF(J79>3,\".\",Scoresheet!J72)))","v":20},{"$f":"IF(J73>2,\".\",IF(J79=3,IF(J73=0,IF(Scoresheet!K72=20,30,Scoresheet!K72),Scoresheet!K72),IF(K79>3,\".\",Scoresheet!K72)))","v":20},{"$f":"IF(K73>2,\".\",IF(K79=3,IF(K73=0,IF(Scoresheet!L72=20,30,Scoresheet!L72),Scoresheet!L72),IF(L79>3,\".\",Scoresheet!L72)))","v":20},{"$f":"IF(L73>2,\".\",IF(L79=3,IF(L73=0,IF(Scoresheet!M72=20,30,Scoresheet!M72),Scoresheet!M72),IF(M79>3,\".\",Scoresheet!M72)))","v":20},{"$f":"IF(M73>2,\".\",IF(M79=3,IF(M73=0,IF(Scoresheet!N72=20,30,Scoresheet!N72),Scoresheet!N72),IF(N79>3,\".\",Scoresheet!N72)))","v":20},{"$f":"IF(N73>2,\".\",IF(N79=3,IF(N73=0,IF(Scoresheet!O72=20,30,Scoresheet!O72),Scoresheet!O72),IF(O79>3,\".\",Scoresheet!O72)))","v":20},{"$f":"IF(O73>2,\".\",IF(O79=3,IF(O73=0,IF(Scoresheet!P72=20,30,Scoresheet!P72),Scoresheet!P72),IF(P79>3,\".\",Scoresheet!P72)))","v":20},{"$f":"IF(P73>2,\".\",IF(P79=3,IF(P73=0,IF(Scoresheet!Q72=20,30,Scoresheet!Q72),Scoresheet!Q72),IF(Q79>3,\".\",Scoresheet!Q72)))","v":20},{"$f":"IF(Q73>2,\".\",IF(Q79=3,IF(Q73=0,IF(Scoresheet!R72=20,30,Scoresheet!R72),Scoresheet!R72),IF(R79>3,\".\",Scoresheet!R72)))","v":20},{"$f":"IF(R73>2,\".\",IF(R79=3,IF(R73=0,IF(Scoresheet!S72=20,30,Scoresheet!S72),Scoresheet!S72),IF(S79>3,\".\",Scoresheet!S72)))","v":20},{"$f":"IF(S73>2,\".\",IF(S79=3,IF(S73=0,IF(Scoresheet!T72=20,30,Scoresheet!T72),Scoresheet!T72),IF(T79>3,\".\",Scoresheet!T72)))","v":20},{"$f":"IF(T73>2,\".\",IF(T79=3,IF(T73=0,IF(Scoresheet!U72=20,30,Scoresheet!U72),Scoresheet!U72),IF(U79>3,\".\",Scoresheet!U72)))","v":20},{"$f":"IF(U73>2,\".\",IF(U79=3,IF(U73=0,IF(Scoresheet!V72=20,30,Scoresheet!V72),Scoresheet!V72),IF(V79>3,\".\",Scoresheet!V72)))","v":10},{"$f":"IF(V73>2,\".\",IF(V79=3,IF(V73=0,IF(Scoresheet!W72=20,30,Scoresheet!W72),Scoresheet!W72),IF(W79>3,\".\",Scoresheet!W72)))","v":20},{"$f":"IF(W73>2,\".\",IF(W79=3,IF(W73=0,IF(Scoresheet!X72=20,30,Scoresheet!X72),Scoresheet!X72),IF(X79>3,\".\",Scoresheet!X72)))","v":20},{"$f":"IF(X73>2,\".\",IF(X79=3,IF(X73=0,IF(Scoresheet!Y72=20,30,Scoresheet!Y72),Scoresheet!Y72),IF(Y79>3,\".\",Scoresheet!Y72)))","v":10},{"$f":"IF(Y73>2,\".\",IF(Y79=3,IF(Y73=0,IF(Scoresheet!Z72=20,30,Scoresheet!Z72),Scoresheet!Z72),IF(Z79>3,\".\",Scoresheet!Z72)))","v":20},{"$f":"IF(Z73>2,\".\",IF(Z79=3,IF(Z73=0,IF(Scoresheet!AA72=20,30,Scoresheet!AA72),Scoresheet!AA72),IF(AA79>3,\".\",Scoresheet!AA72)))","v":20},{"$f":"IF(AA73>2,\".\",IF(AA79=3,IF(AA73=0,IF(Scoresheet!AB72=20,30,Scoresheet!AB72),Scoresheet!AB72),IF(AB79>3,\".\",Scoresheet!AB72)))","v":10},{"$f":"IF(AB73>2,\".\",IF(AB79=3,IF(AB73=0,IF(Scoresheet!AC72=20,30,Scoresheet!AC72),Scoresheet!AC72),IF(AC79>3,\".\",Scoresheet!AC72)))","v":20},{"$f":"IF(AC73>2,\".\",IF(AC79=3,IF(AC73=0,IF(Scoresheet!AD72=20,30,Scoresheet!AD72),Scoresheet!AD72),IF(AD79>3,\".\",Scoresheet!AD72)))","v":"?"},{"$f":"IF(AD73>2,\".\",IF(AD79=3,IF(AD73=0,IF(Scoresheet!AE72=20,30,Scoresheet!AE72),Scoresheet!AE72),IF(AE79>3,\".\",Scoresheet!AE72)))","v":"?"},{"$f":"IF(AE73>2,\".\",IF(AE79=3,IF(AE73=0,IF(Scoresheet!AF72=20,30,Scoresheet!AF72),Scoresheet!AF72),IF(AF79>3,\".\",Scoresheet!AF72)))","v":"?"},{"$f":"IF(AF73>2,\".\",IF(AF79=3,IF(AF73=0,IF(Scoresheet!AG72=20,30,Scoresheet!AG72),Scoresheet!AG72),IF(AG79>3,\".\",Scoresheet!AG72)))","v":"?"},{"$f":"IF(AG73>2,\".\",IF(AG79=3,IF(AG73=0,IF(Scoresheet!AH72=20,30,Scoresheet!AH72),Scoresheet!AH72),IF(AH79>3,\".\",Scoresheet!AH72)))","v":"?"},{"$f":"IF(AH73>2,\".\",IF(AH79=3,IF(AH73=0,IF(Scoresheet!AI72=20,30,Scoresheet!AI72),Scoresheet!AI72),IF(AI79>3,\".\",Scoresheet!AI72)))","v":"?"},{"$f":"IF(AI73>2,\".\",IF(AI79=3,IF(AI73=0,IF(Scoresheet!AJ72=20,30,Scoresheet!AJ72),Scoresheet!AJ72),IF(AJ79>3,\".\",Scoresheet!AJ72)))","v":"?"},{"$f":"IF(AJ73>2,\".\",IF(AJ79=3,IF(AJ73=0,IF(Scoresheet!AK72=20,30,Scoresheet!AK72),Scoresheet!AK72),IF(AK79>3,\".\",Scoresheet!AK72)))","v":"?"},{"$f":"IF(AK73>2,\".\",IF(AK79=3,IF(AK73=0,IF(Scoresheet!AL72=20,30,Scoresheet!AL72),Scoresheet!AL72),IF(AL79>3,\".\",Scoresheet!AL72)))","v":"?"},{"$f":"IF(AL73>2,\".\",IF(AL79=3,IF(AL73=0,IF(Scoresheet!AM72=20,30,Scoresheet!AM72),Scoresheet!AM72),IF(AM79>3,\".\",Scoresheet!AM72)))","v":"?"},{"$f":"IF(AM73>2,\".\",IF(AM79=3,IF(AM73=0,IF(Scoresheet!AN72=20,30,Scoresheet!AN72),Scoresheet!AN72),IF(AN79>3,\".\",Scoresheet!AN72)))","v":"?"},{"$f":"IF(AN73>2,\".\",IF(AN79=3,IF(AN73=0,IF(Scoresheet!AO72=20,30,Scoresheet!AO72),Scoresheet!AO72),IF(AO79>3,\".\",Scoresheet!AO72)))","v":"?"},{"$f":"IF(AO73>2,\".\",IF(AO79=3,IF(AO73=0,IF(Scoresheet!AP72=20,30,Scoresheet!AP72),Scoresheet!AP72),IF(AP79>3,\".\",Scoresheet!AP72)))","v":"?"},{"$f":"IF(AP73>2,\".\",IF(AP79=3,IF(AP73=0,IF(Scoresheet!AQ72=20,30,Scoresheet!AQ72),Scoresheet!AQ72),IF(AQ79>3,\".\",Scoresheet!AQ72)))","v":"?"},{"$f":"IF(AQ73>2,\".\",IF(AQ79=3,IF(AQ73=0,IF(Scoresheet!AR72=20,30,Scoresheet!AR72),Scoresheet!AR72),IF(AR79>3,\".\",Scoresheet!AR72)))","v":"?"},{"$f":"IF(AR73>2,\".\",IF(AR79=3,IF(AR73=0,IF(Scoresheet!AS72=20,30,Scoresheet!AS72),Scoresheet!AS72),IF(AS79>3,\".\",Scoresheet!AS72)))","v":"?"},{"$f":"IF(AS73>2,\".\",IF(AS79=3,IF(AS73=0,IF(Scoresheet!AT72=20,30,Scoresheet!AT72),Scoresheet!AT72),IF(AT79>3,\".\",Scoresheet!AT72)))","v":"?"},{"$f":"IF(AT73>2,\".\",IF(AT79=3,IF(AT73=0,IF(Scoresheet!AU72=20,30,Scoresheet!AU72),Scoresheet!AU72),IF(AU79>3,\".\",Scoresheet!AU72)))","v":"?"},{"$f":"IF(AU73>2,\".\",IF(AU79=3,IF(AU73=0,IF(Scoresheet!AV72=20,30,Scoresheet!AV72),Scoresheet!AV72),IF(AV79>3,\".\",Scoresheet!AV72)))","v":"?"},{"$f":"IF(AV73>2,\".\",IF(AV79=3,IF(AV73=0,IF(Scoresheet!AW72=20,30,Scoresheet!AW72),Scoresheet!AW72),IF(AW79>3,\".\",Scoresheet!AW72)))","v":"?"},{"$f":"IF(AW73>2,\".\",IF(AW79=3,IF(AW73=0,IF(Scoresheet!AX72=20,30,Scoresheet!AX72),Scoresheet!AX72),IF(AX79>3,\".\",Scoresheet!AX72)))","v":"?"},{"$f":"IF(AX73>2,\".\",IF(AX79=3,IF(AX73=0,IF(Scoresheet!AY72=20,30,Scoresheet!AY72),Scoresheet!AY72),IF(AY79>3,\".\",Scoresheet!AY72)))","v":"?"},{"$f":"IF(AY73>2,\".\",IF(AY79=3,IF(AY73=0,IF(Scoresheet!AZ72=20,30,Scoresheet!AZ72),Scoresheet!AZ72),IF(AZ79>3,\".\",Scoresheet!AZ72)))","v":"?"},{"$f":"IF(AZ73>2,\".\",IF(AZ79=3,IF(AZ73=0,IF(Scoresheet!BA72=20,30,Scoresheet!BA72),Scoresheet!BA72),IF(BA79>3,\".\",Scoresheet!BA72)))","v":"?"},{"$f":"IF(BA73>2,\".\",IF(BA79=3,IF(BA73=0,IF(Scoresheet!BB72=20,30,Scoresheet!BB72),Scoresheet!BB72),IF(BB79>3,\".\",Scoresheet!BB72)))","v":"?"},{"$f":"IF(BB73>2,\".\",IF(BB79=3,IF(BB73=0,IF(Scoresheet!BC72=20,30,Scoresheet!BC72),Scoresheet!BC72),IF(BC79>3,\".\",Scoresheet!BC72)))","v":"?"},{"$f":"IF(BC73>2,\".\",IF(BC79=3,IF(BC73=0,IF(Scoresheet!BD72=20,30,Scoresheet!BD72),Scoresheet!BD72),IF(BD79>3,\".\",Scoresheet!BD72)))","v":"?"},{"$f":"IF(BD73>2,\".\",IF(BD79=3,IF(BD73=0,IF(Scoresheet!BE72=20,30,Scoresheet!BE72),Scoresheet!BE72),IF(BE79>3,\".\",Scoresheet!BE72)))","v":"?"},{"$f":"IF(BE73>2,\".\",IF(BE79=3,IF(BE73=0,IF(Scoresheet!BF72=20,30,Scoresheet!BF72),Scoresheet!BF72),IF(BF79>3,\".\",Scoresheet!BF72)))","v":"?"},{"$f":"IF(BF73>2,\".\",IF(BF79=3,IF(BF73=0,IF(Scoresheet!BG72=20,30,Scoresheet!BG72),Scoresheet!BG72),IF(BG79>3,\".\",Scoresheet!BG72)))","v":"?"}]
[]
[null,null,{"$f":"CONCATENATE(\"# of errors \",C63)","v":"# of errors Quizzer #1"},{"$f":"IF(Scoresheet!D63=\"E\",1,0)","v":0},{"$f":"IF(Scoresheet!E63=\"E\",1+D69,D69)","v":0},{"$f":"IF(Scoresheet!F63=\"E\",1+E69,E69)","v":0},{"$f":"IF(Scoresheet!G63=\"E\",1+F69,F69)","v":0},{"$f":"IF(Scoresheet!H63=\"E\",1+G69,G69)","v":0},{"$f":"IF(Scoresheet!I63=\"E\",1+H69,H69)","v":0},{"$f":"IF(Scoresheet!J63=\"E\",1+I69,I69)","v":0},{"$f":"IF(Scoresheet!K63=\"E\",1+J69,J69)","v":0},{"$f":"IF(Scoresheet!L63=\"E\",1+K69,K69)","v":0},{"$f":"IF(Scoresheet!M63=\"E\",1+L69,L69)","v":0},{"$f":"IF(Scoresheet!N63=\"E\",1+M69,M69)","v":0},{"$f":"IF(Scoresheet!O63=\"E\",1+N69,N69)","v":0},{"$f":"IF(Scoresheet!P63=\"E\",1+O69,O69)","v":0},{"$f":"IF(Scoresheet!Q63=\"E\",1+P69,P69)","v":0},{"$f":"IF(Scoresheet!R63=\"E\",1+Q69,Q69)","v":0},{"$f":"IF(Scoresheet!S63=\"E\",1+R69,R69)","v":0},{"$f":"IF(Scoresheet!T63=\"E\",1+S69,S69)","v":0},{"$f":"IF(Scoresheet!U63=\"E\",1+T69,T69)","v":0},{"$f":"IF(Scoresheet!V63=\"E\",1+U69,U69)","v":0},{"$f":"IF(Scoresheet!W63=\"E\",1+V69,V69)","v":0},{"$f":"IF(Scoresheet!X63=\"E\",1+W69,W69)","v":0},{"$f":"IF(Scoresheet!Y63=\"E\",1+X69,X69)","v":0},{"$f":"IF(Scoresheet!Z63=\"E\",1+Y69,Y69)","v":0},{"$f":"IF(Scoresheet!AA63=\"E\",1+Z69,Z69)","v":0},{"$f":"IF(Scoresheet!AB63=\"E\",1+AA69,AA69)","v":0},{"$f":"IF(Scoresheet!AC63=\"E\",1+AB69,AB69)","v":0},{"$f":"IF(Scoresheet!AD63=\"E\",1+AC69,AC69)","v":0},{"$f":"IF(Scoresheet!AE63=\"E\",1+AD69,AD69)","v":0},{"$f":"IF(Scoresheet!AF63=\"E\",1+AE69,AE69)","v":0},{"$f":"IF(Scoresheet!AG63=\"E\",1+AF69,AF69)","v":0},{"$f":"IF(Scoresheet!AH63=\"E\",1+AG69,AG69)","v":0},{"$f":"IF(Scoresheet!AI63=\"E\",1+AH69,AH69)","v":0},{"$f":"IF(Scoresheet!AJ63=\"E\",1+AI69,AI69)","v":0},{"$f":"IF(Scoresheet!AK63=\"E\",1+AJ69,AJ69)","v":0},{"$f":"IF(Scoresheet!AL63=\"E\",1+AK69,AK69)","v":0},{"$f":"IF(Scoresheet!AM63=\"E\",1+AL69,AL69)","v":0},{"$f":"IF(Scoresheet!AN63=\"E\",1+AM69,AM69)","v":0},{"$f":"IF(Scoresheet!AO63=\"E\",1+AN69,AN69)","v":0},{"$f":"IF(Scoresheet!AP63=\"E\",1+AO69,AO69)","v":0},{"$f":"IF(Scoresheet!AQ63=\"E\",1+AP69,AP69)","v":0},{"$f":"IF(Scoresheet!AR63=\"E\",1+AQ69,AQ69)","v":0},{"$f":"IF(Scoresheet!AS63=\"E\",1+AR69,AR69)","v":0},{"$f":"IF(Scoresheet!AT63=\"E\",1+AS69,AS69)","v":0},{"$f":"IF(Scoresheet!AU63=\"E\",1+AT69,AT69)","v":0},{"$f":"IF(Scoresheet!AV63=\"E\",1+AU69,AU69)","v":0},{"$f":"IF(Scoresheet!AW63=\"E\",1+AV69,AV69)","v":0},{"$f":"IF(Scoresheet!AX63=\"E\",1+AW69,AW69)","v":0},{"$f":"IF(Scoresheet!AY63=\"E\",1+AX69,AX69)","v":0},{"$f":"IF(Scoresheet!AZ63=\"E\",1+AY69,AY69)","v":0},{"$f":"IF(Scoresheet!BA63=\"E\",1+AZ69,AZ69)","v":0},{"$f":"IF(Scoresheet!BB63=\"E\",1+BA69,BA69)","v":0},{"$f":"IF(Scoresheet!BC63=\"E\",1+BB69,BB69)","v":0},{"$f":"IF(Scoresheet!BD63=\"E\",1+BC69,BC69)","v":0},{"$f":"IF(Scoresheet!BE63=\"E\",1+BD69,BD69)","v":0},{"$f":"IF(Scoresheet!BF63=\"E\",1+BE69,BE69)","v":0},{"$f":"IF(Scoresheet!BG63=\"E\",1+BF69,BF69)","v":0}]
[null,null,{"$f":"CONCATENATE(\"# of errors \",C64)","v":"# of errors Quizzer #2"},{"$f":"IF(Scoresheet!D64=\"E\",1,0)","v":0},{"$f":"IF(Scoresheet!E64=\"E\",1+D70,D70)","v":0},{"$f":"IF(Scoresheet!F64=\"E\",1+E70,E70)","v":0},{"$f":"IF(Scoresheet!G64=\"E\",1+F70,F70)","v":0},{"$f":"IF(Scoresheet!H64=\"E\",1+G70,G70)","v":0},{"$f":"IF(Scoresheet!I64=\"E\",1+H70,H70)","v":0},{"$f":"IF(Scoresheet!J64=\"E\",1+I70,I70)","v":0},{"$f":"IF(Scoresheet!K64=\"E\",1+J70,J70)","v":0},{"$f":"IF(Scoresheet!L64=\"E\",1+K70,K70)","v":0},{"$f":"IF(Scoresheet!M64=\"E\",1+L70,L70)","v":0},{"$f":"IF(Scoresheet!N64=\"E\",1+M70,M70)","v":0},{"$f":"IF(Scoresheet!O64=\"E\",1+N70,N70)","v":0},{"$f":"IF(Scoresheet!P64=\"E\",1+O70,O70)","v":0},{"$f":"IF(Scoresheet!Q64=\"E\",1+P70,P70)","v":0},{"$f":"IF(Scoresheet!R64=\"E\",1+Q70,Q70)","v":0},{"$f":"IF(Scoresheet!S64=\"E\",1+R70,R70)","v":0},{"$f":"IF(Scoresheet!T64=\"E\",1+S70,S70)","v":0},{"$f":"IF(Scoresheet!U64=\"E\",1+T70,T70)","v":0},{"$f":"IF(Scoresheet!V64=\"E\",1+U70,U70)","v":0},{"$f":"IF(Scoresheet!W64=\"E\",1+V70,V70)","v":0},{"$f":"IF(Scoresheet!X64=\"E\",1+W70,W70)","v":0},{"$f":"IF(Scoresheet!Y64=\"E\",1+X70,X70)","v":0},{"$f":"IF(Scoresheet!Z64=\"E\",1+Y70,Y70)","v":0},{"$f":"IF(Scoresheet!AA64=\"E\",1+Z70,Z70)","v":0},{"$f":"IF(Scoresheet!AB64=\"E\",1+AA70,AA70)","v":0},{"$f":"IF(Scoresheet!AC64=\"E\",1+AB70,AB70)","v":0},{"$f":"IF(Scoresheet!AD64=\"E\",1+AC70,AC70)","v":0},{"$f":"IF(Scoresheet!AE64=\"E\",1+AD70,AD70)","v":0},{"$f":"IF(Scoresheet!AF64=\"E\",1+AE70,AE70)","v":0},{"$f":"IF(Scoresheet!AG64=\"E\",1+AF70,AF70)","v":0},{"$f":"IF(Scoresheet!AH64=\"E\",1+AG70,AG70)","v":0},{"$f":"IF(Scoresheet!AI64=\"E\",1+AH70,AH70)","v":0},{"$f":"IF(Scoresheet!AJ64=\"E\",1+AI70,AI70)","v":0},{"$f":"IF(Scoresheet!AK64=\"E\",1+AJ70,AJ70)","v":0},{"$f":"IF(Scoresheet!AL64=\"E\",1+AK70,AK70)","v":0},{"$f":"IF(Scoresheet!AM64=\"E\",1+AL70,AL70)","v":0},{"$f":"IF(Scoresheet!AN64=\"E\",1+AM70,AM70)","v":0},{"$f":"IF(Scoresheet!AO64=\"E\",1+AN70,AN70)","v":0},{"$f":"IF(Scoresheet!AP64=\"E\",1+AO70,AO70)","v":0},{"$f":"IF(Scoresheet!AQ64=\"E\",1+AP70,AP70)","v":0},{"$f":"IF(Scoresheet!AR64=\"E\",1+AQ70,AQ70)","v":0},{"$f":"IF(Scoresheet!AS64=\"E\",1+AR70,AR70)","v":0},{"$f":"IF(Scoresheet!AT64=\"E\",1+AS70,AS70)","v":0},{"$f":"IF(Scoresheet!AU64=\"E\",1+AT70,AT70)","v":0},{"$f":"IF(Scoresheet!AV64=\"E\",1+AU70,AU70)","v":0},{"$f":"IF(Scoresheet!AW64=\"E\",1+AV70,AV70)","v":0},{"$f":"IF(Scoresheet!AX64=\"E\",1+AW70,AW70)","v":0},{"$f":"IF(Scoresheet!AY64=\"E\",1+AX70,AX70)","v":0},{"$f":"IF(Scoresheet!AZ64=\"E\",1+AY70,AY70)","v":0},{"$f":"IF(Scoresheet!BA64=\"E\",1+AZ70,AZ70)","v":0},{"$f":"IF(Scoresheet!BB64=\"E\",1+BA70,BA70)","v":0},{"$f":"IF(Scoresheet!BC64=\"E\",1+BB70,BB70)","v":0},{"$f":"IF(Scoresheet!BD64=\"E\",1+BC70,BC70)","v":0},{"$f":"IF(Scoresheet!BE64=\"E\",1+BD70,BD70)","v":0},{"$f":"IF(Scoresheet!BF64=\"E\",1+BE70,BE70)","v":0},{"$f":"IF(Scoresheet!BG64=\"E\",1+BF70,BF70)","v":0}]
[null,null,"# of errors Quizzer #3",{"$f":"IF(Scoresheet!D65=\"E\",1,0)","v":0},{"$f":"IF(Scoresheet!E65=\"E\",1+D71,D71)","v":0},{"$f":"IF(Scoresheet!F65=\"E\",1+E71,E71)","v":0},{"$f":"IF(Scoresheet!G65=\"E\",1+F71,F71)","v":0},{"$f":"IF(Scoresheet!H65=\"E\",1+G71,G71)","v":0},{"$f":"IF(Scoresheet!I65=\"E\",1+H71,H71)","v":0},{"$f":"IF(Scoresheet!J65=\"E\",1+I71,I71)","v":0},{"$f":"IF(Scoresheet!K65=\"E\",1+J71,J71)","v":0},{"$f":"IF(Scoresheet!L65=\"E\",1+K71,K71)","v":0},{"$f":"IF(Scoresheet!M65=\"E\",1+L71,L71)","v":0},{"$f":"IF(Scoresheet!N65=\"E\",1+M71,M71)","v":0},{"$f":"IF(Scoresheet!O65=\"E\",1+N71,N71)","v":0},{"$f":"IF(Scoresheet!P65=\"E\",1+O71,O71)","v":0},{"$f":"IF(Scoresheet!Q65=\"E\",1+P71,P71)","v":0},{"$f":"IF(Scoresheet!R65=\"E\",1+Q71,Q71)","v":0},{"$f":"IF(Scoresheet!S65=\"E\",1+R71,R71)","v":0},{"$f":"IF(Scoresheet!T65=\"E\",1+S71,S71)","v":0},{"$f":"IF(Scoresheet!U65=\"E\",1+T71,T71)","v":0},{"$f":"IF(Scoresheet!V65=\"E\",1+U71,U71)","v":0},{"$f":"IF(Scoresheet!W65=\"E\",1+V71,V71)","v":0},{"$f":"IF(Scoresheet!X65=\"E\",1+W71,W71)","v":0},{"$f":"IF(Scoresheet!Y65=\"E\",1+X71,X71)","v":0},{"$f":"IF(Scoresheet!Z65=\"E\",1+Y71,Y71)","v":0},{"$f":"IF(Scoresheet!AA65=\"E\",1+Z71,Z71)","v":0},{"$f":"IF(Scoresheet!AB65=\"E\",1+AA71,AA71)","v":0},{"$f":"IF(Scoresheet!AC65=\"E\",1+AB71,AB71)","v":0},{"$f":"IF(Scoresheet!AD65=\"E\",1+AC71,AC71)","v":0},{"$f":"IF(Scoresheet!AE65=\"E\",1+AD71,AD71)","v":0},{"$f":"IF(Scoresheet!AF65=\"E\",1+AE71,AE71)","v":0},{"$f":"IF(Scoresheet!AG65=\"E\",1+AF71,AF71)","v":0},{"$f":"IF(Scoresheet!AH65=\"E\",1+AG71,AG71)","v":0},{"$f":"IF(Scoresheet!AI65=\"E\",1+AH71,AH71)","v":0},{"$f":"IF(Scoresheet!AJ65=\"E\",1+AI71,AI71)","v":0},{"$f":"IF(Scoresheet!AK65=\"E\",1+AJ71,AJ71)","v":0},{"$f":"IF(Scoresheet!AL65=\"E\",1+AK71,AK71)","v":0},{"$f":"IF(Scoresheet!AM65=\"E\",1+AL71,AL71)","v":0},{"$f":"IF(Scoresheet!AN65=\"E\",1+AM71,AM71)","v":0},{"$f":"IF(Scoresheet!AO65=\"E\",1+AN71,AN71)","v":0},{"$f":"IF(Scoresheet!AP65=\"E\",1+AO71,AO71)","v":0},{"$f":"IF(Scoresheet!AQ65=\"E\",1+AP71,AP71)","v":0},{"$f":"IF(Scoresheet!AR65=\"E\",1+AQ71,AQ71)","v":0},{"$f":"IF(Scoresheet!AS65=\"E\",1+AR71,AR71)","v":0},{"$f":"IF(Scoresheet!AT65=\"E\",1+AS71,AS71)","v":0},{"$f":"IF(Scoresheet!AU65=\"E\",1+AT71,AT71)","v":0},{"$f":"IF(Scoresheet!AV65=\"E\",1+AU71,AU71)","v":0},{"$f":"IF(Scoresheet!AW65=\"E\",1+AV71,AV71)","v":0},{"$f":"IF(Scoresheet!AX65=\"E\",1+AW71,AW71)","v":0},{"$f":"IF(Scoresheet!AY65=\"E\",1+AX71,AX71)","v":0},{"$f":"IF(Scoresheet!AZ65=\"E\",1+AY71,AY71)","v":0},{"$f":"IF(Scoresheet!BA65=\"E\",1+AZ71,AZ71)","v":0},{"$f":"IF(Scoresheet!BB65=\"E\",1+BA71,BA71)","v":0},{"$f":"IF(Scoresheet!BC65=\"E\",1+BB71,BB71)","v":0},{"$f":"IF(Scoresheet!BD65=\"E\",1+BC71,BC71)","v":0},{"$f":"IF(Scoresheet!BE65=\"E\",1+BD71,BD71)","v":0},{"$f":"IF(Scoresheet!BF65=\"E\",1+BE71,BE71)","v":0},{"$f":"IF(Scoresheet!BG65=\"E\",1+BF71,BF71)","v":0}]
[null,null,"# of errors Quizzer #4",{"$f":"IF(Scoresheet!D66=\"E\",1,0)","v":0},{"$f":"IF(Scoresheet!E66=\"E\",1+D72,D72)","v":0},{"$f":"IF(Scoresheet!F66=\"E\",1+E72,E72)","v":0},{"$f":"IF(Scoresheet!G66=\"E\",1+F72,F72)","v":0},{"$f":"IF(Scoresheet!H66=\"E\",1+G72,G72)","v":0},{"$f":"IF(Scoresheet!I66=\"E\",1+H72,H72)","v":0},{"$f":"IF(Scoresheet!J66=\"E\",1+I72,I72)","v":0},{"$f":"IF(Scoresheet!K66=\"E\",1+J72,J72)","v":0},{"$f":"IF(Scoresheet!L66=\"E\",1+K72,K72)","v":0},{"$f":"IF(Scoresheet!M66=\"E\",1+L72,L72)","v":0},{"$f":"IF(Scoresheet!N66=\"E\",1+M72,M72)","v":0},{"$f":"IF(Scoresheet!O66=\"E\",1+N72,N72)","v":0},{"$f":"IF(Scoresheet!P66=\"E\",1+O72,O72)","v":0},{"$f":"IF(Scoresheet!Q66=\"E\",1+P72,P72)","v":0},{"$f":"IF(Scoresheet!R66=\"E\",1+Q72,Q72)","v":0},{"$f":"IF(Scoresheet!S66=\"E\",1+R72,R72)","v":0},{"$f":"IF(Scoresheet!T66=\"E\",1+S72,S72)","v":0},{"$f":"IF(Scoresheet!U66=\"E\",1+T72,T72)","v":0},{"$f":"IF(Scoresheet!V66=\"E\",1+U72,U72)","v":0},{"$f":"IF(Scoresheet!W66=\"E\",1+V72,V72)","v":0},{"$f":"IF(Scoresheet!X66=\"E\",1+W72,W72)","v":0},{"$f":"IF(Scoresheet!Y66=\"E\",1+X72,X72)","v":0},{"$f":"IF(Scoresheet!Z66=\"E\",1+Y72,Y72)","v":0},{"$f":"IF(Scoresheet!AA66=\"E\",1+Z72,Z72)","v":0},{"$f":"IF(Scoresheet!AB66=\"E\",1+AA72,AA72)","v":0},{"$f":"IF(Scoresheet!AC66=\"E\",1+AB72,AB72)","v":0},{"$f":"IF(Scoresheet!AD66=\"E\",1+AC72,AC72)","v":0},{"$f":"IF(Scoresheet!AE66=\"E\",1+AD72,AD72)","v":0},{"$f":"IF(Scoresheet!AF66=\"E\",1+AE72,AE72)","v":0},{"$f":"IF(Scoresheet!AG66=\"E\",1+AF72,AF72)","v":0},{"$f":"IF(Scoresheet!AH66=\"E\",1+AG72,AG72)","v":0},{"$f":"IF(Scoresheet!AI66=\"E\",1+AH72,AH72)","v":0},{"$f":"IF(Scoresheet!AJ66=\"E\",1+AI72,AI72)","v":0},{"$f":"IF(Scoresheet!AK66=\"E\",1+AJ72,AJ72)","v":0},{"$f":"IF(Scoresheet!AL66=\"E\",1+AK72,AK72)","v":0},{"$f":"IF(Scoresheet!AM66=\"E\",1+AL72,AL72)","v":0},{"$f":"IF(Scoresheet!AN66=\"E\",1+AM72,AM72)","v":0},{"$f":"IF(Scoresheet!AO66=\"E\",1+AN72,AN72)","v":0},{"$f":"IF(Scoresheet!AP66=\"E\",1+AO72,AO72)","v":0},{"$f":"IF(Scoresheet!AQ66=\"E\",1+AP72,AP72)","v":0},{"$f":"IF(Scoresheet!AR66=\"E\",1+AQ72,AQ72)","v":0},{"$f":"IF(Scoresheet!AS66=\"E\",1+AR72,AR72)","v":0},{"$f":"IF(Scoresheet!AT66=\"E\",1+AS72,AS72)","v":0},{"$f":"IF(Scoresheet!AU66=\"E\",1+AT72,AT72)","v":0},{"$f":"IF(Scoresheet!AV66=\"E\",1+AU72,AU72)","v":0},{"$f":"IF(Scoresheet!AW66=\"E\",1+AV72,AV72)","v":0},{"$f":"IF(Scoresheet!AX66=\"E\",1+AW72,AW72)","v":0},{"$f":"IF(Scoresheet!AY66=\"E\",1+AX72,AX72)","v":0},{"$f":"IF(Scoresheet!AZ66=\"E\",1+AY72,AY72)","v":0},{"$f":"IF(Scoresheet!BA66=\"E\",1+AZ72,AZ72)","v":0},{"$f":"IF(Scoresheet!BB66=\"E\",1+BA72,BA72)","v":0},{"$f":"IF(Scoresheet!BC66=\"E\",1+BB72,BB72)","v":0},{"$f":"IF(Scoresheet!BD66=\"E\",1+BC72,BC72)","v":0},{"$f":"IF(Scoresheet!BE66=\"E\",1+BD72,BD72)","v":0},{"$f":"IF(Scoresheet!BF66=\"E\",1+BE72,BE72)","v":0},{"$f":"IF(Scoresheet!BG66=\"E\",1+BF72,BF72)","v":0}]
[null,null,"# of errors 0",{"$f":"IF(Scoresheet!D67=\"E\",1,0)","v":0},{"$f":"IF(Scoresheet!E67=\"E\",1+D73,D73)","v":0},{"$f":"IF(Scoresheet!F67=\"E\",1+E73,E73)","v":0},{"$f":"IF(Scoresheet!G67=\"E\",1+F73,F73)","v":0},{"$f":"IF(Scoresheet!H67=\"E\",1+G73,G73)","v":0},{"$f":"IF(Scoresheet!I67=\"E\",1+H73,H73)","v":0},{"$f":"IF(Scoresheet!J67=\"E\",1+I73,I73)","v":0},{"$f":"IF(Scoresheet!K67=\"E\",1+J73,J73)","v":0},{"$f":"IF(Scoresheet!L67=\"E\",1+K73,K73)","v":0},{"$f":"IF(Scoresheet!M67=\"E\",1+L73,L73)","v":0},{"$f":"IF(Scoresheet!N67=\"E\",1+M73,M73)","v":0},{"$f":"IF(Scoresheet!O67=\"E\",1+N73,N73)","v":0},{"$f":"IF(Scoresheet!P67=\"E\",1+O73,O73)","v":0},{"$f":"IF(Scoresheet!Q67=\"E\",1+P73,P73)","v":0},{"$f":"IF(Scoresheet!R67=\"E\",1+Q73,Q73)","v":0},{"$f":"IF(Scoresheet!S67=\"E\",1+R73,R73)","v":0},{"$f":"IF(Scoresheet!T67=\"E\",1+S73,S73)","v":0},{"$f":"IF(Scoresheet!U67=\"E\",1+T73,T73)","v":0},{"$f":"IF(Scoresheet!V67=\"E\",1+U73,U73)","v":0},{"$f":"IF(Scoresheet!W67=\"E\",1+V73,V73)","v":0},{"$f":"IF(Scoresheet!X67=\"E\",1+W73,W73)","v":0},{"$f":"IF(Scoresheet!Y67=\"E\",1+X73,X73)","v":0},{"$f":"IF(Scoresheet!Z67=\"E\",1+Y73,Y73)","v":0},{"$f":"IF(Scoresheet!AA67=\"E\",1+Z73,Z73)","v":0},{"$f":"IF(Scoresheet!AB67=\"E\",1+AA73,AA73)","v":0},{"$f":"IF(Scoresheet!AC67=\"E\",1+AB73,AB73)","v":0},{"$f":"IF(Scoresheet!AD67=\"E\",1+AC73,AC73)","v":0},{"$f":"IF(Scoresheet!AE67=\"E\",1+AD73,AD73)","v":0},{"$f":"IF(Scoresheet!AF67=\"E\",1+AE73,AE73)","v":0},{"$f":"IF(Scoresheet!AG67=\"E\",1+AF73,AF73)","v":0},{"$f":"IF(Scoresheet!AH67=\"E\",1+AG73,AG73)","v":0},{"$f":"IF(Scoresheet!AI67=\"E\",1+AH73,AH73)","v":0},{"$f":"IF(Scoresheet!AJ67=\"E\",1+AI73,AI73)","v":0},{"$f":"IF(Scoresheet!AK67=\"E\",1+AJ73,AJ73)","v":0},{"$f":"IF(Scoresheet!AL67=\"E\",1+AK73,AK73)","v":0},{"$f":"IF(Scoresheet!AM67=\"E\",1+AL73,AL73)","v":0},{"$f":"IF(Scoresheet!AN67=\"E\",1+AM73,AM73)","v":0},{"$f":"IF(Scoresheet!AO67=\"E\",1+AN73,AN73)","v":0},{"$f":"IF(Scoresheet!AP67=\"E\",1+AO73,AO73)","v":0},{"$f":"IF(Scoresheet!AQ67=\"E\",1+AP73,AP73)","v":0},{"$f":"IF(Scoresheet!AR67=\"E\",1+AQ73,AQ73)","v":0},{"$f":"IF(Scoresheet!AS67=\"E\",1+AR73,AR73)","v":0},{"$f":"IF(Scoresheet!AT67=\"E\",1+AS73,AS73)","v":0},{"$f":"IF(Scoresheet!AU67=\"E\",1+AT73,AT73)","v":0},{"$f":"IF(Scoresheet!AV67=\"E\",1+AU73,AU73)","v":0},{"$f":"IF(Scoresheet!AW67=\"E\",1+AV73,AV73)","v":0},{"$f":"IF(Scoresheet!AX67=\"E\",1+AW73,AW73)","v":0},{"$f":"IF(Scoresheet!AY67=\"E\",1+AX73,AX73)","v":0},{"$f":"IF(Scoresheet!AZ67=\"E\",1+AY73,AY73)","v":0},{"$f":"IF(Scoresheet!BA67=\"E\",1+AZ73,AZ73)","v":0},{"$f":"IF(Scoresheet!BB67=\"E\",1+BA73,BA73)","v":0},{"$f":"IF(Scoresheet!BC67=\"E\",1+BB73,BB73)","v":0},{"$f":"IF(Scoresheet!BD67=\"E\",1+BC73,BC73)","v":0},{"$f":"IF(Scoresheet!BE67=\"E\",1+BD73,BD73)","v":0},{"$f":"IF(Scoresheet!BF67=\"E\",1+BE73,BE73)","v":0},{"$f":"IF(Scoresheet!BG67=\"E\",1+BF73,BF73)","v":0}]
[]
[null,null,{"$f":"CONCATENATE(\"# 20's \",Sheet3!C63)","v":"# 20's Quizzer #1"},{"$f":"COUNTIF(Scoresheet!$D63:D63,20)+COUNTIF(Scoresheet!$D63:D63,30)","v":0},{"$f":"COUNTIF(Scoresheet!$D63:E63,20)+COUNTIF(Scoresheet!$D63:E63,30)","v":0},{"$f":"COUNTIF(Scoresheet!$D63:F63,20)+COUNTIF(Scoresheet!$D63:F63,30)","v":0},{"$f":"COUNTIF(Scoresheet!$D63:G63,20)+COUNTIF(Scoresheet!$D63:G63,30)","v":0},{"$f":"COUNTIF(Scoresheet!$D63:H63,20)+COUNTIF(Scoresheet!$D63:H63,30)","v":0},{"$f":"COUNTIF(Scoresheet!$D63:I63,20)+COUNTIF(Scoresheet!$D63:I63,30)","v":0},{"$f":"COUNTIF(Scoresheet!$D63:J63,20)+COUNTIF(Scoresheet!$D63:J63,30)","v":0},{"$f":"COUNTIF(Scoresheet!$D63:K63,20)+COUNTIF(Scoresheet!$D63:K63,30)","v":0},{"$f":"COUNTIF(Scoresheet!$D63:L63,20)+COUNTIF(Scoresheet!$D63:L63,30)","v":0},{"$f":"COUNTIF(Scoresheet!$D63:M63,20)+COUNTIF(Scoresheet!$D63:M63,30)","v":0},{"$f":"COUNTIF(Scoresheet!$D63:N63,20)+COUNTIF(Scoresheet!$D63:N63,30)","v":0},{"$f":"COUNTIF(Scoresheet!$D63:O63,20)+COUNTIF(Scoresheet!$D63:O63,30)","v":0},{"$f":"COUNTIF(Scoresheet!$D63:P63,20)+COUNTIF(Scoresheet!$D63:P63,30)","v":0},{"$f":"COUNTIF(Scoresheet!$D63:Q63,20)+COUNTIF(Scoresheet!$D63:Q63,30)","v":0},{"$f":"COUNTIF(Scoresheet!$D63:R63,20)+COUNTIF(Scoresheet!$D63:R63,30)","v":0},{"$f":"COUNTIF(Scoresheet!$D63:S63,20)+COUNTIF(Scoresheet!$D63:S63,30)","v":0},{"$f":"COUNTIF(Scoresheet!$D63:T63,20)+COUNTIF(Scoresheet!$D63:T63,30)","v":0},{"$f":"COUNTIF(Scoresheet!$D63:U63,20)+COUNTIF(Scoresheet!$D63:U63,30)","v":0},{"$f":"COUNTIF(Scoresheet!$D63:V63,20)+COUNTIF(Scoresheet!$D63:V63,30)","v":0},{"$f":"COUNTIF(Scoresheet!$D63:W63,20)+COUNTIF(Scoresheet!$D63:W63,30)","v":0},{"$f":"COUNTIF(Scoresheet!$D63:X63,20)+COUNTIF(Scoresheet!$D63:X63,30)","v":0},{"$f":"COUNTIF(Scoresheet!$D63:Y63,20)+COUNTIF(Scoresheet!$D63:Y63,30)","v":0},{"$f":"COUNTIF(Scoresheet!$D63:Z63,20)+COUNTIF(Scoresheet!$D63:Z63,30)","v":0},{"$f":"COUNTIF(Scoresheet!$D63:AA63,20)+COUNTIF(Scoresheet!$D63:AA63,30)","v":0},{"$f":"COUNTIF(Scoresheet!$D63:AB63,20)+COUNTIF(Scoresheet!$D63:AB63,30)","v":0},{"$f":"COUNTIF(Scoresheet!$D63:AC63,20)+COUNTIF(Scoresheet!$D63:AC63,30)","v":0},{"$f":"COUNTIF(Scoresheet!$D63:AD63,20)+COUNTIF(Scoresheet!$D63:AD63,30)","v":0},{"$f":"COUNTIF(Scoresheet!$D63:AE63,20)+COUNTIF(Scoresheet!$D63:AE63,30)","v":0},{"$f":"COUNTIF(Scoresheet!$D63:AF63,20)+COUNTIF(Scoresheet!$D63:AF63,30)","v":0},{"$f":"COUNTIF(Scoresheet!$D63:AG63,20)+COUNTIF(Scoresheet!$D63:AG63,30)","v":0},{"$f":"COUNTIF(Scoresheet!$D63:AH63,20)+COUNTIF(Scoresheet!$D63:AH63,30)","v":0},{"$f":"COUNTIF(Scoresheet!$D63:AI63,20)+COUNTIF(Scoresheet!$D63:AI63,30)","v":0},{"$f":"COUNTIF(Scoresheet!$D63:AJ63,20)+COUNTIF(Scoresheet!$D63:AJ63,30)","v":0},{"$f":"COUNTIF(Scoresheet!$D63:AK63,20)+COUNTIF(Scoresheet!$D63:AK63,30)","v":0},{"$f":"COUNTIF(Scoresheet!$D63:AL63,20)+COUNTIF(Scoresheet!$D63:AL63,30)","v":0},{"$f":"COUNTIF(Scoresheet!$D63:AM63,20)+COUNTIF(Scoresheet!$D63:AM63,30)","v":0},{"$f":"COUNTIF(Scoresheet!$D63:AN63,20)+COUNTIF(Scoresheet!$D63:AN63,30)","v":0},{"$f":"COUNTIF(Scoresheet!$D63:AO63,20)+COUNTIF(Scoresheet!$D63:AO63,30)","v":0},{"$f":"COUNTIF(Scoresheet!$D63:AP63,20)+COUNTIF(Scoresheet!$D63:AP63,30)","v":0},{"$f":"COUNTIF(Scoresheet!$D63:AQ63,20)+COUNTIF(Scoresheet!$D63:AQ63,30)","v":0},{"$f":"COUNTIF(Scoresheet!$D63:AR63,20)+COUNTIF(Scoresheet!$D63:AR63,30)","v":0},{"$f":"COUNTIF(Scoresheet!$D63:AS63,20)+COUNTIF(Scoresheet!$D63:AS63,30)","v":0},{"$f":"COUNTIF(Scoresheet!$D63:AT63,20)+COUNTIF(Scoresheet!$D63:AT63,30)","v":0},{"$f":"COUNTIF(Scoresheet!$D63:AU63,20)+COUNTIF(Scoresheet!$D63:AU63,30)","v":0},{"$f":"COUNTIF(Scoresheet!$D63:AV63,20)+COUNTIF(Scoresheet!$D63:AV63,30)","v":0},{"$f":"COUNTIF(Scoresheet!$D63:AW63,20)+COUNTIF(Scoresheet!$D63:AW63,30)","v":0},{"$f":"COUNTIF(Scoresheet!$D63:AX63,20)+COUNTIF(Scoresheet!$D63:AX63,30)","v":0},{"$f":"COUNTIF(Scoresheet!$D63:AY63,20)+COUNTIF(Scoresheet!$D63:AY63,30)","v":0},{"$f":"COUNTIF(Scoresheet!$D63:AZ63,20)+COUNTIF(Scoresheet!$D63:AZ63,30)","v":0},{"$f":"COUNTIF(Scoresheet!$D63:BA63,20)+COUNTIF(Scoresheet!$D63:BA63,30)","v":0},{"$f":"COUNTIF(Scoresheet!$D63:BB63,20)+COUNTIF(Scoresheet!$D63:BB63,30)","v":0},{"$f":"COUNTIF(Scoresheet!$D63:BC63,20)+COUNTIF(Scoresheet!$D63:BC63,30)","v":0},{"$f":"COUNTIF(Scoresheet!$D63:BD63,20)+COUNTIF(Scoresheet!$D63:BD63,30)","v":0},{"$f":"COUNTIF(Scoresheet!$D63:BE63,20)+COUNTIF(Scoresheet!$D63:BE63,30)","v":0},{"$f":"COUNTIF(Scoresheet!$D63:BF63,20)+COUNTIF(Scoresheet!$D63:BF63,30)","v":0},{"$f":"COUNTIF(Scoresheet!$D63:BG63,20)+COUNTIF(Scoresheet!$D63:BG63,30)","v":0}]
[null,null,{"$f":"CONCATENATE(\"# 20's \",Sheet3!C64)","v":"# 20's Quizzer #2"},{"$f":"COUNTIF(Scoresheet!$D64:D64,20)+COUNTIF(Scoresheet!$D64:D64,30)","v":0},{"$f":"COUNTIF(Scoresheet!$D64:E64,20)+COUNTIF(Scoresheet!$D64:E64,30)","v":0},{"$f":"COUNTIF(Scoresheet!$D64:F64,20)+COUNTIF(Scoresheet!$D64:F64,30)","v":0},{"$f":"COUNTIF(Scoresheet!$D64:G64,20)+COUNTIF(Scoresheet!$D64:G64,30)","v":0},{"$f":"COUNTIF(Scoresheet!$D64:H64,20)+COUNTIF(Scoresheet!$D64:H64,30)","v":0},{"$f":"COUNTIF(Scoresheet!$D64:I64,20)+COUNTIF(Scoresheet!$D64:I64,30)","v":0},{"$f":"COUNTIF(Scoresheet!$D64:J64,20)+COUNTIF(Scoresheet!$D64:J64,30)","v":0},{"$f":"COUNTIF(Scoresheet!$D64:K64,20)+COUNTIF(Scoresheet!$D64:K64,30)","v":0},{"$f":"COUNTIF(Scoresheet!$D64:L64,20)+COUNTIF(Scoresheet!$D64:L64,30)","v":0},{"$f":"COUNTIF(Scoresheet!$D64:M64,20)+COUNTIF(Scoresheet!$D64:M64,30)","v":0},{"$f":"COUNTIF(Scoresheet!$D64:N64,20)+COUNTIF(Scoresheet!$D64:N64,30)","v":0},{"$f":"COUNTIF(Scoresheet!$D64:O64,20)+COUNTIF(Scoresheet!$D64:O64,30)","v":0},{"$f":"COUNTIF(Scoresheet!$D64:P64,20)+COUNTIF(Scoresheet!$D64:P64,30)","v":0},{"$f":"COUNTIF(Scoresheet!$D64:Q64,20)+COUNTIF(Scoresheet!$D64:Q64,30)","v":0},{"$f":"COUNTIF(Scoresheet!$D64:R64,20)+COUNTIF(Scoresheet!$D64:R64,30)","v":0},{"$f":"COUNTIF(Scoresheet!$D64:S64,20)+COUNTIF(Scoresheet!$D64:S64,30)","v":0},{"$f":"COUNTIF(Scoresheet!$D64:T64,20)+COUNTIF(Scoresheet!$D64:T64,30)","v":0},{"$f":"COUNTIF(Scoresheet!$D64:U64,20)+COUNTIF(Scoresheet!$D64:U64,30)","v":0},{"$f":"COUNTIF(Scoresheet!$D64:V64,20)+COUNTIF(Scoresheet!$D64:V64,30)","v":0},{"$f":"COUNTIF(Scoresheet!$D64:W64,20)+COUNTIF(Scoresheet!$D64:W64,30)","v":0},{"$f":"COUNTIF(Scoresheet!$D64:X64,20)+COUNTIF(Scoresheet!$D64:X64,30)","v":0},{"$f":"COUNTIF(Scoresheet!$D64:Y64,20)+COUNTIF(Scoresheet!$D64:Y64,30)","v":0},{"$f":"COUNTIF(Scoresheet!$D64:Z64,20)+COUNTIF(Scoresheet!$D64:Z64,30)","v":0},{"$f":"COUNTIF(Scoresheet!$D64:AA64,20)+COUNTIF(Scoresheet!$D64:AA64,30)","v":0},{"$f":"COUNTIF(Scoresheet!$D64:AB64,20)+COUNTIF(Scoresheet!$D64:AB64,30)","v":0},{"$f":"COUNTIF(Scoresheet!$D64:AC64,20)+COUNTIF(Scoresheet!$D64:AC64,30)","v":0},{"$f":"COUNTIF(Scoresheet!$D64:AD64,20)+COUNTIF(Scoresheet!$D64:AD64,30)","v":0},{"$f":"COUNTIF(Scoresheet!$D64:AE64,20)+COUNTIF(Scoresheet!$D64:AE64,30)","v":0},{"$f":"COUNTIF(Scoresheet!$D64:AF64,20)+COUNTIF(Scoresheet!$D64:AF64,30)","v":0},{"$f":"COUNTIF(Scoresheet!$D64:AG64,20)+COUNTIF(Scoresheet!$D64:AG64,30)","v":0},{"$f":"COUNTIF(Scoresheet!$D64:AH64,20)+COUNTIF(Scoresheet!$D64:AH64,30)","v":0},{"$f":"COUNTIF(Scoresheet!$D64:AI64,20)+COUNTIF(Scoresheet!$D64:AI64,30)","v":0},{"$f":"COUNTIF(Scoresheet!$D64:AJ64,20)+COUNTIF(Scoresheet!$D64:AJ64,30)","v":0},{"$f":"COUNTIF(Scoresheet!$D64:AK64,20)+COUNTIF(Scoresheet!$D64:AK64,30)","v":0},{"$f":"COUNTIF(Scoresheet!$D64:AL64,20)+COUNTIF(Scoresheet!$D64:AL64,30)","v":0},{"$f":"COUNTIF(Scoresheet!$D64:AM64,20)+COUNTIF(Scoresheet!$D64:AM64,30)","v":0},{"$f":"COUNTIF(Scoresheet!$D64:AN64,20)+COUNTIF(Scoresheet!$D64:AN64,30)","v":0},{"$f":"COUNTIF(Scoresheet!$D64:AO64,20)+COUNTIF(Scoresheet!$D64:AO64,30)","v":0},{"$f":"COUNTIF(Scoresheet!$D64:AP64,20)+COUNTIF(Scoresheet!$D64:AP64,30)","v":0},{"$f":"COUNTIF(Scoresheet!$D64:AQ64,20)+COUNTIF(Scoresheet!$D64:AQ64,30)","v":0},{"$f":"COUNTIF(Scoresheet!$D64:AR64,20)+COUNTIF(Scoresheet!$D64:AR64,30)","v":0},{"$f":"COUNTIF(Scoresheet!$D64:AS64,20)+COUNTIF(Scoresheet!$D64:AS64,30)","v":0},{"$f":"COUNTIF(Scoresheet!$D64:AT64,20)+COUNTIF(Scoresheet!$D64:AT64,30)","v":0},{"$f":"COUNTIF(Scoresheet!$D64:AU64,20)+COUNTIF(Scoresheet!$D64:AU64,30)","v":0},{"$f":"COUNTIF(Scoresheet!$D64:AV64,20)+COUNTIF(Scoresheet!$D64:AV64,30)","v":0},{"$f":"COUNTIF(Scoresheet!$D64:AW64,20)+COUNTIF(Scoresheet!$D64:AW64,30)","v":0},{"$f":"COUNTIF(Scoresheet!$D64:AX64,20)+COUNTIF(Scoresheet!$D64:AX64,30)","v":0},{"$f":"COUNTIF(Scoresheet!$D64:AY64,20)+COUNTIF(Scoresheet!$D64:AY64,30)","v":0},{"$f":"COUNTIF(Scoresheet!$D64:AZ64,20)+COUNTIF(Scoresheet!$D64:AZ64,30)","v":0},{"$f":"COUNTIF(Scoresheet!$D64:BA64,20)+COUNTIF(Scoresheet!$D64:BA64,30)","v":0},{"$f":"COUNTIF(Scoresheet!$D64:BB64,20)+COUNTIF(Scoresheet!$D64:BB64,30)","v":0},{"$f":"COUNTIF(Scoresheet!$D64:BC64,20)+COUNTIF(Scoresheet!$D64:BC64,30)","v":0},{"$f":"COUNTIF(Scoresheet!$D64:BD64,20)+COUNTIF(Scoresheet!$D64:BD64,30)","v":0},{"$f":"COUNTIF(Scoresheet!$D64:BE64,20)+COUNTIF(Scoresheet!$D64:BE64,30)","v":0},{"$f":"COUNTIF(Scoresheet!$D64:BF64,20)+COUNTIF(Scoresheet!$D64:BF64,30)","v":0},{"$f":"COUNTIF(Scoresheet!$D64:BG64,20)+COUNTIF(Scoresheet!$D64:BG64,30)","v":0}]
[null,null,{"$f":"CONCATENATE(\"# 20's \",Sheet3!C65)","v":"# 20's Quizzer #3"},{"$f":"COUNTIF(Scoresheet!$D65:D65,20)+COUNTIF(Scoresheet!$D65:D65,30)","v":0},{"$f":"COUNTIF(Scoresheet!$D65:E65,20)+COUNTIF(Scoresheet!$D65:E65,30)","v":0},{"$f":"COUNTIF(Scoresheet!$D65:F65,20)+COUNTIF(Scoresheet!$D65:F65,30)","v":0},{"$f":"COUNTIF(Scoresheet!$D65:G65,20)+COUNTIF(Scoresheet!$D65:G65,30)","v":0},{"$f":"COUNTIF(Scoresheet!$D65:H65,20)+COUNTIF(Scoresheet!$D65:H65,30)","v":0},{"$f":"COUNTIF(Scoresheet!$D65:I65,20)+COUNTIF(Scoresheet!$D65:I65,30)","v":0},{"$f":"COUNTIF(Scoresheet!$D65:J65,20)+COUNTIF(Scoresheet!$D65:J65,30)","v":0},{"$f":"COUNTIF(Scoresheet!$D65:K65,20)+COUNTIF(Scoresheet!$D65:K65,30)","v":0},{"$f":"COUNTIF(Scoresheet!$D65:L65,20)+COUNTIF(Scoresheet!$D65:L65,30)","v":0},{"$f":"COUNTIF(Scoresheet!$D65:M65,20)+COUNTIF(Scoresheet!$D65:M65,30)","v":0},{"$f":"COUNTIF(Scoresheet!$D65:N65,20)+COUNTIF(Scoresheet!$D65:N65,30)","v":0},{"$f":"COUNTIF(Scoresheet!$D65:O65,20)+COUNTIF(Scoresheet!$D65:O65,30)","v":0},{"$f":"COUNTIF(Scoresheet!$D65:P65,20)+COUNTIF(Scoresheet!$D65:P65,30)","v":0},{"$f":"COUNTIF(Scoresheet!$D65:Q65,20)+COUNTIF(Scoresheet!$D65:Q65,30)","v":0},{"$f":"COUNTIF(Scoresheet!$D65:R65,20)+COUNTIF(Scoresheet!$D65:R65,30)","v":0},{"$f":"COUNTIF(Scoresheet!$D65:S65,20)+COUNTIF(Scoresheet!$D65:S65,30)","v":0},{"$f":"COUNTIF(Scoresheet!$D65:T65,20)+COUNTIF(Scoresheet!$D65:T65,30)","v":0},{"$f":"COUNTIF(Scoresheet!$D65:U65,20)+COUNTIF(Scoresheet!$D65:U65,30)","v":0},{"$f":"COUNTIF(Scoresheet!$D65:V65,20)+COUNTIF(Scoresheet!$D65:V65,30)","v":0},{"$f":"COUNTIF(Scoresheet!$D65:W65,20)+COUNTIF(Scoresheet!$D65:W65,30)","v":0},{"$f":"COUNTIF(Scoresheet!$D65:X65,20)+COUNTIF(Scoresheet!$D65:X65,30)","v":0},{"$f":"COUNTIF(Scoresheet!$D65:Y65,20)+COUNTIF(Scoresheet!$D65:Y65,30)","v":0},{"$f":"COUNTIF(Scoresheet!$D65:Z65,20)+COUNTIF(Scoresheet!$D65:Z65,30)","v":0},{"$f":"COUNTIF(Scoresheet!$D65:AA65,20)+COUNTIF(Scoresheet!$D65:AA65,30)","v":0},{"$f":"COUNTIF(Scoresheet!$D65:AB65,20)+COUNTIF(Scoresheet!$D65:AB65,30)","v":0},{"$f":"COUNTIF(Scoresheet!$D65:AC65,20)+COUNTIF(Scoresheet!$D65:AC65,30)","v":0},{"$f":"COUNTIF(Scoresheet!$D65:AD65,20)+COUNTIF(Scoresheet!$D65:AD65,30)","v":0},{"$f":"COUNTIF(Scoresheet!$D65:AE65,20)+COUNTIF(Scoresheet!$D65:AE65,30)","v":0},{"$f":"COUNTIF(Scoresheet!$D65:AF65,20)+COUNTIF(Scoresheet!$D65:AF65,30)","v":0},{"$f":"COUNTIF(Scoresheet!$D65:AG65,20)+COUNTIF(Scoresheet!$D65:AG65,30)","v":0},{"$f":"COUNTIF(Scoresheet!$D65:AH65,20)+COUNTIF(Scoresheet!$D65:AH65,30)","v":0},{"$f":"COUNTIF(Scoresheet!$D65:AI65,20)+COUNTIF(Scoresheet!$D65:AI65,30)","v":0},{"$f":"COUNTIF(Scoresheet!$D65:AJ65,20)+COUNTIF(Scoresheet!$D65:AJ65,30)","v":0},{"$f":"COUNTIF(Scoresheet!$D65:AK65,20)+COUNTIF(Scoresheet!$D65:AK65,30)","v":0},{"$f":"COUNTIF(Scoresheet!$D65:AL65,20)+COUNTIF(Scoresheet!$D65:AL65,30)","v":0},{"$f":"COUNTIF(Scoresheet!$D65:AM65,20)+COUNTIF(Scoresheet!$D65:AM65,30)","v":0},{"$f":"COUNTIF(Scoresheet!$D65:AN65,20)+COUNTIF(Scoresheet!$D65:AN65,30)","v":0},{"$f":"COUNTIF(Scoresheet!$D65:AO65,20)+COUNTIF(Scoresheet!$D65:AO65,30)","v":0},{"$f":"COUNTIF(Scoresheet!$D65:AP65,20)+COUNTIF(Scoresheet!$D65:AP65,30)","v":0},{"$f":"COUNTIF(Scoresheet!$D65:AQ65,20)+COUNTIF(Scoresheet!$D65:AQ65,30)","v":0},{"$f":"COUNTIF(Scoresheet!$D65:AR65,20)+COUNTIF(Scoresheet!$D65:AR65,30)","v":0},{"$f":"COUNTIF(Scoresheet!$D65:AS65,20)+COUNTIF(Scoresheet!$D65:AS65,30)","v":0},{"$f":"COUNTIF(Scoresheet!$D65:AT65,20)+COUNTIF(Scoresheet!$D65:AT65,30)","v":0},{"$f":"COUNTIF(Scoresheet!$D65:AU65,20)+COUNTIF(Scoresheet!$D65:AU65,30)","v":0},{"$f":"COUNTIF(Scoresheet!$D65:AV65,20)+COUNTIF(Scoresheet!$D65:AV65,30)","v":0},{"$f":"COUNTIF(Scoresheet!$D65:AW65,20)+COUNTIF(Scoresheet!$D65:AW65,30)","v":0},{"$f":"COUNTIF(Scoresheet!$D65:AX65,20)+COUNTIF(Scoresheet!$D65:AX65,30)","v":0},{"$f":"COUNTIF(Scoresheet!$D65:AY65,20)+COUNTIF(Scoresheet!$D65:AY65,30)","v":0},{"$f":"COUNTIF(Scoresheet!$D65:AZ65,20)+COUNTIF(Scoresheet!$D65:AZ65,30)","v":0},{"$f":"COUNTIF(Scoresheet!$D65:BA65,20)+COUNTIF(Scoresheet!$D65:BA65,30)","v":0},{"$f":"COUNTIF(Scoresheet!$D65:BB65,20)+COUNTIF(Scoresheet!$D65:BB65,30)","v":0},{"$f":"COUNTIF(Scoresheet!$D65:BC65,20)+COUNTIF(Scoresheet!$D65:BC65,30)","v":0},{"$f":"COUNTIF(Scoresheet!$D65:BD65,20)+COUNTIF(Scoresheet!$D65:BD65,30)","v":0},{"$f":"COUNTIF(Scoresheet!$D65:BE65,20)+COUNTIF(Scoresheet!$D65:BE65,30)","v":0},{"$f":"COUNTIF(Scoresheet!$D65:BF65,20)+COUNTIF(Scoresheet!$D65:BF65,30)","v":0},{"$f":"COUNTIF(Scoresheet!$D65:BG65,20)+COUNTIF(Scoresheet!$D65:BG65,30)","v":0}]
[null,null,{"$f":"CONCATENATE(\"# 20's \",Sheet3!C66)","v":"# 20's Quizzer #4"},{"$f":"COUNTIF(Scoresheet!$D66:D66,20)+COUNTIF(Scoresheet!$D66:D66,30)","v":0},{"$f":"COUNTIF(Scoresheet!$D66:E66,20)+COUNTIF(Scoresheet!$D66:E66,30)","v":0},{"$f":"COUNTIF(Scoresheet!$D66:F66,20)+COUNTIF(Scoresheet!$D66:F66,30)","v":0},{"$f":"COUNTIF(Scoresheet!$D66:G66,20)+COUNTIF(Scoresheet!$D66:G66,30)","v":0},{"$f":"COUNTIF(Scoresheet!$D66:H66,20)+COUNTIF(Scoresheet!$D66:H66,30)","v":0},{"$f":"COUNTIF(Scoresheet!$D66:I66,20)+COUNTIF(Scoresheet!$D66:I66,30)","v":0},{"$f":"COUNTIF(Scoresheet!$D66:J66,20)+COUNTIF(Scoresheet!$D66:J66,30)","v":0},{"$f":"COUNTIF(Scoresheet!$D66:K66,20)+COUNTIF(Scoresheet!$D66:K66,30)","v":0},{"$f":"COUNTIF(Scoresheet!$D66:L66,20)+COUNTIF(Scoresheet!$D66:L66,30)","v":0},{"$f":"COUNTIF(Scoresheet!$D66:M66,20)+COUNTIF(Scoresheet!$D66:M66,30)","v":0},{"$f":"COUNTIF(Scoresheet!$D66:N66,20)+COUNTIF(Scoresheet!$D66:N66,30)","v":0},{"$f":"COUNTIF(Scoresheet!$D66:O66,20)+COUNTIF(Scoresheet!$D66:O66,30)","v":0},{"$f":"COUNTIF(Scoresheet!$D66:P66,20)+COUNTIF(Scoresheet!$D66:P66,30)","v":0},{"$f":"COUNTIF(Scoresheet!$D66:Q66,20)+COUNTIF(Scoresheet!$D66:Q66,30)","v":0},{"$f":"COUNTIF(Scoresheet!$D66:R66,20)+COUNTIF(Scoresheet!$D66:R66,30)","v":0},{"$f":"COUNTIF(Scoresheet!$D66:S66,20)+COUNTIF(Scoresheet!$D66:S66,30)","v":0},{"$f":"COUNTIF(Scoresheet!$D66:T66,20)+COUNTIF(Scoresheet!$D66:T66,30)","v":0},{"$f":"COUNTIF(Scoresheet!$D66:U66,20)+COUNTIF(Scoresheet!$D66:U66,30)","v":0},{"$f":"COUNTIF(Scoresheet!$D66:V66,20)+COUNTIF(Scoresheet!$D66:V66,30)","v":0},{"$f":"COUNTIF(Scoresheet!$D66:W66,20)+COUNTIF(Scoresheet!$D66:W66,30)","v":0},{"$f":"COUNTIF(Scoresheet!$D66:X66,20)+COUNTIF(Scoresheet!$D66:X66,30)","v":0},{"$f":"COUNTIF(Scoresheet!$D66:Y66,20)+COUNTIF(Scoresheet!$D66:Y66,30)","v":0},{"$f":"COUNTIF(Scoresheet!$D66:Z66,20)+COUNTIF(Scoresheet!$D66:Z66,30)","v":0},{"$f":"COUNTIF(Scoresheet!$D66:AA66,20)+COUNTIF(Scoresheet!$D66:AA66,30)","v":0},{"$f":"COUNTIF(Scoresheet!$D66:AB66,20)+COUNTIF(Scoresheet!$D66:AB66,30)","v":0},{"$f":"COUNTIF(Scoresheet!$D66:AC66,20)+COUNTIF(Scoresheet!$D66:AC66,30)","v":0},{"$f":"COUNTIF(Scoresheet!$D66:AD66,20)+COUNTIF(Scoresheet!$D66:AD66,30)","v":0},{"$f":"COUNTIF(Scoresheet!$D66:AE66,20)+COUNTIF(Scoresheet!$D66:AE66,30)","v":0},{"$f":"COUNTIF(Scoresheet!$D66:AF66,20)+COUNTIF(Scoresheet!$D66:AF66,30)","v":0},{"$f":"COUNTIF(Scoresheet!$D66:AG66,20)+COUNTIF(Scoresheet!$D66:AG66,30)","v":0},{"$f":"COUNTIF(Scoresheet!$D66:AH66,20)+COUNTIF(Scoresheet!$D66:AH66,30)","v":0},{"$f":"COUNTIF(Scoresheet!$D66:AI66,20)+COUNTIF(Scoresheet!$D66:AI66,30)","v":0},{"$f":"COUNTIF(Scoresheet!$D66:AJ66,20)+COUNTIF(Scoresheet!$D66:AJ66,30)","v":0},{"$f":"COUNTIF(Scoresheet!$D66:AK66,20)+COUNTIF(Scoresheet!$D66:AK66,30)","v":0},{"$f":"COUNTIF(Scoresheet!$D66:AL66,20)+COUNTIF(Scoresheet!$D66:AL66,30)","v":0},{"$f":"COUNTIF(Scoresheet!$D66:AM66,20)+COUNTIF(Scoresheet!$D66:AM66,30)","v":0},{"$f":"COUNTIF(Scoresheet!$D66:AN66,20)+COUNTIF(Scoresheet!$D66:AN66,30)","v":0},{"$f":"COUNTIF(Scoresheet!$D66:AO66,20)+COUNTIF(Scoresheet!$D66:AO66,30)","v":0},{"$f":"COUNTIF(Scoresheet!$D66:AP66,20)+COUNTIF(Scoresheet!$D66:AP66,30)","v":0},{"$f":"COUNTIF(Scoresheet!$D66:AQ66,20)+COUNTIF(Scoresheet!$D66:AQ66,30)","v":0},{"$f":"COUNTIF(Scoresheet!$D66:AR66,20)+COUNTIF(Scoresheet!$D66:AR66,30)","v":0},{"$f":"COUNTIF(Scoresheet!$D66:AS66,20)+COUNTIF(Scoresheet!$D66:AS66,30)","v":0},{"$f":"COUNTIF(Scoresheet!$D66:AT66,20)+COUNTIF(Scoresheet!$D66:AT66,30)","v":0},{"$f":"COUNTIF(Scoresheet!$D66:AU66,20)+COUNTIF(Scoresheet!$D66:AU66,30)","v":0},{"$f":"COUNTIF(Scoresheet!$D66:AV66,20)+COUNTIF(Scoresheet!$D66:AV66,30)","v":0},{"$f":"COUNTIF(Scoresheet!$D66:AW66,20)+COUNTIF(Scoresheet!$D66:AW66,30)","v":0},{"$f":"COUNTIF(Scoresheet!$D66:AX66,20)+COUNTIF(Scoresheet!$D66:AX66,30)","v":0},{"$f":"COUNTIF(Scoresheet!$D66:AY66,20)+COUNTIF(Scoresheet!$D66:AY66,30)","v":0},{"$f":"COUNTIF(Scoresheet!$D66:AZ66,20)+COUNTIF(Scoresheet!$D66:AZ66,30)","v":0},{"$f":"COUNTIF(Scoresheet!$D66:BA66,20)+COUNTIF(Scoresheet!$D66:BA66,30)","v":0},{"$f":"COUNTIF(Scoresheet!$D66:BB66,20)+COUNTIF(Scoresheet!$D66:BB66,30)","v":0},{"$f":"COUNTIF(Scoresheet!$D66:BC66,20)+COUNTIF(Scoresheet!$D66:BC66,30)","v":0},{"$f":"COUNTIF(Scoresheet!$D66:BD66,20)+COUNTIF(Scoresheet!$D66:BD66,30)","v":0},{"$f":"COUNTIF(Scoresheet!$D66:BE66,20)+COUNTIF(Scoresheet!$D66:BE66,30)","v":0},{"$f":"COUNTIF(Scoresheet!$D66:BF66,20)+COUNTIF(Scoresheet!$D66:BF66,30)","v":0},{"$f":"COUNTIF(Scoresheet!$D66:BG66,20)+COUNTIF(Scoresheet!$D66:BG66,30)","v":0}]
[null,null,{"$f":"CONCATENATE(\"# 20's \",Sheet3!C67)","v":"# 20's 0"},{"$f":"COUNTIF(Scoresheet!$D67:D67,20)+COUNTIF(Scoresheet!$D67:D67,30)","v":0},{"$f":"COUNTIF(Scoresheet!$D67:E67,20)+COUNTIF(Scoresheet!$D67:E67,30)","v":0},{"$f":"COUNTIF(Scoresheet!$D67:F67,20)+COUNTIF(Scoresheet!$D67:F67,30)","v":0},{"$f":"COUNTIF(Scoresheet!$D67:G67,20)+COUNTIF(Scoresheet!$D67:G67,30)","v":0},{"$f":"COUNTIF(Scoresheet!$D67:H67,20)+COUNTIF(Scoresheet!$D67:H67,30)","v":0},{"$f":"COUNTIF(Scoresheet!$D67:I67,20)+COUNTIF(Scoresheet!$D67:I67,30)","v":0},{"$f":"COUNTIF(Scoresheet!$D67:J67,20)+COUNTIF(Scoresheet!$D67:J67,30)","v":0},{"$f":"COUNTIF(Scoresheet!$D67:K67,20)+COUNTIF(Scoresheet!$D67:K67,30)","v":0},{"$f":"COUNTIF(Scoresheet!$D67:L67,20)+COUNTIF(Scoresheet!$D67:L67,30)","v":0},{"$f":"COUNTIF(Scoresheet!$D67:M67,20)+COUNTIF(Scoresheet!$D67:M67,30)","v":0},{"$f":"COUNTIF(Scoresheet!$D67:N67,20)+COUNTIF(Scoresheet!$D67:N67,30)","v":0},{"$f":"COUNTIF(Scoresheet!$D67:O67,20)+COUNTIF(Scoresheet!$D67:O67,30)","v":0},{"$f":"COUNTIF(Scoresheet!$D67:P67,20)+COUNTIF(Scoresheet!$D67:P67,30)","v":0},{"$f":"COUNTIF(Scoresheet!$D67:Q67,20)+COUNTIF(Scoresheet!$D67:Q67,30)","v":0},{"$f":"COUNTIF(Scoresheet!$D67:R67,20)+COUNTIF(Scoresheet!$D67:R67,30)","v":0},{"$f":"COUNTIF(Scoresheet!$D67:S67,20)+COUNTIF(Scoresheet!$D67:S67,30)","v":0},{"$f":"COUNTIF(Scoresheet!$D67:T67,20)+COUNTIF(Scoresheet!$D67:T67,30)","v":0},{"$f":"COUNTIF(Scoresheet!$D67:U67,20)+COUNTIF(Scoresheet!$D67:U67,30)","v":0},{"$f":"COUNTIF(Scoresheet!$D67:V67,20)+COUNTIF(Scoresheet!$D67:V67,30)","v":0},{"$f":"COUNTIF(Scoresheet!$D67:W67,20)+COUNTIF(Scoresheet!$D67:W67,30)","v":0},{"$f":"COUNTIF(Scoresheet!$D67:X67,20)+COUNTIF(Scoresheet!$D67:X67,30)","v":0},{"$f":"COUNTIF(Scoresheet!$D67:Y67,20)+COUNTIF(Scoresheet!$D67:Y67,30)","v":0},{"$f":"COUNTIF(Scoresheet!$D67:Z67,20)+COUNTIF(Scoresheet!$D67:Z67,30)","v":0},{"$f":"COUNTIF(Scoresheet!$D67:AA67,20)+COUNTIF(Scoresheet!$D67:AA67,30)","v":0},{"$f":"COUNTIF(Scoresheet!$D67:AB67,20)+COUNTIF(Scoresheet!$D67:AB67,30)","v":0},{"$f":"COUNTIF(Scoresheet!$D67:AC67,20)+COUNTIF(Scoresheet!$D67:AC67,30)","v":0},{"$f":"COUNTIF(Scoresheet!$D67:AD67,20)+COUNTIF(Scoresheet!$D67:AD67,30)","v":0},{"$f":"COUNTIF(Scoresheet!$D67:AE67,20)+COUNTIF(Scoresheet!$D67:AE67,30)","v":0},{"$f":"COUNTIF(Scoresheet!$D67:AF67,20)+COUNTIF(Scoresheet!$D67:AF67,30)","v":0},{"$f":"COUNTIF(Scoresheet!$D67:AG67,20)+COUNTIF(Scoresheet!$D67:AG67,30)","v":0},{"$f":"COUNTIF(Scoresheet!$D67:AH67,20)+COUNTIF(Scoresheet!$D67:AH67,30)","v":0},{"$f":"COUNTIF(Scoresheet!$D67:AI67,20)+COUNTIF(Scoresheet!$D67:AI67,30)","v":0},{"$f":"COUNTIF(Scoresheet!$D67:AJ67,20)+COUNTIF(Scoresheet!$D67:AJ67,30)","v":0},{"$f":"COUNTIF(Scoresheet!$D67:AK67,20)+COUNTIF(Scoresheet!$D67:AK67,30)","v":0},{"$f":"COUNTIF(Scoresheet!$D67:AL67,20)+COUNTIF(Scoresheet!$D67:AL67,30)","v":0},{"$f":"COUNTIF(Scoresheet!$D67:AM67,20)+COUNTIF(Scoresheet!$D67:AM67,30)","v":0},{"$f":"COUNTIF(Scoresheet!$D67:AN67,20)+COUNTIF(Scoresheet!$D67:AN67,30)","v":0},{"$f":"COUNTIF(Scoresheet!$D67:AO67,20)+COUNTIF(Scoresheet!$D67:AO67,30)","v":0},{"$f":"COUNTIF(Scoresheet!$D67:AP67,20)+COUNTIF(Scoresheet!$D67:AP67,30)","v":0},{"$f":"COUNTIF(Scoresheet!$D67:AQ67,20)+COUNTIF(Scoresheet!$D67:AQ67,30)","v":0},{"$f":"COUNTIF(Scoresheet!$D67:AR67,20)+COUNTIF(Scoresheet!$D67:AR67,30)","v":0},{"$f":"COUNTIF(Scoresheet!$D67:AS67,20)+COUNTIF(Scoresheet!$D67:AS67,30)","v":0},{"$f":"COUNTIF(Scoresheet!$D67:AT67,20)+COUNTIF(Scoresheet!$D67:AT67,30)","v":0},{"$f":"COUNTIF(Scoresheet!$D67:AU67,20)+COUNTIF(Scoresheet!$D67:AU67,30)","v":0},{"$f":"COUNTIF(Scoresheet!$D67:AV67,20)+COUNTIF(Scoresheet!$D67:AV67,30)","v":0},{"$f":"COUNTIF(Scoresheet!$D67:AW67,20)+COUNTIF(Scoresheet!$D67:AW67,30)","v":0},{"$f":"COUNTIF(Scoresheet!$D67:AX67,20)+COUNTIF(Scoresheet!$D67:AX67,30)","v":0},{"$f":"COUNTIF(Scoresheet!$D67:AY67,20)+COUNTIF(Scoresheet!$D67:AY67,30)","v":0},{"$f":"COUNTIF(Scoresheet!$D67:AZ67,20)+COUNTIF(Scoresheet!$D67:AZ67,30)","v":0},{"$f":"COUNTIF(Scoresheet!$D67:BA67,20)+COUNTIF(Scoresheet!$D67:BA67,30)","v":0},{"$f":"COUNTIF(Scoresheet!$D67:BB67,20)+COUNTIF(Scoresheet!$D67:BB67,30)","v":0},{"$f":"COUNTIF(Scoresheet!$D67:BC67,20)+COUNTIF(Scoresheet!$D67:BC67,30)","v":0},{"$f":"COUNTIF(Scoresheet!$D67:BD67,20)+COUNTIF(Scoresheet!$D67:BD67,30)","v":0},{"$f":"COUNTIF(Scoresheet!$D67:BE67,20)+COUNTIF(Scoresheet!$D67:BE67,30)","v":0},{"$f":"COUNTIF(Scoresheet!$D67:BF67,20)+COUNTIF(Scoresheet!$D67:BF67,30)","v":0},{"$f":"COUNTIF(Scoresheet!$D67:BG67,20)+COUNTIF(Scoresheet!$D67:BG67,30)","v":0}]
[null,null,"Timeout = T, Foul = F ------------>",{"$f":"Scoresheet!D23","v":0},{"$f":"Scoresheet!E23","v":0},{"$f":"Scoresheet!F23","v":0},{"$f":"Scoresheet!G23","v":0},{"$f":"Scoresheet!H23","v":0},{"$f":"Scoresheet!I23","v":0},{"$f":"Scoresheet!J23","v":0},{"$f":"Scoresheet!K23","v":0},{"$f":"Scoresheet!L23","v":0},{"$f":"Scoresheet!M23","v":0},{"$f":"Scoresheet!N23","v":0},{"$f":"Scoresheet!O23","v":0},{"$f":"Scoresheet!P23","v":0},{"$f":"Scoresheet!Q23","v":0},{"$f":"Scoresheet!R23","v":0},{"$f":"Scoresheet!S23","v":0},{"$f":"Scoresheet!T23","v":0},{"$f":"Scoresheet!U23","v":0},{"$f":"Scoresheet!V23","v":0},{"$f":"Scoresheet!W23","v":0},{"$f":"Scoresheet!X23","v":0},{"$f":"Scoresheet!Y23","v":0},{"$f":"Scoresheet!Z23","v":0},{"$f":"Scoresheet!AA23","v":0},{"$f":"Scoresheet!AB23","v":0},{"$f":"Scoresheet!AC23","v":0},{"$f":"Scoresheet!AD23","v":0},{"$f":"Scoresheet!AE23","v":0},{"$f":"Scoresheet!AF23","v":0},{"$f":"Scoresheet!AG23","v":0},{"$f":"Scoresheet!AH23","v":0},{"$f":"Scoresheet!AI23","v":0},{"$f":"Scoresheet!AJ23","v":0},{"$f":"Scoresheet!AK23","v":0},{"$f":"Scoresheet!AL23","v":0},{"$f":"Scoresheet!AM23","v":0},{"$f":"Scoresheet!AN23","v":0},{"$f":"Scoresheet!AO23","v":0},{"$f":"Scoresheet!AP23","v":0},{"$f":"Scoresheet!AQ23","v":0},{"$f":"Scoresheet!AR23","v":0},{"$f":"Scoresheet!AS23","v":0},{"$f":"Scoresheet!AT23","v":0},{"$f":"Scoresheet!AU23","v":0},{"$f":"Scoresheet!AV23","v":0},{"$f":"Scoresheet!AW23","v":0},{"$f":"Scoresheet!AX23","v":0},{"$f":"Scoresheet!AY23","v":0},{"$f":"Scoresheet!AZ23","v":0},{"$f":"Scoresheet!BA23","v":0},{"$f":"Scoresheet!BB23","v":0},{"$f":"Scoresheet!BC23","v":0},{"$f":"Scoresheet!BD23","v":0},{"$f":"Scoresheet!BE23","v":0},{"$f":"Scoresheet!BF23","v":0},{"$f":"Scoresheet!BG23","v":0}]
[null,null,{"$f":"CONCATENATE(\"Timeout = T (\",B92,\"), Foul = F ---------->\")","v":"Timeout = T (0), Foul = F ---------->"},{"$f":"LEFT(D80)","v":"0"},{"$f":"LEFT(E80)","v":"0"},"0",{"$f":"LEFT(G80)","v":"0"},"0","0","0","0","0","0","0","0","0","0","0","0","0","0","0","0","0","0","0","0","0","0","0","0","0","0","0","0","0","0","0","0","0","0","0","0","0","0","0","0","0","0","0","0","0","0","0","0","0","0","0","0"]
[null,null,{"$f":"CONCATENATE(\"Timeout = T (\",B92,\"), Foul = F (\",B91,\") --->\")","v":"Timeout = T (0), Foul = F (0) --->"},{"$f":"LEFT(RIGHT(D80,LEN(D80)-1))","v":""},{"$f":"LEFT(RIGHT(E80,LEN(E80)-1))","v":""},"",{"$f":"LEFT(RIGHT(G80,LEN(G80)-1))","v":""},"","","","","","","","","","","","","","","","","","","","","","","","","","","","","","","","","","","","","","","","","","","","","","","","","","","",""]
[null,null,{"$f":"CONCATENATE(\"Timeout = T, Foul = F (\",B91,\") ---------->\")","v":"Timeout = T, Foul = F (0) ---------->"},{"$f":"LEFT(RIGHT(D80,LEN(D80)-2))","v":{"$error":"#VALUE!"}},{"$f":"LEFT(RIGHT(E80,LEN(E80)-2))","v":{"$error":"#VALUE!"}},{"$error":"#VALUE!"},{"$f":"LEFT(RIGHT(G80,LEN(G80)-2))","v":{"$error":"#VALUE!"}},{"$error":"#VALUE!"},{"$error":"#VALUE!"},{"$error":"#VALUE!"},{"$error":"#VALUE!"},{"$error":"#VALUE!"},{"$error":"#VALUE!"},{"$error":"#VALUE!"},{"$error":"#VALUE!"},{"$error":"#VALUE!"},{"$error":"#VALUE!"},{"$error":"#VALUE!"},{"$error":"#VALUE!"},{"$error":"#VALUE!"},{"$error":"#VALUE!"},{"$error":"#VALUE!"},{"$error":"#VALUE!"},{"$error":"#VALUE!"},{"$error":"#VALUE!"},{"$error":"#VALUE!"},{"$error":"#VALUE!"},{"$error":"#VALUE!"},{"$error":"#VALUE!"},{"$error":"#VALUE!"},{"$error":"#VALUE!"},{"$error":"#VALUE!"},{"$error":"#VALUE!"},{"$error":"#VALUE!"},{"$error":"#VALUE!"},{"$error":"#VALUE!"},{"$error":"#VALUE!"},{"$error":"#VALUE!"},{"$error":"#VALUE!"},{"$error":"#VALUE!"},{"$error":"#VALUE!"},{"$error":"#VALUE!"},{"$error":"#VALUE!"},{"$error":"#VALUE!"},{"$error":"#VALUE!"},{"$error":"#VALUE!"},{"$error":"#VALUE!"},{"$error":"#VALUE!"},{"$error":"#VALUE!"},{"$error":"#VALUE!"},{"$error":"#VALUE!"},{"$error":"#VALUE!"},{"$error":"#VALUE!"},{"$error":"#VALUE!"},{"$error":"#VALUE!"},{"$error":"#VALUE!"},{"$error":"#VALUE!"},{"$error":"#VALUE!"},{"$error":"#VALUE!"}]
[null,null,null,{"$f":"LEFT(RIGHT(D80,LEN(D80)-3))","v":{"$error":"#VALUE!"}},{"$f":"LEFT(RIGHT(E80,LEN(E80)-3))","v":{"$error":"#VALUE!"}},{"$error":"#VALUE!"},{"$f":"LEFT(RIGHT(G80,LEN(G80)-3))","v":{"$error":"#VALUE!"}},{"$error":"#VALUE!"},{"$error":"#VALUE!"},{"$error":"#VALUE!"},{"$error":"#VALUE!"},{"$error":"#VALUE!"},{"$error":"#VALUE!"},{"$error":"#VALUE!"},{"$error":"#VALUE!"},{"$error":"#VALUE!"},{"$error":"#VALUE!"},{"$error":"#VALUE!"},{"$error":"#VALUE!"},{"$error":"#VALUE!"},{"$error":"#VALUE!"},{"$error":"#VALUE!"},{"$error":"#VALUE!"},{"$error":"#VALUE!"},{"$error":"#VALUE!"},{"$error":"#VALUE!"},{"$error":"#VALUE!"},{"$error":"#VALUE!"},{"$error":"#VALUE!"},{"$error":"#VALUE!"},{"$error":"#VALUE!"},{"$error":"#VALUE!"},{"$error":"#VALUE!"},{"$error":"#VALUE!"},{"$error":"#VALUE!"},{"$error":"#VALUE!"},{"$error":"#VALUE!"},{"$error":"#VALUE!"},{"$error":"#VALUE!"},{"$error":"#VALUE!"},{"$error":"#VALUE!"},{"$error":"#VALUE!"},{"$error":"#VALUE!"},{"$error":"#VALUE!"},{"$error":"#VALUE!"},{"$error":"#VALUE!"},{"$error":"#VALUE!"},{"$error":"#VALUE!"},{"$error":"#VALUE!"},{"$error":"#VALUE!"},{"$error":"#VALUE!"},{"$error":"#VALUE!"},{"$error":"#VALUE!"},{"$error":"#VALUE!"},{"$error":"#VALUE!"},{"$error":"#VALUE!"},{"$error":"#VALUE!"},{"$error":"#VALUE!"},{"$error":"#VALUE!"}]
[null,null,null,{"$f":"LEFT(RIGHT(D80,LEN(D80)-4))","v":{"$error":"#VALUE!"}},{"$f":"LEFT(RIGHT(E80,LEN(E80)-4))","v":{"$error":"#VALUE!"}},{"$error":"#VALUE!"},{"$f":"LEFT(RIGHT(G80,LEN(G80)-4))","v":{"$error":"#VALUE!"}},{"$error":"#VALUE!"},{"$error":"#VALUE!"},{"$error":"#VALUE!"},{"$error":"#VALUE!"},{"$error":"#VALUE!"},{"$error":"#VALUE!"},{"$error":"#VALUE!"},{"$error":"#VALUE!"},{"$error":"#VALUE!"},{"$error":"#VALUE!"},{"$error":"#VALUE!"},{"$error":"#VALUE!"},{"$error":"#VALUE!"},{"$error":"#VALUE!"},{"$error":"#VALUE!"},{"$error":"#VALUE!"},{"$error":"#VALUE!"},{"$error":"#VALUE!"},{"$error":"#VALUE!"},{"$error":"#VALUE!"},{"$error":"#VALUE!"},{"$error":"#VALUE!"},{"$error":"#VALUE!"},{"$error":"#VALUE!"},{"$error":"#VALUE!"},{"$error":"#VALUE!"},{"$error":"#VALUE!"},{"$error":"#VALUE!"},{"$error":"#VALUE!"},{"$error":"#VALUE!"},{"$error":"#VALUE!"},{"$error":"#VALUE!"},{"$error":"#VALUE!"},{"$error":"#VALUE!"},{"$error":"#VALUE!"},{"$error":"#VALUE!"},{"$error":"#VALUE!"},{"$error":"#VALUE!"},{"$error":"#VALUE!"},{"$error":"#VALUE!"},{"$error":"#VALUE!"},{"$error":"#VALUE!"},{"$error":"#VALUE!"},{"$error":"#VALUE!"},{"$error":"#VALUE!"},{"$error":"#VALUE!"},{"$error":"#VALUE!"},{"$error":"#VALUE!"},{"$error":"#VALUE!"},{"$error":"#VALUE!"},{"$error":"#VALUE!"},{"$error":"#VALUE!"}]
[null,null,null,{"$f":"LEFT(RIGHT(D80,LEN(D80)-5))","v":{"$error":"#VALUE!"}},{"$f":"LEFT(RIGHT(E80,LEN(E80)-5))","v":{"$error":"#VALUE!"}},{"$error":"#VALUE!"},{"$f":"LEFT(RIGHT(G80,LEN(G80)-5))","v":{"$error":"#VALUE!"}},{"$error":"#VALUE!"},{"$error":"#VALUE!"},{"$error":"#VALUE!"},{"$error":"#VALUE!"},{"$error":"#VALUE!"},{"$error":"#VALUE!"},{"$error":"#VALUE!"},{"$error":"#VALUE!"},{"$error":"#VALUE!"},{"$error":"#VALUE!"},{"$error":"#VALUE!"},{"$error":"#VALUE!"},{"$error":"#VALUE!"},{"$error":"#VALUE!"},{"$error":"#VALUE!"},{"$error":"#VALUE!"},{"$error":"#VALUE!"},{"$error":"#VALUE!"},{"$error":"#VALUE!"},{"$error":"#VALUE!"},{"$error":"#VALUE!"},{"$error":"#VALUE!"},{"$error":"#VALUE!"},{"$error":"#VALUE!"},{"$error":"#VALUE!"},{"$error":"#VALUE!"},{"$error":"#VALUE!"},{"$error":"#VALUE!"},{"$error":"#VALUE!"},{"$error":"#VALUE!"},{"$error":"#VALUE!"},{"$error":"#VALUE!"},{"$error":"#VALUE!"},{"$error":"#VALUE!"},{"$error":"#VALUE!"},{"$error":"#VALUE!"},{"$error":"#VALUE!"},{"$error":"#VALUE!"},{"$error":"#VALUE!"},{"$error":"#VALUE!"},{"$error":"#VALUE!"},{"$error":"#VALUE!"},{"$error":"#VALUE!"},{"$error":"#VALUE!"},{"$error":"#VALUE!"},{"$error":"#VALUE!"},{"$error":"#VALUE!"},{"$error":"#VALUE!"},{"$error":"#VALUE!"},{"$error":"#VALUE!"},{"$error":"#VALUE!"},{"$error":"#VALUE!"}]
[null,null,null,{"$f":"LEFT(RIGHT(D80,LEN(D80)-6))","v":{"$error":"#VALUE!"}},{"$f":"LEFT(RIGHT(E80,LEN(E80)-6))","v":{"$error":"#VALUE!"}},{"$error":"#VALUE!"},{"$f":"LEFT(RIGHT(G80,LEN(G80)-6))","v":{"$error":"#VALUE!"}},{"$error":"#VALUE!"},{"$error":"#VALUE!"},{"$error":"#VALUE!"},{"$error":"#VALUE!"},{"$error":"#VALUE!"},{"$error":"#VALUE!"},{"$error":"#VALUE!"},{"$error":"#VALUE!"},{"$error":"#VALUE!"},{"$error":"#VALUE!"},{"$error":"#VALUE!"},{"$error":"#VALUE!"},{"$error":"#VALUE!"},{"$error":"#VALUE!"},{"$error":"#VALUE!"},{"$error":"#VALUE!"},{"$error":"#VALUE!"},{"$error":"#VALUE!"},{"$error":"#VALUE!"},{"$error":"#VALUE!"},{"$error":"#VALUE!"},{"$error":"#VALUE!"},{"$error":"#VALUE!"},{"$error":"#VALUE!"},{"$error":"#VALUE!"},{"$error":"#VALUE!"},{"$error":"#VALUE!"},{"$error":"#VALUE!"},{"$error":"#VALUE!"},{"$error":"#VALUE!"},{"$error":"#VALUE!"},{"$error":"#VALUE!"},{"$error":"#VALUE!"},{"$error":"#VALUE!"},{"$error":"#VALUE!"},{"$error":"#VALUE!"},{"$error":"#VALUE!"},{"$error":"#VALUE!"},{"$error":"#VALUE!"},{"$error":"#VALUE!"},{"$error":"#VALUE!"},{"$error":"#VALUE!"},{"$error":"#VALUE!"},{"$error":"#VALUE!"},{"$error":"#VALUE!"},{"$error":"#VALUE!"},{"$error":"#VALUE!"},{"$error":"#VALUE!"},{"$error":"#VALUE!"},{"$error":"#VALUE!"},{"$error":"#VALUE!"},{"$error":"#VALUE!"}]
[null,null,null,{"$f":"LEFT(RIGHT(D80,LEN(D80)-7))","v":{"$error":"#VALUE!"}},{"$f":"LEFT(RIGHT(E80,LEN(E80)-7))","v":{"$error":"#VALUE!"}},{"$error":"#VALUE!"},{"$f":"LEFT(RIGHT(G80,LEN(G80)-7))","v":{"$error":"#VALUE!"}},{"$error":"#VALUE!"},{"$error":"#VALUE!"},{"$error":"#VALUE!"},{"$error":"#VALUE!"},{"$error":"#VALUE!"},{"$error":"#VALUE!"},{"$error":"#VALUE!"},{"$error":"#VALUE!"},{"$error":"#VALUE!"},{"$error":"#VALUE!"},{"$error":"#VALUE!"},{"$error":"#VALUE!"},{"$error":"#VALUE!"},{"$error":"#VALUE!"},{"$error":"#VALUE!"},{"$error":"#VALUE!"},{"$error":"#VALUE!"},{"$error":"#VALUE!"},{"$error":"#VALUE!"},{"$error":"#VALUE!"},{"$error":"#VALUE!"},{"$error":"#VALUE!"},{"$error":"#VALUE!"},{"$error":"#VALUE!"},{"$error":"#VALUE!"},{"$error":"#VALUE!"},{"$error":"#VALUE!"},{"$error":"#VALUE!"},{"$error":"#VALUE!"},{"$error":"#VALUE!"},{"$error":"#VALUE!"},{"$error":"#VALUE!"},{"$error":"#VALUE!"},{"$error":"#VALUE!"},{"$error":"#VALUE!"},{"$error":"#VALUE!"},{"$error":"#VALUE!"},{"$error":"#VALUE!"},{"$error":"#VALUE!"},{"$error":"#VALUE!"},{"$error":"#VALUE!"},{"$error":"#VALUE!"},{"$error":"#VALUE!"},{"$error":"#VALUE!"},{"$error":"#VALUE!"},{"$error":"#VALUE!"},{"$error":"#VALUE!"},{"$error":"#VALUE!"},{"$error":"#VALUE!"},{"$error":"#VALUE!"},{"$error":"#VALUE!"},{"$error":"#VALUE!"}]
[null,null,null,{"$f":"LEFT(RIGHT(D80,LEN(D80)-8))","v":{"$error":"#VALUE!"}},{"$f":"LEFT(RIGHT(E80,LEN(E80)-8))","v":{"$error":"#VALUE!"}},{"$error":"#VALUE!"},{"$f":"LEFT(RIGHT(G80,LEN(G80)-8))","v":{"$error":"#VALUE!"}},{"$error":"#VALUE!"},{"$error":"#VALUE!"},{"$error":"#VALUE!"},{"$error":"#VALUE!"},{"$error":"#VALUE!"},{"$error":"#VALUE!"},{"$error":"#VALUE!"},{"$error":"#VALUE!"},{"$error":"#VALUE!"},{"$error":"#VALUE!"},{"$error":"#VALUE!"},{"$error":"#VALUE!"},{"$error":"#VALUE!"},{"$error":"#VALUE!"},{"$error":"#VALUE!"},{"$error":"#VALUE!"},{"$error":"#VALUE!"},{"$error":"#VALUE!"},{"$error":"#VALUE!"},{"$error":"#VALUE!"},{"$error":"#VALUE!"},{"$error":"#VALUE!"},{"$error":"#VALUE!"},{"$error":"#VALUE!"},{"$error":"#VALUE!"},{"$error":"#VALUE!"},{"$error":"#VALUE!"},{"$error":"#VALUE!"},{"$error":"#VALUE!"},{"$error":"#VALUE!"},{"$error":"#VALUE!"},{"$error":"#VALUE!"},{"$error":"#VALUE!"},{"$error":"#VALUE!"},{"$error":"#VALUE!"},{"$error":"#VALUE!"},{"$error":"#VALUE!"},{"$error":"#VALUE!"},{"$error":"#VALUE!"},{"$error":"#VALUE!"},{"$error":"#VALUE!"},{"$error":"#VALUE!"},{"$error":"#VALUE!"},{"$error":"#VALUE!"},{"$error":"#VALUE!"},{"$error":"#VALUE!"},{"$error":"#VALUE!"},{"$error":"#VALUE!"},{"$error":"#VALUE!"},{"$error":"#VALUE!"},{"$error":"#VALUE!"},{"$error":"#VALUE!"}]
[null,null,null,{"$f":"LEFT(RIGHT(D80,LEN(D80)-9))","v":{"$error":"#VALUE!"}},{"$f":"LEFT(RIGHT(E80,LEN(E80)-9))","v":{"$error":"#VALUE!"}},{"$error":"#VALUE!"},{"$f":"LEFT(RIGHT(G80,LEN(G80)-9))","v":{"$error":"#VALUE!"}},{"$error":"#VALUE!"},{"$error":"#VALUE!"},{"$error":"#VALUE!"},{"$error":"#VALUE!"},{"$error":"#VALUE!"},{"$error":"#VALUE!"},{"$error":"#VALUE!"},{"$error":"#VALUE!"},{"$error":"#VALUE!"},{"$error":"#VALUE!"},{"$error":"#VALUE!"},{"$error":"#VALUE!"},{"$error":"#VALUE!"},{"$error":"#VALUE!"},{"$error":"#VALUE!"},{"$error":"#VALUE!"},{"$error":"#VALUE!"},{"$error":"#VALUE!"},{"$error":"#VALUE!"},{"$error":"#VALUE!"},{"$error":"#VALUE!"},{"$error":"#VALUE!"},{"$error":"#VALUE!"},{"$error":"#VALUE!"},{"$error":"#VALUE!"},{"$error":"#VALUE!"},{"$error":"#VALUE!"},{"$error":"#VALUE!"},{"$error":"#VALUE!"},{"$error":"#VALUE!"},{"$error":"#VALUE!"},{"$error":"#VALUE!"},{"$error":"#VALUE!"},{"$error":"#VALUE!"},{"$error":"#VALUE!"},{"$error":"#VALUE!"},{"$error":"#VALUE!"},{"$error":"#VALUE!"},{"$error":"#VALUE!"},{"$error":"#VALUE!"},{"$error":"#VALUE!"},{"$error":"#VALUE!"},{"$error":"#VALUE!"},{"$error":"#VALUE!"},{"$error":"#VALUE!"},{"$error":"#VALUE!"},{"$error":"#VALUE!"},{"$error":"#VALUE!"},{"$error":"#VALUE!"},{"$error":"#VALUE!"},{"$error":"#VALUE!"},{"$error":"#VALUE!"}]
[null,{"$f":"SUM(D91:BB91)","v":0},"# F's",{"$f":"COUNTIF(D81:D90,\"F\")","v":0},{"$f":"COUNTIF(E81:E90,\"F\")","v":0},0,{"$f":"COUNTIF(G81:G90,\"F\")","v":0},0,0,0,0,0,0,0,0,0,0,0,0,0,0,0,0,0,0,0,0,0,0,0,0,0,0,0,0,0,0,0,0,0,0,0,0,0,0,0,0,0,0,0,0,0,0,0,0,0,0,0,0]
[null,{"$f":"SUM(D92:BB92)","v":0},"# T's",{"$f":"COUNTIF(D81:D90,\"T\")","v":0},{"$f":"COUNTIF(E81:E90,\"T\")","v":0},0,{"$f":"COUNTIF(G81:G90,\"T\")","v":0},0,0,0,0,0,0,0,0,0,0,0,0,0,0,0,0,0,0,0,0,0,0,0,0,0,0,0,0,0,0,0,0,0,0,0,0,0,0,0,0,0,0,0,0,0,0,0,0,0,0,0,0]
[null,null,"foul points",{"$f":"IF(C94=\"odd\",-10*CEILING(D91/2,1),-10*FLOOR(D91/2,1))","v":0},{"$f":"IF(D94=\"odd\",-10*CEILING(E91/2,1),-10*FLOOR(E91/2,1))","v":0},0,0,0,0,0,0,0,0,0,0,0,0,0,0,0,0,0,0,0,0,0,0,0,0,0,0,0,0,0,0,0,0,0,0,0,0,0,0,0,0,0,0,0,0,0,0,0,0,0,0,0,0,0,0]
[null,null,"even",{"$f":"IF(SUM($D91:D91)/2=FLOOR(SUM($D91:D91)/2,1),\"even\",\"odd\")","v":"even"},{"$f":"IF(SUM($D91:E91)/2=FLOOR(SUM($D91:E91)/2,1),\"even\",\"odd\")","v":"even"},{"$f":"IF(SUM($D91:F91)/2=FLOOR(SUM($D91:F91)/2,1),\"even\",\"odd\")","v":"even"},{"$f":"IF(SUM($D91:G91)/2=FLOOR(SUM($D91:G91)/2,1),\"even\",\"odd\")","v":"even"},{"$f":"IF(SUM($D91:H91)/2=FLOOR(SUM($D91:H91)/2,1),\"even\",\"odd\")","v":"even"},{"$f":"IF(SUM($D91:I91)/2=FLOOR(SUM($D91:I91)/2,1),\"even\",\"odd\")","v":"even"},{"$f":"IF(SUM($D91:J91)/2=FLOOR(SUM($D91:J91)/2,1),\"even\",\"odd\")","v":"even"},{"$f":"IF(SUM($D91:K91)/2=FLOOR(SUM($D91:K91)/2,1),\"even\",\"odd\")","v":"even"},{"$f":"IF(SUM($D91:L91)/2=FLOOR(SUM($D91:L91)/2,1),\"even\",\"odd\")","v":"even"},{"$f":"IF(SUM($D91:M91)/2=FLOOR(SUM($D91:M91)/2,1),\"even\",\"odd\")","v":"even"},{"$f":"IF(SUM($D91:N91)/2=FLOOR(SUM($D91:N91)/2,1),\"even\",\"odd\")","v":"even"},{"$f":"IF(SUM($D91:O91)/2=FLOOR(SUM($D91:O91)/2,1),\"even\",\"odd\")","v":"even"},{"$f":"IF(SUM($D91:P91)/2=FLOOR(SUM($D91:P91)/2,1),\"even\",\"odd\")","v":"even"},{"$f":"IF(SUM($D91:Q91)/2=FLOOR(SUM($D91:Q91)/2,1),\"even\",\"odd\")","v":"even"},{"$f":"IF(SUM($D91:R91)/2=FLOOR(SUM($D91:R91)/2,1),\"even\",\"odd\")","v":"even"},{"$f":"IF(SUM($D91:S91)/2=FLOOR(SUM($D91:S91)/2,1),\"even\",\"odd\")","v":"even"},{"$f":"IF(SUM($D91:T91)/2=FLOOR(SUM($D91:T91)/2,1),\"even\",\"odd\")","v":"even"},{"$f":"IF(SUM($D91:U91)/2=FLOOR(SUM($D91:U91)/2,1),\"even\",\"odd\")","v":"even"},{"$f":"IF(SUM($D91:V91)/2=FLOOR(SUM($D91:V91)/2,1),\"even\",\"odd\")","v":"even"},{"$f":"IF(SUM($D91:W91)/2=FLOOR(SUM($D91:W91)/2,1),\"even\",\"odd\")","v":"even"},{"$f":"IF(SUM($D91:X91)/2=FLOOR(SUM($D91:X91)/2,1),\"even\",\"odd\")","v":"even"},{"$f":"IF(SUM($D91:Y91)/2=FLOOR(SUM($D91:Y91)/2,1),\"even\",\"odd\")","v":"even"},{"$f":"IF(SUM($D91:Z91)/2=FLOOR(SUM($D91:Z91)/2,1),\"even\",\"odd\")","v":"even"},{"$f":"IF(SUM($D91:AA91)/2=FLOOR(SUM($D91:AA91)/2,1),\"even\",\"odd\")","v":"even"},{"$f":"IF(SUM($D91:AB91)/2=FLOOR(SUM($D91:AB91)/2,1),\"even\",\"odd\")","v":"even"},{"$f":"IF(SUM($D91:AC91)/2=FLOOR(SUM($D91:AC91)/2,1),\"even\",\"odd\")","v":"even"},{"$f":"IF(SUM($D91:AD91)/2=FLOOR(SUM($D91:AD91)/2,1),\"even\",\"odd\")","v":"even"},{"$f":"IF(SUM($D91:AE91)/2=FLOOR(SUM($D91:AE91)/2,1),\"even\",\"odd\")","v":"even"},{"$f":"IF(SUM($D91:AF91)/2=FLOOR(SUM($D91:AF91)/2,1),\"even\",\"odd\")","v":"even"},{"$f":"IF(SUM($D91:AG91)/2=FLOOR(SUM($D91:AG91)/2,1),\"even\",\"odd\")","v":"even"},{"$f":"IF(SUM($D91:AH91)/2=FLOOR(SUM($D91:AH91)/2,1),\"even\",\"odd\")","v":"even"},{"$f":"IF(SUM($D91:AI91)/2=FLOOR(SUM($D91:AI91)/2,1),\"even\",\"odd\")","v":"even"},{"$f":"IF(SUM($D91:AJ91)/2=FLOOR(SUM($D91:AJ91)/2,1),\"even\",\"odd\")","v":"even"},{"$f":"IF(SUM($D91:AK91)/2=FLOOR(SUM($D91:AK91)/2,1),\"even\",\"odd\")","v":"even"},{"$f":"IF(SUM($D91:AL91)/2=FLOOR(SUM($D91:AL91)/2,1),\"even\",\"odd\")","v":"even"},{"$f":"IF(SUM($D91:AM91)/2=FLOOR(SUM($D91:AM91)/2,1),\"even\",\"odd\")","v":"even"},{"$f":"IF(SUM($D91:AN91)/2=FLOOR(SUM($D91:AN91)/2,1),\"even\",\"odd\")","v":"even"},{"$f":"IF(SUM($D91:AO91)/2=FLOOR(SUM($D91:AO91)/2,1),\"even\",\"odd\")","v":"even"},{"$f":"IF(SUM($D91:AP91)/2=FLOOR(SUM($D91:AP91)/2,1),\"even\",\"odd\")","v":"even"},{"$f":"IF(SUM($D91:AQ91)/2=FLOOR(SUM($D91:AQ91)/2,1),\"even\",\"odd\")","v":"even"},{"$f":"IF(SUM($D91:AR91)/2=FLOOR(SUM($D91:AR91)/2,1),\"even\",\"odd\")","v":"even"},{"$f":"IF(SUM($D91:AS91)/2=FLOOR(SUM($D91:AS91)/2,1),\"even\",\"odd\")","v":"even"},{"$f":"IF(SUM($D91:AT91)/2=FLOOR(SUM($D91:AT91)/2,1),\"even\",\"odd\")","v":"even"},{"$f":"IF(SUM($D91:AU91)/2=FLOOR(SUM($D91:AU91)/2,1),\"even\",\"odd\")","v":"even"},{"$f":"IF(SUM($D91:AV91)/2=FLOOR(SUM($D91:AV91)/2,1),\"even\",\"odd\")","v":"even"},{"$f":"IF(SUM($D91:AW91)/2=FLOOR(SUM($D91:AW91)/2,1),\"even\",\"odd\")","v":"even"},{"$f":"IF(SUM($D91:AX91)/2=FLOOR(SUM($D91:AX91)/2,1),\"even\",\"odd\")","v":"even"},{"$f":"IF(SUM($D91:AY91)/2=FLOOR(SUM($D91:AY91)/2,1),\"even\",\"odd\")","v":"even"},{"$f":"IF(SUM($D91:AZ91)/2=FLOOR(SUM($D91:AZ91)/2,1),\"even\",\"odd\")","v":"even"},{"$f":"IF(SUM($D91:BA91)/2=FLOOR(SUM($D91:BA91)/2,1),\"even\",\"odd\")","v":"even"},{"$f":"IF(SUM($D91:BB91)/2=FLOOR(SUM($D91:BB91)/2,1),\"even\",\"odd\")","v":"even"},{"$f":"IF(SUM($D91:BC91)/2=FLOOR(SUM($D91:BC91)/2,1),\"even\",\"odd\")","v":"even"},{"$f":"IF(SUM($D91:BD91)/2=FLOOR(SUM($D91:BD91)/2,1),\"even\",\"odd\")","v":"even"},{"$f":"IF(SUM($D91:BE91)/2=FLOOR(SUM($D91:BE91)/2,1),\"even\",\"odd\")","v":"even"},{"$f":"IF(SUM($D91:BF91)/2=FLOOR(SUM($D91:BF91)/2,1),\"even\",\"odd\")","v":"even"},{"$f":"IF(SUM($D91:BG91)/2=FLOOR(SUM($D91:BG91)/2,1),\"even\",\"odd\")","v":"even"}]
[]
[]
[]
[]
[]
[]
[]
[]
[null,null,"Timeout = T, Foul = F ------------>",{"$f":"Scoresheet!D46","v":0},{"$f":"Scoresheet!E46","v":0},{"$f":"Scoresheet!F46","v":0},{"$f":"Scoresheet!G46","v":0},{"$f":"Scoresheet!H46","v":0},{"$f":"Scoresheet!I46","v":0},{"$f":"Scoresheet!J46","v":0},{"$f":"Scoresheet!K46","v":0},{"$f":"Scoresheet!L46","v":0},{"$f":"Scoresheet!M46","v":0},{"$f":"Scoresheet!N46","v":0},{"$f":"Scoresheet!O46","v":0},{"$f":"Scoresheet!P46","v":0},{"$f":"Scoresheet!Q46","v":0},{"$f":"Scoresheet!R46","v":0},{"$f":"Scoresheet!S46","v":0},{"$f":"Scoresheet!T46","v":0},{"$f":"Scoresheet!U46","v":0},{"$f":"Scoresheet!V46","v":0},{"$f":"Scoresheet!W46","v":0},{"$f":"Scoresheet!X46","v":0},{"$f":"Scoresheet!Y46","v":0},{"$f":"Scoresheet!Z46","v":0},{"$f":"Scoresheet!AA46","v":0},{"$f":"Scoresheet!AB46","v":0},{"$f":"Scoresheet!AC46","v":0},{"$f":"Scoresheet!AD46","v":0},{"$f":"Scoresheet!AE46","v":0},{"$f":"Scoresheet!AF46","v":0},{"$f":"Scoresheet!AG46","v":0},{"$f":"Scoresheet!AH46","v":0},{"$f":"Scoresheet!AI46","v":0},{"$f":"Scoresheet!AJ46","v":0},{"$f":"Scoresheet!AK46","v":0},{"$f":"Scoresheet!AL46","v":0},{"$f":"Scoresheet!AM46","v":0},{"$f":"Scoresheet!AN46","v":0},{"$f":"Scoresheet!AO46","v":0},{"$f":"Scoresheet!AP46","v":0},{"$f":"Scoresheet!AQ46","v":0},{"$f":"Scoresheet!AR46","v":0},{"$f":"Scoresheet!AS46","v":0},{"$f":"Scoresheet!AT46","v":0},{"$f":"Scoresheet!AU46","v":0},{"$f":"Scoresheet!AV46","v":0},{"$f":"Scoresheet!AW46","v":0},{"$f":"Scoresheet!AX46","v":0},{"$f":"Scoresheet!AY46","v":0},{"$f":"Scoresheet!AZ46","v":0},{"$f":"Scoresheet!BA46","v":0},{"$f":"Scoresheet!BB46","v":0},{"$f":"Scoresheet!BC46","v":0},{"$f":"Scoresheet!BD46","v":0},{"$f":"Scoresheet!BE46","v":0},{"$f":"Scoresheet!BF46","v":0},{"$f":"Scoresheet!BG46","v":0}]
[null,null,{"$f":"CONCATENATE(\"Timeout = T (\",B115,\"), Foul = F ---------->\")","v":"Timeout = T (0), Foul = F ---------->"},{"$f":"LEFT(D103)","v":"0"},{"$f":"LEFT(E103)","v":"0"},"0","0","0","0","0","0","0","0","0","0","0","0","0","0","0","0","0","0","0","0","0","0","0","0","0","0","0","0","0","0","0","0","0","0","0","0","0","0","0","0","0","0","0","0","0","0","0","0","0","0","0","0","0","0"]
[null,null,{"$f":"CONCATENATE(\"Timeout = T (\",B115,\"), Foul = F (\",B114,\") --->\")","v":"Timeout = T (0), Foul = F (0) --->"},{"$f":"LEFT(RIGHT(D103,LEN(D103)-1))","v":""},{"$f":"LEFT(RIGHT(E103,LEN(E103)-1))","v":""},"","","","","","","","","","","","","","","","","","","","","","","","","","","","","","","","","","","","","","","","","","","","","","","","","","","","","",""]
[null,null,{"$f":"CONCATENATE(\"Timeout = T, Foul = F (\",B114,\") ---------->\")","v":"Timeout = T, Foul = F (0) ---------->"},{"$f":"LEFT(RIGHT(D103,LEN(D103)-2))","v":{"$error":"#VALUE!"}},{"$f":"LEFT(RIGHT(E103,LEN(E103)-2))","v":{"$error":"#VALUE!"}},{"$error":"#VALUE!"},{"$error":"#VALUE!"},{"$error":"#VALUE!"},{"$error":"#VALUE!"},{"$error":"#VALUE!"},{"$error":"#VALUE!"},{"$error":"#VALUE!"},{"$error":"#VALUE!"},{"$error":"#VALUE!"},{"$error":"#VALUE!"},{"$error":"#VALUE!"},{"$error":"#VALUE!"},{"$error":"#VALUE!"},{"$error":"#VALUE!"},{"$error":"#VALUE!"},{"$error":"#VALUE!"},{"$error":"#VALUE!"},{"$error":"#VALUE!"},{"$error":"#VALUE!"},{"$error":"#VALUE!"},{"$error":"#VALUE!"},{"$error":"#VALUE!"},{"$error":"#VALUE!"},{"$error":"#VALUE!"},{"$error":"#VALUE!"},{"$error":"#VALUE!"},{"$error":"#VALUE!"},{"$error":"#VALUE!"},{"$error":"#VALUE!"},{"$error":"#VALUE!"},{"$error":"#VALUE!"},{"$error":"#VALUE!"},{"$error":"#VALUE!"},{"$error":"#VALUE!"},{"$error":"#VALUE!"},{"$error":"#VALUE!"},{"$error":"#VALUE!"},{"$error":"#VALUE!"},{"$error":"#VALUE!"},{"$error":"#VALUE!"},{"$error":"#VALUE!"},{"$error":"#VALUE!"},{"$error":"#VALUE!"},{"$error":"#VALUE!"},{"$error":"#VALUE!"},{"$error":"#VALUE!"},{"$error":"#VALUE!"},{"$error":"#VALUE!"},{"$error":"#VALUE!"},{"$error":"#VALUE!"},{"$error":"#VALUE!"},{"$error":"#VALUE!"},{"$error":"#VALUE!"},{"$error":"#VALUE!"}]
[null,null,null,{"$f":"LEFT(RIGHT(D103,LEN(D103)-3))","v":{"$error":"#VALUE!"}},{"$f":"LEFT(RIGHT(E103,LEN(E103)-3))","v":{"$error":"#VALUE!"}},{"$error":"#VALUE!"},{"$error":"#VALUE!"},{"$error":"#VALUE!"},{"$error":"#VALUE!"},{"$error":"#VALUE!"},{"$error":"#VALUE!"},{"$error":"#VALUE!"},{"$error":"#VALUE!"},{"$error":"#VALUE!"},{"$error":"#VALUE!"},{"$error":"#VALUE!"},{"$error":"#VALUE!"},{"$error":"#VALUE!"},{"$error":"#VALUE!"},{"$error":"#VALUE!"},{"$error":"#VALUE!"},{"$error":"#VALUE!"},{"$error":"#VALUE!"},{"$error":"#VALUE!"},{"$error":"#VALUE!"},{"$error":"#VALUE!"},{"$error":"#VALUE!"},{"$error":"#VALUE!"},{"$error":"#VALUE!"},{"$error":"#VALUE!"},{"$error":"#VALUE!"},{"$error":"#VALUE!"},{"$error":"#VALUE!"},{"$error":"#VALUE!"},{"$error":"#VALUE!"},{"$error":"#VALUE!"},{"$error":"#VALUE!"},{"$error":"#VALUE!"},{"$error":"#VALUE!"},{"$error":"#VALUE!"},{"$error":"#VALUE!"},{"$error":"#VALUE!"},{"$error":"#VALUE!"},{"$error":"#VALUE!"},{"$error":"#VALUE!"},{"$error":"#VALUE!"},{"$error":"#VALUE!"},{"$error":"#VALUE!"},{"$error":"#VALUE!"},{"$error":"#VALUE!"},{"$error":"#VALUE!"},{"$error":"#VALUE!"},{"$error":"#VALUE!"},{"$error":"#VALUE!"},{"$error":"#VALUE!"},{"$error":"#VALUE!"},{"$error":"#VALUE!"},{"$error":"#VALUE!"},{"$error":"#VALUE!"}]
[null,null,null,{"$f":"LEFT(RIGHT(D103,LEN(D103)-4))","v":{"$error":"#VALUE!"}},{"$f":"LEFT(RIGHT(E103,LEN(E103)-4))","v":{"$error":"#VALUE!"}},{"$error":"#VALUE!"},{"$error":"#VALUE!"},{"$error":"#VALUE!"},{"$error":"#VALUE!"},{"$error":"#VALUE!"},{"$error":"#VALUE!"},{"$error":"#VALUE!"},{"$error":"#VALUE!"},{"$error":"#VALUE!"},{"$error":"#VALUE!"},{"$error":"#VALUE!"},{"$error":"#VALUE!"},{"$error":"#VALUE!"},{"$error":"#VALUE!"},{"$error":"#VALUE!"},{"$error":"#VALUE!"},{"$error":"#VALUE!"},{"$error":"#VALUE!"},{"$error":"#VALUE!"},{"$error":"#VALUE!"},{"$error":"#VALUE!"},{"$error":"#VALUE!"},{"$error":"#VALUE!"},{"$error":"#VALUE!"},{"$error":"#VALUE!"},{"$error":"#VALUE!"},{"$error":"#VALUE!"},{"$error":"#VALUE!"},{"$error":"#VALUE!"},{"$error":"#VALUE!"},{"$error":"#VALUE!"},{"$error":"#VALUE!"},{"$error":"#VALUE!"},{"$error":"#VALUE!"},{"$error":"#VALUE!"},{"$error":"#VALUE!"},{"$error":"#VALUE!"},{"$error":"#VALUE!"},{"$error":"#VALUE!"},{"$error":"#VALUE!"},{"$error":"#VALUE!"},{"$error":"#VALUE!"},{"$error":"#VALUE!"},{"$error":"#VALUE!"},{"$error":"#VALUE!"},{"$error":"#VALUE!"},{"$error":"#VALUE!"},{"$error":"#VALUE!"},{"$error":"#VALUE!"},{"$error":"#VALUE!"},{"$error":"#VALUE!"},{"$error":"#VALUE!"},{"$error":"#VALUE!"},{"$error":"#VALUE!"}]
[null,null,null,{"$f":"LEFT(RIGHT(D103,LEN(D103)-5))","v":{"$error":"#VALUE!"}},{"$f":"LEFT(RIGHT(E103,LEN(E103)-5))","v":{"$error":"#VALUE!"}},{"$error":"#VALUE!"},{"$error":"#VALUE!"},{"$error":"#VALUE!"},{"$error":"#VALUE!"},{"$error":"#VALUE!"},{"$error":"#VALUE!"},{"$error":"#VALUE!"},{"$error":"#VALUE!"},{"$error":"#VALUE!"},{"$error":"#VALUE!"},{"$error":"#VALUE!"},{"$error":"#VALUE!"},{"$error":"#VALUE!"},{"$error":"#VALUE!"},{"$error":"#VALUE!"},{"$error":"#VALUE!"},{"$error":"#VALUE!"},{"$error":"#VALUE!"},{"$error":"#VALUE!"},{"$error":"#VALUE!"},{"$error":"#VALUE!"},{"$error":"#VALUE!"},{"$error":"#VALUE!"},{"$error":"#VALUE!"},{"$error":"#VALUE!"},{"$error":"#VALUE!"},{"$error":"#VALUE!"},{"$error":"#VALUE!"},{"$error":"#VALUE!"},{"$error":"#VALUE!"},{"$error":"#VALUE!"},{"$error":"#VALUE!"},{"$error":"#VALUE!"},{"$error":"#VALUE!"},{"$error":"#VALUE!"},{"$error":"#VALUE!"},{"$error":"#VALUE!"},{"$error":"#VALUE!"},{"$error":"#VALUE!"},{"$error":"#VALUE!"},{"$error":"#VALUE!"},{"$error":"#VALUE!"},{"$error":"#VALUE!"},{"$error":"#VALUE!"},{"$error":"#VALUE!"},{"$error":"#VALUE!"},{"$error":"#VALUE!"},{"$error":"#VALUE!"},{"$error":"#VALUE!"},{"$error":"#VALUE!"},{"$error":"#VALUE!"},{"$error":"#VALUE!"},{"$error":"#VALUE!"},{"$error":"#VALUE!"}]
[null,null,null,{"$f":"LEFT(RIGHT(D103,LEN(D103)-6))","v":{"$error":"#VALUE!"}},{"$f":"LEFT(RIGHT(E103,LEN(E103)-6))","v":{"$error":"#VALUE!"}},{"$error":"#VALUE!"},{"$error":"#VALUE!"},{"$error":"#VALUE!"},{"$error":"#VALUE!"},{"$error":"#VALUE!"},{"$error":"#VALUE!"},{"$error":"#VALUE!"},{"$error":"#VALUE!"},{"$error":"#VALUE!"},{"$error":"#VALUE!"},{"$error":"#VALUE!"},{"$error":"#VALUE!"},{"$error":"#VALUE!"},{"$error":"#VALUE!"},{"$error":"#VALUE!"},{"$error":"#VALUE!"},{"$error":"#VALUE!"},{"$error":"#VALUE!"},{"$error":"#VALUE!"},{"$error":"#VALUE!"},{"$error":"#VALUE!"},{"$error":"#VALUE!"},{"$error":"#VALUE!"},{"$error":"#VALUE!"},{"$error":"#VALUE!"},{"$error":"#VALUE!"},{"$error":"#VALUE!"},{"$error":"#VALUE!"},{"$error":"#VALUE!"},{"$error":"#VALUE!"},{"$error":"#VALUE!"},{"$error":"#VALUE!"},{"$error":"#VALUE!"},{"$error":"#VALUE!"},{"$error":"#VALUE!"},{"$error":"#VALUE!"},{"$error":"#VALUE!"},{"$error":"#VALUE!"},{"$error":"#VALUE!"},{"$error":"#VALUE!"},{"$error":"#VALUE!"},{"$error":"#VALUE!"},{"$error":"#VALUE!"},{"$error":"#VALUE!"},{"$error":"#VALUE!"},{"$error":"#VALUE!"},{"$error":"#VALUE!"},{"$error":"#VALUE!"},{"$error":"#VALUE!"},{"$error":"#VALUE!"},{"$error":"#VALUE!"},{"$error":"#VALUE!"},{"$error":"#VALUE!"},{"$error":"#VALUE!"}]
[null,null,null,{"$f":"LEFT(RIGHT(D103,LEN(D103)-7))","v":{"$error":"#VALUE!"}},{"$f":"LEFT(RIGHT(E103,LEN(E103)-7))","v":{"$error":"#VALUE!"}},{"$error":"#VALUE!"},{"$error":"#VALUE!"},{"$error":"#VALUE!"},{"$error":"#VALUE!"},{"$error":"#VALUE!"},{"$error":"#VALUE!"},{"$error":"#VALUE!"},{"$error":"#VALUE!"},{"$error":"#VALUE!"},{"$error":"#VALUE!"},{"$error":"#VALUE!"},{"$error":"#VALUE!"},{"$error":"#VALUE!"},{"$error":"#VALUE!"},{"$error":"#VALUE!"},{"$error":"#VALUE!"},{"$error":"#VALUE!"},{"$error":"#VALUE!"},{"$error":"#VALUE!"},{"$error":"#VALUE!"},{"$error":"#VALUE!"},{"$error":"#VALUE!"},{"$error":"#VALUE!"},{"$error":"#VALUE!"},{"$error":"#VALUE!"},{"$error":"#VALUE!"},{"$error":"#VALUE!"},{"$error":"#VALUE!"},{"$error":"#VALUE!"},{"$error":"#VALUE!"},{"$error":"#VALUE!"},{"$error":"#VALUE!"},{"$error":"#VALUE!"},{"$error":"#VALUE!"},{"$error":"#VALUE!"},{"$error":"#VALUE!"},{"$error":"#VALUE!"},{"$error":"#VALUE!"},{"$error":"#VALUE!"},{"$error":"#VALUE!"},{"$error":"#VALUE!"},{"$error":"#VALUE!"},{"$error":"#VALUE!"},{"$error":"#VALUE!"},{"$error":"#VALUE!"},{"$error":"#VALUE!"},{"$error":"#VALUE!"},{"$error":"#VALUE!"},{"$error":"#VALUE!"},{"$error":"#VALUE!"},{"$error":"#VALUE!"},{"$error":"#VALUE!"},{"$error":"#VALUE!"},{"$error":"#VALUE!"}]
[null,null,null,{"$f":"LEFT(RIGHT(D103,LEN(D103)-8))","v":{"$error":"#VALUE!"}},{"$f":"LEFT(RIGHT(E103,LEN(E103)-8))","v":{"$error":"#VALUE!"}},{"$error":"#VALUE!"},{"$error":"#VALUE!"},{"$error":"#VALUE!"},{"$error":"#VALUE!"},{"$error":"#VALUE!"},{"$error":"#VALUE!"},{"$error":"#VALUE!"},{"$error":"#VALUE!"},{"$error":"#VALUE!"},{"$error":"#VALUE!"},{"$error":"#VALUE!"},{"$error":"#VALUE!"},{"$error":"#VALUE!"},{"$error":"#VALUE!"},{"$error":"#VALUE!"},{"$error":"#VALUE!"},{"$error":"#VALUE!"},{"$error":"#VALUE!"},{"$error":"#VALUE!"},{"$error":"#VALUE!"},{"$error":"#VALUE!"},{"$error":"#VALUE!"},{"$error":"#VALUE!"},{"$error":"#VALUE!"},{"$error":"#VALUE!"},{"$error":"#VALUE!"},{"$error":"#VALUE!"},{"$error":"#VALUE!"},{"$error":"#VALUE!"},{"$error":"#VALUE!"},{"$error":"#VALUE!"},{"$error":"#VALUE!"},{"$error":"#VALUE!"},{"$error":"#VALUE!"},{"$error":"#VALUE!"},{"$error":"#VALUE!"},{"$error":"#VALUE!"},{"$error":"#VALUE!"},{"$error":"#VALUE!"},{"$error":"#VALUE!"},{"$error":"#VALUE!"},{"$error":"#VALUE!"},{"$error":"#VALUE!"},{"$error":"#VALUE!"},{"$error":"#VALUE!"},{"$error":"#VALUE!"},{"$error":"#VALUE!"},{"$error":"#VALUE!"},{"$error":"#VALUE!"},{"$error":"#VALUE!"},{"$error":"#VALUE!"},{"$error":"#VALUE!"},{"$error":"#VALUE!"},{"$error":"#VALUE!"}]
[null,null,null,{"$f":"LEFT(RIGHT(D103,LEN(D103)-9))","v":{"$error":"#VALUE!"}},{"$f":"LEFT(RIGHT(E103,LEN(E103)-9))","v":{"$error":"#VALUE!"}},{"$error":"#VALUE!"},{"$error":"#VALUE!"},{"$error":"#VALUE!"},{"$error":"#VALUE!"},{"$error":"#VALUE!"},{"$error":"#VALUE!"},{"$error":"#VALUE!"},{"$error":"#VALUE!"},{"$error":"#VALUE!"},{"$error":"#VALUE!"},{"$error":"#VALUE!"},{"$error":"#VALUE!"},{"$error":"#VALUE!"},{"$error":"#VALUE!"},{"$error":"#VALUE!"},{"$error":"#VALUE!"},{"$error":"#VALUE!"},{"$error":"#VALUE!"},{"$error":"#VALUE!"},{"$error":"#VALUE!"},{"$error":"#VALUE!"},{"$error":"#VALUE!"},{"$error":"#VALUE!"},{"$error":"#VALUE!"},{"$error":"#VALUE!"},{"$error":"#VALUE!"},{"$error":"#VALUE!"},{"$error":"#VALUE!"},{"$error":"#VALUE!"},{"$error":"#VALUE!"},{"$error":"#VALUE!"},{"$error":"#VALUE!"},{"$error":"#VALUE!"},{"$error":"#VALUE!"},{"$error":"#VALUE!"},{"$error":"#VALUE!"},{"$error":"#VALUE!"},{"$error":"#VALUE!"},{"$error":"#VALUE!"},{"$error":"#VALUE!"},{"$error":"#VALUE!"},{"$error":"#VALUE!"},{"$error":"#VALUE!"},{"$error":"#VALUE!"},{"$error":"#VALUE!"},{"$error":"#VALUE!"},{"$error":"#VALUE!"},{"$error":"#VALUE!"},{"$error":"#VALUE!"},{"$error":"#VALUE!"},{"$error":"#VALUE!"},{"$error":"#VALUE!"},{"$error":"#VALUE!"},{"$error":"#VALUE!"}]
[null,{"$f":"SUM(D114:BB114)","v":0},"# F's",{"$f":"COUNTIF(D104:D113,\"F\")","v":0},{"$f":"COUNTIF(E104:E113,\"F\")","v":0},0,0,0,0,0,0,0,0,0,0,0,0,0,0,0,0,0,0,0,0,0,0,0,0,0,0,0,0,0,0,0,0,0,0,0,0,0,0,0,0,0,0,0,0,0,0,0,0,0,0,0,0,0,0]
[null,{"$f":"SUM(D115:BB115)","v":0},"# T's",{"$f":"COUNTIF(D104:D113,\"T\")","v":0},{"$f":"COUNTIF(E104:E113,\"T\")","v":0},0,0,0,0,0,0,0,0,0,0,0,0,0,0,0,0,0,0,0,0,0,0,0,0,0,0,0,0,0,0,0,0,0,0,0,0,0,0,0,0,0,0,0,0,0,0,0,0,0,0,0,0,0,0]
[null,null,"foul points",{"$f":"IF(C117=\"odd\",-10*CEILING(D114/2,1),-10*FLOOR(D114/2,1))","v":0},{"$f":"IF(D117=\"odd\",-10*CEILING(E114/2,1),-10*FLOOR(E114/2,1))","v":0},0,0,0,0,0,0,0,0,0,0,0,0,0,0,0,0,0,0,0,0,0,0,0,0,0,0,0,0,0,0,0,0,0,0,0,0,0,0,0,0,0,0,0,0,0,0,0,0,0,0,0,0,0,0]
[null,null,"even",{"$f":"IF(SUM($D114:D114)/2=FLOOR(SUM($D114:D114)/2,1),\"even\",\"odd\")","v":"even"},{"$f":"IF(SUM($D114:E114)/2=FLOOR(SUM($D114:E114)/2,1),\"even\",\"odd\")","v":"even"},{"$f":"IF(SUM($D114:F114)/2=FLOOR(SUM($D114:F114)/2,1),\"even\",\"odd\")","v":"even"},{"$f":"IF(SUM($D114:G114)/2=FLOOR(SUM($D114:G114)/2,1),\"even\",\"odd\")","v":"even"},{"$f":"IF(SUM($D114:H114)/2=FLOOR(SUM($D114:H114)/2,1),\"even\",\"odd\")","v":"even"},{"$f":"IF(SUM($D114:I114)/2=FLOOR(SUM($D114:I114)/2,1),\"even\",\"odd\")","v":"even"},{"$f":"IF(SUM($D114:J114)/2=FLOOR(SUM($D114:J114)/2,1),\"even\",\"odd\")","v":"even"},{"$f":"IF(SUM($D114:K114)/2=FLOOR(SUM($D114:K114)/2,1),\"even\",\"odd\")","v":"even"},{"$f":"IF(SUM($D114:L114)/2=FLOOR(SUM($D114:L114)/2,1),\"even\",\"odd\")","v":"even"},{"$f":"IF(SUM($D114:M114)/2=FLOOR(SUM($D114:M114)/2,1),\"even\",\"odd\")","v":"even"},{"$f":"IF(SUM($D114:N114)/2=FLOOR(SUM($D114:N114)/2,1),\"even\",\"odd\")","v":"even"},{"$f":"IF(SUM($D114:O114)/2=FLOOR(SUM($D114:O114)/2,1),\"even\",\"odd\")","v":"even"},{"$f":"IF(SUM($D114:P114)/2=FLOOR(SUM($D114:P114)/2,1),\"even\",\"odd\")","v":"even"},{"$f":"IF(SUM($D114:Q114)/2=FLOOR(SUM($D114:Q114)/2,1),\"even\",\"odd\")","v":"even"},{"$f":"IF(SUM($D114:R114)/2=FLOOR(SUM($D114:R114)/2,1),\"even\",\"odd\")","v":"even"},{"$f":"IF(SUM($D114:S114)/2=FLOOR(SUM($D114:S114)/2,1),\"even\",\"odd\")","v":"even"},{"$f":"IF(SUM($D114:T114)/2=FLOOR(SUM($D114:T114)/2,1),\"even\",\"odd\")","v":"even"},{"$f":"IF(SUM($D114:U114)/2=FLOOR(SUM($D114:U114)/2,1),\"even\",\"odd\")","v":"even"},{"$f":"IF(SUM($D114:V114)/2=FLOOR(SUM($D114:V114)/2,1),\"even\",\"odd\")","v":"even"},{"$f":"IF(SUM($D114:W114)/2=FLOOR(SUM($D114:W114)/2,1),\"even\",\"odd\")","v":"even"},{"$f":"IF(SUM($D114:X114)/2=FLOOR(SUM($D114:X114)/2,1),\"even\",\"odd\")","v":"even"},{"$f":"IF(SUM($D114:Y114)/2=FLOOR(SUM($D114:Y114)/2,1),\"even\",\"odd\")","v":"even"},{"$f":"IF(SUM($D114:Z114)/2=FLOOR(SUM($D114:Z114)/2,1),\"even\",\"odd\")","v":"even"},{"$f":"IF(SUM($D114:AA114)/2=FLOOR(SUM($D114:AA114)/2,1),\"even\",\"odd\")","v":"even"},{"$f":"IF(SUM($D114:AB114)/2=FLOOR(SUM($D114:AB114)/2,1),\"even\",\"odd\")","v":"even"},{"$f":"IF(SUM($D114:AC114)/2=FLOOR(SUM($D114:AC114)/2,1),\"even\",\"odd\")","v":"even"},{"$f":"IF(SUM($D114:AD114)/2=FLOOR(SUM($D114:AD114)/2,1),\"even\",\"odd\")","v":"even"},{"$f":"IF(SUM($D114:AE114)/2=FLOOR(SUM($D114:AE114)/2,1),\"even\",\"odd\")","v":"even"},{"$f":"IF(SUM($D114:AF114)/2=FLOOR(SUM($D114:AF114)/2,1),\"even\",\"odd\")","v":"even"},{"$f":"IF(SUM($D114:AG114)/2=FLOOR(SUM($D114:AG114)/2,1),\"even\",\"odd\")","v":"even"},{"$f":"IF(SUM($D114:AH114)/2=FLOOR(SUM($D114:AH114)/2,1),\"even\",\"odd\")","v":"even"},{"$f":"IF(SUM($D114:AI114)/2=FLOOR(SUM($D114:AI114)/2,1),\"even\",\"odd\")","v":"even"},{"$f":"IF(SUM($D114:AJ114)/2=FLOOR(SUM($D114:AJ114)/2,1),\"even\",\"odd\")","v":"even"},{"$f":"IF(SUM($D114:AK114)/2=FLOOR(SUM($D114:AK114)/2,1),\"even\",\"odd\")","v":"even"},{"$f":"IF(SUM($D114:AL114)/2=FLOOR(SUM($D114:AL114)/2,1),\"even\",\"odd\")","v":"even"},{"$f":"IF(SUM($D114:AM114)/2=FLOOR(SUM($D114:AM114)/2,1),\"even\",\"odd\")","v":"even"},{"$f":"IF(SUM($D114:AN114)/2=FLOOR(SUM($D114:AN114)/2,1),\"even\",\"odd\")","v":"even"},{"$f":"IF(SUM($D114:AO114)/2=FLOOR(SUM($D114:AO114)/2,1),\"even\",\"odd\")","v":"even"},{"$f":"IF(SUM($D114:AP114)/2=FLOOR(SUM($D114:AP114)/2,1),\"even\",\"odd\")","v":"even"},{"$f":"IF(SUM($D114:AQ114)/2=FLOOR(SUM($D114:AQ114)/2,1),\"even\",\"odd\")","v":"even"},{"$f":"IF(SUM($D114:AR114)/2=FLOOR(SUM($D114:AR114)/2,1),\"even\",\"odd\")","v":"even"},{"$f":"IF(SUM($D114:AS114)/2=FLOOR(SUM($D114:AS114)/2,1),\"even\",\"odd\")","v":"even"},{"$f":"IF(SUM($D114:AT114)/2=FLOOR(SUM($D114:AT114)/2,1),\"even\",\"odd\")","v":"even"},{"$f":"IF(SUM($D114:AU114)/2=FLOOR(SUM($D114:AU114)/2,1),\"even\",\"odd\")","v":"even"},{"$f":"IF(SUM($D114:AV114)/2=FLOOR(SUM($D114:AV114)/2,1),\"even\",\"odd\")","v":"even"},{"$f":"IF(SUM($D114:AW114)/2=FLOOR(SUM($D114:AW114)/2,1),\"even\",\"odd\")","v":"even"},{"$f":"IF(SUM($D114:AX114)/2=FLOOR(SUM($D114:AX114)/2,1),\"even\",\"odd\")","v":"even"},{"$f":"IF(SUM($D114:AY114)/2=FLOOR(SUM($D114:AY114)/2,1),\"even\",\"odd\")","v":"even"},{"$f":"IF(SUM($D114:AZ114)/2=FLOOR(SUM($D114:AZ114)/2,1),\"even\",\"odd\")","v":"even"},{"$f":"IF(SUM($D114:BA114)/2=FLOOR(SUM($D114:BA114)/2,1),\"even\",\"odd\")","v":"even"},{"$f":"IF(SUM($D114:BB114)/2=FLOOR(SUM($D114:BB114)/2,1),\"even\",\"odd\")","v":"even"},{"$f":"IF(SUM($D114:BC114)/2=FLOOR(SUM($D114:BC114)/2,1),\"even\",\"odd\")","v":"even"},{"$f":"IF(SUM($D114:BD114)/2=FLOOR(SUM($D114:BD114)/2,1),\"even\",\"odd\")","v":"even"},{"$f":"IF(SUM($D114:BE114)/2=FLOOR(SUM($D114:BE114)/2,1),\"even\",\"odd\")","v":"even"},{"$f":"IF(SUM($D114:BF114)/2=FLOOR(SUM($D114:BF114)/2,1),\"even\",\"odd\")","v":"even"},{"$f":"IF(SUM($D114:BG114)/2=FLOOR(SUM($D114:BG114)/2,1),\"even\",\"odd\")","v":"even"}]
[]
[]
[]
[]
[]
[]
[]
[]
[null,null,"Timeout = T, Foul = F ------------>",{"$f":"Scoresheet!D69","v":0},{"$f":"Scoresheet!E69","v":0},{"$f":"Scoresheet!F69","v":0},{"$f":"Scoresheet!G69","v":0},{"$f":"Scoresheet!H69","v":0},{"$f":"Scoresheet!I69","v":0},{"$f":"Scoresheet!J69","v":0},{"$f":"Scoresheet!K69","v":0},{"$f":"Scoresheet!L69","v":0},{"$f":"Scoresheet!M69","v":0},{"$f":"Scoresheet!N69","v":0},{"$f":"Scoresheet!O69","v":0},{"$f":"Scoresheet!P69","v":0},{"$f":"Scoresheet!Q69","v":0},{"$f":"Scoresheet!R69","v":0},{"$f":"Scoresheet!S69","v":0},{"$f":"Scoresheet!T69","v":0},{"$f":"Scoresheet!U69","v":0},{"$f":"Scoresheet!V69","v":0},{"$f":"Scoresheet!W69","v":0},{"$f":"Scoresheet!X69","v":0},{"$f":"Scoresheet!Y69","v":0},{"$f":"Scoresheet!Z69","v":0},{"$f":"Scoresheet!AA69","v":0},{"$f":"Scoresheet!AB69","v":0},{"$f":"Scoresheet!AC69","v":0},{"$f":"Scoresheet!AD69","v":0},{"$f":"Scoresheet!AE69","v":0},{"$f":"Scoresheet!AF69","v":0},{"$f":"Scoresheet!AG69","v":0},{"$f":"Scoresheet!AH69","v":0},{"$f":"Scoresheet!AI69","v":0},{"$f":"Scoresheet!AJ69","v":0},{"$f":"Scoresheet!AK69","v":0},{"$f":"Scoresheet!AL69","v":0},{"$f":"Scoresheet!AM69","v":0},{"$f":"Scoresheet!AN69","v":0},{"$f":"Scoresheet!AO69","v":0},{"$f":"Scoresheet!AP69","v":0},{"$f":"Scoresheet!AQ69","v":0},{"$f":"Scoresheet!AR69","v":0},{"$f":"Scoresheet!AS69","v":0},{"$f":"Scoresheet!AT69","v":0},{"$f":"Scoresheet!AU69","v":0},{"$f":"Scoresheet!AV69","v":0},{"$f":"Scoresheet!AW69","v":0},{"$f":"Scoresheet!AX69","v":0},{"$f":"Scoresheet!AY69","v":0},{"$f":"Scoresheet!AZ69","v":0},{"$f":"Scoresheet!BA69","v":0},{"$f":"Scoresheet!BB69","v":0},{"$f":"Scoresheet!BC69","v":0},{"$f":"Scoresheet!BD69","v":0},{"$f":"Scoresheet!BE69","v":0},{"$f":"Scoresheet!BF69","v":0},{"$f":"Scoresheet!BG69","v":0}]
[null,null,{"$f":"CONCATENATE(\"Timeout = T (\",B138,\"), Foul = F ---------->\")","v":"Timeout = T (0), Foul = F ---------->"},{"$f":"LEFT(D126)","v":"0"},{"$f":"LEFT(E126)","v":"0"},"0","0","0","0","0","0","0","0","0","0","0","0","0","0","0","0","0","0","0","0","0","0","0","0","0","0","0","0","0","0","0","0","0","0","0","0","0","0","0","0","0","0","0","0","0","0","0","0","0","0","0","0","0","0"]
[null,null,{"$f":"CONCATENATE(\"Timeout = T (\",B138,\"), Foul = F (\",B137,\") --->\")","v":"Timeout = T (0), Foul = F (0) --->"},{"$f":"LEFT(RIGHT(D126,LEN(D126)-1))","v":""},{"$f":"LEFT(RIGHT(E126,LEN(E126)-1))","v":""},"","","","","","","","","","","","","","","","","","","","","","","","","","","","","","","","","","","","","","","","","","","","","","","","","","","","","",""]
[null,null,{"$f":"CONCATENATE(\"Timeout = T, Foul = F (\",B137,\") ---------->\")","v":"Timeout = T, Foul = F (0) ---------->"},{"$f":"LEFT(RIGHT(D126,LEN(D126)-2))","v":{"$error":"#VALUE!"}},{"$f":"LEFT(RIGHT(E126,LEN(E126)-2))","v":{"$error":"#VALUE!"}},{"$error":"#VALUE!"},{"$error":"#VALUE!"},{"$error":"#VALUE!"},{"$error":"#VALUE!"},{"$error":"#VALUE!"},{"$error":"#VALUE!"},{"$error":"#VALUE!"},{"$error":"#VALUE!"},{"$error":"#VALUE!"},{"$error":"#VALUE!"},{"$error":"#VALUE!"},{"$error":"#VALUE!"},{"$error":"#VALUE!"},{"$error":"#VALUE!"},{"$error":"#VALUE!"},{"$error":"#VALUE!"},{"$error":"#VALUE!"},{"$error":"#VALUE!"},{"$error":"#VALUE!"},{"$error":"#VALUE!"},{"$error":"#VALUE!"},{"$error":"#VALUE!"},{"$error":"#VALUE!"},{"$error":"#VALUE!"},{"$error":"#VALUE!"},{"$error":"#VALUE!"},{"$error":"#VALUE!"},{"$error":"#VALUE!"},{"$error":"#VALUE!"},{"$error":"#VALUE!"},{"$error":"#VALUE!"},{"$error":"#VALUE!"},{"$error":"#VALUE!"},{"$error":"#VALUE!"},{"$error":"#VALUE!"},{"$error":"#VALUE!"},{"$error":"#VALUE!"},{"$error":"#VALUE!"},{"$error":"#VALUE!"},{"$error":"#VALUE!"},{"$error":"#VALUE!"},{"$error":"#VALUE!"},{"$error":"#VALUE!"},{"$error":"#VALUE!"},{"$error":"#VALUE!"},{"$error":"#VALUE!"},{"$error":"#VALUE!"},{"$error":"#VALUE!"},{"$error":"#VALUE!"},{"$error":"#VALUE!"},{"$error":"#VALUE!"},{"$error":"#VALUE!"},{"$error":"#VALUE!"},{"$error":"#VALUE!"}]
[null,null,null,{"$f":"LEFT(RIGHT(D126,LEN(D126)-3))","v":{"$error":"#VALUE!"}},{"$f":"LEFT(RIGHT(E126,LEN(E126)-3))","v":{"$error":"#VALUE!"}},{"$error":"#VALUE!"},{"$error":"#VALUE!"},{"$error":"#VALUE!"},{"$error":"#VALUE!"},{"$error":"#VALUE!"},{"$error":"#VALUE!"},{"$error":"#VALUE!"},{"$error":"#VALUE!"},{"$error":"#VALUE!"},{"$error":"#VALUE!"},{"$error":"#VALUE!"},{"$error":"#VALUE!"},{"$error":"#VALUE!"},{"$error":"#VALUE!"},{"$error":"#VALUE!"},{"$error":"#VALUE!"},{"$error":"#VALUE!"},{"$error":"#VALUE!"},{"$error":"#VALUE!"},{"$error":"#VALUE!"},{"$error":"#VALUE!"},{"$error":"#VALUE!"},{"$error":"#VALUE!"},{"$error":"#VALUE!"},{"$error":"#VALUE!"},{"$error":"#VALUE!"},{"$error":"#VALUE!"},{"$error":"#VALUE!"},{"$error":"#VALUE!"},{"$error":"#VALUE!"},{"$error":"#VALUE!"},{"$error":"#VALUE!"},{"$error":"#VALUE!"},{"$error":"#VALUE!"},{"$error":"#VALUE!"},{"$error":"#VALUE!"},{"$error":"#VALUE!"},{"$error":"#VALUE!"},{"$error":"#VALUE!"},{"$error":"#VALUE!"},{"$error":"#VALUE!"},{"$error":"#VALUE!"},{"$error":"#VALUE!"},{"$error":"#VALUE!"},{"$error":"#VALUE!"},{"$error":"#VALUE!"},{"$error":"#VALUE!"},{"$error":"#VALUE!"},{"$error":"#VALUE!"},{"$error":"#VALUE!"},{"$error":"#VALUE!"},{"$error":"#VALUE!"},{"$error":"#VALUE!"},{"$error":"#VALUE!"}]
[null,null,null,{"$f":"LEFT(RIGHT(D126,LEN(D126)-4))","v":{"$error":"#VALUE!"}},{"$f":"LEFT(RIGHT(E126,LEN(E126)-4))","v":{"$error":"#VALUE!"}},{"$error":"#VALUE!"},{"$error":"#VALUE!"},{"$error":"#VALUE!"},{"$error":"#VALUE!"},{"$error":"#VALUE!"},{"$error":"#VALUE!"},{"$error":"#VALUE!"},{"$error":"#VALUE!"},{"$error":"#VALUE!"},{"$error":"#VALUE!"},{"$error":"#VALUE!"},{"$error":"#VALUE!"},{"$error":"#VALUE!"},{"$error":"#VALUE!"},{"$error":"#VALUE!"},{"$error":"#VALUE!"},{"$error":"#VALUE!"},{"$error":"#VALUE!"},{"$error":"#VALUE!"},{"$error":"#VALUE!"},{"$error":"#VALUE!"},{"$error":"#VALUE!"},{"$error":"#VALUE!"},{"$error":"#VALUE!"},{"$error":"#VALUE!"},{"$error":"#VALUE!"},{"$error":"#VALUE!"},{"$error":"#VALUE!"},{"$error":"#VALUE!"},{"$error":"#VALUE!"},{"$error":"#VALUE!"},{"$error":"#VALUE!"},{"$error":"#VALUE!"},{"$error":"#VALUE!"},{"$error":"#VALUE!"},{"$error":"#VALUE!"},{"$error":"#VALUE!"},{"$error":"#VALUE!"},{"$error":"#VALUE!"},{"$error":"#VALUE!"},{"$error":"#VALUE!"},{"$error":"#VALUE!"},{"$error":"#VALUE!"},{"$error":"#VALUE!"},{"$error":"#VALUE!"},{"$error":"#VALUE!"},{"$error":"#VALUE!"},{"$error":"#VALUE!"},{"$error":"#VALUE!"},{"$error":"#VALUE!"},{"$error":"#VALUE!"},{"$error":"#VALUE!"},{"$error":"#VALUE!"},{"$error":"#VALUE!"}]
[null,null,null,{"$f":"LEFT(RIGHT(D126,LEN(D126)-5))","v":{"$error":"#VALUE!"}},{"$f":"LEFT(RIGHT(E126,LEN(E126)-5))","v":{"$error":"#VALUE!"}},{"$error":"#VALUE!"},{"$error":"#VALUE!"},{"$error":"#VALUE!"},{"$error":"#VALUE!"},{"$error":"#VALUE!"},{"$error":"#VALUE!"},{"$error":"#VALUE!"},{"$error":"#VALUE!"},{"$error":"#VALUE!"},{"$error":"#VALUE!"},{"$error":"#VALUE!"},{"$error":"#VALUE!"},{"$error":"#VALUE!"},{"$error":"#VALUE!"},{"$error":"#VALUE!"},{"$error":"#VALUE!"},{"$error":"#VALUE!"},{"$error":"#VALUE!"},{"$error":"#VALUE!"},{"$error":"#VALUE!"},{"$error":"#VALUE!"},{"$error":"#VALUE!"},{"$error":"#VALUE!"},{"$error":"#VALUE!"},{"$error":"#VALUE!"},{"$error":"#VALUE!"},{"$error":"#VALUE!"},{"$error":"#VALUE!"},{"$error":"#VALUE!"},{"$error":"#VALUE!"},{"$error":"#VALUE!"},{"$error":"#VALUE!"},{"$error":"#VALUE!"},{"$error":"#VALUE!"},{"$error":"#VALUE!"},{"$error":"#VALUE!"},{"$error":"#VALUE!"},{"$error":"#VALUE!"},{"$error":"#VALUE!"},{"$error":"#VALUE!"},{"$error":"#VALUE!"},{"$error":"#VALUE!"},{"$error":"#VALUE!"},{"$error":"#VALUE!"},{"$error":"#VALUE!"},{"$error":"#VALUE!"},{"$error":"#VALUE!"},{"$error":"#VALUE!"},{"$error":"#VALUE!"},{"$error":"#VALUE!"},{"$error":"#VALUE!"},{"$error":"#VALUE!"},{"$error":"#VALUE!"},{"$error":"#VALUE!"}]
[null,null,null,{"$f":"LEFT(RIGHT(D126,LEN(D126)-6))","v":{"$error":"#VALUE!"}},{"$f":"LEFT(RIGHT(E126,LEN(E126)-6))","v":{"$error":"#VALUE!"}},{"$error":"#VALUE!"},{"$error":"#VALUE!"},{"$error":"#VALUE!"},{"$error":"#VALUE!"},{"$error":"#VALUE!"},{"$error":"#VALUE!"},{"$error":"#VALUE!"},{"$error":"#VALUE!"},{"$error":"#VALUE!"},{"$error":"#VALUE!"},{"$error":"#VALUE!"},{"$error":"#VALUE!"},{"$error":"#VALUE!"},{"$error":"#VALUE!"},{"$error":"#VALUE!"},{"$error":"#VALUE!"},{"$error":"#VALUE!"},{"$error":"#VALUE!"},{"$error":"#VALUE!"},{"$error":"#VALUE!"},{"$error":"#VALUE!"},{"$error":"#VALUE!"},{"$error":"#VALUE!"},{"$error":"#VALUE!"},{"$error":"#VALUE!"},{"$error":"#VALUE!"},{"$error":"#VALUE!"},{"$error":"#VALUE!"},{"$error":"#VALUE!"},{"$error":"#VALUE!"},{"$error":"#VALUE!"},{"$error":"#VALUE!"},{"$error":"#VALUE!"},{"$error":"#VALUE!"},{"$error":"#VALUE!"},{"$error":"#VALUE!"},{"$error":"#VALUE!"},{"$error":"#VALUE!"},{"$error":"#VALUE!"},{"$error":"#VALUE!"},{"$error":"#VALUE!"},{"$error":"#VALUE!"},{"$error":"#VALUE!"},{"$error":"#VALUE!"},{"$error":"#VALUE!"},{"$error":"#VALUE!"},{"$error":"#VALUE!"},{"$error":"#VALUE!"},{"$error":"#VALUE!"},{"$error":"#VALUE!"},{"$error":"#VALUE!"},{"$error":"#VALUE!"},{"$error":"#VALUE!"},{"$error":"#VALUE!"}]
[null,null,null,{"$f":"LEFT(RIGHT(D126,LEN(D126)-7))","v":{"$error":"#VALUE!"}},{"$f":"LEFT(RIGHT(E126,LEN(E126)-7))","v":{"$error":"#VALUE!"}},{"$error":"#VALUE!"},{"$error":"#VALUE!"},{"$error":"#VALUE!"},{"$error":"#VALUE!"},{"$error":"#VALUE!"},{"$error":"#VALUE!"},{"$error":"#VALUE!"},{"$error":"#VALUE!"},{"$error":"#VALUE!"},{"$error":"#VALUE!"},{"$error":"#VALUE!"},{"$error":"#VALUE!"},{"$error":"#VALUE!"},{"$error":"#VALUE!"},{"$error":"#VALUE!"},{"$error":"#VALUE!"},{"$error":"#VALUE!"},{"$error":"#VALUE!"},{"$error":"#VALUE!"},{"$error":"#VALUE!"},{"$error":"#VALUE!"},{"$error":"#VALUE!"},{"$error":"#VALUE!"},{"$error":"#VALUE!"},{"$error":"#VALUE!"},{"$error":"#VALUE!"},{"$error":"#VALUE!"},{"$error":"#VALUE!"},{"$error":"#VALUE!"},{"$error":"#VALUE!"},{"$error":"#VALUE!"},{"$error":"#VALUE!"},{"$error":"#VALUE!"},{"$error":"#VALUE!"},{"$error":"#VALUE!"},{"$error":"#VALUE!"},{"$error":"#VALUE!"},{"$error":"#VALUE!"},{"$error":"#VALUE!"},{"$error":"#VALUE!"},{"$error":"#VALUE!"},{"$error":"#VALUE!"},{"$error":"#VALUE!"},{"$error":"#VALUE!"},{"$error":"#VALUE!"},{"$error":"#VALUE!"},{"$error":"#VALUE!"},{"$error":"#VALUE!"},{"$error":"#VALUE!"},{"$error":"#VALUE!"},{"$error":"#VALUE!"},{"$error":"#VALUE!"},{"$error":"#VALUE!"},{"$error":"#VALUE!"}]
[null,null,null,{"$f":"LEFT(RIGHT(D126,LEN(D126)-8))","v":{"$error":"#VALUE!"}},{"$f":"LEFT(RIGHT(E126,LEN(E126)-8))","v":{"$error":"#VALUE!"}},{"$error":"#VALUE!"},{"$error":"#VALUE!"},{"$error":"#VALUE!"},{"$error":"#VALUE!"},{"$error":"#VALUE!"},{"$error":"#VALUE!"},{"$error":"#VALUE!"},{"$error":"#VALUE!"},{"$error":"#VALUE!"},{"$error":"#VALUE!"},{"$error":"#VALUE!"},{"$error":"#VALUE!"},{"$error":"#VALUE!"},{"$error":"#VALUE!"},{"$error":"#VALUE!"},{"$error":"#VALUE!"},{"$error":"#VALUE!"},{"$error":"#VALUE!"},{"$error":"#VALUE!"},{"$error":"#VALUE!"},{"$error":"#VALUE!"},{"$error":"#VALUE!"},{"$error":"#VALUE!"},{"$error":"#VALUE!"},{"$error":"#VALUE!"},{"$error":"#VALUE!"},{"$error":"#VALUE!"},{"$error":"#VALUE!"},{"$error":"#VALUE!"},{"$error":"#VALUE!"},{"$error":"#VALUE!"},{"$error":"#VALUE!"},{"$error":"#VALUE!"},{"$error":"#VALUE!"},{"$error":"#VALUE!"},{"$error":"#VALUE!"},{"$error":"#VALUE!"},{"$error":"#VALUE!"},{"$error":"#VALUE!"},{"$error":"#VALUE!"},{"$error":"#VALUE!"},{"$error":"#VALUE!"},{"$error":"#VALUE!"},{"$error":"#VALUE!"},{"$error":"#VALUE!"},{"$error":"#VALUE!"},{"$error":"#VALUE!"},{"$error":"#VALUE!"},{"$error":"#VALUE!"},{"$error":"#VALUE!"},{"$error":"#VALUE!"},{"$error":"#VALUE!"},{"$error":"#VALUE!"},{"$error":"#VALUE!"}]
[null,null,null,{"$f":"LEFT(RIGHT(D126,LEN(D126)-9))","v":{"$error":"#VALUE!"}},{"$f":"LEFT(RIGHT(E126,LEN(E126)-9))","v":{"$error":"#VALUE!"}},{"$error":"#VALUE!"},{"$error":"#VALUE!"},{"$error":"#VALUE!"},{"$error":"#VALUE!"},{"$error":"#VALUE!"},{"$error":"#VALUE!"},{"$error":"#VALUE!"},{"$error":"#VALUE!"},{"$error":"#VALUE!"},{"$error":"#VALUE!"},{"$error":"#VALUE!"},{"$error":"#VALUE!"},{"$error":"#VALUE!"},{"$error":"#VALUE!"},{"$error":"#VALUE!"},{"$error":"#VALUE!"},{"$error":"#VALUE!"},{"$error":"#VALUE!"},{"$error":"#VALUE!"},{"$error":"#VALUE!"},{"$error":"#VALUE!"},{"$error":"#VALUE!"},{"$error":"#VALUE!"},{"$error":"#VALUE!"},{"$error":"#VALUE!"},{"$error":"#VALUE!"},{"$error":"#VALUE!"},{"$error":"#VALUE!"},{"$error":"#VALUE!"},{"$error":"#VALUE!"},{"$error":"#VALUE!"},{"$error":"#VALUE!"},{"$error":"#VALUE!"},{"$error":"#VALUE!"},{"$error":"#VALUE!"},{"$error":"#VALUE!"},{"$error":"#VALUE!"},{"$error":"#VALUE!"},{"$error":"#VALUE!"},{"$error":"#VALUE!"},{"$error":"#VALUE!"},{"$error":"#VALUE!"},{"$error":"#VALUE!"},{"$error":"#VALUE!"},{"$error":"#VALUE!"},{"$error":"#VALUE!"},{"$error":"#VALUE!"},{"$error":"#VALUE!"},{"$error":"#VALUE!"},{"$error":"#VALUE!"},{"$error":"#VALUE!"},{"$error":"#VALUE!"},{"$error":"#VALUE!"},{"$error":"#VALUE!"}]
[null,{"$f":"SUM(D137:BB137)","v":0},"# F's",{"$f":"COUNTIF(D127:D136,\"F\")","v":0},{"$f":"COUNTIF(E127:E136,\"F\")","v":0},0,0,0,0,0,0,0,0,0,0,0,0,0,0,0,0,0,0,0,0,0,0,0,0,0,0,0,0,0,0,0,0,0,0,0,0,0,0,0,0,0,0,0,0,0,0,0,0,0,0,0,0,0,0]
[null,{"$f":"SUM(D138:BB138)","v":0},"# T's",{"$f":"COUNTIF(D127:D136,\"T\")","v":0},{"$f":"COUNTIF(E127:E136,\"T\")","v":0},0,0,0,0,0,0,0,0,0,0,0,0,0,0,0,0,0,0,0,0,0,0,0,0,0,0,0,0,0,0,0,0,0,0,0,0,0,0,0,0,0,0,0,0,0,0,0,0,0,0,0,0,0,0]
[null,null,"foul points",{"$f":"IF(C140=\"odd\",-10*CEILING(D137/2,1),-10*FLOOR(D137/2,1))","v":0},{"$f":"IF(D140=\"odd\",-10*CEILING(E137/2,1),-10*FLOOR(E137/2,1))","v":0},0,0,0,0,0,0,0,0,0,0,0,0,0,0,0,0,0,0,0,0,0,0,0,0,0,0,0,0,0,0,0,0,0,0,0,0,0,0,0,0,0,0,0,0,0,0,0,0,0,0,0,0,0,0]
[null,null,"even",{"$f":"IF(SUM($D137:D137)/2=FLOOR(SUM($D137:D137)/2,1),\"even\",\"odd\")","v":"even"},{"$f":"IF(SUM($D137:E137)/2=FLOOR(SUM($D137:E137)/2,1),\"even\",\"odd\")","v":"even"},{"$f":"IF(SUM($D137:F137)/2=FLOOR(SUM($D137:F137)/2,1),\"even\",\"odd\")","v":"even"},{"$f":"IF(SUM($D137:G137)/2=FLOOR(SUM($D137:G137)/2,1),\"even\",\"odd\")","v":"even"},{"$f":"IF(SUM($D137:H137)/2=FLOOR(SUM($D137:H137)/2,1),\"even\",\"odd\")","v":"even"},{"$f":"IF(SUM($D137:I137)/2=FLOOR(SUM($D137:I137)/2,1),\"even\",\"odd\")","v":"even"},{"$f":"IF(SUM($D137:J137)/2=FLOOR(SUM($D137:J137)/2,1),\"even\",\"odd\")","v":"even"},{"$f":"IF(SUM($D137:K137)/2=FLOOR(SUM($D137:K137)/2,1),\"even\",\"odd\")","v":"even"},{"$f":"IF(SUM($D137:L137)/2=FLOOR(SUM($D137:L137)/2,1),\"even\",\"odd\")","v":"even"},{"$f":"IF(SUM($D137:M137)/2=FLOOR(SUM($D137:M137)/2,1),\"even\",\"odd\")","v":"even"},{"$f":"IF(SUM($D137:N137)/2=FLOOR(SUM($D137:N137)/2,1),\"even\",\"odd\")","v":"even"},{"$f":"IF(SUM($D137:O137)/2=FLOOR(SUM($D137:O137)/2,1),\"even\",\"odd\")","v":"even"},{"$f":"IF(SUM($D137:P137)/2=FLOOR(SUM($D137:P137)/2,1),\"even\",\"odd\")","v":"even"},{"$f":"IF(SUM($D137:Q137)/2=FLOOR(SUM($D137:Q137)/2,1),\"even\",\"odd\")","v":"even"},{"$f":"IF(SUM($D137:R137)/2=FLOOR(SUM($D137:R137)/2,1),\"even\",\"odd\")","v":"even"},{"$f":"IF(SUM($D137:S137)/2=FLOOR(SUM($D137:S137)/2,1),\"even\",\"odd\")","v":"even"},{"$f":"IF(SUM($D137:T137)/2=FLOOR(SUM($D137:T137)/2,1),\"even\",\"odd\")","v":"even"},{"$f":"IF(SUM($D137:U137)/2=FLOOR(SUM($D137:U137)/2,1),\"even\",\"odd\")","v":"even"},{"$f":"IF(SUM($D137:V137)/2=FLOOR(SUM($D137:V137)/2,1),\"even\",\"odd\")","v":"even"},{"$f":"IF(SUM($D137:W137)/2=FLOOR(SUM($D137:W137)/2,1),\"even\",\"odd\")","v":"even"},{"$f":"IF(SUM($D137:X137)/2=FLOOR(SUM($D137:X137)/2,1),\"even\",\"odd\")","v":"even"},{"$f":"IF(SUM($D137:Y137)/2=FLOOR(SUM($D137:Y137)/2,1),\"even\",\"odd\")","v":"even"},{"$f":"IF(SUM($D137:Z137)/2=FLOOR(SUM($D137:Z137)/2,1),\"even\",\"odd\")","v":"even"},{"$f":"IF(SUM($D137:AA137)/2=FLOOR(SUM($D137:AA137)/2,1),\"even\",\"odd\")","v":"even"},{"$f":"IF(SUM($D137:AB137)/2=FLOOR(SUM($D137:AB137)/2,1),\"even\",\"odd\")","v":"even"},{"$f":"IF(SUM($D137:AC137)/2=FLOOR(SUM($D137:AC137)/2,1),\"even\",\"odd\")","v":"even"},{"$f":"IF(SUM($D137:AD137)/2=FLOOR(SUM($D137:AD137)/2,1),\"even\",\"odd\")","v":"even"},{"$f":"IF(SUM($D137:AE137)/2=FLOOR(SUM($D137:AE137)/2,1),\"even\",\"odd\")","v":"even"},{"$f":"IF(SUM($D137:AF137)/2=FLOOR(SUM($D137:AF137)/2,1),\"even\",\"odd\")","v":"even"},{"$f":"IF(SUM($D137:AG137)/2=FLOOR(SUM($D137:AG137)/2,1),\"even\",\"odd\")","v":"even"},{"$f":"IF(SUM($D137:AH137)/2=FLOOR(SUM($D137:AH137)/2,1),\"even\",\"odd\")","v":"even"},{"$f":"IF(SUM($D137:AI137)/2=FLOOR(SUM($D137:AI137)/2,1),\"even\",\"odd\")","v":"even"},{"$f":"IF(SUM($D137:AJ137)/2=FLOOR(SUM($D137:AJ137)/2,1),\"even\",\"odd\")","v":"even"},{"$f":"IF(SUM($D137:AK137)/2=FLOOR(SUM($D137:AK137)/2,1),\"even\",\"odd\")","v":"even"},{"$f":"IF(SUM($D137:AL137)/2=FLOOR(SUM($D137:AL137)/2,1),\"even\",\"odd\")","v":"even"},{"$f":"IF(SUM($D137:AM137)/2=FLOOR(SUM($D137:AM137)/2,1),\"even\",\"odd\")","v":"even"},{"$f":"IF(SUM($D137:AN137)/2=FLOOR(SUM($D137:AN137)/2,1),\"even\",\"odd\")","v":"even"},{"$f":"IF(SUM($D137:AO137)/2=FLOOR(SUM($D137:AO137)/2,1),\"even\",\"odd\")","v":"even"},{"$f":"IF(SUM($D137:AP137)/2=FLOOR(SUM($D137:AP137)/2,1),\"even\",\"odd\")","v":"even"},{"$f":"IF(SUM($D137:AQ137)/2=FLOOR(SUM($D137:AQ137)/2,1),\"even\",\"odd\")","v":"even"},{"$f":"IF(SUM($D137:AR137)/2=FLOOR(SUM($D137:AR137)/2,1),\"even\",\"odd\")","v":"even"},{"$f":"IF(SUM($D137:AS137)/2=FLOOR(SUM($D137:AS137)/2,1),\"even\",\"odd\")","v":"even"},{"$f":"IF(SUM($D137:AT137)/2=FLOOR(SUM($D137:AT137)/2,1),\"even\",\"odd\")","v":"even"},{"$f":"IF(SUM($D137:AU137)/2=FLOOR(SUM($D137:AU137)/2,1),\"even\",\"odd\")","v":"even"},{"$f":"IF(SUM($D137:AV137)/2=FLOOR(SUM($D137:AV137)/2,1),\"even\",\"odd\")","v":"even"},{"$f":"IF(SUM($D137:AW137)/2=FLOOR(SUM($D137:AW137)/2,1),\"even\",\"odd\")","v":"even"},{"$f":"IF(SUM($D137:AX137)/2=FLOOR(SUM($D137:AX137)/2,1),\"even\",\"odd\")","v":"even"},{"$f":"IF(SUM($D137:AY137)/2=FLOOR(SUM($D137:AY137)/2,1),\"even\",\"odd\")","v":"even"},{"$f":"IF(SUM($D137:AZ137)/2=FLOOR(SUM($D137:AZ137)/2,1),\"even\",\"odd\")","v":"even"},{"$f":"IF(SUM($D137:BA137)/2=FLOOR(SUM($D137:BA137)/2,1),\"even\",\"odd\")","v":"even"},{"$f":"IF(SUM($D137:BB137)/2=FLOOR(SUM($D137:BB137)/2,1),\"even\",\"odd\")","v":"even"},{"$f":"IF(SUM($D137:BC137)/2=FLOOR(SUM($D137:BC137)/2,1),\"even\",\"odd\")","v":"even"},{"$f":"IF(SUM($D137:BD137)/2=FLOOR(SUM($D137:BD137)/2,1),\"even\",\"odd\")","v":"even"},{"$f":"IF(SUM($D137:BE137)/2=FLOOR(SUM($D137:BE137)/2,1),\"even\",\"odd\")","v":"even"},{"$f":"IF(SUM($D137:BF137)/2=FLOOR(SUM($D137:BF137)/2,1),\"even\",\"odd\")","v":"even"},{"$f":"IF(SUM($D137:BG137)/2=FLOOR(SUM($D137:BG137)/2,1),\"even\",\"odd\")","v":"even"}]

{"sheet":"Sheet1","index":3,"n_rows":30,"n_cols":8,"rows_kept":30,"cut":false,"hidden":true,"merged":[]}
["Belize Bible Quiz Youth","JV","Dennis Sanchez","Carson Perrote","Adam Ferguson","Ki-Ana Moody","Chelsie Soberanis","N/A"]
["COVE Shock 'n Awe","JV","Grace Buiten","R.J. Scott","Daniel Thompson","Hope Vaughan","N/A","N/A"]
["DBQ Dear Friends Too","JV","Mike Dempster","Gloria Mayer","Rachael Elmers","Julia Elmers","N/A","N/A"]
["GOD'S PROMISE","JV","Elijah Emmer","Matthias Guenther","Lilli Neumann","Mandy Vosburgh","Walter Krueger","N/A"]
["HV Ministering Spirits","JV","Anna Gedlen","Matthew Gedlen","Hannah Trombley","Laura Dykstra","N/A","N/A"]
["HV - Crosspointe","JV","James Smith","Josh Ferrand","Sarah Ferrand","N/A","N/A","N/A"]
["OBQA-Prepare Your Minds","JV","Ursula Hussey","Savannah Harris","Makhi Jackson","Mari-Lee Winfield","Jensyn Cousins","N/A"]
["ZION","JV","Cole Severt","Mark Thompson","Nathan Francour","Reed Schult","N/A","N/A"]
["Belize Bible Quiz Kids","LL","Glenford Bermudez Jr.","Anisia Gordon","Daniel Williams","David Hauze","N/A","N/A"]
["Bell Creek Quizateers","LL","Matthew Buiten","Wesley Molhoek","Daniel Vaughan","Parker Vaughan","Tori Vaughan","N/A"]
["Berrien","LL","Margaret Judge","Will Spear","Joey Spear","Jason Dubs","Bethany Dubs","Kennan Janowski"]
["Bible Beasties","LL","Corbin Ford","Zack Hiles","Payton Wamsley ","Ashton Hatfield","Ashley Loy","N/A"]
["DBQ BFF Brothers, Fearless & Faithful","LL","Blake Matthews","Micah Farrand","Jared Elmers","N/A","N/A","N/A"]
["DBQ Cloud of Witnesses","LL","Lydia Hatfield","Owen Parker","Rachel Howell","Haley Sargent","N/A","N/A"]
["HV - Crosspointe","LL","Tori Murphy","Pam Zgheib","Laura Zgheib","Joseph Contreras","Tyler Contreras","N/A"]
["HV Angels of the Battlefield","LL","Jake Trombley","Elizabeth Walter","Josie Lossing","Alexis Bell","Rachel Walter","Megan Walter"]
["OBQA-Not Ashamed","LL","Seth Strawsbaugh","Austin Cantrell","Kennedy Wheeler","Natalie Bandy","N/A","N/A"]
["OBQA-Same Attitude","LL","Jadyn Smith","Joshua Howard","Amaya Branson","Olivia Cousins","Alexus Eggleton","N/A"]
["We Do Not Shrink Back","LL","Deepti Nelson","Sanjit Nelson","Madeline Dykstra","Jeremy McSwain","N/A","N/A"]
["Word Girls +1","LL","Olivia Palasek","Hailey Ziegler","Hanna Rellar","Matthew Seneker","N/A","N/A"]
["Aliens and Strangers","VAR","John Talmage","Daniel Weieneth","Sarah Weieneth","Grace Talmage","N/A","N/A"]
["Berrien 1","VAR","Alec Janowski","Jonathan Spear","Sam Spear","Brad Wurzel","N/A","N/A"]
["Berrien 2","VAR","Timothy Judge","Julie Oblak","N/A","N/A","N/A","N/A"]
["Bible Beast","VAR","Rachel Gervais","Kylie Wampler","Jacob Boggioni","Kaitlyn Adams","Bailey Wamsley","N/A"]
["DBQ 1","VAR","Allie Greff","Rachel Weidner","Jessica Matthews","N/A","N/A","N/A"]
["DBQ 2","VAR","Michele Weidner","Jordan Hatfield","Rachel Olah","N/A","N/A","N/A"]
["HV Identity Crisis","VAR","Haley Lossing","Michelle Lewellyn","Brian Lewellyn","Steven Lewellyn","N/A","N/A"]
["Quizbusters","VAR","Jennah Murphy","Robert Murphy","John Robey","Bryan Robey","N/A","N/A"]
["RESPECT","VAR","Dani Mellinger","Sierra Severt","Brooklyn Buckholt","Abi Hoyt","Marcia Drabek","N/A"]
["Solid Food","VAR","Ashley Sherk","Katie Shantz","Mary Ann Otterbein","N/A","N/A","N/A"]

{"sheet":"Sheet4","index":4,"n_rows":140,"n_cols":59,"rows_kept":140,"cut":false,"hidden":true,"merged":[]}
[null,null,null,1,2,3,4,5,6,7,8,9,10,11,12,13,14,15,16,17,"A","B",18,"A","B",19,"A","B",20]
[]
[]
[]
[]
[]
[]
[]
[]
[]
[]
[]
[]
[]
[]
[null,"20/30/10/.",{"$f":"TwoWayQuiz!C16","v":"Team Name"}]
[null,null,{"$f":"TwoWayQuiz!C17","v":"Quizzer #1"},20,{"$f":"IF(D23>2,\".\",IF(D29=3,IF(D23=0,IF(TwoWayQuiz!E26=20,30,TwoWayQuiz!E26),TwoWayQuiz!E26),IF(E29>3,\".\",TwoWayQuiz!E26)))","v":20},{"$f":"IF(E23>2,\".\",IF(E29=3,IF(E23=0,IF(TwoWayQuiz!F26=20,30,TwoWayQuiz!F26),TwoWayQuiz!F26),IF(F29>3,\".\",TwoWayQuiz!F26)))","v":20},{"$f":"IF(F23>2,\".\",IF(F29=3,IF(F23=0,IF(TwoWayQuiz!G26=20,30,TwoWayQuiz!G26),TwoWayQuiz!G26),IF(G29>3,\".\",TwoWayQuiz!G26)))","v":20},{"$f":"IF(G23>2,\".\",IF(G29=3,IF(G23=0,IF(TwoWayQuiz!H26=20,30,TwoWayQuiz!H26),TwoWayQuiz!H26),IF(H29>3,\".\",TwoWayQuiz!H26)))","v":20},{"$f":"IF(H23>2,\".\",IF(H29=3,IF(H23=0,IF(TwoWayQuiz!I26=20,30,TwoWayQuiz!I26),TwoWayQuiz!I26),IF(I29>3,\".\",TwoWayQuiz!I26)))","v":20},{"$f":"IF(I23>2,\".\",IF(I29=3,IF(I23=0,IF(TwoWayQuiz!J26=20,30,TwoWayQuiz!J26),TwoWayQuiz!J26),IF(J29>3,\".\",TwoWayQuiz!J26)))","v":20},{"$f":"IF(J23>2,\".\",IF(J29=3,IF(J23=0,IF(TwoWayQuiz!K26=20,30,TwoWayQuiz!K26),TwoWayQuiz!K26),IF(K29>3,\".\",TwoWayQuiz!K26)))","v":20},{"$f":"IF(K23>2,\".\",IF(K29=3,IF(K23=0,IF(TwoWayQuiz!L26=20,30,TwoWayQuiz!L26),TwoWayQuiz!L26),IF(L29>3,\".\",TwoWayQuiz!L26)))","v":20},{"$f":"IF(L23>2,\".\",IF(L29=3,IF(L23=0,IF(TwoWayQuiz!M26=20,30,TwoWayQuiz!M26),TwoWayQuiz!M26),IF(M29>3,\".\",TwoWayQuiz!M26)))","v":20},{"$f":"IF(M23>2,\".\",IF(M29=3,IF(M23=0,IF(TwoWayQuiz!N26=20,30,TwoWayQuiz!N26),TwoWayQuiz!N26),IF(N29>3,\".\",TwoWayQuiz!N26)))","v":20},{"$f":"IF(N23>2,\".\",IF(N29=3,IF(N23=0,IF(TwoWayQuiz!O26=20,30,TwoWayQuiz!O26),TwoWayQuiz!O26),IF(O29>3,\".\",TwoWayQuiz!O26)))","v":20},{"$f":"IF(O23>2,\".\",IF(O29=3,IF(O23=0,IF(TwoWayQuiz!P26=20,30,TwoWayQuiz!P26),TwoWayQuiz!P26),IF(P29>3,\".\",TwoWayQuiz!P26)))","v":20},{"$f":"IF(P23>2,\".\",IF(P29=3,IF(P23=0,IF(TwoWayQuiz!Q26=20,30,TwoWayQuiz!Q26),TwoWayQuiz!Q26),IF(Q29>3,\".\",TwoWayQuiz!Q26)))","v":20},{"$f":"IF(Q23>2,\".\",IF(Q29=3,IF(Q23=0,IF(TwoWayQuiz!R26=20,30,TwoWayQuiz!R26),TwoWayQuiz!R26),IF(R29>3,\".\",TwoWayQuiz!R26)))","v":20},{"$f":"IF(R23>2,\".\",IF(R29=3,IF(R23=0,IF(TwoWayQuiz!S26=20,30,TwoWayQuiz!S26),TwoWayQuiz!S26),IF(S29>3,\".\",TwoWayQuiz!S26)))","v":20},{"$f":"IF(S23>2,\".\",IF(S29=3,IF(S23=0,IF(TwoWayQuiz!T26=20,30,TwoWayQuiz!T26),TwoWayQuiz!T26),IF(T29>3,\".\",TwoWayQuiz!T26)))","v":20},{"$f":"IF(T23>2,\".\",IF(T29=3,IF(T23=0,IF(TwoWayQuiz!U26=20,30,TwoWayQuiz!U26),TwoWayQuiz!U26),IF(U29>3,\".\",TwoWayQuiz!U26)))","v":20},{"$f":"IF(U23>2,\".\",IF(U29=3,IF(U23=0,IF(TwoWayQuiz!V26=20,30,TwoWayQuiz!V26),TwoWayQuiz!V26),IF(V29>3,\".\",TwoWayQuiz!V26)))","v":"."},{"$f":"IF(V23>2,\".\",IF(V29=3,IF(V23=0,IF(TwoWayQuiz!W26=20,30,TwoWayQuiz!W26),TwoWayQuiz!W26),IF(W29>3,\".\",TwoWayQuiz!W26)))","v":20},{"$f":"IF(W23>2,\".\",IF(W29=3,IF(W23=0,IF(TwoWayQuiz!X26=20,30,TwoWayQuiz!X26),TwoWayQuiz!X26),IF(X29>3,\".\",TwoWayQuiz!X26)))","v":10},{"$f":"IF(X23>2,\".\",IF(X29=3,IF(X23=0,IF(TwoWayQuiz!Y26=20,30,TwoWayQuiz!Y26),TwoWayQuiz!Y26),IF(Y29>3,\".\",TwoWayQuiz!Y26)))","v":"."},{"$f":"IF(Y23>2,\".\",IF(Y29=3,IF(Y23=0,IF(TwoWayQuiz!Z26=20,30,TwoWayQuiz!Z26),TwoWayQuiz!Z26),IF(Z29>3,\".\",TwoWayQuiz!Z26)))","v":20},{"$f":"IF(Z23>2,\".\",IF(Z29=3,IF(Z23=0,IF(TwoWayQuiz!AA26=20,30,TwoWayQuiz!AA26),TwoWayQuiz!AA26),IF(AA29>3,\".\",TwoWayQuiz!AA26)))","v":10},{"$f":"IF(AA23>2,\".\",IF(AA29=3,IF(AA23=0,IF(TwoWayQuiz!AB26=20,30,TwoWayQuiz!AB26),TwoWayQuiz!AB26),IF(AB29>3,\".\",TwoWayQuiz!AB26)))","v":"."},{"$f":"IF(AB23>2,\".\",IF(AB29=3,IF(AB23=0,IF(TwoWayQuiz!AC26=20,30,TwoWayQuiz!AC26),TwoWayQuiz!AC26),IF(AC29>3,\".\",TwoWayQuiz!AC26)))","v":20},{"$f":"IF(AC23>2,\".\",IF(AC29=3,IF(AC23=0,IF(TwoWayQuiz!AD26=20,30,TwoWayQuiz!AD26),TwoWayQuiz!AD26),IF(AD29>3,\".\",TwoWayQuiz!AD26)))","v":10},{"$f":"IF(AD23>2,\".\",IF(AD29=3,IF(AD23=0,IF(TwoWayQuiz!AE26=20,30,TwoWayQuiz!AE26),TwoWayQuiz!AE26),IF(AE29>3,\".\",TwoWayQuiz!AE26)))","v":10},{"$f":"IF(AE23>2,\".\",IF(AE29=3,IF(AE23=0,IF(TwoWayQuiz!AF26=20,30,TwoWayQuiz!AF26),TwoWayQuiz!AF26),IF(AF29>3,\".\",TwoWayQuiz!AF26)))","v":10},{"$f":"IF(AF23>2,\".\",IF(AF29=3,IF(AF23=0,IF(TwoWayQuiz!AG26=20,30,TwoWayQuiz!AG26),TwoWayQuiz!AG26),IF(AG29>3,\".\",TwoWayQuiz!AG26)))","v":10},{"$f":"IF(AG23>2,\".\",IF(AG29=3,IF(AG23=0,IF(TwoWayQuiz!AH26=20,30,TwoWayQuiz!AH26),TwoWayQuiz!AH26),IF(AH29>3,\".\",TwoWayQuiz!AH26)))","v":10},{"$f":"IF(AH23>2,\".\",IF(AH29=3,IF(AH23=0,IF(TwoWayQuiz!AI26=20,30,TwoWayQuiz!AI26),TwoWayQuiz!AI26),IF(AI29>3,\".\",TwoWayQuiz!AI26)))","v":10},{"$f":"IF(AI23>2,\".\",IF(AI29=3,IF(AI23=0,IF(TwoWayQuiz!AJ26=20,30,TwoWayQuiz!AJ26),TwoWayQuiz!AJ26),IF(AJ29>3,\".\",TwoWayQuiz!AJ26)))","v":10},{"$f":"IF(AJ23>2,\".\",IF(AJ29=3,IF(AJ23=0,IF(TwoWayQuiz!AK26=20,30,TwoWayQuiz!AK26),TwoWayQuiz!AK26),IF(AK29>3,\".\",TwoWayQuiz!AK26)))","v":10},{"$f":"IF(AK23>2,\".\",IF(AK29=3,IF(AK23=0,IF(TwoWayQuiz!AL26=20,30,TwoWayQuiz!AL26),TwoWayQuiz!AL26),IF(AL29>3,\".\",TwoWayQuiz!AL26)))","v":10},{"$f":"IF(AL23>2,\".\",IF(AL29=3,IF(AL23=0,IF(TwoWayQuiz!AM26=20,30,TwoWayQuiz!AM26),TwoWayQuiz!AM26),IF(AM29>3,\".\",TwoWayQuiz!AM26)))","v":10},{"$f":"IF(AM23>2,\".\",IF(AM29=3,IF(AM23=0,IF(TwoWayQuiz!AN26=20,30,TwoWayQuiz!AN26),TwoWayQuiz!AN26),IF(AN29>3,\".\",TwoWayQuiz!AN26)))","v":10},{"$f":"IF(AN23>2,\".\",IF(AN29=3,IF(AN23=0,IF(TwoWayQuiz!AO26=20,30,TwoWayQuiz!AO26),TwoWayQuiz!AO26),IF(AO29>3,\".\",TwoWayQuiz!AO26)))","v":10},{"$f":"IF(AO23>2,\".\",IF(AO29=3,IF(AO23=0,IF(TwoWayQuiz!AP26=20,30,TwoWayQuiz!AP26),TwoWayQuiz!AP26),IF(AP29>3,\".\",TwoWayQuiz!AP26)))","v":10},{"$f":"IF(AP23>2,\".\",IF(AP29=3,IF(AP23=0,IF(TwoWayQuiz!AQ26=20,30,TwoWayQuiz!AQ26),TwoWayQuiz!AQ26),IF(AQ29>3,\".\",TwoWayQuiz!AQ26)))","v":10},{"$f":"IF(AQ23>2,\".\",IF(AQ29=3,IF(AQ23=0,IF(TwoWayQuiz!AR26=20,30,TwoWayQuiz!AR26),TwoWayQuiz!AR26),IF(AR29>3,\".\",TwoWayQuiz!AR26)))","v":10},{"$f":"IF(AR23>2,\".\",IF(AR29=3,IF(AR23=0,IF(TwoWayQuiz!AS26=20,30,TwoWayQuiz!AS26),TwoWayQuiz!AS26),IF(AS29>3,\".\",TwoWayQuiz!AS26)))","v":10},{"$f":"IF(AS23>2,\".\",IF(AS29=3,IF(AS23=0,IF(TwoWayQuiz!AT26=20,30,TwoWayQuiz!AT26),TwoWayQuiz!AT26),IF(AT29>3,\".\",TwoWayQuiz!AT26)))","v":10},{"$f":"IF(AT23>2,\".\",IF(AT29=3,IF(AT23=0,IF(TwoWayQuiz!AU26=20,30,TwoWayQuiz!AU26),TwoWayQuiz!AU26),IF(AU29>3,\".\",TwoWayQuiz!AU26)))","v":10},{"$f":"IF(AU23>2,\".\",IF(AU29=3,IF(AU23=0,IF(TwoWayQuiz!AV26=20,30,TwoWayQuiz!AV26),TwoWayQuiz!AV26),IF(AV29>3,\".\",TwoWayQuiz!AV26)))","v":10},{"$f":"IF(AV23>2,\".\",IF(AV29=3,IF(AV23=0,IF(TwoWayQuiz!AW26=20,30,TwoWayQuiz!AW26),TwoWayQuiz!AW26),IF(AW29>3,\".\",TwoWayQuiz!AW26)))","v":10},{"$f":"IF(AW23>2,\".\",IF(AW29=3,IF(AW23=0,IF(TwoWayQuiz!AX26=20,30,TwoWayQuiz!AX26),TwoWayQuiz!AX26),IF(AX29>3,\".\",TwoWayQuiz!AX26)))","v":10},{"$f":"IF(AX23>2,\".\",IF(AX29=3,IF(AX23=0,IF(TwoWayQuiz!AY26=20,30,TwoWayQuiz!AY26),TwoWayQuiz!AY26),IF(AY29>3,\".\",TwoWayQuiz!AY26)))","v":10},{"$f":"IF(AY23>2,\".\",IF(AY29=3,IF(AY23=0,IF(TwoWayQuiz!AZ26=20,30,TwoWayQuiz!AZ26),TwoWayQuiz!AZ26),IF(AZ29>3,\".\",TwoWayQuiz!AZ26)))","v":10},{"$f":"IF(AZ23>2,\".\",IF(AZ29=3,IF(AZ23=0,IF(TwoWayQuiz!BA26=20,30,TwoWayQuiz!BA26),TwoWayQuiz!BA26),IF(BA29>3,\".\",TwoWayQuiz!BA26)))","v":10},{"$f":"IF(BA23>2,\".\",IF(BA29=3,IF(BA23=0,IF(TwoWayQuiz!BB26=20,30,TwoWayQuiz!BB26),TwoWayQuiz!BB26),IF(BB29>3,\".\",TwoWayQuiz!BB26)))","v":10},{"$f":"IF(BB23>2,\".\",IF(BB29=3,IF(BB23=0,IF(TwoWayQuiz!BC26=20,30,TwoWayQuiz!BC26),TwoWayQuiz!BC26),IF(BC29>3,\".\",TwoWayQuiz!BC26)))","v":10},{"$f":"IF(BC23>2,\".\",IF(BC29=3,IF(BC23=0,IF(TwoWayQuiz!BD26=20,30,TwoWayQuiz!BD26),TwoWayQuiz!BD26),IF(BD29>3,\".\",TwoWayQuiz!BD26)))","v":10},{"$f":"IF(BD23>2,\".\",IF(BD29=3,IF(BD23=0,IF(TwoWayQuiz!BE26=20,30,TwoWayQuiz!BE26),TwoWayQuiz!BE26),IF(BE29>3,\".\",TwoWayQuiz!BE26)))","v":10},{"$f":"IF(BE23>2,\".\",IF(BE29=3,IF(BE23=0,IF(TwoWayQuiz!BF26=20,30,TwoWayQuiz!BF26),TwoWayQuiz!BF26),IF(BF29>3,\".\",TwoWayQuiz!BF26)))","v":10},{"$f":"IF(BF23>2,\".\",IF(BF29=3,IF(BF23=0,IF(TwoWayQuiz!BG26=20,30,TwoWayQuiz!BG26),TwoWayQuiz!BG26),IF(BG29>3,\".\",TwoWayQuiz!BG26)))","v":10}]
[null,null,{"$f":"TwoWayQuiz!C18","v":"Quizzer #2"},20,{"$f":"IF(D24>2,\".\",IF(D30=3,IF(D24=0,IF(TwoWayQuiz!E26=20,30,TwoWayQuiz!E26),TwoWayQuiz!E26),IF(E30>3,\".\",TwoWayQuiz!E26)))","v":20},{"$f":"IF(E24>2,\".\",IF(E30=3,IF(E24=0,IF(TwoWayQuiz!F26=20,30,TwoWayQuiz!F26),TwoWayQuiz!F26),IF(F30>3,\".\",TwoWayQuiz!F26)))","v":20},{"$f":"IF(F24>2,\".\",IF(F30=3,IF(F24=0,IF(TwoWayQuiz!G26=20,30,TwoWayQuiz!G26),TwoWayQuiz!G26),IF(G30>3,\".\",TwoWayQuiz!G26)))","v":20},{"$f":"IF(G24>2,\".\",IF(G30=3,IF(G24=0,IF(TwoWayQuiz!H26=20,30,TwoWayQuiz!H26),TwoWayQuiz!H26),IF(H30>3,\".\",TwoWayQuiz!H26)))","v":20},{"$f":"IF(H24>2,\".\",IF(H30=3,IF(H24=0,IF(TwoWayQuiz!I26=20,30,TwoWayQuiz!I26),TwoWayQuiz!I26),IF(I30>3,\".\",TwoWayQuiz!I26)))","v":20},{"$f":"IF(I24>2,\".\",IF(I30=3,IF(I24=0,IF(TwoWayQuiz!J26=20,30,TwoWayQuiz!J26),TwoWayQuiz!J26),IF(J30>3,\".\",TwoWayQuiz!J26)))","v":20},{"$f":"IF(J24>2,\".\",IF(J30=3,IF(J24=0,IF(TwoWayQuiz!K26=20,30,TwoWayQuiz!K26),TwoWayQuiz!K26),IF(K30>3,\".\",TwoWayQuiz!K26)))","v":20},{"$f":"IF(K24>2,\".\",IF(K30=3,IF(K24=0,IF(TwoWayQuiz!L26=20,30,TwoWayQuiz!L26),TwoWayQuiz!L26),IF(L30>3,\".\",TwoWayQuiz!L26)))","v":20},{"$f":"IF(L24>2,\".\",IF(L30=3,IF(L24=0,IF(TwoWayQuiz!M26=20,30,TwoWayQuiz!M26),TwoWayQuiz!M26),IF(M30>3,\".\",TwoWayQuiz!M26)))","v":20},{"$f":"IF(M24>2,\".\",IF(M30=3,IF(M24=0,IF(TwoWayQuiz!N26=20,30,TwoWayQuiz!N26),TwoWayQuiz!N26),IF(N30>3,\".\",TwoWayQuiz!N26)))","v":20},{"$f":"IF(N24>2,\".\",IF(N30=3,IF(N24=0,IF(TwoWayQuiz!O26=20,30,TwoWayQuiz!O26),TwoWayQuiz!O26),IF(O30>3,\".\",TwoWayQuiz!O26)))","v":20},{"$f":"IF(O24>2,\".\",IF(O30=3,IF(O24=0,IF(TwoWayQuiz!P26=20,30,TwoWayQuiz!P26),TwoWayQuiz!P26),IF(P30>3,\".\",TwoWayQuiz!P26)))","v":20},{"$f":"IF(P24>2,\".\",IF(P30=3,IF(P24=0,IF(TwoWayQuiz!Q26=20,30,TwoWayQuiz!Q26),TwoWayQuiz!Q26),IF(Q30>3,\".\",TwoWayQuiz!Q26)))","v":20},{"$f":"IF(Q24>2,\".\",IF(Q30=3,IF(Q24=0,IF(TwoWayQuiz!R26=20,30,TwoWayQuiz!R26),TwoWayQuiz!R26),IF(R30>3,\".\",TwoWayQuiz!R26)))","v":20},{"$f":"IF(R24>2,\".\",IF(R30=3,IF(R24=0,IF(TwoWayQuiz!S26=20,30,TwoWayQuiz!S26),TwoWayQuiz!S26),IF(S30>3,\".\",TwoWayQuiz!S26)))","v":20},{"$f":"IF(S24>2,\".\",IF(S30=3,IF(S24=0,IF(TwoWayQuiz!T26=20,30,TwoWayQuiz!T26),TwoWayQuiz!T26),IF(T30>3,\".\",TwoWayQuiz!T26)))","v":20},{"$f":"IF(T24>2,\".\",IF(T30=3,IF(T24=0,IF(TwoWayQuiz!U26=20,30,TwoWayQuiz!U26),TwoWayQuiz!U26),IF(U30>3,\".\",TwoWayQuiz!U26)))","v":20},{"$f":"IF(U24>2,\".\",IF(U30=3,IF(U24=0,IF(TwoWayQuiz!V26=20,30,TwoWayQuiz!V26),TwoWayQuiz!V26),IF(V30>3,\".\",TwoWayQuiz!V26)))","v":"."},{"$f":"IF(V24>2,\".\",IF(V30=3,IF(V24=0,IF(TwoWayQuiz!W26=20,30,TwoWayQuiz!W26),TwoWayQuiz!W26),IF(W30>3,\".\",TwoWayQuiz!W26)))","v":20},{"$f":"IF(W24>2,\".\",IF(W30=3,IF(W24=0,IF(TwoWayQuiz!X26=20,30,TwoWayQuiz!X26),TwoWayQuiz!X26),IF(X30>3,\".\",TwoWayQuiz!X26)))","v":10},{"$f":"IF(X24>2,\".\",IF(X30=3,IF(X24=0,IF(TwoWayQuiz!Y26=20,30,TwoWayQuiz!Y26),TwoWayQuiz!Y26),IF(Y30>3,\".\",TwoWayQuiz!Y26)))","v":"."},{"$f":"IF(Y24>2,\".\",IF(Y30=3,IF(Y24=0,IF(TwoWayQuiz!Z26=20,30,TwoWayQuiz!Z26),TwoWayQuiz!Z26),IF(Z30>3,\".\",TwoWayQuiz!Z26)))","v":20},{"$f":"IF(Z24>2,\".\",IF(Z30=3,IF(Z24=0,IF(TwoWayQuiz!AA26=20,30,TwoWayQuiz!AA26),TwoWayQuiz!AA26),IF(AA30>3,\".\",TwoWayQuiz!AA26)))","v":10},{"$f":"IF(AA24>2,\".\",IF(AA30=3,IF(AA24=0,IF(TwoWayQuiz!AB26=20,30,TwoWayQuiz!AB26),TwoWayQuiz!AB26),IF(AB30>3,\".\",TwoWayQuiz!AB26)))","v":"."},{"$f":"IF(AB24>2,\".\",IF(AB30=3,IF(AB24=0,IF(TwoWayQuiz!AC26=20,30,TwoWayQuiz!AC26),TwoWayQuiz!AC26),IF(AC30>3,\".\",TwoWayQuiz!AC26)))","v":20},{"$f":"IF(AC24>2,\".\",IF(AC30=3,IF(AC24=0,IF(TwoWayQuiz!AD26=20,30,TwoWayQuiz!AD26),TwoWayQuiz!AD26),IF(AD30>3,\".\",TwoWayQuiz!AD26)))","v":10},{"$f":"IF(AD24>2,\".\",IF(AD30=3,IF(AD24=0,IF(TwoWayQuiz!AE26=20,30,TwoWayQuiz!AE26),TwoWayQuiz!AE26),IF(AE30>3,\".\",TwoWayQuiz!AE26)))","v":10},{"$f":"IF(AE24>2,\".\",IF(AE30=3,IF(AE24=0,IF(TwoWayQuiz!AF26=20,30,TwoWayQuiz!AF26),TwoWayQuiz!AF26),IF(AF30>3,\".\",TwoWayQuiz!AF26)))","v":10},{"$f":"IF(AF24>2,\".\",IF(AF30=3,IF(AF24=0,IF(TwoWayQuiz!AG26=20,30,TwoWayQuiz!AG26),TwoWayQuiz!AG26),IF(AG30>3,\".\",TwoWayQuiz!AG26)))","v":10},{"$f":"IF(AG24>2,\".\",IF(AG30=3,IF(AG24=0,IF(TwoWayQuiz!AH26=20,30,TwoWayQuiz!AH26),TwoWayQuiz!AH26),IF(AH30>3,\".\",TwoWayQuiz!AH26)))","v":10},{"$f":"IF(AH24>2,\".\",IF(AH30=3,IF(AH24=0,IF(TwoWayQuiz!AI26=20,30,TwoWayQuiz!AI26),TwoWayQuiz!AI26),IF(AI30>3,\".\",TwoWayQuiz!AI26)))","v":10},{"$f":"IF(AI24>2,\".\",IF(AI30=3,IF(AI24=0,IF(TwoWayQuiz!AJ26=20,30,TwoWayQuiz!AJ26),TwoWayQuiz!AJ26),IF(AJ30>3,\".\",TwoWayQuiz!AJ26)))","v":10},{"$f":"IF(AJ24>2,\".\",IF(AJ30=3,IF(AJ24=0,IF(TwoWayQuiz!AK26=20,30,TwoWayQuiz!AK26),TwoWayQuiz!AK26),IF(AK30>3,\".\",TwoWayQuiz!AK26)))","v":10},{"$f":"IF(AK24>2,\".\",IF(AK30=3,IF(AK24=0,IF(TwoWayQuiz!AL26=20,30,TwoWayQuiz!AL26),TwoWayQuiz!AL26),IF(AL30>3,\".\",TwoWayQuiz!AL26)))","v":10},{"$f":"IF(AL24>2,\".\",IF(AL30=3,IF(AL24=0,IF(TwoWayQuiz!AM26=20,30,TwoWayQuiz!AM26),TwoWayQuiz!AM26),IF(AM30>3,\".\",TwoWayQuiz!AM26)))","v":10},{"$f":"IF(AM24>2,\".\",IF(AM30=3,IF(AM24=0,IF(TwoWayQuiz!AN26=20,30,TwoWayQuiz!AN26),TwoWayQuiz!AN26),IF(AN30>3,\".\",TwoWayQuiz!AN26)))","v":10},{"$f":"IF(AN24>2,\".\",IF(AN30=3,IF(AN24=0,IF(TwoWayQuiz!AO26=20,30,TwoWayQuiz!AO26),TwoWayQuiz!AO26),IF(AO30>3,\".\",TwoWayQuiz!AO26)))","v":10},{"$f":"IF(AO24>2,\".\",IF(AO30=3,IF(AO24=0,IF(TwoWayQuiz!AP26=20,30,TwoWayQuiz!AP26),TwoWayQuiz!AP26),IF(AP30>3,\".\",TwoWayQuiz!AP26)))","v":10},{"$f":"IF(AP24>2,\".\",IF(AP30=3,IF(AP24=0,IF(TwoWayQuiz!AQ26=20,30,TwoWayQuiz!AQ26),TwoWayQuiz!AQ26),IF(AQ30>3,\".\",TwoWayQuiz!AQ26)))","v":10},{"$f":"IF(AQ24>2,\".\",IF(AQ30=3,IF(AQ24=0,IF(TwoWayQuiz!AR26=20,30,TwoWayQuiz!AR26),TwoWayQuiz!AR26),IF(AR30>3,\".\",TwoWayQuiz!AR26)))","v":10},{"$f":"IF(AR24>2,\".\",IF(AR30=3,IF(AR24=0,IF(TwoWayQuiz!AS26=20,30,TwoWayQuiz!AS26),TwoWayQuiz!AS26),IF(AS30>3,\".\",TwoWayQuiz!AS26)))","v":10},{"$f":"IF(AS24>2,\".\",IF(AS30=3,IF(AS24=0,IF(TwoWayQuiz!AT26=20,30,TwoWayQuiz!AT26),TwoWayQuiz!AT26),IF(AT30>3,\".\",TwoWayQuiz!AT26)))","v":10},{"$f":"IF(AT24>2,\".\",IF(AT30=3,IF(AT24=0,IF(TwoWayQuiz!AU26=20,30,TwoWayQuiz!AU26),TwoWayQuiz!AU26),IF(AU30>3,\".\",TwoWayQuiz!AU26)))","v":10},{"$f":"IF(AU24>2,\".\",IF(AU30=3,IF(AU24=0,IF(TwoWayQuiz!AV26=20,30,TwoWayQuiz!AV26),TwoWayQuiz!AV26),IF(AV30>3,\".\",TwoWayQuiz!AV26)))","v":10},{"$f":"IF(AV24>2,\".\",IF(AV30=3,IF(AV24=0,IF(TwoWayQuiz!AW26=20,30,TwoWayQuiz!AW26),TwoWayQuiz!AW26),IF(AW30>3,\".\",TwoWayQuiz!AW26)))","v":10},{"$f":"IF(AW24>2,\".\",IF(AW30=3,IF(AW24=0,IF(TwoWayQuiz!AX26=20,30,TwoWayQuiz!AX26),TwoWayQuiz!AX26),IF(AX30>3,\".\",TwoWayQuiz!AX26)))","v":10},{"$f":"IF(AX24>2,\".\",IF(AX30=3,IF(AX24=0,IF(TwoWayQuiz!AY26=20,30,TwoWayQuiz!AY26),TwoWayQuiz!AY26),IF(AY30>3,\".\",TwoWayQuiz!AY26)))","v":10},{"$f":"IF(AY24>2,\".\",IF(AY30=3,IF(AY24=0,IF(TwoWayQuiz!AZ26=20,30,TwoWayQuiz!AZ26),TwoWayQuiz!AZ26),IF(AZ30>3,\".\",TwoWayQuiz!AZ26)))","v":10},{"$f":"IF(AZ24>2,\".\",IF(AZ30=3,IF(AZ24=0,IF(TwoWayQuiz!BA26=20,30,TwoWayQuiz!BA26),TwoWayQuiz!BA26),IF(BA30>3,\".\",TwoWayQuiz!BA26)))","v":10},{"$f":"IF(BA24>2,\".\",IF(BA30=3,IF(BA24=0,IF(TwoWayQuiz!BB26=20,30,TwoWayQuiz!BB26),TwoWayQuiz!BB26),IF(BB30>3,\".\",TwoWayQuiz!BB26)))","v":10},{"$f":"IF(BB24>2,\".\",IF(BB30=3,IF(BB24=0,IF(TwoWayQuiz!BC26=20,30,TwoWayQuiz!BC26),TwoWayQuiz!BC26),IF(BC30>3,\".\",TwoWayQuiz!BC26)))","v":10},{"$f":"IF(BC24>2,\".\",IF(BC30=3,IF(BC24=0,IF(TwoWayQuiz!BD26=20,30,TwoWayQuiz!BD26),TwoWayQuiz!BD26),IF(BD30>3,\".\",TwoWayQuiz!BD26)))","v":10},{"$f":"IF(BD24>2,\".\",IF(BD30=3,IF(BD24=0,IF(TwoWayQuiz!BE26=20,30,TwoWayQuiz!BE26),TwoWayQuiz!BE26),IF(BE30>3,\".\",TwoWayQuiz!BE26)))","v":10},{"$f":"IF(BE24>2,\".\",IF(BE30=3,IF(BE24=0,IF(TwoWayQuiz!BF26=20,30,TwoWayQuiz!BF26),TwoWayQuiz!BF26),IF(BF30>3,\".\",TwoWayQuiz!BF26)))","v":10},{"$f":"IF(BF24>2,\".\",IF(BF30=3,IF(BF24=0,IF(TwoWayQuiz!BG26=20,30,TwoWayQuiz!BG26),TwoWayQuiz!BG26),IF(BG30>3,\".\",TwoWayQuiz!BG26)))","v":10}]
[null,null,{"$f":"TwoWayQuiz!C19","v":"Quizzer #3"},20,{"$f":"IF(D25>2,\".\",IF(D31=3,IF(D25=0,IF(TwoWayQuiz!E26=20,30,TwoWayQuiz!E26),TwoWayQuiz!E26),IF(E31>3,\".\",TwoWayQuiz!E26)))","v":20},{"$f":"IF(E25>2,\".\",IF(E31=3,IF(E25=0,IF(TwoWayQuiz!F26=20,30,TwoWayQuiz!F26),TwoWayQuiz!F26),IF(F31>3,\".\",TwoWayQuiz!F26)))","v":20},{"$f":"IF(F25>2,\".\",IF(F31=3,IF(F25=0,IF(TwoWayQuiz!G26=20,30,TwoWayQuiz!G26),TwoWayQuiz!G26),IF(G31>3,\".\",TwoWayQuiz!G26)))","v":20},{"$f":"IF(G25>2,\".\",IF(G31=3,IF(G25=0,IF(TwoWayQuiz!H26=20,30,TwoWayQuiz!H26),TwoWayQuiz!H26),IF(H31>3,\".\",TwoWayQuiz!H26)))","v":20},{"$f":"IF(H25>2,\".\",IF(H31=3,IF(H25=0,IF(TwoWayQuiz!I26=20,30,TwoWayQuiz!I26),TwoWayQuiz!I26),IF(I31>3,\".\",TwoWayQuiz!I26)))","v":20},{"$f":"IF(I25>2,\".\",IF(I31=3,IF(I25=0,IF(TwoWayQuiz!J26=20,30,TwoWayQuiz!J26),TwoWayQuiz!J26),IF(J31>3,\".\",TwoWayQuiz!J26)))","v":20},{"$f":"IF(J25>2,\".\",IF(J31=3,IF(J25=0,IF(TwoWayQuiz!K26=20,30,TwoWayQuiz!K26),TwoWayQuiz!K26),IF(K31>3,\".\",TwoWayQuiz!K26)))","v":20},{"$f":"IF(K25>2,\".\",IF(K31=3,IF(K25=0,IF(TwoWayQuiz!L26=20,30,TwoWayQuiz!L26),TwoWayQuiz!L26),IF(L31>3,\".\",TwoWayQuiz!L26)))","v":20},{"$f":"IF(L25>2,\".\",IF(L31=3,IF(L25=0,IF(TwoWayQuiz!M26=20,30,TwoWayQuiz!M26),TwoWayQuiz!M26),IF(M31>3,\".\",TwoWayQuiz!M26)))","v":20},{"$f":"IF(M25>2,\".\",IF(M31=3,IF(M25=0,IF(TwoWayQuiz!N26=20,30,TwoWayQuiz!N26),TwoWayQuiz!N26),IF(N31>3,\".\",TwoWayQuiz!N26)))","v":20},{"$f":"IF(N25>2,\".\",IF(N31=3,IF(N25=0,IF(TwoWayQuiz!O26=20,30,TwoWayQuiz!O26),TwoWayQuiz!O26),IF(O31>3,\".\",TwoWayQuiz!O26)))","v":20},{"$f":"IF(O25>2,\".\",IF(O31=3,IF(O25=0,IF(TwoWayQuiz!P26=20,30,TwoWayQuiz!P26),TwoWayQuiz!P26),IF(P31>3,\".\",TwoWayQuiz!P26)))","v":20},{"$f":"IF(P25>2,\".\",IF(P31=3,IF(P25=0,IF(TwoWayQuiz!Q26=20,30,TwoWayQuiz!Q26),TwoWayQuiz!Q26),IF(Q31>3,\".\",TwoWayQuiz!Q26)))","v":20},{"$f":"IF(Q25>2,\".\",IF(Q31=3,IF(Q25=0,IF(TwoWayQuiz!R26=20,30,TwoWayQuiz!R26),TwoWayQuiz!R26),IF(R31>3,\".\",TwoWayQuiz!R26)))","v":20},{"$f":"IF(R25>2,\".\",IF(R31=3,IF(R25=0,IF(TwoWayQuiz!S26=20,30,TwoWayQuiz!S26),TwoWayQuiz!S26),IF(S31>3,\".\",TwoWayQuiz!S26)))","v":20},{"$f":"IF(S25>2,\".\",IF(S31=3,IF(S25=0,IF(TwoWayQuiz!T26=20,30,TwoWayQuiz!T26),TwoWayQuiz!T26),IF(T31>3,\".\",TwoWayQuiz!T26)))","v":20},{"$f":"IF(T25>2,\".\",IF(T31=3,IF(T25=0,IF(TwoWayQuiz!U26=20,30,TwoWayQuiz!U26),TwoWayQuiz!U26),IF(U31>3,\".\",TwoWayQuiz!U26)))","v":20},{"$f":"IF(U25>2,\".\",IF(U31=3,IF(U25=0,IF(TwoWayQuiz!V26=20,30,TwoWayQuiz!V26),TwoWayQuiz!V26),IF(V31>3,\".\",TwoWayQuiz!V26)))","v":"."},{"$f":"IF(V25>2,\".\",IF(V31=3,IF(V25=0,IF(TwoWayQuiz!W26=20,30,TwoWayQuiz!W26),TwoWayQuiz!W26),IF(W31>3,\".\",TwoWayQuiz!W26)))","v":20},{"$f":"IF(W25>2,\".\",IF(W31=3,IF(W25=0,IF(TwoWayQuiz!X26=20,30,TwoWayQuiz!X26),TwoWayQuiz!X26),IF(X31>3,\".\",TwoWayQuiz!X26)))","v":10},{"$f":"IF(X25>2,\".\",IF(X31=3,IF(X25=0,IF(TwoWayQuiz!Y26=20,30,TwoWayQuiz!Y26),TwoWayQuiz!Y26),IF(Y31>3,\".\",TwoWayQuiz!Y26)))","v":"."},{"$f":"IF(Y25>2,\".\",IF(Y31=3,IF(Y25=0,IF(TwoWayQuiz!Z26=20,30,TwoWayQuiz!Z26),TwoWayQuiz!Z26),IF(Z31>3,\".\",TwoWayQuiz!Z26)))","v":20},{"$f":"IF(Z25>2,\".\",IF(Z31=3,IF(Z25=0,IF(TwoWayQuiz!AA26=20,30,TwoWayQuiz!AA26),TwoWayQuiz!AA26),IF(AA31>3,\".\",TwoWayQuiz!AA26)))","v":10},{"$f":"IF(AA25>2,\".\",IF(AA31=3,IF(AA25=0,IF(TwoWayQuiz!AB26=20,30,TwoWayQuiz!AB26),TwoWayQuiz!AB26),IF(AB31>3,\".\",TwoWayQuiz!AB26)))","v":"."},{"$f":"IF(AB25>2,\".\",IF(AB31=3,IF(AB25=0,IF(TwoWayQuiz!AC26=20,30,TwoWayQuiz!AC26),TwoWayQuiz!AC26),IF(AC31>3,\".\",TwoWayQuiz!AC26)))","v":20},{"$f":"IF(AC25>2,\".\",IF(AC31=3,IF(AC25=0,IF(TwoWayQuiz!AD26=20,30,TwoWayQuiz!AD26),TwoWayQuiz!AD26),IF(AD31>3,\".\",TwoWayQuiz!AD26)))","v":10},{"$f":"IF(AD25>2,\".\",IF(AD31=3,IF(AD25=0,IF(TwoWayQuiz!AE26=20,30,TwoWayQuiz!AE26),TwoWayQuiz!AE26),IF(AE31>3,\".\",TwoWayQuiz!AE26)))","v":10},{"$f":"IF(AE25>2,\".\",IF(AE31=3,IF(AE25=0,IF(TwoWayQuiz!AF26=20,30,TwoWayQuiz!AF26),TwoWayQuiz!AF26),IF(AF31>3,\".\",TwoWayQuiz!AF26)))","v":10},{"$f":"IF(AF25>2,\".\",IF(AF31=3,IF(AF25=0,IF(TwoWayQuiz!AG26=20,30,TwoWayQuiz!AG26),TwoWayQuiz!AG26),IF(AG31>3,\".\",TwoWayQuiz!AG26)))","v":10},{"$f":"IF(AG25>2,\".\",IF(AG31=3,IF(AG25=0,IF(TwoWayQuiz!AH26=20,30,TwoWayQuiz!AH26),TwoWayQuiz!AH26),IF(AH31>3,\".\",TwoWayQuiz!AH26)))","v":10},{"$f":"IF(AH25>2,\".\",IF(AH31=3,IF(AH25=0,IF(TwoWayQuiz!AI26=20,30,TwoWayQuiz!AI26),TwoWayQuiz!AI26),IF(AI31>3,\".\",TwoWayQuiz!AI26)))","v":10},{"$f":"IF(AI25>2,\".\",IF(AI31=3,IF(AI25=0,IF(TwoWayQuiz!AJ26=20,30,TwoWayQuiz!AJ26),TwoWayQuiz!AJ26),IF(AJ31>3,\".\",TwoWayQuiz!AJ26)))","v":10},{"$f":"IF(AJ25>2,\".\",IF(AJ31=3,IF(AJ25=0,IF(TwoWayQuiz!AK26=20,30,TwoWayQuiz!AK26),TwoWayQuiz!AK26),IF(AK31>3,\".\",TwoWayQuiz!AK26)))","v":10},{"$f":"IF(AK25>2,\".\",IF(AK31=3,IF(AK25=0,IF(TwoWayQuiz!AL26=20,30,TwoWayQuiz!AL26),TwoWayQuiz!AL26),IF(AL31>3,\".\",TwoWayQuiz!AL26)))","v":10},{"$f":"IF(AL25>2,\".\",IF(AL31=3,IF(AL25=0,IF(TwoWayQuiz!AM26=20,30,TwoWayQuiz!AM26),TwoWayQuiz!AM26),IF(AM31>3,\".\",TwoWayQuiz!AM26)))","v":10},{"$f":"IF(AM25>2,\".\",IF(AM31=3,IF(AM25=0,IF(TwoWayQuiz!AN26=20,30,TwoWayQuiz!AN26),TwoWayQuiz!AN26),IF(AN31>3,\".\",TwoWayQuiz!AN26)))","v":10},{"$f":"IF(AN25>2,\".\",IF(AN31=3,IF(AN25=0,IF(TwoWayQuiz!AO26=20,30,TwoWayQuiz!AO26),TwoWayQuiz!AO26),IF(AO31>3,\".\",TwoWayQuiz!AO26)))","v":10},{"$f":"IF(AO25>2,\".\",IF(AO31=3,IF(AO25=0,IF(TwoWayQuiz!AP26=20,30,TwoWayQuiz!AP26),TwoWayQuiz!AP26),IF(AP31>3,\".\",TwoWayQuiz!AP26)))","v":10},{"$f":"IF(AP25>2,\".\",IF(AP31=3,IF(AP25=0,IF(TwoWayQuiz!AQ26=20,30,TwoWayQuiz!AQ26),TwoWayQuiz!AQ26),IF(AQ31>3,\".\",TwoWayQuiz!AQ26)))","v":10},{"$f":"IF(AQ25>2,\".\",IF(AQ31=3,IF(AQ25=0,IF(TwoWayQuiz!AR26=20,30,TwoWayQuiz!AR26),TwoWayQuiz!AR26),IF(AR31>3,\".\",TwoWayQuiz!AR26)))","v":10},{"$f":"IF(AR25>2,\".\",IF(AR31=3,IF(AR25=0,IF(TwoWayQuiz!AS26=20,30,TwoWayQuiz!AS26),TwoWayQuiz!AS26),IF(AS31>3,\".\",TwoWayQuiz!AS26)))","v":10},{"$f":"IF(AS25>2,\".\",IF(AS31=3,IF(AS25=0,IF(TwoWayQuiz!AT26=20,30,TwoWayQuiz!AT26),TwoWayQuiz!AT26),IF(AT31>3,\".\",TwoWayQuiz!AT26)))","v":10},{"$f":"IF(AT25>2,\".\",IF(AT31=3,IF(AT25=0,IF(TwoWayQuiz!AU26=20,30,TwoWayQuiz!AU26),TwoWayQuiz!AU26),IF(AU31>3,\".\",TwoWayQuiz!AU26)))","v":10},{"$f":"IF(AU25>2,\".\",IF(AU31=3,IF(AU25=0,IF(TwoWayQuiz!AV26=20,30,TwoWayQuiz!AV26),TwoWayQuiz!AV26),IF(AV31>3,\".\",TwoWayQuiz!AV26)))","v":10},{"$f":"IF(AV25>2,\".\",IF(AV31=3,IF(AV25=0,IF(TwoWayQuiz!AW26=20,30,TwoWayQuiz!AW26),TwoWayQuiz!AW26),IF(AW31>3,\".\",TwoWayQuiz!AW26)))","v":10},{"$f":"IF(AW25>2,\".\",IF(AW31=3,IF(AW25=0,IF(TwoWayQuiz!AX26=20,30,TwoWayQuiz!AX26),TwoWayQuiz!AX26),IF(AX31>3,\".\",TwoWayQuiz!AX26)))","v":10},{"$f":"IF(AX25>2,\".\",IF(AX31=3,IF(AX25=0,IF(TwoWayQuiz!AY26=20,30,TwoWayQuiz!AY26),TwoWayQuiz!AY26),IF(AY31>3,\".\",TwoWayQuiz!AY26)))","v":10},{"$f":"IF(AY25>2,\".\",IF(AY31=3,IF(AY25=0,IF(TwoWayQuiz!AZ26=20,30,TwoWayQuiz!AZ26),TwoWayQuiz!AZ26),IF(AZ31>3,\".\",TwoWayQuiz!AZ26)))","v":10},{"$f":"IF(AZ25>2,\".\",IF(AZ31=3,IF(AZ25=0,IF(TwoWayQuiz!BA26=20,30,TwoWayQuiz!BA26),TwoWayQuiz!BA26),IF(BA31>3,\".\",TwoWayQuiz!BA26)))","v":10},{"$f":"IF(BA25>2,\".\",IF(BA31=3,IF(BA25=0,IF(TwoWayQuiz!BB26=20,30,TwoWayQuiz!BB26),TwoWayQuiz!BB26),IF(BB31>3,\".\",TwoWayQuiz!BB26)))","v":10},{"$f":"IF(BB25>2,\".\",IF(BB31=3,IF(BB25=0,IF(TwoWayQuiz!BC26=20,30,TwoWayQuiz!BC26),TwoWayQuiz!BC26),IF(BC31>3,\".\",TwoWayQuiz!BC26)))","v":10},{"$f":"IF(BC25>2,\".\",IF(BC31=3,IF(BC25=0,IF(TwoWayQuiz!BD26=20,30,TwoWayQuiz!BD26),TwoWayQuiz!BD26),IF(BD31>3,\".\",TwoWayQuiz!BD26)))","v":10},{"$f":"IF(BD25>2,\".\",IF(BD31=3,IF(BD25=0,IF(TwoWayQuiz!BE26=20,30,TwoWayQuiz!BE26),TwoWayQuiz!BE26),IF(BE31>3,\".\",TwoWayQuiz!BE26)))","v":10},{"$f":"IF(BE25>2,\".\",IF(BE31=3,IF(BE25=0,IF(TwoWayQuiz!BF26=20,30,TwoWayQuiz!BF26),TwoWayQuiz!BF26),IF(BF31>3,\".\",TwoWayQuiz!BF26)))","v":10},{"$f":"IF(BF25>2,\".\",IF(BF31=3,IF(BF25=0,IF(TwoWayQuiz!BG26=20,30,TwoWayQuiz!BG26),TwoWayQuiz!BG26),IF(BG31>3,\".\",TwoWayQuiz!BG26)))","v":10}]
[null,null,{"$f":"TwoWayQuiz!C20","v":"Quizzer #4"},20,{"$f":"IF(D26>2,\".\",IF(D32=3,IF(D26=0,IF(TwoWayQuiz!E26=20,30,TwoWayQuiz!E26),TwoWayQuiz!E26),IF(E32>3,\".\",TwoWayQuiz!E26)))","v":20},{"$f":"IF(E26>2,\".\",IF(E32=3,IF(E26=0,IF(TwoWayQuiz!F26=20,30,TwoWayQuiz!F26),TwoWayQuiz!F26),IF(F32>3,\".\",TwoWayQuiz!F26)))","v":20},{"$f":"IF(F26>2,\".\",IF(F32=3,IF(F26=0,IF(TwoWayQuiz!G26=20,30,TwoWayQuiz!G26),TwoWayQuiz!G26),IF(G32>3,\".\",TwoWayQuiz!G26)))","v":20},{"$f":"IF(G26>2,\".\",IF(G32=3,IF(G26=0,IF(TwoWayQuiz!H26=20,30,TwoWayQuiz!H26),TwoWayQuiz!H26),IF(H32>3,\".\",TwoWayQuiz!H26)))","v":20},{"$f":"IF(H26>2,\".\",IF(H32=3,IF(H26=0,IF(TwoWayQuiz!I26=20,30,TwoWayQuiz!I26),TwoWayQuiz!I26),IF(I32>3,\".\",TwoWayQuiz!I26)))","v":20},{"$f":"IF(I26>2,\".\",IF(I32=3,IF(I26=0,IF(TwoWayQuiz!J26=20,30,TwoWayQuiz!J26),TwoWayQuiz!J26),IF(J32>3,\".\",TwoWayQuiz!J26)))","v":20},{"$f":"IF(J26>2,\".\",IF(J32=3,IF(J26=0,IF(TwoWayQuiz!K26=20,30,TwoWayQuiz!K26),TwoWayQuiz!K26),IF(K32>3,\".\",TwoWayQuiz!K26)))","v":20},{"$f":"IF(K26>2,\".\",IF(K32=3,IF(K26=0,IF(TwoWayQuiz!L26=20,30,TwoWayQuiz!L26),TwoWayQuiz!L26),IF(L32>3,\".\",TwoWayQuiz!L26)))","v":20},{"$f":"IF(L26>2,\".\",IF(L32=3,IF(L26=0,IF(TwoWayQuiz!M26=20,30,TwoWayQuiz!M26),TwoWayQuiz!M26),IF(M32>3,\".\",TwoWayQuiz!M26)))","v":20},{"$f":"IF(M26>2,\".\",IF(M32=3,IF(M26=0,IF(TwoWayQuiz!N26=20,30,TwoWayQuiz!N26),TwoWayQuiz!N26),IF(N32>3,\".\",TwoWayQuiz!N26)))","v":20},{"$f":"IF(N26>2,\".\",IF(N32=3,IF(N26=0,IF(TwoWayQuiz!O26=20,30,TwoWayQuiz!O26),TwoWayQuiz!O26),IF(O32>3,\".\",TwoWayQuiz!O26)))","v":20},{"$f":"IF(O26>2,\".\",IF(O32=3,IF(O26=0,IF(TwoWayQuiz!P26=20,30,TwoWayQuiz!P26),TwoWayQuiz!P26),IF(P32>3,\".\",TwoWayQuiz!P26)))","v":20},{"$f":"IF(P26>2,\".\",IF(P32=3,IF(P26=0,IF(TwoWayQuiz!Q26=20,30,TwoWayQuiz!Q26),TwoWayQuiz!Q26),IF(Q32>3,\".\",TwoWayQuiz!Q26)))","v":20},{"$f":"IF(Q26>2,\".\",IF(Q32=3,IF(Q26=0,IF(TwoWayQuiz!R26=20,30,TwoWayQuiz!R26),TwoWayQuiz!R26),IF(R32>3,\".\",TwoWayQuiz!R26)))","v":20},{"$f":"IF(R26>2,\".\",IF(R32=3,IF(R26=0,IF(TwoWayQuiz!S26=20,30,TwoWayQuiz!S26),TwoWayQuiz!S26),IF(S32>3,\".\",TwoWayQuiz!S26)))","v":20},{"$f":"IF(S26>2,\".\",IF(S32=3,IF(S26=0,IF(TwoWayQuiz!T26=20,30,TwoWayQuiz!T26),TwoWayQuiz!T26),IF(T32>3,\".\",TwoWayQuiz!T26)))","v":20},{"$f":"IF(T26>2,\".\",IF(T32=3,IF(T26=0,IF(TwoWayQuiz!U26=20,30,TwoWayQuiz!U26),TwoWayQuiz!U26),IF(U32>3,\".\",TwoWayQuiz!U26)))","v":20},{"$f":"IF(U26>2,\".\",IF(U32=3,IF(U26=0,IF(TwoWayQuiz!V26=20,30,TwoWayQuiz!V26),TwoWayQuiz!V26),IF(V32>3,\".\",TwoWayQuiz!V26)))","v":"."},{"$f":"IF(V26>2,\".\",IF(V32=3,IF(V26=0,IF(TwoWayQuiz!W26=20,30,TwoWayQuiz!W26),TwoWayQuiz!W26),IF(W32>3,\".\",TwoWayQuiz!W26)))","v":20},{"$f":"IF(W26>2,\".\",IF(W32=3,IF(W26=0,IF(TwoWayQuiz!X26=20,30,TwoWayQuiz!X26),TwoWayQuiz!X26),IF(X32>3,\".\",TwoWayQuiz!X26)))","v":10},{"$f":"IF(X26>2,\".\",IF(X32=3,IF(X26=0,IF(TwoWayQuiz!Y26=20,30,TwoWayQuiz!Y26),TwoWayQuiz!Y26),IF(Y32>3,\".\",TwoWayQuiz!Y26)))","v":"."},{"$f":"IF(Y26>2,\".\",IF(Y32=3,IF(Y26=0,IF(TwoWayQuiz!Z26=20,30,TwoWayQuiz!Z26),TwoWayQuiz!Z26),IF(Z32>3,\".\",TwoWayQuiz!Z26)))","v":20},{"$f":"IF(Z26>2,\".\",IF(Z32=3,IF(Z26=0,IF(TwoWayQuiz!AA26=20,30,TwoWayQuiz!AA26),TwoWayQuiz!AA26),IF(AA32>3,\".\",TwoWayQuiz!AA26)))","v":10},{"$f":"IF(AA26>2,\".\",IF(AA32=3,IF(AA26=0,IF(TwoWayQuiz!AB26=20,30,TwoWayQuiz!AB26),TwoWayQuiz!AB26),IF(AB32>3,\".\",TwoWayQuiz!AB26)))","v":"."},{"$f":"IF(AB26>2,\".\",IF(AB32=3,IF(AB26=0,IF(TwoWayQuiz!AC26=20,30,TwoWayQuiz!AC26),TwoWayQuiz!AC26),IF(AC32>3,\".\",TwoWayQuiz!AC26)))","v":20},{"$f":"IF(AC26>2,\".\",IF(AC32=3,IF(AC26=0,IF(TwoWayQuiz!AD26=20,30,TwoWayQuiz!AD26),TwoWayQuiz!AD26),IF(AD32>3,\".\",TwoWayQuiz!AD26)))","v":10},{"$f":"IF(AD26>2,\".\",IF(AD32=3,IF(AD26=0,IF(TwoWayQuiz!AE26=20,30,TwoWayQuiz!AE26),TwoWayQuiz!AE26),IF(AE32>3,\".\",TwoWayQuiz!AE26)))","v":10},{"$f":"IF(AE26>2,\".\",IF(AE32=3,IF(AE26=0,IF(TwoWayQuiz!AF26=20,30,TwoWayQuiz!AF26),TwoWayQuiz!AF26),IF(AF32>3,\".\",TwoWayQuiz!AF26)))","v":10},{"$f":"IF(AF26>2,\".\",IF(AF32=3,IF(AF26=0,IF(TwoWayQuiz!AG26=20,30,TwoWayQuiz!AG26),TwoWayQuiz!AG26),IF(AG32>3,\".\",TwoWayQuiz!AG26)))","v":10},{"$f":"IF(AG26>2,\".\",IF(AG32=3,IF(AG26=0,IF(TwoWayQuiz!AH26=20,30,TwoWayQuiz!AH26),TwoWayQuiz!AH26),IF(AH32>3,\".\",TwoWayQuiz!AH26)))","v":10},{"$f":"IF(AH26>2,\".\",IF(AH32=3,IF(AH26=0,IF(TwoWayQuiz!AI26=20,30,TwoWayQuiz!AI26),TwoWayQuiz!AI26),IF(AI32>3,\".\",TwoWayQuiz!AI26)))","v":10},{"$f":"IF(AI26>2,\".\",IF(AI32=3,IF(AI26=0,IF(TwoWayQuiz!AJ26=20,30,TwoWayQuiz!AJ26),TwoWayQuiz!AJ26),IF(AJ32>3,\".\",TwoWayQuiz!AJ26)))","v":10},{"$f":"IF(AJ26>2,\".\",IF(AJ32=3,IF(AJ26=0,IF(TwoWayQuiz!AK26=20,30,TwoWayQuiz!AK26),TwoWayQuiz!AK26),IF(AK32>3,\".\",TwoWayQuiz!AK26)))","v":10},{"$f":"IF(AK26>2,\".\",IF(AK32=3,IF(AK26=0,IF(TwoWayQuiz!AL26=20,30,TwoWayQuiz!AL26),TwoWayQuiz!AL26),IF(AL32>3,\".\",TwoWayQuiz!AL26)))","v":10},{"$f":"IF(AL26>2,\".\",IF(AL32=3,IF(AL26=0,IF(TwoWayQuiz!AM26=20,30,TwoWayQuiz!AM26),TwoWayQuiz!AM26),IF(AM32>3,\".\",TwoWayQuiz!AM26)))","v":10},{"$f":"IF(AM26>2,\".\",IF(AM32=3,IF(AM26=0,IF(TwoWayQuiz!AN26=20,30,TwoWayQuiz!AN26),TwoWayQuiz!AN26),IF(AN32>3,\".\",TwoWayQuiz!AN26)))","v":10},{"$f":"IF(AN26>2,\".\",IF(AN32=3,IF(AN26=0,IF(TwoWayQuiz!AO26=20,30,TwoWayQuiz!AO26),TwoWayQuiz!AO26),IF(AO32>3,\".\",TwoWayQuiz!AO26)))","v":10},{"$f":"IF(AO26>2,\".\",IF(AO32=3,IF(AO26=0,IF(TwoWayQuiz!AP26=20,30,TwoWayQuiz!AP26),TwoWayQuiz!AP26),IF(AP32>3,\".\",TwoWayQuiz!AP26)))","v":10},{"$f":"IF(AP26>2,\".\",IF(AP32=3,IF(AP26=0,IF(TwoWayQuiz!AQ26=20,30,TwoWayQuiz!AQ26),TwoWayQuiz!AQ26),IF(AQ32>3,\".\",TwoWayQuiz!AQ26)))","v":10},{"$f":"IF(AQ26>2,\".\",IF(AQ32=3,IF(AQ26=0,IF(TwoWayQuiz!AR26=20,30,TwoWayQuiz!AR26),TwoWayQuiz!AR26),IF(AR32>3,\".\",TwoWayQuiz!AR26)))","v":10},{"$f":"IF(AR26>2,\".\",IF(AR32=3,IF(AR26=0,IF(TwoWayQuiz!AS26=20,30,TwoWayQuiz!AS26),TwoWayQuiz!AS26),IF(AS32>3,\".\",TwoWayQuiz!AS26)))","v":10},{"$f":"IF(AS26>2,\".\",IF(AS32=3,IF(AS26=0,IF(TwoWayQuiz!AT26=20,30,TwoWayQuiz!AT26),TwoWayQuiz!AT26),IF(AT32>3,\".\",TwoWayQuiz!AT26)))","v":10},{"$f":"IF(AT26>2,\".\",IF(AT32=3,IF(AT26=0,IF(TwoWayQuiz!AU26=20,30,TwoWayQuiz!AU26),TwoWayQuiz!AU26),IF(AU32>3,\".\",TwoWayQuiz!AU26)))","v":10},{"$f":"IF(AU26>2,\".\",IF(AU32=3,IF(AU26=0,IF(TwoWayQuiz!AV26=20,30,TwoWayQuiz!AV26),TwoWayQuiz!AV26),IF(AV32>3,\".\",TwoWayQuiz!AV26)))","v":10},{"$f":"IF(AV26>2,\".\",IF(AV32=3,IF(AV26=0,IF(TwoWayQuiz!AW26=20,30,TwoWayQuiz!AW26),TwoWayQuiz!AW26),IF(AW32>3,\".\",TwoWayQuiz!AW26)))","v":10},{"$f":"IF(AW26>2,\".\",IF(AW32=3,IF(AW26=0,IF(TwoWayQuiz!AX26=20,30,TwoWayQuiz!AX26),TwoWayQuiz!AX26),IF(AX32>3,\".\",TwoWayQuiz!AX26)))","v":10},{"$f":"IF(AX26>2,\".\",IF(AX32=3,IF(AX26=0,IF(TwoWayQuiz!AY26=20,30,TwoWayQuiz!AY26),TwoWayQuiz!AY26),IF(AY32>3,\".\",TwoWayQuiz!AY26)))","v":10},{"$f":"IF(AY26>2,\".\",IF(AY32=3,IF(AY26=0,IF(TwoWayQuiz!AZ26=20,30,TwoWayQuiz!AZ26),TwoWayQuiz!AZ26),IF(AZ32>3,\".\",TwoWayQuiz!AZ26)))","v":10},{"$f":"IF(AZ26>2,\".\",IF(AZ32=3,IF(AZ26=0,IF(TwoWayQuiz!BA26=20,30,TwoWayQuiz!BA26),TwoWayQuiz!BA26),IF(BA32>3,\".\",TwoWayQuiz!BA26)))","v":10},{"$f":"IF(BA26>2,\".\",IF(BA32=3,IF(BA26=0,IF(TwoWayQuiz!BB26=20,30,TwoWayQuiz!BB26),TwoWayQuiz!BB26),IF(BB32>3,\".\",TwoWayQuiz!BB26)))","v":10},{"$f":"IF(BB26>2,\".\",IF(BB32=3,IF(BB26=0,IF(TwoWayQuiz!BC26=20,30,TwoWayQuiz!BC26),TwoWayQuiz!BC26),IF(BC32>3,\".\",TwoWayQuiz!BC26)))","v":10},{"$f":"IF(BC26>2,\".\",IF(BC32=3,IF(BC26=0,IF(TwoWayQuiz!BD26=20,30,TwoWayQuiz!BD26),TwoWayQuiz!BD26),IF(BD32>3,\".\",TwoWayQuiz!BD26)))","v":10},{"$f":"IF(BD26>2,\".\",IF(BD32=3,IF(BD26=0,IF(TwoWayQuiz!BE26=20,30,TwoWayQuiz!BE26),TwoWayQuiz!BE26),IF(BE32>3,\".\",TwoWayQuiz!BE26)))","v":10},{"$f":"IF(BE26>2,\".\",IF(BE32=3,IF(BE26=0,IF(TwoWayQuiz!BF26=20,30,TwoWayQuiz!BF26),TwoWayQuiz!BF26),IF(BF32>3,\".\",TwoWayQuiz!BF26)))","v":10},{"$f":"IF(BF26>2,\".\",IF(BF32=3,IF(BF26=0,IF(TwoWayQuiz!BG26=20,30,TwoWayQuiz!BG26),TwoWayQuiz!BG26),IF(BG32>3,\".\",TwoWayQuiz!BG26)))","v":10}]
[null,null,{"$f":"TwoWayQuiz!C21","v":" "},20,{"$f":"IF(D27>2,\".\",IF(D33=3,IF(D27=0,IF(TwoWayQuiz!E26=20,30,TwoWayQuiz!E26),TwoWayQuiz!E26),IF(E33>3,\".\",TwoWayQuiz!E26)))","v":20},{"$f":"IF(E27>2,\".\",IF(E33=3,IF(E27=0,IF(TwoWayQuiz!F26=20,30,TwoWayQuiz!F26),TwoWayQuiz!F26),IF(F33>3,\".\",TwoWayQuiz!F26)))","v":20},{"$f":"IF(F27>2,\".\",IF(F33=3,IF(F27=0,IF(TwoWayQuiz!G26=20,30,TwoWayQuiz!G26),TwoWayQuiz!G26),IF(G33>3,\".\",TwoWayQuiz!G26)))","v":20},{"$f":"IF(G27>2,\".\",IF(G33=3,IF(G27=0,IF(TwoWayQuiz!H26=20,30,TwoWayQuiz!H26),TwoWayQuiz!H26),IF(H33>3,\".\",TwoWayQuiz!H26)))","v":20},{"$f":"IF(H27>2,\".\",IF(H33=3,IF(H27=0,IF(TwoWayQuiz!I26=20,30,TwoWayQuiz!I26),TwoWayQuiz!I26),IF(I33>3,\".\",TwoWayQuiz!I26)))","v":20},{"$f":"IF(I27>2,\".\",IF(I33=3,IF(I27=0,IF(TwoWayQuiz!J26=20,30,TwoWayQuiz!J26),TwoWayQuiz!J26),IF(J33>3,\".\",TwoWayQuiz!J26)))","v":20},{"$f":"IF(J27>2,\".\",IF(J33=3,IF(J27=0,IF(TwoWayQuiz!K26=20,30,TwoWayQuiz!K26),TwoWayQuiz!K26),IF(K33>3,\".\",TwoWayQuiz!K26)))","v":20},{"$f":"IF(K27>2,\".\",IF(K33=3,IF(K27=0,IF(TwoWayQuiz!L26=20,30,TwoWayQuiz!L26),TwoWayQuiz!L26),IF(L33>3,\".\",TwoWayQuiz!L26)))","v":20},{"$f":"IF(L27>2,\".\",IF(L33=3,IF(L27=0,IF(TwoWayQuiz!M26=20,30,TwoWayQuiz!M26),TwoWayQuiz!M26),IF(M33>3,\".\",TwoWayQuiz!M26)))","v":20},{"$f":"IF(M27>2,\".\",IF(M33=3,IF(M27=0,IF(TwoWayQuiz!N26=20,30,TwoWayQuiz!N26),TwoWayQuiz!N26),IF(N33>3,\".\",TwoWayQuiz!N26)))","v":20},{"$f":"IF(N27>2,\".\",IF(N33=3,IF(N27=0,IF(TwoWayQuiz!O26=20,30,TwoWayQuiz!O26),TwoWayQuiz!O26),IF(O33>3,\".\",TwoWayQuiz!O26)))","v":20},{"$f":"IF(O27>2,\".\",IF(O33=3,IF(O27=0,IF(TwoWayQuiz!P26=20,30,TwoWayQuiz!P26),TwoWayQuiz!P26),IF(P33>3,\".\",TwoWayQuiz!P26)))","v":20},{"$f":"IF(P27>2,\".\",IF(P33=3,IF(P27=0,IF(TwoWayQuiz!Q26=20,30,TwoWayQuiz!Q26),TwoWayQuiz!Q26),IF(Q33>3,\".\",TwoWayQuiz!Q26)))","v":20},{"$f":"IF(Q27>2,\".\",IF(Q33=3,IF(Q27=0,IF(TwoWayQuiz!R26=20,30,TwoWayQuiz!R26),TwoWayQuiz!R26),IF(R33>3,\".\",TwoWayQuiz!R26)))","v":20},{"$f":"IF(R27>2,\".\",IF(R33=3,IF(R27=0,IF(TwoWayQuiz!S26=20,30,TwoWayQuiz!S26),TwoWayQuiz!S26),IF(S33>3,\".\",TwoWayQuiz!S26)))","v":20},{"$f":"IF(S27>2,\".\",IF(S33=3,IF(S27=0,IF(TwoWayQuiz!T26=20,30,TwoWayQuiz!T26),TwoWayQuiz!T26),IF(T33>3,\".\",TwoWayQuiz!T26)))","v":20},{"$f":"IF(T27>2,\".\",IF(T33=3,IF(T27=0,IF(TwoWayQuiz!U26=20,30,TwoWayQuiz!U26),TwoWayQuiz!U26),IF(U33>3,\".\",TwoWayQuiz!U26)))","v":20},{"$f":"IF(U27>2,\".\",IF(U33=3,IF(U27=0,IF(TwoWayQuiz!V26=20,30,TwoWayQuiz!V26),TwoWayQuiz!V26),IF(V33>3,\".\",TwoWayQuiz!V26)))","v":"."},{"$f":"IF(V27>2,\".\",IF(V33=3,IF(V27=0,IF(TwoWayQuiz!W26=20,30,TwoWayQuiz!W26),TwoWayQuiz!W26),IF(W33>3,\".\",TwoWayQuiz!W26)))","v":20},{"$f":"IF(W27>2,\".\",IF(W33=3,IF(W27=0,IF(TwoWayQuiz!X26=20,30,TwoWayQuiz!X26),TwoWayQuiz!X26),IF(X33>3,\".\",TwoWayQuiz!X26)))","v":10},{"$f":"IF(X27>2,\".\",IF(X33=3,IF(X27=0,IF(TwoWayQuiz!Y26=20,30,TwoWayQuiz!Y26),TwoWayQuiz!Y26),IF(Y33>3,\".\",TwoWayQuiz!Y26)))","v":"."},{"$f":"IF(Y27>2,\".\",IF(Y33=3,IF(Y27=0,IF(TwoWayQuiz!Z26=20,30,TwoWayQuiz!Z26),TwoWayQuiz!Z26),IF(Z33>3,\".\",TwoWayQuiz!Z26)))","v":20},{"$f":"IF(Z27>2,\".\",IF(Z33=3,IF(Z27=0,IF(TwoWayQuiz!AA26=20,30,TwoWayQuiz!AA26),TwoWayQuiz!AA26),IF(AA33>3,\".\",TwoWayQuiz!AA26)))","v":10},{"$f":"IF(AA27>2,\".\",IF(AA33=3,IF(AA27=0,IF(TwoWayQuiz!AB26=20,30,TwoWayQuiz!AB26),TwoWayQuiz!AB26),IF(AB33>3,\".\",TwoWayQuiz!AB26)))","v":"."},{"$f":"IF(AB27>2,\".\",IF(AB33=3,IF(AB27=0,IF(TwoWayQuiz!AC26=20,30,TwoWayQuiz!AC26),TwoWayQuiz!AC26),IF(AC33>3,\".\",TwoWayQuiz!AC26)))","v":20},{"$f":"IF(AC27>2,\".\",IF(AC33=3,IF(AC27=0,IF(TwoWayQuiz!AD26=20,30,TwoWayQuiz!AD26),TwoWayQuiz!AD26),IF(AD33>3,\".\",TwoWayQuiz!AD26)))","v":10},{"$f":"IF(AD27>2,\".\",IF(AD33=3,IF(AD27=0,IF(TwoWayQuiz!AE26=20,30,TwoWayQuiz!AE26),TwoWayQuiz!AE26),IF(AE33>3,\".\",TwoWayQuiz!AE26)))","v":10},{"$f":"IF(AE27>2,\".\",IF(AE33=3,IF(AE27=0,IF(TwoWayQuiz!AF26=20,30,TwoWayQuiz!AF26),TwoWayQuiz!AF26),IF(AF33>3,\".\",TwoWayQuiz!AF26)))","v":10},{"$f":"IF(AF27>2,\".\",IF(AF33=3,IF(AF27=0,IF(TwoWayQuiz!AG26=20,30,TwoWayQuiz!AG26),TwoWayQuiz!AG26),IF(AG33>3,\".\",TwoWayQuiz!AG26)))","v":10},{"$f":"IF(AG27>2,\".\",IF(AG33=3,IF(AG27=0,IF(TwoWayQuiz!AH26=20,30,TwoWayQuiz!AH26),TwoWayQuiz!AH26),IF(AH33>3,\".\",TwoWayQuiz!AH26)))","v":10},{"$f":"IF(AH27>2,\".\",IF(AH33=3,IF(AH27=0,IF(TwoWayQuiz!AI26=20,30,TwoWayQuiz!AI26),TwoWayQuiz!AI26),IF(AI33>3,\".\",TwoWayQuiz!AI26)))","v":10},{"$f":"IF(AI27>2,\".\",IF(AI33=3,IF(AI27=0,IF(TwoWayQuiz!AJ26=20,30,TwoWayQuiz!AJ26),TwoWayQuiz!AJ26),IF(AJ33>3,\".\",TwoWayQuiz!AJ26)))","v":10},{"$f":"IF(AJ27>2,\".\",IF(AJ33=3,IF(AJ27=0,IF(TwoWayQuiz!AK26=20,30,TwoWayQuiz!AK26),TwoWayQuiz!AK26),IF(AK33>3,\".\",TwoWayQuiz!AK26)))","v":10},{"$f":"IF(AK27>2,\".\",IF(AK33=3,IF(AK27=0,IF(TwoWayQuiz!AL26=20,30,TwoWayQuiz!AL26),TwoWayQuiz!AL26),IF(AL33>3,\".\",TwoWayQuiz!AL26)))","v":10},{"$f":"IF(AL27>2,\".\",IF(AL33=3,IF(AL27=0,IF(TwoWayQuiz!AM26=20,30,TwoWayQuiz!AM26),TwoWayQuiz!AM26),IF(AM33>3,\".\",TwoWayQuiz!AM26)))","v":10},{"$f":"IF(AM27>2,\".\",IF(AM33=3,IF(AM27=0,IF(TwoWayQuiz!AN26=20,30,TwoWayQuiz!AN26),TwoWayQuiz!AN26),IF(AN33>3,\".\",TwoWayQuiz!AN26)))","v":10},{"$f":"IF(AN27>2,\".\",IF(AN33=3,IF(AN27=0,IF(TwoWayQuiz!AO26=20,30,TwoWayQuiz!AO26),TwoWayQuiz!AO26),IF(AO33>3,\".\",TwoWayQuiz!AO26)))","v":10},{"$f":"IF(AO27>2,\".\",IF(AO33=3,IF(AO27=0,IF(TwoWayQuiz!AP26=20,30,TwoWayQuiz!AP26),TwoWayQuiz!AP26),IF(AP33>3,\".\",TwoWayQuiz!AP26)))","v":10},{"$f":"IF(AP27>2,\".\",IF(AP33=3,IF(AP27=0,IF(TwoWayQuiz!AQ26=20,30,TwoWayQuiz!AQ26),TwoWayQuiz!AQ26),IF(AQ33>3,\".\",TwoWayQuiz!AQ26)))","v":10},{"$f":"IF(AQ27>2,\".\",IF(AQ33=3,IF(AQ27=0,IF(TwoWayQuiz!AR26=20,30,TwoWayQuiz!AR26),TwoWayQuiz!AR26),IF(AR33>3,\".\",TwoWayQuiz!AR26)))","v":10},{"$f":"IF(AR27>2,\".\",IF(AR33=3,IF(AR27=0,IF(TwoWayQuiz!AS26=20,30,TwoWayQuiz!AS26),TwoWayQuiz!AS26),IF(AS33>3,\".\",TwoWayQuiz!AS26)))","v":10},{"$f":"IF(AS27>2,\".\",IF(AS33=3,IF(AS27=0,IF(TwoWayQuiz!AT26=20,30,TwoWayQuiz!AT26),TwoWayQuiz!AT26),IF(AT33>3,\".\",TwoWayQuiz!AT26)))","v":10},{"$f":"IF(AT27>2,\".\",IF(AT33=3,IF(AT27=0,IF(TwoWayQuiz!AU26=20,30,TwoWayQuiz!AU26),TwoWayQuiz!AU26),IF(AU33>3,\".\",TwoWayQuiz!AU26)))","v":10},{"$f":"IF(AU27>2,\".\",IF(AU33=3,IF(AU27=0,IF(TwoWayQuiz!AV26=20,30,TwoWayQuiz!AV26),TwoWayQuiz!AV26),IF(AV33>3,\".\",TwoWayQuiz!AV26)))","v":10},{"$f":"IF(AV27>2,\".\",IF(AV33=3,IF(AV27=0,IF(TwoWayQuiz!AW26=20,30,TwoWayQuiz!AW26),TwoWayQuiz!AW26),IF(AW33>3,\".\",TwoWayQuiz!AW26)))","v":10},{"$f":"IF(AW27>2,\".\",IF(AW33=3,IF(AW27=0,IF(TwoWayQuiz!AX26=20,30,TwoWayQuiz!AX26),TwoWayQuiz!AX26),IF(AX33>3,\".\",TwoWayQuiz!AX26)))","v":10},{"$f":"IF(AX27>2,\".\",IF(AX33=3,IF(AX27=0,IF(TwoWayQuiz!AY26=20,30,TwoWayQuiz!AY26),TwoWayQuiz!AY26),IF(AY33>3,\".\",TwoWayQuiz!AY26)))","v":10},{"$f":"IF(AY27>2,\".\",IF(AY33=3,IF(AY27=0,IF(TwoWayQuiz!AZ26=20,30,TwoWayQuiz!AZ26),TwoWayQuiz!AZ26),IF(AZ33>3,\".\",TwoWayQuiz!AZ26)))","v":10},{"$f":"IF(AZ27>2,\".\",IF(AZ33=3,IF(AZ27=0,IF(TwoWayQuiz!BA26=20,30,TwoWayQuiz!BA26),TwoWayQuiz!BA26),IF(BA33>3,\".\",TwoWayQuiz!BA26)))","v":10},{"$f":"IF(BA27>2,\".\",IF(BA33=3,IF(BA27=0,IF(TwoWayQuiz!BB26=20,30,TwoWayQuiz!BB26),TwoWayQuiz!BB26),IF(BB33>3,\".\",TwoWayQuiz!BB26)))","v":10},{"$f":"IF(BB27>2,\".\",IF(BB33=3,IF(BB27=0,IF(TwoWayQuiz!BC26=20,30,TwoWayQuiz!BC26),TwoWayQuiz!BC26),IF(BC33>3,\".\",TwoWayQuiz!BC26)))","v":10},{"$f":"IF(BC27>2,\".\",IF(BC33=3,IF(BC27=0,IF(TwoWayQuiz!BD26=20,30,TwoWayQuiz!BD26),TwoWayQuiz!BD26),IF(BD33>3,\".\",TwoWayQuiz!BD26)))","v":10},{"$f":"IF(BD27>2,\".\",IF(BD33=3,IF(BD27=0,IF(TwoWayQuiz!BE26=20,30,TwoWayQuiz!BE26),TwoWayQuiz!BE26),IF(BE33>3,\".\",TwoWayQuiz!BE26)))","v":10},{"$f":"IF(BE27>2,\".\",IF(BE33=3,IF(BE27=0,IF(TwoWayQuiz!BF26=20,30,TwoWayQuiz!BF26),TwoWayQuiz!BF26),IF(BF33>3,\".\",TwoWayQuiz!BF26)))","v":10},{"$f":"IF(BF27>2,\".\",IF(BF33=3,IF(BF27=0,IF(TwoWayQuiz!BG26=20,30,TwoWayQuiz!BG26),TwoWayQuiz!BG26),IF(BG33>3,\".\",TwoWayQuiz!BG26)))","v":10}]
[]
[null,null,{"$f":"CONCATENATE(\"# of errors \",C17)","v":"# of errors Quizzer #1"},{"$f":"IF(TwoWayQuiz!D17=\"E\",1,0)","v":0},{"$f":"IF(TwoWayQuiz!E17=\"E\",1+D23,D23)","v":0},{"$f":"IF(TwoWayQuiz!F17=\"E\",1+E23,E23)","v":0},{"$f":"IF(TwoWayQuiz!G17=\"E\",1+F23,F23)","v":0},{"$f":"IF(TwoWayQuiz!H17=\"E\",1+G23,G23)","v":0},{"$f":"IF(TwoWayQuiz!I17=\"E\",1+H23,H23)","v":0},{"$f":"IF(TwoWayQuiz!J17=\"E\",1+I23,I23)","v":0},{"$f":"IF(TwoWayQuiz!K17=\"E\",1+J23,J23)","v":0},{"$f":"IF(TwoWayQuiz!L17=\"E\",1+K23,K23)","v":0},{"$f":"IF(TwoWayQuiz!M17=\"E\",1+L23,L23)","v":0},{"$f":"IF(TwoWayQuiz!N17=\"E\",1+M23,M23)","v":0},{"$f":"IF(TwoWayQuiz!O17=\"E\",1+N23,N23)","v":0},{"$f":"IF(TwoWayQuiz!P17=\"E\",1+O23,O23)","v":0},{"$f":"IF(TwoWayQuiz!Q17=\"E\",1+P23,P23)","v":0},{"$f":"IF(TwoWayQuiz!R17=\"E\",1+Q23,Q23)","v":0},{"$f":"IF(TwoWayQuiz!S17=\"E\",1+R23,R23)","v":0},{"$f":"IF(TwoWayQuiz!T17=\"E\",1+S23,S23)","v":0},{"$f":"IF(TwoWayQuiz!U17=\"E\",1+T23,T23)","v":0},{"$f":"IF(TwoWayQuiz!V17=\"E\",1+U23,U23)","v":0},{"$f":"IF(TwoWayQuiz!W17=\"E\",1+V23,V23)","v":0},{"$f":"IF(TwoWayQuiz!X17=\"E\",1+W23,W23)","v":0},{"$f":"IF(TwoWayQuiz!Y17=\"E\",1+X23,X23)","v":0},{"$f":"IF(TwoWayQuiz!Z17=\"E\",1+Y23,Y23)","v":0},{"$f":"IF(TwoWayQuiz!AA17=\"E\",1+Z23,Z23)","v":0},{"$f":"IF(TwoWayQuiz!AB17=\"E\",1+AA23,AA23)","v":0},{"$f":"IF(TwoWayQuiz!AC17=\"E\",1+AB23,AB23)","v":0},{"$f":"IF(TwoWayQuiz!AD17=\"E\",1+AC23,AC23)","v":0},{"$f":"IF(TwoWayQuiz!AE17=\"E\",1+AD23,AD23)","v":0},{"$f":"IF(TwoWayQuiz!AF17=\"E\",1+AE23,AE23)","v":0},{"$f":"IF(TwoWayQuiz!AG17=\"E\",1+AF23,AF23)","v":0},{"$f":"IF(TwoWayQuiz!AH17=\"E\",1+AG23,AG23)","v":0},{"$f":"IF(TwoWayQuiz!AI17=\"E\",1+AH23,AH23)","v":0},{"$f":"IF(TwoWayQuiz!AJ17=\"E\",1+AI23,AI23)","v":0},{"$f":"IF(TwoWayQuiz!AK17=\"E\",1+AJ23,AJ23)","v":0},{"$f":"IF(TwoWayQuiz!AL17=\"E\",1+AK23,AK23)","v":0},{"$f":"IF(TwoWayQuiz!AM17=\"E\",1+AL23,AL23)","v":0},{"$f":"IF(TwoWayQuiz!AN17=\"E\",1+AM23,AM23)","v":0},{"$f":"IF(TwoWayQuiz!AO17=\"E\",1+AN23,AN23)","v":0},{"$f":"IF(TwoWayQuiz!AP17=\"E\",1+AO23,AO23)","v":0},{"$f":"IF(TwoWayQuiz!AQ17=\"E\",1+AP23,AP23)","v":0},{"$f":"IF(TwoWayQuiz!AR17=\"E\",1+AQ23,AQ23)","v":0},{"$f":"IF(TwoWayQuiz!AS17=\"E\",1+AR23,AR23)","v":0},{"$f":"IF(TwoWayQuiz!AT17=\"E\",1+AS23,AS23)","v":0},{"$f":"IF(TwoWayQuiz!AU17=\"E\",1+AT23,AT23)","v":0},{"$f":"IF(TwoWayQuiz!AV17=\"E\",1+AU23,AU23)","v":0},{"$f":"IF(TwoWayQuiz!AW17=\"E\",1+AV23,AV23)","v":0},{"$f":"IF(TwoWayQuiz!AX17=\"E\",1+AW23,AW23)","v":0},{"$f":"IF(TwoWayQuiz!AY17=\"E\",1+AX23,AX23)","v":0},{"$f":"IF(TwoWayQuiz!AZ17=\"E\",1+AY23,AY23)","v":0},{"$f":"IF(TwoWayQuiz!BA17=\"E\",1+AZ23,AZ23)","v":0},{"$f":"IF(TwoWayQuiz!BB17=\"E\",1+BA23,BA23)","v":0},{"$f":"IF(TwoWayQuiz!BC17=\"E\",1+BB23,BB23)","v":0},{"$f":"IF(TwoWayQuiz!BD17=\"E\",1+BC23,BC23)","v":0},{"$f":"IF(TwoWayQuiz!BE17=\"E\",1+BD23,BD23)","v":0},{"$f":"IF(TwoWayQuiz!BF17=\"E\",1+BE23,BE23)","v":0},{"$f":"IF(TwoWayQuiz!BG17=\"E\",1+BF23,BF23)","v":0}]
[null,null,{"$f":"CONCATENATE(\"# of errors \",C18)","v":"# of errors Quizzer #2"},{"$f":"IF(TwoWayQuiz!D18=\"E\",1,0)","v":0},{"$f":"IF(TwoWayQuiz!E18=\"E\",1+D24,D24)","v":0},{"$f":"IF(TwoWayQuiz!F18=\"E\",1+E24,E24)","v":0},{"$f":"IF(TwoWayQuiz!G18=\"E\",1+F24,F24)","v":0},{"$f":"IF(TwoWayQuiz!H18=\"E\",1+G24,G24)","v":0},{"$f":"IF(TwoWayQuiz!I18=\"E\",1+H24,H24)","v":0},{"$f":"IF(TwoWayQuiz!J18=\"E\",1+I24,I24)","v":0},{"$f":"IF(TwoWayQuiz!K18=\"E\",1+J24,J24)","v":0},{"$f":"IF(TwoWayQuiz!L18=\"E\",1+K24,K24)","v":0},{"$f":"IF(TwoWayQuiz!M18=\"E\",1+L24,L24)","v":0},{"$f":"IF(TwoWayQuiz!N18=\"E\",1+M24,M24)","v":0},{"$f":"IF(TwoWayQuiz!O18=\"E\",1+N24,N24)","v":0},{"$f":"IF(TwoWayQuiz!P18=\"E\",1+O24,O24)","v":0},{"$f":"IF(TwoWayQuiz!Q18=\"E\",1+P24,P24)","v":0},{"$f":"IF(TwoWayQuiz!R18=\"E\",1+Q24,Q24)","v":0},{"$f":"IF(TwoWayQuiz!S18=\"E\",1+R24,R24)","v":0},{"$f":"IF(TwoWayQuiz!T18=\"E\",1+S24,S24)","v":0},{"$f":"IF(TwoWayQuiz!U18=\"E\",1+T24,T24)","v":0},{"$f":"IF(TwoWayQuiz!V18=\"E\",1+U24,U24)","v":0},{"$f":"IF(TwoWayQuiz!W18=\"E\",1+V24,V24)","v":0},{"$f":"IF(TwoWayQuiz!X18=\"E\",1+W24,W24)","v":0},{"$f":"IF(TwoWayQuiz!Y18=\"E\",1+X24,X24)","v":0},{"$f":"IF(TwoWayQuiz!Z18=\"E\",1+Y24,Y24)","v":0},{"$f":"IF(TwoWayQuiz!AA18=\"E\",1+Z24,Z24)","v":0},{"$f":"IF(TwoWayQuiz!AB18=\"E\",1+AA24,AA24)","v":0},{"$f":"IF(TwoWayQuiz!AC18=\"E\",1+AB24,AB24)","v":0},{"$f":"IF(TwoWayQuiz!AD18=\"E\",1+AC24,AC24)","v":0},{"$f":"IF(TwoWayQuiz!AE18=\"E\",1+AD24,AD24)","v":0},{"$f":"IF(TwoWayQuiz!AF18=\"E\",1+AE24,AE24)","v":0},{"$f":"IF(TwoWayQuiz!AG18=\"E\",1+AF24,AF24)","v":0},{"$f":"IF(TwoWayQuiz!AH18=\"E\",1+AG24,AG24)","v":0},{"$f":"IF(TwoWayQuiz!AI18=\"E\",1+AH24,AH24)","v":0},{"$f":"IF(TwoWayQuiz!AJ18=\"E\",1+AI24,AI24)","v":0},{"$f":"IF(TwoWayQuiz!AK18=\"E\",1+AJ24,AJ24)","v":0},{"$f":"IF(TwoWayQuiz!AL18=\"E\",1+AK24,AK24)","v":0},{"$f":"IF(TwoWayQuiz!AM18=\"E\",1+AL24,AL24)","v":0},{"$f":"IF(TwoWayQuiz!AN18=\"E\",1+AM24,AM24)","v":0},{"$f":"IF(TwoWayQuiz!AO18=\"E\",1+AN24,AN24)","v":0},{"$f":"IF(TwoWayQuiz!AP18=\"E\",1+AO24,AO24)","v":0},{"$f":"IF(TwoWayQuiz!AQ18=\"E\",1+AP24,AP24)","v":0},{"$f":"IF(TwoWayQuiz!AR18=\"E\",1+AQ24,AQ24)","v":0},{"$f":"IF(TwoWayQuiz!AS18=\"E\",1+AR24,AR24)","v":0},{"$f":"IF(TwoWayQuiz!AT18=\"E\",1+AS24,AS24)","v":0},{"$f":"IF(TwoWayQuiz!AU18=\"E\",1+AT24,AT24)","v":0},{"$f":"IF(TwoWayQuiz!AV18=\"E\",1+AU24,AU24)","v":0},{"$f":"IF(TwoWayQuiz!AW18=\"E\",1+AV24,AV24)","v":0},{"$f":"IF(TwoWayQuiz!AX18=\"E\",1+AW24,AW24)","v":0},{"$f":"IF(TwoWayQuiz!AY18=\"E\",1+AX24,AX24)","v":0},{"$f":"IF(TwoWayQuiz!AZ18=\"E\",1+AY24,AY24)","v":0},{"$f":"IF(TwoWayQuiz!BA18=\"E\",1+AZ24,AZ24)","v":0},{"$f":"IF(TwoWayQuiz!BB18=\"E\",1+BA24,BA24)","v":0},{"$f":"IF(TwoWayQuiz!BC18=\"E\",1+BB24,BB24)","v":0},{"$f":"IF(TwoWayQuiz!BD18=\"E\",1+BC24,BC24)","v":0},{"$f":"IF(TwoWayQuiz!BE18=\"E\",1+BD24,BD24)","v":0},{"$f":"IF(TwoWayQuiz!BF18=\"E\",1+BE24,BE24)","v":0},{"$f":"IF(TwoWayQuiz!BG18=\"E\",1+BF24,BF24)","v":0}]
[null,null,"# of errors Quizzer #3",{"$f":"IF(TwoWayQuiz!D19=\"E\",1,0)","v":0},{"$f":"IF(TwoWayQuiz!E19=\"E\",1+D25,D25)","v":0},{"$f":"IF(TwoWayQuiz!F19=\"E\",1+E25,E25)","v":0},{"$f":"IF(TwoWayQuiz!G19=\"E\",1+F25,F25)","v":0},{"$f":"IF(TwoWayQuiz!H19=\"E\",1+G25,G25)","v":0},{"$f":"IF(TwoWayQuiz!I19=\"E\",1+H25,H25)","v":0},{"$f":"IF(TwoWayQuiz!J19=\"E\",1+I25,I25)","v":0},{"$f":"IF(TwoWayQuiz!K19=\"E\",1+J25,J25)","v":0},{"$f":"IF(TwoWayQuiz!L19=\"E\",1+K25,K25)","v":0},{"$f":"IF(TwoWayQuiz!M19=\"E\",1+L25,L25)","v":0},{"$f":"IF(TwoWayQuiz!N19=\"E\",1+M25,M25)","v":0},{"$f":"IF(TwoWayQuiz!O19=\"E\",1+N25,N25)","v":0},{"$f":"IF(TwoWayQuiz!P19=\"E\",1+O25,O25)","v":0},{"$f":"IF(TwoWayQuiz!Q19=\"E\",1+P25,P25)","v":0},{"$f":"IF(TwoWayQuiz!R19=\"E\",1+Q25,Q25)","v":0},{"$f":"IF(TwoWayQuiz!S19=\"E\",1+R25,R25)","v":0},{"$f":"IF(TwoWayQuiz!T19=\"E\",1+S25,S25)","v":0},{"$f":"IF(TwoWayQuiz!U19=\"E\",1+T25,T25)","v":0},{"$f":"IF(TwoWayQuiz!V19=\"E\",1+U25,U25)","v":0},{"$f":"IF(TwoWayQuiz!W19=\"E\",1+V25,V25)","v":0},{"$f":"IF(TwoWayQuiz!X19=\"E\",1+W25,W25)","v":0},{"$f":"IF(TwoWayQuiz!Y19=\"E\",1+X25,X25)","v":0},{"$f":"IF(TwoWayQuiz!Z19=\"E\",1+Y25,Y25)","v":0},{"$f":"IF(TwoWayQuiz!AA19=\"E\",1+Z25,Z25)","v":0},{"$f":"IF(TwoWayQuiz!AB19=\"E\",1+AA25,AA25)","v":0},{"$f":"IF(TwoWayQuiz!AC19=\"E\",1+AB25,AB25)","v":0},{"$f":"IF(TwoWayQuiz!AD19=\"E\",1+AC25,AC25)","v":0},{"$f":"IF(TwoWayQuiz!AE19=\"E\",1+AD25,AD25)","v":0},{"$f":"IF(TwoWayQuiz!AF19=\"E\",1+AE25,AE25)","v":0},{"$f":"IF(TwoWayQuiz!AG19=\"E\",1+AF25,AF25)","v":0},{"$f":"IF(TwoWayQuiz!AH19=\"E\",1+AG25,AG25)","v":0},{"$f":"IF(TwoWayQuiz!AI19=\"E\",1+AH25,AH25)","v":0},{"$f":"IF(TwoWayQuiz!AJ19=\"E\",1+AI25,AI25)","v":0},{"$f":"IF(TwoWayQuiz!AK19=\"E\",1+AJ25,AJ25)","v":0},{"$f":"IF(TwoWayQuiz!AL19=\"E\",1+AK25,AK25)","v":0},{"$f":"IF(TwoWayQuiz!AM19=\"E\",1+AL25,AL25)","v":0},{"$f":"IF(TwoWayQuiz!AN19=\"E\",1+AM25,AM25)","v":0},{"$f":"IF(TwoWayQuiz!AO19=\"E\",1+AN25,AN25)","v":0},{"$f":"IF(TwoWayQuiz!AP19=\"E\",1+AO25,AO25)","v":0},{"$f":"IF(TwoWayQuiz!AQ19=\"E\",1+AP25,AP25)","v":0},{"$f":"IF(TwoWayQuiz!AR19=\"E\",1+AQ25,AQ25)","v":0},{"$f":"IF(TwoWayQuiz!AS19=\"E\",1+AR25,AR25)","v":0},{"$f":"IF(TwoWayQuiz!AT19=\"E\",1+AS25,AS25)","v":0},{"$f":"IF(TwoWayQuiz!AU19=\"E\",1+AT25,AT25)","v":0},{"$f":"IF(TwoWayQuiz!AV19=\"E\",1+AU25,AU25)","v":0},{"$f":"IF(TwoWayQuiz!AW19=\"E\",1+AV25,AV25)","v":0},{"$f":"IF(TwoWayQuiz!AX19=\"E\",1+AW25,AW25)","v":0},{"$f":"IF(TwoWayQuiz!AY19=\"E\",1+AX25,AX25)","v":0},{"$f":"IF(TwoWayQuiz!AZ19=\"E\",1+AY25,AY25)","v":0},{"$f":"IF(TwoWayQuiz!BA19=\"E\",1+AZ25,AZ25)","v":0},{"$f":"IF(TwoWayQuiz!BB19=\"E\",1+BA25,BA25)","v":0},{"$f":"IF(TwoWayQuiz!BC19=\"E\",1+BB25,BB25)","v":0},{"$f":"IF(TwoWayQuiz!BD19=\"E\",1+BC25,BC25)","v":0},{"$f":"IF(TwoWayQuiz!BE19=\"E\",1+BD25,BD25)","v":0},{"$f":"IF(TwoWayQuiz!BF19=\"E\",1+BE25,BE25)","v":0},{"$f":"IF(TwoWayQuiz!BG19=\"E\",1+BF25,BF25)","v":0}]
[null,null,"# of errors Quizzer #4",{"$f":"IF(TwoWayQuiz!D20=\"E\",1,0)","v":0},{"$f":"IF(TwoWayQuiz!E20=\"E\",1+D26,D26)","v":0},{"$f":"IF(TwoWayQuiz!F20=\"E\",1+E26,E26)","v":0},{"$f":"IF(TwoWayQuiz!G20=\"E\",1+F26,F26)","v":0},{"$f":"IF(TwoWayQuiz!H20=\"E\",1+G26,G26)","v":0},{"$f":"IF(TwoWayQuiz!I20=\"E\",1+H26,H26)","v":0},{"$f":"IF(TwoWayQuiz!J20=\"E\",1+I26,I26)","v":0},{"$f":"IF(TwoWayQuiz!K20=\"E\",1+J26,J26)","v":0},{"$f":"IF(TwoWayQuiz!L20=\"E\",1+K26,K26)","v":0},{"$f":"IF(TwoWayQuiz!M20=\"E\",1+L26,L26)","v":0},{"$f":"IF(TwoWayQuiz!N20=\"E\",1+M26,M26)","v":0},{"$f":"IF(TwoWayQuiz!O20=\"E\",1+N26,N26)","v":0},{"$f":"IF(TwoWayQuiz!P20=\"E\",1+O26,O26)","v":0},{"$f":"IF(TwoWayQuiz!Q20=\"E\",1+P26,P26)","v":0},{"$f":"IF(TwoWayQuiz!R20=\"E\",1+Q26,Q26)","v":0},{"$f":"IF(TwoWayQuiz!S20=\"E\",1+R26,R26)","v":0},{"$f":"IF(TwoWayQuiz!T20=\"E\",1+S26,S26)","v":0},{"$f":"IF(TwoWayQuiz!U20=\"E\",1+T26,T26)","v":0},{"$f":"IF(TwoWayQuiz!V20=\"E\",1+U26,U26)","v":0},{"$f":"IF(TwoWayQuiz!W20=\"E\",1+V26,V26)","v":0},{"$f":"IF(TwoWayQuiz!X20=\"E\",1+W26,W26)","v":0},{"$f":"IF(TwoWayQuiz!Y20=\"E\",1+X26,X26)","v":0},{"$f":"IF(TwoWayQuiz!Z20=\"E\",1+Y26,Y26)","v":0},{"$f":"IF(TwoWayQuiz!AA20=\"E\",1+Z26,Z26)","v":0},{"$f":"IF(TwoWayQuiz!AB20=\"E\",1+AA26,AA26)","v":0},{"$f":"IF(TwoWayQuiz!AC20=\"E\",1+AB26,AB26)","v":0},{"$f":"IF(TwoWayQuiz!AD20=\"E\",1+AC26,AC26)","v":0},{"$f":"IF(TwoWayQuiz!AE20=\"E\",1+AD26,AD26)","v":0},{"$f":"IF(TwoWayQuiz!AF20=\"E\",1+AE26,AE26)","v":0},{"$f":"IF(TwoWayQuiz!AG20=\"E\",1+AF26,AF26)","v":0},{"$f":"IF(TwoWayQuiz!AH20=\"E\",1+AG26,AG26)","v":0},{"$f":"IF(TwoWayQuiz!AI20=\"E\",1+AH26,AH26)","v":0},{"$f":"IF(TwoWayQuiz!AJ20=\"E\",1+AI26,AI26)","v":0},{"$f":"IF(TwoWayQuiz!AK20=\"E\",1+AJ26,AJ26)","v":0},{"$f":"IF(TwoWayQuiz!AL20=\"E\",1+AK26,AK26)","v":0},{"$f":"IF(TwoWayQuiz!AM20=\"E\",1+AL26,AL26)","v":0},{"$f":"IF(TwoWayQuiz!AN20=\"E\",1+AM26,AM26)","v":0},{"$f":"IF(TwoWayQuiz!AO20=\"E\",1+AN26,AN26)","v":0},{"$f":"IF(TwoWayQuiz!AP20=\"E\",1+AO26,AO26)","v":0},{"$f":"IF(TwoWayQuiz!AQ20=\"E\",1+AP26,AP26)","v":0},{"$f":"IF(TwoWayQuiz!AR20=\"E\",1+AQ26,AQ26)","v":0},{"$f":"IF(TwoWayQuiz!AS20=\"E\",1+AR26,AR26)","v":0},{"$f":"IF(TwoWayQuiz!AT20=\"E\",1+AS26,AS26)","v":0},{"$f":"IF(TwoWayQuiz!AU20=\"E\",1+AT26,AT26)","v":0},{"$f":"IF(TwoWayQuiz!AV20=\"E\",1+AU26,AU26)","v":0},{"$f":"IF(TwoWayQuiz!AW20=\"E\",1+AV26,AV26)","v":0},{"$f":"IF(TwoWayQuiz!AX20=\"E\",1+AW26,AW26)","v":0},{"$f":"IF(TwoWayQuiz!AY20=\"E\",1+AX26,AX26)","v":0},{"$f":"IF(TwoWayQuiz!AZ20=\"E\",1+AY26,AY26)","v":0},{"$f":"IF(TwoWayQuiz!BA20=\"E\",1+AZ26,AZ26)","v":0},{"$f":"IF(TwoWayQuiz!BB20=\"E\",1+BA26,BA26)","v":0},{"$f":"IF(TwoWayQuiz!BC20=\"E\",1+BB26,BB26)","v":0},{"$f":"IF(TwoWayQuiz!BD20=\"E\",1+BC26,BC26)","v":0},{"$f":"IF(TwoWayQuiz!BE20=\"E\",1+BD26,BD26)","v":0},{"$f":"IF(TwoWayQuiz!BF20=\"E\",1+BE26,BE26)","v":0},{"$f":"IF(TwoWayQuiz!BG20=\"E\",1+BF26,BF26)","v":0}]
[null,null,"# of errors  ",{"$f":"IF(TwoWayQuiz!D21=\"E\",1,0)","v":0},{"$f":"IF(TwoWayQuiz!E21=\"E\",1+D27,D27)","v":0},{"$f":"IF(TwoWayQuiz!F21=\"E\",1+E27,E27)","v":0},{"$f":"IF(TwoWayQuiz!G21=\"E\",1+F27,F27)","v":0},{"$f":"IF(TwoWayQuiz!H21=\"E\",1+G27,G27)","v":0},{"$f":"IF(TwoWayQuiz!I21=\"E\",1+H27,H27)","v":0},{"$f":"IF(TwoWayQuiz!J21=\"E\",1+I27,I27)","v":0},{"$f":"IF(TwoWayQuiz!K21=\"E\",1+J27,J27)","v":0},{"$f":"IF(TwoWayQuiz!L21=\"E\",1+K27,K27)","v":0},{"$f":"IF(TwoWayQuiz!M21=\"E\",1+L27,L27)","v":0},{"$f":"IF(TwoWayQuiz!N21=\"E\",1+M27,M27)","v":0},{"$f":"IF(TwoWayQuiz!O21=\"E\",1+N27,N27)","v":0},{"$f":"IF(TwoWayQuiz!P21=\"E\",1+O27,O27)","v":0},{"$f":"IF(TwoWayQuiz!Q21=\"E\",1+P27,P27)","v":0},{"$f":"IF(TwoWayQuiz!R21=\"E\",1+Q27,Q27)","v":0},{"$f":"IF(TwoWayQuiz!S21=\"E\",1+R27,R27)","v":0},{"$f":"IF(TwoWayQuiz!T21=\"E\",1+S27,S27)","v":0},{"$f":"IF(TwoWayQuiz!U21=\"E\",1+T27,T27)","v":0},{"$f":"IF(TwoWayQuiz!V21=\"E\",1+U27,U27)","v":0},{"$f":"IF(TwoWayQuiz!W21=\"E\",1+V27,V27)","v":0},{"$f":"IF(TwoWayQuiz!X21=\"E\",1+W27,W27)","v":0},{"$f":"IF(TwoWayQuiz!Y21=\"E\",1+X27,X27)","v":0},{"$f":"IF(TwoWayQuiz!Z21=\"E\",1+Y27,Y27)","v":0},{"$f":"IF(TwoWayQuiz!AA21=\"E\",1+Z27,Z27)","v":0},{"$f":"IF(TwoWayQuiz!AB21=\"E\",1+AA27,AA27)","v":0},{"$f":"IF(TwoWayQuiz!AC21=\"E\",1+AB27,AB27)","v":0},{"$f":"IF(TwoWayQuiz!AD21=\"E\",1+AC27,AC27)","v":0},{"$f":"IF(TwoWayQuiz!AE21=\"E\",1+AD27,AD27)","v":0},{"$f":"IF(TwoWayQuiz!AF21=\"E\",1+AE27,AE27)","v":0},{"$f":"IF(TwoWayQuiz!AG21=\"E\",1+AF27,AF27)","v":0},{"$f":"IF(TwoWayQuiz!AH21=\"E\",1+AG27,AG27)","v":0},{"$f":"IF(TwoWayQuiz!AI21=\"E\",1+AH27,AH27)","v":0},{"$f":"IF(TwoWayQuiz!AJ21=\"E\",1+AI27,AI27)","v":0},{"$f":"IF(TwoWayQuiz!AK21=\"E\",1+AJ27,AJ27)","v":0},{"$f":"IF(TwoWayQuiz!AL21=\"E\",1+AK27,AK27)","v":0},{"$f":"IF(TwoWayQuiz!AM21=\"E\",1+AL27,AL27)","v":0},{"$f":"IF(TwoWayQuiz!AN21=\"E\",1+AM27,AM27)","v":0},{"$f":"IF(TwoWayQuiz!AO21=\"E\",1+AN27,AN27)","v":0},{"$f":"IF(TwoWayQuiz!AP21=\"E\",1+AO27,AO27)","v":0},{"$f":"IF(TwoWayQuiz!AQ21=\"E\",1+AP27,AP27)","v":0},{"$f":"IF(TwoWayQuiz!AR21=\"E\",1+AQ27,AQ27)","v":0},{"$f":"IF(TwoWayQuiz!AS21=\"E\",1+AR27,AR27)","v":0},{"$f":"IF(TwoWayQuiz!AT21=\"E\",1+AS27,AS27)","v":0},{"$f":"IF(TwoWayQuiz!AU21=\"E\",1+AT27,AT27)","v":0},{"$f":"IF(TwoWayQuiz!AV21=\"E\",1+AU27,AU27)","v":0},{"$f":"IF(TwoWayQuiz!AW21=\"E\",1+AV27,AV27)","v":0},{"$f":"IF(TwoWayQuiz!AX21=\"E\",1+AW27,AW27)","v":0},{"$f":"IF(TwoWayQuiz!AY21=\"E\",1+AX27,AX27)","v":0},{"$f":"IF(TwoWayQuiz!AZ21=\"E\",1+AY27,AY27)","v":0},{"$f":"IF(TwoWayQuiz!BA21=\"E\",1+AZ27,AZ27)","v":0},{"$f":"IF(TwoWayQuiz!BB21=\"E\",1+BA27,BA27)","v":0},{"$f":"IF(TwoWayQuiz!BC21=\"E\",1+BB27,BB27)","v":0},{"$f":"IF(TwoWayQuiz!BD21=\"E\",1+BC27,BC27)","v":0},{"$f":"IF(TwoWayQuiz!BE21=\"E\",1+BD27,BD27)","v":0},{"$f":"IF(TwoWayQuiz!BF21=\"E\",1+BE27,BE27)","v":0},{"$f":"IF(TwoWayQuiz!BG21=\"E\",1+BF27,BF27)","v":0}]
[]
[null,null,{"$f":"CONCATENATE(\"# 20's \",Sheet4!C17)","v":"# 20's Quizzer #1"},{"$f":"COUNTIF(TwoWayQuiz!$D17:D17,20)+COUNTIF(TwoWayQuiz!$D17:D17,30)","v":0},{"$f":"COUNTIF(TwoWayQuiz!$D17:E17,20)+COUNTIF(TwoWayQuiz!$D17:E17,30)","v":0},{"$f":"COUNTIF(TwoWayQuiz!$D17:F17,20)+COUNTIF(TwoWayQuiz!$D17:F17,30)","v":0},{"$f":"COUNTIF(TwoWayQuiz!$D17:G17,20)+COUNTIF(TwoWayQuiz!$D17:G17,30)","v":0},{"$f":"COUNTIF(TwoWayQuiz!$D17:H17,20)+COUNTIF(TwoWayQuiz!$D17:H17,30)","v":0},{"$f":"COUNTIF(TwoWayQuiz!$D17:I17,20)+COUNTIF(TwoWayQuiz!$D17:I17,30)","v":0},{"$f":"COUNTIF(TwoWayQuiz!$D17:J17,20)+COUNTIF(TwoWayQuiz!$D17:J17,30)","v":0},{"$f":"COUNTIF(TwoWayQuiz!$D17:K17,20)+COUNTIF(TwoWayQuiz!$D17:K17,30)","v":0},{"$f":"COUNTIF(TwoWayQuiz!$D17:L17,20)+COUNTIF(TwoWayQuiz!$D17:L17,30)","v":0},{"$f":"COUNTIF(TwoWayQuiz!$D17:M17,20)+COUNTIF(TwoWayQuiz!$D17:M17,30)","v":0},{"$f":"COUNTIF(TwoWayQuiz!$D17:N17,20)+COUNTIF(TwoWayQuiz!$D17:N17,30)","v":0},{"$f":"COUNTIF(TwoWayQuiz!$D17:O17,20)+COUNTIF(TwoWayQuiz!$D17:O17,30)","v":0},{"$f":"COUNTIF(TwoWayQuiz!$D17:P17,20)+COUNTIF(TwoWayQuiz!$D17:P17,30)","v":0},{"$f":"COUNTIF(TwoWayQuiz!$D17:Q17,20)+COUNTIF(TwoWayQuiz!$D17:Q17,30)","v":0},{"$f":"COUNTIF(TwoWayQuiz!$D17:R17,20)+COUNTIF(TwoWayQuiz!$D17:R17,30)","v":0},{"$f":"COUNTIF(TwoWayQuiz!$D17:S17,20)+COUNTIF(TwoWayQuiz!$D17:S17,30)","v":0},{"$f":"COUNTIF(TwoWayQuiz!$D17:T17,20)+COUNTIF(TwoWayQuiz!$D17:T17,30)","v":0},{"$f":"COUNTIF(TwoWayQuiz!$D17:U17,20)+COUNTIF(TwoWayQuiz!$D17:U17,30)","v":0},{"$f":"COUNTIF(TwoWayQuiz!$D17:V17,20)+COUNTIF(TwoWayQuiz!$D17:V17,30)","v":0},{"$f":"COUNTIF(TwoWayQuiz!$D17:W17,20)+COUNTIF(TwoWayQuiz!$D17:W17,30)","v":0},{"$f":"COUNTIF(TwoWayQuiz!$D17:X17,20)+COUNTIF(TwoWayQuiz!$D17:X17,30)","v":0},{"$f":"COUNTIF(TwoWayQuiz!$D17:Y17,20)+COUNTIF(TwoWayQuiz!$D17:Y17,30)","v":0},{"$f":"COUNTIF(TwoWayQuiz!$D17:Z17,20)+COUNTIF(TwoWayQuiz!$D17:Z17,30)","v":0},{"$f":"COUNTIF(TwoWayQuiz!$D17:AA17,20)+COUNTIF(TwoWayQuiz!$D17:AA17,30)","v":0},{"$f":"COUNTIF(TwoWayQuiz!$D17:AB17,20)+COUNTIF(TwoWayQuiz!$D17:AB17,30)","v":0},{"$f":"COUNTIF(TwoWayQuiz!$D17:AC17,20)+COUNTIF(TwoWayQuiz!$D17:AC17,30)","v":0},{"$f":"COUNTIF(TwoWayQuiz!$D17:AD17,20)+COUNTIF(TwoWayQuiz!$D17:AD17,30)","v":0},{"$f":"COUNTIF(TwoWayQuiz!$D17:AE17,20)+COUNTIF(TwoWayQuiz!$D17:AE17,30)","v":0},{"$f":"COUNTIF(TwoWayQuiz!$D17:AF17,20)+COUNTIF(TwoWayQuiz!$D17:AF17,30)","v":0},{"$f":"COUNTIF(TwoWayQuiz!$D17:AG17,20)+COUNTIF(TwoWayQuiz!$D17:AG17,30)","v":0},{"$f":"COUNTIF(TwoWayQuiz!$D17:AH17,20)+COUNTIF(TwoWayQuiz!$D17:AH17,30)","v":0},{"$f":"COUNTIF(TwoWayQuiz!$D17:AI17,20)+COUNTIF(TwoWayQuiz!$D17:AI17,30)","v":0},{"$f":"COUNTIF(TwoWayQuiz!$D17:AJ17,20)+COUNTIF(TwoWayQuiz!$D17:AJ17,30)","v":0},{"$f":"COUNTIF(TwoWayQuiz!$D17:AK17,20)+COUNTIF(TwoWayQuiz!$D17:AK17,30)","v":0},{"$f":"COUNTIF(TwoWayQuiz!$D17:AL17,20)+COUNTIF(TwoWayQuiz!$D17:AL17,30)","v":0},{"$f":"COUNTIF(TwoWayQuiz!$D17:AM17,20)+COUNTIF(TwoWayQuiz!$D17:AM17,30)","v":0},{"$f":"COUNTIF(TwoWayQuiz!$D17:AN17,20)+COUNTIF(TwoWayQuiz!$D17:AN17,30)","v":0},{"$f":"COUNTIF(TwoWayQuiz!$D17:AO17,20)+COUNTIF(TwoWayQuiz!$D17:AO17,30)","v":0},{"$f":"COUNTIF(TwoWayQuiz!$D17:AP17,20)+COUNTIF(TwoWayQuiz!$D17:AP17,30)","v":0},{"$f":"COUNTIF(TwoWayQuiz!$D17:AQ17,20)+COUNTIF(TwoWayQuiz!$D17:AQ17,30)","v":0},{"$f":"COUNTIF(TwoWayQuiz!$D17:AR17,20)+COUNTIF(TwoWayQuiz!$D17:AR17,30)","v":0},{"$f":"COUNTIF(TwoWayQuiz!$D17:AS17,20)+COUNTIF(TwoWayQuiz!$D17:AS17,30)","v":0},{"$f":"COUNTIF(TwoWayQuiz!$D17:AT17,20)+COUNTIF(TwoWayQuiz!$D17:AT17,30)","v":0},{"$f":"COUNTIF(TwoWayQuiz!$D17:AU17,20)+COUNTIF(TwoWayQuiz!$D17:AU17,30)","v":0},{"$f":"COUNTIF(TwoWayQuiz!$D17:AV17,20)+COUNTIF(TwoWayQuiz!$D17:AV17,30)","v":0},{"$f":"COUNTIF(TwoWayQuiz!$D17:AW17,20)+COUNTIF(TwoWayQuiz!$D17:AW17,30)","v":0},{"$f":"COUNTIF(TwoWayQuiz!$D17:AX17,20)+COUNTIF(TwoWayQuiz!$D17:AX17,30)","v":0},{"$f":"COUNTIF(TwoWayQuiz!$D17:AY17,20)+COUNTIF(TwoWayQuiz!$D17:AY17,30)","v":0},{"$f":"COUNTIF(TwoWayQuiz!$D17:AZ17,20)+COUNTIF(TwoWayQuiz!$D17:AZ17,30)","v":0},{"$f":"COUNTIF(TwoWayQuiz!$D17:BA17,20)+COUNTIF(TwoWayQuiz!$D17:BA17,30)","v":0},{"$f":"COUNTIF(TwoWayQuiz!$D17:BB17,20)+COUNTIF(TwoWayQuiz!$D17:BB17,30)","v":0},{"$f":"COUNTIF(TwoWayQuiz!$D17:BC17,20)+COUNTIF(TwoWayQuiz!$D17:BC17,30)","v":0},{"$f":"COUNTIF(TwoWayQuiz!$D17:BD17,20)+COUNTIF(TwoWayQuiz!$D17:BD17,30)","v":0},{"$f":"COUNTIF(TwoWayQuiz!$D17:BE17,20)+COUNTIF(TwoWayQuiz!$D17:BE17,30)","v":0},{"$f":"COUNTIF(TwoWayQuiz!$D17:BF17,20)+COUNTIF(TwoWayQuiz!$D17:BF17,30)","v":0},{"$f":"COUNTIF(TwoWayQuiz!$D17:BG17,20)+COUNTIF(TwoWayQuiz!$D17:BG17,30)","v":0}]
[null,null,{"$f":"CONCATENATE(\"# 20's \",Sheet4!C18)","v":"# 20's Quizzer #2"},{"$f":"COUNTIF(TwoWayQuiz!$D18:D18,20)+COUNTIF(TwoWayQuiz!$D18:D18,30)","v":0},{"$f":"COUNTIF(TwoWayQuiz!$D18:E18,20)+COUNTIF(TwoWayQuiz!$D18:E18,30)","v":0},{"$f":"COUNTIF(TwoWayQuiz!$D18:F18,20)+COUNTIF(TwoWayQuiz!$D18:F18,30)","v":0},{"$f":"COUNTIF(TwoWayQuiz!$D18:G18,20)+COUNTIF(TwoWayQuiz!$D18:G18,30)","v":0},{"$f":"COUNTIF(TwoWayQuiz!$D18:H18,20)+COUNTIF(TwoWayQuiz!$D18:H18,30)","v":0},{"$f":"COUNTIF(TwoWayQuiz!$D18:I18,20)+COUNTIF(TwoWayQuiz!$D18:I18,30)","v":0},{"$f":"COUNTIF(TwoWayQuiz!$D18:J18,20)+COUNTIF(TwoWayQuiz!$D18:J18,30)","v":0},{"$f":"COUNTIF(TwoWayQuiz!$D18:K18,20)+COUNTIF(TwoWayQuiz!$D18:K18,30)","v":0},{"$f":"COUNTIF(TwoWayQuiz!$D18:L18,20)+COUNTIF(TwoWayQuiz!$D18:L18,30)","v":0},{"$f":"COUNTIF(TwoWayQuiz!$D18:M18,20)+COUNTIF(TwoWayQuiz!$D18:M18,30)","v":0},{"$f":"COUNTIF(TwoWayQuiz!$D18:N18,20)+COUNTIF(TwoWayQuiz!$D18:N18,30)","v":0},{"$f":"COUNTIF(TwoWayQuiz!$D18:O18,20)+COUNTIF(TwoWayQuiz!$D18:O18,30)","v":0},{"$f":"COUNTIF(TwoWayQuiz!$D18:P18,20)+COUNTIF(TwoWayQuiz!$D18:P18,30)","v":0},{"$f":"COUNTIF(TwoWayQuiz!$D18:Q18,20)+COUNTIF(TwoWayQuiz!$D18:Q18,30)","v":0},{"$f":"COUNTIF(TwoWayQuiz!$D18:R18,20)+COUNTIF(TwoWayQuiz!$D18:R18,30)","v":0},{"$f":"COUNTIF(TwoWayQuiz!$D18:S18,20)+COUNTIF(TwoWayQuiz!$D18:S18,30)","v":0},{"$f":"COUNTIF(TwoWayQuiz!$D18:T18,20)+COUNTIF(TwoWayQuiz!$D18:T18,30)","v":0},{"$f":"COUNTIF(TwoWayQuiz!$D18:U18,20)+COUNTIF(TwoWayQuiz!$D18:U18,30)","v":0},{"$f":"COUNTIF(TwoWayQuiz!$D18:V18,20)+COUNTIF(TwoWayQuiz!$D18:V18,30)","v":0},{"$f":"COUNTIF(TwoWayQuiz!$D18:W18,20)+COUNTIF(TwoWayQuiz!$D18:W18,30)","v":0},{"$f":"COUNTIF(TwoWayQuiz!$D18:X18,20)+COUNTIF(TwoWayQuiz!$D18:X18,30)","v":0},{"$f":"COUNTIF(TwoWayQuiz!$D18:Y18,20)+COUNTIF(TwoWayQuiz!$D18:Y18,30)","v":0},{"$f":"COUNTIF(TwoWayQuiz!$D18:Z18,20)+COUNTIF(TwoWayQuiz!$D18:Z18,30)","v":0},{"$f":"COUNTIF(TwoWayQuiz!$D18:AA18,20)+COUNTIF(TwoWayQuiz!$D18:AA18,30)","v":0},{"$f":"COUNTIF(TwoWayQuiz!$D18:AB18,20)+COUNTIF(TwoWayQuiz!$D18:AB18,30)","v":0},{"$f":"COUNTIF(TwoWayQuiz!$D18:AC18,20)+COUNTIF(TwoWayQuiz!$D18:AC18,30)","v":0},{"$f":"COUNTIF(TwoWayQuiz!$D18:AD18,20)+COUNTIF(TwoWayQuiz!$D18:AD18,30)","v":0},{"$f":"COUNTIF(TwoWayQuiz!$D18:AE18,20)+COUNTIF(TwoWayQuiz!$D18:AE18,30)","v":0},{"$f":"COUNTIF(TwoWayQuiz!$D18:AF18,20)+COUNTIF(TwoWayQuiz!$D18:AF18,30)","v":0},{"$f":"COUNTIF(TwoWayQuiz!$D18:AG18,20)+COUNTIF(TwoWayQuiz!$D18:AG18,30)","v":0},{"$f":"COUNTIF(TwoWayQuiz!$D18:AH18,20)+COUNTIF(TwoWayQuiz!$D18:AH18,30)","v":0},{"$f":"COUNTIF(TwoWayQuiz!$D18:AI18,20)+COUNTIF(TwoWayQuiz!$D18:AI18,30)","v":0},{"$f":"COUNTIF(TwoWayQuiz!$D18:AJ18,20)+COUNTIF(TwoWayQuiz!$D18:AJ18,30)","v":0},{"$f":"COUNTIF(TwoWayQuiz!$D18:AK18,20)+COUNTIF(TwoWayQuiz!$D18:AK18,30)","v":0},{"$f":"COUNTIF(TwoWayQuiz!$D18:AL18,20)+COUNTIF(TwoWayQuiz!$D18:AL18,30)","v":0},{"$f":"COUNTIF(TwoWayQuiz!$D18:AM18,20)+COUNTIF(TwoWayQuiz!$D18:AM18,30)","v":0},{"$f":"COUNTIF(TwoWayQuiz!$D18:AN18,20)+COUNTIF(TwoWayQuiz!$D18:AN18,30)","v":0},{"$f":"COUNTIF(TwoWayQuiz!$D18:AO18,20)+COUNTIF(TwoWayQuiz!$D18:AO18,30)","v":0},{"$f":"COUNTIF(TwoWayQuiz!$D18:AP18,20)+COUNTIF(TwoWayQuiz!$D18:AP18,30)","v":0},{"$f":"COUNTIF(TwoWayQuiz!$D18:AQ18,20)+COUNTIF(TwoWayQuiz!$D18:AQ18,30)","v":0},{"$f":"COUNTIF(TwoWayQuiz!$D18:AR18,20)+COUNTIF(TwoWayQuiz!$D18:AR18,30)","v":0},{"$f":"COUNTIF(TwoWayQuiz!$D18:AS18,20)+COUNTIF(TwoWayQuiz!$D18:AS18,30)","v":0},{"$f":"COUNTIF(TwoWayQuiz!$D18:AT18,20)+COUNTIF(TwoWayQuiz!$D18:AT18,30)","v":0},{"$f":"COUNTIF(TwoWayQuiz!$D18:AU18,20)+COUNTIF(TwoWayQuiz!$D18:AU18,30)","v":0},{"$f":"COUNTIF(TwoWayQuiz!$D18:AV18,20)+COUNTIF(TwoWayQuiz!$D18:AV18,30)","v":0},{"$f":"COUNTIF(TwoWayQuiz!$D18:AW18,20)+COUNTIF(TwoWayQuiz!$D18:AW18,30)","v":0},{"$f":"COUNTIF(TwoWayQuiz!$D18:AX18,20)+COUNTIF(TwoWayQuiz!$D18:AX18,30)","v":0},{"$f":"COUNTIF(TwoWayQuiz!$D18:AY18,20)+COUNTIF(TwoWayQuiz!$D18:AY18,30)","v":0},{"$f":"COUNTIF(TwoWayQuiz!$D18:AZ18,20)+COUNTIF(TwoWayQuiz!$D18:AZ18,30)","v":0},{"$f":"COUNTIF(TwoWayQuiz!$D18:BA18,20)+COUNTIF(TwoWayQuiz!$D18:BA18,30)","v":0},{"$f":"COUNTIF(TwoWayQuiz!$D18:BB18,20)+COUNTIF(TwoWayQuiz!$D18:BB18,30)","v":0},{"$f":"COUNTIF(TwoWayQuiz!$D18:BC18,20)+COUNTIF(TwoWayQuiz!$D18:BC18,30)","v":0},{"$f":"COUNTIF(TwoWayQuiz!$D18:BD18,20)+COUNTIF(TwoWayQuiz!$D18:BD18,30)","v":0},{"$f":"COUNTIF(TwoWayQuiz!$D18:BE18,20)+COUNTIF(TwoWayQuiz!$D18:BE18,30)","v":0},{"$f":"COUNTIF(TwoWayQuiz!$D18:BF18,20)+COUNTIF(TwoWayQuiz!$D18:BF18,30)","v":0},{"$f":"COUNTIF(TwoWayQuiz!$D18:BG18,20)+COUNTIF(TwoWayQuiz!$D18:BG18,30)","v":0}]
[null,null,{"$f":"CONCATENATE(\"# 20's \",Sheet4!C19)","v":"# 20's Quizzer #3"},{"$f":"COUNTIF(TwoWayQuiz!$D19:D19,20)+COUNTIF(TwoWayQuiz!$D19:D19,30)","v":0},{"$f":"COUNTIF(TwoWayQuiz!$D19:E19,20)+COUNTIF(TwoWayQuiz!$D19:E19,30)","v":0},{"$f":"COUNTIF(TwoWayQuiz!$D19:F19,20)+COUNTIF(TwoWayQuiz!$D19:F19,30)","v":0},{"$f":"COUNTIF(TwoWayQuiz!$D19:G19,20)+COUNTIF(TwoWayQuiz!$D19:G19,30)","v":0},{"$f":"COUNTIF(TwoWayQuiz!$D19:H19,20)+COUNTIF(TwoWayQuiz!$D19:H19,30)","v":0},{"$f":"COUNTIF(TwoWayQuiz!$D19:I19,20)+COUNTIF(TwoWayQuiz!$D19:I19,30)","v":0},{"$f":"COUNTIF(TwoWayQuiz!$D19:J19,20)+COUNTIF(TwoWayQuiz!$D19:J19,30)","v":0},{"$f":"COUNTIF(TwoWayQuiz!$D19:K19,20)+COUNTIF(TwoWayQuiz!$D19:K19,30)","v":0},{"$f":"COUNTIF(TwoWayQuiz!$D19:L19,20)+COUNTIF(TwoWayQuiz!$D19:L19,30)","v":0},{"$f":"COUNTIF(TwoWayQuiz!$D19:M19,20)+COUNTIF(TwoWayQuiz!$D19:M19,30)","v":0},{"$f":"COUNTIF(TwoWayQuiz!$D19:N19,20)+COUNTIF(TwoWayQuiz!$D19:N19,30)","v":0},{"$f":"COUNTIF(TwoWayQuiz!$D19:O19,20)+COUNTIF(TwoWayQuiz!$D19:O19,30)","v":0},{"$f":"COUNTIF(TwoWayQuiz!$D19:P19,20)+COUNTIF(TwoWayQuiz!$D19:P19,30)","v":0},{"$f":"COUNTIF(TwoWayQuiz!$D19:Q19,20)+COUNTIF(TwoWayQuiz!$D19:Q19,30)","v":0},{"$f":"COUNTIF(TwoWayQuiz!$D19:R19,20)+COUNTIF(TwoWayQuiz!$D19:R19,30)","v":0},{"$f":"COUNTIF(TwoWayQuiz!$D19:S19,20)+COUNTIF(TwoWayQuiz!$D19:S19,30)","v":0},{"$f":"COUNTIF(TwoWayQuiz!$D19:T19,20)+COUNTIF(TwoWayQuiz!$D19:T19,30)","v":0},{"$f":"COUNTIF(TwoWayQuiz!$D19:U19,20)+COUNTIF(TwoWayQuiz!$D19:U19,30)","v":0},{"$f":"COUNTIF(TwoWayQuiz!$D19:V19,20)+COUNTIF(TwoWayQuiz!$D19:V19,30)","v":0},{"$f":"COUNTIF(TwoWayQuiz!$D19:W19,20)+COUNTIF(TwoWayQuiz!$D19:W19,30)","v":0},{"$f":"COUNTIF(TwoWayQuiz!$D19:X19,20)+COUNTIF(TwoWayQuiz!$D19:X19,30)","v":0},{"$f":"COUNTIF(TwoWayQuiz!$D19:Y19,20)+COUNTIF(TwoWayQuiz!$D19:Y19,30)","v":0},{"$f":"COUNTIF(TwoWayQuiz!$D19:Z19,20)+COUNTIF(TwoWayQuiz!$D19:Z19,30)","v":0},{"$f":"COUNTIF(TwoWayQuiz!$D19:AA19,20)+COUNTIF(TwoWayQuiz!$D19:AA19,30)","v":0},{"$f":"COUNTIF(TwoWayQuiz!$D19:AB19,20)+COUNTIF(TwoWayQuiz!$D19:AB19,30)","v":0},{"$f":"COUNTIF(TwoWayQuiz!$D19:AC19,20)+COUNTIF(TwoWayQuiz!$D19:AC19,30)","v":0},{"$f":"COUNTIF(TwoWayQuiz!$D19:AD19,20)+COUNTIF(TwoWayQuiz!$D19:AD19,30)","v":0},{"$f":"COUNTIF(TwoWayQuiz!$D19:AE19,20)+COUNTIF(TwoWayQuiz!$D19:AE19,30)","v":0},{"$f":"COUNTIF(TwoWayQuiz!$D19:AF19,20)+COUNTIF(TwoWayQuiz!$D19:AF19,30)","v":0},{"$f":"COUNTIF(TwoWayQuiz!$D19:AG19,20)+COUNTIF(TwoWayQuiz!$D19:AG19,30)","v":0},{"$f":"COUNTIF(TwoWayQuiz!$D19:AH19,20)+COUNTIF(TwoWayQuiz!$D19:AH19,30)","v":0},{"$f":"COUNTIF(TwoWayQuiz!$D19:AI19,20)+COUNTIF(TwoWayQuiz!$D19:AI19,30)","v":0},{"$f":"COUNTIF(TwoWayQuiz!$D19:AJ19,20)+COUNTIF(TwoWayQuiz!$D19:AJ19,30)","v":0},{"$f":"COUNTIF(TwoWayQuiz!$D19:AK19,20)+COUNTIF(TwoWayQuiz!$D19:AK19,30)","v":0},{"$f":"COUNTIF(TwoWayQuiz!$D19:AL19,20)+COUNTIF(TwoWayQuiz!$D19:AL19,30)","v":0},{"$f":"COUNTIF(TwoWayQuiz!$D19:AM19,20)+COUNTIF(TwoWayQuiz!$D19:AM19,30)","v":0},{"$f":"COUNTIF(TwoWayQuiz!$D19:AN19,20)+COUNTIF(TwoWayQuiz!$D19:AN19,30)","v":0},{"$f":"COUNTIF(TwoWayQuiz!$D19:AO19,20)+COUNTIF(TwoWayQuiz!$D19:AO19,30)","v":0},{"$f":"COUNTIF(TwoWayQuiz!$D19:AP19,20)+COUNTIF(TwoWayQuiz!$D19:AP19,30)","v":0},{"$f":"COUNTIF(TwoWayQuiz!$D19:AQ19,20)+COUNTIF(TwoWayQuiz!$D19:AQ19,30)","v":0},{"$f":"COUNTIF(TwoWayQuiz!$D19:AR19,20)+COUNTIF(TwoWayQuiz!$D19:AR19,30)","v":0},{"$f":"COUNTIF(TwoWayQuiz!$D19:AS19,20)+COUNTIF(TwoWayQuiz!$D19:AS19,30)","v":0},{"$f":"COUNTIF(TwoWayQuiz!$D19:AT19,20)+COUNTIF(TwoWayQuiz!$D19:AT19,30)","v":0},{"$f":"COUNTIF(TwoWayQuiz!$D19:AU19,20)+COUNTIF(TwoWayQuiz!$D19:AU19,30)","v":0},{"$f":"COUNTIF(TwoWayQuiz!$D19:AV19,20)+COUNTIF(TwoWayQuiz!$D19:AV19,30)","v":0},{"$f":"COUNTIF(TwoWayQuiz!$D19:AW19,20)+COUNTIF(TwoWayQuiz!$D19:AW19,30)","v":0},{"$f":"COUNTIF(TwoWayQuiz!$D19:AX19,20)+COUNTIF(TwoWayQuiz!$D19:AX19,30)","v":0},{"$f":"COUNTIF(TwoWayQuiz!$D19:AY19,20)+COUNTIF(TwoWayQuiz!$D19:AY19,30)","v":0},{"$f":"COUNTIF(TwoWayQuiz!$D19:AZ19,20)+COUNTIF(TwoWayQuiz!$D19:AZ19,30)","v":0},{"$f":"COUNTIF(TwoWayQuiz!$D19:BA19,20)+COUNTIF(TwoWayQuiz!$D19:BA19,30)","v":0},{"$f":"COUNTIF(TwoWayQuiz!$D19:BB19,20)+COUNTIF(TwoWayQuiz!$D19:BB19,30)","v":0},{"$f":"COUNTIF(TwoWayQuiz!$D19:BC19,20)+COUNTIF(TwoWayQuiz!$D19:BC19,30)","v":0},{"$f":"COUNTIF(TwoWayQuiz!$D19:BD19,20)+COUNTIF(TwoWayQuiz!$D19:BD19,30)","v":0},{"$f":"COUNTIF(TwoWayQuiz!$D19:BE19,20)+COUNTIF(TwoWayQuiz!$D19:BE19,30)","v":0},{"$f":"COUNTIF(TwoWayQuiz!$D19:BF19,20)+COUNTIF(TwoWayQuiz!$D19:BF19,30)","v":0},{"$f":"COUNTIF(TwoWayQuiz!$D19:BG19,20)+COUNTIF(TwoWayQuiz!$D19:BG19,30)","v":0}]
[null,null,{"$f":"CONCATENATE(\"# 20's \",Sheet4!C20)","v":"# 20's Quizzer #4"},{"$f":"COUNTIF(TwoWayQuiz!$D20:D20,20)+COUNTIF(TwoWayQuiz!$D20:D20,30)","v":0},{"$f":"COUNTIF(TwoWayQuiz!$D20:E20,20)+COUNTIF(TwoWayQuiz!$D20:E20,30)","v":0},{"$f":"COUNTIF(TwoWayQuiz!$D20:F20,20)+COUNTIF(TwoWayQuiz!$D20:F20,30)","v":0},{"$f":"COUNTIF(TwoWayQuiz!$D20:G20,20)+COUNTIF(TwoWayQuiz!$D20:G20,30)","v":0},{"$f":"COUNTIF(TwoWayQuiz!$D20:H20,20)+COUNTIF(TwoWayQuiz!$D20:H20,30)","v":0},{"$f":"COUNTIF(TwoWayQuiz!$D20:I20,20)+COUNTIF(TwoWayQuiz!$D20:I20,30)","v":0},{"$f":"COUNTIF(TwoWayQuiz!$D20:J20,20)+COUNTIF(TwoWayQuiz!$D20:J20,30)","v":0},{"$f":"COUNTIF(TwoWayQuiz!$D20:K20,20)+COUNTIF(TwoWayQuiz!$D20:K20,30)","v":0},{"$f":"COUNTIF(TwoWayQuiz!$D20:L20,20)+COUNTIF(TwoWayQuiz!$D20:L20,30)","v":0},{"$f":"COUNTIF(TwoWayQuiz!$D20:M20,20)+COUNTIF(TwoWayQuiz!$D20:M20,30)","v":0},{"$f":"COUNTIF(TwoWayQuiz!$D20:N20,20)+COUNTIF(TwoWayQuiz!$D20:N20,30)","v":0},{"$f":"COUNTIF(TwoWayQuiz!$D20:O20,20)+COUNTIF(TwoWayQuiz!$D20:O20,30)","v":0},{"$f":"COUNTIF(TwoWayQuiz!$D20:P20,20)+COUNTIF(TwoWayQuiz!$D20:P20,30)","v":0},{"$f":"COUNTIF(TwoWayQuiz!$D20:Q20,20)+COUNTIF(TwoWayQuiz!$D20:Q20,30)","v":0},{"$f":"COUNTIF(TwoWayQuiz!$D20:R20,20)+COUNTIF(TwoWayQuiz!$D20:R20,30)","v":0},{"$f":"COUNTIF(TwoWayQuiz!$D20:S20,20)+COUNTIF(TwoWayQuiz!$D20:S20,30)","v":0},{"$f":"COUNTIF(TwoWayQuiz!$D20:T20,20)+COUNTIF(TwoWayQuiz!$D20:T20,30)","v":0},{"$f":"COUNTIF(TwoWayQuiz!$D20:U20,20)+COUNTIF(TwoWayQuiz!$D20:U20,30)","v":0},{"$f":"COUNTIF(TwoWayQuiz!$D20:V20,20)+COUNTIF(TwoWayQuiz!$D20:V20,30)","v":0},{"$f":"COUNTIF(TwoWayQuiz!$D20:W20,20)+COUNTIF(TwoWayQuiz!$D20:W20,30)","v":0},{"$f":"COUNTIF(TwoWayQuiz!$D20:X20,20)+COUNTIF(TwoWayQuiz!$D20:X20,30)","v":0},{"$f":"COUNTIF(TwoWayQuiz!$D20:Y20,20)+COUNTIF(TwoWayQuiz!$D20:Y20,30)","v":0},{"$f":"COUNTIF(TwoWayQuiz!$D20:Z20,20)+COUNTIF(TwoWayQuiz!$D20:Z20,30)","v":0},{"$f":"COUNTIF(TwoWayQuiz!$D20:AA20,20)+COUNTIF(TwoWayQuiz!$D20:AA20,30)","v":0},{"$f":"COUNTIF(TwoWayQuiz!$D20:AB20,20)+COUNTIF(TwoWayQuiz!$D20:AB20,30)","v":0},{"$f":"COUNTIF(TwoWayQuiz!$D20:AC20,20)+COUNTIF(TwoWayQuiz!$D20:AC20,30)","v":0},{"$f":"COUNTIF(TwoWayQuiz!$D20:AD20,20)+COUNTIF(TwoWayQuiz!$D20:AD20,30)","v":0},{"$f":"COUNTIF(TwoWayQuiz!$D20:AE20,20)+COUNTIF(TwoWayQuiz!$D20:AE20,30)","v":0},{"$f":"COUNTIF(TwoWayQuiz!$D20:AF20,20)+COUNTIF(TwoWayQuiz!$D20:AF20,30)","v":0},{"$f":"COUNTIF(TwoWayQuiz!$D20:AG20,20)+COUNTIF(TwoWayQuiz!$D20:AG20,30)","v":0},{"$f":"COUNTIF(TwoWayQuiz!$D20:AH20,20)+COUNTIF(TwoWayQuiz!$D20:AH20,30)","v":0},{"$f":"COUNTIF(TwoWayQuiz!$D20:AI20,20)+COUNTIF(TwoWayQuiz!$D20:AI20,30)","v":0},{"$f":"COUNTIF(TwoWayQuiz!$D20:AJ20,20)+COUNTIF(TwoWayQuiz!$D20:AJ20,30)","v":0},{"$f":"COUNTIF(TwoWayQuiz!$D20:AK20,20)+COUNTIF(TwoWayQuiz!$D20:AK20,30)","v":0},{"$f":"COUNTIF(TwoWayQuiz!$D20:AL20,20)+COUNTIF(TwoWayQuiz!$D20:AL20,30)","v":0},{"$f":"COUNTIF(TwoWayQuiz!$D20:AM20,20)+COUNTIF(TwoWayQuiz!$D20:AM20,30)","v":0},{"$f":"COUNTIF(TwoWayQuiz!$D20:AN20,20)+COUNTIF(TwoWayQuiz!$D20:AN20,30)","v":0},{"$f":"COUNTIF(TwoWayQuiz!$D20:AO20,20)+COUNTIF(TwoWayQuiz!$D20:AO20,30)","v":0},{"$f":"COUNTIF(TwoWayQuiz!$D20:AP20,20)+COUNTIF(TwoWayQuiz!$D20:AP20,30)","v":0},{"$f":"COUNTIF(TwoWayQuiz!$D20:AQ20,20)+COUNTIF(TwoWayQuiz!$D20:AQ20,30)","v":0},{"$f":"COUNTIF(TwoWayQuiz!$D20:AR20,20)+COUNTIF(TwoWayQuiz!$D20:AR20,30)","v":0},{"$f":"COUNTIF(TwoWayQuiz!$D20:AS20,20)+COUNTIF(TwoWayQuiz!$D20:AS20,30)","v":0},{"$f":"COUNTIF(TwoWayQuiz!$D20:AT20,20)+COUNTIF(TwoWayQuiz!$D20:AT20,30)","v":0},{"$f":"COUNTIF(TwoWayQuiz!$D20:AU20,20)+COUNTIF(TwoWayQuiz!$D20:AU20,30)","v":0},{"$f":"COUNTIF(TwoWayQuiz!$D20:AV20,20)+COUNTIF(TwoWayQuiz!$D20:AV20,30)","v":0},{"$f":"COUNTIF(TwoWayQuiz!$D20:AW20,20)+COUNTIF(TwoWayQuiz!$D20:AW20,30)","v":0},{"$f":"COUNTIF(TwoWayQuiz!$D20:AX20,20)+COUNTIF(TwoWayQuiz!$D20:AX20,30)","v":0},{"$f":"COUNTIF(TwoWayQuiz!$D20:AY20,20)+COUNTIF(TwoWayQuiz!$D20:AY20,30)","v":0},{"$f":"COUNTIF(TwoWayQuiz!$D20:AZ20,20)+COUNTIF(TwoWayQuiz!$D20:AZ20,30)","v":0},{"$f":"COUNTIF(TwoWayQuiz!$D20:BA20,20)+COUNTIF(TwoWayQuiz!$D20:BA20,30)","v":0},{"$f":"COUNTIF(TwoWayQuiz!$D20:BB20,20)+COUNTIF(TwoWayQuiz!$D20:BB20,30)","v":0},{"$f":"COUNTIF(TwoWayQuiz!$D20:BC20,20)+COUNTIF(TwoWayQuiz!$D20:BC20,30)","v":0},{"$f":"COUNTIF(TwoWayQuiz!$D20:BD20,20)+COUNTIF(TwoWayQuiz!$D20:BD20,30)","v":0},{"$f":"COUNTIF(TwoWayQuiz!$D20:BE20,20)+COUNTIF(TwoWayQuiz!$D20:BE20,30)","v":0},{"$f":"COUNTIF(TwoWayQuiz!$D20:BF20,20)+COUNTIF(TwoWayQuiz!$D20:BF20,30)","v":0},{"$f":"COUNTIF(TwoWayQuiz!$D20:BG20,20)+COUNTIF(TwoWayQuiz!$D20:BG20,30)","v":0}]
[null,null,{"$f":"CONCATENATE(\"# 20's \",Sheet4!C21)","v":"# 20's  "},{"$f":"COUNTIF(TwoWayQuiz!$D21:D21,20)+COUNTIF(TwoWayQuiz!$D21:D21,30)","v":0},{"$f":"COUNTIF(TwoWayQuiz!$D21:E21,20)+COUNTIF(TwoWayQuiz!$D21:E21,30)","v":0},{"$f":"COUNTIF(TwoWayQuiz!$D21:F21,20)+COUNTIF(TwoWayQuiz!$D21:F21,30)","v":0},{"$f":"COUNTIF(TwoWayQuiz!$D21:G21,20)+COUNTIF(TwoWayQuiz!$D21:G21,30)","v":0},{"$f":"COUNTIF(TwoWayQuiz!$D21:H21,20)+COUNTIF(TwoWayQuiz!$D21:H21,30)","v":0},{"$f":"COUNTIF(TwoWayQuiz!$D21:I21,20)+COUNTIF(TwoWayQuiz!$D21:I21,30)","v":0},{"$f":"COUNTIF(TwoWayQuiz!$D21:J21,20)+COUNTIF(TwoWayQuiz!$D21:J21,30)","v":0},{"$f":"COUNTIF(TwoWayQuiz!$D21:K21,20)+COUNTIF(TwoWayQuiz!$D21:K21,30)","v":0},{"$f":"COUNTIF(TwoWayQuiz!$D21:L21,20)+COUNTIF(TwoWayQuiz!$D21:L21,30)","v":0},{"$f":"COUNTIF(TwoWayQuiz!$D21:M21,20)+COUNTIF(TwoWayQuiz!$D21:M21,30)","v":0},{"$f":"COUNTIF(TwoWayQuiz!$D21:N21,20)+COUNTIF(TwoWayQuiz!$D21:N21,30)","v":0},{"$f":"COUNTIF(TwoWayQuiz!$D21:O21,20)+COUNTIF(TwoWayQuiz!$D21:O21,30)","v":0},{"$f":"COUNTIF(TwoWayQuiz!$D21:P21,20)+COUNTIF(TwoWayQuiz!$D21:P21,30)","v":0},{"$f":"COUNTIF(TwoWayQuiz!$D21:Q21,20)+COUNTIF(TwoWayQuiz!$D21:Q21,30)","v":0},{"$f":"COUNTIF(TwoWayQuiz!$D21:R21,20)+COUNTIF(TwoWayQuiz!$D21:R21,30)","v":0},{"$f":"COUNTIF(TwoWayQuiz!$D21:S21,20)+COUNTIF(TwoWayQuiz!$D21:S21,30)","v":0},{"$f":"COUNTIF(TwoWayQuiz!$D21:T21,20)+COUNTIF(TwoWayQuiz!$D21:T21,30)","v":0},{"$f":"COUNTIF(TwoWayQuiz!$D21:U21,20)+COUNTIF(TwoWayQuiz!$D21:U21,30)","v":0},{"$f":"COUNTIF(TwoWayQuiz!$D21:V21,20)+COUNTIF(TwoWayQuiz!$D21:V21,30)","v":0},{"$f":"COUNTIF(TwoWayQuiz!$D21:W21,20)+COUNTIF(TwoWayQuiz!$D21:W21,30)","v":0},{"$f":"COUNTIF(TwoWayQuiz!$D21:X21,20)+COUNTIF(TwoWayQuiz!$D21:X21,30)","v":0},{"$f":"COUNTIF(TwoWayQuiz!$D21:Y21,20)+COUNTIF(TwoWayQuiz!$D21:Y21,30)","v":0},{"$f":"COUNTIF(TwoWayQuiz!$D21:Z21,20)+COUNTIF(TwoWayQuiz!$D21:Z21,30)","v":0},{"$f":"COUNTIF(TwoWayQuiz!$D21:AA21,20)+COUNTIF(TwoWayQuiz!$D21:AA21,30)","v":0},{"$f":"COUNTIF(TwoWayQuiz!$D21:AB21,20)+COUNTIF(TwoWayQuiz!$D21:AB21,30)","v":0},{"$f":"COUNTIF(TwoWayQuiz!$D21:AC21,20)+COUNTIF(TwoWayQuiz!$D21:AC21,30)","v":0},{"$f":"COUNTIF(TwoWayQuiz!$D21:AD21,20)+COUNTIF(TwoWayQuiz!$D21:AD21,30)","v":0},{"$f":"COUNTIF(TwoWayQuiz!$D21:AE21,20)+COUNTIF(TwoWayQuiz!$D21:AE21,30)","v":0},{"$f":"COUNTIF(TwoWayQuiz!$D21:AF21,20)+COUNTIF(TwoWayQuiz!$D21:AF21,30)","v":0},{"$f":"COUNTIF(TwoWayQuiz!$D21:AG21,20)+COUNTIF(TwoWayQuiz!$D21:AG21,30)","v":0},{"$f":"COUNTIF(TwoWayQuiz!$D21:AH21,20)+COUNTIF(TwoWayQuiz!$D21:AH21,30)","v":0},{"$f":"COUNTIF(TwoWayQuiz!$D21:AI21,20)+COUNTIF(TwoWayQuiz!$D21:AI21,30)","v":0},{"$f":"COUNTIF(TwoWayQuiz!$D21:AJ21,20)+COUNTIF(TwoWayQuiz!$D21:AJ21,30)","v":0},{"$f":"COUNTIF(TwoWayQuiz!$D21:AK21,20)+COUNTIF(TwoWayQuiz!$D21:AK21,30)","v":0},{"$f":"COUNTIF(TwoWayQuiz!$D21:AL21,20)+COUNTIF(TwoWayQuiz!$D21:AL21,30)","v":0},{"$f":"COUNTIF(TwoWayQuiz!$D21:AM21,20)+COUNTIF(TwoWayQuiz!$D21:AM21,30)","v":0},{"$f":"COUNTIF(TwoWayQuiz!$D21:AN21,20)+COUNTIF(TwoWayQuiz!$D21:AN21,30)","v":0},{"$f":"COUNTIF(TwoWayQuiz!$D21:AO21,20)+COUNTIF(TwoWayQuiz!$D21:AO21,30)","v":0},{"$f":"COUNTIF(TwoWayQuiz!$D21:AP21,20)+COUNTIF(TwoWayQuiz!$D21:AP21,30)","v":0},{"$f":"COUNTIF(TwoWayQuiz!$D21:AQ21,20)+COUNTIF(TwoWayQuiz!$D21:AQ21,30)","v":0},{"$f":"COUNTIF(TwoWayQuiz!$D21:AR21,20)+COUNTIF(TwoWayQuiz!$D21:AR21,30)","v":0},{"$f":"COUNTIF(TwoWayQuiz!$D21:AS21,20)+COUNTIF(TwoWayQuiz!$D21:AS21,30)","v":0},{"$f":"COUNTIF(TwoWayQuiz!$D21:AT21,20)+COUNTIF(TwoWayQuiz!$D21:AT21,30)","v":0},{"$f":"COUNTIF(TwoWayQuiz!$D21:AU21,20)+COUNTIF(TwoWayQuiz!$D21:AU21,30)","v":0},{"$f":"COUNTIF(TwoWayQuiz!$D21:AV21,20)+COUNTIF(TwoWayQuiz!$D21:AV21,30)","v":0},{"$f":"COUNTIF(TwoWayQuiz!$D21:AW21,20)+COUNTIF(TwoWayQuiz!$D21:AW21,30)","v":0},{"$f":"COUNTIF(TwoWayQuiz!$D21:AX21,20)+COUNTIF(TwoWayQuiz!$D21:AX21,30)","v":0},{"$f":"COUNTIF(TwoWayQuiz!$D21:AY21,20)+COUNTIF(TwoWayQuiz!$D21:AY21,30)","v":0},{"$f":"COUNTIF(TwoWayQuiz!$D21:AZ21,20)+COUNTIF(TwoWayQuiz!$D21:AZ21,30)","v":0},{"$f":"COUNTIF(TwoWayQuiz!$D21:BA21,20)+COUNTIF(TwoWayQuiz!$D21:BA21,30)","v":0},{"$f":"COUNTIF(TwoWayQuiz!$D21:BB21,20)+COUNTIF(TwoWayQuiz!$D21:BB21,30)","v":0},{"$f":"COUNTIF(TwoWayQuiz!$D21:BC21,20)+COUNTIF(TwoWayQuiz!$D21:BC21,30)","v":0},{"$f":"COUNTIF(TwoWayQuiz!$D21:BD21,20)+COUNTIF(TwoWayQuiz!$D21:BD21,30)","v":0},{"$f":"COUNTIF(TwoWayQuiz!$D21:BE21,20)+COUNTIF(TwoWayQuiz!$D21:BE21,30)","v":0},{"$f":"COUNTIF(TwoWayQuiz!$D21:BF21,20)+COUNTIF(TwoWayQuiz!$D21:BF21,30)","v":0},{"$f":"COUNTIF(TwoWayQuiz!$D21:BG21,20)+COUNTIF(TwoWayQuiz!$D21:BG21,30)","v":0}]
[]
[]
[]
[]
[]
[null,null,{"$f":"TwoWayQuiz!C39","v":"Team Name"}]
[null,null,{"$f":"TwoWayQuiz!C40","v":"Quizzer #1"},20,{"$f":"IF(D46>2,\".\",IF(D52=3,IF(D46=0,IF(TwoWayQuiz!E49=20,30,TwoWayQuiz!E49),TwoWayQuiz!E49),IF(E52>3,\".\",TwoWayQuiz!E49)))","v":20},{"$f":"IF(E46>2,\".\",IF(E52=3,IF(E46=0,IF(TwoWayQuiz!F49=20,30,TwoWayQuiz!F49),TwoWayQuiz!F49),IF(F52>3,\".\",TwoWayQuiz!F49)))","v":20},{"$f":"IF(F46>2,\".\",IF(F52=3,IF(F46=0,IF(TwoWayQuiz!G49=20,30,TwoWayQuiz!G49),TwoWayQuiz!G49),IF(G52>3,\".\",TwoWayQuiz!G49)))","v":20},{"$f":"IF(G46>2,\".\",IF(G52=3,IF(G46=0,IF(TwoWayQuiz!H49=20,30,TwoWayQuiz!H49),TwoWayQuiz!H49),IF(H52>3,\".\",TwoWayQuiz!H49)))","v":20},{"$f":"IF(H46>2,\".\",IF(H52=3,IF(H46=0,IF(TwoWayQuiz!I49=20,30,TwoWayQuiz!I49),TwoWayQuiz!I49),IF(I52>3,\".\",TwoWayQuiz!I49)))","v":20},{"$f":"IF(I46>2,\".\",IF(I52=3,IF(I46=0,IF(TwoWayQuiz!J49=20,30,TwoWayQuiz!J49),TwoWayQuiz!J49),IF(J52>3,\".\",TwoWayQuiz!J49)))","v":20},{"$f":"IF(J46>2,\".\",IF(J52=3,IF(J46=0,IF(TwoWayQuiz!K49=20,30,TwoWayQuiz!K49),TwoWayQuiz!K49),IF(K52>3,\".\",TwoWayQuiz!K49)))","v":20},{"$f":"IF(K46>2,\".\",IF(K52=3,IF(K46=0,IF(TwoWayQuiz!L49=20,30,TwoWayQuiz!L49),TwoWayQuiz!L49),IF(L52>3,\".\",TwoWayQuiz!L49)))","v":20},{"$f":"IF(L46>2,\".\",IF(L52=3,IF(L46=0,IF(TwoWayQuiz!M49=20,30,TwoWayQuiz!M49),TwoWayQuiz!M49),IF(M52>3,\".\",TwoWayQuiz!M49)))","v":20},{"$f":"IF(M46>2,\".\",IF(M52=3,IF(M46=0,IF(TwoWayQuiz!N49=20,30,TwoWayQuiz!N49),TwoWayQuiz!N49),IF(N52>3,\".\",TwoWayQuiz!N49)))","v":20},{"$f":"IF(N46>2,\".\",IF(N52=3,IF(N46=0,IF(TwoWayQuiz!O49=20,30,TwoWayQuiz!O49),TwoWayQuiz!O49),IF(O52>3,\".\",TwoWayQuiz!O49)))","v":20},{"$f":"IF(O46>2,\".\",IF(O52=3,IF(O46=0,IF(TwoWayQuiz!P49=20,30,TwoWayQuiz!P49),TwoWayQuiz!P49),IF(P52>3,\".\",TwoWayQuiz!P49)))","v":20},{"$f":"IF(P46>2,\".\",IF(P52=3,IF(P46=0,IF(TwoWayQuiz!Q49=20,30,TwoWayQuiz!Q49),TwoWayQuiz!Q49),IF(Q52>3,\".\",TwoWayQuiz!Q49)))","v":20},{"$f":"IF(Q46>2,\".\",IF(Q52=3,IF(Q46=0,IF(TwoWayQuiz!R49=20,30,TwoWayQuiz!R49),TwoWayQuiz!R49),IF(R52>3,\".\",TwoWayQuiz!R49)))","v":20},{"$f":"IF(R46>2,\".\",IF(R52=3,IF(R46=0,IF(TwoWayQuiz!S49=20,30,TwoWayQuiz!S49),TwoWayQuiz!S49),IF(S52>3,\".\",TwoWayQuiz!S49)))","v":20},{"$f":"IF(S46>2,\".\",IF(S52=3,IF(S46=0,IF(TwoWayQuiz!T49=20,30,TwoWayQuiz!T49),TwoWayQuiz!T49),IF(T52>3,\".\",TwoWayQuiz!T49)))","v":20},{"$f":"IF(T46>2,\".\",IF(T52=3,IF(T46=0,IF(TwoWayQuiz!U49=20,30,TwoWayQuiz!U49),TwoWayQuiz!U49),IF(U52>3,\".\",TwoWayQuiz!U49)))","v":20},{"$f":"IF(U46>2,\".\",IF(U52=3,IF(U46=0,IF(TwoWayQuiz!V49=20,30,TwoWayQuiz!V49),TwoWayQuiz!V49),IF(V52>3,\".\",TwoWayQuiz!V49)))","v":"."},{"$f":"IF(V46>2,\".\",IF(V52=3,IF(V46=0,IF(TwoWayQuiz!W49=20,30,TwoWayQuiz!W49),TwoWayQuiz!W49),IF(W52>3,\".\",TwoWayQuiz!W49)))","v":20},{"$f":"IF(W46>2,\".\",IF(W52=3,IF(W46=0,IF(TwoWayQuiz!X49=20,30,TwoWayQuiz!X49),TwoWayQuiz!X49),IF(X52>3,\".\",TwoWayQuiz!X49)))","v":10},{"$f":"IF(X46>2,\".\",IF(X52=3,IF(X46=0,IF(TwoWayQuiz!Y49=20,30,TwoWayQuiz!Y49),TwoWayQuiz!Y49),IF(Y52>3,\".\",TwoWayQuiz!Y49)))","v":"."},{"$f":"IF(Y46>2,\".\",IF(Y52=3,IF(Y46=0,IF(TwoWayQuiz!Z49=20,30,TwoWayQuiz!Z49),TwoWayQuiz!Z49),IF(Z52>3,\".\",TwoWayQuiz!Z49)))","v":20},{"$f":"IF(Z46>2,\".\",IF(Z52=3,IF(Z46=0,IF(TwoWayQuiz!AA49=20,30,TwoWayQuiz!AA49),TwoWayQuiz!AA49),IF(AA52>3,\".\",TwoWayQuiz!AA49)))","v":10},{"$f":"IF(AA46>2,\".\",IF(AA52=3,IF(AA46=0,IF(TwoWayQuiz!AB49=20,30,TwoWayQuiz!AB49),TwoWayQuiz!AB49),IF(AB52>3,\".\",TwoWayQuiz!AB49)))","v":"."},{"$f":"IF(AB46>2,\".\",IF(AB52=3,IF(AB46=0,IF(TwoWayQuiz!AC49=20,30,TwoWayQuiz!AC49),TwoWayQuiz!AC49),IF(AC52>3,\".\",TwoWayQuiz!AC49)))","v":20},{"$f":"IF(AC46>2,\".\",IF(AC52=3,IF(AC46=0,IF(TwoWayQuiz!AD49=20,30,TwoWayQuiz!AD49),TwoWayQuiz!AD49),IF(AD52>3,\".\",TwoWayQuiz!AD49)))","v":10},{"$f":"IF(AD46>2,\".\",IF(AD52=3,IF(AD46=0,IF(TwoWayQuiz!AE49=20,30,TwoWayQuiz!AE49),TwoWayQuiz!AE49),IF(AE52>3,\".\",TwoWayQuiz!AE49)))","v":10},{"$f":"IF(AE46>2,\".\",IF(AE52=3,IF(AE46=0,IF(TwoWayQuiz!AF49=20,30,TwoWayQuiz!AF49),TwoWayQuiz!AF49),IF(AF52>3,\".\",TwoWayQuiz!AF49)))","v":10},{"$f":"IF(AF46>2,\".\",IF(AF52=3,IF(AF46=0,IF(TwoWayQuiz!AG49=20,30,TwoWayQuiz!AG49),TwoWayQuiz!AG49),IF(AG52>3,\".\",TwoWayQuiz!AG49)))","v":10},{"$f":"IF(AG46>2,\".\",IF(AG52=3,IF(AG46=0,IF(TwoWayQuiz!AH49=20,30,TwoWayQuiz!AH49),TwoWayQuiz!AH49),IF(AH52>3,\".\",TwoWayQuiz!AH49)))","v":10},{"$f":"IF(AH46>2,\".\",IF(AH52=3,IF(AH46=0,IF(TwoWayQuiz!AI49=20,30,TwoWayQuiz!AI49),TwoWayQuiz!AI49),IF(AI52>3,\".\",TwoWayQuiz!AI49)))","v":10},{"$f":"IF(AI46>2,\".\",IF(AI52=3,IF(AI46=0,IF(TwoWayQuiz!AJ49=20,30,TwoWayQuiz!AJ49),TwoWayQuiz!AJ49),IF(AJ52>3,\".\",TwoWayQuiz!AJ49)))","v":10},{"$f":"IF(AJ46>2,\".\",IF(AJ52=3,IF(AJ46=0,IF(TwoWayQuiz!AK49=20,30,TwoWayQuiz!AK49),TwoWayQuiz!AK49),IF(AK52>3,\".\",TwoWayQuiz!AK49)))","v":10},{"$f":"IF(AK46>2,\".\",IF(AK52=3,IF(AK46=0,IF(TwoWayQuiz!AL49=20,30,TwoWayQuiz!AL49),TwoWayQuiz!AL49),IF(AL52>3,\".\",TwoWayQuiz!AL49)))","v":10},{"$f":"IF(AL46>2,\".\",IF(AL52=3,IF(AL46=0,IF(TwoWayQuiz!AM49=20,30,TwoWayQuiz!AM49),TwoWayQuiz!AM49),IF(AM52>3,\".\",TwoWayQuiz!AM49)))","v":10},{"$f":"IF(AM46>2,\".\",IF(AM52=3,IF(AM46=0,IF(TwoWayQuiz!AN49=20,30,TwoWayQuiz!AN49),TwoWayQuiz!AN49),IF(AN52>3,\".\",TwoWayQuiz!AN49)))","v":10},{"$f":"IF(AN46>2,\".\",IF(AN52=3,IF(AN46=0,IF(TwoWayQuiz!AO49=20,30,TwoWayQuiz!AO49),TwoWayQuiz!AO49),IF(AO52>3,\".\",TwoWayQuiz!AO49)))","v":10},{"$f":"IF(AO46>2,\".\",IF(AO52=3,IF(AO46=0,IF(TwoWayQuiz!AP49=20,30,TwoWayQuiz!AP49),TwoWayQuiz!AP49),IF(AP52>3,\".\",TwoWayQuiz!AP49)))","v":10},{"$f":"IF(AP46>2,\".\",IF(AP52=3,IF(AP46=0,IF(TwoWayQuiz!AQ49=20,30,TwoWayQuiz!AQ49),TwoWayQuiz!AQ49),IF(AQ52>3,\".\",TwoWayQuiz!AQ49)))","v":10},{"$f":"IF(AQ46>2,\".\",IF(AQ52=3,IF(AQ46=0,IF(TwoWayQuiz!AR49=20,30,TwoWayQuiz!AR49),TwoWayQuiz!AR49),IF(AR52>3,\".\",TwoWayQuiz!AR49)))","v":10},{"$f":"IF(AR46>2,\".\",IF(AR52=3,IF(AR46=0,IF(TwoWayQuiz!AS49=20,30,TwoWayQuiz!AS49),TwoWayQuiz!AS49),IF(AS52>3,\".\",TwoWayQuiz!AS49)))","v":10},{"$f":"IF(AS46>2,\".\",IF(AS52=3,IF(AS46=0,IF(TwoWayQuiz!AT49=20,30,TwoWayQuiz!AT49),TwoWayQuiz!AT49),IF(AT52>3,\".\",TwoWayQuiz!AT49)))","v":10},{"$f":"IF(AT46>2,\".\",IF(AT52=3,IF(AT46=0,IF(TwoWayQuiz!AU49=20,30,TwoWayQuiz!AU49),TwoWayQuiz!AU49),IF(AU52>3,\".\",TwoWayQuiz!AU49)))","v":10},{"$f":"IF(AU46>2,\".\",IF(AU52=3,IF(AU46=0,IF(TwoWayQuiz!AV49=20,30,TwoWayQuiz!AV49),TwoWayQuiz!AV49),IF(AV52>3,\".\",TwoWayQuiz!AV49)))","v":10},{"$f":"IF(AV46>2,\".\",IF(AV52=3,IF(AV46=0,IF(TwoWayQuiz!AW49=20,30,TwoWayQuiz!AW49),TwoWayQuiz!AW49),IF(AW52>3,\".\",TwoWayQuiz!AW49)))","v":10},{"$f":"IF(AW46>2,\".\",IF(AW52=3,IF(AW46=0,IF(TwoWayQuiz!AX49=20,30,TwoWayQuiz!AX49),TwoWayQuiz!AX49),IF(AX52>3,\".\",TwoWayQuiz!AX49)))","v":10},{"$f":"IF(AX46>2,\".\",IF(AX52=3,IF(AX46=0,IF(TwoWayQuiz!AY49=20,30,TwoWayQuiz!AY49),TwoWayQuiz!AY49),IF(AY52>3,\".\",TwoWayQuiz!AY49)))","v":10},{"$f":"IF(AY46>2,\".\",IF(AY52=3,IF(AY46=0,IF(TwoWayQuiz!AZ49=20,30,TwoWayQuiz!AZ49),TwoWayQuiz!AZ49),IF(AZ52>3,\".\",TwoWayQuiz!AZ49)))","v":10},{"$f":"IF(AZ46>2,\".\",IF(AZ52=3,IF(AZ46=0,IF(TwoWayQuiz!BA49=20,30,TwoWayQuiz!BA49),TwoWayQuiz!BA49),IF(BA52>3,\".\",TwoWayQuiz!BA49)))","v":10},{"$f":"IF(BA46>2,\".\",IF(BA52=3,IF(BA46=0,IF(TwoWayQuiz!BB49=20,30,TwoWayQuiz!BB49),TwoWayQuiz!BB49),IF(BB52>3,\".\",TwoWayQuiz!BB49)))","v":10},{"$f":"IF(BB46>2,\".\",IF(BB52=3,IF(BB46=0,IF(TwoWayQuiz!BC49=20,30,TwoWayQuiz!BC49),TwoWayQuiz!BC49),IF(BC52>3,\".\",TwoWayQuiz!BC49)))","v":10},{"$f":"IF(BC46>2,\".\",IF(BC52=3,IF(BC46=0,IF(TwoWayQuiz!BD49=20,30,TwoWayQuiz!BD49),TwoWayQuiz!BD49),IF(BD52>3,\".\",TwoWayQuiz!BD49)))","v":10},{"$f":"IF(BD46>2,\".\",IF(BD52=3,IF(BD46=0,IF(TwoWayQuiz!BE49=20,30,TwoWayQuiz!BE49),TwoWayQuiz!BE49),IF(BE52>3,\".\",TwoWayQuiz!BE49)))","v":10},{"$f":"IF(BE46>2,\".\",IF(BE52=3,IF(BE46=0,IF(TwoWayQuiz!BF49=20,30,TwoWayQuiz!BF49),TwoWayQuiz!BF49),IF(BF52>3,\".\",TwoWayQuiz!BF49)))","v":10},{"$f":"IF(BF46>2,\".\",IF(BF52=3,IF(BF46=0,IF(TwoWayQuiz!BG49=20,30,TwoWayQuiz!BG49),TwoWayQuiz!BG49),IF(BG52>3,\".\",TwoWayQuiz!BG49)))","v":10}]
[null,null,{"$f":"TwoWayQuiz!C41","v":"Quizzer #2"},20,{"$f":"IF(D47>2,\".\",IF(D53=3,IF(D47=0,IF(TwoWayQuiz!E49=20,30,TwoWayQuiz!E49),TwoWayQuiz!E49),IF(E53>3,\".\",TwoWayQuiz!E49)))","v":20},{"$f":"IF(E47>2,\".\",IF(E53=3,IF(E47=0,IF(TwoWayQuiz!F49=20,30,TwoWayQuiz!F49),TwoWayQuiz!F49),IF(F53>3,\".\",TwoWayQuiz!F49)))","v":20},{"$f":"IF(F47>2,\".\",IF(F53=3,IF(F47=0,IF(TwoWayQuiz!G49=20,30,TwoWayQuiz!G49),TwoWayQuiz!G49),IF(G53>3,\".\",TwoWayQuiz!G49)))","v":20},{"$f":"IF(G47>2,\".\",IF(G53=3,IF(G47=0,IF(TwoWayQuiz!H49=20,30,TwoWayQuiz!H49),TwoWayQuiz!H49),IF(H53>3,\".\",TwoWayQuiz!H49)))","v":20},{"$f":"IF(H47>2,\".\",IF(H53=3,IF(H47=0,IF(TwoWayQuiz!I49=20,30,TwoWayQuiz!I49),TwoWayQuiz!I49),IF(I53>3,\".\",TwoWayQuiz!I49)))","v":20},{"$f":"IF(I47>2,\".\",IF(I53=3,IF(I47=0,IF(TwoWayQuiz!J49=20,30,TwoWayQuiz!J49),TwoWayQuiz!J49),IF(J53>3,\".\",TwoWayQuiz!J49)))","v":20},{"$f":"IF(J47>2,\".\",IF(J53=3,IF(J47=0,IF(TwoWayQuiz!K49=20,30,TwoWayQuiz!K49),TwoWayQuiz!K49),IF(K53>3,\".\",TwoWayQuiz!K49)))","v":20},{"$f":"IF(K47>2,\".\",IF(K53=3,IF(K47=0,IF(TwoWayQuiz!L49=20,30,TwoWayQuiz!L49),TwoWayQuiz!L49),IF(L53>3,\".\",TwoWayQuiz!L49)))","v":20},{"$f":"IF(L47>2,\".\",IF(L53=3,IF(L47=0,IF(TwoWayQuiz!M49=20,30,TwoWayQuiz!M49),TwoWayQuiz!M49),IF(M53>3,\".\",TwoWayQuiz!M49)))","v":20},{"$f":"IF(M47>2,\".\",IF(M53=3,IF(M47=0,IF(TwoWayQuiz!N49=20,30,TwoWayQuiz!N49),TwoWayQuiz!N49),IF(N53>3,\".\",TwoWayQuiz!N49)))","v":20},{"$f":"IF(N47>2,\".\",IF(N53=3,IF(N47=0,IF(TwoWayQuiz!O49=20,30,TwoWayQuiz!O49),TwoWayQuiz!O49),IF(O53>3,\".\",TwoWayQuiz!O49)))","v":20},{"$f":"IF(O47>2,\".\",IF(O53=3,IF(O47=0,IF(TwoWayQuiz!P49=20,30,TwoWayQuiz!P49),TwoWayQuiz!P49),IF(P53>3,\".\",TwoWayQuiz!P49)))","v":20},{"$f":"IF(P47>2,\".\",IF(P53=3,IF(P47=0,IF(TwoWayQuiz!Q49=20,30,TwoWayQuiz!Q49),TwoWayQuiz!Q49),IF(Q53>3,\".\",TwoWayQuiz!Q49)))","v":20},{"$f":"IF(Q47>2,\".\",IF(Q53=3,IF(Q47=0,IF(TwoWayQuiz!R49=20,30,TwoWayQuiz!R49),TwoWayQuiz!R49),IF(R53>3,\".\",TwoWayQuiz!R49)))","v":20},{"$f":"IF(R47>2,\".\",IF(R53=3,IF(R47=0,IF(TwoWayQuiz!S49=20,30,TwoWayQuiz!S49),TwoWayQuiz!S49),IF(S53>3,\".\",TwoWayQuiz!S49)))","v":20},{"$f":"IF(S47>2,\".\",IF(S53=3,IF(S47=0,IF(TwoWayQuiz!T49=20,30,TwoWayQuiz!T49),TwoWayQuiz!T49),IF(T53>3,\".\",TwoWayQuiz!T49)))","v":20},{"$f":"IF(T47>2,\".\",IF(T53=3,IF(T47=0,IF(TwoWayQuiz!U49=20,30,TwoWayQuiz!U49),TwoWayQuiz!U49),IF(U53>3,\".\",TwoWayQuiz!U49)))","v":20},{"$f":"IF(U47>2,\".\",IF(U53=3,IF(U47=0,IF(TwoWayQuiz!V49=20,30,TwoWayQuiz!V49),TwoWayQuiz!V49),IF(V53>3,\".\",TwoWayQuiz!V49)))","v":"."},{"$f":"IF(V47>2,\".\",IF(V53=3,IF(V47=0,IF(TwoWayQuiz!W49=20,30,TwoWayQuiz!W49),TwoWayQuiz!W49),IF(W53>3,\".\",TwoWayQuiz!W49)))","v":20},{"$f":"IF(W47>2,\".\",IF(W53=3,IF(W47=0,IF(TwoWayQuiz!X49=20,30,TwoWayQuiz!X49),TwoWayQuiz!X49),IF(X53>3,\".\",TwoWayQuiz!X49)))","v":10},{"$f":"IF(X47>2,\".\",IF(X53=3,IF(X47=0,IF(TwoWayQuiz!Y49=20,30,TwoWayQuiz!Y49),TwoWayQuiz!Y49),IF(Y53>3,\".\",TwoWayQuiz!Y49)))","v":"."},{"$f":"IF(Y47>2,\".\",IF(Y53=3,IF(Y47=0,IF(TwoWayQuiz!Z49=20,30,TwoWayQuiz!Z49),TwoWayQuiz!Z49),IF(Z53>3,\".\",TwoWayQuiz!Z49)))","v":20},{"$f":"IF(Z47>2,\".\",IF(Z53=3,IF(Z47=0,IF(TwoWayQuiz!AA49=20,30,TwoWayQuiz!AA49),TwoWayQuiz!AA49),IF(AA53>3,\".\",TwoWayQuiz!AA49)))","v":10},{"$f":"IF(AA47>2,\".\",IF(AA53=3,IF(AA47=0,IF(TwoWayQuiz!AB49=20,30,TwoWayQuiz!AB49),TwoWayQuiz!AB49),IF(AB53>3,\".\",TwoWayQuiz!AB49)))","v":"."},{"$f":"IF(AB47>2,\".\",IF(AB53=3,IF(AB47=0,IF(TwoWayQuiz!AC49=20,30,TwoWayQuiz!AC49),TwoWayQuiz!AC49),IF(AC53>3,\".\",TwoWayQuiz!AC49)))","v":20},{"$f":"IF(AC47>2,\".\",IF(AC53=3,IF(AC47=0,IF(TwoWayQuiz!AD49=20,30,TwoWayQuiz!AD49),TwoWayQuiz!AD49),IF(AD53>3,\".\",TwoWayQuiz!AD49)))","v":10},{"$f":"IF(AD47>2,\".\",IF(AD53=3,IF(AD47=0,IF(TwoWayQuiz!AE49=20,30,TwoWayQuiz!AE49),TwoWayQuiz!AE49),IF(AE53>3,\".\",TwoWayQuiz!AE49)))","v":10},{"$f":"IF(AE47>2,\".\",IF(AE53=3,IF(AE47=0,IF(TwoWayQuiz!AF49=20,30,TwoWayQuiz!AF49),TwoWayQuiz!AF49),IF(AF53>3,\".\",TwoWayQuiz!AF49)))","v":10},{"$f":"IF(AF47>2,\".\",IF(AF53=3,IF(AF47=0,IF(TwoWayQuiz!AG49=20,30,TwoWayQuiz!AG49),TwoWayQuiz!AG49),IF(AG53>3,\".\",TwoWayQuiz!AG49)))","v":10},{"$f":"IF(AG47>2,\".\",IF(AG53=3,IF(AG47=0,IF(TwoWayQuiz!AH49=20,30,TwoWayQuiz!AH49),TwoWayQuiz!AH49),IF(AH53>3,\".\",TwoWayQuiz!AH49)))","v":10},{"$f":"IF(AH47>2,\".\",IF(AH53=3,IF(AH47=0,IF(TwoWayQuiz!AI49=20,30,TwoWayQuiz!AI49),TwoWayQuiz!AI49),IF(AI53>3,\".\",TwoWayQuiz!AI49)))","v":10},{"$f":"IF(AI47>2,\".\",IF(AI53=3,IF(AI47=0,IF(TwoWayQuiz!AJ49=20,30,TwoWayQuiz!AJ49),TwoWayQuiz!AJ49),IF(AJ53>3,\".\",TwoWayQuiz!AJ49)))","v":10},{"$f":"IF(AJ47>2,\".\",IF(AJ53=3,IF(AJ47=0,IF(TwoWayQuiz!AK49=20,30,TwoWayQuiz!AK49),TwoWayQuiz!AK49),IF(AK53>3,\".\",TwoWayQuiz!AK49)))","v":10},{"$f":"IF(AK47>2,\".\",IF(AK53=3,IF(AK47=0,IF(TwoWayQuiz!AL49=20,30,TwoWayQuiz!AL49),TwoWayQuiz!AL49),IF(AL53>3,\".\",TwoWayQuiz!AL49)))","v":10},{"$f":"IF(AL47>2,\".\",IF(AL53=3,IF(AL47=0,IF(TwoWayQuiz!AM49=20,30,TwoWayQuiz!AM49),TwoWayQuiz!AM49),IF(AM53>3,\".\",TwoWayQuiz!AM49)))","v":10},{"$f":"IF(AM47>2,\".\",IF(AM53=3,IF(AM47=0,IF(TwoWayQuiz!AN49=20,30,TwoWayQuiz!AN49),TwoWayQuiz!AN49),IF(AN53>3,\".\",TwoWayQuiz!AN49)))","v":10},{"$f":"IF(AN47>2,\".\",IF(AN53=3,IF(AN47=0,IF(TwoWayQuiz!AO49=20,30,TwoWayQuiz!AO49),TwoWayQuiz!AO49),IF(AO53>3,\".\",TwoWayQuiz!AO49)))","v":10},{"$f":"IF(AO47>2,\".\",IF(AO53=3,IF(AO47=0,IF(TwoWayQuiz!AP49=20,30,TwoWayQuiz!AP49),TwoWayQuiz!AP49),IF(AP53>3,\".\",TwoWayQuiz!AP49)))","v":10},{"$f":"IF(AP47>2,\".\",IF(AP53=3,IF(AP47=0,IF(TwoWayQuiz!AQ49=20,30,TwoWayQuiz!AQ49),TwoWayQuiz!AQ49),IF(AQ53>3,\".\",TwoWayQuiz!AQ49)))","v":10},{"$f":"IF(AQ47>2,\".\",IF(AQ53=3,IF(AQ47=0,IF(TwoWayQuiz!AR49=20,30,TwoWayQuiz!AR49),TwoWayQuiz!AR49),IF(AR53>3,\".\",TwoWayQuiz!AR49)))","v":10},{"$f":"IF(AR47>2,\".\",IF(AR53=3,IF(AR47=0,IF(TwoWayQuiz!AS49=20,30,TwoWayQuiz!AS49),TwoWayQuiz!AS49),IF(AS53>3,\".\",TwoWayQuiz!AS49)))","v":10},{"$f":"IF(AS47>2,\".\",IF(AS53=3,IF(AS47=0,IF(TwoWayQuiz!AT49=20,30,TwoWayQuiz!AT49),TwoWayQuiz!AT49),IF(AT53>3,\".\",TwoWayQuiz!AT49)))","v":10},{"$f":"IF(AT47>2,\".\",IF(AT53=3,IF(AT47=0,IF(TwoWayQuiz!AU49=20,30,TwoWayQuiz!AU49),TwoWayQuiz!AU49),IF(AU53>3,\".\",TwoWayQuiz!AU49)))","v":10},{"$f":"IF(AU47>2,\".\",IF(AU53=3,IF(AU47=0,IF(TwoWayQuiz!AV49=20,30,TwoWayQuiz!AV49),TwoWayQuiz!AV49),IF(AV53>3,\".\",TwoWayQuiz!AV49)))","v":10},{"$f":"IF(AV47>2,\".\",IF(AV53=3,IF(AV47=0,IF(TwoWayQuiz!AW49=20,30,TwoWayQuiz!AW49),TwoWayQuiz!AW49),IF(AW53>3,\".\",TwoWayQuiz!AW49)))","v":10},{"$f":"IF(AW47>2,\".\",IF(AW53=3,IF(AW47=0,IF(TwoWayQuiz!AX49=20,30,TwoWayQuiz!AX49),TwoWayQuiz!AX49),IF(AX53>3,\".\",TwoWayQuiz!AX49)))","v":10},{"$f":"IF(AX47>2,\".\",IF(AX53=3,IF(AX47=0,IF(TwoWayQuiz!AY49=20,30,TwoWayQuiz!AY49),TwoWayQuiz!AY49),IF(AY53>3,\".\",TwoWayQuiz!AY49)))","v":10},{"$f":"IF(AY47>2,\".\",IF(AY53=3,IF(AY47=0,IF(TwoWayQuiz!AZ49=20,30,TwoWayQuiz!AZ49),TwoWayQuiz!AZ49),IF(AZ53>3,\".\",TwoWayQuiz!AZ49)))","v":10},{"$f":"IF(AZ47>2,\".\",IF(AZ53=3,IF(AZ47=0,IF(TwoWayQuiz!BA49=20,30,TwoWayQuiz!BA49),TwoWayQuiz!BA49),IF(BA53>3,\".\",TwoWayQuiz!BA49)))","v":10},{"$f":"IF(BA47>2,\".\",IF(BA53=3,IF(BA47=0,IF(TwoWayQuiz!BB49=20,30,TwoWayQuiz!BB49),TwoWayQuiz!BB49),IF(BB53>3,\".\",TwoWayQuiz!BB49)))","v":10},{"$f":"IF(BB47>2,\".\",IF(BB53=3,IF(BB47=0,IF(TwoWayQuiz!BC49=20,30,TwoWayQuiz!BC49),TwoWayQuiz!BC49),IF(BC53>3,\".\",TwoWayQuiz!BC49)))","v":10},{"$f":"IF(BC47>2,\".\",IF(BC53=3,IF(BC47=0,IF(TwoWayQuiz!BD49=20,30,TwoWayQuiz!BD49),TwoWayQuiz!BD49),IF(BD53>3,\".\",TwoWayQuiz!BD49)))","v":10},{"$f":"IF(BD47>2,\".\",IF(BD53=3,IF(BD47=0,IF(TwoWayQuiz!BE49=20,30,TwoWayQuiz!BE49),TwoWayQuiz!BE49),IF(BE53>3,\".\",TwoWayQuiz!BE49)))","v":10},{"$f":"IF(BE47>2,\".\",IF(BE53=3,IF(BE47=0,IF(TwoWayQuiz!BF49=20,30,TwoWayQuiz!BF49),TwoWayQuiz!BF49),IF(BF53>3,\".\",TwoWayQuiz!BF49)))","v":10},{"$f":"IF(BF47>2,\".\",IF(BF53=3,IF(BF47=0,IF(TwoWayQuiz!BG49=20,30,TwoWayQuiz!BG49),TwoWayQuiz!BG49),IF(BG53>3,\".\",TwoWayQuiz!BG49)))","v":10}]
[null,null,{"$f":"TwoWayQuiz!C42","v":"Quizzer #3"},20,{"$f":"IF(D48>2,\".\",IF(D54=3,IF(D48=0,IF(TwoWayQuiz!E49=20,30,TwoWayQuiz!E49),TwoWayQuiz!E49),IF(E54>3,\".\",TwoWayQuiz!E49)))","v":20},{"$f":"IF(E48>2,\".\",IF(E54=3,IF(E48=0,IF(TwoWayQuiz!F49=20,30,TwoWayQuiz!F49),TwoWayQuiz!F49),IF(F54>3,\".\",TwoWayQuiz!F49)))","v":20},{"$f":"IF(F48>2,\".\",IF(F54=3,IF(F48=0,IF(TwoWayQuiz!G49=20,30,TwoWayQuiz!G49),TwoWayQuiz!G49),IF(G54>3,\".\",TwoWayQuiz!G49)))","v":20},{"$f":"IF(G48>2,\".\",IF(G54=3,IF(G48=0,IF(TwoWayQuiz!H49=20,30,TwoWayQuiz!H49),TwoWayQuiz!H49),IF(H54>3,\".\",TwoWayQuiz!H49)))","v":20},{"$f":"IF(H48>2,\".\",IF(H54=3,IF(H48=0,IF(TwoWayQuiz!I49=20,30,TwoWayQuiz!I49),TwoWayQuiz!I49),IF(I54>3,\".\",TwoWayQuiz!I49)))","v":20},{"$f":"IF(I48>2,\".\",IF(I54=3,IF(I48=0,IF(TwoWayQuiz!J49=20,30,TwoWayQuiz!J49),TwoWayQuiz!J49),IF(J54>3,\".\",TwoWayQuiz!J49)))","v":20},{"$f":"IF(J48>2,\".\",IF(J54=3,IF(J48=0,IF(TwoWayQuiz!K49=20,30,TwoWayQuiz!K49),TwoWayQuiz!K49),IF(K54>3,\".\",TwoWayQuiz!K49)))","v":20},{"$f":"IF(K48>2,\".\",IF(K54=3,IF(K48=0,IF(TwoWayQuiz!L49=20,30,TwoWayQuiz!L49),TwoWayQuiz!L49),IF(L54>3,\".\",TwoWayQuiz!L49)))","v":20},{"$f":"IF(L48>2,\".\",IF(L54=3,IF(L48=0,IF(TwoWayQuiz!M49=20,30,TwoWayQuiz!M49),TwoWayQuiz!M49),IF(M54>3,\".\",TwoWayQuiz!M49)))","v":20},{"$f":"IF(M48>2,\".\",IF(M54=3,IF(M48=0,IF(TwoWayQuiz!N49=20,30,TwoWayQuiz!N49),TwoWayQuiz!N49),IF(N54>3,\".\",TwoWayQuiz!N49)))","v":20},{"$f":"IF(N48>2,\".\",IF(N54=3,IF(N48=0,IF(TwoWayQuiz!O49=20,30,TwoWayQuiz!O49),TwoWayQuiz!O49),IF(O54>3,\".\",TwoWayQuiz!O49)))","v":20},{"$f":"IF(O48>2,\".\",IF(O54=3,IF(O48=0,IF(TwoWayQuiz!P49=20,30,TwoWayQuiz!P49),TwoWayQuiz!P49),IF(P54>3,\".\",TwoWayQuiz!P49)))","v":20},{"$f":"IF(P48>2,\".\",IF(P54=3,IF(P48=0,IF(TwoWayQuiz!Q49=20,30,TwoWayQuiz!Q49),TwoWayQuiz!Q49),IF(Q54>3,\".\",TwoWayQuiz!Q49)))","v":20},{"$f":"IF(Q48>2,\".\",IF(Q54=3,IF(Q48=0,IF(TwoWayQuiz!R49=20,30,TwoWayQuiz!R49),TwoWayQuiz!R49),IF(R54>3,\".\",TwoWayQuiz!R49)))","v":20},{"$f":"IF(R48>2,\".\",IF(R54=3,IF(R48=0,IF(TwoWayQuiz!S49=20,30,TwoWayQuiz!S49),TwoWayQuiz!S49),IF(S54>3,\".\",TwoWayQuiz!S49)))","v":20},{"$f":"IF(S48>2,\".\",IF(S54=3,IF(S48=0,IF(TwoWayQuiz!T49=20,30,TwoWayQuiz!T49),TwoWayQuiz!T49),IF(T54>3,\".\",TwoWayQuiz!T49)))","v":20},{"$f":"IF(T48>2,\".\",IF(T54=3,IF(T48=0,IF(TwoWayQuiz!U49=20,30,TwoWayQuiz!U49),TwoWayQuiz!U49),IF(U54>3,\".\",TwoWayQuiz!U49)))","v":20},{"$f":"IF(U48>2,\".\",IF(U54=3,IF(U48=0,IF(TwoWayQuiz!V49=20,30,TwoWayQuiz!V49),TwoWayQuiz!V49),IF(V54>3,\".\",TwoWayQuiz!V49)))","v":"."},{"$f":"IF(V48>2,\".\",IF(V54=3,IF(V48=0,IF(TwoWayQuiz!W49=20,30,TwoWayQuiz!W49),TwoWayQuiz!W49),IF(W54>3,\".\",TwoWayQuiz!W49)))","v":20},{"$f":"IF(W48>2,\".\",IF(W54=3,IF(W48=0,IF(TwoWayQuiz!X49=20,30,TwoWayQuiz!X49),TwoWayQuiz!X49),IF(X54>3,\".\",TwoWayQuiz!X49)))","v":10},{"$f":"IF(X48>2,\".\",IF(X54=3,IF(X48=0,IF(TwoWayQuiz!Y49=20,30,TwoWayQuiz!Y49),TwoWayQuiz!Y49),IF(Y54>3,\".\",TwoWayQuiz!Y49)))","v":"."},{"$f":"IF(Y48>2,\".\",IF(Y54=3,IF(Y48=0,IF(TwoWayQuiz!Z49=20,30,TwoWayQuiz!Z49),TwoWayQuiz!Z49),IF(Z54>3,\".\",TwoWayQuiz!Z49)))","v":20},{"$f":"IF(Z48>2,\".\",IF(Z54=3,IF(Z48=0,IF(TwoWayQuiz!AA49=20,30,TwoWayQuiz!AA49),TwoWayQuiz!AA49),IF(AA54>3,\".\",TwoWayQuiz!AA49)))","v":10},{"$f":"IF(AA48>2,\".\",IF(AA54=3,IF(AA48=0,IF(TwoWayQuiz!AB49=20,30,TwoWayQuiz!AB49),TwoWayQuiz!AB49),IF(AB54>3,\".\",TwoWayQuiz!AB49)))","v":"."},{"$f":"IF(AB48>2,\".\",IF(AB54=3,IF(AB48=0,IF(TwoWayQuiz!AC49=20,30,TwoWayQuiz!AC49),TwoWayQuiz!AC49),IF(AC54>3,\".\",TwoWayQuiz!AC49)))","v":20},{"$f":"IF(AC48>2,\".\",IF(AC54=3,IF(AC48=0,IF(TwoWayQuiz!AD49=20,30,TwoWayQuiz!AD49),TwoWayQuiz!AD49),IF(AD54>3,\".\",TwoWayQuiz!AD49)))","v":10},{"$f":"IF(AD48>2,\".\",IF(AD54=3,IF(AD48=0,IF(TwoWayQuiz!AE49=20,30,TwoWayQuiz!AE49),TwoWayQuiz!AE49),IF(AE54>3,\".\",TwoWayQuiz!AE49)))","v":10},{"$f":"IF(AE48>2,\".\",IF(AE54=3,IF(AE48=0,IF(TwoWayQuiz!AF49=20,30,TwoWayQuiz!AF49),TwoWayQuiz!AF49),IF(AF54>3,\".\",TwoWayQuiz!AF49)))","v":10},{"$f":"IF(AF48>2,\".\",IF(AF54=3,IF(AF48=0,IF(TwoWayQuiz!AG49=20,30,TwoWayQuiz!AG49),TwoWayQuiz!AG49),IF(AG54>3,\".\",TwoWayQuiz!AG49)))","v":10},{"$f":"IF(AG48>2,\".\",IF(AG54=3,IF(AG48=0,IF(TwoWayQuiz!AH49=20,30,TwoWayQuiz!AH49),TwoWayQuiz!AH49),IF(AH54>3,\".\",TwoWayQuiz!AH49)))","v":10},{"$f":"IF(AH48>2,\".\",IF(AH54=3,IF(AH48=0,IF(TwoWayQuiz!AI49=20,30,TwoWayQuiz!AI49),TwoWayQuiz!AI49),IF(AI54>3,\".\",TwoWayQuiz!AI49)))","v":10},{"$f":"IF(AI48>2,\".\",IF(AI54=3,IF(AI48=0,IF(TwoWayQuiz!AJ49=20,30,TwoWayQuiz!AJ49),TwoWayQuiz!AJ49),IF(AJ54>3,\".\",TwoWayQuiz!AJ49)))","v":10},{"$f":"IF(AJ48>2,\".\",IF(AJ54=3,IF(AJ48=0,IF(TwoWayQuiz!AK49=20,30,TwoWayQuiz!AK49),TwoWayQuiz!AK49),IF(AK54>3,\".\",TwoWayQuiz!AK49)))","v":10},{"$f":"IF(AK48>2,\".\",IF(AK54=3,IF(AK48=0,IF(TwoWayQuiz!AL49=20,30,TwoWayQuiz!AL49),TwoWayQuiz!AL49),IF(AL54>3,\".\",TwoWayQuiz!AL49)))","v":10},{"$f":"IF(AL48>2,\".\",IF(AL54=3,IF(AL48=0,IF(TwoWayQuiz!AM49=20,30,TwoWayQuiz!AM49),TwoWayQuiz!AM49),IF(AM54>3,\".\",TwoWayQuiz!AM49)))","v":10},{"$f":"IF(AM48>2,\".\",IF(AM54=3,IF(AM48=0,IF(TwoWayQuiz!AN49=20,30,TwoWayQuiz!AN49),TwoWayQuiz!AN49),IF(AN54>3,\".\",TwoWayQuiz!AN49)))","v":10},{"$f":"IF(AN48>2,\".\",IF(AN54=3,IF(AN48=0,IF(TwoWayQuiz!AO49=20,30,TwoWayQuiz!AO49),TwoWayQuiz!AO49),IF(AO54>3,\".\",TwoWayQuiz!AO49)))","v":10},{"$f":"IF(AO48>2,\".\",IF(AO54=3,IF(AO48=0,IF(TwoWayQuiz!AP49=20,30,TwoWayQuiz!AP49),TwoWayQuiz!AP49),IF(AP54>3,\".\",TwoWayQuiz!AP49)))","v":10},{"$f":"IF(AP48>2,\".\",IF(AP54=3,IF(AP48=0,IF(TwoWayQuiz!AQ49=20,30,TwoWayQuiz!AQ49),TwoWayQuiz!AQ49),IF(AQ54>3,\".\",TwoWayQuiz!AQ49)))","v":10},{"$f":"IF(AQ48>2,\".\",IF(AQ54=3,IF(AQ48=0,IF(TwoWayQuiz!AR49=20,30,TwoWayQuiz!AR49),TwoWayQuiz!AR49),IF(AR54>3,\".\",TwoWayQuiz!AR49)))","v":10},{"$f":"IF(AR48>2,\".\",IF(AR54=3,IF(AR48=0,IF(TwoWayQuiz!AS49=20,30,TwoWayQuiz!AS49),TwoWayQuiz!AS49),IF(AS54>3,\".\",TwoWayQuiz!AS49)))","v":10},{"$f":"IF(AS48>2,\".\",IF(AS54=3,IF(AS48=0,IF(TwoWayQuiz!AT49=20,30,TwoWayQuiz!AT49),TwoWayQuiz!AT49),IF(AT54>3,\".\",TwoWayQuiz!AT49)))","v":10},{"$f":"IF(AT48>2,\".\",IF(AT54=3,IF(AT48=0,IF(TwoWayQuiz!AU49=20,30,TwoWayQuiz!AU49),TwoWayQuiz!AU49),IF(AU54>3,\".\",TwoWayQuiz!AU49)))","v":10},{"$f":"IF(AU48>2,\".\",IF(AU54=3,IF(AU48=0,IF(TwoWayQuiz!AV49=20,30,TwoWayQuiz!AV49),TwoWayQuiz!AV49),IF(AV54>3,\".\",TwoWayQuiz!AV49)))","v":10},{"$f":"IF(AV48>2,\".\",IF(AV54=3,IF(AV48=0,IF(TwoWayQuiz!AW49=20,30,TwoWayQuiz!AW49),TwoWayQuiz!AW49),IF(AW54>3,\".\",TwoWayQuiz!AW49)))","v":10},{"$f":"IF(AW48>2,\".\",IF(AW54=3,IF(AW48=0,IF(TwoWayQuiz!AX49=20,30,TwoWayQuiz!AX49),TwoWayQuiz!AX49),IF(AX54>3,\".\",TwoWayQuiz!AX49)))","v":10},{"$f":"IF(AX48>2,\".\",IF(AX54=3,IF(AX48=0,IF(TwoWayQuiz!AY49=20,30,TwoWayQuiz!AY49),TwoWayQuiz!AY49),IF(AY54>3,\".\",TwoWayQuiz!AY49)))","v":10},{"$f":"IF(AY48>2,\".\",IF(AY54=3,IF(AY48=0,IF(TwoWayQuiz!AZ49=20,30,TwoWayQuiz!AZ49),TwoWayQuiz!AZ49),IF(AZ54>3,\".\",TwoWayQuiz!AZ49)))","v":10},{"$f":"IF(AZ48>2,\".\",IF(AZ54=3,IF(AZ48=0,IF(TwoWayQuiz!BA49=20,30,TwoWayQuiz!BA49),TwoWayQuiz!BA49),IF(BA54>3,\".\",TwoWayQuiz!BA49)))","v":10},{"$f":"IF(BA48>2,\".\",IF(BA54=3,IF(BA48=0,IF(TwoWayQuiz!BB49=20,30,TwoWayQuiz!BB49),TwoWayQuiz!BB49),IF(BB54>3,\".\",TwoWayQuiz!BB49)))","v":10},{"$f":"IF(BB48>2,\".\",IF(BB54=3,IF(BB48=0,IF(TwoWayQuiz!BC49=20,30,TwoWayQuiz!BC49),TwoWayQuiz!BC49),IF(BC54>3,\".\",TwoWayQuiz!BC49)))","v":10},{"$f":"IF(BC48>2,\".\",IF(BC54=3,IF(BC48=0,IF(TwoWayQuiz!BD49=20,30,TwoWayQuiz!BD49),TwoWayQuiz!BD49),IF(BD54>3,\".\",TwoWayQuiz!BD49)))","v":10},{"$f":"IF(BD48>2,\".\",IF(BD54=3,IF(BD48=0,IF(TwoWayQuiz!BE49=20,30,TwoWayQuiz!BE49),TwoWayQuiz!BE49),IF(BE54>3,\".\",TwoWayQuiz!BE49)))","v":10},{"$f":"IF(BE48>2,\".\",IF(BE54=3,IF(BE48=0,IF(TwoWayQuiz!BF49=20,30,TwoWayQuiz!BF49),TwoWayQuiz!BF49),IF(BF54>3,\".\",TwoWayQuiz!BF49)))","v":10},{"$f":"IF(BF48>2,\".\",IF(BF54=3,IF(BF48=0,IF(TwoWayQuiz!BG49=20,30,TwoWayQuiz!BG49),TwoWayQuiz!BG49),IF(BG54>3,\".\",TwoWayQuiz!BG49)))","v":10}]
[null,null,{"$f":"TwoWayQuiz!C43","v":"Quizzer #4"},20,{"$f":"IF(D49>2,\".\",IF(D55=3,IF(D49=0,IF(TwoWayQuiz!E49=20,30,TwoWayQuiz!E49),TwoWayQuiz!E49),IF(E55>3,\".\",TwoWayQuiz!E49)))","v":20},{"$f":"IF(E49>2,\".\",IF(E55=3,IF(E49=0,IF(TwoWayQuiz!F49=20,30,TwoWayQuiz!F49),TwoWayQuiz!F49),IF(F55>3,\".\",TwoWayQuiz!F49)))","v":20},{"$f":"IF(F49>2,\".\",IF(F55=3,IF(F49=0,IF(TwoWayQuiz!G49=20,30,TwoWayQuiz!G49),TwoWayQuiz!G49),IF(G55>3,\".\",TwoWayQuiz!G49)))","v":20},{"$f":"IF(G49>2,\".\",IF(G55=3,IF(G49=0,IF(TwoWayQuiz!H49=20,30,TwoWayQuiz!H49),TwoWayQuiz!H49),IF(H55>3,\".\",TwoWayQuiz!H49)))","v":20},{"$f":"IF(H49>2,\".\",IF(H55=3,IF(H49=0,IF(TwoWayQuiz!I49=20,30,TwoWayQuiz!I49),TwoWayQuiz!I49),IF(I55>3,\".\",TwoWayQuiz!I49)))","v":20},{"$f":"IF(I49>2,\".\",IF(I55=3,IF(I49=0,IF(TwoWayQuiz!J49=20,30,TwoWayQuiz!J49),TwoWayQuiz!J49),IF(J55>3,\".\",TwoWayQuiz!J49)))","v":20},{"$f":"IF(J49>2,\".\",IF(J55=3,IF(J49=0,IF(TwoWayQuiz!K49=20,30,TwoWayQuiz!K49),TwoWayQuiz!K49),IF(K55>3,\".\",TwoWayQuiz!K49)))","v":20},{"$f":"IF(K49>2,\".\",IF(K55=3,IF(K49=0,IF(TwoWayQuiz!L49=20,30,TwoWayQuiz!L49),TwoWayQuiz!L49),IF(L55>3,\".\",TwoWayQuiz!L49)))","v":20},{"$f":"IF(L49>2,\".\",IF(L55=3,IF(L49=0,IF(TwoWayQuiz!M49=20,30,TwoWayQuiz!M49),TwoWayQuiz!M49),IF(M55>3,\".\",TwoWayQuiz!M49)))","v":20},{"$f":"IF(M49>2,\".\",IF(M55=3,IF(M49=0,IF(TwoWayQuiz!N49=20,30,TwoWayQuiz!N49),TwoWayQuiz!N49),IF(N55>3,\".\",TwoWayQuiz!N49)))","v":20},{"$f":"IF(N49>2,\".\",IF(N55=3,IF(N49=0,IF(TwoWayQuiz!O49=20,30,TwoWayQuiz!O49),TwoWayQuiz!O49),IF(O55>3,\".\",TwoWayQuiz!O49)))","v":20},{"$f":"IF(O49>2,\".\",IF(O55=3,IF(O49=0,IF(TwoWayQuiz!P49=20,30,TwoWayQuiz!P49),TwoWayQuiz!P49),IF(P55>3,\".\",TwoWayQuiz!P49)))","v":20},{"$f":"IF(P49>2,\".\",IF(P55=3,IF(P49=0,IF(TwoWayQuiz!Q49=20,30,TwoWayQuiz!Q49),TwoWayQuiz!Q49),IF(Q55>3,\".\",TwoWayQuiz!Q49)))","v":20},{"$f":"IF(Q49>2,\".\",IF(Q55=3,IF(Q49=0,IF(TwoWayQuiz!R49=20,30,TwoWayQuiz!R49),TwoWayQuiz!R49),IF(R55>3,\".\",TwoWayQuiz!R49)))","v":20},{"$f":"IF(R49>2,\".\",IF(R55=3,IF(R49=0,IF(TwoWayQuiz!S49=20,30,TwoWayQuiz!S49),TwoWayQuiz!S49),IF(S55>3,\".\",TwoWayQuiz!S49)))","v":20},{"$f":"IF(S49>2,\".\",IF(S55=3,IF(S49=0,IF(TwoWayQuiz!T49=20,30,TwoWayQuiz!T49),TwoWayQuiz!T49),IF(T55>3,\".\",TwoWayQuiz!T49)))","v":20},{"$f":"IF(T49>2,\".\",IF(T55=3,IF(T49=0,IF(TwoWayQuiz!U49=20,30,TwoWayQuiz!U49),TwoWayQuiz!U49),IF(U55>3,\".\",TwoWayQuiz!U49)))","v":20},{"$f":"IF(U49>2,\".\",IF(U55=3,IF(U49=0,IF(TwoWayQuiz!V49=20,30,TwoWayQuiz!V49),TwoWayQuiz!V49),IF(V55>3,\".\",TwoWayQuiz!V49)))","v":"."},{"$f":"IF(V49>2,\".\",IF(V55=3,IF(V49=0,IF(TwoWayQuiz!W49=20,30,TwoWayQuiz!W49),TwoWayQuiz!W49),IF(W55>3,\".\",TwoWayQuiz!W49)))","v":20},{"$f":"IF(W49>2,\".\",IF(W55=3,IF(W49=0,IF(TwoWayQuiz!X49=20,30,TwoWayQuiz!X49),TwoWayQuiz!X49),IF(X55>3,\".\",TwoWayQuiz!X49)))","v":10},{"$f":"IF(X49>2,\".\",IF(X55=3,IF(X49=0,IF(TwoWayQuiz!Y49=20,30,TwoWayQuiz!Y49),TwoWayQuiz!Y49),IF(Y55>3,\".\",TwoWayQuiz!Y49)))","v":"."},{"$f":"IF(Y49>2,\".\",IF(Y55=3,IF(Y49=0,IF(TwoWayQuiz!Z49=20,30,TwoWayQuiz!Z49),TwoWayQuiz!Z49),IF(Z55>3,\".\",TwoWayQuiz!Z49)))","v":20},{"$f":"IF(Z49>2,\".\",IF(Z55=3,IF(Z49=0,IF(TwoWayQuiz!AA49=20,30,TwoWayQuiz!AA49),TwoWayQuiz!AA49),IF(AA55>3,\".\",TwoWayQuiz!AA49)))","v":10},{"$f":"IF(AA49>2,\".\",IF(AA55=3,IF(AA49=0,IF(TwoWayQuiz!AB49=20,30,TwoWayQuiz!AB49),TwoWayQuiz!AB49),IF(AB55>3,\".\",TwoWayQuiz!AB49)))","v":"."},{"$f":"IF(AB49>2,\".\",IF(AB55=3,IF(AB49=0,IF(TwoWayQuiz!AC49=20,30,TwoWayQuiz!AC49),TwoWayQuiz!AC49),IF(AC55>3,\".\",TwoWayQuiz!AC49)))","v":20},{"$f":"IF(AC49>2,\".\",IF(AC55=3,IF(AC49=0,IF(TwoWayQuiz!AD49=20,30,TwoWayQuiz!AD49),TwoWayQuiz!AD49),IF(AD55>3,\".\",TwoWayQuiz!AD49)))","v":10},{"$f":"IF(AD49>2,\".\",IF(AD55=3,IF(AD49=0,IF(TwoWayQuiz!AE49=20,30,TwoWayQuiz!AE49),TwoWayQuiz!AE49),IF(AE55>3,\".\",TwoWayQuiz!AE49)))","v":10},{"$f":"IF(AE49>2,\".\",IF(AE55=3,IF(AE49=0,IF(TwoWayQuiz!AF49=20,30,TwoWayQuiz!AF49),TwoWayQuiz!AF49),IF(AF55>3,\".\",TwoWayQuiz!AF49)))","v":10},{"$f":"IF(AF49>2,\".\",IF(AF55=3,IF(AF49=0,IF(TwoWayQuiz!AG49=20,30,TwoWayQuiz!AG49),TwoWayQuiz!AG49),IF(AG55>3,\".\",TwoWayQuiz!AG49)))","v":10},{"$f":"IF(AG49>2,\".\",IF(AG55=3,IF(AG49=0,IF(TwoWayQuiz!AH49=20,30,TwoWayQuiz!AH49),TwoWayQuiz!AH49),IF(AH55>3,\".\",TwoWayQuiz!AH49)))","v":10},{"$f":"IF(AH49>2,\".\",IF(AH55=3,IF(AH49=0,IF(TwoWayQuiz!AI49=20,30,TwoWayQuiz!AI49),TwoWayQuiz!AI49),IF(AI55>3,\".\",TwoWayQuiz!AI49)))","v":10},{"$f":"IF(AI49>2,\".\",IF(AI55=3,IF(AI49=0,IF(TwoWayQuiz!AJ49=20,30,TwoWayQuiz!AJ49),TwoWayQuiz!AJ49),IF(AJ55>3,\".\",TwoWayQuiz!AJ49)))","v":10},{"$f":"IF(AJ49>2,\".\",IF(AJ55=3,IF(AJ49=0,IF(TwoWayQuiz!AK49=20,30,TwoWayQuiz!AK49),TwoWayQuiz!AK49),IF(AK55>3,\".\",TwoWayQuiz!AK49)))","v":10},{"$f":"IF(AK49>2,\".\",IF(AK55=3,IF(AK49=0,IF(TwoWayQuiz!AL49=20,30,TwoWayQuiz!AL49),TwoWayQuiz!AL49),IF(AL55>3,\".\",TwoWayQuiz!AL49)))","v":10},{"$f":"IF(AL49>2,\".\",IF(AL55=3,IF(AL49=0,IF(TwoWayQuiz!AM49=20,30,TwoWayQuiz!AM49),TwoWayQuiz!AM49),IF(AM55>3,\".\",TwoWayQuiz!AM49)))","v":10},{"$f":"IF(AM49>2,\".\",IF(AM55=3,IF(AM49=0,IF(TwoWayQuiz!AN49=20,30,TwoWayQuiz!AN49),TwoWayQuiz!AN49),IF(AN55>3,\".\",TwoWayQuiz!AN49)))","v":10},{"$f":"IF(AN49>2,\".\",IF(AN55=3,IF(AN49=0,IF(TwoWayQuiz!AO49=20,30,TwoWayQuiz!AO49),TwoWayQuiz!AO49),IF(AO55>3,\".\",TwoWayQuiz!AO49)))","v":10},{"$f":"IF(AO49>2,\".\",IF(AO55=3,IF(AO49=0,IF(TwoWayQuiz!AP49=20,30,TwoWayQuiz!AP49),TwoWayQuiz!AP49),IF(AP55>3,\".\",TwoWayQuiz!AP49)))","v":10},{"$f":"IF(AP49>2,\".\",IF(AP55=3,IF(AP49=0,IF(TwoWayQuiz!AQ49=20,30,TwoWayQuiz!AQ49),TwoWayQuiz!AQ49),IF(AQ55>3,\".\",TwoWayQuiz!AQ49)))","v":10},{"$f":"IF(AQ49>2,\".\",IF(AQ55=3,IF(AQ49=0,IF(TwoWayQuiz!AR49=20,30,TwoWayQuiz!AR49),TwoWayQuiz!AR49),IF(AR55>3,\".\",TwoWayQuiz!AR49)))","v":10},{"$f":"IF(AR49>2,\".\",IF(AR55=3,IF(AR49=0,IF(TwoWayQuiz!AS49=20,30,TwoWayQuiz!AS49),TwoWayQuiz!AS49),IF(AS55>3,\".\",TwoWayQuiz!AS49)))","v":10},{"$f":"IF(AS49>2,\".\",IF(AS55=3,IF(AS49=0,IF(TwoWayQuiz!AT49=20,30,TwoWayQuiz!AT49),TwoWayQuiz!AT49),IF(AT55>3,\".\",TwoWayQuiz!AT49)))","v":10},{"$f":"IF(AT49>2,\".\",IF(AT55=3,IF(AT49=0,IF(TwoWayQuiz!AU49=20,30,TwoWayQuiz!AU49),TwoWayQuiz!AU49),IF(AU55>3,\".\",TwoWayQuiz!AU49)))","v":10},{"$f":"IF(AU49>2,\".\",IF(AU55=3,IF(AU49=0,IF(TwoWayQuiz!AV49=20,30,TwoWayQuiz!AV49),TwoWayQuiz!AV49),IF(AV55>3,\".\",TwoWayQuiz!AV49)))","v":10},{"$f":"IF(AV49>2,\".\",IF(AV55=3,IF(AV49=0,IF(TwoWayQuiz!AW49=20,30,TwoWayQuiz!AW49),TwoWayQuiz!AW49),IF(AW55>3,\".\",TwoWayQuiz!AW49)))","v":10},{"$f":"IF(AW49>2,\".\",IF(AW55=3,IF(AW49=0,IF(TwoWayQuiz!AX49=20,30,TwoWayQuiz!AX49),TwoWayQuiz!AX49),IF(AX55>3,\".\",TwoWayQuiz!AX49)))","v":10},{"$f":"IF(AX49>2,\".\",IF(AX55=3,IF(AX49=0,IF(TwoWayQuiz!AY49=20,30,TwoWayQuiz!AY49),TwoWayQuiz!AY49),IF(AY55>3,\".\",TwoWayQuiz!AY49)))","v":10},{"$f":"IF(AY49>2,\".\",IF(AY55=3,IF(AY49=0,IF(TwoWayQuiz!AZ49=20,30,TwoWayQuiz!AZ49),TwoWayQuiz!AZ49),IF(AZ55>3,\".\",TwoWayQuiz!AZ49)))","v":10},{"$f":"IF(AZ49>2,\".\",IF(AZ55=3,IF(AZ49=0,IF(TwoWayQuiz!BA49=20,30,TwoWayQuiz!BA49),TwoWayQuiz!BA49),IF(BA55>3,\".\",TwoWayQuiz!BA49)))","v":10},{"$f":"IF(BA49>2,\".\",IF(BA55=3,IF(BA49=0,IF(TwoWayQuiz!BB49=20,30,TwoWayQuiz!BB49),TwoWayQuiz!BB49),IF(BB55>3,\".\",TwoWayQuiz!BB49)))","v":10},{"$f":"IF(BB49>2,\".\",IF(BB55=3,IF(BB49=0,IF(TwoWayQuiz!BC49=20,30,TwoWayQuiz!BC49),TwoWayQuiz!BC49),IF(BC55>3,\".\",TwoWayQuiz!BC49)))","v":10},{"$f":"IF(BC49>2,\".\",IF(BC55=3,IF(BC49=0,IF(TwoWayQuiz!BD49=20,30,TwoWayQuiz!BD49),TwoWayQuiz!BD49),IF(BD55>3,\".\",TwoWayQuiz!BD49)))","v":10},{"$f":"IF(BD49>2,\".\",IF(BD55=3,IF(BD49=0,IF(TwoWayQuiz!BE49=20,30,TwoWayQuiz!BE49),TwoWayQuiz!BE49),IF(BE55>3,\".\",TwoWayQuiz!BE49)))","v":10},{"$f":"IF(BE49>2,\".\",IF(BE55=3,IF(BE49=0,IF(TwoWayQuiz!BF49=20,30,TwoWayQuiz!BF49),TwoWayQuiz!BF49),IF(BF55>3,\".\",TwoWayQuiz!BF49)))","v":10},{"$f":"IF(BF49>2,\".\",IF(BF55=3,IF(BF49=0,IF(TwoWayQuiz!BG49=20,30,TwoWayQuiz!BG49),TwoWayQuiz!BG49),IF(BG55>3,\".\",TwoWayQuiz!BG49)))","v":10}]
[null,null,{"$f":"TwoWayQuiz!C44","v":""},20,{"$f":"IF(D50>2,\".\",IF(D56=3,IF(D50=0,IF(TwoWayQuiz!E49=20,30,TwoWayQuiz!E49),TwoWayQuiz!E49),IF(E56>3,\".\",TwoWayQuiz!E49)))","v":20},{"$f":"IF(E50>2,\".\",IF(E56=3,IF(E50=0,IF(TwoWayQuiz!F49=20,30,TwoWayQuiz!F49),TwoWayQuiz!F49),IF(F56>3,\".\",TwoWayQuiz!F49)))","v":20},{"$f":"IF(F50>2,\".\",IF(F56=3,IF(F50=0,IF(TwoWayQuiz!G49=20,30,TwoWayQuiz!G49),TwoWayQuiz!G49),IF(G56>3,\".\",TwoWayQuiz!G49)))","v":20},{"$f":"IF(G50>2,\".\",IF(G56=3,IF(G50=0,IF(TwoWayQuiz!H49=20,30,TwoWayQuiz!H49),TwoWayQuiz!H49),IF(H56>3,\".\",TwoWayQuiz!H49)))","v":20},{"$f":"IF(H50>2,\".\",IF(H56=3,IF(H50=0,IF(TwoWayQuiz!I49=20,30,TwoWayQuiz!I49),TwoWayQuiz!I49),IF(I56>3,\".\",TwoWayQuiz!I49)))","v":20},{"$f":"IF(I50>2,\".\",IF(I56=3,IF(I50=0,IF(TwoWayQuiz!J49=20,30,TwoWayQuiz!J49),TwoWayQuiz!J49),IF(J56>3,\".\",TwoWayQuiz!J49)))","v":20},{"$f":"IF(J50>2,\".\",IF(J56=3,IF(J50=0,IF(TwoWayQuiz!K49=20,30,TwoWayQuiz!K49),TwoWayQuiz!K49),IF(K56>3,\".\",TwoWayQuiz!K49)))","v":20},{"$f":"IF(K50>2,\".\",IF(K56=3,IF(K50=0,IF(TwoWayQuiz!L49=20,30,TwoWayQuiz!L49),TwoWayQuiz!L49),IF(L56>3,\".\",TwoWayQuiz!L49)))","v":20},{"$f":"IF(L50>2,\".\",IF(L56=3,IF(L50=0,IF(TwoWayQuiz!M49=20,30,TwoWayQuiz!M49),TwoWayQuiz!M49),IF(M56>3,\".\",TwoWayQuiz!M49)))","v":20},{"$f":"IF(M50>2,\".\",IF(M56=3,IF(M50=0,IF(TwoWayQuiz!N49=20,30,TwoWayQuiz!N49),TwoWayQuiz!N49),IF(N56>3,\".\",TwoWayQuiz!N49)))","v":20},{"$f":"IF(N50>2,\".\",IF(N56=3,IF(N50=0,IF(TwoWayQuiz!O49=20,30,TwoWayQuiz!O49),TwoWayQuiz!O49),IF(O56>3,\".\",TwoWayQuiz!O49)))","v":20},{"$f":"IF(O50>2,\".\",IF(O56=3,IF(O50=0,IF(TwoWayQuiz!P49=20,30,TwoWayQuiz!P49),TwoWayQuiz!P49),IF(P56>3,\".\",TwoWayQuiz!P49)))","v":20},{"$f":"IF(P50>2,\".\",IF(P56=3,IF(P50=0,IF(TwoWayQuiz!Q49=20,30,TwoWayQuiz!Q49),TwoWayQuiz!Q49),IF(Q56>3,\".\",TwoWayQuiz!Q49)))","v":20},{"$f":"IF(Q50>2,\".\",IF(Q56=3,IF(Q50=0,IF(TwoWayQuiz!R49=20,30,TwoWayQuiz!R49),TwoWayQuiz!R49),IF(R56>3,\".\",TwoWayQuiz!R49)))","v":20},{"$f":"IF(R50>2,\".\",IF(R56=3,IF(R50=0,IF(TwoWayQuiz!S49=20,30,TwoWayQuiz!S49),TwoWayQuiz!S49),IF(S56>3,\".\",TwoWayQuiz!S49)))","v":20},{"$f":"IF(S50>2,\".\",IF(S56=3,IF(S50=0,IF(TwoWayQuiz!T49=20,30,TwoWayQuiz!T49),TwoWayQuiz!T49),IF(T56>3,\".\",TwoWayQuiz!T49)))","v":20},{"$f":"IF(T50>2,\".\",IF(T56=3,IF(T50=0,IF(TwoWayQuiz!U49=20,30,TwoWayQuiz!U49),TwoWayQuiz!U49),IF(U56>3,\".\",TwoWayQuiz!U49)))","v":20},{"$f":"IF(U50>2,\".\",IF(U56=3,IF(U50=0,IF(TwoWayQuiz!V49=20,30,TwoWayQuiz!V49),TwoWayQuiz!V49),IF(V56>3,\".\",TwoWayQuiz!V49)))","v":"."},{"$f":"IF(V50>2,\".\",IF(V56=3,IF(V50=0,IF(TwoWayQuiz!W49=20,30,TwoWayQuiz!W49),TwoWayQuiz!W49),IF(W56>3,\".\",TwoWayQuiz!W49)))","v":20},{"$f":"IF(W50>2,\".\",IF(W56=3,IF(W50=0,IF(TwoWayQuiz!X49=20,30,TwoWayQuiz!X49),TwoWayQuiz!X49),IF(X56>3,\".\",TwoWayQuiz!X49)))","v":10},{"$f":"IF(X50>2,\".\",IF(X56=3,IF(X50=0,IF(TwoWayQuiz!Y49=20,30,TwoWayQuiz!Y49),TwoWayQuiz!Y49),IF(Y56>3,\".\",TwoWayQuiz!Y49)))","v":"."},{"$f":"IF(Y50>2,\".\",IF(Y56=3,IF(Y50=0,IF(TwoWayQuiz!Z49=20,30,TwoWayQuiz!Z49),TwoWayQuiz!Z49),IF(Z56>3,\".\",TwoWayQuiz!Z49)))","v":20},{"$f":"IF(Z50>2,\".\",IF(Z56=3,IF(Z50=0,IF(TwoWayQuiz!AA49=20,30,TwoWayQuiz!AA49),TwoWayQuiz!AA49),IF(AA56>3,\".\",TwoWayQuiz!AA49)))","v":10},{"$f":"IF(AA50>2,\".\",IF(AA56=3,IF(AA50=0,IF(TwoWayQuiz!AB49=20,30,TwoWayQuiz!AB49),TwoWayQuiz!AB49),IF(AB56>3,\".\",TwoWayQuiz!AB49)))","v":"."},{"$f":"IF(AB50>2,\".\",IF(AB56=3,IF(AB50=0,IF(TwoWayQuiz!AC49=20,30,TwoWayQuiz!AC49),TwoWayQuiz!AC49),IF(AC56>3,\".\",TwoWayQuiz!AC49)))","v":20},{"$f":"IF(AC50>2,\".\",IF(AC56=3,IF(AC50=0,IF(TwoWayQuiz!AD49=20,30,TwoWayQuiz!AD49),TwoWayQuiz!AD49),IF(AD56>3,\".\",TwoWayQuiz!AD49)))","v":10},{"$f":"IF(AD50>2,\".\",IF(AD56=3,IF(AD50=0,IF(TwoWayQuiz!AE49=20,30,TwoWayQuiz!AE49),TwoWayQuiz!AE49),IF(AE56>3,\".\",TwoWayQuiz!AE49)))","v":10},{"$f":"IF(AE50>2,\".\",IF(AE56=3,IF(AE50=0,IF(TwoWayQuiz!AF49=20,30,TwoWayQuiz!AF49),TwoWayQuiz!AF49),IF(AF56>3,\".\",TwoWayQuiz!AF49)))","v":10},{"$f":"IF(AF50>2,\".\",IF(AF56=3,IF(AF50=0,IF(TwoWayQuiz!AG49=20,30,TwoWayQuiz!AG49),TwoWayQuiz!AG49),IF(AG56>3,\".\",TwoWayQuiz!AG49)))","v":10},{"$f":"IF(AG50>2,\".\",IF(AG56=3,IF(AG50=0,IF(TwoWayQuiz!AH49=20,30,TwoWayQuiz!AH49),TwoWayQuiz!AH49),IF(AH56>3,\".\",TwoWayQuiz!AH49)))","v":10},{"$f":"IF(AH50>2,\".\",IF(AH56=3,IF(AH50=0,IF(TwoWayQuiz!AI49=20,30,TwoWayQuiz!AI49),TwoWayQuiz!AI49),IF(AI56>3,\".\",TwoWayQuiz!AI49)))","v":10},{"$f":"IF(AI50>2,\".\",IF(AI56=3,IF(AI50=0,IF(TwoWayQuiz!AJ49=20,30,TwoWayQuiz!AJ49),TwoWayQuiz!AJ49),IF(AJ56>3,\".\",TwoWayQuiz!AJ49)))","v":10},{"$f":"IF(AJ50>2,\".\",IF(AJ56=3,IF(AJ50=0,IF(TwoWayQuiz!AK49=20,30,TwoWayQuiz!AK49),TwoWayQuiz!AK49),IF(AK56>3,\".\",TwoWayQuiz!AK49)))","v":10},{"$f":"IF(AK50>2,\".\",IF(AK56=3,IF(AK50=0,IF(TwoWayQuiz!AL49=20,30,TwoWayQuiz!AL49),TwoWayQuiz!AL49),IF(AL56>3,\".\",TwoWayQuiz!AL49)))","v":10},{"$f":"IF(AL50>2,\".\",IF(AL56=3,IF(AL50=0,IF(TwoWayQuiz!AM49=20,30,TwoWayQuiz!AM49),TwoWayQuiz!AM49),IF(AM56>3,\".\",TwoWayQuiz!AM49)))","v":10},{"$f":"IF(AM50>2,\".\",IF(AM56=3,IF(AM50=0,IF(TwoWayQuiz!AN49=20,30,TwoWayQuiz!AN49),TwoWayQuiz!AN49),IF(AN56>3,\".\",TwoWayQuiz!AN49)))","v":10},{"$f":"IF(AN50>2,\".\",IF(AN56=3,IF(AN50=0,IF(TwoWayQuiz!AO49=20,30,TwoWayQuiz!AO49),TwoWayQuiz!AO49),IF(AO56>3,\".\",TwoWayQuiz!AO49)))","v":10},{"$f":"IF(AO50>2,\".\",IF(AO56=3,IF(AO50=0,IF(TwoWayQuiz!AP49=20,30,TwoWayQuiz!AP49),TwoWayQuiz!AP49),IF(AP56>3,\".\",TwoWayQuiz!AP49)))","v":10},{"$f":"IF(AP50>2,\".\",IF(AP56=3,IF(AP50=0,IF(TwoWayQuiz!AQ49=20,30,TwoWayQuiz!AQ49),TwoWayQuiz!AQ49),IF(AQ56>3,\".\",TwoWayQuiz!AQ49)))","v":10},{"$f":"IF(AQ50>2,\".\",IF(AQ56=3,IF(AQ50=0,IF(TwoWayQuiz!AR49=20,30,TwoWayQuiz!AR49),TwoWayQuiz!AR49),IF(AR56>3,\".\",TwoWayQuiz!AR49)))","v":10},{"$f":"IF(AR50>2,\".\",IF(AR56=3,IF(AR50=0,IF(TwoWayQuiz!AS49=20,30,TwoWayQuiz!AS49),TwoWayQuiz!AS49),IF(AS56>3,\".\",TwoWayQuiz!AS49)))","v":10},{"$f":"IF(AS50>2,\".\",IF(AS56=3,IF(AS50=0,IF(TwoWayQuiz!AT49=20,30,TwoWayQuiz!AT49),TwoWayQuiz!AT49),IF(AT56>3,\".\",TwoWayQuiz!AT49)))","v":10},{"$f":"IF(AT50>2,\".\",IF(AT56=3,IF(AT50=0,IF(TwoWayQuiz!AU49=20,30,TwoWayQuiz!AU49),TwoWayQuiz!AU49),IF(AU56>3,\".\",TwoWayQuiz!AU49)))","v":10},{"$f":"IF(AU50>2,\".\",IF(AU56=3,IF(AU50=0,IF(TwoWayQuiz!AV49=20,30,TwoWayQuiz!AV49),TwoWayQuiz!AV49),IF(AV56>3,\".\",TwoWayQuiz!AV49)))","v":10},{"$f":"IF(AV50>2,\".\",IF(AV56=3,IF(AV50=0,IF(TwoWayQuiz!AW49=20,30,TwoWayQuiz!AW49),TwoWayQuiz!AW49),IF(AW56>3,\".\",TwoWayQuiz!AW49)))","v":10},{"$f":"IF(AW50>2,\".\",IF(AW56=3,IF(AW50=0,IF(TwoWayQuiz!AX49=20,30,TwoWayQuiz!AX49),TwoWayQuiz!AX49),IF(AX56>3,\".\",TwoWayQuiz!AX49)))","v":10},{"$f":"IF(AX50>2,\".\",IF(AX56=3,IF(AX50=0,IF(TwoWayQuiz!AY49=20,30,TwoWayQuiz!AY49),TwoWayQuiz!AY49),IF(AY56>3,\".\",TwoWayQuiz!AY49)))","v":10},{"$f":"IF(AY50>2,\".\",IF(AY56=3,IF(AY50=0,IF(TwoWayQuiz!AZ49=20,30,TwoWayQuiz!AZ49),TwoWayQuiz!AZ49),IF(AZ56>3,\".\",TwoWayQuiz!AZ49)))","v":10},{"$f":"IF(AZ50>2,\".\",IF(AZ56=3,IF(AZ50=0,IF(TwoWayQuiz!BA49=20,30,TwoWayQuiz!BA49),TwoWayQuiz!BA49),IF(BA56>3,\".\",TwoWayQuiz!BA49)))","v":10},{"$f":"IF(BA50>2,\".\",IF(BA56=3,IF(BA50=0,IF(TwoWayQuiz!BB49=20,30,TwoWayQuiz!BB49),TwoWayQuiz!BB49),IF(BB56>3,\".\",TwoWayQuiz!BB49)))","v":10},{"$f":"IF(BB50>2,\".\",IF(BB56=3,IF(BB50=0,IF(TwoWayQuiz!BC49=20,30,TwoWayQuiz!BC49),TwoWayQuiz!BC49),IF(BC56>3,\".\",TwoWayQuiz!BC49)))","v":10},{"$f":"IF(BC50>2,\".\",IF(BC56=3,IF(BC50=0,IF(TwoWayQuiz!BD49=20,30,TwoWayQuiz!BD49),TwoWayQuiz!BD49),IF(BD56>3,\".\",TwoWayQuiz!BD49)))","v":10},{"$f":"IF(BD50>2,\".\",IF(BD56=3,IF(BD50=0,IF(TwoWayQuiz!BE49=20,30,TwoWayQuiz!BE49),TwoWayQuiz!BE49),IF(BE56>3,\".\",TwoWayQuiz!BE49)))","v":10},{"$f":"IF(BE50>2,\".\",IF(BE56=3,IF(BE50=0,IF(TwoWayQuiz!BF49=20,30,TwoWayQuiz!BF49),TwoWayQuiz!BF49),IF(BF56>3,\".\",TwoWayQuiz!BF49)))","v":10},{"$f":"IF(BF50>2,\".\",IF(BF56=3,IF(BF50=0,IF(TwoWayQuiz!BG49=20,30,TwoWayQuiz!BG49),TwoWayQuiz!BG49),IF(BG56>3,\".\",TwoWayQuiz!BG49)))","v":10}]
[]
[null,null,{"$f":"CONCATENATE(\"# of errors \",C40)","v":"# of errors Quizzer #1"},{"$f":"IF(TwoWayQuiz!D40=\"E\",1,0)","v":0},{"$f":"IF(TwoWayQuiz!E40=\"E\",1+D46,D46)","v":0},{"$f":"IF(TwoWayQuiz!F40=\"E\",1+E46,E46)","v":0},{"$f":"IF(TwoWayQuiz!G40=\"E\",1+F46,F46)","v":0},{"$f":"IF(TwoWayQuiz!H40=\"E\",1+G46,G46)","v":0},{"$f":"IF(TwoWayQuiz!I40=\"E\",1+H46,H46)","v":0},{"$f":"IF(TwoWayQuiz!J40=\"E\",1+I46,I46)","v":0},{"$f":"IF(TwoWayQuiz!K40=\"E\",1+J46,J46)","v":0},{"$f":"IF(TwoWayQuiz!L40=\"E\",1+K46,K46)","v":0},{"$f":"IF(TwoWayQuiz!M40=\"E\",1+L46,L46)","v":0},{"$f":"IF(TwoWayQuiz!N40=\"E\",1+M46,M46)","v":0},{"$f":"IF(TwoWayQuiz!O40=\"E\",1+N46,N46)","v":0},{"$f":"IF(TwoWayQuiz!P40=\"E\",1+O46,O46)","v":0},{"$f":"IF(TwoWayQuiz!Q40=\"E\",1+P46,P46)","v":0},{"$f":"IF(TwoWayQuiz!R40=\"E\",1+Q46,Q46)","v":0},{"$f":"IF(TwoWayQuiz!S40=\"E\",1+R46,R46)","v":0},{"$f":"IF(TwoWayQuiz!T40=\"E\",1+S46,S46)","v":0},{"$f":"IF(TwoWayQuiz!U40=\"E\",1+T46,T46)","v":0},{"$f":"IF(TwoWayQuiz!V40=\"E\",1+U46,U46)","v":0},{"$f":"IF(TwoWayQuiz!W40=\"E\",1+V46,V46)","v":0},{"$f":"IF(TwoWayQuiz!X40=\"E\",1+W46,W46)","v":0},{"$f":"IF(TwoWayQuiz!Y40=\"E\",1+X46,X46)","v":0},{"$f":"IF(TwoWayQuiz!Z40=\"E\",1+Y46,Y46)","v":0},{"$f":"IF(TwoWayQuiz!AA40=\"E\",1+Z46,Z46)","v":0},{"$f":"IF(TwoWayQuiz!AB40=\"E\",1+AA46,AA46)","v":0},{"$f":"IF(TwoWayQuiz!AC40=\"E\",1+AB46,AB46)","v":0},{"$f":"IF(TwoWayQuiz!AD40=\"E\",1+AC46,AC46)","v":0},{"$f":"IF(TwoWayQuiz!AE40=\"E\",1+AD46,AD46)","v":0},{"$f":"IF(TwoWayQuiz!AF40=\"E\",1+AE46,AE46)","v":0},{"$f":"IF(TwoWayQuiz!AG40=\"E\",1+AF46,AF46)","v":0},{"$f":"IF(TwoWayQuiz!AH40=\"E\",1+AG46,AG46)","v":0},{"$f":"IF(TwoWayQuiz!AI40=\"E\",1+AH46,AH46)","v":0},{"$f":"IF(TwoWayQuiz!AJ40=\"E\",1+AI46,AI46)","v":0},{"$f":"IF(TwoWayQuiz!AK40=\"E\",1+AJ46,AJ46)","v":0},{"$f":"IF(TwoWayQuiz!AL40=\"E\",1+AK46,AK46)","v":0},{"$f":"IF(TwoWayQuiz!AM40=\"E\",1+AL46,AL46)","v":0},{"$f":"IF(TwoWayQuiz!AN40=\"E\",1+AM46,AM46)","v":0},{"$f":"IF(TwoWayQuiz!AO40=\"E\",1+AN46,AN46)","v":0},{"$f":"IF(TwoWayQuiz!AP40=\"E\",1+AO46,AO46)","v":0},{"$f":"IF(TwoWayQuiz!AQ40=\"E\",1+AP46,AP46)","v":0},{"$f":"IF(TwoWayQuiz!AR40=\"E\",1+AQ46,AQ46)","v":0},{"$f":"IF(TwoWayQuiz!AS40=\"E\",1+AR46,AR46)","v":0},{"$f":"IF(TwoWayQuiz!AT40=\"E\",1+AS46,AS46)","v":0},{"$f":"IF(TwoWayQuiz!AU40=\"E\",1+AT46,AT46)","v":0},{"$f":"IF(TwoWayQuiz!AV40=\"E\",1+AU46,AU46)","v":0},{"$f":"IF(TwoWayQuiz!AW40=\"E\",1+AV46,AV46)","v":0},{"$f":"IF(TwoWayQuiz!AX40=\"E\",1+AW46,AW46)","v":0},{"$f":"IF(TwoWayQuiz!AY40=\"E\",1+AX46,AX46)","v":0},{"$f":"IF(TwoWayQuiz!AZ40=\"E\",1+AY46,AY46)","v":0},{"$f":"IF(TwoWayQuiz!BA40=\"E\",1+AZ46,AZ46)","v":0},{"$f":"IF(TwoWayQuiz!BB40=\"E\",1+BA46,BA46)","v":0},{"$f":"IF(TwoWayQuiz!BC40=\"E\",1+BB46,BB46)","v":0},{"$f":"IF(TwoWayQuiz!BD40=\"E\",1+BC46,BC46)","v":0},{"$f":"IF(TwoWayQuiz!BE40=\"E\",1+BD46,BD46)","v":0},{"$f":"IF(TwoWayQuiz!BF40=\"E\",1+BE46,BE46)","v":0},{"$f":"IF(TwoWayQuiz!BG40=\"E\",1+BF46,BF46)","v":0}]
[null,null,{"$f":"CONCATENATE(\"# of errors \",C41)","v":"# of errors Quizzer #2"},{"$f":"IF(TwoWayQuiz!D41=\"E\",1,0)","v":0},{"$f":"IF(TwoWayQuiz!E41=\"E\",1+D47,D47)","v":0},{"$f":"IF(TwoWayQuiz!F41=\"E\",1+E47,E47)","v":0},{"$f":"IF(TwoWayQuiz!G41=\"E\",1+F47,F47)","v":0},{"$f":"IF(TwoWayQuiz!H41=\"E\",1+G47,G47)","v":0},{"$f":"IF(TwoWayQuiz!I41=\"E\",1+H47,H47)","v":0},{"$f":"IF(TwoWayQuiz!J41=\"E\",1+I47,I47)","v":0},{"$f":"IF(TwoWayQuiz!K41=\"E\",1+J47,J47)","v":0},{"$f":"IF(TwoWayQuiz!L41=\"E\",1+K47,K47)","v":0},{"$f":"IF(TwoWayQuiz!M41=\"E\",1+L47,L47)","v":0},{"$f":"IF(TwoWayQuiz!N41=\"E\",1+M47,M47)","v":0},{"$f":"IF(TwoWayQuiz!O41=\"E\",1+N47,N47)","v":0},{"$f":"IF(TwoWayQuiz!P41=\"E\",1+O47,O47)","v":0},{"$f":"IF(TwoWayQuiz!Q41=\"E\",1+P47,P47)","v":0},{"$f":"IF(TwoWayQuiz!R41=\"E\",1+Q47,Q47)","v":0},{"$f":"IF(TwoWayQuiz!S41=\"E\",1+R47,R47)","v":0},{"$f":"IF(TwoWayQuiz!T41=\"E\",1+S47,S47)","v":0},{"$f":"IF(TwoWayQuiz!U41=\"E\",1+T47,T47)","v":0},{"$f":"IF(TwoWayQuiz!V41=\"E\",1+U47,U47)","v":0},{"$f":"IF(TwoWayQuiz!W41=\"E\",1+V47,V47)","v":0},{"$f":"IF(TwoWayQuiz!X41=\"E\",1+W47,W47)","v":0},{"$f":"IF(TwoWayQuiz!Y41=\"E\",1+X47,X47)","v":0},{"$f":"IF(TwoWayQuiz!Z41=\"E\",1+Y47,Y47)","v":0},{"$f":"IF(TwoWayQuiz!AA41=\"E\",1+Z47,Z47)","v":0},{"$f":"IF(TwoWayQuiz!AB41=\"E\",1+AA47,AA47)","v":0},{"$f":"IF(TwoWayQuiz!AC41=\"E\",1+AB47,AB47)","v":0},{"$f":"IF(TwoWayQuiz!AD41=\"E\",1+AC47,AC47)","v":0},{"$f":"IF(TwoWayQuiz!AE41=\"E\",1+AD47,AD47)","v":0},{"$f":"IF(TwoWayQuiz!AF41=\"E\",1+AE47,AE47)","v":0},{"$f":"IF(TwoWayQuiz!AG41=\"E\",1+AF47,AF47)","v":0},{"$f":"IF(TwoWayQuiz!AH41=\"E\",1+AG47,AG47)","v":0},{"$f":"IF(TwoWayQuiz!AI41=\"E\",1+AH47,AH47)","v":0},{"$f":"IF(TwoWayQuiz!AJ41=\"E\",1+AI47,AI47)","v":0},{"$f":"IF(TwoWayQuiz!AK41=\"E\",1+AJ47,AJ47)","v":0},{"$f":"IF(TwoWayQuiz!AL41=\"E\",1+AK47,AK47)","v":0},{"$f":"IF(TwoWayQuiz!AM41=\"E\",1+AL47,AL47)","v":0},{"$f":"IF(TwoWayQuiz!AN41=\"E\",1+AM47,AM47)","v":0},{"$f":"IF(TwoWayQuiz!AO41=\"E\",1+AN47,AN47)","v":0},{"$f":"IF(TwoWayQuiz!AP41=\"E\",1+AO47,AO47)","v":0},{"$f":"IF(TwoWayQuiz!AQ41=\"E\",1+AP47,AP47)","v":0},{"$f":"IF(TwoWayQuiz!AR41=\"E\",1+AQ47,AQ47)","v":0},{"$f":"IF(TwoWayQuiz!AS41=\"E\",1+AR47,AR47)","v":0},{"$f":"IF(TwoWayQuiz!AT41=\"E\",1+AS47,AS47)","v":0},{"$f":"IF(TwoWayQuiz!AU41=\"E\",1+AT47,AT47)","v":0},{"$f":"IF(TwoWayQuiz!AV41=\"E\",1+AU47,AU47)","v":0},{"$f":"IF(TwoWayQuiz!AW41=\"E\",1+AV47,AV47)","v":0},{"$f":"IF(TwoWayQuiz!AX41=\"E\",1+AW47,AW47)","v":0},{"$f":"IF(TwoWayQuiz!AY41=\"E\",1+AX47,AX47)","v":0},{"$f":"IF(TwoWayQuiz!AZ41=\"E\",1+AY47,AY47)","v":0},{"$f":"IF(TwoWayQuiz!BA41=\"E\",1+AZ47,AZ47)","v":0},{"$f":"IF(TwoWayQuiz!BB41=\"E\",1+BA47,BA47)","v":0},{"$f":"IF(TwoWayQuiz!BC41=\"E\",1+BB47,BB47)","v":0},{"$f":"IF(TwoWayQuiz!BD41=\"E\",1+BC47,BC47)","v":0},{"$f":"IF(TwoWayQuiz!BE41=\"E\",1+BD47,BD47)","v":0},{"$f":"IF(TwoWayQuiz!BF41=\"E\",1+BE47,BE47)","v":0},{"$f":"IF(TwoWayQuiz!BG41=\"E\",1+BF47,BF47)","v":0}]
[null,null,"# of errors Quizzer #3",{"$f":"IF(TwoWayQuiz!D42=\"E\",1,0)","v":0},{"$f":"IF(TwoWayQuiz!E42=\"E\",1+D48,D48)","v":0},{"$f":"IF(TwoWayQuiz!F42=\"E\",1+E48,E48)","v":0},{"$f":"IF(TwoWayQuiz!G42=\"E\",1+F48,F48)","v":0},{"$f":"IF(TwoWayQuiz!H42=\"E\",1+G48,G48)","v":0},{"$f":"IF(TwoWayQuiz!I42=\"E\",1+H48,H48)","v":0},{"$f":"IF(TwoWayQuiz!J42=\"E\",1+I48,I48)","v":0},{"$f":"IF(TwoWayQuiz!K42=\"E\",1+J48,J48)","v":0},{"$f":"IF(TwoWayQuiz!L42=\"E\",1+K48,K48)","v":0},{"$f":"IF(TwoWayQuiz!M42=\"E\",1+L48,L48)","v":0},{"$f":"IF(TwoWayQuiz!N42=\"E\",1+M48,M48)","v":0},{"$f":"IF(TwoWayQuiz!O42=\"E\",1+N48,N48)","v":0},{"$f":"IF(TwoWayQuiz!P42=\"E\",1+O48,O48)","v":0},{"$f":"IF(TwoWayQuiz!Q42=\"E\",1+P48,P48)","v":0},{"$f":"IF(TwoWayQuiz!R42=\"E\",1+Q48,Q48)","v":0},{"$f":"IF(TwoWayQuiz!S42=\"E\",1+R48,R48)","v":0},{"$f":"IF(TwoWayQuiz!T42=\"E\",1+S48,S48)","v":0},{"$f":"IF(TwoWayQuiz!U42=\"E\",1+T48,T48)","v":0},{"$f":"IF(TwoWayQuiz!V42=\"E\",1+U48,U48)","v":0},{"$f":"IF(TwoWayQuiz!W42=\"E\",1+V48,V48)","v":0},{"$f":"IF(TwoWayQuiz!X42=\"E\",1+W48,W48)","v":0},{"$f":"IF(TwoWayQuiz!Y42=\"E\",1+X48,X48)","v":0},{"$f":"IF(TwoWayQuiz!Z42=\"E\",1+Y48,Y48)","v":0},{"$f":"IF(TwoWayQuiz!AA42=\"E\",1+Z48,Z48)","v":0},{"$f":"IF(TwoWayQuiz!AB42=\"E\",1+AA48,AA48)","v":0},{"$f":"IF(TwoWayQuiz!AC42=\"E\",1+AB48,AB48)","v":0},{"$f":"IF(TwoWayQuiz!AD42=\"E\",1+AC48,AC48)","v":0},{"$f":"IF(TwoWayQuiz!AE42=\"E\",1+AD48,AD48)","v":0},{"$f":"IF(TwoWayQuiz!AF42=\"E\",1+AE48,AE48)","v":0},{"$f":"IF(TwoWayQuiz!AG42=\"E\",1+AF48,AF48)","v":0},{"$f":"IF(TwoWayQuiz!AH42=\"E\",1+AG48,AG48)","v":0},{"$f":"IF(TwoWayQuiz!AI42=\"E\",1+AH48,AH48)","v":0},{"$f":"IF(TwoWayQuiz!AJ42=\"E\",1+AI48,AI48)","v":0},{"$f":"IF(TwoWayQuiz!AK42=\"E\",1+AJ48,AJ48)","v":0},{"$f":"IF(TwoWayQuiz!AL42=\"E\",1+AK48,AK48)","v":0},{"$f":"IF(TwoWayQuiz!AM42=\"E\",1+AL48,AL48)","v":0},{"$f":"IF(TwoWayQuiz!AN42=\"E\",1+AM48,AM48)","v":0},{"$f":"IF(TwoWayQuiz!AO42=\"E\",1+AN48,AN48)","v":0},{"$f":"IF(TwoWayQuiz!AP42=\"E\",1+AO48,AO48)","v":0},{"$f":"IF(TwoWayQuiz!AQ42=\"E\",1+AP48,AP48)","v":0},{"$f":"IF(TwoWayQuiz!AR42=\"E\",1+AQ48,AQ48)","v":0},{"$f":"IF(TwoWayQuiz!AS42=\"E\",1+AR48,AR48)","v":0},{"$f":"IF(TwoWayQuiz!AT42=\"E\",1+AS48,AS48)","v":0},{"$f":"IF(TwoWayQuiz!AU42=\"E\",1+AT48,AT48)","v":0},{"$f":"IF(TwoWayQuiz!AV42=\"E\",1+AU48,AU48)","v":0},{"$f":"IF(TwoWayQuiz!AW42=\"E\",1+AV48,AV48)","v":0},{"$f":"IF(TwoWayQuiz!AX42=\"E\",1+AW48,AW48)","v":0},{"$f":"IF(TwoWayQuiz!AY42=\"E\",1+AX48,AX48)","v":0},{"$f":"IF(TwoWayQuiz!AZ42=\"E\",1+AY48,AY48)","v":0},{"$f":"IF(TwoWayQuiz!BA42=\"E\",1+AZ48,AZ48)","v":0},{"$f":"IF(TwoWayQuiz!BB42=\"E\",1+BA48,BA48)","v":0},{"$f":"IF(TwoWayQuiz!BC42=\"E\",1+BB48,BB48)","v":0},{"$f":"IF(TwoWayQuiz!BD42=\"E\",1+BC48,BC48)","v":0},{"$f":"IF(TwoWayQuiz!BE42=\"E\",1+BD48,BD48)","v":0},{"$f":"IF(TwoWayQuiz!BF42=\"E\",1+BE48,BE48)","v":0},{"$f":"IF(TwoWayQuiz!BG42=\"E\",1+BF48,BF48)","v":0}]
[null,null,"# of errors Quizzer #4",{"$f":"IF(TwoWayQuiz!D43=\"E\",1,0)","v":0},{"$f":"IF(TwoWayQuiz!E43=\"E\",1+D49,D49)","v":0},{"$f":"IF(TwoWayQuiz!F43=\"E\",1+E49,E49)","v":0},{"$f":"IF(TwoWayQuiz!G43=\"E\",1+F49,F49)","v":0},{"$f":"IF(TwoWayQuiz!H43=\"E\",1+G49,G49)","v":0},{"$f":"IF(TwoWayQuiz!I43=\"E\",1+H49,H49)","v":0},{"$f":"IF(TwoWayQuiz!J43=\"E\",1+I49,I49)","v":0},{"$f":"IF(TwoWayQuiz!K43=\"E\",1+J49,J49)","v":0},{"$f":"IF(TwoWayQuiz!L43=\"E\",1+K49,K49)","v":0},{"$f":"IF(TwoWayQuiz!M43=\"E\",1+L49,L49)","v":0},{"$f":"IF(TwoWayQuiz!N43=\"E\",1+M49,M49)","v":0},{"$f":"IF(TwoWayQuiz!O43=\"E\",1+N49,N49)","v":0},{"$f":"IF(TwoWayQuiz!P43=\"E\",1+O49,O49)","v":0},{"$f":"IF(TwoWayQuiz!Q43=\"E\",1+P49,P49)","v":0},{"$f":"IF(TwoWayQuiz!R43=\"E\",1+Q49,Q49)","v":0},{"$f":"IF(TwoWayQuiz!S43=\"E\",1+R49,R49)","v":0},{"$f":"IF(TwoWayQuiz!T43=\"E\",1+S49,S49)","v":0},{"$f":"IF(TwoWayQuiz!U43=\"E\",1+T49,T49)","v":0},{"$f":"IF(TwoWayQuiz!V43=\"E\",1+U49,U49)","v":0},{"$f":"IF(TwoWayQuiz!W43=\"E\",1+V49,V49)","v":0},{"$f":"IF(TwoWayQuiz!X43=\"E\",1+W49,W49)","v":0},{"$f":"IF(TwoWayQuiz!Y43=\"E\",1+X49,X49)","v":0},{"$f":"IF(TwoWayQuiz!Z43=\"E\",1+Y49,Y49)","v":0},{"$f":"IF(TwoWayQuiz!AA43=\"E\",1+Z49,Z49)","v":0},{"$f":"IF(TwoWayQuiz!AB43=\"E\",1+AA49,AA49)","v":0},{"$f":"IF(TwoWayQuiz!AC43=\"E\",1+AB49,AB49)","v":0},{"$f":"IF(TwoWayQuiz!AD43=\"E\",1+AC49,AC49)","v":0},{"$f":"IF(TwoWayQuiz!AE43=\"E\",1+AD49,AD49)","v":0},{"$f":"IF(TwoWayQuiz!AF43=\"E\",1+AE49,AE49)","v":0},{"$f":"IF(TwoWayQuiz!AG43=\"E\",1+AF49,AF49)","v":0},{"$f":"IF(TwoWayQuiz!AH43=\"E\",1+AG49,AG49)","v":0},{"$f":"IF(TwoWayQuiz!AI43=\"E\",1+AH49,AH49)","v":0},{"$f":"IF(TwoWayQuiz!AJ43=\"E\",1+AI49,AI49)","v":0},{"$f":"IF(TwoWayQuiz!AK43=\"E\",1+AJ49,AJ49)","v":0},{"$f":"IF(TwoWayQuiz!AL43=\"E\",1+AK49,AK49)","v":0},{"$f":"IF(TwoWayQuiz!AM43=\"E\",1+AL49,AL49)","v":0},{"$f":"IF(TwoWayQuiz!AN43=\"E\",1+AM49,AM49)","v":0},{"$f":"IF(TwoWayQuiz!AO43=\"E\",1+AN49,AN49)","v":0},{"$f":"IF(TwoWayQuiz!AP43=\"E\",1+AO49,AO49)","v":0},{"$f":"IF(TwoWayQuiz!AQ43=\"E\",1+AP49,AP49)","v":0},{"$f":"IF(TwoWayQuiz!AR43=\"E\",1+AQ49,AQ49)","v":0},{"$f":"IF(TwoWayQuiz!AS43=\"E\",1+AR49,AR49)","v":0},{"$f":"IF(TwoWayQuiz!AT43=\"E\",1+AS49,AS49)","v":0},{"$f":"IF(TwoWayQuiz!AU43=\"E\",1+AT49,AT49)","v":0},{"$f":"IF(TwoWayQuiz!AV43=\"E\",1+AU49,AU49)","v":0},{"$f":"IF(TwoWayQuiz!AW43=\"E\",1+AV49,AV49)","v":0},{"$f":"IF(TwoWayQuiz!AX43=\"E\",1+AW49,AW49)","v":0},{"$f":"IF(TwoWayQuiz!AY43=\"E\",1+AX49,AX49)","v":0},{"$f":"IF(TwoWayQuiz!AZ43=\"E\",1+AY49,AY49)","v":0},{"$f":"IF(TwoWayQuiz!BA43=\"E\",1+AZ49,AZ49)","v":0},{"$f":"IF(TwoWayQuiz!BB43=\"E\",1+BA49,BA49)","v":0},{"$f":"IF(TwoWayQuiz!BC43=\"E\",1+BB49,BB49)","v":0},{"$f":"IF(TwoWayQuiz!BD43=\"E\",1+BC49,BC49)","v":0},{"$f":"IF(TwoWayQuiz!BE43=\"E\",1+BD49,BD49)","v":0},{"$f":"IF(TwoWayQuiz!BF43=\"E\",1+BE49,BE49)","v":0},{"$f":"IF(TwoWayQuiz!BG43=\"E\",1+BF49,BF49)","v":0}]
[null,null,"# of errors ",{"$f":"IF(TwoWayQuiz!D44=\"E\",1,0)","v":0},{"$f":"IF(TwoWayQuiz!E44=\"E\",1+D50,D50)","v":0},{"$f":"IF(TwoWayQuiz!F44=\"E\",1+E50,E50)","v":0},{"$f":"IF(TwoWayQuiz!G44=\"E\",1+F50,F50)","v":0},{"$f":"IF(TwoWayQuiz!H44=\"E\",1+G50,G50)","v":0},{"$f":"IF(TwoWayQuiz!I44=\"E\",1+H50,H50)","v":0},{"$f":"IF(TwoWayQuiz!J44=\"E\",1+I50,I50)","v":0},{"$f":"IF(TwoWayQuiz!K44=\"E\",1+J50,J50)","v":0},{"$f":"IF(TwoWayQuiz!L44=\"E\",1+K50,K50)","v":0},{"$f":"IF(TwoWayQuiz!M44=\"E\",1+L50,L50)","v":0},{"$f":"IF(TwoWayQuiz!N44=\"E\",1+M50,M50)","v":0},{"$f":"IF(TwoWayQuiz!O44=\"E\",1+N50,N50)","v":0},{"$f":"IF(TwoWayQuiz!P44=\"E\",1+O50,O50)","v":0},{"$f":"IF(TwoWayQuiz!Q44=\"E\",1+P50,P50)","v":0},{"$f":"IF(TwoWayQuiz!R44=\"E\",1+Q50,Q50)","v":0},{"$f":"IF(TwoWayQuiz!S44=\"E\",1+R50,R50)","v":0},{"$f":"IF(TwoWayQuiz!T44=\"E\",1+S50,S50)","v":0},{"$f":"IF(TwoWayQuiz!U44=\"E\",1+T50,T50)","v":0},{"$f":"IF(TwoWayQuiz!V44=\"E\",1+U50,U50)","v":0},{"$f":"IF(TwoWayQuiz!W44=\"E\",1+V50,V50)","v":0},{"$f":"IF(TwoWayQuiz!X44=\"E\",1+W50,W50)","v":0},{"$f":"IF(TwoWayQuiz!Y44=\"E\",1+X50,X50)","v":0},{"$f":"IF(TwoWayQuiz!Z44=\"E\",1+Y50,Y50)","v":0},{"$f":"IF(TwoWayQuiz!AA44=\"E\",1+Z50,Z50)","v":0},{"$f":"IF(TwoWayQuiz!AB44=\"E\",1+AA50,AA50)","v":0},{"$f":"IF(TwoWayQuiz!AC44=\"E\",1+AB50,AB50)","v":0},{"$f":"IF(TwoWayQuiz!AD44=\"E\",1+AC50,AC50)","v":0},{"$f":"IF(TwoWayQuiz!AE44=\"E\",1+AD50,AD50)","v":0},{"$f":"IF(TwoWayQuiz!AF44=\"E\",1+AE50,AE50)","v":0},{"$f":"IF(TwoWayQuiz!AG44=\"E\",1+AF50,AF50)","v":0},{"$f":"IF(TwoWayQuiz!AH44=\"E\",1+AG50,AG50)","v":0},{"$f":"IF(TwoWayQuiz!AI44=\"E\",1+AH50,AH50)","v":0},{"$f":"IF(TwoWayQuiz!AJ44=\"E\",1+AI50,AI50)","v":0},{"$f":"IF(TwoWayQuiz!AK44=\"E\",1+AJ50,AJ50)","v":0},{"$f":"IF(TwoWayQuiz!AL44=\"E\",1+AK50,AK50)","v":0},{"$f":"IF(TwoWayQuiz!AM44=\"E\",1+AL50,AL50)","v":0},{"$f":"IF(TwoWayQuiz!AN44=\"E\",1+AM50,AM50)","v":0},{"$f":"IF(TwoWayQuiz!AO44=\"E\",1+AN50,AN50)","v":0},{"$f":"IF(TwoWayQuiz!AP44=\"E\",1+AO50,AO50)","v":0},{"$f":"IF(TwoWayQuiz!AQ44=\"E\",1+AP50,AP50)","v":0},{"$f":"IF(TwoWayQuiz!AR44=\"E\",1+AQ50,AQ50)","v":0},{"$f":"IF(TwoWayQuiz!AS44=\"E\",1+AR50,AR50)","v":0},{"$f":"IF(TwoWayQuiz!AT44=\"E\",1+AS50,AS50)","v":0},{"$f":"IF(TwoWayQuiz!AU44=\"E\",1+AT50,AT50)","v":0},{"$f":"IF(TwoWayQuiz!AV44=\"E\",1+AU50,AU50)","v":0},{"$f":"IF(TwoWayQuiz!AW44=\"E\",1+AV50,AV50)","v":0},{"$f":"IF(TwoWayQuiz!AX44=\"E\",1+AW50,AW50)","v":0},{"$f":"IF(TwoWayQuiz!AY44=\"E\",1+AX50,AX50)","v":0},{"$f":"IF(TwoWayQuiz!AZ44=\"E\",1+AY50,AY50)","v":0},{"$f":"IF(TwoWayQuiz!BA44=\"E\",1+AZ50,AZ50)","v":0},{"$f":"IF(TwoWayQuiz!BB44=\"E\",1+BA50,BA50)","v":0},{"$f":"IF(TwoWayQuiz!BC44=\"E\",1+BB50,BB50)","v":0},{"$f":"IF(TwoWayQuiz!BD44=\"E\",1+BC50,BC50)","v":0},{"$f":"IF(TwoWayQuiz!BE44=\"E\",1+BD50,BD50)","v":0},{"$f":"IF(TwoWayQuiz!BF44=\"E\",1+BE50,BE50)","v":0},{"$f":"IF(TwoWayQuiz!BG44=\"E\",1+BF50,BF50)","v":0}]
[]
[null,null,{"$f":"CONCATENATE(\"# 20's \",Sheet4!C40)","v":"# 20's Quizzer #1"},{"$f":"COUNTIF(TwoWayQuiz!$D40:D40,20)+COUNTIF(TwoWayQuiz!$D40:D40,30)","v":0},{"$f":"COUNTIF(TwoWayQuiz!$D40:E40,20)+COUNTIF(TwoWayQuiz!$D40:E40,30)","v":0},{"$f":"COUNTIF(TwoWayQuiz!$D40:F40,20)+COUNTIF(TwoWayQuiz!$D40:F40,30)","v":0},{"$f":"COUNTIF(TwoWayQuiz!$D40:G40,20)+COUNTIF(TwoWayQuiz!$D40:G40,30)","v":0},{"$f":"COUNTIF(TwoWayQuiz!$D40:H40,20)+COUNTIF(TwoWayQuiz!$D40:H40,30)","v":0},{"$f":"COUNTIF(TwoWayQuiz!$D40:I40,20)+COUNTIF(TwoWayQuiz!$D40:I40,30)","v":0},{"$f":"COUNTIF(TwoWayQuiz!$D40:J40,20)+COUNTIF(TwoWayQuiz!$D40:J40,30)","v":0},{"$f":"COUNTIF(TwoWayQuiz!$D40:K40,20)+COUNTIF(TwoWayQuiz!$D40:K40,30)","v":0},{"$f":"COUNTIF(TwoWayQuiz!$D40:L40,20)+COUNTIF(TwoWayQuiz!$D40:L40,30)","v":0},{"$f":"COUNTIF(TwoWayQuiz!$D40:M40,20)+COUNTIF(TwoWayQuiz!$D40:M40,30)","v":0},{"$f":"COUNTIF(TwoWayQuiz!$D40:N40,20)+COUNTIF(TwoWayQuiz!$D40:N40,30)","v":0},{"$f":"COUNTIF(TwoWayQuiz!$D40:O40,20)+COUNTIF(TwoWayQuiz!$D40:O40,30)","v":0},{"$f":"COUNTIF(TwoWayQuiz!$D40:P40,20)+COUNTIF(TwoWayQuiz!$D40:P40,30)","v":0},{"$f":"COUNTIF(TwoWayQuiz!$D40:Q40,20)+COUNTIF(TwoWayQuiz!$D40:Q40,30)","v":0},{"$f":"COUNTIF(TwoWayQuiz!$D40:R40,20)+COUNTIF(TwoWayQuiz!$D40:R40,30)","v":0},{"$f":"COUNTIF(TwoWayQuiz!$D40:S40,20)+COUNTIF(TwoWayQuiz!$D40:S40,30)","v":0},{"$f":"COUNTIF(TwoWayQuiz!$D40:T40,20)+COUNTIF(TwoWayQuiz!$D40:T40,30)","v":0},{"$f":"COUNTIF(TwoWayQuiz!$D40:U40,20)+COUNTIF(TwoWayQuiz!$D40:U40,30)","v":0},{"$f":"COUNTIF(TwoWayQuiz!$D40:V40,20)+COUNTIF(TwoWayQuiz!$D40:V40,30)","v":0},{"$f":"COUNTIF(TwoWayQuiz!$D40:W40,20)+COUNTIF(TwoWayQuiz!$D40:W40,30)","v":0},{"$f":"COUNTIF(TwoWayQuiz!$D40:X40,20)+COUNTIF(TwoWayQuiz!$D40:X40,30)","v":0},{"$f":"COUNTIF(TwoWayQuiz!$D40:Y40,20)+COUNTIF(TwoWayQuiz!$D40:Y40,30)","v":0},{"$f":"COUNTIF(TwoWayQuiz!$D40:Z40,20)+COUNTIF(TwoWayQuiz!$D40:Z40,30)","v":0},{"$f":"COUNTIF(TwoWayQuiz!$D40:AA40,20)+COUNTIF(TwoWayQuiz!$D40:AA40,30)","v":0},{"$f":"COUNTIF(TwoWayQuiz!$D40:AB40,20)+COUNTIF(TwoWayQuiz!$D40:AB40,30)","v":0},{"$f":"COUNTIF(TwoWayQuiz!$D40:AC40,20)+COUNTIF(TwoWayQuiz!$D40:AC40,30)","v":0},{"$f":"COUNTIF(TwoWayQuiz!$D40:AD40,20)+COUNTIF(TwoWayQuiz!$D40:AD40,30)","v":0},{"$f":"COUNTIF(TwoWayQuiz!$D40:AE40,20)+COUNTIF(TwoWayQuiz!$D40:AE40,30)","v":0},{"$f":"COUNTIF(TwoWayQuiz!$D40:AF40,20)+COUNTIF(TwoWayQuiz!$D40:AF40,30)","v":0},{"$f":"COUNTIF(TwoWayQuiz!$D40:AG40,20)+COUNTIF(TwoWayQuiz!$D40:AG40,30)","v":0},{"$f":"COUNTIF(TwoWayQuiz!$D40:AH40,20)+COUNTIF(TwoWayQuiz!$D40:AH40,30)","v":0},{"$f":"COUNTIF(TwoWayQuiz!$D40:AI40,20)+COUNTIF(TwoWayQuiz!$D40:AI40,30)","v":0},{"$f":"COUNTIF(TwoWayQuiz!$D40:AJ40,20)+COUNTIF(TwoWayQuiz!$D40:AJ40,30)","v":0},{"$f":"COUNTIF(TwoWayQuiz!$D40:AK40,20)+COUNTIF(TwoWayQuiz!$D40:AK40,30)","v":0},{"$f":"COUNTIF(TwoWayQuiz!$D40:AL40,20)+COUNTIF(TwoWayQuiz!$D40:AL40,30)","v":0},{"$f":"COUNTIF(TwoWayQuiz!$D40:AM40,20)+COUNTIF(TwoWayQuiz!$D40:AM40,30)","v":0},{"$f":"COUNTIF(TwoWayQuiz!$D40:AN40,20)+COUNTIF(TwoWayQuiz!$D40:AN40,30)","v":0},{"$f":"COUNTIF(TwoWayQuiz!$D40:AO40,20)+COUNTIF(TwoWayQuiz!$D40:AO40,30)","v":0},{"$f":"COUNTIF(TwoWayQuiz!$D40:AP40,20)+COUNTIF(TwoWayQuiz!$D40:AP40,30)","v":0},{"$f":"COUNTIF(TwoWayQuiz!$D40:AQ40,20)+COUNTIF(TwoWayQuiz!$D40:AQ40,30)","v":0},{"$f":"COUNTIF(TwoWayQuiz!$D40:AR40,20)+COUNTIF(TwoWayQuiz!$D40:AR40,30)","v":0},{"$f":"COUNTIF(TwoWayQuiz!$D40:AS40,20)+COUNTIF(TwoWayQuiz!$D40:AS40,30)","v":0},{"$f":"COUNTIF(TwoWayQuiz!$D40:AT40,20)+COUNTIF(TwoWayQuiz!$D40:AT40,30)","v":0},{"$f":"COUNTIF(TwoWayQuiz!$D40:AU40,20)+COUNTIF(TwoWayQuiz!$D40:AU40,30)","v":0},{"$f":"COUNTIF(TwoWayQuiz!$D40:AV40,20)+COUNTIF(TwoWayQuiz!$D40:AV40,30)","v":0},{"$f":"COUNTIF(TwoWayQuiz!$D40:AW40,20)+COUNTIF(TwoWayQuiz!$D40:AW40,30)","v":0},{"$f":"COUNTIF(TwoWayQuiz!$D40:AX40,20)+COUNTIF(TwoWayQuiz!$D40:AX40,30)","v":0},{"$f":"COUNTIF(TwoWayQuiz!$D40:AY40,20)+COUNTIF(TwoWayQuiz!$D40:AY40,30)","v":0},{"$f":"COUNTIF(TwoWayQuiz!$D40:AZ40,20)+COUNTIF(TwoWayQuiz!$D40:AZ40,30)","v":0},{"$f":"COUNTIF(TwoWayQuiz!$D40:BA40,20)+COUNTIF(TwoWayQuiz!$D40:BA40,30)","v":0},{"$f":"COUNTIF(TwoWayQuiz!$D40:BB40,20)+COUNTIF(TwoWayQuiz!$D40:BB40,30)","v":0},{"$f":"COUNTIF(TwoWayQuiz!$D40:BC40,20)+COUNTIF(TwoWayQuiz!$D40:BC40,30)","v":0},{"$f":"COUNTIF(TwoWayQuiz!$D40:BD40,20)+COUNTIF(TwoWayQuiz!$D40:BD40,30)","v":0},{"$f":"COUNTIF(TwoWayQuiz!$D40:BE40,20)+COUNTIF(TwoWayQuiz!$D40:BE40,30)","v":0},{"$f":"COUNTIF(TwoWayQuiz!$D40:BF40,20)+COUNTIF(TwoWayQuiz!$D40:BF40,30)","v":0},{"$f":"COUNTIF(TwoWayQuiz!$D40:BG40,20)+COUNTIF(TwoWayQuiz!$D40:BG40,30)","v":0}]
[null,null,{"$f":"CONCATENATE(\"# 20's \",Sheet4!C41)","v":"# 20's Quizzer #2"},{"$f":"COUNTIF(TwoWayQuiz!$D41:D41,20)+COUNTIF(TwoWayQuiz!$D41:D41,30)","v":0},{"$f":"COUNTIF(TwoWayQuiz!$D41:E41,20)+COUNTIF(TwoWayQuiz!$D41:E41,30)","v":0},{"$f":"COUNTIF(TwoWayQuiz!$D41:F41,20)+COUNTIF(TwoWayQuiz!$D41:F41,30)","v":0},{"$f":"COUNTIF(TwoWayQuiz!$D41:G41,20)+COUNTIF(TwoWayQuiz!$D41:G41,30)","v":0},{"$f":"COUNTIF(TwoWayQuiz!$D41:H41,20)+COUNTIF(TwoWayQuiz!$D41:H41,30)","v":0},{"$f":"COUNTIF(TwoWayQuiz!$D41:I41,20)+COUNTIF(TwoWayQuiz!$D41:I41,30)","v":0},{"$f":"COUNTIF(TwoWayQuiz!$D41:J41,20)+COUNTIF(TwoWayQuiz!$D41:J41,30)","v":0},{"$f":"COUNTIF(TwoWayQuiz!$D41:K41,20)+COUNTIF(TwoWayQuiz!$D41:K41,30)","v":0},{"$f":"COUNTIF(TwoWayQuiz!$D41:L41,20)+COUNTIF(TwoWayQuiz!$D41:L41,30)","v":0},{"$f":"COUNTIF(TwoWayQuiz!$D41:M41,20)+COUNTIF(TwoWayQuiz!$D41:M41,30)","v":0},{"$f":"COUNTIF(TwoWayQuiz!$D41:N41,20)+COUNTIF(TwoWayQuiz!$D41:N41,30)","v":0},{"$f":"COUNTIF(TwoWayQuiz!$D41:O41,20)+COUNTIF(TwoWayQuiz!$D41:O41,30)","v":0},{"$f":"COUNTIF(TwoWayQuiz!$D41:P41,20)+COUNTIF(TwoWayQuiz!$D41:P41,30)","v":0},{"$f":"COUNTIF(TwoWayQuiz!$D41:Q41,20)+COUNTIF(TwoWayQuiz!$D41:Q41,30)","v":0},{"$f":"COUNTIF(TwoWayQuiz!$D41:R41,20)+COUNTIF(TwoWayQuiz!$D41:R41,30)","v":0},{"$f":"COUNTIF(TwoWayQuiz!$D41:S41,20)+COUNTIF(TwoWayQuiz!$D41:S41,30)","v":0},{"$f":"COUNTIF(TwoWayQuiz!$D41:T41,20)+COUNTIF(TwoWayQuiz!$D41:T41,30)","v":0},{"$f":"COUNTIF(TwoWayQuiz!$D41:U41,20)+COUNTIF(TwoWayQuiz!$D41:U41,30)","v":0},{"$f":"COUNTIF(TwoWayQuiz!$D41:V41,20)+COUNTIF(TwoWayQuiz!$D41:V41,30)","v":0},{"$f":"COUNTIF(TwoWayQuiz!$D41:W41,20)+COUNTIF(TwoWayQuiz!$D41:W41,30)","v":0},{"$f":"COUNTIF(TwoWayQuiz!$D41:X41,20)+COUNTIF(TwoWayQuiz!$D41:X41,30)","v":0},{"$f":"COUNTIF(TwoWayQuiz!$D41:Y41,20)+COUNTIF(TwoWayQuiz!$D41:Y41,30)","v":0},{"$f":"COUNTIF(TwoWayQuiz!$D41:Z41,20)+COUNTIF(TwoWayQuiz!$D41:Z41,30)","v":0},{"$f":"COUNTIF(TwoWayQuiz!$D41:AA41,20)+COUNTIF(TwoWayQuiz!$D41:AA41,30)","v":0},{"$f":"COUNTIF(TwoWayQuiz!$D41:AB41,20)+COUNTIF(TwoWayQuiz!$D41:AB41,30)","v":0},{"$f":"COUNTIF(TwoWayQuiz!$D41:AC41,20)+COUNTIF(TwoWayQuiz!$D41:AC41,30)","v":0},{"$f":"COUNTIF(TwoWayQuiz!$D41:AD41,20)+COUNTIF(TwoWayQuiz!$D41:AD41,30)","v":0},{"$f":"COUNTIF(TwoWayQuiz!$D41:AE41,20)+COUNTIF(TwoWayQuiz!$D41:AE41,30)","v":0},{"$f":"COUNTIF(TwoWayQuiz!$D41:AF41,20)+COUNTIF(TwoWayQuiz!$D41:AF41,30)","v":0},{"$f":"COUNTIF(TwoWayQuiz!$D41:AG41,20)+COUNTIF(TwoWayQuiz!$D41:AG41,30)","v":0},{"$f":"COUNTIF(TwoWayQuiz!$D41:AH41,20)+COUNTIF(TwoWayQuiz!$D41:AH41,30)","v":0},{"$f":"COUNTIF(TwoWayQuiz!$D41:AI41,20)+COUNTIF(TwoWayQuiz!$D41:AI41,30)","v":0},{"$f":"COUNTIF(TwoWayQuiz!$D41:AJ41,20)+COUNTIF(TwoWayQuiz!$D41:AJ41,30)","v":0},{"$f":"COUNTIF(TwoWayQuiz!$D41:AK41,20)+COUNTIF(TwoWayQuiz!$D41:AK41,30)","v":0},{"$f":"COUNTIF(TwoWayQuiz!$D41:AL41,20)+COUNTIF(TwoWayQuiz!$D41:AL41,30)","v":0},{"$f":"COUNTIF(TwoWayQuiz!$D41:AM41,20)+COUNTIF(TwoWayQuiz!$D41:AM41,30)","v":0},{"$f":"COUNTIF(TwoWayQuiz!$D41:AN41,20)+COUNTIF(TwoWayQuiz!$D41:AN41,30)","v":0},{"$f":"COUNTIF(TwoWayQuiz!$D41:AO41,20)+COUNTIF(TwoWayQuiz!$D41:AO41,30)","v":0},{"$f":"COUNTIF(TwoWayQuiz!$D41:AP41,20)+COUNTIF(TwoWayQuiz!$D41:AP41,30)","v":0},{"$f":"COUNTIF(TwoWayQuiz!$D41:AQ41,20)+COUNTIF(TwoWayQuiz!$D41:AQ41,30)","v":0},{"$f":"COUNTIF(TwoWayQuiz!$D41:AR41,20)+COUNTIF(TwoWayQuiz!$D41:AR41,30)","v":0},{"$f":"COUNTIF(TwoWayQuiz!$D41:AS41,20)+COUNTIF(TwoWayQuiz!$D41:AS41,30)","v":0},{"$f":"COUNTIF(TwoWayQuiz!$D41:AT41,20)+COUNTIF(TwoWayQuiz!$D41:AT41,30)","v":0},{"$f":"COUNTIF(TwoWayQuiz!$D41:AU41,20)+COUNTIF(TwoWayQuiz!$D41:AU41,30)","v":0},{"$f":"COUNTIF(TwoWayQuiz!$D41:AV41,20)+COUNTIF(TwoWayQuiz!$D41:AV41,30)","v":0},{"$f":"COUNTIF(TwoWayQuiz!$D41:AW41,20)+COUNTIF(TwoWayQuiz!$D41:AW41,30)","v":0},{"$f":"COUNTIF(TwoWayQuiz!$D41:AX41,20)+COUNTIF(TwoWayQuiz!$D41:AX41,30)","v":0},{"$f":"COUNTIF(TwoWayQuiz!$D41:AY41,20)+COUNTIF(TwoWayQuiz!$D41:AY41,30)","v":0},{"$f":"COUNTIF(TwoWayQuiz!$D41:AZ41,20)+COUNTIF(TwoWayQuiz!$D41:AZ41,30)","v":0},{"$f":"COUNTIF(TwoWayQuiz!$D41:BA41,20)+COUNTIF(TwoWayQuiz!$D41:BA41,30)","v":0},{"$f":"COUNTIF(TwoWayQuiz!$D41:BB41,20)+COUNTIF(TwoWayQuiz!$D41:BB41,30)","v":0},{"$f":"COUNTIF(TwoWayQuiz!$D41:BC41,20)+COUNTIF(TwoWayQuiz!$D41:BC41,30)","v":0},{"$f":"COUNTIF(TwoWayQuiz!$D41:BD41,20)+COUNTIF(TwoWayQuiz!$D41:BD41,30)","v":0},{"$f":"COUNTIF(TwoWayQuiz!$D41:BE41,20)+COUNTIF(TwoWayQuiz!$D41:BE41,30)","v":0},{"$f":"COUNTIF(TwoWayQuiz!$D41:BF41,20)+COUNTIF(TwoWayQuiz!$D41:BF41,30)","v":0},{"$f":"COUNTIF(TwoWayQuiz!$D41:BG41,20)+COUNTIF(TwoWayQuiz!$D41:BG41,30)","v":0}]
[null,null,{"$f":"CONCATENATE(\"# 20's \",Sheet4!C42)","v":"# 20's Quizzer #3"},{"$f":"COUNTIF(TwoWayQuiz!$D42:D42,20)+COUNTIF(TwoWayQuiz!$D42:D42,30)","v":0},{"$f":"COUNTIF(TwoWayQuiz!$D42:E42,20)+COUNTIF(TwoWayQuiz!$D42:E42,30)","v":0},{"$f":"COUNTIF(TwoWayQuiz!$D42:F42,20)+COUNTIF(TwoWayQuiz!$D42:F42,30)","v":0},{"$f":"COUNTIF(TwoWayQuiz!$D42:G42,20)+COUNTIF(TwoWayQuiz!$D42:G42,30)","v":0},{"$f":"COUNTIF(TwoWayQuiz!$D42:H42,20)+COUNTIF(TwoWayQuiz!$D42:H42,30)","v":0},{"$f":"COUNTIF(TwoWayQuiz!$D42:I42,20)+COUNTIF(TwoWayQuiz!$D42:I42,30)","v":0},{"$f":"COUNTIF(TwoWayQuiz!$D42:J42,20)+COUNTIF(TwoWayQuiz!$D42:J42,30)","v":0},{"$f":"COUNTIF(TwoWayQuiz!$D42:K42,20)+COUNTIF(TwoWayQuiz!$D42:K42,30)","v":0},{"$f":"COUNTIF(TwoWayQuiz!$D42:L42,20)+COUNTIF(TwoWayQuiz!$D42:L42,30)","v":0},{"$f":"COUNTIF(TwoWayQuiz!$D42:M42,20)+COUNTIF(TwoWayQuiz!$D42:M42,30)","v":0},{"$f":"COUNTIF(TwoWayQuiz!$D42:N42,20)+COUNTIF(TwoWayQuiz!$D42:N42,30)","v":0},{"$f":"COUNTIF(TwoWayQuiz!$D42:O42,20)+COUNTIF(TwoWayQuiz!$D42:O42,30)","v":0},{"$f":"COUNTIF(TwoWayQuiz!$D42:P42,20)+COUNTIF(TwoWayQuiz!$D42:P42,30)","v":0},{"$f":"COUNTIF(TwoWayQuiz!$D42:Q42,20)+COUNTIF(TwoWayQuiz!$D42:Q42,30)","v":0},{"$f":"COUNTIF(TwoWayQuiz!$D42:R42,20)+COUNTIF(TwoWayQuiz!$D42:R42,30)","v":0},{"$f":"COUNTIF(TwoWayQuiz!$D42:S42,20)+COUNTIF(TwoWayQuiz!$D42:S42,30)","v":0},{"$f":"COUNTIF(TwoWayQuiz!$D42:T42,20)+COUNTIF(TwoWayQuiz!$D42:T42,30)","v":0},{"$f":"COUNTIF(TwoWayQuiz!$D42:U42,20)+COUNTIF(TwoWayQuiz!$D42:U42,30)","v":0},{"$f":"COUNTIF(TwoWayQuiz!$D42:V42,20)+COUNTIF(TwoWayQuiz!$D42:V42,30)","v":0},{"$f":"COUNTIF(TwoWayQuiz!$D42:W42,20)+COUNTIF(TwoWayQuiz!$D42:W42,30)","v":0},{"$f":"COUNTIF(TwoWayQuiz!$D42:X42,20)+COUNTIF(TwoWayQuiz!$D42:X42,30)","v":0},{"$f":"COUNTIF(TwoWayQuiz!$D42:Y42,20)+COUNTIF(TwoWayQuiz!$D42:Y42,30)","v":0},{"$f":"COUNTIF(TwoWayQuiz!$D42:Z42,20)+COUNTIF(TwoWayQuiz!$D42:Z42,30)","v":0},{"$f":"COUNTIF(TwoWayQuiz!$D42:AA42,20)+COUNTIF(TwoWayQuiz!$D42:AA42,30)","v":0},{"$f":"COUNTIF(TwoWayQuiz!$D42:AB42,20)+COUNTIF(TwoWayQuiz!$D42:AB42,30)","v":0},{"$f":"COUNTIF(TwoWayQuiz!$D42:AC42,20)+COUNTIF(TwoWayQuiz!$D42:AC42,30)","v":0},{"$f":"COUNTIF(TwoWayQuiz!$D42:AD42,20)+COUNTIF(TwoWayQuiz!$D42:AD42,30)","v":0},{"$f":"COUNTIF(TwoWayQuiz!$D42:AE42,20)+COUNTIF(TwoWayQuiz!$D42:AE42,30)","v":0},{"$f":"COUNTIF(TwoWayQuiz!$D42:AF42,20)+COUNTIF(TwoWayQuiz!$D42:AF42,30)","v":0},{"$f":"COUNTIF(TwoWayQuiz!$D42:AG42,20)+COUNTIF(TwoWayQuiz!$D42:AG42,30)","v":0},{"$f":"COUNTIF(TwoWayQuiz!$D42:AH42,20)+COUNTIF(TwoWayQuiz!$D42:AH42,30)","v":0},{"$f":"COUNTIF(TwoWayQuiz!$D42:AI42,20)+COUNTIF(TwoWayQuiz!$D42:AI42,30)","v":0},{"$f":"COUNTIF(TwoWayQuiz!$D42:AJ42,20)+COUNTIF(TwoWayQuiz!$D42:AJ42,30)","v":0},{"$f":"COUNTIF(TwoWayQuiz!$D42:AK42,20)+COUNTIF(TwoWayQuiz!$D42:AK42,30)","v":0},{"$f":"COUNTIF(TwoWayQuiz!$D42:AL42,20)+COUNTIF(TwoWayQuiz!$D42:AL42,30)","v":0},{"$f":"COUNTIF(TwoWayQuiz!$D42:AM42,20)+COUNTIF(TwoWayQuiz!$D42:AM42,30)","v":0},{"$f":"COUNTIF(TwoWayQuiz!$D42:AN42,20)+COUNTIF(TwoWayQuiz!$D42:AN42,30)","v":0},{"$f":"COUNTIF(TwoWayQuiz!$D42:AO42,20)+COUNTIF(TwoWayQuiz!$D42:AO42,30)","v":0},{"$f":"COUNTIF(TwoWayQuiz!$D42:AP42,20)+COUNTIF(TwoWayQuiz!$D42:AP42,30)","v":0},{"$f":"COUNTIF(TwoWayQuiz!$D42:AQ42,20)+COUNTIF(TwoWayQuiz!$D42:AQ42,30)","v":0},{"$f":"COUNTIF(TwoWayQuiz!$D42:AR42,20)+COUNTIF(TwoWayQuiz!$D42:AR42,30)","v":0},{"$f":"COUNTIF(TwoWayQuiz!$D42:AS42,20)+COUNTIF(TwoWayQuiz!$D42:AS42,30)","v":0},{"$f":"COUNTIF(TwoWayQuiz!$D42:AT42,20)+COUNTIF(TwoWayQuiz!$D42:AT42,30)","v":0},{"$f":"COUNTIF(TwoWayQuiz!$D42:AU42,20)+COUNTIF(TwoWayQuiz!$D42:AU42,30)","v":0},{"$f":"COUNTIF(TwoWayQuiz!$D42:AV42,20)+COUNTIF(TwoWayQuiz!$D42:AV42,30)","v":0},{"$f":"COUNTIF(TwoWayQuiz!$D42:AW42,20)+COUNTIF(TwoWayQuiz!$D42:AW42,30)","v":0},{"$f":"COUNTIF(TwoWayQuiz!$D42:AX42,20)+COUNTIF(TwoWayQuiz!$D42:AX42,30)","v":0},{"$f":"COUNTIF(TwoWayQuiz!$D42:AY42,20)+COUNTIF(TwoWayQuiz!$D42:AY42,30)","v":0},{"$f":"COUNTIF(TwoWayQuiz!$D42:AZ42,20)+COUNTIF(TwoWayQuiz!$D42:AZ42,30)","v":0},{"$f":"COUNTIF(TwoWayQuiz!$D42:BA42,20)+COUNTIF(TwoWayQuiz!$D42:BA42,30)","v":0},{"$f":"COUNTIF(TwoWayQuiz!$D42:BB42,20)+COUNTIF(TwoWayQuiz!$D42:BB42,30)","v":0},{"$f":"COUNTIF(TwoWayQuiz!$D42:BC42,20)+COUNTIF(TwoWayQuiz!$D42:BC42,30)","v":0},{"$f":"COUNTIF(TwoWayQuiz!$D42:BD42,20)+COUNTIF(TwoWayQuiz!$D42:BD42,30)","v":0},{"$f":"COUNTIF(TwoWayQuiz!$D42:BE42,20)+COUNTIF(TwoWayQuiz!$D42:BE42,30)","v":0},{"$f":"COUNTIF(TwoWayQuiz!$D42:BF42,20)+COUNTIF(TwoWayQuiz!$D42:BF42,30)","v":0},{"$f":"COUNTIF(TwoWayQuiz!$D42:BG42,20)+COUNTIF(TwoWayQuiz!$D42:BG42,30)","v":0}]
[null,null,{"$f":"CONCATENATE(\"# 20's \",Sheet4!C43)","v":"# 20's Quizzer #4"},{"$f":"COUNTIF(TwoWayQuiz!$D43:D43,20)+COUNTIF(TwoWayQuiz!$D43:D43,30)","v":0},{"$f":"COUNTIF(TwoWayQuiz!$D43:E43,20)+COUNTIF(TwoWayQuiz!$D43:E43,30)","v":0},{"$f":"COUNTIF(TwoWayQuiz!$D43:F43,20)+COUNTIF(TwoWayQuiz!$D43:F43,30)","v":0},{"$f":"COUNTIF(TwoWayQuiz!$D43:G43,20)+COUNTIF(TwoWayQuiz!$D43:G43,30)","v":0},{"$f":"COUNTIF(TwoWayQuiz!$D43:H43,20)+COUNTIF(TwoWayQuiz!$D43:H43,30)","v":0},{"$f":"COUNTIF(TwoWayQuiz!$D43:I43,20)+COUNTIF(TwoWayQuiz!$D43:I43,30)","v":0},{"$f":"COUNTIF(TwoWayQuiz!$D43:J43,20)+COUNTIF(TwoWayQuiz!$D43:J43,30)","v":0},{"$f":"COUNTIF(TwoWayQuiz!$D43:K43,20)+COUNTIF(TwoWayQuiz!$D43:K43,30)","v":0},{"$f":"COUNTIF(TwoWayQuiz!$D43:L43,20)+COUNTIF(TwoWayQuiz!$D43:L43,30)","v":0},{"$f":"COUNTIF(TwoWayQuiz!$D43:M43,20)+COUNTIF(TwoWayQuiz!$D43:M43,30)","v":0},{"$f":"COUNTIF(TwoWayQuiz!$D43:N43,20)+COUNTIF(TwoWayQuiz!$D43:N43,30)","v":0},{"$f":"COUNTIF(TwoWayQuiz!$D43:O43,20)+COUNTIF(TwoWayQuiz!$D43:O43,30)","v":0},{"$f":"COUNTIF(TwoWayQuiz!$D43:P43,20)+COUNTIF(TwoWayQuiz!$D43:P43,30)","v":0},{"$f":"COUNTIF(TwoWayQuiz!$D43:Q43,20)+COUNTIF(TwoWayQuiz!$D43:Q43,30)","v":0},{"$f":"COUNTIF(TwoWayQuiz!$D43:R43,20)+COUNTIF(TwoWayQuiz!$D43:R43,30)","v":0},{"$f":"COUNTIF(TwoWayQuiz!$D43:S43,20)+COUNTIF(TwoWayQuiz!$D43:S43,30)","v":0},{"$f":"COUNTIF(TwoWayQuiz!$D43:T43,20)+COUNTIF(TwoWayQuiz!$D43:T43,30)","v":0},{"$f":"COUNTIF(TwoWayQuiz!$D43:U43,20)+COUNTIF(TwoWayQuiz!$D43:U43,30)","v":0},{"$f":"COUNTIF(TwoWayQuiz!$D43:V43,20)+COUNTIF(TwoWayQuiz!$D43:V43,30)","v":0},{"$f":"COUNTIF(TwoWayQuiz!$D43:W43,20)+COUNTIF(TwoWayQuiz!$D43:W43,30)","v":0},{"$f":"COUNTIF(TwoWayQuiz!$D43:X43,20)+COUNTIF(TwoWayQuiz!$D43:X43,30)","v":0},{"$f":"COUNTIF(TwoWayQuiz!$D43:Y43,20)+COUNTIF(TwoWayQuiz!$D43:Y43,30)","v":0},{"$f":"COUNTIF(TwoWayQuiz!$D43:Z43,20)+COUNTIF(TwoWayQuiz!$D43:Z43,30)","v":0},{"$f":"COUNTIF(TwoWayQuiz!$D43:AA43,20)+COUNTIF(TwoWayQuiz!$D43:AA43,30)","v":0},{"$f":"COUNTIF(TwoWayQuiz!$D43:AB43,20)+COUNTIF(TwoWayQuiz!$D43:AB43,30)","v":0},{"$f":"COUNTIF(TwoWayQuiz!$D43:AC43,20)+COUNTIF(TwoWayQuiz!$D43:AC43,30)","v":0},{"$f":"COUNTIF(TwoWayQuiz!$D43:AD43,20)+COUNTIF(TwoWayQuiz!$D43:AD43,30)","v":0},{"$f":"COUNTIF(TwoWayQuiz!$D43:AE43,20)+COUNTIF(TwoWayQuiz!$D43:AE43,30)","v":0},{"$f":"COUNTIF(TwoWayQuiz!$D43:AF43,20)+COUNTIF(TwoWayQuiz!$D43:AF43,30)","v":0},{"$f":"COUNTIF(TwoWayQuiz!$D43:AG43,20)+COUNTIF(TwoWayQuiz!$D43:AG43,30)","v":0},{"$f":"COUNTIF(TwoWayQuiz!$D43:AH43,20)+COUNTIF(TwoWayQuiz!$D43:AH43,30)","v":0},{"$f":"COUNTIF(TwoWayQuiz!$D43:AI43,20)+COUNTIF(TwoWayQuiz!$D43:AI43,30)","v":0},{"$f":"COUNTIF(TwoWayQuiz!$D43:AJ43,20)+COUNTIF(TwoWayQuiz!$D43:AJ43,30)","v":0},{"$f":"COUNTIF(TwoWayQuiz!$D43:AK43,20)+COUNTIF(TwoWayQuiz!$D43:AK43,30)","v":0},{"$f":"COUNTIF(TwoWayQuiz!$D43:AL43,20)+COUNTIF(TwoWayQuiz!$D43:AL43,30)","v":0},{"$f":"COUNTIF(TwoWayQuiz!$D43:AM43,20)+COUNTIF(TwoWayQuiz!$D43:AM43,30)","v":0},{"$f":"COUNTIF(TwoWayQuiz!$D43:AN43,20)+COUNTIF(TwoWayQuiz!$D43:AN43,30)","v":0},{"$f":"COUNTIF(TwoWayQuiz!$D43:AO43,20)+COUNTIF(TwoWayQuiz!$D43:AO43,30)","v":0},{"$f":"COUNTIF(TwoWayQuiz!$D43:AP43,20)+COUNTIF(TwoWayQuiz!$D43:AP43,30)","v":0},{"$f":"COUNTIF(TwoWayQuiz!$D43:AQ43,20)+COUNTIF(TwoWayQuiz!$D43:AQ43,30)","v":0},{"$f":"COUNTIF(TwoWayQuiz!$D43:AR43,20)+COUNTIF(TwoWayQuiz!$D43:AR43,30)","v":0},{"$f":"COUNTIF(TwoWayQuiz!$D43:AS43,20)+COUNTIF(TwoWayQuiz!$D43:AS43,30)","v":0},{"$f":"COUNTIF(TwoWayQuiz!$D43:AT43,20)+COUNTIF(TwoWayQuiz!$D43:AT43,30)","v":0},{"$f":"COUNTIF(TwoWayQuiz!$D43:AU43,20)+COUNTIF(TwoWayQuiz!$D43:AU43,30)","v":0},{"$f":"COUNTIF(TwoWayQuiz!$D43:AV43,20)+COUNTIF(TwoWayQuiz!$D43:AV43,30)","v":0},{"$f":"COUNTIF(TwoWayQuiz!$D43:AW43,20)+COUNTIF(TwoWayQuiz!$D43:AW43,30)","v":0},{"$f":"COUNTIF(TwoWayQuiz!$D43:AX43,20)+COUNTIF(TwoWayQuiz!$D43:AX43,30)","v":0},{"$f":"COUNTIF(TwoWayQuiz!$D43:AY43,20)+COUNTIF(TwoWayQuiz!$D43:AY43,30)","v":0},{"$f":"COUNTIF(TwoWayQuiz!$D43:AZ43,20)+COUNTIF(TwoWayQuiz!$D43:AZ43,30)","v":0},{"$f":"COUNTIF(TwoWayQuiz!$D43:BA43,20)+COUNTIF(TwoWayQuiz!$D43:BA43,30)","v":0},{"$f":"COUNTIF(TwoWayQuiz!$D43:BB43,20)+COUNTIF(TwoWayQuiz!$D43:BB43,30)","v":0},{"$f":"COUNTIF(TwoWayQuiz!$D43:BC43,20)+COUNTIF(TwoWayQuiz!$D43:BC43,30)","v":0},{"$f":"COUNTIF(TwoWayQuiz!$D43:BD43,20)+COUNTIF(TwoWayQuiz!$D43:BD43,30)","v":0},{"$f":"COUNTIF(TwoWayQuiz!$D43:BE43,20)+COUNTIF(TwoWayQuiz!$D43:BE43,30)","v":0},{"$f":"COUNTIF(TwoWayQuiz!$D43:BF43,20)+COUNTIF(TwoWayQuiz!$D43:BF43,30)","v":0},{"$f":"COUNTIF(TwoWayQuiz!$D43:BG43,20)+COUNTIF(TwoWayQuiz!$D43:BG43,30)","v":0}]
[null,null,{"$f":"CONCATENATE(\"# 20's \",Sheet4!C44)","v":"# 20's "},{"$f":"COUNTIF(TwoWayQuiz!$D44:D44,20)+COUNTIF(TwoWayQuiz!$D44:D44,30)","v":0},{"$f":"COUNTIF(TwoWayQuiz!$D44:E44,20)+COUNTIF(TwoWayQuiz!$D44:E44,30)","v":0},{"$f":"COUNTIF(TwoWayQuiz!$D44:F44,20)+COUNTIF(TwoWayQuiz!$D44:F44,30)","v":0},{"$f":"COUNTIF(TwoWayQuiz!$D44:G44,20)+COUNTIF(TwoWayQuiz!$D44:G44,30)","v":0},{"$f":"COUNTIF(TwoWayQuiz!$D44:H44,20)+COUNTIF(TwoWayQuiz!$D44:H44,30)","v":0},{"$f":"COUNTIF(TwoWayQuiz!$D44:I44,20)+COUNTIF(TwoWayQuiz!$D44:I44,30)","v":0},{"$f":"COUNTIF(TwoWayQuiz!$D44:J44,20)+COUNTIF(TwoWayQuiz!$D44:J44,30)","v":0},{"$f":"COUNTIF(TwoWayQuiz!$D44:K44,20)+COUNTIF(TwoWayQuiz!$D44:K44,30)","v":0},{"$f":"COUNTIF(TwoWayQuiz!$D44:L44,20)+COUNTIF(TwoWayQuiz!$D44:L44,30)","v":0},{"$f":"COUNTIF(TwoWayQuiz!$D44:M44,20)+COUNTIF(TwoWayQuiz!$D44:M44,30)","v":0},{"$f":"COUNTIF(TwoWayQuiz!$D44:N44,20)+COUNTIF(TwoWayQuiz!$D44:N44,30)","v":0},{"$f":"COUNTIF(TwoWayQuiz!$D44:O44,20)+COUNTIF(TwoWayQuiz!$D44:O44,30)","v":0},{"$f":"COUNTIF(TwoWayQuiz!$D44:P44,20)+COUNTIF(TwoWayQuiz!$D44:P44,30)","v":0},{"$f":"COUNTIF(TwoWayQuiz!$D44:Q44,20)+COUNTIF(TwoWayQuiz!$D44:Q44,30)","v":0},{"$f":"COUNTIF(TwoWayQuiz!$D44:R44,20)+COUNTIF(TwoWayQuiz!$D44:R44,30)","v":0},{"$f":"COUNTIF(TwoWayQuiz!$D44:S44,20)+COUNTIF(TwoWayQuiz!$D44:S44,30)","v":0},{"$f":"COUNTIF(TwoWayQuiz!$D44:T44,20)+COUNTIF(TwoWayQuiz!$D44:T44,30)","v":0},{"$f":"COUNTIF(TwoWayQuiz!$D44:U44,20)+COUNTIF(TwoWayQuiz!$D44:U44,30)","v":0},{"$f":"COUNTIF(TwoWayQuiz!$D44:V44,20)+COUNTIF(TwoWayQuiz!$D44:V44,30)","v":0},{"$f":"COUNTIF(TwoWayQuiz!$D44:W44,20)+COUNTIF(TwoWayQuiz!$D44:W44,30)","v":0},{"$f":"COUNTIF(TwoWayQuiz!$D44:X44,20)+COUNTIF(TwoWayQuiz!$D44:X44,30)","v":0},{"$f":"COUNTIF(TwoWayQuiz!$D44:Y44,20)+COUNTIF(TwoWayQuiz!$D44:Y44,30)","v":0},{"$f":"COUNTIF(TwoWayQuiz!$D44:Z44,20)+COUNTIF(TwoWayQuiz!$D44:Z44,30)","v":0},{"$f":"COUNTIF(TwoWayQuiz!$D44:AA44,20)+COUNTIF(TwoWayQuiz!$D44:AA44,30)","v":0},{"$f":"COUNTIF(TwoWayQuiz!$D44:AB44,20)+COUNTIF(TwoWayQuiz!$D44:AB44,30)","v":0},{"$f":"COUNTIF(TwoWayQuiz!$D44:AC44,20)+COUNTIF(TwoWayQuiz!$D44:AC44,30)","v":0},{"$f":"COUNTIF(TwoWayQuiz!$D44:AD44,20)+COUNTIF(TwoWayQuiz!$D44:AD44,30)","v":0},{"$f":"COUNTIF(TwoWayQuiz!$D44:AE44,20)+COUNTIF(TwoWayQuiz!$D44:AE44,30)","v":0},{"$f":"COUNTIF(TwoWayQuiz!$D44:AF44,20)+COUNTIF(TwoWayQuiz!$D44:AF44,30)","v":0},{"$f":"COUNTIF(TwoWayQuiz!$D44:AG44,20)+COUNTIF(TwoWayQuiz!$D44:AG44,30)","v":0},{"$f":"COUNTIF(TwoWayQuiz!$D44:AH44,20)+COUNTIF(TwoWayQuiz!$D44:AH44,30)","v":0},{"$f":"COUNTIF(TwoWayQuiz!$D44:AI44,20)+COUNTIF(TwoWayQuiz!$D44:AI44,30)","v":0},{"$f":"COUNTIF(TwoWayQuiz!$D44:AJ44,20)+COUNTIF(TwoWayQuiz!$D44:AJ44,30)","v":0},{"$f":"COUNTIF(TwoWayQuiz!$D44:AK44,20)+COUNTIF(TwoWayQuiz!$D44:AK44,30)","v":0},{"$f":"COUNTIF(TwoWayQuiz!$D44:AL44,20)+COUNTIF(TwoWayQuiz!$D44:AL44,30)","v":0},{"$f":"COUNTIF(TwoWayQuiz!$D44:AM44,20)+COUNTIF(TwoWayQuiz!$D44:AM44,30)","v":0},{"$f":"COUNTIF(TwoWayQuiz!$D44:AN44,20)+COUNTIF(TwoWayQuiz!$D44:AN44,30)","v":0},{"$f":"COUNTIF(TwoWayQuiz!$D44:AO44,20)+COUNTIF(TwoWayQuiz!$D44:AO44,30)","v":0},{"$f":"COUNTIF(TwoWayQuiz!$D44:AP44,20)+COUNTIF(TwoWayQuiz!$D44:AP44,30)","v":0},{"$f":"COUNTIF(TwoWayQuiz!$D44:AQ44,20)+COUNTIF(TwoWayQuiz!$D44:AQ44,30)","v":0},{"$f":"COUNTIF(TwoWayQuiz!$D44:AR44,20)+COUNTIF(TwoWayQuiz!$D44:AR44,30)","v":0},{"$f":"COUNTIF(TwoWayQuiz!$D44:AS44,20)+COUNTIF(TwoWayQuiz!$D44:AS44,30)","v":0},{"$f":"COUNTIF(TwoWayQuiz!$D44:AT44,20)+COUNTIF(TwoWayQuiz!$D44:AT44,30)","v":0},{"$f":"COUNTIF(TwoWayQuiz!$D44:AU44,20)+COUNTIF(TwoWayQuiz!$D44:AU44,30)","v":0},{"$f":"COUNTIF(TwoWayQuiz!$D44:AV44,20)+COUNTIF(TwoWayQuiz!$D44:AV44,30)","v":0},{"$f":"COUNTIF(TwoWayQuiz!$D44:AW44,20)+COUNTIF(TwoWayQuiz!$D44:AW44,30)","v":0},{"$f":"COUNTIF(TwoWayQuiz!$D44:AX44,20)+COUNTIF(TwoWayQuiz!$D44:AX44,30)","v":0},{"$f":"COUNTIF(TwoWayQuiz!$D44:AY44,20)+COUNTIF(TwoWayQuiz!$D44:AY44,30)","v":0},{"$f":"COUNTIF(TwoWayQuiz!$D44:AZ44,20)+COUNTIF(TwoWayQuiz!$D44:AZ44,30)","v":0},{"$f":"COUNTIF(TwoWayQuiz!$D44:BA44,20)+COUNTIF(TwoWayQuiz!$D44:BA44,30)","v":0},{"$f":"COUNTIF(TwoWayQuiz!$D44:BB44,20)+COUNTIF(TwoWayQuiz!$D44:BB44,30)","v":0},{"$f":"COUNTIF(TwoWayQuiz!$D44:BC44,20)+COUNTIF(TwoWayQuiz!$D44:BC44,30)","v":0},{"$f":"COUNTIF(TwoWayQuiz!$D44:BD44,20)+COUNTIF(TwoWayQuiz!$D44:BD44,30)","v":0},{"$f":"COUNTIF(TwoWayQuiz!$D44:BE44,20)+COUNTIF(TwoWayQuiz!$D44:BE44,30)","v":0},{"$f":"COUNTIF(TwoWayQuiz!$D44:BF44,20)+COUNTIF(TwoWayQuiz!$D44:BF44,30)","v":0},{"$f":"COUNTIF(TwoWayQuiz!$D44:BG44,20)+COUNTIF(TwoWayQuiz!$D44:BG44,30)","v":0}]
[]
[]
[]
[]
[]
[null,null,{"$f":"TwoWayQuiz!C62","v":"Team Name"}]
[null,null,{"$f":"TwoWayQuiz!C63","v":"Quizzer #1"},20,{"$f":"IF(D69>2,\".\",IF(D75=3,IF(D69=0,IF(TwoWayQuiz!E72=20,30,TwoWayQuiz!E72),TwoWayQuiz!E72),IF(E75>3,\".\",TwoWayQuiz!E72)))","v":20},{"$f":"IF(E69>2,\".\",IF(E75=3,IF(E69=0,IF(TwoWayQuiz!F72=20,30,TwoWayQuiz!F72),TwoWayQuiz!F72),IF(F75>3,\".\",TwoWayQuiz!F72)))","v":20},{"$f":"IF(F69>2,\".\",IF(F75=3,IF(F69=0,IF(TwoWayQuiz!G72=20,30,TwoWayQuiz!G72),TwoWayQuiz!G72),IF(G75>3,\".\",TwoWayQuiz!G72)))","v":20},{"$f":"IF(G69>2,\".\",IF(G75=3,IF(G69=0,IF(TwoWayQuiz!H72=20,30,TwoWayQuiz!H72),TwoWayQuiz!H72),IF(H75>3,\".\",TwoWayQuiz!H72)))","v":20},{"$f":"IF(H69>2,\".\",IF(H75=3,IF(H69=0,IF(TwoWayQuiz!I72=20,30,TwoWayQuiz!I72),TwoWayQuiz!I72),IF(I75>3,\".\",TwoWayQuiz!I72)))","v":"."},{"$f":"IF(I69>2,\".\",IF(I75=3,IF(I69=0,IF(TwoWayQuiz!J72=20,30,TwoWayQuiz!J72),TwoWayQuiz!J72),IF(J75>3,\".\",TwoWayQuiz!J72)))","v":20},{"$f":"IF(J69>2,\".\",IF(J75=3,IF(J69=0,IF(TwoWayQuiz!K72=20,30,TwoWayQuiz!K72),TwoWayQuiz!K72),IF(K75>3,\".\",TwoWayQuiz!K72)))","v":20},{"$f":"IF(K69>2,\".\",IF(K75=3,IF(K69=0,IF(TwoWayQuiz!L72=20,30,TwoWayQuiz!L72),TwoWayQuiz!L72),IF(L75>3,\".\",TwoWayQuiz!L72)))","v":20},{"$f":"IF(L69>2,\".\",IF(L75=3,IF(L69=0,IF(TwoWayQuiz!M72=20,30,TwoWayQuiz!M72),TwoWayQuiz!M72),IF(M75>3,\".\",TwoWayQuiz!M72)))","v":20},{"$f":"IF(M69>2,\".\",IF(M75=3,IF(M69=0,IF(TwoWayQuiz!N72=20,30,TwoWayQuiz!N72),TwoWayQuiz!N72),IF(N75>3,\".\",TwoWayQuiz!N72)))","v":20},{"$f":"IF(N69>2,\".\",IF(N75=3,IF(N69=0,IF(TwoWayQuiz!O72=20,30,TwoWayQuiz!O72),TwoWayQuiz!O72),IF(O75>3,\".\",TwoWayQuiz!O72)))","v":20},{"$f":"IF(O69>2,\".\",IF(O75=3,IF(O69=0,IF(TwoWayQuiz!P72=20,30,TwoWayQuiz!P72),TwoWayQuiz!P72),IF(P75>3,\".\",TwoWayQuiz!P72)))","v":20},{"$f":"IF(P69>2,\".\",IF(P75=3,IF(P69=0,IF(TwoWayQuiz!Q72=20,30,TwoWayQuiz!Q72),TwoWayQuiz!Q72),IF(Q75>3,\".\",TwoWayQuiz!Q72)))","v":20},{"$f":"IF(Q69>2,\".\",IF(Q75=3,IF(Q69=0,IF(TwoWayQuiz!R72=20,30,TwoWayQuiz!R72),TwoWayQuiz!R72),IF(R75>3,\".\",TwoWayQuiz!R72)))","v":20},{"$f":"IF(R69>2,\".\",IF(R75=3,IF(R69=0,IF(TwoWayQuiz!S72=20,30,TwoWayQuiz!S72),TwoWayQuiz!S72),IF(S75>3,\".\",TwoWayQuiz!S72)))","v":20},{"$f":"IF(S69>2,\".\",IF(S75=3,IF(S69=0,IF(TwoWayQuiz!T72=20,30,TwoWayQuiz!T72),TwoWayQuiz!T72),IF(T75>3,\".\",TwoWayQuiz!T72)))","v":20},{"$f":"IF(T69>2,\".\",IF(T75=3,IF(T69=0,IF(TwoWayQuiz!U72=20,30,TwoWayQuiz!U72),TwoWayQuiz!U72),IF(U75>3,\".\",TwoWayQuiz!U72)))","v":20},{"$f":"IF(U69>2,\".\",IF(U75=3,IF(U69=0,IF(TwoWayQuiz!V72=20,30,TwoWayQuiz!V72),TwoWayQuiz!V72),IF(V75>3,\".\",TwoWayQuiz!V72)))","v":10},{"$f":"IF(V69>2,\".\",IF(V75=3,IF(V69=0,IF(TwoWayQuiz!W72=20,30,TwoWayQuiz!W72),TwoWayQuiz!W72),IF(W75>3,\".\",TwoWayQuiz!W72)))","v":20},{"$f":"IF(W69>2,\".\",IF(W75=3,IF(W69=0,IF(TwoWayQuiz!X72=20,30,TwoWayQuiz!X72),TwoWayQuiz!X72),IF(X75>3,\".\",TwoWayQuiz!X72)))","v":20},{"$f":"IF(X69>2,\".\",IF(X75=3,IF(X69=0,IF(TwoWayQuiz!Y72=20,30,TwoWayQuiz!Y72),TwoWayQuiz!Y72),IF(Y75>3,\".\",TwoWayQuiz!Y72)))","v":10},{"$f":"IF(Y69>2,\".\",IF(Y75=3,IF(Y69=0,IF(TwoWayQuiz!Z72=20,30,TwoWayQuiz!Z72),TwoWayQuiz!Z72),IF(Z75>3,\".\",TwoWayQuiz!Z72)))","v":20},{"$f":"IF(Z69>2,\".\",IF(Z75=3,IF(Z69=0,IF(TwoWayQuiz!AA72=20,30,TwoWayQuiz!AA72),TwoWayQuiz!AA72),IF(AA75>3,\".\",TwoWayQuiz!AA72)))","v":20},{"$f":"IF(AA69>2,\".\",IF(AA75=3,IF(AA69=0,IF(TwoWayQuiz!AB72=20,30,TwoWayQuiz!AB72),TwoWayQuiz!AB72),IF(AB75>3,\".\",TwoWayQuiz!AB72)))","v":10},{"$f":"IF(AB69>2,\".\",IF(AB75=3,IF(AB69=0,IF(TwoWayQuiz!AC72=20,30,TwoWayQuiz!AC72),TwoWayQuiz!AC72),IF(AC75>3,\".\",TwoWayQuiz!AC72)))","v":20},{"$f":"IF(AC69>2,\".\",IF(AC75=3,IF(AC69=0,IF(TwoWayQuiz!AD72=20,30,TwoWayQuiz!AD72),TwoWayQuiz!AD72),IF(AD75>3,\".\",TwoWayQuiz!AD72)))","v":"."},{"$f":"IF(AD69>2,\".\",IF(AD75=3,IF(AD69=0,IF(TwoWayQuiz!AE72=20,30,TwoWayQuiz!AE72),TwoWayQuiz!AE72),IF(AE75>3,\".\",TwoWayQuiz!AE72)))","v":"."},{"$f":"IF(AE69>2,\".\",IF(AE75=3,IF(AE69=0,IF(TwoWayQuiz!AF72=20,30,TwoWayQuiz!AF72),TwoWayQuiz!AF72),IF(AF75>3,\".\",TwoWayQuiz!AF72)))","v":"."},{"$f":"IF(AF69>2,\".\",IF(AF75=3,IF(AF69=0,IF(TwoWayQuiz!AG72=20,30,TwoWayQuiz!AG72),TwoWayQuiz!AG72),IF(AG75>3,\".\",TwoWayQuiz!AG72)))","v":"."},{"$f":"IF(AG69>2,\".\",IF(AG75=3,IF(AG69=0,IF(TwoWayQuiz!AH72=20,30,TwoWayQuiz!AH72),TwoWayQuiz!AH72),IF(AH75>3,\".\",TwoWayQuiz!AH72)))","v":"."},{"$f":"IF(AH69>2,\".\",IF(AH75=3,IF(AH69=0,IF(TwoWayQuiz!AI72=20,30,TwoWayQuiz!AI72),TwoWayQuiz!AI72),IF(AI75>3,\".\",TwoWayQuiz!AI72)))","v":"."},{"$f":"IF(AI69>2,\".\",IF(AI75=3,IF(AI69=0,IF(TwoWayQuiz!AJ72=20,30,TwoWayQuiz!AJ72),TwoWayQuiz!AJ72),IF(AJ75>3,\".\",TwoWayQuiz!AJ72)))","v":"."},{"$f":"IF(AJ69>2,\".\",IF(AJ75=3,IF(AJ69=0,IF(TwoWayQuiz!AK72=20,30,TwoWayQuiz!AK72),TwoWayQuiz!AK72),IF(AK75>3,\".\",TwoWayQuiz!AK72)))","v":"."},{"$f":"IF(AK69>2,\".\",IF(AK75=3,IF(AK69=0,IF(TwoWayQuiz!AL72=20,30,TwoWayQuiz!AL72),TwoWayQuiz!AL72),IF(AL75>3,\".\",TwoWayQuiz!AL72)))","v":"."},{"$f":"IF(AL69>2,\".\",IF(AL75=3,IF(AL69=0,IF(TwoWayQuiz!AM72=20,30,TwoWayQuiz!AM72),TwoWayQuiz!AM72),IF(AM75>3,\".\",TwoWayQuiz!AM72)))","v":"."},{"$f":"IF(AM69>2,\".\",IF(AM75=3,IF(AM69=0,IF(TwoWayQuiz!AN72=20,30,TwoWayQuiz!AN72),TwoWayQuiz!AN72),IF(AN75>3,\".\",TwoWayQuiz!AN72)))","v":"."},{"$f":"IF(AN69>2,\".\",IF(AN75=3,IF(AN69=0,IF(TwoWayQuiz!AO72=20,30,TwoWayQuiz!AO72),TwoWayQuiz!AO72),IF(AO75>3,\".\",TwoWayQuiz!AO72)))","v":"."},{"$f":"IF(AO69>2,\".\",IF(AO75=3,IF(AO69=0,IF(TwoWayQuiz!AP72=20,30,TwoWayQuiz!AP72),TwoWayQuiz!AP72),IF(AP75>3,\".\",TwoWayQuiz!AP72)))","v":"."},{"$f":"IF(AP69>2,\".\",IF(AP75=3,IF(AP69=0,IF(TwoWayQuiz!AQ72=20,30,TwoWayQuiz!AQ72),TwoWayQuiz!AQ72),IF(AQ75>3,\".\",TwoWayQuiz!AQ72)))","v":"."},{"$f":"IF(AQ69>2,\".\",IF(AQ75=3,IF(AQ69=0,IF(TwoWayQuiz!AR72=20,30,TwoWayQuiz!AR72),TwoWayQuiz!AR72),IF(AR75>3,\".\",TwoWayQuiz!AR72)))","v":"."},{"$f":"IF(AR69>2,\".\",IF(AR75=3,IF(AR69=0,IF(TwoWayQuiz!AS72=20,30,TwoWayQuiz!AS72),TwoWayQuiz!AS72),IF(AS75>3,\".\",TwoWayQuiz!AS72)))","v":"."},{"$f":"IF(AS69>2,\".\",IF(AS75=3,IF(AS69=0,IF(TwoWayQuiz!AT72=20,30,TwoWayQuiz!AT72),TwoWayQuiz!AT72),IF(AT75>3,\".\",TwoWayQuiz!AT72)))","v":"."},{"$f":"IF(AT69>2,\".\",IF(AT75=3,IF(AT69=0,IF(TwoWayQuiz!AU72=20,30,TwoWayQuiz!AU72),TwoWayQuiz!AU72),IF(AU75>3,\".\",TwoWayQuiz!AU72)))","v":"."},{"$f":"IF(AU69>2,\".\",IF(AU75=3,IF(AU69=0,IF(TwoWayQuiz!AV72=20,30,TwoWayQuiz!AV72),TwoWayQuiz!AV72),IF(AV75>3,\".\",TwoWayQuiz!AV72)))","v":"."},{"$f":"IF(AV69>2,\".\",IF(AV75=3,IF(AV69=0,IF(TwoWayQuiz!AW72=20,30,TwoWayQuiz!AW72),TwoWayQuiz!AW72),IF(AW75>3,\".\",TwoWayQuiz!AW72)))","v":"."},{"$f":"IF(AW69>2,\".\",IF(AW75=3,IF(AW69=0,IF(TwoWayQuiz!AX72=20,30,TwoWayQuiz!AX72),TwoWayQuiz!AX72),IF(AX75>3,\".\",TwoWayQuiz!AX72)))","v":"."},{"$f":"IF(AX69>2,\".\",IF(AX75=3,IF(AX69=0,IF(TwoWayQuiz!AY72=20,30,TwoWayQuiz!AY72),TwoWayQuiz!AY72),IF(AY75>3,\".\",TwoWayQuiz!AY72)))","v":"."},{"$f":"IF(AY69>2,\".\",IF(AY75=3,IF(AY69=0,IF(TwoWayQuiz!AZ72=20,30,TwoWayQuiz!AZ72),TwoWayQuiz!AZ72),IF(AZ75>3,\".\",TwoWayQuiz!AZ72)))","v":"."},{"$f":"IF(AZ69>2,\".\",IF(AZ75=3,IF(AZ69=0,IF(TwoWayQuiz!BA72=20,30,TwoWayQuiz!BA72),TwoWayQuiz!BA72),IF(BA75>3,\".\",TwoWayQuiz!BA72)))","v":"."},{"$f":"IF(BA69>2,\".\",IF(BA75=3,IF(BA69=0,IF(TwoWayQuiz!BB72=20,30,TwoWayQuiz!BB72),TwoWayQuiz!BB72),IF(BB75>3,\".\",TwoWayQuiz!BB72)))","v":"."},{"$f":"IF(BB69>2,\".\",IF(BB75=3,IF(BB69=0,IF(TwoWayQuiz!BC72=20,30,TwoWayQuiz!BC72),TwoWayQuiz!BC72),IF(BC75>3,\".\",TwoWayQuiz!BC72)))","v":"."},{"$f":"IF(BC69>2,\".\",IF(BC75=3,IF(BC69=0,IF(TwoWayQuiz!BD72=20,30,TwoWayQuiz!BD72),TwoWayQuiz!BD72),IF(BD75>3,\".\",TwoWayQuiz!BD72)))","v":"."},{"$f":"IF(BD69>2,\".\",IF(BD75=3,IF(BD69=0,IF(TwoWayQuiz!BE72=20,30,TwoWayQuiz!BE72),TwoWayQuiz!BE72),IF(BE75>3,\".\",TwoWayQuiz!BE72)))","v":"."},{"$f":"IF(BE69>2,\".\",IF(BE75=3,IF(BE69=0,IF(TwoWayQuiz!BF72=20,30,TwoWayQuiz!BF72),TwoWayQuiz!BF72),IF(BF75>3,\".\",TwoWayQuiz!BF72)))","v":"."},{"$f":"IF(BF69>2,\".\",IF(BF75=3,IF(BF69=0,IF(TwoWayQuiz!BG72=20,30,TwoWayQuiz!BG72),TwoWayQuiz!BG72),IF(BG75>3,\".\",TwoWayQuiz!BG72)))","v":"."}]
[null,null,{"$f":"TwoWayQuiz!C64","v":"Quizzer #2"},20,{"$f":"IF(D70>2,\".\",IF(D76=3,IF(D70=0,IF(TwoWayQuiz!E72=20,30,TwoWayQuiz!E72),TwoWayQuiz!E72),IF(E76>3,\".\",TwoWayQuiz!E72)))","v":20},{"$f":"IF(E70>2,\".\",IF(E76=3,IF(E70=0,IF(TwoWayQuiz!F72=20,30,TwoWayQuiz!F72),TwoWayQuiz!F72),IF(F76>3,\".\",TwoWayQuiz!F72)))","v":20},{"$f":"IF(F70>2,\".\",IF(F76=3,IF(F70=0,IF(TwoWayQuiz!G72=20,30,TwoWayQuiz!G72),TwoWayQuiz!G72),IF(G76>3,\".\",TwoWayQuiz!G72)))","v":20},{"$f":"IF(G70>2,\".\",IF(G76=3,IF(G70=0,IF(TwoWayQuiz!H72=20,30,TwoWayQuiz!H72),TwoWayQuiz!H72),IF(H76>3,\".\",TwoWayQuiz!H72)))","v":20},{"$f":"IF(H70>2,\".\",IF(H76=3,IF(H70=0,IF(TwoWayQuiz!I72=20,30,TwoWayQuiz!I72),TwoWayQuiz!I72),IF(I76>3,\".\",TwoWayQuiz!I72)))","v":"."},{"$f":"IF(I70>2,\".\",IF(I76=3,IF(I70=0,IF(TwoWayQuiz!J72=20,30,TwoWayQuiz!J72),TwoWayQuiz!J72),IF(J76>3,\".\",TwoWayQuiz!J72)))","v":20},{"$f":"IF(J70>2,\".\",IF(J76=3,IF(J70=0,IF(TwoWayQuiz!K72=20,30,TwoWayQuiz!K72),TwoWayQuiz!K72),IF(K76>3,\".\",TwoWayQuiz!K72)))","v":20},{"$f":"IF(K70>2,\".\",IF(K76=3,IF(K70=0,IF(TwoWayQuiz!L72=20,30,TwoWayQuiz!L72),TwoWayQuiz!L72),IF(L76>3,\".\",TwoWayQuiz!L72)))","v":20},{"$f":"IF(L70>2,\".\",IF(L76=3,IF(L70=0,IF(TwoWayQuiz!M72=20,30,TwoWayQuiz!M72),TwoWayQuiz!M72),IF(M76>3,\".\",TwoWayQuiz!M72)))","v":20},{"$f":"IF(M70>2,\".\",IF(M76=3,IF(M70=0,IF(TwoWayQuiz!N72=20,30,TwoWayQuiz!N72),TwoWayQuiz!N72),IF(N76>3,\".\",TwoWayQuiz!N72)))","v":20},{"$f":"IF(N70>2,\".\",IF(N76=3,IF(N70=0,IF(TwoWayQuiz!O72=20,30,TwoWayQuiz!O72),TwoWayQuiz!O72),IF(O76>3,\".\",TwoWayQuiz!O72)))","v":20},{"$f":"IF(O70>2,\".\",IF(O76=3,IF(O70=0,IF(TwoWayQuiz!P72=20,30,TwoWayQuiz!P72),TwoWayQuiz!P72),IF(P76>3,\".\",TwoWayQuiz!P72)))","v":20},{"$f":"IF(P70>2,\".\",IF(P76=3,IF(P70=0,IF(TwoWayQuiz!Q72=20,30,TwoWayQuiz!Q72),TwoWayQuiz!Q72),IF(Q76>3,\".\",TwoWayQuiz!Q72)))","v":20},{"$f":"IF(Q70>2,\".\",IF(Q76=3,IF(Q70=0,IF(TwoWayQuiz!R72=20,30,TwoWayQuiz!R72),TwoWayQuiz!R72),IF(R76>3,\".\",TwoWayQuiz!R72)))","v":20},{"$f":"IF(R70>2,\".\",IF(R76=3,IF(R70=0,IF(TwoWayQuiz!S72=20,30,TwoWayQuiz!S72),TwoWayQuiz!S72),IF(S76>3,\".\",TwoWayQuiz!S72)))","v":20},{"$f":"IF(S70>2,\".\",IF(S76=3,IF(S70=0,IF(TwoWayQuiz!T72=20,30,TwoWayQuiz!T72),TwoWayQuiz!T72),IF(T76>3,\".\",TwoWayQuiz!T72)))","v":20},{"$f":"IF(T70>2,\".\",IF(T76=3,IF(T70=0,IF(TwoWayQuiz!U72=20,30,TwoWayQuiz!U72),TwoWayQuiz!U72),IF(U76>3,\".\",TwoWayQuiz!U72)))","v":20},{"$f":"IF(U70>2,\".\",IF(U76=3,IF(U70=0,IF(TwoWayQuiz!V72=20,30,TwoWayQuiz!V72),TwoWayQuiz!V72),IF(V76>3,\".\",TwoWayQuiz!V72)))","v":10},{"$f":"IF(V70>2,\".\",IF(V76=3,IF(V70=0,IF(TwoWayQuiz!W72=20,30,TwoWayQuiz!W72),TwoWayQuiz!W72),IF(W76>3,\".\",TwoWayQuiz!W72)))","v":20},{"$f":"IF(W70>2,\".\",IF(W76=3,IF(W70=0,IF(TwoWayQuiz!X72=20,30,TwoWayQuiz!X72),TwoWayQuiz!X72),IF(X76>3,\".\",TwoWayQuiz!X72)))","v":20},{"$f":"IF(X70>2,\".\",IF(X76=3,IF(X70=0,IF(TwoWayQuiz!Y72=20,30,TwoWayQuiz!Y72),TwoWayQuiz!Y72),IF(Y76>3,\".\",TwoWayQuiz!Y72)))","v":10},{"$f":"IF(Y70>2,\".\",IF(Y76=3,IF(Y70=0,IF(TwoWayQuiz!Z72=20,30,TwoWayQuiz!Z72),TwoWayQuiz!Z72),IF(Z76>3,\".\",TwoWayQuiz!Z72)))","v":20},{"$f":"IF(Z70>2,\".\",IF(Z76=3,IF(Z70=0,IF(TwoWayQuiz!AA72=20,30,TwoWayQuiz!AA72),TwoWayQuiz!AA72),IF(AA76>3,\".\",TwoWayQuiz!AA72)))","v":20},{"$f":"IF(AA70>2,\".\",IF(AA76=3,IF(AA70=0,IF(TwoWayQuiz!AB72=20,30,TwoWayQuiz!AB72),TwoWayQuiz!AB72),IF(AB76>3,\".\",TwoWayQuiz!AB72)))","v":10},{"$f":"IF(AB70>2,\".\",IF(AB76=3,IF(AB70=0,IF(TwoWayQuiz!AC72=20,30,TwoWayQuiz!AC72),TwoWayQuiz!AC72),IF(AC76>3,\".\",TwoWayQuiz!AC72)))","v":20},{"$f":"IF(AC70>2,\".\",IF(AC76=3,IF(AC70=0,IF(TwoWayQuiz!AD72=20,30,TwoWayQuiz!AD72),TwoWayQuiz!AD72),IF(AD76>3,\".\",TwoWayQuiz!AD72)))","v":"."},{"$f":"IF(AD70>2,\".\",IF(AD76=3,IF(AD70=0,IF(TwoWayQuiz!AE72=20,30,TwoWayQuiz!AE72),TwoWayQuiz!AE72),IF(AE76>3,\".\",TwoWayQuiz!AE72)))","v":"."},{"$f":"IF(AE70>2,\".\",IF(AE76=3,IF(AE70=0,IF(TwoWayQuiz!AF72=20,30,TwoWayQuiz!AF72),TwoWayQuiz!AF72),IF(AF76>3,\".\",TwoWayQuiz!AF72)))","v":"."},{"$f":"IF(AF70>2,\".\",IF(AF76=3,IF(AF70=0,IF(TwoWayQuiz!AG72=20,30,TwoWayQuiz!AG72),TwoWayQuiz!AG72),IF(AG76>3,\".\",TwoWayQuiz!AG72)))","v":"."},{"$f":"IF(AG70>2,\".\",IF(AG76=3,IF(AG70=0,IF(TwoWayQuiz!AH72=20,30,TwoWayQuiz!AH72),TwoWayQuiz!AH72),IF(AH76>3,\".\",TwoWayQuiz!AH72)))","v":"."},{"$f":"IF(AH70>2,\".\",IF(AH76=3,IF(AH70=0,IF(TwoWayQuiz!AI72=20,30,TwoWayQuiz!AI72),TwoWayQuiz!AI72),IF(AI76>3,\".\",TwoWayQuiz!AI72)))","v":"."},{"$f":"IF(AI70>2,\".\",IF(AI76=3,IF(AI70=0,IF(TwoWayQuiz!AJ72=20,30,TwoWayQuiz!AJ72),TwoWayQuiz!AJ72),IF(AJ76>3,\".\",TwoWayQuiz!AJ72)))","v":"."},{"$f":"IF(AJ70>2,\".\",IF(AJ76=3,IF(AJ70=0,IF(TwoWayQuiz!AK72=20,30,TwoWayQuiz!AK72),TwoWayQuiz!AK72),IF(AK76>3,\".\",TwoWayQuiz!AK72)))","v":"."},{"$f":"IF(AK70>2,\".\",IF(AK76=3,IF(AK70=0,IF(TwoWayQuiz!AL72=20,30,TwoWayQuiz!AL72),TwoWayQuiz!AL72),IF(AL76>3,\".\",TwoWayQuiz!AL72)))","v":"."},{"$f":"IF(AL70>2,\".\",IF(AL76=3,IF(AL70=0,IF(TwoWayQuiz!AM72=20,30,TwoWayQuiz!AM72),TwoWayQuiz!AM72),IF(AM76>3,\".\",TwoWayQuiz!AM72)))","v":"."},{"$f":"IF(AM70>2,\".\",IF(AM76=3,IF(AM70=0,IF(TwoWayQuiz!AN72=20,30,TwoWayQuiz!AN72),TwoWayQuiz!AN72),IF(AN76>3,\".\",TwoWayQuiz!AN72)))","v":"."},{"$f":"IF(AN70>2,\".\",IF(AN76=3,IF(AN70=0,IF(TwoWayQuiz!AO72=20,30,TwoWayQuiz!AO72),TwoWayQuiz!AO72),IF(AO76>3,\".\",TwoWayQuiz!AO72)))","v":"."},{"$f":"IF(AO70>2,\".\",IF(AO76=3,IF(AO70=0,IF(TwoWayQuiz!AP72=20,30,TwoWayQuiz!AP72),TwoWayQuiz!AP72),IF(AP76>3,\".\",TwoWayQuiz!AP72)))","v":"."},{"$f":"IF(AP70>2,\".\",IF(AP76=3,IF(AP70=0,IF(TwoWayQuiz!AQ72=20,30,TwoWayQuiz!AQ72),TwoWayQuiz!AQ72),IF(AQ76>3,\".\",TwoWayQuiz!AQ72)))","v":"."},{"$f":"IF(AQ70>2,\".\",IF(AQ76=3,IF(AQ70=0,IF(TwoWayQuiz!AR72=20,30,TwoWayQuiz!AR72),TwoWayQuiz!AR72),IF(AR76>3,\".\",TwoWayQuiz!AR72)))","v":"."},{"$f":"IF(AR70>2,\".\",IF(AR76=3,IF(AR70=0,IF(TwoWayQuiz!AS72=20,30,TwoWayQuiz!AS72),TwoWayQuiz!AS72),IF(AS76>3,\".\",TwoWayQuiz!AS72)))","v":"."},{"$f":"IF(AS70>2,\".\",IF(AS76=3,IF(AS70=0,IF(TwoWayQuiz!AT72=20,30,TwoWayQuiz!AT72),TwoWayQuiz!AT72),IF(AT76>3,\".\",TwoWayQuiz!AT72)))","v":"."},{"$f":"IF(AT70>2,\".\",IF(AT76=3,IF(AT70=0,IF(TwoWayQuiz!AU72=20,30,TwoWayQuiz!AU72),TwoWayQuiz!AU72),IF(AU76>3,\".\",TwoWayQuiz!AU72)))","v":"."},{"$f":"IF(AU70>2,\".\",IF(AU76=3,IF(AU70=0,IF(TwoWayQuiz!AV72=20,30,TwoWayQuiz!AV72),TwoWayQuiz!AV72),IF(AV76>3,\".\",TwoWayQuiz!AV72)))","v":"."},{"$f":"IF(AV70>2,\".\",IF(AV76=3,IF(AV70=0,IF(TwoWayQuiz!AW72=20,30,TwoWayQuiz!AW72),TwoWayQuiz!AW72),IF(AW76>3,\".\",TwoWayQuiz!AW72)))","v":"."},{"$f":"IF(AW70>2,\".\",IF(AW76=3,IF(AW70=0,IF(TwoWayQuiz!AX72=20,30,TwoWayQuiz!AX72),TwoWayQuiz!AX72),IF(AX76>3,\".\",TwoWayQuiz!AX72)))","v":"."},{"$f":"IF(AX70>2,\".\",IF(AX76=3,IF(AX70=0,IF(TwoWayQuiz!AY72=20,30,TwoWayQuiz!AY72),TwoWayQuiz!AY72),IF(AY76>3,\".\",TwoWayQuiz!AY72)))","v":"."},{"$f":"IF(AY70>2,\".\",IF(AY76=3,IF(AY70=0,IF(TwoWayQuiz!AZ72=20,30,TwoWayQuiz!AZ72),TwoWayQuiz!AZ72),IF(AZ76>3,\".\",TwoWayQuiz!AZ72)))","v":"."},{"$f":"IF(AZ70>2,\".\",IF(AZ76=3,IF(AZ70=0,IF(TwoWayQuiz!BA72=20,30,TwoWayQuiz!BA72),TwoWayQuiz!BA72),IF(BA76>3,\".\",TwoWayQuiz!BA72)))","v":"."},{"$f":"IF(BA70>2,\".\",IF(BA76=3,IF(BA70=0,IF(TwoWayQuiz!BB72=20,30,TwoWayQuiz!BB72),TwoWayQuiz!BB72),IF(BB76>3,\".\",TwoWayQuiz!BB72)))","v":"."},{"$f":"IF(BB70>2,\".\",IF(BB76=3,IF(BB70=0,IF(TwoWayQuiz!BC72=20,30,TwoWayQuiz!BC72),TwoWayQuiz!BC72),IF(BC76>3,\".\",TwoWayQuiz!BC72)))","v":"."},{"$f":"IF(BC70>2,\".\",IF(BC76=3,IF(BC70=0,IF(TwoWayQuiz!BD72=20,30,TwoWayQuiz!BD72),TwoWayQuiz!BD72),IF(BD76>3,\".\",TwoWayQuiz!BD72)))","v":"."},{"$f":"IF(BD70>2,\".\",IF(BD76=3,IF(BD70=0,IF(TwoWayQuiz!BE72=20,30,TwoWayQuiz!BE72),TwoWayQuiz!BE72),IF(BE76>3,\".\",TwoWayQuiz!BE72)))","v":"."},{"$f":"IF(BE70>2,\".\",IF(BE76=3,IF(BE70=0,IF(TwoWayQuiz!BF72=20,30,TwoWayQuiz!BF72),TwoWayQuiz!BF72),IF(BF76>3,\".\",TwoWayQuiz!BF72)))","v":"."},{"$f":"IF(BF70>2,\".\",IF(BF76=3,IF(BF70=0,IF(TwoWayQuiz!BG72=20,30,TwoWayQuiz!BG72),TwoWayQuiz!BG72),IF(BG76>3,\".\",TwoWayQuiz!BG72)))","v":"."}]
[null,null,{"$f":"TwoWayQuiz!C65","v":"Quizzer #3"},20,{"$f":"IF(D71>2,\".\",IF(D77=3,IF(D71=0,IF(TwoWayQuiz!E72=20,30,TwoWayQuiz!E72),TwoWayQuiz!E72),IF(E77>3,\".\",TwoWayQuiz!E72)))","v":20},{"$f":"IF(E71>2,\".\",IF(E77=3,IF(E71=0,IF(TwoWayQuiz!F72=20,30,TwoWayQuiz!F72),TwoWayQuiz!F72),IF(F77>3,\".\",TwoWayQuiz!F72)))","v":20},{"$f":"IF(F71>2,\".\",IF(F77=3,IF(F71=0,IF(TwoWayQuiz!G72=20,30,TwoWayQuiz!G72),TwoWayQuiz!G72),IF(G77>3,\".\",TwoWayQuiz!G72)))","v":20},{"$f":"IF(G71>2,\".\",IF(G77=3,IF(G71=0,IF(TwoWayQuiz!H72=20,30,TwoWayQuiz!H72),TwoWayQuiz!H72),IF(H77>3,\".\",TwoWayQuiz!H72)))","v":20},{"$f":"IF(H71>2,\".\",IF(H77=3,IF(H71=0,IF(TwoWayQuiz!I72=20,30,TwoWayQuiz!I72),TwoWayQuiz!I72),IF(I77>3,\".\",TwoWayQuiz!I72)))","v":"."},{"$f":"IF(I71>2,\".\",IF(I77=3,IF(I71=0,IF(TwoWayQuiz!J72=20,30,TwoWayQuiz!J72),TwoWayQuiz!J72),IF(J77>3,\".\",TwoWayQuiz!J72)))","v":20},{"$f":"IF(J71>2,\".\",IF(J77=3,IF(J71=0,IF(TwoWayQuiz!K72=20,30,TwoWayQuiz!K72),TwoWayQuiz!K72),IF(K77>3,\".\",TwoWayQuiz!K72)))","v":20},{"$f":"IF(K71>2,\".\",IF(K77=3,IF(K71=0,IF(TwoWayQuiz!L72=20,30,TwoWayQuiz!L72),TwoWayQuiz!L72),IF(L77>3,\".\",TwoWayQuiz!L72)))","v":20},{"$f":"IF(L71>2,\".\",IF(L77=3,IF(L71=0,IF(TwoWayQuiz!M72=20,30,TwoWayQuiz!M72),TwoWayQuiz!M72),IF(M77>3,\".\",TwoWayQuiz!M72)))","v":20},{"$f":"IF(M71>2,\".\",IF(M77=3,IF(M71=0,IF(TwoWayQuiz!N72=20,30,TwoWayQuiz!N72),TwoWayQuiz!N72),IF(N77>3,\".\",TwoWayQuiz!N72)))","v":20},{"$f":"IF(N71>2,\".\",IF(N77=3,IF(N71=0,IF(TwoWayQuiz!O72=20,30,TwoWayQuiz!O72),TwoWayQuiz!O72),IF(O77>3,\".\",TwoWayQuiz!O72)))","v":20},{"$f":"IF(O71>2,\".\",IF(O77=3,IF(O71=0,IF(TwoWayQuiz!P72=20,30,TwoWayQuiz!P72),TwoWayQuiz!P72),IF(P77>3,\".\",TwoWayQuiz!P72)))","v":20},{"$f":"IF(P71>2,\".\",IF(P77=3,IF(P71=0,IF(TwoWayQuiz!Q72=20,30,TwoWayQuiz!Q72),TwoWayQuiz!Q72),IF(Q77>3,\".\",TwoWayQuiz!Q72)))","v":20},{"$f":"IF(Q71>2,\".\",IF(Q77=3,IF(Q71=0,IF(TwoWayQuiz!R72=20,30,TwoWayQuiz!R72),TwoWayQuiz!R72),IF(R77>3,\".\",TwoWayQuiz!R72)))","v":20},{"$f":"IF(R71>2,\".\",IF(R77=3,IF(R71=0,IF(TwoWayQuiz!S72=20,30,TwoWayQuiz!S72),TwoWayQuiz!S72),IF(S77>3,\".\",TwoWayQuiz!S72)))","v":20},{"$f":"IF(S71>2,\".\",IF(S77=3,IF(S71=0,IF(TwoWayQuiz!T72=20,30,TwoWayQuiz!T72),TwoWayQuiz!T72),IF(T77>3,\".\",TwoWayQuiz!T72)))","v":20},{"$f":"IF(T71>2,\".\",IF(T77=3,IF(T71=0,IF(TwoWayQuiz!U72=20,30,TwoWayQuiz!U72),TwoWayQuiz!U72),IF(U77>3,\".\",TwoWayQuiz!U72)))","v":20},{"$f":"IF(U71>2,\".\",IF(U77=3,IF(U71=0,IF(TwoWayQuiz!V72=20,30,TwoWayQuiz!V72),TwoWayQuiz!V72),IF(V77>3,\".\",TwoWayQuiz!V72)))","v":10},{"$f":"IF(V71>2,\".\",IF(V77=3,IF(V71=0,IF(TwoWayQuiz!W72=20,30,TwoWayQuiz!W72),TwoWayQuiz!W72),IF(W77>3,\".\",TwoWayQuiz!W72)))","v":20},{"$f":"IF(W71>2,\".\",IF(W77=3,IF(W71=0,IF(TwoWayQuiz!X72=20,30,TwoWayQuiz!X72),TwoWayQuiz!X72),IF(X77>3,\".\",TwoWayQuiz!X72)))","v":20},{"$f":"IF(X71>2,\".\",IF(X77=3,IF(X71=0,IF(TwoWayQuiz!Y72=20,30,TwoWayQuiz!Y72),TwoWayQuiz!Y72),IF(Y77>3,\".\",TwoWayQuiz!Y72)))","v":10},{"$f":"IF(Y71>2,\".\",IF(Y77=3,IF(Y71=0,IF(TwoWayQuiz!Z72=20,30,TwoWayQuiz!Z72),TwoWayQuiz!Z72),IF(Z77>3,\".\",TwoWayQuiz!Z72)))","v":20},{"$f":"IF(Z71>2,\".\",IF(Z77=3,IF(Z71=0,IF(TwoWayQuiz!AA72=20,30,TwoWayQuiz!AA72),TwoWayQuiz!AA72),IF(AA77>3,\".\",TwoWayQuiz!AA72)))","v":20},{"$f":"IF(AA71>2,\".\",IF(AA77=3,IF(AA71=0,IF(TwoWayQuiz!AB72=20,30,TwoWayQuiz!AB72),TwoWayQuiz!AB72),IF(AB77>3,\".\",TwoWayQuiz!AB72)))","v":10},{"$f":"IF(AB71>2,\".\",IF(AB77=3,IF(AB71=0,IF(TwoWayQuiz!AC72=20,30,TwoWayQuiz!AC72),TwoWayQuiz!AC72),IF(AC77>3,\".\",TwoWayQuiz!AC72)))","v":20},{"$f":"IF(AC71>2,\".\",IF(AC77=3,IF(AC71=0,IF(TwoWayQuiz!AD72=20,30,TwoWayQuiz!AD72),TwoWayQuiz!AD72),IF(AD77>3,\".\",TwoWayQuiz!AD72)))","v":"."},{"$f":"IF(AD71>2,\".\",IF(AD77=3,IF(AD71=0,IF(TwoWayQuiz!AE72=20,30,TwoWayQuiz!AE72),TwoWayQuiz!AE72),IF(AE77>3,\".\",TwoWayQuiz!AE72)))","v":"."},{"$f":"IF(AE71>2,\".\",IF(AE77=3,IF(AE71=0,IF(TwoWayQuiz!AF72=20,30,TwoWayQuiz!AF72),TwoWayQuiz!AF72),IF(AF77>3,\".\",TwoWayQuiz!AF72)))","v":"."},{"$f":"IF(AF71>2,\".\",IF(AF77=3,IF(AF71=0,IF(TwoWayQuiz!AG72=20,30,TwoWayQuiz!AG72),TwoWayQuiz!AG72),IF(AG77>3,\".\",TwoWayQuiz!AG72)))","v":"."},{"$f":"IF(AG71>2,\".\",IF(AG77=3,IF(AG71=0,IF(TwoWayQuiz!AH72=20,30,TwoWayQuiz!AH72),TwoWayQuiz!AH72),IF(AH77>3,\".\",TwoWayQuiz!AH72)))","v":"."},{"$f":"IF(AH71>2,\".\",IF(AH77=3,IF(AH71=0,IF(TwoWayQuiz!AI72=20,30,TwoWayQuiz!AI72),TwoWayQuiz!AI72),IF(AI77>3,\".\",TwoWayQuiz!AI72)))","v":"."},{"$f":"IF(AI71>2,\".\",IF(AI77=3,IF(AI71=0,IF(TwoWayQuiz!AJ72=20,30,TwoWayQuiz!AJ72),TwoWayQuiz!AJ72),IF(AJ77>3,\".\",TwoWayQuiz!AJ72)))","v":"."},{"$f":"IF(AJ71>2,\".\",IF(AJ77=3,IF(AJ71=0,IF(TwoWayQuiz!AK72=20,30,TwoWayQuiz!AK72),TwoWayQuiz!AK72),IF(AK77>3,\".\",TwoWayQuiz!AK72)))","v":"."},{"$f":"IF(AK71>2,\".\",IF(AK77=3,IF(AK71=0,IF(TwoWayQuiz!AL72=20,30,TwoWayQuiz!AL72),TwoWayQuiz!AL72),IF(AL77>3,\".\",TwoWayQuiz!AL72)))","v":"."},{"$f":"IF(AL71>2,\".\",IF(AL77=3,IF(AL71=0,IF(TwoWayQuiz!AM72=20,30,TwoWayQuiz!AM72),TwoWayQuiz!AM72),IF(AM77>3,\".\",TwoWayQuiz!AM72)))","v":"."},{"$f":"IF(AM71>2,\".\",IF(AM77=3,IF(AM71=0,IF(TwoWayQuiz!AN72=20,30,TwoWayQuiz!AN72),TwoWayQuiz!AN72),IF(AN77>3,\".\",TwoWayQuiz!AN72)))","v":"."},{"$f":"IF(AN71>2,\".\",IF(AN77=3,IF(AN71=0,IF(TwoWayQuiz!AO72=20,30,TwoWayQuiz!AO72),TwoWayQuiz!AO72),IF(AO77>3,\".\",TwoWayQuiz!AO72)))","v":"."},{"$f":"IF(AO71>2,\".\",IF(AO77=3,IF(AO71=0,IF(TwoWayQuiz!AP72=20,30,TwoWayQuiz!AP72),TwoWayQuiz!AP72),IF(AP77>3,\".\",TwoWayQuiz!AP72)))","v":"."},{"$f":"IF(AP71>2,\".\",IF(AP77=3,IF(AP71=0,IF(TwoWayQuiz!AQ72=20,30,TwoWayQuiz!AQ72),TwoWayQuiz!AQ72),IF(AQ77>3,\".\",TwoWayQuiz!AQ72)))","v":"."},{"$f":"IF(AQ71>2,\".\",IF(AQ77=3,IF(AQ71=0,IF(TwoWayQuiz!AR72=20,30,TwoWayQuiz!AR72),TwoWayQuiz!AR72),IF(AR77>3,\".\",TwoWayQuiz!AR72)))","v":"."},{"$f":"IF(AR71>2,\".\",IF(AR77=3,IF(AR71=0,IF(TwoWayQuiz!AS72=20,30,TwoWayQuiz!AS72),TwoWayQuiz!AS72),IF(AS77>3,\".\",TwoWayQuiz!AS72)))","v":"."},{"$f":"IF(AS71>2,\".\",IF(AS77=3,IF(AS71=0,IF(TwoWayQuiz!AT72=20,30,TwoWayQuiz!AT72),TwoWayQuiz!AT72),IF(AT77>3,\".\",TwoWayQuiz!AT72)))","v":"."},{"$f":"IF(AT71>2,\".\",IF(AT77=3,IF(AT71=0,IF(TwoWayQuiz!AU72=20,30,TwoWayQuiz!AU72),TwoWayQuiz!AU72),IF(AU77>3,\".\",TwoWayQuiz!AU72)))","v":"."},{"$f":"IF(AU71>2,\".\",IF(AU77=3,IF(AU71=0,IF(TwoWayQuiz!AV72=20,30,TwoWayQuiz!AV72),TwoWayQuiz!AV72),IF(AV77>3,\".\",TwoWayQuiz!AV72)))","v":"."},{"$f":"IF(AV71>2,\".\",IF(AV77=3,IF(AV71=0,IF(TwoWayQuiz!AW72=20,30,TwoWayQuiz!AW72),TwoWayQuiz!AW72),IF(AW77>3,\".\",TwoWayQuiz!AW72)))","v":"."},{"$f":"IF(AW71>2,\".\",IF(AW77=3,IF(AW71=0,IF(TwoWayQuiz!AX72=20,30,TwoWayQuiz!AX72),TwoWayQuiz!AX72),IF(AX77>3,\".\",TwoWayQuiz!AX72)))","v":"."},{"$f":"IF(AX71>2,\".\",IF(AX77=3,IF(AX71=0,IF(TwoWayQuiz!AY72=20,30,TwoWayQuiz!AY72),TwoWayQuiz!AY72),IF(AY77>3,\".\",TwoWayQuiz!AY72)))","v":"."},{"$f":"IF(AY71>2,\".\",IF(AY77=3,IF(AY71=0,IF(TwoWayQuiz!AZ72=20,30,TwoWayQuiz!AZ72),TwoWayQuiz!AZ72),IF(AZ77>3,\".\",TwoWayQuiz!AZ72)))","v":"."},{"$f":"IF(AZ71>2,\".\",IF(AZ77=3,IF(AZ71=0,IF(TwoWayQuiz!BA72=20,30,TwoWayQuiz!BA72),TwoWayQuiz!BA72),IF(BA77>3,\".\",TwoWayQuiz!BA72)))","v":"."},{"$f":"IF(BA71>2,\".\",IF(BA77=3,IF(BA71=0,IF(TwoWayQuiz!BB72=20,30,TwoWayQuiz!BB72),TwoWayQuiz!BB72),IF(BB77>3,\".\",TwoWayQuiz!BB72)))","v":"."},{"$f":"IF(BB71>2,\".\",IF(BB77=3,IF(BB71=0,IF(TwoWayQuiz!BC72=20,30,TwoWayQuiz!BC72),TwoWayQuiz!BC72),IF(BC77>3,\".\",TwoWayQuiz!BC72)))","v":"."},{"$f":"IF(BC71>2,\".\",IF(BC77=3,IF(BC71=0,IF(TwoWayQuiz!BD72=20,30,TwoWayQuiz!BD72),TwoWayQuiz!BD72),IF(BD77>3,\".\",TwoWayQuiz!BD72)))","v":"."},{"$f":"IF(BD71>2,\".\",IF(BD77=3,IF(BD71=0,IF(TwoWayQuiz!BE72=20,30,TwoWayQuiz!BE72),TwoWayQuiz!BE72),IF(BE77>3,\".\",TwoWayQuiz!BE72)))","v":"."},{"$f":"IF(BE71>2,\".\",IF(BE77=3,IF(BE71=0,IF(TwoWayQuiz!BF72=20,30,TwoWayQuiz!BF72),TwoWayQuiz!BF72),IF(BF77>3,\".\",TwoWayQuiz!BF72)))","v":"."},{"$f":"IF(BF71>2,\".\",IF(BF77=3,IF(BF71=0,IF(TwoWayQuiz!BG72=20,30,TwoWayQuiz!BG72),TwoWayQuiz!BG72),IF(BG77>3,\".\",TwoWayQuiz!BG72)))","v":"."}]
[null,null,{"$f":"TwoWayQuiz!C66","v":"Quizzer #4"},20,{"$f":"IF(D72>2,\".\",IF(D78=3,IF(D72=0,IF(TwoWayQuiz!E72=20,30,TwoWayQuiz!E72),TwoWayQuiz!E72),IF(E78>3,\".\",TwoWayQuiz!E72)))","v":20},{"$f":"IF(E72>2,\".\",IF(E78=3,IF(E72=0,IF(TwoWayQuiz!F72=20,30,TwoWayQuiz!F72),TwoWayQuiz!F72),IF(F78>3,\".\",TwoWayQuiz!F72)))","v":20},{"$f":"IF(F72>2,\".\",IF(F78=3,IF(F72=0,IF(TwoWayQuiz!G72=20,30,TwoWayQuiz!G72),TwoWayQuiz!G72),IF(G78>3,\".\",TwoWayQuiz!G72)))","v":20},{"$f":"IF(G72>2,\".\",IF(G78=3,IF(G72=0,IF(TwoWayQuiz!H72=20,30,TwoWayQuiz!H72),TwoWayQuiz!H72),IF(H78>3,\".\",TwoWayQuiz!H72)))","v":20},{"$f":"IF(H72>2,\".\",IF(H78=3,IF(H72=0,IF(TwoWayQuiz!I72=20,30,TwoWayQuiz!I72),TwoWayQuiz!I72),IF(I78>3,\".\",TwoWayQuiz!I72)))","v":"."},{"$f":"IF(I72>2,\".\",IF(I78=3,IF(I72=0,IF(TwoWayQuiz!J72=20,30,TwoWayQuiz!J72),TwoWayQuiz!J72),IF(J78>3,\".\",TwoWayQuiz!J72)))","v":20},{"$f":"IF(J72>2,\".\",IF(J78=3,IF(J72=0,IF(TwoWayQuiz!K72=20,30,TwoWayQuiz!K72),TwoWayQuiz!K72),IF(K78>3,\".\",TwoWayQuiz!K72)))","v":20},{"$f":"IF(K72>2,\".\",IF(K78=3,IF(K72=0,IF(TwoWayQuiz!L72=20,30,TwoWayQuiz!L72),TwoWayQuiz!L72),IF(L78>3,\".\",TwoWayQuiz!L72)))","v":20},{"$f":"IF(L72>2,\".\",IF(L78=3,IF(L72=0,IF(TwoWayQuiz!M72=20,30,TwoWayQuiz!M72),TwoWayQuiz!M72),IF(M78>3,\".\",TwoWayQuiz!M72)))","v":20},{"$f":"IF(M72>2,\".\",IF(M78=3,IF(M72=0,IF(TwoWayQuiz!N72=20,30,TwoWayQuiz!N72),TwoWayQuiz!N72),IF(N78>3,\".\",TwoWayQuiz!N72)))","v":20},{"$f":"IF(N72>2,\".\",IF(N78=3,IF(N72=0,IF(TwoWayQuiz!O72=20,30,TwoWayQuiz!O72),TwoWayQuiz!O72),IF(O78>3,\".\",TwoWayQuiz!O72)))","v":20},{"$f":"IF(O72>2,\".\",IF(O78=3,IF(O72=0,IF(TwoWayQuiz!P72=20,30,TwoWayQuiz!P72),TwoWayQuiz!P72),IF(P78>3,\".\",TwoWayQuiz!P72)))","v":20},{"$f":"IF(P72>2,\".\",IF(P78=3,IF(P72=0,IF(TwoWayQuiz!Q72=20,30,TwoWayQuiz!Q72),TwoWayQuiz!Q72),IF(Q78>3,\".\",TwoWayQuiz!Q72)))","v":20},{"$f":"IF(Q72>2,\".\",IF(Q78=3,IF(Q72=0,IF(TwoWayQuiz!R72=20,30,TwoWayQuiz!R72),TwoWayQuiz!R72),IF(R78>3,\".\",TwoWayQuiz!R72)))","v":20},{"$f":"IF(R72>2,\".\",IF(R78=3,IF(R72=0,IF(TwoWayQuiz!S72=20,30,TwoWayQuiz!S72),TwoWayQuiz!S72),IF(S78>3,\".\",TwoWayQuiz!S72)))","v":20},{"$f":"IF(S72>2,\".\",IF(S78=3,IF(S72=0,IF(TwoWayQuiz!T72=20,30,TwoWayQuiz!T72),TwoWayQuiz!T72),IF(T78>3,\".\",TwoWayQuiz!T72)))","v":20},{"$f":"IF(T72>2,\".\",IF(T78=3,IF(T72=0,IF(TwoWayQuiz!U72=20,30,TwoWayQuiz!U72),TwoWayQuiz!U72),IF(U78>3,\".\",TwoWayQuiz!U72)))","v":20},{"$f":"IF(U72>2,\".\",IF(U78=3,IF(U72=0,IF(TwoWayQuiz!V72=20,30,TwoWayQuiz!V72),TwoWayQuiz!V72),IF(V78>3,\".\",TwoWayQuiz!V72)))","v":10},{"$f":"IF(V72>2,\".\",IF(V78=3,IF(V72=0,IF(TwoWayQuiz!W72=20,30,TwoWayQuiz!W72),TwoWayQuiz!W72),IF(W78>3,\".\",TwoWayQuiz!W72)))","v":20},{"$f":"IF(W72>2,\".\",IF(W78=3,IF(W72=0,IF(TwoWayQuiz!X72=20,30,TwoWayQuiz!X72),TwoWayQuiz!X72),IF(X78>3,\".\",TwoWayQuiz!X72)))","v":20},{"$f":"IF(X72>2,\".\",IF(X78=3,IF(X72=0,IF(TwoWayQuiz!Y72=20,30,TwoWayQuiz!Y72),TwoWayQuiz!Y72),IF(Y78>3,\".\",TwoWayQuiz!Y72)))","v":10},{"$f":"IF(Y72>2,\".\",IF(Y78=3,IF(Y72=0,IF(TwoWayQuiz!Z72=20,30,TwoWayQuiz!Z72),TwoWayQuiz!Z72),IF(Z78>3,\".\",TwoWayQuiz!Z72)))","v":20},{"$f":"IF(Z72>2,\".\",IF(Z78=3,IF(Z72=0,IF(TwoWayQuiz!AA72=20,30,TwoWayQuiz!AA72),TwoWayQuiz!AA72),IF(AA78>3,\".\",TwoWayQuiz!AA72)))","v":20},{"$f":"IF(AA72>2,\".\",IF(AA78=3,IF(AA72=0,IF(TwoWayQuiz!AB72=20,30,TwoWayQuiz!AB72),TwoWayQuiz!AB72),IF(AB78>3,\".\",TwoWayQuiz!AB72)))","v":10},{"$f":"IF(AB72>2,\".\",IF(AB78=3,IF(AB72=0,IF(TwoWayQuiz!AC72=20,30,TwoWayQuiz!AC72),TwoWayQuiz!AC72),IF(AC78>3,\".\",TwoWayQuiz!AC72)))","v":20},{"$f":"IF(AC72>2,\".\",IF(AC78=3,IF(AC72=0,IF(TwoWayQuiz!AD72=20,30,TwoWayQuiz!AD72),TwoWayQuiz!AD72),IF(AD78>3,\".\",TwoWayQuiz!AD72)))","v":"."},{"$f":"IF(AD72>2,\".\",IF(AD78=3,IF(AD72=0,IF(TwoWayQuiz!AE72=20,30,TwoWayQuiz!AE72),TwoWayQuiz!AE72),IF(AE78>3,\".\",TwoWayQuiz!AE72)))","v":"."},{"$f":"IF(AE72>2,\".\",IF(AE78=3,IF(AE72=0,IF(TwoWayQuiz!AF72=20,30,TwoWayQuiz!AF72),TwoWayQuiz!AF72),IF(AF78>3,\".\",TwoWayQuiz!AF72)))","v":"."},{"$f":"IF(AF72>2,\".\",IF(AF78=3,IF(AF72=0,IF(TwoWayQuiz!AG72=20,30,TwoWayQuiz!AG72),TwoWayQuiz!AG72),IF(AG78>3,\".\",TwoWayQuiz!AG72)))","v":"."},{"$f":"IF(AG72>2,\".\",IF(AG78=3,IF(AG72=0,IF(TwoWayQuiz!AH72=20,30,TwoWayQuiz!AH72),TwoWayQuiz!AH72),IF(AH78>3,\".\",TwoWayQuiz!AH72)))","v":"."},{"$f":"IF(AH72>2,\".\",IF(AH78=3,IF(AH72=0,IF(TwoWayQuiz!AI72=20,30,TwoWayQuiz!AI72),TwoWayQuiz!AI72),IF(AI78>3,\".\",TwoWayQuiz!AI72)))","v":"."},{"$f":"IF(AI72>2,\".\",IF(AI78=3,IF(AI72=0,IF(TwoWayQuiz!AJ72=20,30,TwoWayQuiz!AJ72),TwoWayQuiz!AJ72),IF(AJ78>3,\".\",TwoWayQuiz!AJ72)))","v":"."},{"$f":"IF(AJ72>2,\".\",IF(AJ78=3,IF(AJ72=0,IF(TwoWayQuiz!AK72=20,30,TwoWayQuiz!AK72),TwoWayQuiz!AK72),IF(AK78>3,\".\",TwoWayQuiz!AK72)))","v":"."},{"$f":"IF(AK72>2,\".\",IF(AK78=3,IF(AK72=0,IF(TwoWayQuiz!AL72=20,30,TwoWayQuiz!AL72),TwoWayQuiz!AL72),IF(AL78>3,\".\",TwoWayQuiz!AL72)))","v":"."},{"$f":"IF(AL72>2,\".\",IF(AL78=3,IF(AL72=0,IF(TwoWayQuiz!AM72=20,30,TwoWayQuiz!AM72),TwoWayQuiz!AM72),IF(AM78>3,\".\",TwoWayQuiz!AM72)))","v":"."},{"$f":"IF(AM72>2,\".\",IF(AM78=3,IF(AM72=0,IF(TwoWayQuiz!AN72=20,30,TwoWayQuiz!AN72),TwoWayQuiz!AN72),IF(AN78>3,\".\",TwoWayQuiz!AN72)))","v":"."},{"$f":"IF(AN72>2,\".\",IF(AN78=3,IF(AN72=0,IF(TwoWayQuiz!AO72=20,30,TwoWayQuiz!AO72),TwoWayQuiz!AO72),IF(AO78>3,\".\",TwoWayQuiz!AO72)))","v":"."},{"$f":"IF(AO72>2,\".\",IF(AO78=3,IF(AO72=0,IF(TwoWayQuiz!AP72=20,30,TwoWayQuiz!AP72),TwoWayQuiz!AP72),IF(AP78>3,\".\",TwoWayQuiz!AP72)))","v":"."},{"$f":"IF(AP72>2,\".\",IF(AP78=3,IF(AP72=0,IF(TwoWayQuiz!AQ72=20,30,TwoWayQuiz!AQ72),TwoWayQuiz!AQ72),IF(AQ78>3,\".\",TwoWayQuiz!AQ72)))","v":"."},{"$f":"IF(AQ72>2,\".\",IF(AQ78=3,IF(AQ72=0,IF(TwoWayQuiz!AR72=20,30,TwoWayQuiz!AR72),TwoWayQuiz!AR72),IF(AR78>3,\".\",TwoWayQuiz!AR72)))","v":"."},{"$f":"IF(AR72>2,\".\",IF(AR78=3,IF(AR72=0,IF(TwoWayQuiz!AS72=20,30,TwoWayQuiz!AS72),TwoWayQuiz!AS72),IF(AS78>3,\".\",TwoWayQuiz!AS72)))","v":"."},{"$f":"IF(AS72>2,\".\",IF(AS78=3,IF(AS72=0,IF(TwoWayQuiz!AT72=20,30,TwoWayQuiz!AT72),TwoWayQuiz!AT72),IF(AT78>3,\".\",TwoWayQuiz!AT72)))","v":"."},{"$f":"IF(AT72>2,\".\",IF(AT78=3,IF(AT72=0,IF(TwoWayQuiz!AU72=20,30,TwoWayQuiz!AU72),TwoWayQuiz!AU72),IF(AU78>3,\".\",TwoWayQuiz!AU72)))","v":"."},{"$f":"IF(AU72>2,\".\",IF(AU78=3,IF(AU72=0,IF(TwoWayQuiz!AV72=20,30,TwoWayQuiz!AV72),TwoWayQuiz!AV72),IF(AV78>3,\".\",TwoWayQuiz!AV72)))","v":"."},{"$f":"IF(AV72>2,\".\",IF(AV78=3,IF(AV72=0,IF(TwoWayQuiz!AW72=20,30,TwoWayQuiz!AW72),TwoWayQuiz!AW72),IF(AW78>3,\".\",TwoWayQuiz!AW72)))","v":"."},{"$f":"IF(AW72>2,\".\",IF(AW78=3,IF(AW72=0,IF(TwoWayQuiz!AX72=20,30,TwoWayQuiz!AX72),TwoWayQuiz!AX72),IF(AX78>3,\".\",TwoWayQuiz!AX72)))","v":"."},{"$f":"IF(AX72>2,\".\",IF(AX78=3,IF(AX72=0,IF(TwoWayQuiz!AY72=20,30,TwoWayQuiz!AY72),TwoWayQuiz!AY72),IF(AY78>3,\".\",TwoWayQuiz!AY72)))","v":"."},{"$f":"IF(AY72>2,\".\",IF(AY78=3,IF(AY72=0,IF(TwoWayQuiz!AZ72=20,30,TwoWayQuiz!AZ72),TwoWayQuiz!AZ72),IF(AZ78>3,\".\",TwoWayQuiz!AZ72)))","v":"."},{"$f":"IF(AZ72>2,\".\",IF(AZ78=3,IF(AZ72=0,IF(TwoWayQuiz!BA72=20,30,TwoWayQuiz!BA72),TwoWayQuiz!BA72),IF(BA78>3,\".\",TwoWayQuiz!BA72)))","v":"."},{"$f":"IF(BA72>2,\".\",IF(BA78=3,IF(BA72=0,IF(TwoWayQuiz!BB72=20,30,TwoWayQuiz!BB72),TwoWayQuiz!BB72),IF(BB78>3,\".\",TwoWayQuiz!BB72)))","v":"."},{"$f":"IF(BB72>2,\".\",IF(BB78=3,IF(BB72=0,IF(TwoWayQuiz!BC72=20,30,TwoWayQuiz!BC72),TwoWayQuiz!BC72),IF(BC78>3,\".\",TwoWayQuiz!BC72)))","v":"."},{"$f":"IF(BC72>2,\".\",IF(BC78=3,IF(BC72=0,IF(TwoWayQuiz!BD72=20,30,TwoWayQuiz!BD72),TwoWayQuiz!BD72),IF(BD78>3,\".\",TwoWayQuiz!BD72)))","v":"."},{"$f":"IF(BD72>2,\".\",IF(BD78=3,IF(BD72=0,IF(TwoWayQuiz!BE72=20,30,TwoWayQuiz!BE72),TwoWayQuiz!BE72),IF(BE78>3,\".\",TwoWayQuiz!BE72)))","v":"."},{"$f":"IF(BE72>2,\".\",IF(BE78=3,IF(BE72=0,IF(TwoWayQuiz!BF72=20,30,TwoWayQuiz!BF72),TwoWayQuiz!BF72),IF(BF78>3,\".\",TwoWayQuiz!BF72)))","v":"."},{"$f":"IF(BF72>2,\".\",IF(BF78=3,IF(BF72=0,IF(TwoWayQuiz!BG72=20,30,TwoWayQuiz!BG72),TwoWayQuiz!BG72),IF(BG78>3,\".\",TwoWayQuiz!BG72)))","v":"."}]
[null,null,{"$f":"TwoWayQuiz!C67","v":0},20,{"$f":"IF(D73>2,\".\",IF(D79=3,IF(D73=0,IF(TwoWayQuiz!E72=20,30,TwoWayQuiz!E72),TwoWayQuiz!E72),IF(E79>3,\".\",TwoWayQuiz!E72)))","v":20},{"$f":"IF(E73>2,\".\",IF(E79=3,IF(E73=0,IF(TwoWayQuiz!F72=20,30,TwoWayQuiz!F72),TwoWayQuiz!F72),IF(F79>3,\".\",TwoWayQuiz!F72)))","v":20},{"$f":"IF(F73>2,\".\",IF(F79=3,IF(F73=0,IF(TwoWayQuiz!G72=20,30,TwoWayQuiz!G72),TwoWayQuiz!G72),IF(G79>3,\".\",TwoWayQuiz!G72)))","v":20},{"$f":"IF(G73>2,\".\",IF(G79=3,IF(G73=0,IF(TwoWayQuiz!H72=20,30,TwoWayQuiz!H72),TwoWayQuiz!H72),IF(H79>3,\".\",TwoWayQuiz!H72)))","v":20},{"$f":"IF(H73>2,\".\",IF(H79=3,IF(H73=0,IF(TwoWayQuiz!I72=20,30,TwoWayQuiz!I72),TwoWayQuiz!I72),IF(I79>3,\".\",TwoWayQuiz!I72)))","v":"."},{"$f":"IF(I73>2,\".\",IF(I79=3,IF(I73=0,IF(TwoWayQuiz!J72=20,30,TwoWayQuiz!J72),TwoWayQuiz!J72),IF(J79>3,\".\",TwoWayQuiz!J72)))","v":20},{"$f":"IF(J73>2,\".\",IF(J79=3,IF(J73=0,IF(TwoWayQuiz!K72=20,30,TwoWayQuiz!K72),TwoWayQuiz!K72),IF(K79>3,\".\",TwoWayQuiz!K72)))","v":20},{"$f":"IF(K73>2,\".\",IF(K79=3,IF(K73=0,IF(TwoWayQuiz!L72=20,30,TwoWayQuiz!L72),TwoWayQuiz!L72),IF(L79>3,\".\",TwoWayQuiz!L72)))","v":20},{"$f":"IF(L73>2,\".\",IF(L79=3,IF(L73=0,IF(TwoWayQuiz!M72=20,30,TwoWayQuiz!M72),TwoWayQuiz!M72),IF(M79>3,\".\",TwoWayQuiz!M72)))","v":20},{"$f":"IF(M73>2,\".\",IF(M79=3,IF(M73=0,IF(TwoWayQuiz!N72=20,30,TwoWayQuiz!N72),TwoWayQuiz!N72),IF(N79>3,\".\",TwoWayQuiz!N72)))","v":20},{"$f":"IF(N73>2,\".\",IF(N79=3,IF(N73=0,IF(TwoWayQuiz!O72=20,30,TwoWayQuiz!O72),TwoWayQuiz!O72),IF(O79>3,\".\",TwoWayQuiz!O72)))","v":20},{"$f":"IF(O73>2,\".\",IF(O79=3,IF(O73=0,IF(TwoWayQuiz!P72=20,30,TwoWayQuiz!P72),TwoWayQuiz!P72),IF(P79>3,\".\",TwoWayQuiz!P72)))","v":20},{"$f":"IF(P73>2,\".\",IF(P79=3,IF(P73=0,IF(TwoWayQuiz!Q72=20,30,TwoWayQuiz!Q72),TwoWayQuiz!Q72),IF(Q79>3,\".\",TwoWayQuiz!Q72)))","v":20},{"$f":"IF(Q73>2,\".\",IF(Q79=3,IF(Q73=0,IF(TwoWayQuiz!R72=20,30,TwoWayQuiz!R72),TwoWayQuiz!R72),IF(R79>3,\".\",TwoWayQuiz!R72)))","v":20},{"$f":"IF(R73>2,\".\",IF(R79=3,IF(R73=0,IF(TwoWayQuiz!S72=20,30,TwoWayQuiz!S72),TwoWayQuiz!S72),IF(S79>3,\".\",TwoWayQuiz!S72)))","v":20},{"$f":"IF(S73>2,\".\",IF(S79=3,IF(S73=0,IF(TwoWayQuiz!T72=20,30,TwoWayQuiz!T72),TwoWayQuiz!T72),IF(T79>3,\".\",TwoWayQuiz!T72)))","v":20},{"$f":"IF(T73>2,\".\",IF(T79=3,IF(T73=0,IF(TwoWayQuiz!U72=20,30,TwoWayQuiz!U72),TwoWayQuiz!U72),IF(U79>3,\".\",TwoWayQuiz!U72)))","v":20},{"$f":"IF(U73>2,\".\",IF(U79=3,IF(U73=0,IF(TwoWayQuiz!V72=20,30,TwoWayQuiz!V72),TwoWayQuiz!V72),IF(V79>3,\".\",TwoWayQuiz!V72)))","v":10},{"$f":"IF(V73>2,\".\",IF(V79=3,IF(V73=0,IF(TwoWayQuiz!W72=20,30,TwoWayQuiz!W72),TwoWayQuiz!W72),IF(W79>3,\".\",TwoWayQuiz!W72)))","v":20},{"$f":"IF(W73>2,\".\",IF(W79=3,IF(W73=0,IF(TwoWayQuiz!X72=20,30,TwoWayQuiz!X72),TwoWayQuiz!X72),IF(X79>3,\".\",TwoWayQuiz!X72)))","v":20},{"$f":"IF(X73>2,\".\",IF(X79=3,IF(X73=0,IF(TwoWayQuiz!Y72=20,30,TwoWayQuiz!Y72),TwoWayQuiz!Y72),IF(Y79>3,\".\",TwoWayQuiz!Y72)))","v":10},{"$f":"IF(Y73>2,\".\",IF(Y79=3,IF(Y73=0,IF(TwoWayQuiz!Z72=20,30,TwoWayQuiz!Z72),TwoWayQuiz!Z72),IF(Z79>3,\".\",TwoWayQuiz!Z72)))","v":20},{"$f":"IF(Z73>2,\".\",IF(Z79=3,IF(Z73=0,IF(TwoWayQuiz!AA72=20,30,TwoWayQuiz!AA72),TwoWayQuiz!AA72),IF(AA79>3,\".\",TwoWayQuiz!AA72)))","v":20},{"$f":"IF(AA73>2,\".\",IF(AA79=3,IF(AA73=0,IF(TwoWayQuiz!AB72=20,30,TwoWayQuiz!AB72),TwoWayQuiz!AB72),IF(AB79>3,\".\",TwoWayQuiz!AB72)))","v":10},{"$f":"IF(AB73>2,\".\",IF(AB79=3,IF(AB73=0,IF(TwoWayQuiz!AC72=20,30,TwoWayQuiz!AC72),TwoWayQuiz!AC72),IF(AC79>3,\".\",TwoWayQuiz!AC72)))","v":20},{"$f":"IF(AC73>2,\".\",IF(AC79=3,IF(AC73=0,IF(TwoWayQuiz!AD72=20,30,TwoWayQuiz!AD72),TwoWayQuiz!AD72),IF(AD79>3,\".\",TwoWayQuiz!AD72)))","v":"."},{"$f":"IF(AD73>2,\".\",IF(AD79=3,IF(AD73=0,IF(TwoWayQuiz!AE72=20,30,TwoWayQuiz!AE72),TwoWayQuiz!AE72),IF(AE79>3,\".\",TwoWayQuiz!AE72)))","v":"."},{"$f":"IF(AE73>2,\".\",IF(AE79=3,IF(AE73=0,IF(TwoWayQuiz!AF72=20,30,TwoWayQuiz!AF72),TwoWayQuiz!AF72),IF(AF79>3,\".\",TwoWayQuiz!AF72)))","v":"."},{"$f":"IF(AF73>2,\".\",IF(AF79=3,IF(AF73=0,IF(TwoWayQuiz!AG72=20,30,TwoWayQuiz!AG72),TwoWayQuiz!AG72),IF(AG79>3,\".\",TwoWayQuiz!AG72)))","v":"."},{"$f":"IF(AG73>2,\".\",IF(AG79=3,IF(AG73=0,IF(TwoWayQuiz!AH72=20,30,TwoWayQuiz!AH72),TwoWayQuiz!AH72),IF(AH79>3,\".\",TwoWayQuiz!AH72)))","v":"."},{"$f":"IF(AH73>2,\".\",IF(AH79=3,IF(AH73=0,IF(TwoWayQuiz!AI72=20,30,TwoWayQuiz!AI72),TwoWayQuiz!AI72),IF(AI79>3,\".\",TwoWayQuiz!AI72)))","v":"."},{"$f":"IF(AI73>2,\".\",IF(AI79=3,IF(AI73=0,IF(TwoWayQuiz!AJ72=20,30,TwoWayQuiz!AJ72),TwoWayQuiz!AJ72),IF(AJ79>3,\".\",TwoWayQuiz!AJ72)))","v":"."},{"$f":"IF(AJ73>2,\".\",IF(AJ79=3,IF(AJ73=0,IF(TwoWayQuiz!AK72=20,30,TwoWayQuiz!AK72),TwoWayQuiz!AK72),IF(AK79>3,\".\",TwoWayQuiz!AK72)))","v":"."},{"$f":"IF(AK73>2,\".\",IF(AK79=3,IF(AK73=0,IF(TwoWayQuiz!AL72=20,30,TwoWayQuiz!AL72),TwoWayQuiz!AL72),IF(AL79>3,\".\",TwoWayQuiz!AL72)))","v":"."},{"$f":"IF(AL73>2,\".\",IF(AL79=3,IF(AL73=0,IF(TwoWayQuiz!AM72=20,30,TwoWayQuiz!AM72),TwoWayQuiz!AM72),IF(AM79>3,\".\",TwoWayQuiz!AM72)))","v":"."},{"$f":"IF(AM73>2,\".\",IF(AM79=3,IF(AM73=0,IF(TwoWayQuiz!AN72=20,30,TwoWayQuiz!AN72),TwoWayQuiz!AN72),IF(AN79>3,\".\",TwoWayQuiz!AN72)))","v":"."},{"$f":"IF(AN73>2,\".\",IF(AN79=3,IF(AN73=0,IF(TwoWayQuiz!AO72=20,30,TwoWayQuiz!AO72),TwoWayQuiz!AO72),IF(AO79>3,\".\",TwoWayQuiz!AO72)))","v":"."},{"$f":"IF(AO73>2,\".\",IF(AO79=3,IF(AO73=0,IF(TwoWayQuiz!AP72=20,30,TwoWayQuiz!AP72),TwoWayQuiz!AP72),IF(AP79>3,\".\",TwoWayQuiz!AP72)))","v":"."},{"$f":"IF(AP73>2,\".\",IF(AP79=3,IF(AP73=0,IF(TwoWayQuiz!AQ72=20,30,TwoWayQuiz!AQ72),TwoWayQuiz!AQ72),IF(AQ79>3,\".\",TwoWayQuiz!AQ72)))","v":"."},{"$f":"IF(AQ73>2,\".\",IF(AQ79=3,IF(AQ73=0,IF(TwoWayQuiz!AR72=20,30,TwoWayQuiz!AR72),TwoWayQuiz!AR72),IF(AR79>3,\".\",TwoWayQuiz!AR72)))","v":"."},{"$f":"IF(AR73>2,\".\",IF(AR79=3,IF(AR73=0,IF(TwoWayQuiz!AS72=20,30,TwoWayQuiz!AS72),TwoWayQuiz!AS72),IF(AS79>3,\".\",TwoWayQuiz!AS72)))","v":"."},{"$f":"IF(AS73>2,\".\",IF(AS79=3,IF(AS73=0,IF(TwoWayQuiz!AT72=20,30,TwoWayQuiz!AT72),TwoWayQuiz!AT72),IF(AT79>3,\".\",TwoWayQuiz!AT72)))","v":"."},{"$f":"IF(AT73>2,\".\",IF(AT79=3,IF(AT73=0,IF(TwoWayQuiz!AU72=20,30,TwoWayQuiz!AU72),TwoWayQuiz!AU72),IF(AU79>3,\".\",TwoWayQuiz!AU72)))","v":"."},{"$f":"IF(AU73>2,\".\",IF(AU79=3,IF(AU73=0,IF(TwoWayQuiz!AV72=20,30,TwoWayQuiz!AV72),TwoWayQuiz!AV72),IF(AV79>3,\".\",TwoWayQuiz!AV72)))","v":"."},{"$f":"IF(AV73>2,\".\",IF(AV79=3,IF(AV73=0,IF(TwoWayQuiz!AW72=20,30,TwoWayQuiz!AW72),TwoWayQuiz!AW72),IF(AW79>3,\".\",TwoWayQuiz!AW72)))","v":"."},{"$f":"IF(AW73>2,\".\",IF(AW79=3,IF(AW73=0,IF(TwoWayQuiz!AX72=20,30,TwoWayQuiz!AX72),TwoWayQuiz!AX72),IF(AX79>3,\".\",TwoWayQuiz!AX72)))","v":"."},{"$f":"IF(AX73>2,\".\",IF(AX79=3,IF(AX73=0,IF(TwoWayQuiz!AY72=20,30,TwoWayQuiz!AY72),TwoWayQuiz!AY72),IF(AY79>3,\".\",TwoWayQuiz!AY72)))","v":"."},{"$f":"IF(AY73>2,\".\",IF(AY79=3,IF(AY73=0,IF(TwoWayQuiz!AZ72=20,30,TwoWayQuiz!AZ72),TwoWayQuiz!AZ72),IF(AZ79>3,\".\",TwoWayQuiz!AZ72)))","v":"."},{"$f":"IF(AZ73>2,\".\",IF(AZ79=3,IF(AZ73=0,IF(TwoWayQuiz!BA72=20,30,TwoWayQuiz!BA72),TwoWayQuiz!BA72),IF(BA79>3,\".\",TwoWayQuiz!BA72)))","v":"."},{"$f":"IF(BA73>2,\".\",IF(BA79=3,IF(BA73=0,IF(TwoWayQuiz!BB72=20,30,TwoWayQuiz!BB72),TwoWayQuiz!BB72),IF(BB79>3,\".\",TwoWayQuiz!BB72)))","v":"."},{"$f":"IF(BB73>2,\".\",IF(BB79=3,IF(BB73=0,IF(TwoWayQuiz!BC72=20,30,TwoWayQuiz!BC72),TwoWayQuiz!BC72),IF(BC79>3,\".\",TwoWayQuiz!BC72)))","v":"."},{"$f":"IF(BC73>2,\".\",IF(BC79=3,IF(BC73=0,IF(TwoWayQuiz!BD72=20,30,TwoWayQuiz!BD72),TwoWayQuiz!BD72),IF(BD79>3,\".\",TwoWayQuiz!BD72)))","v":"."},{"$f":"IF(BD73>2,\".\",IF(BD79=3,IF(BD73=0,IF(TwoWayQuiz!BE72=20,30,TwoWayQuiz!BE72),TwoWayQuiz!BE72),IF(BE79>3,\".\",TwoWayQuiz!BE72)))","v":"."},{"$f":"IF(BE73>2,\".\",IF(BE79=3,IF(BE73=0,IF(TwoWayQuiz!BF72=20,30,TwoWayQuiz!BF72),TwoWayQuiz!BF72),IF(BF79>3,\".\",TwoWayQuiz!BF72)))","v":"."},{"$f":"IF(BF73>2,\".\",IF(BF79=3,IF(BF73=0,IF(TwoWayQuiz!BG72=20,30,TwoWayQuiz!BG72),TwoWayQuiz!BG72),IF(BG79>3,\".\",TwoWayQuiz!BG72)))","v":"."}]
[]
[null,null,{"$f":"CONCATENATE(\"# of errors \",C63)","v":"# of errors Quizzer #1"},{"$f":"IF(TwoWayQuiz!D63=\"E\",1,0)","v":0},{"$f":"IF(TwoWayQuiz!E63=\"E\",1+D69,D69)","v":0},{"$f":"IF(TwoWayQuiz!F63=\"E\",1+E69,E69)","v":0},{"$f":"IF(TwoWayQuiz!G63=\"E\",1+F69,F69)","v":0},{"$f":"IF(TwoWayQuiz!H63=\"E\",1+G69,G69)","v":0},{"$f":"IF(TwoWayQuiz!I63=\"E\",1+H69,H69)","v":0},{"$f":"IF(TwoWayQuiz!J63=\"E\",1+I69,I69)","v":0},{"$f":"IF(TwoWayQuiz!K63=\"E\",1+J69,J69)","v":0},{"$f":"IF(TwoWayQuiz!L63=\"E\",1+K69,K69)","v":0},{"$f":"IF(TwoWayQuiz!M63=\"E\",1+L69,L69)","v":0},{"$f":"IF(TwoWayQuiz!N63=\"E\",1+M69,M69)","v":0},{"$f":"IF(TwoWayQuiz!O63=\"E\",1+N69,N69)","v":0},{"$f":"IF(TwoWayQuiz!P63=\"E\",1+O69,O69)","v":0},{"$f":"IF(TwoWayQuiz!Q63=\"E\",1+P69,P69)","v":0},{"$f":"IF(TwoWayQuiz!R63=\"E\",1+Q69,Q69)","v":0},{"$f":"IF(TwoWayQuiz!S63=\"E\",1+R69,R69)","v":0},{"$f":"IF(TwoWayQuiz!T63=\"E\",1+S69,S69)","v":0},{"$f":"IF(TwoWayQuiz!U63=\"E\",1+T69,T69)","v":0},{"$f":"IF(TwoWayQuiz!V63=\"E\",1+U69,U69)","v":0},{"$f":"IF(TwoWayQuiz!W63=\"E\",1+V69,V69)","v":0},{"$f":"IF(TwoWayQuiz!X63=\"E\",1+W69,W69)","v":0},{"$f":"IF(TwoWayQuiz!Y63=\"E\",1+X69,X69)","v":0},{"$f":"IF(TwoWayQuiz!Z63=\"E\",1+Y69,Y69)","v":0},{"$f":"IF(TwoWayQuiz!AA63=\"E\",1+Z69,Z69)","v":0},{"$f":"IF(TwoWayQuiz!AB63=\"E\",1+AA69,AA69)","v":0},{"$f":"IF(TwoWayQuiz!AC63=\"E\",1+AB69,AB69)","v":0},{"$f":"IF(TwoWayQuiz!AD63=\"E\",1+AC69,AC69)","v":0},{"$f":"IF(TwoWayQuiz!AE63=\"E\",1+AD69,AD69)","v":0},{"$f":"IF(TwoWayQuiz!AF63=\"E\",1+AE69,AE69)","v":0},{"$f":"IF(TwoWayQuiz!AG63=\"E\",1+AF69,AF69)","v":0},{"$f":"IF(TwoWayQuiz!AH63=\"E\",1+AG69,AG69)","v":0},{"$f":"IF(TwoWayQuiz!AI63=\"E\",1+AH69,AH69)","v":0},{"$f":"IF(TwoWayQuiz!AJ63=\"E\",1+AI69,AI69)","v":0},{"$f":"IF(TwoWayQuiz!AK63=\"E\",1+AJ69,AJ69)","v":0},{"$f":"IF(TwoWayQuiz!AL63=\"E\",1+AK69,AK69)","v":0},{"$f":"IF(TwoWayQuiz!AM63=\"E\",1+AL69,AL69)","v":0},{"$f":"IF(TwoWayQuiz!AN63=\"E\",1+AM69,AM69)","v":0},{"$f":"IF(TwoWayQuiz!AO63=\"E\",1+AN69,AN69)","v":0},{"$f":"IF(TwoWayQuiz!AP63=\"E\",1+AO69,AO69)","v":0},{"$f":"IF(TwoWayQuiz!AQ63=\"E\",1+AP69,AP69)","v":0},{"$f":"IF(TwoWayQuiz!AR63=\"E\",1+AQ69,AQ69)","v":0},{"$f":"IF(TwoWayQuiz!AS63=\"E\",1+AR69,AR69)","v":0},{"$f":"IF(TwoWayQuiz!AT63=\"E\",1+AS69,AS69)","v":0},{"$f":"IF(TwoWayQuiz!AU63=\"E\",1+AT69,AT69)","v":0},{"$f":"IF(TwoWayQuiz!AV63=\"E\",1+AU69,AU69)","v":0},{"$f":"IF(TwoWayQuiz!AW63=\"E\",1+AV69,AV69)","v":0},{"$f":"IF(TwoWayQuiz!AX63=\"E\",1+AW69,AW69)","v":0},{"$f":"IF(TwoWayQuiz!AY63=\"E\",1+AX69,AX69)","v":0},{"$f":"IF(TwoWayQuiz!AZ63=\"E\",1+AY69,AY69)","v":0},{"$f":"IF(TwoWayQuiz!BA63=\"E\",1+AZ69,AZ69)","v":0},{"$f":"IF(TwoWayQuiz!BB63=\"E\",1+BA69,BA69)","v":0},{"$f":"IF(TwoWayQuiz!BC63=\"E\",1+BB69,BB69)","v":0},{"$f":"IF(TwoWayQuiz!BD63=\"E\",1+BC69,BC69)","v":0},{"$f":"IF(TwoWayQuiz!BE63=\"E\",1+BD69,BD69)","v":0},{"$f":"IF(TwoWayQuiz!BF63=\"E\",1+BE69,BE69)","v":0},{"$f":"IF(TwoWayQuiz!BG63=\"E\",1+BF69,BF69)","v":0}]
[null,null,{"$f":"CONCATENATE(\"# of errors \",C64)","v":"# of errors Quizzer #2"},{"$f":"IF(TwoWayQuiz!D64=\"E\",1,0)","v":0},{"$f":"IF(TwoWayQuiz!E64=\"E\",1+D70,D70)","v":0},{"$f":"IF(TwoWayQuiz!F64=\"E\",1+E70,E70)","v":0},{"$f":"IF(TwoWayQuiz!G64=\"E\",1+F70,F70)","v":0},{"$f":"IF(TwoWayQuiz!H64=\"E\",1+G70,G70)","v":0},{"$f":"IF(TwoWayQuiz!I64=\"E\",1+H70,H70)","v":0},{"$f":"IF(TwoWayQuiz!J64=\"E\",1+I70,I70)","v":0},{"$f":"IF(TwoWayQuiz!K64=\"E\",1+J70,J70)","v":0},{"$f":"IF(TwoWayQuiz!L64=\"E\",1+K70,K70)","v":0},{"$f":"IF(TwoWayQuiz!M64=\"E\",1+L70,L70)","v":0},{"$f":"IF(TwoWayQuiz!N64=\"E\",1+M70,M70)","v":0},{"$f":"IF(TwoWayQuiz!O64=\"E\",1+N70,N70)","v":0},{"$f":"IF(TwoWayQuiz!P64=\"E\",1+O70,O70)","v":0},{"$f":"IF(TwoWayQuiz!Q64=\"E\",1+P70,P70)","v":0},{"$f":"IF(TwoWayQuiz!R64=\"E\",1+Q70,Q70)","v":0},{"$f":"IF(TwoWayQuiz!S64=\"E\",1+R70,R70)","v":0},{"$f":"IF(TwoWayQuiz!T64=\"E\",1+S70,S70)","v":0},{"$f":"IF(TwoWayQuiz!U64=\"E\",1+T70,T70)","v":0},{"$f":"IF(TwoWayQuiz!V64=\"E\",1+U70,U70)","v":0},{"$f":"IF(TwoWayQuiz!W64=\"E\",1+V70,V70)","v":0},{"$f":"IF(TwoWayQuiz!X64=\"E\",1+W70,W70)","v":0},{"$f":"IF(TwoWayQuiz!Y64=\"E\",1+X70,X70)","v":0},{"$f":"IF(TwoWayQuiz!Z64=\"E\",1+Y70,Y70)","v":0},{"$f":"IF(TwoWayQuiz!AA64=\"E\",1+Z70,Z70)","v":0},{"$f":"IF(TwoWayQuiz!AB64=\"E\",1+AA70,AA70)","v":0},{"$f":"IF(TwoWayQuiz!AC64=\"E\",1+AB70,AB70)","v":0},{"$f":"IF(TwoWayQuiz!AD64=\"E\",1+AC70,AC70)","v":0},{"$f":"IF(TwoWayQuiz!AE64=\"E\",1+AD70,AD70)","v":0},{"$f":"IF(TwoWayQuiz!AF64=\"E\",1+AE70,AE70)","v":0},{"$f":"IF(TwoWayQuiz!AG64=\"E\",1+AF70,AF70)","v":0},{"$f":"IF(TwoWayQuiz!AH64=\"E\",1+AG70,AG70)","v":0},{"$f":"IF(TwoWayQuiz!AI64=\"E\",1+AH70,AH70)","v":0},{"$f":"IF(TwoWayQuiz!AJ64=\"E\",1+AI70,AI70)","v":0},{"$f":"IF(TwoWayQuiz!AK64=\"E\",1+AJ70,AJ70)","v":0},{"$f":"IF(TwoWayQuiz!AL64=\"E\",1+AK70,AK70)","v":0},{"$f":"IF(TwoWayQuiz!AM64=\"E\",1+AL70,AL70)","v":0},{"$f":"IF(TwoWayQuiz!AN64=\"E\",1+AM70,AM70)","v":0},{"$f":"IF(TwoWayQuiz!AO64=\"E\",1+AN70,AN70)","v":0},{"$f":"IF(TwoWayQuiz!AP64=\"E\",1+AO70,AO70)","v":0},{"$f":"IF(TwoWayQuiz!AQ64=\"E\",1+AP70,AP70)","v":0},{"$f":"IF(TwoWayQuiz!AR64=\"E\",1+AQ70,AQ70)","v":0},{"$f":"IF(TwoWayQuiz!AS64=\"E\",1+AR70,AR70)","v":0},{"$f":"IF(TwoWayQuiz!AT64=\"E\",1+AS70,AS70)","v":0},{"$f":"IF(TwoWayQuiz!AU64=\"E\",1+AT70,AT70)","v":0},{"$f":"IF(TwoWayQuiz!AV64=\"E\",1+AU70,AU70)","v":0},{"$f":"IF(TwoWayQuiz!AW64=\"E\",1+AV70,AV70)","v":0},{"$f":"IF(TwoWayQuiz!AX64=\"E\",1+AW70,AW70)","v":0},{"$f":"IF(TwoWayQuiz!AY64=\"E\",1+AX70,AX70)","v":0},{"$f":"IF(TwoWayQuiz!AZ64=\"E\",1+AY70,AY70)","v":0},{"$f":"IF(TwoWayQuiz!BA64=\"E\",1+AZ70,AZ70)","v":0},{"$f":"IF(TwoWayQuiz!BB64=\"E\",1+BA70,BA70)","v":0},{"$f":"IF(TwoWayQuiz!BC64=\"E\",1+BB70,BB70)","v":0},{"$f":"IF(TwoWayQuiz!BD64=\"E\",1+BC70,BC70)","v":0},{"$f":"IF(TwoWayQuiz!BE64=\"E\",1+BD70,BD70)","v":0},{"$f":"IF(TwoWayQuiz!BF64=\"E\",1+BE70,BE70)","v":0},{"$f":"IF(TwoWayQuiz!BG64=\"E\",1+BF70,BF70)","v":0}]
[null,null,"# of errors Quizzer #3",{"$f":"IF(TwoWayQuiz!D65=\"E\",1,0)","v":0},{"$f":"IF(TwoWayQuiz!E65=\"E\",1+D71,D71)","v":0},{"$f":"IF(TwoWayQuiz!F65=\"E\",1+E71,E71)","v":0},{"$f":"IF(TwoWayQuiz!G65=\"E\",1+F71,F71)","v":0},{"$f":"IF(TwoWayQuiz!H65=\"E\",1+G71,G71)","v":1},{"$f":"IF(TwoWayQuiz!I65=\"E\",1+H71,H71)","v":1},{"$f":"IF(TwoWayQuiz!J65=\"E\",1+I71,I71)","v":1},{"$f":"IF(TwoWayQuiz!K65=\"E\",1+J71,J71)","v":1},{"$f":"IF(TwoWayQuiz!L65=\"E\",1+K71,K71)","v":1},{"$f":"IF(TwoWayQuiz!M65=\"E\",1+L71,L71)","v":1},{"$f":"IF(TwoWayQuiz!N65=\"E\",1+M71,M71)","v":1},{"$f":"IF(TwoWayQuiz!O65=\"E\",1+N71,N71)","v":1},{"$f":"IF(TwoWayQuiz!P65=\"E\",1+O71,O71)","v":1},{"$f":"IF(TwoWayQuiz!Q65=\"E\",1+P71,P71)","v":1},{"$f":"IF(TwoWayQuiz!R65=\"E\",1+Q71,Q71)","v":1},{"$f":"IF(TwoWayQuiz!S65=\"E\",1+R71,R71)","v":1},{"$f":"IF(TwoWayQuiz!T65=\"E\",1+S71,S71)","v":1},{"$f":"IF(TwoWayQuiz!U65=\"E\",1+T71,T71)","v":1},{"$f":"IF(TwoWayQuiz!V65=\"E\",1+U71,U71)","v":1},{"$f":"IF(TwoWayQuiz!W65=\"E\",1+V71,V71)","v":1},{"$f":"IF(TwoWayQuiz!X65=\"E\",1+W71,W71)","v":1},{"$f":"IF(TwoWayQuiz!Y65=\"E\",1+X71,X71)","v":1},{"$f":"IF(TwoWayQuiz!Z65=\"E\",1+Y71,Y71)","v":1},{"$f":"IF(TwoWayQuiz!AA65=\"E\",1+Z71,Z71)","v":1},{"$f":"IF(TwoWayQuiz!AB65=\"E\",1+AA71,AA71)","v":1},{"$f":"IF(TwoWayQuiz!AC65=\"E\",1+AB71,AB71)","v":1},{"$f":"IF(TwoWayQuiz!AD65=\"E\",1+AC71,AC71)","v":1},{"$f":"IF(TwoWayQuiz!AE65=\"E\",1+AD71,AD71)","v":1},{"$f":"IF(TwoWayQuiz!AF65=\"E\",1+AE71,AE71)","v":1},{"$f":"IF(TwoWayQuiz!AG65=\"E\",1+AF71,AF71)","v":1},{"$f":"IF(TwoWayQuiz!AH65=\"E\",1+AG71,AG71)","v":1},{"$f":"IF(TwoWayQuiz!AI65=\"E\",1+AH71,AH71)","v":1},{"$f":"IF(TwoWayQuiz!AJ65=\"E\",1+AI71,AI71)","v":1},{"$f":"IF(TwoWayQuiz!AK65=\"E\",1+AJ71,AJ71)","v":1},{"$f":"IF(TwoWayQuiz!AL65=\"E\",1+AK71,AK71)","v":1},{"$f":"IF(TwoWayQuiz!AM65=\"E\",1+AL71,AL71)","v":1},{"$f":"IF(TwoWayQuiz!AN65=\"E\",1+AM71,AM71)","v":1},{"$f":"IF(TwoWayQuiz!AO65=\"E\",1+AN71,AN71)","v":1},{"$f":"IF(TwoWayQuiz!AP65=\"E\",1+AO71,AO71)","v":1},{"$f":"IF(TwoWayQuiz!AQ65=\"E\",1+AP71,AP71)","v":1},{"$f":"IF(TwoWayQuiz!AR65=\"E\",1+AQ71,AQ71)","v":1},{"$f":"IF(TwoWayQuiz!AS65=\"E\",1+AR71,AR71)","v":1},{"$f":"IF(TwoWayQuiz!AT65=\"E\",1+AS71,AS71)","v":1},{"$f":"IF(TwoWayQuiz!AU65=\"E\",1+AT71,AT71)","v":1},{"$f":"IF(TwoWayQuiz!AV65=\"E\",1+AU71,AU71)","v":1},{"$f":"IF(TwoWayQuiz!AW65=\"E\",1+AV71,AV71)","v":1},{"$f":"IF(TwoWayQuiz!AX65=\"E\",1+AW71,AW71)","v":1},{"$f":"IF(TwoWayQuiz!AY65=\"E\",1+AX71,AX71)","v":1},{"$f":"IF(TwoWayQuiz!AZ65=\"E\",1+AY71,AY71)","v":1},{"$f":"IF(TwoWayQuiz!BA65=\"E\",1+AZ71,AZ71)","v":1},{"$f":"IF(TwoWayQuiz!BB65=\"E\",1+BA71,BA71)","v":1},{"$f":"IF(TwoWayQuiz!BC65=\"E\",1+BB71,BB71)","v":1},{"$f":"IF(TwoWayQuiz!BD65=\"E\",1+BC71,BC71)","v":1},{"$f":"IF(TwoWayQuiz!BE65=\"E\",1+BD71,BD71)","v":1},{"$f":"IF(TwoWayQuiz!BF65=\"E\",1+BE71,BE71)","v":1},{"$f":"IF(TwoWayQuiz!BG65=\"E\",1+BF71,BF71)","v":1}]
[null,null,"# of errors Quizzer #4",{"$f":"IF(TwoWayQuiz!D66=\"E\",1,0)","v":0},{"$f":"IF(TwoWayQuiz!E66=\"E\",1+D72,D72)","v":0},{"$f":"IF(TwoWayQuiz!F66=\"E\",1+E72,E72)","v":0},{"$f":"IF(TwoWayQuiz!G66=\"E\",1+F72,F72)","v":0},{"$f":"IF(TwoWayQuiz!H66=\"E\",1+G72,G72)","v":0},{"$f":"IF(TwoWayQuiz!I66=\"E\",1+H72,H72)","v":0},{"$f":"IF(TwoWayQuiz!J66=\"E\",1+I72,I72)","v":0},{"$f":"IF(TwoWayQuiz!K66=\"E\",1+J72,J72)","v":0},{"$f":"IF(TwoWayQuiz!L66=\"E\",1+K72,K72)","v":0},{"$f":"IF(TwoWayQuiz!M66=\"E\",1+L72,L72)","v":0},{"$f":"IF(TwoWayQuiz!N66=\"E\",1+M72,M72)","v":0},{"$f":"IF(TwoWayQuiz!O66=\"E\",1+N72,N72)","v":0},{"$f":"IF(TwoWayQuiz!P66=\"E\",1+O72,O72)","v":0},{"$f":"IF(TwoWayQuiz!Q66=\"E\",1+P72,P72)","v":0},{"$f":"IF(TwoWayQuiz!R66=\"E\",1+Q72,Q72)","v":0},{"$f":"IF(TwoWayQuiz!S66=\"E\",1+R72,R72)","v":0},{"$f":"IF(TwoWayQuiz!T66=\"E\",1+S72,S72)","v":0},{"$f":"IF(TwoWayQuiz!U66=\"E\",1+T72,T72)","v":0},{"$f":"IF(TwoWayQuiz!V66=\"E\",1+U72,U72)","v":0},{"$f":"IF(TwoWayQuiz!W66=\"E\",1+V72,V72)","v":0},{"$f":"IF(TwoWayQuiz!X66=\"E\",1+W72,W72)","v":0},{"$f":"IF(TwoWayQuiz!Y66=\"E\",1+X72,X72)","v":0},{"$f":"IF(TwoWayQuiz!Z66=\"E\",1+Y72,Y72)","v":0},{"$f":"IF(TwoWayQuiz!AA66=\"E\",1+Z72,Z72)","v":0},{"$f":"IF(TwoWayQuiz!AB66=\"E\",1+AA72,AA72)","v":0},{"$f":"IF(TwoWayQuiz!AC66=\"E\",1+AB72,AB72)","v":0},{"$f":"IF(TwoWayQuiz!AD66=\"E\",1+AC72,AC72)","v":0},{"$f":"IF(TwoWayQuiz!AE66=\"E\",1+AD72,AD72)","v":0},{"$f":"IF(TwoWayQuiz!AF66=\"E\",1+AE72,AE72)","v":0},{"$f":"IF(TwoWayQuiz!AG66=\"E\",1+AF72,AF72)","v":0},{"$f":"IF(TwoWayQuiz!AH66=\"E\",1+AG72,AG72)","v":0},{"$f":"IF(TwoWayQuiz!AI66=\"E\",1+AH72,AH72)","v":0},{"$f":"IF(TwoWayQuiz!AJ66=\"E\",1+AI72,AI72)","v":0},{"$f":"IF(TwoWayQuiz!AK66=\"E\",1+AJ72,AJ72)","v":0},{"$f":"IF(TwoWayQuiz!AL66=\"E\",1+AK72,AK72)","v":0},{"$f":"IF(TwoWayQuiz!AM66=\"E\",1+AL72,AL72)","v":0},{"$f":"IF(TwoWayQuiz!AN66=\"E\",1+AM72,AM72)","v":0},{"$f":"IF(TwoWayQuiz!AO66=\"E\",1+AN72,AN72)","v":0},{"$f":"IF(TwoWayQuiz!AP66=\"E\",1+AO72,AO72)","v":0},{"$f":"IF(TwoWayQuiz!AQ66=\"E\",1+AP72,AP72)","v":0},{"$f":"IF(TwoWayQuiz!AR66=\"E\",1+AQ72,AQ72)","v":0},{"$f":"IF(TwoWayQuiz!AS66=\"E\",1+AR72,AR72)","v":0},{"$f":"IF(TwoWayQuiz!AT66=\"E\",1+AS72,AS72)","v":0},{"$f":"IF(TwoWayQuiz!AU66=\"E\",1+AT72,AT72)","v":0},{"$f":"IF(TwoWayQuiz!AV66=\"E\",1+AU72,AU72)","v":0},{"$f":"IF(TwoWayQuiz!AW66=\"E\",1+AV72,AV72)","v":0},{"$f":"IF(TwoWayQuiz!AX66=\"E\",1+AW72,AW72)","v":0},{"$f":"IF(TwoWayQuiz!AY66=\"E\",1+AX72,AX72)","v":0},{"$f":"IF(TwoWayQuiz!AZ66=\"E\",1+AY72,AY72)","v":0},{"$f":"IF(TwoWayQuiz!BA66=\"E\",1+AZ72,AZ72)","v":0},{"$f":"IF(TwoWayQuiz!BB66=\"E\",1+BA72,BA72)","v":0},{"$f":"IF(TwoWayQuiz!BC66=\"E\",1+BB72,BB72)","v":0},{"$f":"IF(TwoWayQuiz!BD66=\"E\",1+BC72,BC72)","v":0},{"$f":"IF(TwoWayQuiz!BE66=\"E\",1+BD72,BD72)","v":0},{"$f":"IF(TwoWayQuiz!BF66=\"E\",1+BE72,BE72)","v":0},{"$f":"IF(TwoWayQuiz!BG66=\"E\",1+BF72,BF72)","v":0}]
[null,null,"# of errors 0",{"$f":"IF(TwoWayQuiz!D67=\"E\",1,0)","v":0},{"$f":"IF(TwoWayQuiz!E67=\"E\",1+D73,D73)","v":0},{"$f":"IF(TwoWayQuiz!F67=\"E\",1+E73,E73)","v":0},{"$f":"IF(TwoWayQuiz!G67=\"E\",1+F73,F73)","v":0},{"$f":"IF(TwoWayQuiz!H67=\"E\",1+G73,G73)","v":0},{"$f":"IF(TwoWayQuiz!I67=\"E\",1+H73,H73)","v":0},{"$f":"IF(TwoWayQuiz!J67=\"E\",1+I73,I73)","v":0},{"$f":"IF(TwoWayQuiz!K67=\"E\",1+J73,J73)","v":0},{"$f":"IF(TwoWayQuiz!L67=\"E\",1+K73,K73)","v":0},{"$f":"IF(TwoWayQuiz!M67=\"E\",1+L73,L73)","v":0},{"$f":"IF(TwoWayQuiz!N67=\"E\",1+M73,M73)","v":0},{"$f":"IF(TwoWayQuiz!O67=\"E\",1+N73,N73)","v":0},{"$f":"IF(TwoWayQuiz!P67=\"E\",1+O73,O73)","v":0},{"$f":"IF(TwoWayQuiz!Q67=\"E\",1+P73,P73)","v":0},{"$f":"IF(TwoWayQuiz!R67=\"E\",1+Q73,Q73)","v":0},{"$f":"IF(TwoWayQuiz!S67=\"E\",1+R73,R73)","v":0},{"$f":"IF(TwoWayQuiz!T67=\"E\",1+S73,S73)","v":0},{"$f":"IF(TwoWayQuiz!U67=\"E\",1+T73,T73)","v":0},{"$f":"IF(TwoWayQuiz!V67=\"E\",1+U73,U73)","v":0},{"$f":"IF(TwoWayQuiz!W67=\"E\",1+V73,V73)","v":0},{"$f":"IF(TwoWayQuiz!X67=\"E\",1+W73,W73)","v":0},{"$f":"IF(TwoWayQuiz!Y67=\"E\",1+X73,X73)","v":0},{"$f":"IF(TwoWayQuiz!Z67=\"E\",1+Y73,Y73)","v":0},{"$f":"IF(TwoWayQuiz!AA67=\"E\",1+Z73,Z73)","v":0},{"$f":"IF(TwoWayQuiz!AB67=\"E\",1+AA73,AA73)","v":0},{"$f":"IF(TwoWayQuiz!AC67=\"E\",1+AB73,AB73)","v":0},{"$f":"IF(TwoWayQuiz!AD67=\"E\",1+AC73,AC73)","v":0},{"$f":"IF(TwoWayQuiz!AE67=\"E\",1+AD73,AD73)","v":0},{"$f":"IF(TwoWayQuiz!AF67=\"E\",1+AE73,AE73)","v":0},{"$f":"IF(TwoWayQuiz!AG67=\"E\",1+AF73,AF73)","v":0},{"$f":"IF(TwoWayQuiz!AH67=\"E\",1+AG73,AG73)","v":0},{"$f":"IF(TwoWayQuiz!AI67=\"E\",1+AH73,AH73)","v":0},{"$f":"IF(TwoWayQuiz!AJ67=\"E\",1+AI73,AI73)","v":0},{"$f":"IF(TwoWayQuiz!AK67=\"E\",1+AJ73,AJ73)","v":0},{"$f":"IF(TwoWayQuiz!AL67=\"E\",1+AK73,AK73)","v":0},{"$f":"IF(TwoWayQuiz!AM67=\"E\",1+AL73,AL73)","v":0},{"$f":"IF(TwoWayQuiz!AN67=\"E\",1+AM73,AM73)","v":0},{"$f":"IF(TwoWayQuiz!AO67=\"E\",1+AN73,AN73)","v":0},{"$f":"IF(TwoWayQuiz!AP67=\"E\",1+AO73,AO73)","v":0},{"$f":"IF(TwoWayQuiz!AQ67=\"E\",1+AP73,AP73)","v":0},{"$f":"IF(TwoWayQuiz!AR67=\"E\",1+AQ73,AQ73)","v":0},{"$f":"IF(TwoWayQuiz!AS67=\"E\",1+AR73,AR73)","v":0},{"$f":"IF(TwoWayQuiz!AT67=\"E\",1+AS73,AS73)","v":0},{"$f":"IF(TwoWayQuiz!AU67=\"E\",1+AT73,AT73)","v":0},{"$f":"IF(TwoWayQuiz!AV67=\"E\",1+AU73,AU73)","v":0},{"$f":"IF(TwoWayQuiz!AW67=\"E\",1+AV73,AV73)","v":0},{"$f":"IF(TwoWayQuiz!AX67=\"E\",1+AW73,AW73)","v":0},{"$f":"IF(TwoWayQuiz!AY67=\"E\",1+AX73,AX73)","v":0},{"$f":"IF(TwoWayQuiz!AZ67=\"E\",1+AY73,AY73)","v":0},{"$f":"IF(TwoWayQuiz!BA67=\"E\",1+AZ73,AZ73)","v":0},{"$f":"IF(TwoWayQuiz!BB67=\"E\",1+BA73,BA73)","v":0},{"$f":"IF(TwoWayQuiz!BC67=\"E\",1+BB73,BB73)","v":0},{"$f":"IF(TwoWayQuiz!BD67=\"E\",1+BC73,BC73)","v":0},{"$f":"IF(TwoWayQuiz!BE67=\"E\",1+BD73,BD73)","v":0},{"$f":"IF(TwoWayQuiz!BF67=\"E\",1+BE73,BE73)","v":0},{"$f":"IF(TwoWayQuiz!BG67=\"E\",1+BF73,BF73)","v":0}]
[]
[null,null,{"$f":"CONCATENATE(\"# 20's \",Sheet4!C63)","v":"# 20's Quizzer #1"},{"$f":"COUNTIF(TwoWayQuiz!$D63:D63,20)+COUNTIF(TwoWayQuiz!$D63:D63,30)","v":0},{"$f":"COUNTIF(TwoWayQuiz!$D63:E63,20)+COUNTIF(TwoWayQuiz!$D63:E63,30)","v":0},{"$f":"COUNTIF(TwoWayQuiz!$D63:F63,20)+COUNTIF(TwoWayQuiz!$D63:F63,30)","v":0},{"$f":"COUNTIF(TwoWayQuiz!$D63:G63,20)+COUNTIF(TwoWayQuiz!$D63:G63,30)","v":0},{"$f":"COUNTIF(TwoWayQuiz!$D63:H63,20)+COUNTIF(TwoWayQuiz!$D63:H63,30)","v":0},{"$f":"COUNTIF(TwoWayQuiz!$D63:I63,20)+COUNTIF(TwoWayQuiz!$D63:I63,30)","v":0},{"$f":"COUNTIF(TwoWayQuiz!$D63:J63,20)+COUNTIF(TwoWayQuiz!$D63:J63,30)","v":0},{"$f":"COUNTIF(TwoWayQuiz!$D63:K63,20)+COUNTIF(TwoWayQuiz!$D63:K63,30)","v":0},{"$f":"COUNTIF(TwoWayQuiz!$D63:L63,20)+COUNTIF(TwoWayQuiz!$D63:L63,30)","v":0},{"$f":"COUNTIF(TwoWayQuiz!$D63:M63,20)+COUNTIF(TwoWayQuiz!$D63:M63,30)","v":0},{"$f":"COUNTIF(TwoWayQuiz!$D63:N63,20)+COUNTIF(TwoWayQuiz!$D63:N63,30)","v":0},{"$f":"COUNTIF(TwoWayQuiz!$D63:O63,20)+COUNTIF(TwoWayQuiz!$D63:O63,30)","v":0},{"$f":"COUNTIF(TwoWayQuiz!$D63:P63,20)+COUNTIF(TwoWayQuiz!$D63:P63,30)","v":0},{"$f":"COUNTIF(TwoWayQuiz!$D63:Q63,20)+COUNTIF(TwoWayQuiz!$D63:Q63,30)","v":0},{"$f":"COUNTIF(TwoWayQuiz!$D63:R63,20)+COUNTIF(TwoWayQuiz!$D63:R63,30)","v":0},{"$f":"COUNTIF(TwoWayQuiz!$D63:S63,20)+COUNTIF(TwoWayQuiz!$D63:S63,30)","v":0},{"$f":"COUNTIF(TwoWayQuiz!$D63:T63,20)+COUNTIF(TwoWayQuiz!$D63:T63,30)","v":0},{"$f":"COUNTIF(TwoWayQuiz!$D63:U63,20)+COUNTIF(TwoWayQuiz!$D63:U63,30)","v":0},{"$f":"COUNTIF(TwoWayQuiz!$D63:V63,20)+COUNTIF(TwoWayQuiz!$D63:V63,30)","v":0},{"$f":"COUNTIF(TwoWayQuiz!$D63:W63,20)+COUNTIF(TwoWayQuiz!$D63:W63,30)","v":0},{"$f":"COUNTIF(TwoWayQuiz!$D63:X63,20)+COUNTIF(TwoWayQuiz!$D63:X63,30)","v":0},{"$f":"COUNTIF(TwoWayQuiz!$D63:Y63,20)+COUNTIF(TwoWayQuiz!$D63:Y63,30)","v":0},{"$f":"COUNTIF(TwoWayQuiz!$D63:Z63,20)+COUNTIF(TwoWayQuiz!$D63:Z63,30)","v":0},{"$f":"COUNTIF(TwoWayQuiz!$D63:AA63,20)+COUNTIF(TwoWayQuiz!$D63:AA63,30)","v":0},{"$f":"COUNTIF(TwoWayQuiz!$D63:AB63,20)+COUNTIF(TwoWayQuiz!$D63:AB63,30)","v":0},{"$f":"COUNTIF(TwoWayQuiz!$D63:AC63,20)+COUNTIF(TwoWayQuiz!$D63:AC63,30)","v":0},{"$f":"COUNTIF(TwoWayQuiz!$D63:AD63,20)+COUNTIF(TwoWayQuiz!$D63:AD63,30)","v":0},{"$f":"COUNTIF(TwoWayQuiz!$D63:AE63,20)+COUNTIF(TwoWayQuiz!$D63:AE63,30)","v":0},{"$f":"COUNTIF(TwoWayQuiz!$D63:AF63,20)+COUNTIF(TwoWayQuiz!$D63:AF63,30)","v":0},{"$f":"COUNTIF(TwoWayQuiz!$D63:AG63,20)+COUNTIF(TwoWayQuiz!$D63:AG63,30)","v":0},{"$f":"COUNTIF(TwoWayQuiz!$D63:AH63,20)+COUNTIF(TwoWayQuiz!$D63:AH63,30)","v":0},{"$f":"COUNTIF(TwoWayQuiz!$D63:AI63,20)+COUNTIF(TwoWayQuiz!$D63:AI63,30)","v":0},{"$f":"COUNTIF(TwoWayQuiz!$D63:AJ63,20)+COUNTIF(TwoWayQuiz!$D63:AJ63,30)","v":0},{"$f":"COUNTIF(TwoWayQuiz!$D63:AK63,20)+COUNTIF(TwoWayQuiz!$D63:AK63,30)","v":0},{"$f":"COUNTIF(TwoWayQuiz!$D63:AL63,20)+COUNTIF(TwoWayQuiz!$D63:AL63,30)","v":0},{"$f":"COUNTIF(TwoWayQuiz!$D63:AM63,20)+COUNTIF(TwoWayQuiz!$D63:AM63,30)","v":0},{"$f":"COUNTIF(TwoWayQuiz!$D63:AN63,20)+COUNTIF(TwoWayQuiz!$D63:AN63,30)","v":0},{"$f":"COUNTIF(TwoWayQuiz!$D63:AO63,20)+COUNTIF(TwoWayQuiz!$D63:AO63,30)","v":0},{"$f":"COUNTIF(TwoWayQuiz!$D63:AP63,20)+COUNTIF(TwoWayQuiz!$D63:AP63,30)","v":0},{"$f":"COUNTIF(TwoWayQuiz!$D63:AQ63,20)+COUNTIF(TwoWayQuiz!$D63:AQ63,30)","v":0},{"$f":"COUNTIF(TwoWayQuiz!$D63:AR63,20)+COUNTIF(TwoWayQuiz!$D63:AR63,30)","v":0},{"$f":"COUNTIF(TwoWayQuiz!$D63:AS63,20)+COUNTIF(TwoWayQuiz!$D63:AS63,30)","v":0},{"$f":"COUNTIF(TwoWayQuiz!$D63:AT63,20)+COUNTIF(TwoWayQuiz!$D63:AT63,30)","v":0},{"$f":"COUNTIF(TwoWayQuiz!$D63:AU63,20)+COUNTIF(TwoWayQuiz!$D63:AU63,30)","v":0},{"$f":"COUNTIF(TwoWayQuiz!$D63:AV63,20)+COUNTIF(TwoWayQuiz!$D63:AV63,30)","v":0},{"$f":"COUNTIF(TwoWayQuiz!$D63:AW63,20)+COUNTIF(TwoWayQuiz!$D63:AW63,30)","v":0},{"$f":"COUNTIF(TwoWayQuiz!$D63:AX63,20)+COUNTIF(TwoWayQuiz!$D63:AX63,30)","v":0},{"$f":"COUNTIF(TwoWayQuiz!$D63:AY63,20)+COUNTIF(TwoWayQuiz!$D63:AY63,30)","v":0},{"$f":"COUNTIF(TwoWayQuiz!$D63:AZ63,20)+COUNTIF(TwoWayQuiz!$D63:AZ63,30)","v":0},{"$f":"COUNTIF(TwoWayQuiz!$D63:BA63,20)+COUNTIF(TwoWayQuiz!$D63:BA63,30)","v":0},{"$f":"COUNTIF(TwoWayQuiz!$D63:BB63,20)+COUNTIF(TwoWayQuiz!$D63:BB63,30)","v":0},{"$f":"COUNTIF(TwoWayQuiz!$D63:BC63,20)+COUNTIF(TwoWayQuiz!$D63:BC63,30)","v":0},{"$f":"COUNTIF(TwoWayQuiz!$D63:BD63,20)+COUNTIF(TwoWayQuiz!$D63:BD63,30)","v":0},{"$f":"COUNTIF(TwoWayQuiz!$D63:BE63,20)+COUNTIF(TwoWayQuiz!$D63:BE63,30)","v":0},{"$f":"COUNTIF(TwoWayQuiz!$D63:BF63,20)+COUNTIF(TwoWayQuiz!$D63:BF63,30)","v":0},{"$f":"COUNTIF(TwoWayQuiz!$D63:BG63,20)+COUNTIF(TwoWayQuiz!$D63:BG63,30)","v":0}]
[null,null,{"$f":"CONCATENATE(\"# 20's \",Sheet4!C64)","v":"# 20's Quizzer #2"},{"$f":"COUNTIF(TwoWayQuiz!$D64:D64,20)+COUNTIF(TwoWayQuiz!$D64:D64,30)","v":0},{"$f":"COUNTIF(TwoWayQuiz!$D64:E64,20)+COUNTIF(TwoWayQuiz!$D64:E64,30)","v":0},{"$f":"COUNTIF(TwoWayQuiz!$D64:F64,20)+COUNTIF(TwoWayQuiz!$D64:F64,30)","v":0},{"$f":"COUNTIF(TwoWayQuiz!$D64:G64,20)+COUNTIF(TwoWayQuiz!$D64:G64,30)","v":0},{"$f":"COUNTIF(TwoWayQuiz!$D64:H64,20)+COUNTIF(TwoWayQuiz!$D64:H64,30)","v":0},{"$f":"COUNTIF(TwoWayQuiz!$D64:I64,20)+COUNTIF(TwoWayQuiz!$D64:I64,30)","v":0},{"$f":"COUNTIF(TwoWayQuiz!$D64:J64,20)+COUNTIF(TwoWayQuiz!$D64:J64,30)","v":0},{"$f":"COUNTIF(TwoWayQuiz!$D64:K64,20)+COUNTIF(TwoWayQuiz!$D64:K64,30)","v":0},{"$f":"COUNTIF(TwoWayQuiz!$D64:L64,20)+COUNTIF(TwoWayQuiz!$D64:L64,30)","v":0},{"$f":"COUNTIF(TwoWayQuiz!$D64:M64,20)+COUNTIF(TwoWayQuiz!$D64:M64,30)","v":0},{"$f":"COUNTIF(TwoWayQuiz!$D64:N64,20)+COUNTIF(TwoWayQuiz!$D64:N64,30)","v":0},{"$f":"COUNTIF(TwoWayQuiz!$D64:O64,20)+COUNTIF(TwoWayQuiz!$D64:O64,30)","v":0},{"$f":"COUNTIF(TwoWayQuiz!$D64:P64,20)+COUNTIF(TwoWayQuiz!$D64:P64,30)","v":0},{"$f":"COUNTIF(TwoWayQuiz!$D64:Q64,20)+COUNTIF(TwoWayQuiz!$D64:Q64,30)","v":0},{"$f":"COUNTIF(TwoWayQuiz!$D64:R64,20)+COUNTIF(TwoWayQuiz!$D64:R64,30)","v":0},{"$f":"COUNTIF(TwoWayQuiz!$D64:S64,20)+COUNTIF(TwoWayQuiz!$D64:S64,30)","v":0},{"$f":"COUNTIF(TwoWayQuiz!$D64:T64,20)+COUNTIF(TwoWayQuiz!$D64:T64,30)","v":0},{"$f":"COUNTIF(TwoWayQuiz!$D64:U64,20)+COUNTIF(TwoWayQuiz!$D64:U64,30)","v":0},{"$f":"COUNTIF(TwoWayQuiz!$D64:V64,20)+COUNTIF(TwoWayQuiz!$D64:V64,30)","v":0},{"$f":"COUNTIF(TwoWayQuiz!$D64:W64,20)+COUNTIF(TwoWayQuiz!$D64:W64,30)","v":0},{"$f":"COUNTIF(TwoWayQuiz!$D64:X64,20)+COUNTIF(TwoWayQuiz!$D64:X64,30)","v":0},{"$f":"COUNTIF(TwoWayQuiz!$D64:Y64,20)+COUNTIF(TwoWayQuiz!$D64:Y64,30)","v":0},{"$f":"COUNTIF(TwoWayQuiz!$D64:Z64,20)+COUNTIF(TwoWayQuiz!$D64:Z64,30)","v":0},{"$f":"COUNTIF(TwoWayQuiz!$D64:AA64,20)+COUNTIF(TwoWayQuiz!$D64:AA64,30)","v":0},{"$f":"COUNTIF(TwoWayQuiz!$D64:AB64,20)+COUNTIF(TwoWayQuiz!$D64:AB64,30)","v":0},{"$f":"COUNTIF(TwoWayQuiz!$D64:AC64,20)+COUNTIF(TwoWayQuiz!$D64:AC64,30)","v":0},{"$f":"COUNTIF(TwoWayQuiz!$D64:AD64,20)+COUNTIF(TwoWayQuiz!$D64:AD64,30)","v":0},{"$f":"COUNTIF(TwoWayQuiz!$D64:AE64,20)+COUNTIF(TwoWayQuiz!$D64:AE64,30)","v":0},{"$f":"COUNTIF(TwoWayQuiz!$D64:AF64,20)+COUNTIF(TwoWayQuiz!$D64:AF64,30)","v":0},{"$f":"COUNTIF(TwoWayQuiz!$D64:AG64,20)+COUNTIF(TwoWayQuiz!$D64:AG64,30)","v":0},{"$f":"COUNTIF(TwoWayQuiz!$D64:AH64,20)+COUNTIF(TwoWayQuiz!$D64:AH64,30)","v":0},{"$f":"COUNTIF(TwoWayQuiz!$D64:AI64,20)+COUNTIF(TwoWayQuiz!$D64:AI64,30)","v":0},{"$f":"COUNTIF(TwoWayQuiz!$D64:AJ64,20)+COUNTIF(TwoWayQuiz!$D64:AJ64,30)","v":0},{"$f":"COUNTIF(TwoWayQuiz!$D64:AK64,20)+COUNTIF(TwoWayQuiz!$D64:AK64,30)","v":0},{"$f":"COUNTIF(TwoWayQuiz!$D64:AL64,20)+COUNTIF(TwoWayQuiz!$D64:AL64,30)","v":0},{"$f":"COUNTIF(TwoWayQuiz!$D64:AM64,20)+COUNTIF(TwoWayQuiz!$D64:AM64,30)","v":0},{"$f":"COUNTIF(TwoWayQuiz!$D64:AN64,20)+COUNTIF(TwoWayQuiz!$D64:AN64,30)","v":0},{"$f":"COUNTIF(TwoWayQuiz!$D64:AO64,20)+COUNTIF(TwoWayQuiz!$D64:AO64,30)","v":0},{"$f":"COUNTIF(TwoWayQuiz!$D64:AP64,20)+COUNTIF(TwoWayQuiz!$D64:AP64,30)","v":0},{"$f":"COUNTIF(TwoWayQuiz!$D64:AQ64,20)+COUNTIF(TwoWayQuiz!$D64:AQ64,30)","v":0},{"$f":"COUNTIF(TwoWayQuiz!$D64:AR64,20)+COUNTIF(TwoWayQuiz!$D64:AR64,30)","v":0},{"$f":"COUNTIF(TwoWayQuiz!$D64:AS64,20)+COUNTIF(TwoWayQuiz!$D64:AS64,30)","v":0},{"$f":"COUNTIF(TwoWayQuiz!$D64:AT64,20)+COUNTIF(TwoWayQuiz!$D64:AT64,30)","v":0},{"$f":"COUNTIF(TwoWayQuiz!$D64:AU64,20)+COUNTIF(TwoWayQuiz!$D64:AU64,30)","v":0},{"$f":"COUNTIF(TwoWayQuiz!$D64:AV64,20)+COUNTIF(TwoWayQuiz!$D64:AV64,30)","v":0},{"$f":"COUNTIF(TwoWayQuiz!$D64:AW64,20)+COUNTIF(TwoWayQuiz!$D64:AW64,30)","v":0},{"$f":"COUNTIF(TwoWayQuiz!$D64:AX64,20)+COUNTIF(TwoWayQuiz!$D64:AX64,30)","v":0},{"$f":"COUNTIF(TwoWayQuiz!$D64:AY64,20)+COUNTIF(TwoWayQuiz!$D64:AY64,30)","v":0},{"$f":"COUNTIF(TwoWayQuiz!$D64:AZ64,20)+COUNTIF(TwoWayQuiz!$D64:AZ64,30)","v":0},{"$f":"COUNTIF(TwoWayQuiz!$D64:BA64,20)+COUNTIF(TwoWayQuiz!$D64:BA64,30)","v":0},{"$f":"COUNTIF(TwoWayQuiz!$D64:BB64,20)+COUNTIF(TwoWayQuiz!$D64:BB64,30)","v":0},{"$f":"COUNTIF(TwoWayQuiz!$D64:BC64,20)+COUNTIF(TwoWayQuiz!$D64:BC64,30)","v":0},{"$f":"COUNTIF(TwoWayQuiz!$D64:BD64,20)+COUNTIF(TwoWayQuiz!$D64:BD64,30)","v":0},{"$f":"COUNTIF(TwoWayQuiz!$D64:BE64,20)+COUNTIF(TwoWayQuiz!$D64:BE64,30)","v":0},{"$f":"COUNTIF(TwoWayQuiz!$D64:BF64,20)+COUNTIF(TwoWayQuiz!$D64:BF64,30)","v":0},{"$f":"COUNTIF(TwoWayQuiz!$D64:BG64,20)+COUNTIF(TwoWayQuiz!$D64:BG64,30)","v":0}]
[null,null,{"$f":"CONCATENATE(\"# 20's \",Sheet4!C65)","v":"# 20's Quizzer #3"},{"$f":"COUNTIF(TwoWayQuiz!$D65:D65,20)+COUNTIF(TwoWayQuiz!$D65:D65,30)","v":0},{"$f":"COUNTIF(TwoWayQuiz!$D65:E65,20)+COUNTIF(TwoWayQuiz!$D65:E65,30)","v":0},{"$f":"COUNTIF(TwoWayQuiz!$D65:F65,20)+COUNTIF(TwoWayQuiz!$D65:F65,30)","v":0},{"$f":"COUNTIF(TwoWayQuiz!$D65:G65,20)+COUNTIF(TwoWayQuiz!$D65:G65,30)","v":0},{"$f":"COUNTIF(TwoWayQuiz!$D65:H65,20)+COUNTIF(TwoWayQuiz!$D65:H65,30)","v":0},{"$f":"COUNTIF(TwoWayQuiz!$D65:I65,20)+COUNTIF(TwoWayQuiz!$D65:I65,30)","v":0},{"$f":"COUNTIF(TwoWayQuiz!$D65:J65,20)+COUNTIF(TwoWayQuiz!$D65:J65,30)","v":0},{"$f":"COUNTIF(TwoWayQuiz!$D65:K65,20)+COUNTIF(TwoWayQuiz!$D65:K65,30)","v":0},{"$f":"COUNTIF(TwoWayQuiz!$D65:L65,20)+COUNTIF(TwoWayQuiz!$D65:L65,30)","v":0},{"$f":"COUNTIF(TwoWayQuiz!$D65:M65,20)+COUNTIF(TwoWayQuiz!$D65:M65,30)","v":0},{"$f":"COUNTIF(TwoWayQuiz!$D65:N65,20)+COUNTIF(TwoWayQuiz!$D65:N65,30)","v":0},{"$f":"COUNTIF(TwoWayQuiz!$D65:O65,20)+COUNTIF(TwoWayQuiz!$D65:O65,30)","v":0},{"$f":"COUNTIF(TwoWayQuiz!$D65:P65,20)+COUNTIF(TwoWayQuiz!$D65:P65,30)","v":0},{"$f":"COUNTIF(TwoWayQuiz!$D65:Q65,20)+COUNTIF(TwoWayQuiz!$D65:Q65,30)","v":0},{"$f":"COUNTIF(TwoWayQuiz!$D65:R65,20)+COUNTIF(TwoWayQuiz!$D65:R65,30)","v":0},{"$f":"COUNTIF(TwoWayQuiz!$D65:S65,20)+COUNTIF(TwoWayQuiz!$D65:S65,30)","v":0},{"$f":"COUNTIF(TwoWayQuiz!$D65:T65,20)+COUNTIF(TwoWayQuiz!$D65:T65,30)","v":0},{"$f":"COUNTIF(TwoWayQuiz!$D65:U65,20)+COUNTIF(TwoWayQuiz!$D65:U65,30)","v":0},{"$f":"COUNTIF(TwoWayQuiz!$D65:V65,20)+COUNTIF(TwoWayQuiz!$D65:V65,30)","v":0},{"$f":"COUNTIF(TwoWayQuiz!$D65:W65,20)+COUNTIF(TwoWayQuiz!$D65:W65,30)","v":0},{"$f":"COUNTIF(TwoWayQuiz!$D65:X65,20)+COUNTIF(TwoWayQuiz!$D65:X65,30)","v":0},{"$f":"COUNTIF(TwoWayQuiz!$D65:Y65,20)+COUNTIF(TwoWayQuiz!$D65:Y65,30)","v":0},{"$f":"COUNTIF(TwoWayQuiz!$D65:Z65,20)+COUNTIF(TwoWayQuiz!$D65:Z65,30)","v":0},{"$f":"COUNTIF(TwoWayQuiz!$D65:AA65,20)+COUNTIF(TwoWayQuiz!$D65:AA65,30)","v":0},{"$f":"COUNTIF(TwoWayQuiz!$D65:AB65,20)+COUNTIF(TwoWayQuiz!$D65:AB65,30)","v":0},{"$f":"COUNTIF(TwoWayQuiz!$D65:AC65,20)+COUNTIF(TwoWayQuiz!$D65:AC65,30)","v":0},{"$f":"COUNTIF(TwoWayQuiz!$D65:AD65,20)+COUNTIF(TwoWayQuiz!$D65:AD65,30)","v":0},{"$f":"COUNTIF(TwoWayQuiz!$D65:AE65,20)+COUNTIF(TwoWayQuiz!$D65:AE65,30)","v":0},{"$f":"COUNTIF(TwoWayQuiz!$D65:AF65,20)+COUNTIF(TwoWayQuiz!$D65:AF65,30)","v":0},{"$f":"COUNTIF(TwoWayQuiz!$D65:AG65,20)+COUNTIF(TwoWayQuiz!$D65:AG65,30)","v":0},{"$f":"COUNTIF(TwoWayQuiz!$D65:AH65,20)+COUNTIF(TwoWayQuiz!$D65:AH65,30)","v":0},{"$f":"COUNTIF(TwoWayQuiz!$D65:AI65,20)+COUNTIF(TwoWayQuiz!$D65:AI65,30)","v":0},{"$f":"COUNTIF(TwoWayQuiz!$D65:AJ65,20)+COUNTIF(TwoWayQuiz!$D65:AJ65,30)","v":0},{"$f":"COUNTIF(TwoWayQuiz!$D65:AK65,20)+COUNTIF(TwoWayQuiz!$D65:AK65,30)","v":0},{"$f":"COUNTIF(TwoWayQuiz!$D65:AL65,20)+COUNTIF(TwoWayQuiz!$D65:AL65,30)","v":0},{"$f":"COUNTIF(TwoWayQuiz!$D65:AM65,20)+COUNTIF(TwoWayQuiz!$D65:AM65,30)","v":0},{"$f":"COUNTIF(TwoWayQuiz!$D65:AN65,20)+COUNTIF(TwoWayQuiz!$D65:AN65,30)","v":0},{"$f":"COUNTIF(TwoWayQuiz!$D65:AO65,20)+COUNTIF(TwoWayQuiz!$D65:AO65,30)","v":0},{"$f":"COUNTIF(TwoWayQuiz!$D65:AP65,20)+COUNTIF(TwoWayQuiz!$D65:AP65,30)","v":0},{"$f":"COUNTIF(TwoWayQuiz!$D65:AQ65,20)+COUNTIF(TwoWayQuiz!$D65:AQ65,30)","v":0},{"$f":"COUNTIF(TwoWayQuiz!$D65:AR65,20)+COUNTIF(TwoWayQuiz!$D65:AR65,30)","v":0},{"$f":"COUNTIF(TwoWayQuiz!$D65:AS65,20)+COUNTIF(TwoWayQuiz!$D65:AS65,30)","v":0},{"$f":"COUNTIF(TwoWayQuiz!$D65:AT65,20)+COUNTIF(TwoWayQuiz!$D65:AT65,30)","v":0},{"$f":"COUNTIF(TwoWayQuiz!$D65:AU65,20)+COUNTIF(TwoWayQuiz!$D65:AU65,30)","v":0},{"$f":"COUNTIF(TwoWayQuiz!$D65:AV65,20)+COUNTIF(TwoWayQuiz!$D65:AV65,30)","v":0},{"$f":"COUNTIF(TwoWayQuiz!$D65:AW65,20)+COUNTIF(TwoWayQuiz!$D65:AW65,30)","v":0},{"$f":"COUNTIF(TwoWayQuiz!$D65:AX65,20)+COUNTIF(TwoWayQuiz!$D65:AX65,30)","v":0},{"$f":"COUNTIF(TwoWayQuiz!$D65:AY65,20)+COUNTIF(TwoWayQuiz!$D65:AY65,30)","v":0},{"$f":"COUNTIF(TwoWayQuiz!$D65:AZ65,20)+COUNTIF(TwoWayQuiz!$D65:AZ65,30)","v":0},{"$f":"COUNTIF(TwoWayQuiz!$D65:BA65,20)+COUNTIF(TwoWayQuiz!$D65:BA65,30)","v":0},{"$f":"COUNTIF(TwoWayQuiz!$D65:BB65,20)+COUNTIF(TwoWayQuiz!$D65:BB65,30)","v":0},{"$f":"COUNTIF(TwoWayQuiz!$D65:BC65,20)+COUNTIF(TwoWayQuiz!$D65:BC65,30)","v":0},{"$f":"COUNTIF(TwoWayQuiz!$D65:BD65,20)+COUNTIF(TwoWayQuiz!$D65:BD65,30)","v":0},{"$f":"COUNTIF(TwoWayQuiz!$D65:BE65,20)+COUNTIF(TwoWayQuiz!$D65:BE65,30)","v":0},{"$f":"COUNTIF(TwoWayQuiz!$D65:BF65,20)+COUNTIF(TwoWayQuiz!$D65:BF65,30)","v":0},{"$f":"COUNTIF(TwoWayQuiz!$D65:BG65,20)+COUNTIF(TwoWayQuiz!$D65:BG65,30)","v":0}]
[null,null,{"$f":"CONCATENATE(\"# 20's \",Sheet4!C66)","v":"# 20's Quizzer #4"},{"$f":"COUNTIF(TwoWayQuiz!$D66:D66,20)+COUNTIF(TwoWayQuiz!$D66:D66,30)","v":0},{"$f":"COUNTIF(TwoWayQuiz!$D66:E66,20)+COUNTIF(TwoWayQuiz!$D66:E66,30)","v":0},{"$f":"COUNTIF(TwoWayQuiz!$D66:F66,20)+COUNTIF(TwoWayQuiz!$D66:F66,30)","v":0},{"$f":"COUNTIF(TwoWayQuiz!$D66:G66,20)+COUNTIF(TwoWayQuiz!$D66:G66,30)","v":0},{"$f":"COUNTIF(TwoWayQuiz!$D66:H66,20)+COUNTIF(TwoWayQuiz!$D66:H66,30)","v":0},{"$f":"COUNTIF(TwoWayQuiz!$D66:I66,20)+COUNTIF(TwoWayQuiz!$D66:I66,30)","v":0},{"$f":"COUNTIF(TwoWayQuiz!$D66:J66,20)+COUNTIF(TwoWayQuiz!$D66:J66,30)","v":0},{"$f":"COUNTIF(TwoWayQuiz!$D66:K66,20)+COUNTIF(TwoWayQuiz!$D66:K66,30)","v":0},{"$f":"COUNTIF(TwoWayQuiz!$D66:L66,20)+COUNTIF(TwoWayQuiz!$D66:L66,30)","v":0},{"$f":"COUNTIF(TwoWayQuiz!$D66:M66,20)+COUNTIF(TwoWayQuiz!$D66:M66,30)","v":0},{"$f":"COUNTIF(TwoWayQuiz!$D66:N66,20)+COUNTIF(TwoWayQuiz!$D66:N66,30)","v":0},{"$f":"COUNTIF(TwoWayQuiz!$D66:O66,20)+COUNTIF(TwoWayQuiz!$D66:O66,30)","v":0},{"$f":"COUNTIF(TwoWayQuiz!$D66:P66,20)+COUNTIF(TwoWayQuiz!$D66:P66,30)","v":0},{"$f":"COUNTIF(TwoWayQuiz!$D66:Q66,20)+COUNTIF(TwoWayQuiz!$D66:Q66,30)","v":0},{"$f":"COUNTIF(TwoWayQuiz!$D66:R66,20)+COUNTIF(TwoWayQuiz!$D66:R66,30)","v":0},{"$f":"COUNTIF(TwoWayQuiz!$D66:S66,20)+COUNTIF(TwoWayQuiz!$D66:S66,30)","v":0},{"$f":"COUNTIF(TwoWayQuiz!$D66:T66,20)+COUNTIF(TwoWayQuiz!$D66:T66,30)","v":0},{"$f":"COUNTIF(TwoWayQuiz!$D66:U66,20)+COUNTIF(TwoWayQuiz!$D66:U66,30)","v":0},{"$f":"COUNTIF(TwoWayQuiz!$D66:V66,20)+COUNTIF(TwoWayQuiz!$D66:V66,30)","v":0},{"$f":"COUNTIF(TwoWayQuiz!$D66:W66,20)+COUNTIF(TwoWayQuiz!$D66:W66,30)","v":0},{"$f":"COUNTIF(TwoWayQuiz!$D66:X66,20)+COUNTIF(TwoWayQuiz!$D66:X66,30)","v":0},{"$f":"COUNTIF(TwoWayQuiz!$D66:Y66,20)+COUNTIF(TwoWayQuiz!$D66:Y66,30)","v":0},{"$f":"COUNTIF(TwoWayQuiz!$D66:Z66,20)+COUNTIF(TwoWayQuiz!$D66:Z66,30)","v":0},{"$f":"COUNTIF(TwoWayQuiz!$D66:AA66,20)+COUNTIF(TwoWayQuiz!$D66:AA66,30)","v":0},{"$f":"COUNTIF(TwoWayQuiz!$D66:AB66,20)+COUNTIF(TwoWayQuiz!$D66:AB66,30)","v":0},{"$f":"COUNTIF(TwoWayQuiz!$D66:AC66,20)+COUNTIF(TwoWayQuiz!$D66:AC66,30)","v":0},{"$f":"COUNTIF(TwoWayQuiz!$D66:AD66,20)+COUNTIF(TwoWayQuiz!$D66:AD66,30)","v":0},{"$f":"COUNTIF(TwoWayQuiz!$D66:AE66,20)+COUNTIF(TwoWayQuiz!$D66:AE66,30)","v":0},{"$f":"COUNTIF(TwoWayQuiz!$D66:AF66,20)+COUNTIF(TwoWayQuiz!$D66:AF66,30)","v":0},{"$f":"COUNTIF(TwoWayQuiz!$D66:AG66,20)+COUNTIF(TwoWayQuiz!$D66:AG66,30)","v":0},{"$f":"COUNTIF(TwoWayQuiz!$D66:AH66,20)+COUNTIF(TwoWayQuiz!$D66:AH66,30)","v":0},{"$f":"COUNTIF(TwoWayQuiz!$D66:AI66,20)+COUNTIF(TwoWayQuiz!$D66:AI66,30)","v":0},{"$f":"COUNTIF(TwoWayQuiz!$D66:AJ66,20)+COUNTIF(TwoWayQuiz!$D66:AJ66,30)","v":0},{"$f":"COUNTIF(TwoWayQuiz!$D66:AK66,20)+COUNTIF(TwoWayQuiz!$D66:AK66,30)","v":0},{"$f":"COUNTIF(TwoWayQuiz!$D66:AL66,20)+COUNTIF(TwoWayQuiz!$D66:AL66,30)","v":0},{"$f":"COUNTIF(TwoWayQuiz!$D66:AM66,20)+COUNTIF(TwoWayQuiz!$D66:AM66,30)","v":0},{"$f":"COUNTIF(TwoWayQuiz!$D66:AN66,20)+COUNTIF(TwoWayQuiz!$D66:AN66,30)","v":0},{"$f":"COUNTIF(TwoWayQuiz!$D66:AO66,20)+COUNTIF(TwoWayQuiz!$D66:AO66,30)","v":0},{"$f":"COUNTIF(TwoWayQuiz!$D66:AP66,20)+COUNTIF(TwoWayQuiz!$D66:AP66,30)","v":0},{"$f":"COUNTIF(TwoWayQuiz!$D66:AQ66,20)+COUNTIF(TwoWayQuiz!$D66:AQ66,30)","v":0},{"$f":"COUNTIF(TwoWayQuiz!$D66:AR66,20)+COUNTIF(TwoWayQuiz!$D66:AR66,30)","v":0},{"$f":"COUNTIF(TwoWayQuiz!$D66:AS66,20)+COUNTIF(TwoWayQuiz!$D66:AS66,30)","v":0},{"$f":"COUNTIF(TwoWayQuiz!$D66:AT66,20)+COUNTIF(TwoWayQuiz!$D66:AT66,30)","v":0},{"$f":"COUNTIF(TwoWayQuiz!$D66:AU66,20)+COUNTIF(TwoWayQuiz!$D66:AU66,30)","v":0},{"$f":"COUNTIF(TwoWayQuiz!$D66:AV66,20)+COUNTIF(TwoWayQuiz!$D66:AV66,30)","v":0},{"$f":"COUNTIF(TwoWayQuiz!$D66:AW66,20)+COUNTIF(TwoWayQuiz!$D66:AW66,30)","v":0},{"$f":"COUNTIF(TwoWayQuiz!$D66:AX66,20)+COUNTIF(TwoWayQuiz!$D66:AX66,30)","v":0},{"$f":"COUNTIF(TwoWayQuiz!$D66:AY66,20)+COUNTIF(TwoWayQuiz!$D66:AY66,30)","v":0},{"$f":"COUNTIF(TwoWayQuiz!$D66:AZ66,20)+COUNTIF(TwoWayQuiz!$D66:AZ66,30)","v":0},{"$f":"COUNTIF(TwoWayQuiz!$D66:BA66,20)+COUNTIF(TwoWayQuiz!$D66:BA66,30)","v":0},{"$f":"COUNTIF(TwoWayQuiz!$D66:BB66,20)+COUNTIF(TwoWayQuiz!$D66:BB66,30)","v":0},{"$f":"COUNTIF(TwoWayQuiz!$D66:BC66,20)+COUNTIF(TwoWayQuiz!$D66:BC66,30)","v":0},{"$f":"COUNTIF(TwoWayQuiz!$D66:BD66,20)+COUNTIF(TwoWayQuiz!$D66:BD66,30)","v":0},{"$f":"COUNTIF(TwoWayQuiz!$D66:BE66,20)+COUNTIF(TwoWayQuiz!$D66:BE66,30)","v":0},{"$f":"COUNTIF(TwoWayQuiz!$D66:BF66,20)+COUNTIF(TwoWayQuiz!$D66:BF66,30)","v":0},{"$f":"COUNTIF(TwoWayQuiz!$D66:BG66,20)+COUNTIF(TwoWayQuiz!$D66:BG66,30)","v":0}]
[null,null,{"$f":"CONCATENATE(\"# 20's \",Sheet4!C67)","v":"# 20's 0"},{"$f":"COUNTIF(TwoWayQuiz!$D67:D67,20)+COUNTIF(TwoWayQuiz!$D67:D67,30)","v":0},{"$f":"COUNTIF(TwoWayQuiz!$D67:E67,20)+COUNTIF(TwoWayQuiz!$D67:E67,30)","v":0},{"$f":"COUNTIF(TwoWayQuiz!$D67:F67,20)+COUNTIF(TwoWayQuiz!$D67:F67,30)","v":0},{"$f":"COUNTIF(TwoWayQuiz!$D67:G67,20)+COUNTIF(TwoWayQuiz!$D67:G67,30)","v":0},{"$f":"COUNTIF(TwoWayQuiz!$D67:H67,20)+COUNTIF(TwoWayQuiz!$D67:H67,30)","v":0},{"$f":"COUNTIF(TwoWayQuiz!$D67:I67,20)+COUNTIF(TwoWayQuiz!$D67:I67,30)","v":0},{"$f":"COUNTIF(TwoWayQuiz!$D67:J67,20)+COUNTIF(TwoWayQuiz!$D67:J67,30)","v":0},{"$f":"COUNTIF(TwoWayQuiz!$D67:K67,20)+COUNTIF(TwoWayQuiz!$D67:K67,30)","v":0},{"$f":"COUNTIF(TwoWayQuiz!$D67:L67,20)+COUNTIF(TwoWayQuiz!$D67:L67,30)","v":0},{"$f":"COUNTIF(TwoWayQuiz!$D67:M67,20)+COUNTIF(TwoWayQuiz!$D67:M67,30)","v":0},{"$f":"COUNTIF(TwoWayQuiz!$D67:N67,20)+COUNTIF(TwoWayQuiz!$D67:N67,30)","v":0},{"$f":"COUNTIF(TwoWayQuiz!$D67:O67,20)+COUNTIF(TwoWayQuiz!$D67:O67,30)","v":0},{"$f":"COUNTIF(TwoWayQuiz!$D67:P67,20)+COUNTIF(TwoWayQuiz!$D67:P67,30)","v":0},{"$f":"COUNTIF(TwoWayQuiz!$D67:Q67,20)+COUNTIF(TwoWayQuiz!$D67:Q67,30)","v":0},{"$f":"COUNTIF(TwoWayQuiz!$D67:R67,20)+COUNTIF(TwoWayQuiz!$D67:R67,30)","v":0},{"$f":"COUNTIF(TwoWayQuiz!$D67:S67,20)+COUNTIF(TwoWayQuiz!$D67:S67,30)","v":0},{"$f":"COUNTIF(TwoWayQuiz!$D67:T67,20)+COUNTIF(TwoWayQuiz!$D67:T67,30)","v":0},{"$f":"COUNTIF(TwoWayQuiz!$D67:U67,20)+COUNTIF(TwoWayQuiz!$D67:U67,30)","v":0},{"$f":"COUNTIF(TwoWayQuiz!$D67:V67,20)+COUNTIF(TwoWayQuiz!$D67:V67,30)","v":0},{"$f":"COUNTIF(TwoWayQuiz!$D67:W67,20)+COUNTIF(TwoWayQuiz!$D67:W67,30)","v":0},{"$f":"COUNTIF(TwoWayQuiz!$D67:X67,20)+COUNTIF(TwoWayQuiz!$D67:X67,30)","v":0},{"$f":"COUNTIF(TwoWayQuiz!$D67:Y67,20)+COUNTIF(TwoWayQuiz!$D67:Y67,30)","v":0},{"$f":"COUNTIF(TwoWayQuiz!$D67:Z67,20)+COUNTIF(TwoWayQuiz!$D67:Z67,30)","v":0},{"$f":"COUNTIF(TwoWayQuiz!$D67:AA67,20)+COUNTIF(TwoWayQuiz!$D67:AA67,30)","v":0},{"$f":"COUNTIF(TwoWayQuiz!$D67:AB67,20)+COUNTIF(TwoWayQuiz!$D67:AB67,30)","v":0},{"$f":"COUNTIF(TwoWayQuiz!$D67:AC67,20)+COUNTIF(TwoWayQuiz!$D67:AC67,30)","v":0},{"$f":"COUNTIF(TwoWayQuiz!$D67:AD67,20)+COUNTIF(TwoWayQuiz!$D67:AD67,30)","v":0},{"$f":"COUNTIF(TwoWayQuiz!$D67:AE67,20)+COUNTIF(TwoWayQuiz!$D67:AE67,30)","v":0},{"$f":"COUNTIF(TwoWayQuiz!$D67:AF67,20)+COUNTIF(TwoWayQuiz!$D67:AF67,30)","v":0},{"$f":"COUNTIF(TwoWayQuiz!$D67:AG67,20)+COUNTIF(TwoWayQuiz!$D67:AG67,30)","v":0},{"$f":"COUNTIF(TwoWayQuiz!$D67:AH67,20)+COUNTIF(TwoWayQuiz!$D67:AH67,30)","v":0},{"$f":"COUNTIF(TwoWayQuiz!$D67:AI67,20)+COUNTIF(TwoWayQuiz!$D67:AI67,30)","v":0},{"$f":"COUNTIF(TwoWayQuiz!$D67:AJ67,20)+COUNTIF(TwoWayQuiz!$D67:AJ67,30)","v":0},{"$f":"COUNTIF(TwoWayQuiz!$D67:AK67,20)+COUNTIF(TwoWayQuiz!$D67:AK67,30)","v":0},{"$f":"COUNTIF(TwoWayQuiz!$D67:AL67,20)+COUNTIF(TwoWayQuiz!$D67:AL67,30)","v":0},{"$f":"COUNTIF(TwoWayQuiz!$D67:AM67,20)+COUNTIF(TwoWayQuiz!$D67:AM67,30)","v":0},{"$f":"COUNTIF(TwoWayQuiz!$D67:AN67,20)+COUNTIF(TwoWayQuiz!$D67:AN67,30)","v":0},{"$f":"COUNTIF(TwoWayQuiz!$D67:AO67,20)+COUNTIF(TwoWayQuiz!$D67:AO67,30)","v":0},{"$f":"COUNTIF(TwoWayQuiz!$D67:AP67,20)+COUNTIF(TwoWayQuiz!$D67:AP67,30)","v":0},{"$f":"COUNTIF(TwoWayQuiz!$D67:AQ67,20)+COUNTIF(TwoWayQuiz!$D67:AQ67,30)","v":0},{"$f":"COUNTIF(TwoWayQuiz!$D67:AR67,20)+COUNTIF(TwoWayQuiz!$D67:AR67,30)","v":0},{"$f":"COUNTIF(TwoWayQuiz!$D67:AS67,20)+COUNTIF(TwoWayQuiz!$D67:AS67,30)","v":0},{"$f":"COUNTIF(TwoWayQuiz!$D67:AT67,20)+COUNTIF(TwoWayQuiz!$D67:AT67,30)","v":0},{"$f":"COUNTIF(TwoWayQuiz!$D67:AU67,20)+COUNTIF(TwoWayQuiz!$D67:AU67,30)","v":0},{"$f":"COUNTIF(TwoWayQuiz!$D67:AV67,20)+COUNTIF(TwoWayQuiz!$D67:AV67,30)","v":0},{"$f":"COUNTIF(TwoWayQuiz!$D67:AW67,20)+COUNTIF(TwoWayQuiz!$D67:AW67,30)","v":0},{"$f":"COUNTIF(TwoWayQuiz!$D67:AX67,20)+COUNTIF(TwoWayQuiz!$D67:AX67,30)","v":0},{"$f":"COUNTIF(TwoWayQuiz!$D67:AY67,20)+COUNTIF(TwoWayQuiz!$D67:AY67,30)","v":0},{"$f":"COUNTIF(TwoWayQuiz!$D67:AZ67,20)+COUNTIF(TwoWayQuiz!$D67:AZ67,30)","v":0},{"$f":"COUNTIF(TwoWayQuiz!$D67:BA67,20)+COUNTIF(TwoWayQuiz!$D67:BA67,30)","v":0},{"$f":"COUNTIF(TwoWayQuiz!$D67:BB67,20)+COUNTIF(TwoWayQuiz!$D67:BB67,30)","v":0},{"$f":"COUNTIF(TwoWayQuiz!$D67:BC67,20)+COUNTIF(TwoWayQuiz!$D67:BC67,30)","v":0},{"$f":"COUNTIF(TwoWayQuiz!$D67:BD67,20)+COUNTIF(TwoWayQuiz!$D67:BD67,30)","v":0},{"$f":"COUNTIF(TwoWayQuiz!$D67:BE67,20)+COUNTIF(TwoWayQuiz!$D67:BE67,30)","v":0},{"$f":"COUNTIF(TwoWayQuiz!$D67:BF67,20)+COUNTIF(TwoWayQuiz!$D67:BF67,30)","v":0},{"$f":"COUNTIF(TwoWayQuiz!$D67:BG67,20)+COUNTIF(TwoWayQuiz!$D67:BG67,30)","v":0}]
[null,null,"Timeout = T, Foul = F ------------>",{"$f":"TwoWayQuiz!D23","v":0},{"$f":"TwoWayQuiz!E23","v":0},{"$f":"TwoWayQuiz!F23","v":0},{"$f":"TwoWayQuiz!G23","v":0},{"$f":"TwoWayQuiz!H23","v":0},{"$f":"TwoWayQuiz!I23","v":0},{"$f":"TwoWayQuiz!J23","v":0},{"$f":"TwoWayQuiz!K23","v":0},{"$f":"TwoWayQuiz!L23","v":0},{"$f":"TwoWayQuiz!M23","v":0},{"$f":"TwoWayQuiz!N23","v":0},{"$f":"TwoWayQuiz!O23","v":0},{"$f":"TwoWayQuiz!P23","v":0},{"$f":"TwoWayQuiz!Q23","v":0},{"$f":"TwoWayQuiz!R23","v":0},{"$f":"TwoWayQuiz!S23","v":0},{"$f":"TwoWayQuiz!T23","v":0},{"$f":"TwoWayQuiz!U23","v":0},{"$f":"TwoWayQuiz!V23","v":0},{"$f":"TwoWayQuiz!W23","v":0},{"$f":"TwoWayQuiz!X23","v":0},{"$f":"TwoWayQuiz!Y23","v":0},{"$f":"TwoWayQuiz!Z23","v":0},{"$f":"TwoWayQuiz!AA23","v":0},{"$f":"TwoWayQuiz!AB23","v":0},{"$f":"TwoWayQuiz!AC23","v":0},{"$f":"TwoWayQuiz!AD23","v":0},{"$f":"TwoWayQuiz!AE23","v":0},{"$f":"TwoWayQuiz!AF23","v":0},{"$f":"TwoWayQuiz!AG23","v":0},{"$f":"TwoWayQuiz!AH23","v":0},{"$f":"TwoWayQuiz!AI23","v":0},{"$f":"TwoWayQuiz!AJ23","v":0},{"$f":"TwoWayQuiz!AK23","v":0},{"$f":"TwoWayQuiz!AL23","v":0},{"$f":"TwoWayQuiz!AM23","v":0},{"$f":"TwoWayQuiz!AN23","v":0},{"$f":"TwoWayQuiz!AO23","v":0},{"$f":"TwoWayQuiz!AP23","v":0},{"$f":"TwoWayQuiz!AQ23","v":0},{"$f":"TwoWayQuiz!AR23","v":0},{"$f":"TwoWayQuiz!AS23","v":0},{"$f":"TwoWayQuiz!AT23","v":0},{"$f":"TwoWayQuiz!AU23","v":0},{"$f":"TwoWayQuiz!AV23","v":0},{"$f":"TwoWayQuiz!AW23","v":0},{"$f":"TwoWayQuiz!AX23","v":0},{"$f":"TwoWayQuiz!AY23","v":0},{"$f":"TwoWayQuiz!AZ23","v":0},{"$f":"TwoWayQuiz!BA23","v":0},{"$f":"TwoWayQuiz!BB23","v":0},{"$f":"TwoWayQuiz!BC23","v":0},{"$f":"TwoWayQuiz!BD23","v":0},{"$f":"TwoWayQuiz!BE23","v":0},{"$f":"TwoWayQuiz!BF23","v":0},{"$f":"TwoWayQuiz!BG23","v":0}]
[null,null,{"$f":"CONCATENATE(\"Timeout = T (\",B92,\"), Foul = F ---------->\")","v":"Timeout = T (0), Foul = F ---------->"},{"$f":"LEFT(D80)","v":"0"},{"$f":"LEFT(E80)","v":"0"},"0","0","0","0","0","0","0","0","0","0","0","0","0","0","0","0","0","0","0","0","0","0","0","0","0","0","0","0","0","0","0","0","0","0","0","0","0","0","0","0","0","0","0","0","0","0","0","0","0","0","0","0","0","0"]
[null,null,{"$f":"CONCATENATE(\"Timeout = T (\",B92,\"), Foul = F (\",B91,\") --->\")","v":"Timeout = T (0), Foul = F (0) --->"},{"$f":"LEFT(RIGHT(D80,LEN(D80)-1))","v":""},{"$f":"LEFT(RIGHT(E80,LEN(E80)-1))","v":""},"","","","","","","","","","","","","","","","","","","","","","","","","","","","","","","","","","","","","","","","","","","","","","","","","","","","","",""]
[null,null,{"$f":"CONCATENATE(\"Timeout = T, Foul = F (\",B91,\") ---------->\")","v":"Timeout = T, Foul = F (0) ---------->"},{"$f":"LEFT(RIGHT(D80,LEN(D80)-2))","v":{"$error":"#VALUE!"}},{"$f":"LEFT(RIGHT(E80,LEN(E80)-2))","v":{"$error":"#VALUE!"}},{"$error":"#VALUE!"},{"$error":"#VALUE!"},{"$error":"#VALUE!"},{"$error":"#VALUE!"},{"$error":"#VALUE!"},{"$error":"#VALUE!"},{"$error":"#VALUE!"},{"$error":"#VALUE!"},{"$error":"#VALUE!"},{"$error":"#VALUE!"},{"$error":"#VALUE!"},{"$error":"#VALUE!"},{"$error":"#VALUE!"},{"$error":"#VALUE!"},{"$error":"#VALUE!"},{"$error":"#VALUE!"},{"$error":"#VALUE!"},{"$error":"#VALUE!"},{"$error":"#VALUE!"},{"$error":"#VALUE!"},{"$error":"#VALUE!"},{"$error":"#VALUE!"},{"$error":"#VALUE!"},{"$error":"#VALUE!"},{"$error":"#VALUE!"},{"$error":"#VALUE!"},{"$error":"#VALUE!"},{"$error":"#VALUE!"},{"$error":"#VALUE!"},{"$error":"#VALUE!"},{"$error":"#VALUE!"},{"$error":"#VALUE!"},{"$error":"#VALUE!"},{"$error":"#VALUE!"},{"$error":"#VALUE!"},{"$error":"#VALUE!"},{"$error":"#VALUE!"},{"$error":"#VALUE!"},{"$error":"#VALUE!"},{"$error":"#VALUE!"},{"$error":"#VALUE!"},{"$error":"#VALUE!"},{"$error":"#VALUE!"},{"$error":"#VALUE!"},{"$error":"#VALUE!"},{"$error":"#VALUE!"},{"$error":"#VALUE!"},{"$error":"#VALUE!"},{"$error":"#VALUE!"},{"$error":"#VALUE!"},{"$error":"#VALUE!"},{"$error":"#VALUE!"},{"$error":"#VALUE!"},{"$error":"#VALUE!"}]
[null,null,null,{"$f":"LEFT(RIGHT(D80,LEN(D80)-3))","v":{"$error":"#VALUE!"}},{"$f":"LEFT(RIGHT(E80,LEN(E80)-3))","v":{"$error":"#VALUE!"}},{"$error":"#VALUE!"},{"$error":"#VALUE!"},{"$error":"#VALUE!"},{"$error":"#VALUE!"},{"$error":"#VALUE!"},{"$error":"#VALUE!"},{"$error":"#VALUE!"},{"$error":"#VALUE!"},{"$error":"#VALUE!"},{"$error":"#VALUE!"},{"$error":"#VALUE!"},{"$error":"#VALUE!"},{"$error":"#VALUE!"},{"$error":"#VALUE!"},{"$error":"#VALUE!"},{"$error":"#VALUE!"},{"$error":"#VALUE!"},{"$error":"#VALUE!"},{"$error":"#VALUE!"},{"$error":"#VALUE!"},{"$error":"#VALUE!"},{"$error":"#VALUE!"},{"$error":"#VALUE!"},{"$error":"#VALUE!"},{"$error":"#VALUE!"},{"$error":"#VALUE!"},{"$error":"#VALUE!"},{"$error":"#VALUE!"},{"$error":"#VALUE!"},{"$error":"#VALUE!"},{"$error":"#VALUE!"},{"$error":"#VALUE!"},{"$error":"#VALUE!"},{"$error":"#VALUE!"},{"$error":"#VALUE!"},{"$error":"#VALUE!"},{"$error":"#VALUE!"},{"$error":"#VALUE!"},{"$error":"#VALUE!"},{"$error":"#VALUE!"},{"$error":"#VALUE!"},{"$error":"#VALUE!"},{"$error":"#VALUE!"},{"$error":"#VALUE!"},{"$error":"#VALUE!"},{"$error":"#VALUE!"},{"$error":"#VALUE!"},{"$error":"#VALUE!"},{"$error":"#VALUE!"},{"$error":"#VALUE!"},{"$error":"#VALUE!"},{"$error":"#VALUE!"},{"$error":"#VALUE!"},{"$error":"#VALUE!"}]
[null,null,null,{"$f":"LEFT(RIGHT(D80,LEN(D80)-4))","v":{"$error":"#VALUE!"}},{"$f":"LEFT(RIGHT(E80,LEN(E80)-4))","v":{"$error":"#VALUE!"}},{"$error":"#VALUE!"},{"$error":"#VALUE!"},{"$error":"#VALUE!"},{"$error":"#VALUE!"},{"$error":"#VALUE!"},{"$error":"#VALUE!"},{"$error":"#VALUE!"},{"$error":"#VALUE!"},{"$error":"#VALUE!"},{"$error":"#VALUE!"},{"$error":"#VALUE!"},{"$error":"#VALUE!"},{"$error":"#VALUE!"},{"$error":"#VALUE!"},{"$error":"#VALUE!"},{"$error":"#VALUE!"},{"$error":"#VALUE!"},{"$error":"#VALUE!"},{"$error":"#VALUE!"},{"$error":"#VALUE!"},{"$error":"#VALUE!"},{"$error":"#VALUE!"},{"$error":"#VALUE!"},{"$error":"#VALUE!"},{"$error":"#VALUE!"},{"$error":"#VALUE!"},{"$error":"#VALUE!"},{"$error":"#VALUE!"},{"$error":"#VALUE!"},{"$error":"#VALUE!"},{"$error":"#VALUE!"},{"$error":"#VALUE!"},{"$error":"#VALUE!"},{"$error":"#VALUE!"},{"$error":"#VALUE!"},{"$error":"#VALUE!"},{"$error":"#VALUE!"},{"$error":"#VALUE!"},{"$error":"#VALUE!"},{"$error":"#VALUE!"},{"$error":"#VALUE!"},{"$error":"#VALUE!"},{"$error":"#VALUE!"},{"$error":"#VALUE!"},{"$error":"#VALUE!"},{"$error":"#VALUE!"},{"$error":"#VALUE!"},{"$error":"#VALUE!"},{"$error":"#VALUE!"},{"$error":"#VALUE!"},{"$error":"#VALUE!"},{"$error":"#VALUE!"},{"$error":"#VALUE!"},{"$error":"#VALUE!"}]
[null,null,null,{"$f":"LEFT(RIGHT(D80,LEN(D80)-5))","v":{"$error":"#VALUE!"}},{"$f":"LEFT(RIGHT(E80,LEN(E80)-5))","v":{"$error":"#VALUE!"}},{"$error":"#VALUE!"},{"$error":"#VALUE!"},{"$error":"#VALUE!"},{"$error":"#VALUE!"},{"$error":"#VALUE!"},{"$error":"#VALUE!"},{"$error":"#VALUE!"},{"$error":"#VALUE!"},{"$error":"#VALUE!"},{"$error":"#VALUE!"},{"$error":"#VALUE!"},{"$error":"#VALUE!"},{"$error":"#VALUE!"},{"$error":"#VALUE!"},{"$error":"#VALUE!"},{"$error":"#VALUE!"},{"$error":"#VALUE!"},{"$error":"#VALUE!"},{"$error":"#VALUE!"},{"$error":"#VALUE!"},{"$error":"#VALUE!"},{"$error":"#VALUE!"},{"$error":"#VALUE!"},{"$error":"#VALUE!"},{"$error":"#VALUE!"},{"$error":"#VALUE!"},{"$error":"#VALUE!"},{"$error":"#VALUE!"},{"$error":"#VALUE!"},{"$error":"#VALUE!"},{"$error":"#VALUE!"},{"$error":"#VALUE!"},{"$error":"#VALUE!"},{"$error":"#VALUE!"},{"$error":"#VALUE!"},{"$error":"#VALUE!"},{"$error":"#VALUE!"},{"$error":"#VALUE!"},{"$error":"#VALUE!"},{"$error":"#VALUE!"},{"$error":"#VALUE!"},{"$error":"#VALUE!"},{"$error":"#VALUE!"},{"$error":"#VALUE!"},{"$error":"#VALUE!"},{"$error":"#VALUE!"},{"$error":"#VALUE!"},{"$error":"#VALUE!"},{"$error":"#VALUE!"},{"$error":"#VALUE!"},{"$error":"#VALUE!"},{"$error":"#VALUE!"},{"$error":"#VALUE!"},{"$error":"#VALUE!"}]
[null,null,null,{"$f":"LEFT(RIGHT(D80,LEN(D80)-6))","v":{"$error":"#VALUE!"}},{"$f":"LEFT(RIGHT(E80,LEN(E80)-6))","v":{"$error":"#VALUE!"}},{"$error":"#VALUE!"},{"$error":"#VALUE!"},{"$error":"#VALUE!"},{"$error":"#VALUE!"},{"$error":"#VALUE!"},{"$error":"#VALUE!"},{"$error":"#VALUE!"},{"$error":"#VALUE!"},{"$error":"#VALUE!"},{"$error":"#VALUE!"},{"$error":"#VALUE!"},{"$error":"#VALUE!"},{"$error":"#VALUE!"},{"$error":"#VALUE!"},{"$error":"#VALUE!"},{"$error":"#VALUE!"},{"$error":"#VALUE!"},{"$error":"#VALUE!"},{"$error":"#VALUE!"},{"$error":"#VALUE!"},{"$error":"#VALUE!"},{"$error":"#VALUE!"},{"$error":"#VALUE!"},{"$error":"#VALUE!"},{"$error":"#VALUE!"},{"$error":"#VALUE!"},{"$error":"#VALUE!"},{"$error":"#VALUE!"},{"$error":"#VALUE!"},{"$error":"#VALUE!"},{"$error":"#VALUE!"},{"$error":"#VALUE!"},{"$error":"#VALUE!"},{"$error":"#VALUE!"},{"$error":"#VALUE!"},{"$error":"#VALUE!"},{"$error":"#VALUE!"},{"$error":"#VALUE!"},{"$error":"#VALUE!"},{"$error":"#VALUE!"},{"$error":"#VALUE!"},{"$error":"#VALUE!"},{"$error":"#VALUE!"},{"$error":"#VALUE!"},{"$error":"#VALUE!"},{"$error":"#VALUE!"},{"$error":"#VALUE!"},{"$error":"#VALUE!"},{"$error":"#VALUE!"},{"$error":"#VALUE!"},{"$error":"#VALUE!"},{"$error":"#VALUE!"},{"$error":"#VALUE!"},{"$error":"#VALUE!"}]
[null,null,null,{"$f":"LEFT(RIGHT(D80,LEN(D80)-7))","v":{"$error":"#VALUE!"}},{"$f":"LEFT(RIGHT(E80,LEN(E80)-7))","v":{"$error":"#VALUE!"}},{"$error":"#VALUE!"},{"$error":"#VALUE!"},{"$error":"#VALUE!"},{"$error":"#VALUE!"},{"$error":"#VALUE!"},{"$error":"#VALUE!"},{"$error":"#VALUE!"},{"$error":"#VALUE!"},{"$error":"#VALUE!"},{"$error":"#VALUE!"},{"$error":"#VALUE!"},{"$error":"#VALUE!"},{"$error":"#VALUE!"},{"$error":"#VALUE!"},{"$error":"#VALUE!"},{"$error":"#VALUE!"},{"$error":"#VALUE!"},{"$error":"#VALUE!"},{"$error":"#VALUE!"},{"$error":"#VALUE!"},{"$error":"#VALUE!"},{"$error":"#VALUE!"},{"$error":"#VALUE!"},{"$error":"#VALUE!"},{"$error":"#VALUE!"},{"$error":"#VALUE!"},{"$error":"#VALUE!"},{"$error":"#VALUE!"},{"$error":"#VALUE!"},{"$error":"#VALUE!"},{"$error":"#VALUE!"},{"$error":"#VALUE!"},{"$error":"#VALUE!"},{"$error":"#VALUE!"},{"$error":"#VALUE!"},{"$error":"#VALUE!"},{"$error":"#VALUE!"},{"$error":"#VALUE!"},{"$error":"#VALUE!"},{"$error":"#VALUE!"},{"$error":"#VALUE!"},{"$error":"#VALUE!"},{"$error":"#VALUE!"},{"$error":"#VALUE!"},{"$error":"#VALUE!"},{"$error":"#VALUE!"},{"$error":"#VALUE!"},{"$error":"#VALUE!"},{"$error":"#VALUE!"},{"$error":"#VALUE!"},{"$error":"#VALUE!"},{"$error":"#VALUE!"},{"$error":"#VALUE!"},{"$error":"#VALUE!"}]
[null,null,null,{"$f":"LEFT(RIGHT(D80,LEN(D80)-8))","v":{"$error":"#VALUE!"}},{"$f":"LEFT(RIGHT(E80,LEN(E80)-8))","v":{"$error":"#VALUE!"}},{"$error":"#VALUE!"},{"$error":"#VALUE!"},{"$error":"#VALUE!"},{"$error":"#VALUE!"},{"$error":"#VALUE!"},{"$error":"#VALUE!"},{"$error":"#VALUE!"},{"$error":"#VALUE!"},{"$error":"#VALUE!"},{"$error":"#VALUE!"},{"$error":"#VALUE!"},{"$error":"#VALUE!"},{"$error":"#VALUE!"},{"$error":"#VALUE!"},{"$error":"#VALUE!"},{"$error":"#VALUE!"},{"$error":"#VALUE!"},{"$error":"#VALUE!"},{"$error":"#VALUE!"},{"$error":"#VALUE!"},{"$error":"#VALUE!"},{"$error":"#VALUE!"},{"$error":"#VALUE!"},{"$error":"#VALUE!"},{"$error":"#VALUE!"},{"$error":"#VALUE!"},{"$error":"#VALUE!"},{"$error":"#VALUE!"},{"$error":"#VALUE!"},{"$error":"#VALUE!"},{"$error":"#VALUE!"},{"$error":"#VALUE!"},{"$error":"#VALUE!"},{"$error":"#VALUE!"},{"$error":"#VALUE!"},{"$error":"#VALUE!"},{"$error":"#VALUE!"},{"$error":"#VALUE!"},{"$error":"#VALUE!"},{"$error":"#VALUE!"},{"$error":"#VALUE!"},{"$error":"#VALUE!"},{"$error":"#VALUE!"},{"$error":"#VALUE!"},{"$error":"#VALUE!"},{"$error":"#VALUE!"},{"$error":"#VALUE!"},{"$error":"#VALUE!"},{"$error":"#VALUE!"},{"$error":"#VALUE!"},{"$error":"#VALUE!"},{"$error":"#VALUE!"},{"$error":"#VALUE!"},{"$error":"#VALUE!"}]
[null,null,null,{"$f":"LEFT(RIGHT(D80,LEN(D80)-9))","v":{"$error":"#VALUE!"}},{"$f":"LEFT(RIGHT(E80,LEN(E80)-9))","v":{"$error":"#VALUE!"}},{"$error":"#VALUE!"},{"$error":"#VALUE!"},{"$error":"#VALUE!"},{"$error":"#VALUE!"},{"$error":"#VALUE!"},{"$error":"#VALUE!"},{"$error":"#VALUE!"},{"$error":"#VALUE!"},{"$error":"#VALUE!"},{"$error":"#VALUE!"},{"$error":"#VALUE!"},{"$error":"#VALUE!"},{"$error":"#VALUE!"},{"$error":"#VALUE!"},{"$error":"#VALUE!"},{"$error":"#VALUE!"},{"$error":"#VALUE!"},{"$error":"#VALUE!"},{"$error":"#VALUE!"},{"$error":"#VALUE!"},{"$error":"#VALUE!"},{"$error":"#VALUE!"},{"$error":"#VALUE!"},{"$error":"#VALUE!"},{"$error":"#VALUE!"},{"$error":"#VALUE!"},{"$error":"#VALUE!"},{"$error":"#VALUE!"},{"$error":"#VALUE!"},{"$error":"#VALUE!"},{"$error":"#VALUE!"},{"$error":"#VALUE!"},{"$error":"#VALUE!"},{"$error":"#VALUE!"},{"$error":"#VALUE!"},{"$error":"#VALUE!"},{"$error":"#VALUE!"},{"$error":"#VALUE!"},{"$error":"#VALUE!"},{"$error":"#VALUE!"},{"$error":"#VALUE!"},{"$error":"#VALUE!"},{"$error":"#VALUE!"},{"$error":"#VALUE!"},{"$error":"#VALUE!"},{"$error":"#VALUE!"},{"$error":"#VALUE!"},{"$error":"#VALUE!"},{"$error":"#VALUE!"},{"$error":"#VALUE!"},{"$error":"#VALUE!"},{"$error":"#VALUE!"},{"$error":"#VALUE!"},{"$error":"#VALUE!"}]
[null,{"$f":"SUM(D91:BB91)","v":0},"# F's",{"$f":"COUNTIF(D81:D90,\"F\")","v":0},{"$f":"COUNTIF(E81:E90,\"F\")","v":0},0,0,0,0,0,0,0,0,0,0,0,0,0,0,0,0,0,0,0,0,0,0,0,0,0,0,0,0,0,0,0,0,0,0,0,0,0,0,0,0,0,0,0,0,0,0,0,0,0,0,0,0,0,0]
[null,{"$f":"SUM(D92:BB92)","v":0},"# T's",{"$f":"COUNTIF(D81:D90,\"T\")","v":0},{"$f":"COUNTIF(E81:E90,\"T\")","v":0},0,0,0,0,0,0,0,0,0,0,0,0,0,0,0,0,0,0,0,0,0,0,0,0,0,0,0,0,0,0,0,0,0,0,0,0,0,0,0,0,0,0,0,0,0,0,0,0,0,0,0,0,0,0]
[null,null,"foul points",{"$f":"IF(C94=\"odd\",-10*CEILING(D91/2,1),-10*FLOOR(D91/2,1))","v":0},{"$f":"IF(D94=\"odd\",-10*CEILING(E91/2,1),-10*FLOOR(E91/2,1))","v":0},0,0,0,0,0,0,0,0,0,0,0,0,0,0,0,0,0,0,0,0,0,0,0,0,0,0,0,0,0,0,0,0,0,0,0,0,0,0,0,0,0,0,0,0,0,0,0,0,0,0,0,0,0,0]
[null,null,"even",{"$f":"IF(SUM($D91:D91)/2=FLOOR(SUM($D91:D91)/2,1),\"even\",\"odd\")","v":"even"},{"$f":"IF(SUM($D91:E91)/2=FLOOR(SUM($D91:E91)/2,1),\"even\",\"odd\")","v":"even"},{"$f":"IF(SUM($D91:F91)/2=FLOOR(SUM($D91:F91)/2,1),\"even\",\"odd\")","v":"even"},{"$f":"IF(SUM($D91:G91)/2=FLOOR(SUM($D91:G91)/2,1),\"even\",\"odd\")","v":"even"},{"$f":"IF(SUM($D91:H91)/2=FLOOR(SUM($D91:H91)/2,1),\"even\",\"odd\")","v":"even"},{"$f":"IF(SUM($D91:I91)/2=FLOOR(SUM($D91:I91)/2,1),\"even\",\"odd\")","v":"even"},{"$f":"IF(SUM($D91:J91)/2=FLOOR(SUM($D91:J91)/2,1),\"even\",\"odd\")","v":"even"},{"$f":"IF(SUM($D91:K91)/2=FLOOR(SUM($D91:K91)/2,1),\"even\",\"odd\")","v":"even"},{"$f":"IF(SUM($D91:L91)/2=FLOOR(SUM($D91:L91)/2,1),\"even\",\"odd\")","v":"even"},{"$f":"IF(SUM($D91:M91)/2=FLOOR(SUM($D91:M91)/2,1),\"even\",\"odd\")","v":"even"},{"$f":"IF(SUM($D91:N91)/2=FLOOR(SUM($D91:N91)/2,1),\"even\",\"odd\")","v":"even"},{"$f":"IF(SUM($D91:O91)/2=FLOOR(SUM($D91:O91)/2,1),\"even\",\"odd\")","v":"even"},{"$f":"IF(SUM($D91:P91)/2=FLOOR(SUM($D91:P91)/2,1),\"even\",\"odd\")","v":"even"},{"$f":"IF(SUM($D91:Q91)/2=FLOOR(SUM($D91:Q91)/2,1),\"even\",\"odd\")","v":"even"},{"$f":"IF(SUM($D91:R91)/2=FLOOR(SUM($D91:R91)/2,1),\"even\",\"odd\")","v":"even"},{"$f":"IF(SUM($D91:S91)/2=FLOOR(SUM($D91:S91)/2,1),\"even\",\"odd\")","v":"even"},{"$f":"IF(SUM($D91:T91)/2=FLOOR(SUM($D91:T91)/2,1),\"even\",\"odd\")","v":"even"},{"$f":"IF(SUM($D91:U91)/2=FLOOR(SUM($D91:U91)/2,1),\"even\",\"odd\")","v":"even"},{"$f":"IF(SUM($D91:V91)/2=FLOOR(SUM($D91:V91)/2,1),\"even\",\"odd\")","v":"even"},{"$f":"IF(SUM($D91:W91)/2=FLOOR(SUM($D91:W91)/2,1),\"even\",\"odd\")","v":"even"},{"$f":"IF(SUM($D91:X91)/2=FLOOR(SUM($D91:X91)/2,1),\"even\",\"odd\")","v":"even"},{"$f":"IF(SUM($D91:Y91)/2=FLOOR(SUM($D91:Y91)/2,1),\"even\",\"odd\")","v":"even"},{"$f":"IF(SUM($D91:Z91)/2=FLOOR(SUM($D91:Z91)/2,1),\"even\",\"odd\")","v":"even"},{"$f":"IF(SUM($D91:AA91)/2=FLOOR(SUM($D91:AA91)/2,1),\"even\",\"odd\")","v":"even"},{"$f":"IF(SUM($D91:AB91)/2=FLOOR(SUM($D91:AB91)/2,1),\"even\",\"odd\")","v":"even"},{"$f":"IF(SUM($D91:AC91)/2=FLOOR(SUM($D91:AC91)/2,1),\"even\",\"odd\")","v":"even"},{"$f":"IF(SUM($D91:AD91)/2=FLOOR(SUM($D91:AD91)/2,1),\"even\",\"odd\")","v":"even"},{"$f":"IF(SUM($D91:AE91)/2=FLOOR(SUM($D91:AE91)/2,1),\"even\",\"odd\")","v":"even"},{"$f":"IF(SUM($D91:AF91)/2=FLOOR(SUM($D91:AF91)/2,1),\"even\",\"odd\")","v":"even"},{"$f":"IF(SUM($D91:AG91)/2=FLOOR(SUM($D91:AG91)/2,1),\"even\",\"odd\")","v":"even"},{"$f":"IF(SUM($D91:AH91)/2=FLOOR(SUM($D91:AH91)/2,1),\"even\",\"odd\")","v":"even"},{"$f":"IF(SUM($D91:AI91)/2=FLOOR(SUM($D91:AI91)/2,1),\"even\",\"odd\")","v":"even"},{"$f":"IF(SUM($D91:AJ91)/2=FLOOR(SUM($D91:AJ91)/2,1),\"even\",\"odd\")","v":"even"},{"$f":"IF(SUM($D91:AK91)/2=FLOOR(SUM($D91:AK91)/2,1),\"even\",\"odd\")","v":"even"},{"$f":"IF(SUM($D91:AL91)/2=FLOOR(SUM($D91:AL91)/2,1),\"even\",\"odd\")","v":"even"},{"$f":"IF(SUM($D91:AM91)/2=FLOOR(SUM($D91:AM91)/2,1),\"even\",\"odd\")","v":"even"},{"$f":"IF(SUM($D91:AN91)/2=FLOOR(SUM($D91:AN91)/2,1),\"even\",\"odd\")","v":"even"},{"$f":"IF(SUM($D91:AO91)/2=FLOOR(SUM($D91:AO91)/2,1),\"even\",\"odd\")","v":"even"},{"$f":"IF(SUM($D91:AP91)/2=FLOOR(SUM($D91:AP91)/2,1),\"even\",\"odd\")","v":"even"},{"$f":"IF(SUM($D91:AQ91)/2=FLOOR(SUM($D91:AQ91)/2,1),\"even\",\"odd\")","v":"even"},{"$f":"IF(SUM($D91:AR91)/2=FLOOR(SUM($D91:AR91)/2,1),\"even\",\"odd\")","v":"even"},{"$f":"IF(SUM($D91:AS91)/2=FLOOR(SUM($D91:AS91)/2,1),\"even\",\"odd\")","v":"even"},{"$f":"IF(SUM($D91:AT91)/2=FLOOR(SUM($D91:AT91)/2,1),\"even\",\"odd\")","v":"even"},{"$f":"IF(SUM($D91:AU91)/2=FLOOR(SUM($D91:AU91)/2,1),\"even\",\"odd\")","v":"even"},{"$f":"IF(SUM($D91:AV91)/2=FLOOR(SUM($D91:AV91)/2,1),\"even\",\"odd\")","v":"even"},{"$f":"IF(SUM($D91:AW91)/2=FLOOR(SUM($D91:AW91)/2,1),\"even\",\"odd\")","v":"even"},{"$f":"IF(SUM($D91:AX91)/2=FLOOR(SUM($D91:AX91)/2,1),\"even\",\"odd\")","v":"even"},{"$f":"IF(SUM($D91:AY91)/2=FLOOR(SUM($D91:AY91)/2,1),\"even\",\"odd\")","v":"even"},{"$f":"IF(SUM($D91:AZ91)/2=FLOOR(SUM($D91:AZ91)/2,1),\"even\",\"odd\")","v":"even"},{"$f":"IF(SUM($D91:BA91)/2=FLOOR(SUM($D91:BA91)/2,1),\"even\",\"odd\")","v":"even"},{"$f":"IF(SUM($D91:BB91)/2=FLOOR(SUM($D91:BB91)/2,1),\"even\",\"odd\")","v":"even"},{"$f":"IF(SUM($D91:BC91)/2=FLOOR(SUM($D91:BC91)/2,1),\"even\",\"odd\")","v":"even"},{"$f":"IF(SUM($D91:BD91)/2=FLOOR(SUM($D91:BD91)/2,1),\"even\",\"odd\")","v":"even"},{"$f":"IF(SUM($D91:BE91)/2=FLOOR(SUM($D91:BE91)/2,1),\"even\",\"odd\")","v":"even"},{"$f":"IF(SUM($D91:BF91)/2=FLOOR(SUM($D91:BF91)/2,1),\"even\",\"odd\")","v":"even"},{"$f":"IF(SUM($D91:BG91)/2=FLOOR(SUM($D91:BG91)/2,1),\"even\",\"odd\")","v":"even"}]
[]
[]
[]
[]
[]
[]
[]
[]
[null,null,"Timeout = T, Foul = F ------------>",{"$f":"TwoWayQuiz!D46","v":0},{"$f":"TwoWayQuiz!E46","v":0},{"$f":"TwoWayQuiz!F46","v":0},{"$f":"TwoWayQuiz!G46","v":0},{"$f":"TwoWayQuiz!H46","v":0},{"$f":"TwoWayQuiz!I46","v":0},{"$f":"TwoWayQuiz!J46","v":0},{"$f":"TwoWayQuiz!K46","v":0},{"$f":"TwoWayQuiz!L46","v":0},{"$f":"TwoWayQuiz!M46","v":0},{"$f":"TwoWayQuiz!N46","v":0},{"$f":"TwoWayQuiz!O46","v":0},{"$f":"TwoWayQuiz!P46","v":0},{"$f":"TwoWayQuiz!Q46","v":0},{"$f":"TwoWayQuiz!R46","v":0},{"$f":"TwoWayQuiz!S46","v":0},{"$f":"TwoWayQuiz!T46","v":0},{"$f":"TwoWayQuiz!U46","v":0},{"$f":"TwoWayQuiz!V46","v":0},{"$f":"TwoWayQuiz!W46","v":0},{"$f":"TwoWayQuiz!X46","v":0},{"$f":"TwoWayQuiz!Y46","v":0},{"$f":"TwoWayQuiz!Z46","v":0},{"$f":"TwoWayQuiz!AA46","v":0},{"$f":"TwoWayQuiz!AB46","v":0},{"$f":"TwoWayQuiz!AC46","v":0},{"$f":"TwoWayQuiz!AD46","v":0},{"$f":"TwoWayQuiz!AE46","v":0},{"$f":"TwoWayQuiz!AF46","v":0},{"$f":"TwoWayQuiz!AG46","v":0},{"$f":"TwoWayQuiz!AH46","v":0},{"$f":"TwoWayQuiz!AI46","v":0},{"$f":"TwoWayQuiz!AJ46","v":0},{"$f":"TwoWayQuiz!AK46","v":0},{"$f":"TwoWayQuiz!AL46","v":0},{"$f":"TwoWayQuiz!AM46","v":0},{"$f":"TwoWayQuiz!AN46","v":0},{"$f":"TwoWayQuiz!AO46","v":0},{"$f":"TwoWayQuiz!AP46","v":0},{"$f":"TwoWayQuiz!AQ46","v":0},{"$f":"TwoWayQuiz!AR46","v":0},{"$f":"TwoWayQuiz!AS46","v":0},{"$f":"TwoWayQuiz!AT46","v":0},{"$f":"TwoWayQuiz!AU46","v":0},{"$f":"TwoWayQuiz!AV46","v":0},{"$f":"TwoWayQuiz!AW46","v":0},{"$f":"TwoWayQuiz!AX46","v":0},{"$f":"TwoWayQuiz!AY46","v":0},{"$f":"TwoWayQuiz!AZ46","v":0},{"$f":"TwoWayQuiz!BA46","v":0},{"$f":"TwoWayQuiz!BB46","v":0},{"$f":"TwoWayQuiz!BC46","v":0},{"$f":"TwoWayQuiz!BD46","v":0},{"$f":"TwoWayQuiz!BE46","v":0},{"$f":"TwoWayQuiz!BF46","v":0},{"$f":"TwoWayQuiz!BG46","v":0}]
[null,null,{"$f":"CONCATENATE(\"Timeout = T (\",B115,\"), Foul = F ---------->\")","v":"Timeout = T (0), Foul = F ---------->"},{"$f":"LEFT(D103)","v":"0"},{"$f":"LEFT(E103)","v":"0"},"0","0","0","0","0","0","0","0","0","0","0","0","0","0","0","0","0","0","0","0","0","0","0","0","0","0","0","0","0","0","0","0","0","0","0","0","0","0","0","0","0","0","0","0","0","0","0","0","0","0","0","0","0","0"]
[null,null,{"$f":"CONCATENATE(\"Timeout = T (\",B115,\"), Foul = F (\",B114,\") --->\")","v":"Timeout = T (0), Foul = F (0) --->"},{"$f":"LEFT(RIGHT(D103,LEN(D103)-1))","v":""},{"$f":"LEFT(RIGHT(E103,LEN(E103)-1))","v":""},"","","","","","","","","","","","","","","","","","","","","","","","","","","","","","","","","","","","","","","","","","","","","","","","","","","","","",""]
[null,null,{"$f":"CONCATENATE(\"Timeout = T, Foul = F (\",B114,\") ---------->\")","v":"Timeout = T, Foul = F (0) ---------->"},{"$f":"LEFT(RIGHT(D103,LEN(D103)-2))","v":{"$error":"#VALUE!"}},{"$f":"LEFT(RIGHT(E103,LEN(E103)-2))","v":{"$error":"#VALUE!"}},{"$error":"#VALUE!"},{"$error":"#VALUE!"},{"$error":"#VALUE!"},{"$error":"#VALUE!"},{"$error":"#VALUE!"},{"$error":"#VALUE!"},{"$error":"#VALUE!"},{"$error":"#VALUE!"},{"$error":"#VALUE!"},{"$error":"#VALUE!"},{"$error":"#VALUE!"},{"$error":"#VALUE!"},{"$error":"#VALUE!"},{"$error":"#VALUE!"},{"$error":"#VALUE!"},{"$error":"#VALUE!"},{"$error":"#VALUE!"},{"$error":"#VALUE!"},{"$error":"#VALUE!"},{"$error":"#VALUE!"},{"$error":"#VALUE!"},{"$error":"#VALUE!"},{"$error":"#VALUE!"},{"$error":"#VALUE!"},{"$error":"#VALUE!"},{"$error":"#VALUE!"},{"$error":"#VALUE!"},{"$error":"#VALUE!"},{"$error":"#VALUE!"},{"$error":"#VALUE!"},{"$error":"#VALUE!"},{"$error":"#VALUE!"},{"$error":"#VALUE!"},{"$error":"#VALUE!"},{"$error":"#VALUE!"},{"$error":"#VALUE!"},{"$error":"#VALUE!"},{"$error":"#VALUE!"},{"$error":"#VALUE!"},{"$error":"#VALUE!"},{"$error":"#VALUE!"},{"$error":"#VALUE!"},{"$error":"#VALUE!"},{"$error":"#VALUE!"},{"$error":"#VALUE!"},{"$error":"#VALUE!"},{"$error":"#VALUE!"},{"$error":"#VALUE!"},{"$error":"#VALUE!"},{"$error":"#VALUE!"},{"$error":"#VALUE!"},{"$error":"#VALUE!"},{"$error":"#VALUE!"},{"$error":"#VALUE!"}]
[null,null,null,{"$f":"LEFT(RIGHT(D103,LEN(D103)-3))","v":{"$error":"#VALUE!"}},{"$f":"LEFT(RIGHT(E103,LEN(E103)-3))","v":{"$error":"#VALUE!"}},{"$error":"#VALUE!"},{"$error":"#VALUE!"},{"$error":"#VALUE!"},{"$error":"#VALUE!"},{"$error":"#VALUE!"},{"$error":"#VALUE!"},{"$error":"#VALUE!"},{"$error":"#VALUE!"},{"$error":"#VALUE!"},{"$error":"#VALUE!"},{"$error":"#VALUE!"},{"$error":"#VALUE!"},{"$error":"#VALUE!"},{"$error":"#VALUE!"},{"$error":"#VALUE!"},{"$error":"#VALUE!"},{"$error":"#VALUE!"},{"$error":"#VALUE!"},{"$error":"#VALUE!"},{"$error":"#VALUE!"},{"$error":"#VALUE!"},{"$error":"#VALUE!"},{"$error":"#VALUE!"},{"$error":"#VALUE!"},{"$error":"#VALUE!"},{"$error":"#VALUE!"},{"$error":"#VALUE!"},{"$error":"#VALUE!"},{"$error":"#VALUE!"},{"$error":"#VALUE!"},{"$error":"#VALUE!"},{"$error":"#VALUE!"},{"$error":"#VALUE!"},{"$error":"#VALUE!"},{"$error":"#VALUE!"},{"$error":"#VALUE!"},{"$error":"#VALUE!"},{"$error":"#VALUE!"},{"$error":"#VALUE!"},{"$error":"#VALUE!"},{"$error":"#VALUE!"},{"$error":"#VALUE!"},{"$error":"#VALUE!"},{"$error":"#VALUE!"},{"$error":"#VALUE!"},{"$error":"#VALUE!"},{"$error":"#VALUE!"},{"$error":"#VALUE!"},{"$error":"#VALUE!"},{"$error":"#VALUE!"},{"$error":"#VALUE!"},{"$error":"#VALUE!"},{"$error":"#VALUE!"},{"$error":"#VALUE!"}]
[null,null,null,{"$f":"LEFT(RIGHT(D103,LEN(D103)-4))","v":{"$error":"#VALUE!"}},{"$f":"LEFT(RIGHT(E103,LEN(E103)-4))","v":{"$error":"#VALUE!"}},{"$error":"#VALUE!"},{"$error":"#VALUE!"},{"$error":"#VALUE!"},{"$error":"#VALUE!"},{"$error":"#VALUE!"},{"$error":"#VALUE!"},{"$error":"#VALUE!"},{"$error":"#VALUE!"},{"$error":"#VALUE!"},{"$error":"#VALUE!"},{"$error":"#VALUE!"},{"$error":"#VALUE!"},{"$error":"#VALUE!"},{"$error":"#VALUE!"},{"$error":"#VALUE!"},{"$error":"#VALUE!"},{"$error":"#VALUE!"},{"$error":"#VALUE!"},{"$error":"#VALUE!"},{"$error":"#VALUE!"},{"$error":"#VALUE!"},{"$error":"#VALUE!"},{"$error":"#VALUE!"},{"$error":"#VALUE!"},{"$error":"#VALUE!"},{"$error":"#VALUE!"},{"$error":"#VALUE!"},{"$error":"#VALUE!"},{"$error":"#VALUE!"},{"$error":"#VALUE!"},{"$error":"#VALUE!"},{"$error":"#VALUE!"},{"$error":"#VALUE!"},{"$error":"#VALUE!"},{"$error":"#VALUE!"},{"$error":"#VALUE!"},{"$error":"#VALUE!"},{"$error":"#VALUE!"},{"$error":"#VALUE!"},{"$error":"#VALUE!"},{"$error":"#VALUE!"},{"$error":"#VALUE!"},{"$error":"#VALUE!"},{"$error":"#VALUE!"},{"$error":"#VALUE!"},{"$error":"#VALUE!"},{"$error":"#VALUE!"},{"$error":"#VALUE!"},{"$error":"#VALUE!"},{"$error":"#VALUE!"},{"$error":"#VALUE!"},{"$error":"#VALUE!"},{"$error":"#VALUE!"},{"$error":"#VALUE!"}]
[null,null,null,{"$f":"LEFT(RIGHT(D103,LEN(D103)-5))","v":{"$error":"#VALUE!"}},{"$f":"LEFT(RIGHT(E103,LEN(E103)-5))","v":{"$error":"#VALUE!"}},{"$error":"#VALUE!"},{"$error":"#VALUE!"},{"$error":"#VALUE!"},{"$error":"#VALUE!"},{"$error":"#VALUE!"},{"$error":"#VALUE!"},{"$error":"#VALUE!"},{"$error":"#VALUE!"},{"$error":"#VALUE!"},{"$error":"#VALUE!"},{"$error":"#VALUE!"},{"$error":"#VALUE!"},{"$error":"#VALUE!"},{"$error":"#VALUE!"},{"$error":"#VALUE!"},{"$error":"#VALUE!"},{"$error":"#VALUE!"},{"$error":"#VALUE!"},{"$error":"#VALUE!"},{"$error":"#VALUE!"},{"$error":"#VALUE!"},{"$error":"#VALUE!"},{"$error":"#VALUE!"},{"$error":"#VALUE!"},{"$error":"#VALUE!"},{"$error":"#VALUE!"},{"$error":"#VALUE!"},{"$error":"#VALUE!"},{"$error":"#VALUE!"},{"$error":"#VALUE!"},{"$error":"#VALUE!"},{"$error":"#VALUE!"},{"$error":"#VALUE!"},{"$error":"#VALUE!"},{"$error":"#VALUE!"},{"$error":"#VALUE!"},{"$error":"#VALUE!"},{"$error":"#VALUE!"},{"$error":"#VALUE!"},{"$error":"#VALUE!"},{"$error":"#VALUE!"},{"$error":"#VALUE!"},{"$error":"#VALUE!"},{"$error":"#VALUE!"},{"$error":"#VALUE!"},{"$error":"#VALUE!"},{"$error":"#VALUE!"},{"$error":"#VALUE!"},{"$error":"#VALUE!"},{"$error":"#VALUE!"},{"$error":"#VALUE!"},{"$error":"#VALUE!"},{"$error":"#VALUE!"},{"$error":"#VALUE!"}]
[null,null,null,{"$f":"LEFT(RIGHT(D103,LEN(D103)-6))","v":{"$error":"#VALUE!"}},{"$f":"LEFT(RIGHT(E103,LEN(E103)-6))","v":{"$error":"#VALUE!"}},{"$error":"#VALUE!"},{"$error":"#VALUE!"},{"$error":"#VALUE!"},{"$error":"#VALUE!"},{"$error":"#VALUE!"},{"$error":"#VALUE!"},{"$error":"#VALUE!"},{"$error":"#VALUE!"},{"$error":"#VALUE!"},{"$error":"#VALUE!"},{"$error":"#VALUE!"},{"$error":"#VALUE!"},{"$error":"#VALUE!"},{"$error":"#VALUE!"},{"$error":"#VALUE!"},{"$error":"#VALUE!"},{"$error":"#VALUE!"},{"$error":"#VALUE!"},{"$error":"#VALUE!"},{"$error":"#VALUE!"},{"$error":"#VALUE!"},{"$error":"#VALUE!"},{"$error":"#VALUE!"},{"$error":"#VALUE!"},{"$error":"#VALUE!"},{"$error":"#VALUE!"},{"$error":"#VALUE!"},{"$error":"#VALUE!"},{"$error":"#VALUE!"},{"$error":"#VALUE!"},{"$error":"#VALUE!"},{"$error":"#VALUE!"},{"$error":"#VALUE!"},{"$error":"#VALUE!"},{"$error":"#VALUE!"},{"$error":"#VALUE!"},{"$error":"#VALUE!"},{"$error":"#VALUE!"},{"$error":"#VALUE!"},{"$error":"#VALUE!"},{"$error":"#VALUE!"},{"$error":"#VALUE!"},{"$error":"#VALUE!"},{"$error":"#VALUE!"},{"$error":"#VALUE!"},{"$error":"#VALUE!"},{"$error":"#VALUE!"},{"$error":"#VALUE!"},{"$error":"#VALUE!"},{"$error":"#VALUE!"},{"$error":"#VALUE!"},{"$error":"#VALUE!"},{"$error":"#VALUE!"},{"$error":"#VALUE!"}]
[null,null,null,{"$f":"LEFT(RIGHT(D103,LEN(D103)-7))","v":{"$error":"#VALUE!"}},{"$f":"LEFT(RIGHT(E103,LEN(E103)-7))","v":{"$error":"#VALUE!"}},{"$error":"#VALUE!"},{"$error":"#VALUE!"},{"$error":"#VALUE!"},{"$error":"#VALUE!"},{"$error":"#VALUE!"},{"$error":"#VALUE!"},{"$error":"#VALUE!"},{"$error":"#VALUE!"},{"$error":"#VALUE!"},{"$error":"#VALUE!"},{"$error":"#VALUE!"},{"$error":"#VALUE!"},{"$error":"#VALUE!"},{"$error":"#VALUE!"},{"$error":"#VALUE!"},{"$error":"#VALUE!"},{"$error":"#VALUE!"},{"$error":"#VALUE!"},{"$error":"#VALUE!"},{"$error":"#VALUE!"},{"$error":"#VALUE!"},{"$error":"#VALUE!"},{"$error":"#VALUE!"},{"$error":"#VALUE!"},{"$error":"#VALUE!"},{"$error":"#VALUE!"},{"$error":"#VALUE!"},{"$error":"#VALUE!"},{"$error":"#VALUE!"},{"$error":"#VALUE!"},{"$error":"#VALUE!"},{"$error":"#VALUE!"},{"$error":"#VALUE!"},{"$error":"#VALUE!"},{"$error":"#VALUE!"},{"$error":"#VALUE!"},{"$error":"#VALUE!"},{"$error":"#VALUE!"},{"$error":"#VALUE!"},{"$error":"#VALUE!"},{"$error":"#VALUE!"},{"$error":"#VALUE!"},{"$error":"#VALUE!"},{"$error":"#VALUE!"},{"$error":"#VALUE!"},{"$error":"#VALUE!"},{"$error":"#VALUE!"},{"$error":"#VALUE!"},{"$error":"#VALUE!"},{"$error":"#VALUE!"},{"$error":"#VALUE!"},{"$error":"#VALUE!"},{"$error":"#VALUE!"},{"$error":"#VALUE!"}]
[null,null,null,{"$f":"LEFT(RIGHT(D103,LEN(D103)-8))","v":{"$error":"#VALUE!"}},{"$f":"LEFT(RIGHT(E103,LEN(E103)-8))","v":{"$error":"#VALUE!"}},{"$error":"#VALUE!"},{"$error":"#VALUE!"},{"$error":"#VALUE!"},{"$error":"#VALUE!"},{"$error":"#VALUE!"},{"$error":"#VALUE!"},{"$error":"#VALUE!"},{"$error":"#VALUE!"},{"$error":"#VALUE!"},{"$error":"#VALUE!"},{"$error":"#VALUE!"},{"$error":"#VALUE!"},{"$error":"#VALUE!"},{"$error":"#VALUE!"},{"$error":"#VALUE!"},{"$error":"#VALUE!"},{"$error":"#VALUE!"},{"$error":"#VALUE!"},{"$error":"#VALUE!"},{"$error":"#VALUE!"},{"$error":"#VALUE!"},{"$error":"#VALUE!"},{"$error":"#VALUE!"},{"$error":"#VALUE!"},{"$error":"#VALUE!"},{"$error":"#VALUE!"},{"$error":"#VALUE!"},{"$error":"#VALUE!"},{"$error":"#VALUE!"},{"$error":"#VALUE!"},{"$error":"#VALUE!"},{"$error":"#VALUE!"},{"$error":"#VALUE!"},{"$error":"#VALUE!"},{"$error":"#VALUE!"},{"$error":"#VALUE!"},{"$error":"#VALUE!"},{"$error":"#VALUE!"},{"$error":"#VALUE!"},{"$error":"#VALUE!"},{"$error":"#VALUE!"},{"$error":"#VALUE!"},{"$error":"#VALUE!"},{"$error":"#VALUE!"},{"$error":"#VALUE!"},{"$error":"#VALUE!"},{"$error":"#VALUE!"},{"$error":"#VALUE!"},{"$error":"#VALUE!"},{"$error":"#VALUE!"},{"$error":"#VALUE!"},{"$error":"#VALUE!"},{"$error":"#VALUE!"},{"$error":"#VALUE!"}]
[null,null,null,{"$f":"LEFT(RIGHT(D103,LEN(D103)-9))","v":{"$error":"#VALUE!"}},{"$f":"LEFT(RIGHT(E103,LEN(E103)-9))","v":{"$error":"#VALUE!"}},{"$error":"#VALUE!"},{"$error":"#VALUE!"},{"$error":"#VALUE!"},{"$error":"#VALUE!"},{"$error":"#VALUE!"},{"$error":"#VALUE!"},{"$error":"#VALUE!"},{"$error":"#VALUE!"},{"$error":"#VALUE!"},{"$error":"#VALUE!"},{"$error":"#VALUE!"},{"$error":"#VALUE!"},{"$error":"#VALUE!"},{"$error":"#VALUE!"},{"$error":"#VALUE!"},{"$error":"#VALUE!"},{"$error":"#VALUE!"},{"$error":"#VALUE!"},{"$error":"#VALUE!"},{"$error":"#VALUE!"},{"$error":"#VALUE!"},{"$error":"#VALUE!"},{"$error":"#VALUE!"},{"$error":"#VALUE!"},{"$error":"#VALUE!"},{"$error":"#VALUE!"},{"$error":"#VALUE!"},{"$error":"#VALUE!"},{"$error":"#VALUE!"},{"$error":"#VALUE!"},{"$error":"#VALUE!"},{"$error":"#VALUE!"},{"$error":"#VALUE!"},{"$error":"#VALUE!"},{"$error":"#VALUE!"},{"$error":"#VALUE!"},{"$error":"#VALUE!"},{"$error":"#VALUE!"},{"$error":"#VALUE!"},{"$error":"#VALUE!"},{"$error":"#VALUE!"},{"$error":"#VALUE!"},{"$error":"#VALUE!"},{"$error":"#VALUE!"},{"$error":"#VALUE!"},{"$error":"#VALUE!"},{"$error":"#VALUE!"},{"$error":"#VALUE!"},{"$error":"#VALUE!"},{"$error":"#VALUE!"},{"$error":"#VALUE!"},{"$error":"#VALUE!"},{"$error":"#VALUE!"},{"$error":"#VALUE!"}]
[null,{"$f":"SUM(D114:BB114)","v":0},"# F's",{"$f":"COUNTIF(D104:D113,\"F\")","v":0},{"$f":"COUNTIF(E104:E113,\"F\")","v":0},0,0,0,0,0,0,0,0,0,0,0,0,0,0,0,0,0,0,0,0,0,0,0,0,0,0,0,0,0,0,0,0,0,0,0,0,0,0,0,0,0,0,0,0,0,0,0,0,0,0,0,0,0,0]
[null,{"$f":"SUM(D115:BB115)","v":0},"# T's",{"$f":"COUNTIF(D104:D113,\"T\")","v":0},{"$f":"COUNTIF(E104:E113,\"T\")","v":0},0,0,0,0,0,0,0,0,0,0,0,0,0,0,0,0,0,0,0,0,0,0,0,0,0,0,0,0,0,0,0,0,0,0,0,0,0,0,0,0,0,0,0,0,0,0,0,0,0,0,0,0,0,0]
[null,null,"foul points",{"$f":"IF(C117=\"odd\",-10*CEILING(D114/2,1),-10*FLOOR(D114/2,1))","v":0},{"$f":"IF(D117=\"odd\",-10*CEILING(E114/2,1),-10*FLOOR(E114/2,1))","v":0},0,0,0,0,0,0,0,0,0,0,0,0,0,0,0,0,0,0,0,0,0,0,0,0,0,0,0,0,0,0,0,0,0,0,0,0,0,0,0,0,0,0,0,0,0,0,0,0,0,0,0,0,0,0]
[null,null,"even",{"$f":"IF(SUM($D114:D114)/2=FLOOR(SUM($D114:D114)/2,1),\"even\",\"odd\")","v":"even"},{"$f":"IF(SUM($D114:E114)/2=FLOOR(SUM($D114:E114)/2,1),\"even\",\"odd\")","v":"even"},{"$f":"IF(SUM($D114:F114)/2=FLOOR(SUM($D114:F114)/2,1),\"even\",\"odd\")","v":"even"},{"$f":"IF(SUM($D114:G114)/2=FLOOR(SUM($D114:G114)/2,1),\"even\",\"odd\")","v":"even"},{"$f":"IF(SUM($D114:H114)/2=FLOOR(SUM($D114:H114)/2,1),\"even\",\"odd\")","v":"even"},{"$f":"IF(SUM($D114:I114)/2=FLOOR(SUM($D114:I114)/2,1),\"even\",\"odd\")","v":"even"},{"$f":"IF(SUM($D114:J114)/2=FLOOR(SUM($D114:J114)/2,1),\"even\",\"odd\")","v":"even"},{"$f":"IF(SUM($D114:K114)/2=FLOOR(SUM($D114:K114)/2,1),\"even\",\"odd\")","v":"even"},{"$f":"IF(SUM($D114:L114)/2=FLOOR(SUM($D114:L114)/2,1),\"even\",\"odd\")","v":"even"},{"$f":"IF(SUM($D114:M114)/2=FLOOR(SUM($D114:M114)/2,1),\"even\",\"odd\")","v":"even"},{"$f":"IF(SUM($D114:N114)/2=FLOOR(SUM($D114:N114)/2,1),\"even\",\"odd\")","v":"even"},{"$f":"IF(SUM($D114:O114)/2=FLOOR(SUM($D114:O114)/2,1),\"even\",\"odd\")","v":"even"},{"$f":"IF(SUM($D114:P114)/2=FLOOR(SUM($D114:P114)/2,1),\"even\",\"odd\")","v":"even"},{"$f":"IF(SUM($D114:Q114)/2=FLOOR(SUM($D114:Q114)/2,1),\"even\",\"odd\")","v":"even"},{"$f":"IF(SUM($D114:R114)/2=FLOOR(SUM($D114:R114)/2,1),\"even\",\"odd\")","v":"even"},{"$f":"IF(SUM($D114:S114)/2=FLOOR(SUM($D114:S114)/2,1),\"even\",\"odd\")","v":"even"},{"$f":"IF(SUM($D114:T114)/2=FLOOR(SUM($D114:T114)/2,1),\"even\",\"odd\")","v":"even"},{"$f":"IF(SUM($D114:U114)/2=FLOOR(SUM($D114:U114)/2,1),\"even\",\"odd\")","v":"even"},{"$f":"IF(SUM($D114:V114)/2=FLOOR(SUM($D114:V114)/2,1),\"even\",\"odd\")","v":"even"},{"$f":"IF(SUM($D114:W114)/2=FLOOR(SUM($D114:W114)/2,1),\"even\",\"odd\")","v":"even"},{"$f":"IF(SUM($D114:X114)/2=FLOOR(SUM($D114:X114)/2,1),\"even\",\"odd\")","v":"even"},{"$f":"IF(SUM($D114:Y114)/2=FLOOR(SUM($D114:Y114)/2,1),\"even\",\"odd\")","v":"even"},{"$f":"IF(SUM($D114:Z114)/2=FLOOR(SUM($D114:Z114)/2,1),\"even\",\"odd\")","v":"even"},{"$f":"IF(SUM($D114:AA114)/2=FLOOR(SUM($D114:AA114)/2,1),\"even\",\"odd\")","v":"even"},{"$f":"IF(SUM($D114:AB114)/2=FLOOR(SUM($D114:AB114)/2,1),\"even\",\"odd\")","v":"even"},{"$f":"IF(SUM($D114:AC114)/2=FLOOR(SUM($D114:AC114)/2,1),\"even\",\"odd\")","v":"even"},{"$f":"IF(SUM($D114:AD114)/2=FLOOR(SUM($D114:AD114)/2,1),\"even\",\"odd\")","v":"even"},{"$f":"IF(SUM($D114:AE114)/2=FLOOR(SUM($D114:AE114)/2,1),\"even\",\"odd\")","v":"even"},{"$f":"IF(SUM($D114:AF114)/2=FLOOR(SUM($D114:AF114)/2,1),\"even\",\"odd\")","v":"even"},{"$f":"IF(SUM($D114:AG114)/2=FLOOR(SUM($D114:AG114)/2,1),\"even\",\"odd\")","v":"even"},{"$f":"IF(SUM($D114:AH114)/2=FLOOR(SUM($D114:AH114)/2,1),\"even\",\"odd\")","v":"even"},{"$f":"IF(SUM($D114:AI114)/2=FLOOR(SUM($D114:AI114)/2,1),\"even\",\"odd\")","v":"even"},{"$f":"IF(SUM($D114:AJ114)/2=FLOOR(SUM($D114:AJ114)/2,1),\"even\",\"odd\")","v":"even"},{"$f":"IF(SUM($D114:AK114)/2=FLOOR(SUM($D114:AK114)/2,1),\"even\",\"odd\")","v":"even"},{"$f":"IF(SUM($D114:AL114)/2=FLOOR(SUM($D114:AL114)/2,1),\"even\",\"odd\")","v":"even"},{"$f":"IF(SUM($D114:AM114)/2=FLOOR(SUM($D114:AM114)/2,1),\"even\",\"odd\")","v":"even"},{"$f":"IF(SUM($D114:AN114)/2=FLOOR(SUM($D114:AN114)/2,1),\"even\",\"odd\")","v":"even"},{"$f":"IF(SUM($D114:AO114)/2=FLOOR(SUM($D114:AO114)/2,1),\"even\",\"odd\")","v":"even"},{"$f":"IF(SUM($D114:AP114)/2=FLOOR(SUM($D114:AP114)/2,1),\"even\",\"odd\")","v":"even"},{"$f":"IF(SUM($D114:AQ114)/2=FLOOR(SUM($D114:AQ114)/2,1),\"even\",\"odd\")","v":"even"},{"$f":"IF(SUM($D114:AR114)/2=FLOOR(SUM($D114:AR114)/2,1),\"even\",\"odd\")","v":"even"},{"$f":"IF(SUM($D114:AS114)/2=FLOOR(SUM($D114:AS114)/2,1),\"even\",\"odd\")","v":"even"},{"$f":"IF(SUM($D114:AT114)/2=FLOOR(SUM($D114:AT114)/2,1),\"even\",\"odd\")","v":"even"},{"$f":"IF(SUM($D114:AU114)/2=FLOOR(SUM($D114:AU114)/2,1),\"even\",\"odd\")","v":"even"},{"$f":"IF(SUM($D114:AV114)/2=FLOOR(SUM($D114:AV114)/2,1),\"even\",\"odd\")","v":"even"},{"$f":"IF(SUM($D114:AW114)/2=FLOOR(SUM($D114:AW114)/2,1),\"even\",\"odd\")","v":"even"},{"$f":"IF(SUM($D114:AX114)/2=FLOOR(SUM($D114:AX114)/2,1),\"even\",\"odd\")","v":"even"},{"$f":"IF(SUM($D114:AY114)/2=FLOOR(SUM($D114:AY114)/2,1),\"even\",\"odd\")","v":"even"},{"$f":"IF(SUM($D114:AZ114)/2=FLOOR(SUM($D114:AZ114)/2,1),\"even\",\"odd\")","v":"even"},{"$f":"IF(SUM($D114:BA114)/2=FLOOR(SUM($D114:BA114)/2,1),\"even\",\"odd\")","v":"even"},{"$f":"IF(SUM($D114:BB114)/2=FLOOR(SUM($D114:BB114)/2,1),\"even\",\"odd\")","v":"even"},{"$f":"IF(SUM($D114:BC114)/2=FLOOR(SUM($D114:BC114)/2,1),\"even\",\"odd\")","v":"even"},{"$f":"IF(SUM($D114:BD114)/2=FLOOR(SUM($D114:BD114)/2,1),\"even\",\"odd\")","v":"even"},{"$f":"IF(SUM($D114:BE114)/2=FLOOR(SUM($D114:BE114)/2,1),\"even\",\"odd\")","v":"even"},{"$f":"IF(SUM($D114:BF114)/2=FLOOR(SUM($D114:BF114)/2,1),\"even\",\"odd\")","v":"even"},{"$f":"IF(SUM($D114:BG114)/2=FLOOR(SUM($D114:BG114)/2,1),\"even\",\"odd\")","v":"even"}]
[]
[]
[]
[]
[]
[]
[]
[]
[null,null,"Timeout = T, Foul = F ------------>",{"$f":"TwoWayQuiz!D69","v":0},{"$f":"TwoWayQuiz!E69","v":0},{"$f":"TwoWayQuiz!F69","v":0},{"$f":"TwoWayQuiz!G69","v":0},{"$f":"TwoWayQuiz!H69","v":0},{"$f":"TwoWayQuiz!I69","v":0},{"$f":"TwoWayQuiz!J69","v":0},{"$f":"TwoWayQuiz!K69","v":0},{"$f":"TwoWayQuiz!L69","v":0},{"$f":"TwoWayQuiz!M69","v":0},{"$f":"TwoWayQuiz!N69","v":0},{"$f":"TwoWayQuiz!O69","v":0},{"$f":"TwoWayQuiz!P69","v":0},{"$f":"TwoWayQuiz!Q69","v":0},{"$f":"TwoWayQuiz!R69","v":0},{"$f":"TwoWayQuiz!S69","v":0},{"$f":"TwoWayQuiz!T69","v":0},{"$f":"TwoWayQuiz!U69","v":0},{"$f":"TwoWayQuiz!V69","v":0},{"$f":"TwoWayQuiz!W69","v":0},{"$f":"TwoWayQuiz!X69","v":0},{"$f":"TwoWayQuiz!Y69","v":0},{"$f":"TwoWayQuiz!Z69","v":0},{"$f":"TwoWayQuiz!AA69","v":0},{"$f":"TwoWayQuiz!AB69","v":0},{"$f":"TwoWayQuiz!AC69","v":0},{"$f":"TwoWayQuiz!AD69","v":0},{"$f":"TwoWayQuiz!AE69","v":0},{"$f":"TwoWayQuiz!AF69","v":0},{"$f":"TwoWayQuiz!AG69","v":0},{"$f":"TwoWayQuiz!AH69","v":0},{"$f":"TwoWayQuiz!AI69","v":0},{"$f":"TwoWayQuiz!AJ69","v":0},{"$f":"TwoWayQuiz!AK69","v":0},{"$f":"TwoWayQuiz!AL69","v":0},{"$f":"TwoWayQuiz!AM69","v":0},{"$f":"TwoWayQuiz!AN69","v":0},{"$f":"TwoWayQuiz!AO69","v":0},{"$f":"TwoWayQuiz!AP69","v":0},{"$f":"TwoWayQuiz!AQ69","v":0},{"$f":"TwoWayQuiz!AR69","v":0},{"$f":"TwoWayQuiz!AS69","v":0},{"$f":"TwoWayQuiz!AT69","v":0},{"$f":"TwoWayQuiz!AU69","v":0},{"$f":"TwoWayQuiz!AV69","v":0},{"$f":"TwoWayQuiz!AW69","v":0},{"$f":"TwoWayQuiz!AX69","v":0},{"$f":"TwoWayQuiz!AY69","v":0},{"$f":"TwoWayQuiz!AZ69","v":0},{"$f":"TwoWayQuiz!BA69","v":0},{"$f":"TwoWayQuiz!BB69","v":0},{"$f":"TwoWayQuiz!BC69","v":0},{"$f":"TwoWayQuiz!BD69","v":0},{"$f":"TwoWayQuiz!BE69","v":0},{"$f":"TwoWayQuiz!BF69","v":0},{"$f":"TwoWayQuiz!BG69","v":0}]
[null,null,{"$f":"CONCATENATE(\"Timeout = T (\",B138,\"), Foul = F ---------->\")","v":"Timeout = T (0), Foul = F ---------->"},{"$f":"LEFT(D126)","v":"0"},{"$f":"LEFT(E126)","v":"0"},"0","0","0","0","0","0","0","0","0","0","0","0","0","0","0","0","0","0","0","0","0","0","0","0","0","0","0","0","0","0","0","0","0","0","0","0","0","0","0","0","0","0","0","0","0","0","0","0","0","0","0","0","0","0"]
[null,null,{"$f":"CONCATENATE(\"Timeout = T (\",B138,\"), Foul = F (\",B137,\") --->\")","v":"Timeout = T (0), Foul = F (0) --->"},{"$f":"LEFT(RIGHT(D126,LEN(D126)-1))","v":""},{"$f":"LEFT(RIGHT(E126,LEN(E126)-1))","v":""},"","","","","","","","","","","","","","","","","","","","","","","","","","","","","","","","","","","","","","","","","","","","","","","","","","","","","",""]
[null,null,{"$f":"CONCATENATE(\"Timeout = T, Foul = F (\",B137,\") ---------->\")","v":"Timeout = T, Foul = F (0) ---------->"},{"$f":"LEFT(RIGHT(D126,LEN(D126)-2))","v":{"$error":"#VALUE!"}},{"$f":"LEFT(RIGHT(E126,LEN(E126)-2))","v":{"$error":"#VALUE!"}},{"$error":"#VALUE!"},{"$error":"#VALUE!"},{"$error":"#VALUE!"},{"$error":"#VALUE!"},{"$error":"#VALUE!"},{"$error":"#VALUE!"},{"$error":"#VALUE!"},{"$error":"#VALUE!"},{"$error":"#VALUE!"},{"$error":"#VALUE!"},{"$error":"#VALUE!"},{"$error":"#VALUE!"},{"$error":"#VALUE!"},{"$error":"#VALUE!"},{"$error":"#VALUE!"},{"$error":"#VALUE!"},{"$error":"#VALUE!"},{"$error":"#VALUE!"},{"$error":"#VALUE!"},{"$error":"#VALUE!"},{"$error":"#VALUE!"},{"$error":"#VALUE!"},{"$error":"#VALUE!"},{"$error":"#VALUE!"},{"$error":"#VALUE!"},{"$error":"#VALUE!"},{"$error":"#VALUE!"},{"$error":"#VALUE!"},{"$error":"#VALUE!"},{"$error":"#VALUE!"},{"$error":"#VALUE!"},{"$error":"#VALUE!"},{"$error":"#VALUE!"},{"$error":"#VALUE!"},{"$error":"#VALUE!"},{"$error":"#VALUE!"},{"$error":"#VALUE!"},{"$error":"#VALUE!"},{"$error":"#VALUE!"},{"$error":"#VALUE!"},{"$error":"#VALUE!"},{"$error":"#VALUE!"},{"$error":"#VALUE!"},{"$error":"#VALUE!"},{"$error":"#VALUE!"},{"$error":"#VALUE!"},{"$error":"#VALUE!"},{"$error":"#VALUE!"},{"$error":"#VALUE!"},{"$error":"#VALUE!"},{"$error":"#VALUE!"},{"$error":"#VALUE!"},{"$error":"#VALUE!"},{"$error":"#VALUE!"}]
[null,null,null,{"$f":"LEFT(RIGHT(D126,LEN(D126)-3))","v":{"$error":"#VALUE!"}},{"$f":"LEFT(RIGHT(E126,LEN(E126)-3))","v":{"$error":"#VALUE!"}},{"$error":"#VALUE!"},{"$error":"#VALUE!"},{"$error":"#VALUE!"},{"$error":"#VALUE!"},{"$error":"#VALUE!"},{"$error":"#VALUE!"},{"$error":"#VALUE!"},{"$error":"#VALUE!"},{"$error":"#VALUE!"},{"$error":"#VALUE!"},{"$error":"#VALUE!"},{"$error":"#VALUE!"},{"$error":"#VALUE!"},{"$error":"#VALUE!"},{"$error":"#VALUE!"},{"$error":"#VALUE!"},{"$error":"#VALUE!"},{"$error":"#VALUE!"},{"$error":"#VALUE!"},{"$error":"#VALUE!"},{"$error":"#VALUE!"},{"$error":"#VALUE!"},{"$error":"#VALUE!"},{"$error":"#VALUE!"},{"$error":"#VALUE!"},{"$error":"#VALUE!"},{"$error":"#VALUE!"},{"$error":"#VALUE!"},{"$error":"#VALUE!"},{"$error":"#VALUE!"},{"$error":"#VALUE!"},{"$error":"#VALUE!"},{"$error":"#VALUE!"},{"$error":"#VALUE!"},{"$error":"#VALUE!"},{"$error":"#VALUE!"},{"$error":"#VALUE!"},{"$error":"#VALUE!"},{"$error":"#VALUE!"},{"$error":"#VALUE!"},{"$error":"#VALUE!"},{"$error":"#VALUE!"},{"$error":"#VALUE!"},{"$error":"#VALUE!"},{"$error":"#VALUE!"},{"$error":"#VALUE!"},{"$error":"#VALUE!"},{"$error":"#VALUE!"},{"$error":"#VALUE!"},{"$error":"#VALUE!"},{"$error":"#VALUE!"},{"$error":"#VALUE!"},{"$error":"#VALUE!"},{"$error":"#VALUE!"}]
[null,null,null,{"$f":"LEFT(RIGHT(D126,LEN(D126)-4))","v":{"$error":"#VALUE!"}},{"$f":"LEFT(RIGHT(E126,LEN(E126)-4))","v":{"$error":"#VALUE!"}},{"$error":"#VALUE!"},{"$error":"#VALUE!"},{"$error":"#VALUE!"},{"$error":"#VALUE!"},{"$error":"#VALUE!"},{"$error":"#VALUE!"},{"$error":"#VALUE!"},{"$error":"#VALUE!"},{"$error":"#VALUE!"},{"$error":"#VALUE!"},{"$error":"#VALUE!"},{"$error":"#VALUE!"},{"$error":"#VALUE!"},{"$error":"#VALUE!"},{"$error":"#VALUE!"},{"$error":"#VALUE!"},{"$error":"#VALUE!"},{"$error":"#VALUE!"},{"$error":"#VALUE!"},{"$error":"#VALUE!"},{"$error":"#VALUE!"},{"$error":"#VALUE!"},{"$error":"#VALUE!"},{"$error":"#VALUE!"},{"$error":"#VALUE!"},{"$error":"#VALUE!"},{"$error":"#VALUE!"},{"$error":"#VALUE!"},{"$error":"#VALUE!"},{"$error":"#VALUE!"},{"$error":"#VALUE!"},{"$error":"#VALUE!"},{"$error":"#VALUE!"},{"$error":"#VALUE!"},{"$error":"#VALUE!"},{"$error":"#VALUE!"},{"$error":"#VALUE!"},{"$error":"#VALUE!"},{"$error":"#VALUE!"},{"$error":"#VALUE!"},{"$error":"#VALUE!"},{"$error":"#VALUE!"},{"$error":"#VALUE!"},{"$error":"#VALUE!"},{"$error":"#VALUE!"},{"$error":"#VALUE!"},{"$error":"#VALUE!"},{"$error":"#VALUE!"},{"$error":"#VALUE!"},{"$error":"#VALUE!"},{"$error":"#VALUE!"},{"$error":"#VALUE!"},{"$error":"#VALUE!"},{"$error":"#VALUE!"}]
[null,null,null,{"$f":"LEFT(RIGHT(D126,LEN(D126)-5))","v":{"$error":"#VALUE!"}},{"$f":"LEFT(RIGHT(E126,LEN(E126)-5))","v":{"$error":"#VALUE!"}},{"$error":"#VALUE!"},{"$error":"#VALUE!"},{"$error":"#VALUE!"},{"$error":"#VALUE!"},{"$error":"#VALUE!"},{"$error":"#VALUE!"},{"$error":"#VALUE!"},{"$error":"#VALUE!"},{"$error":"#VALUE!"},{"$error":"#VALUE!"},{"$error":"#VALUE!"},{"$error":"#VALUE!"},{"$error":"#VALUE!"},{"$error":"#VALUE!"},{"$error":"#VALUE!"},{"$error":"#VALUE!"},{"$error":"#VALUE!"},{"$error":"#VALUE!"},{"$error":"#VALUE!"},{"$error":"#VALUE!"},{"$error":"#VALUE!"},{"$error":"#VALUE!"},{"$error":"#VALUE!"},{"$error":"#VALUE!"},{"$error":"#VALUE!"},{"$error":"#VALUE!"},{"$error":"#VALUE!"},{"$error":"#VALUE!"},{"$error":"#VALUE!"},{"$error":"#VALUE!"},{"$error":"#VALUE!"},{"$error":"#VALUE!"},{"$error":"#VALUE!"},{"$error":"#VALUE!"},{"$error":"#VALUE!"},{"$error":"#VALUE!"},{"$error":"#VALUE!"},{"$error":"#VALUE!"},{"$error":"#VALUE!"},{"$error":"#VALUE!"},{"$error":"#VALUE!"},{"$error":"#VALUE!"},{"$error":"#VALUE!"},{"$error":"#VALUE!"},{"$error":"#VALUE!"},{"$error":"#VALUE!"},{"$error":"#VALUE!"},{"$error":"#VALUE!"},{"$error":"#VALUE!"},{"$error":"#VALUE!"},{"$error":"#VALUE!"},{"$error":"#VALUE!"},{"$error":"#VALUE!"},{"$error":"#VALUE!"}]
[null,null,null,{"$f":"LEFT(RIGHT(D126,LEN(D126)-6))","v":{"$error":"#VALUE!"}},{"$f":"LEFT(RIGHT(E126,LEN(E126)-6))","v":{"$error":"#VALUE!"}},{"$error":"#VALUE!"},{"$error":"#VALUE!"},{"$error":"#VALUE!"},{"$error":"#VALUE!"},{"$error":"#VALUE!"},{"$error":"#VALUE!"},{"$error":"#VALUE!"},{"$error":"#VALUE!"},{"$error":"#VALUE!"},{"$error":"#VALUE!"},{"$error":"#VALUE!"},{"$error":"#VALUE!"},{"$error":"#VALUE!"},{"$error":"#VALUE!"},{"$error":"#VALUE!"},{"$error":"#VALUE!"},{"$error":"#VALUE!"},{"$error":"#VALUE!"},{"$error":"#VALUE!"},{"$error":"#VALUE!"},{"$error":"#VALUE!"},{"$error":"#VALUE!"},{"$error":"#VALUE!"},{"$error":"#VALUE!"},{"$error":"#VALUE!"},{"$error":"#VALUE!"},{"$error":"#VALUE!"},{"$error":"#VALUE!"},{"$error":"#VALUE!"},{"$error":"#VALUE!"},{"$error":"#VALUE!"},{"$error":"#VALUE!"},{"$error":"#VALUE!"},{"$error":"#VALUE!"},{"$error":"#VALUE!"},{"$error":"#VALUE!"},{"$error":"#VALUE!"},{"$error":"#VALUE!"},{"$error":"#VALUE!"},{"$error":"#VALUE!"},{"$error":"#VALUE!"},{"$error":"#VALUE!"},{"$error":"#VALUE!"},{"$error":"#VALUE!"},{"$error":"#VALUE!"},{"$error":"#VALUE!"},{"$error":"#VALUE!"},{"$error":"#VALUE!"},{"$error":"#VALUE!"},{"$error":"#VALUE!"},{"$error":"#VALUE!"},{"$error":"#VALUE!"},{"$error":"#VALUE!"},{"$error":"#VALUE!"}]
[null,null,null,{"$f":"LEFT(RIGHT(D126,LEN(D126)-7))","v":{"$error":"#VALUE!"}},{"$f":"LEFT(RIGHT(E126,LEN(E126)-7))","v":{"$error":"#VALUE!"}},{"$error":"#VALUE!"},{"$error":"#VALUE!"},{"$error":"#VALUE!"},{"$error":"#VALUE!"},{"$error":"#VALUE!"},{"$error":"#VALUE!"},{"$error":"#VALUE!"},{"$error":"#VALUE!"},{"$error":"#VALUE!"},{"$error":"#VALUE!"},{"$error":"#VALUE!"},{"$error":"#VALUE!"},{"$error":"#VALUE!"},{"$error":"#VALUE!"},{"$error":"#VALUE!"},{"$error":"#VALUE!"},{"$error":"#VALUE!"},{"$error":"#VALUE!"},{"$error":"#VALUE!"},{"$error":"#VALUE!"},{"$error":"#VALUE!"},{"$error":"#VALUE!"},{"$error":"#VALUE!"},{"$error":"#VALUE!"},{"$error":"#VALUE!"},{"$error":"#VALUE!"},{"$error":"#VALUE!"},{"$error":"#VALUE!"},{"$error":"#VALUE!"},{"$error":"#VALUE!"},{"$error":"#VALUE!"},{"$error":"#VALUE!"},{"$error":"#VALUE!"},{"$error":"#VALUE!"},{"$error":"#VALUE!"},{"$error":"#VALUE!"},{"$error":"#VALUE!"},{"$error":"#VALUE!"},{"$error":"#VALUE!"},{"$error":"#VALUE!"},{"$error":"#VALUE!"},{"$error":"#VALUE!"},{"$error":"#VALUE!"},{"$error":"#VALUE!"},{"$error":"#VALUE!"},{"$error":"#VALUE!"},{"$error":"#VALUE!"},{"$error":"#VALUE!"},{"$error":"#VALUE!"},{"$error":"#VALUE!"},{"$error":"#VALUE!"},{"$error":"#VALUE!"},{"$error":"#VALUE!"},{"$error":"#VALUE!"}]
[null,null,null,{"$f":"LEFT(RIGHT(D126,LEN(D126)-8))","v":{"$error":"#VALUE!"}},{"$f":"LEFT(RIGHT(E126,LEN(E126)-8))","v":{"$error":"#VALUE!"}},{"$error":"#VALUE!"},{"$error":"#VALUE!"},{"$error":"#VALUE!"},{"$error":"#VALUE!"},{"$error":"#VALUE!"},{"$error":"#VALUE!"},{"$error":"#VALUE!"},{"$error":"#VALUE!"},{"$error":"#VALUE!"},{"$error":"#VALUE!"},{"$error":"#VALUE!"},{"$error":"#VALUE!"},{"$error":"#VALUE!"},{"$error":"#VALUE!"},{"$error":"#VALUE!"},{"$error":"#VALUE!"},{"$error":"#VALUE!"},{"$error":"#VALUE!"},{"$error":"#VALUE!"},{"$error":"#VALUE!"},{"$error":"#VALUE!"},{"$error":"#VALUE!"},{"$error":"#VALUE!"},{"$error":"#VALUE!"},{"$error":"#VALUE!"},{"$error":"#VALUE!"},{"$error":"#VALUE!"},{"$error":"#VALUE!"},{"$error":"#VALUE!"},{"$error":"#VALUE!"},{"$error":"#VALUE!"},{"$error":"#VALUE!"},{"$error":"#VALUE!"},{"$error":"#VALUE!"},{"$error":"#VALUE!"},{"$error":"#VALUE!"},{"$error":"#VALUE!"},{"$error":"#VALUE!"},{"$error":"#VALUE!"},{"$error":"#VALUE!"},{"$error":"#VALUE!"},{"$error":"#VALUE!"},{"$error":"#VALUE!"},{"$error":"#VALUE!"},{"$error":"#VALUE!"},{"$error":"#VALUE!"},{"$error":"#VALUE!"},{"$error":"#VALUE!"},{"$error":"#VALUE!"},{"$error":"#VALUE!"},{"$error":"#VALUE!"},{"$error":"#VALUE!"},{"$error":"#VALUE!"},{"$error":"#VALUE!"}]
[null,null,null,{"$f":"LEFT(RIGHT(D126,LEN(D126)-9))","v":{"$error":"#VALUE!"}},{"$f":"LEFT(RIGHT(E126,LEN(E126)-9))","v":{"$error":"#VALUE!"}},{"$error":"#VALUE!"},{"$error":"#VALUE!"},{"$error":"#VALUE!"},{"$error":"#VALUE!"},{"$error":"#VALUE!"},{"$error":"#VALUE!"},{"$error":"#VALUE!"},{"$error":"#VALUE!"},{"$error":"#VALUE!"},{"$error":"#VALUE!"},{"$error":"#VALUE!"},{"$error":"#VALUE!"},{"$error":"#VALUE!"},{"$error":"#VALUE!"},{"$error":"#VALUE!"},{"$error":"#VALUE!"},{"$error":"#VALUE!"},{"$error":"#VALUE!"},{"$error":"#VALUE!"},{"$error":"#VALUE!"},{"$error":"#VALUE!"},{"$error":"#VALUE!"},{"$error":"#VALUE!"},{"$error":"#VALUE!"},{"$error":"#VALUE!"},{"$error":"#VALUE!"},{"$error":"#VALUE!"},{"$error":"#VALUE!"},{"$error":"#VALUE!"},{"$error":"#VALUE!"},{"$error":"#VALUE!"},{"$error":"#VALUE!"},{"$error":"#VALUE!"},{"$error":"#VALUE!"},{"$error":"#VALUE!"},{"$error":"#VALUE!"},{"$error":"#VALUE!"},{"$error":"#VALUE!"},{"$error":"#VALUE!"},{"$error":"#VALUE!"},{"$error":"#VALUE!"},{"$error":"#VALUE!"},{"$error":"#VALUE!"},{"$error":"#VALUE!"},{"$error":"#VALUE!"},{"$error":"#VALUE!"},{"$error":"#VALUE!"},{"$error":"#VALUE!"},{"$error":"#VALUE!"},{"$error":"#VALUE!"},{"$error":"#VALUE!"},{"$error":"#VALUE!"},{"$error":"#VALUE!"},{"$error":"#VALUE!"}]
[null,{"$f":"SUM(D137:BB137)","v":0},"# F's",{"$f":"COUNTIF(D127:D136,\"F\")","v":0},{"$f":"COUNTIF(E127:E136,\"F\")","v":0},0,0,0,0,0,0,0,0,0,0,0,0,0,0,0,0,0,0,0,0,0,0,0,0,0,0,0,0,0,0,0,0,0,0,0,0,0,0,0,0,0,0,0,0,0,0,0,0,0,0,0,0,0,0]
[null,{"$f":"SUM(D138:BB138)","v":0},"# T's",{"$f":"COUNTIF(D127:D136,\"T\")","v":0},{"$f":"COUNTIF(E127:E136,\"T\")","v":0},0,0,0,0,0,0,0,0,0,0,0,0,0,0,0,0,0,0,0,0,0,0,0,0,0,0,0,0,0,0,0,0,0,0,0,0,0,0,0,0,0,0,0,0,0,0,0,0,0,0,0,0,0,0]
[null,null,"foul points",{"$f":"IF(C140=\"odd\",-10*CEILING(D137/2,1),-10*FLOOR(D137/2,1))","v":0},{"$f":"IF(D140=\"odd\",-10*CEILING(E137/2,1),-10*FLOOR(E137/2,1))","v":0},0,0,0,0,0,0,0,0,0,0,0,0,0,0,0,0,0,0,0,0,0,0,0,0,0,0,0,0,0,0,0,0,0,0,0,0,0,0,0,0,0,0,0,0,0,0,0,0,0,0,0,0,0,0]
[null,null,"even",{"$f":"IF(SUM($D137:D137)/2=FLOOR(SUM($D137:D137)/2,1),\"even\",\"odd\")","v":"even"},{"$f":"IF(SUM($D137:E137)/2=FLOOR(SUM($D137:E137)/2,1),\"even\",\"odd\")","v":"even"},{"$f":"IF(SUM($D137:F137)/2=FLOOR(SUM($D137:F137)/2,1),\"even\",\"odd\")","v":"even"},{"$f":"IF(SUM($D137:G137)/2=FLOOR(SUM($D137:G137)/2,1),\"even\",\"odd\")","v":"even"},{"$f":"IF(SUM($D137:H137)/2=FLOOR(SUM($D137:H137)/2,1),\"even\",\"odd\")","v":"even"},{"$f":"IF(SUM($D137:I137)/2=FLOOR(SUM($D137:I137)/2,1),\"even\",\"odd\")","v":"even"},{"$f":"IF(SUM($D137:J137)/2=FLOOR(SUM($D137:J137)/2,1),\"even\",\"odd\")","v":"even"},{"$f":"IF(SUM($D137:K137)/2=FLOOR(SUM($D137:K137)/2,1),\"even\",\"odd\")","v":"even"},{"$f":"IF(SUM($D137:L137)/2=FLOOR(SUM($D137:L137)/2,1),\"even\",\"odd\")","v":"even"},{"$f":"IF(SUM($D137:M137)/2=FLOOR(SUM($D137:M137)/2,1),\"even\",\"odd\")","v":"even"},{"$f":"IF(SUM($D137:N137)/2=FLOOR(SUM($D137:N137)/2,1),\"even\",\"odd\")","v":"even"},{"$f":"IF(SUM($D137:O137)/2=FLOOR(SUM($D137:O137)/2,1),\"even\",\"odd\")","v":"even"},{"$f":"IF(SUM($D137:P137)/2=FLOOR(SUM($D137:P137)/2,1),\"even\",\"odd\")","v":"even"},{"$f":"IF(SUM($D137:Q137)/2=FLOOR(SUM($D137:Q137)/2,1),\"even\",\"odd\")","v":"even"},{"$f":"IF(SUM($D137:R137)/2=FLOOR(SUM($D137:R137)/2,1),\"even\",\"odd\")","v":"even"},{"$f":"IF(SUM($D137:S137)/2=FLOOR(SUM($D137:S137)/2,1),\"even\",\"odd\")","v":"even"},{"$f":"IF(SUM($D137:T137)/2=FLOOR(SUM($D137:T137)/2,1),\"even\",\"odd\")","v":"even"},{"$f":"IF(SUM($D137:U137)/2=FLOOR(SUM($D137:U137)/2,1),\"even\",\"odd\")","v":"even"},{"$f":"IF(SUM($D137:V137)/2=FLOOR(SUM($D137:V137)/2,1),\"even\",\"odd\")","v":"even"},{"$f":"IF(SUM($D137:W137)/2=FLOOR(SUM($D137:W137)/2,1),\"even\",\"odd\")","v":"even"},{"$f":"IF(SUM($D137:X137)/2=FLOOR(SUM($D137:X137)/2,1),\"even\",\"odd\")","v":"even"},{"$f":"IF(SUM($D137:Y137)/2=FLOOR(SUM($D137:Y137)/2,1),\"even\",\"odd\")","v":"even"},{"$f":"IF(SUM($D137:Z137)/2=FLOOR(SUM($D137:Z137)/2,1),\"even\",\"odd\")","v":"even"},{"$f":"IF(SUM($D137:AA137)/2=FLOOR(SUM($D137:AA137)/2,1),\"even\",\"odd\")","v":"even"},{"$f":"IF(SUM($D137:AB137)/2=FLOOR(SUM($D137:AB137)/2,1),\"even\",\"odd\")","v":"even"},{"$f":"IF(SUM($D137:AC137)/2=FLOOR(SUM($D137:AC137)/2,1),\"even\",\"odd\")","v":"even"},{"$f":"IF(SUM($D137:AD137)/2=FLOOR(SUM($D137:AD137)/2,1),\"even\",\"odd\")","v":"even"},{"$f":"IF(SUM($D137:AE137)/2=FLOOR(SUM($D137:AE137)/2,1),\"even\",\"odd\")","v":"even"},{"$f":"IF(SUM($D137:AF137)/2=FLOOR(SUM($D137:AF137)/2,1),\"even\",\"odd\")","v":"even"},{"$f":"IF(SUM($D137:AG137)/2=FLOOR(SUM($D137:AG137)/2,1),\"even\",\"odd\")","v":"even"},{"$f":"IF(SUM($D137:AH137)/2=FLOOR(SUM($D137:AH137)/2,1),\"even\",\"odd\")","v":"even"},{"$f":"IF(SUM($D137:AI137)/2=FLOOR(SUM($D137:AI137)/2,1),\"even\",\"odd\")","v":"even"},{"$f":"IF(SUM($D137:AJ137)/2=FLOOR(SUM($D137:AJ137)/2,1),\"even\",\"odd\")","v":"even"},{"$f":"IF(SUM($D137:AK137)/2=FLOOR(SUM($D137:AK137)/2,1),\"even\",\"odd\")","v":"even"},{"$f":"IF(SUM($D137:AL137)/2=FLOOR(SUM($D137:AL137)/2,1),\"even\",\"odd\")","v":"even"},{"$f":"IF(SUM($D137:AM137)/2=FLOOR(SUM($D137:AM137)/2,1),\"even\",\"odd\")","v":"even"},{"$f":"IF(SUM($D137:AN137)/2=FLOOR(SUM($D137:AN137)/2,1),\"even\",\"odd\")","v":"even"},{"$f":"IF(SUM($D137:AO137)/2=FLOOR(SUM($D137:AO137)/2,1),\"even\",\"odd\")","v":"even"},{"$f":"IF(SUM($D137:AP137)/2=FLOOR(SUM($D137:AP137)/2,1),\"even\",\"odd\")","v":"even"},{"$f":"IF(SUM($D137:AQ137)/2=FLOOR(SUM($D137:AQ137)/2,1),\"even\",\"odd\")","v":"even"},{"$f":"IF(SUM($D137:AR137)/2=FLOOR(SUM($D137:AR137)/2,1),\"even\",\"odd\")","v":"even"},{"$f":"IF(SUM($D137:AS137)/2=FLOOR(SUM($D137:AS137)/2,1),\"even\",\"odd\")","v":"even"},{"$f":"IF(SUM($D137:AT137)/2=FLOOR(SUM($D137:AT137)/2,1),\"even\",\"odd\")","v":"even"},{"$f":"IF(SUM($D137:AU137)/2=FLOOR(SUM($D137:AU137)/2,1),\"even\",\"odd\")","v":"even"},{"$f":"IF(SUM($D137:AV137)/2=FLOOR(SUM($D137:AV137)/2,1),\"even\",\"odd\")","v":"even"},{"$f":"IF(SUM($D137:AW137)/2=FLOOR(SUM($D137:AW137)/2,1),\"even\",\"odd\")","v":"even"},{"$f":"IF(SUM($D137:AX137)/2=FLOOR(SUM($D137:AX137)/2,1),\"even\",\"odd\")","v":"even"},{"$f":"IF(SUM($D137:AY137)/2=FLOOR(SUM($D137:AY137)/2,1),\"even\",\"odd\")","v":"even"},{"$f":"IF(SUM($D137:AZ137)/2=FLOOR(SUM($D137:AZ137)/2,1),\"even\",\"odd\")","v":"even"},{"$f":"IF(SUM($D137:BA137)/2=FLOOR(SUM($D137:BA137)/2,1),\"even\",\"odd\")","v":"even"},{"$f":"IF(SUM($D137:BB137)/2=FLOOR(SUM($D137:BB137)/2,1),\"even\",\"odd\")","v":"even"},{"$f":"IF(SUM($D137:BC137)/2=FLOOR(SUM($D137:BC137)/2,1),\"even\",\"odd\")","v":"even"},{"$f":"IF(SUM($D137:BD137)/2=FLOOR(SUM($D137:BD137)/2,1),\"even\",\"odd\")","v":"even"},{"$f":"IF(SUM($D137:BE137)/2=FLOOR(SUM($D137:BE137)/2,1),\"even\",\"odd\")","v":"even"},{"$f":"IF(SUM($D137:BF137)/2=FLOOR(SUM($D137:BF137)/2,1),\"even\",\"odd\")","v":"even"},{"$f":"IF(SUM($D137:BG137)/2=FLOOR(SUM($D137:BG137)/2,1),\"even\",\"odd\")","v":"even"}]

{"sheet":"TwoWayQuiz","index":5,"n_rows":126,"n_cols":215,"rows_kept":126,"cut":false,"hidden":false,"merged":[[11,3,12,30],[86,6,91,28]]}
[null,null,"Craig Hinz"]
[null,null,"Rick Morgan"]
[null,null,"Cindy Hatfield"]
[null,null,"Mona Blair"]
[null,null,"Matt Gutowsky"]
[null,null,"Nate Parker"]
[null,null,"Jim Benson"]
[null,null,"Miriam Benson"]
[null,null," "]
[null,null," "]
[null,"Quizmaster:"," "]
[null,"Sched. Start Time:"," ","Official WBQA Electronic Scoresheet"]
[null,"Event / Date:","Great Lakes 2014"]
[null,"Division / Room #"," "]
[null,null,null,{"$f":"IF(COUNTIF(D17:D21,\"\")+COUNTIF(D40:D44,\"\")+COUNTIF(D63:D67,\"\")=15,IF(E15<15,8,15),COUNTIF(D17:D21,\"\")+COUNTIF(D40:D44,\"\")+COUNTIF(D63:D67,\"\"))","v":8},8,8,8,{"$f":"IF(COUNTIF(H17:H21,\"\")+COUNTIF(H40:H44,\"\")+COUNTIF(H63:H67,\"\")=15,IF(N15<15,8,15),COUNTIF(H17:H21,\"\")+COUNTIF(H40:H44,\"\")+COUNTIF(H63:H67,\"\"))","v":14},{"$f":"IF(COUNTIF(I17:I21,\"\")+COUNTIF(I40:I44,\"\")+COUNTIF(I63:I67,\"\")=15,IF(O15<15,8,15),COUNTIF(I17:I21,\"\")+COUNTIF(I40:I44,\"\")+COUNTIF(I63:I67,\"\"))","v":15},15,15,15,15,15,15,15,15,15,15,15,{"$f":"IF(COUNTIF(U17:U21,\"\")+COUNTIF(U40:U44,\"\")+COUNTIF(U63:U67,\"\")=15,IF(V15<15,8,15),COUNTIF(U17:U21,\"\")+COUNTIF(U40:U44,\"\")+COUNTIF(U63:U67,\"\"))","v":15},{"$f":"COUNTIF(V17:V21,\"\")+COUNTIF(V40:V44,\"\")+COUNTIF(V63:V67,\"\")","v":15},{"$f":"COUNTIF(W17:W21,\"\")+COUNTIF(W40:W44,\"\")+COUNTIF(W63:W67,\"\")","v":15},15,15,15,15,15,15,15,15,15,15,15,15,15,15,15,15,15,15,15,15,15,15,15,15,15,15,15,15,15,15,15,15,15,15,15,15]
["Individual","Errors","Team Name",1,2,3,4,5,6,7,8,9,10,11,12,13,14,15,16,17,{"$f":"IF(T22+T45+T68<S45+S68+S22,\"17A\",\"\")","v":""},{"$f":"IF(U22+U45+U68<T45+T68+T22,\"17B\",\"\")","v":""},18,{"$f":"IF(W22+W45+W68<V45+V68+V22,\"18A\",\"\")","v":""},{"$f":"IF(X22+X45+X68<W45+W68+W22,\"18B\",\"\")","v":""},19,{"$f":"IF(Z22+Z45+Z68<Y45+Y68+Y22,\"19A\",\"\")","v":""},{"$f":"IF(AA22+AA45+AA68<Z45+Z68+Z22,\"19B\",\"\")","v":""},20,{"$f":"IF(AC107=\"\",\"\",AC107)","v":""},{"$f":"IF(AD107=\"\",\"\",AD107)","v":""},"","","","","","","","","","","","","","","","","","","","","","","","","","","",""]
[{"$f":"IF(MAX(D17:BG17)=30,90,COUNTIF(D17:BG17,20)*20)","v":0},{"$f":"COUNTIF(D17:BG17,\"E\")","v":0},"Quizzer #1",null,null,null,null,null,null,null,null,null,null,null,null,null,null,null,null,null,null,null,null,null,null,null,null,null,null,null,null,null,null,null,null,null,null,null,null,null,null,null,null,null,null,null,null,null,null,null,null,null,null,null,null,null,null,null,null,null,null,null,null,null,null,null,null,null,null,null,null,null,null,null,null,null,null,null,null,null,null,{"$f":"Sheet4!D17","v":20},{"$f":"Sheet4!E17","v":20},{"$f":"Sheet4!F17","v":20},{"$f":"Sheet4!G17","v":20},{"$f":"Sheet4!H17","v":20},{"$f":"Sheet4!I17","v":20},{"$f":"Sheet4!J17","v":20},{"$f":"Sheet4!K17","v":20},{"$f":"Sheet4!L17","v":20},{"$f":"Sheet4!M17","v":20},{"$f":"Sheet4!N17","v":20},{"$f":"Sheet4!O17","v":20},{"$f":"Sheet4!P17","v":20},{"$f":"Sheet4!Q17","v":20},{"$f":"Sheet4!R17","v":20},{"$f":"Sheet4!S17","v":20},{"$f":"Sheet4!T17","v":20},{"$f":"Sheet4!U17","v":20},{"$f":"Sheet4!V17","v":"."},{"$f":"Sheet4!W17","v":20},{"$f":"Sheet4!X17","v":10},{"$f":"Sheet4!Y17","v":"."},{"$f":"Sheet4!Z17","v":20},{"$f":"Sheet4!AA17","v":10},{"$f":"Sheet4!AB17","v":"."},{"$f":"Sheet4!AC17","v":20},{"$f":"Sheet4!AD17","v":10},{"$f":"Sheet4!AE17","v":10},{"$f":"Sheet4!AF17","v":10},{"$f":"Sheet4!AG17","v":10},{"$f":"Sheet4!AH17","v":10},{"$f":"Sheet4!AI17","v":10},{"$f":"Sheet4!AJ17","v":10},{"$f":"Sheet4!AK17","v":10},{"$f":"Sheet4!AL17","v":10},{"$f":"Sheet4!AM17","v":10},{"$f":"Sheet4!AN17","v":10},{"$f":"Sheet4!AO17","v":10},{"$f":"Sheet4!AP17","v":10},{"$f":"Sheet4!AQ17","v":10},{"$f":"Sheet4!AR17","v":10},{"$f":"Sheet4!AS17","v":10},{"$f":"Sheet4!AT17","v":10},{"$f":"Sheet4!AU17","v":10},{"$f":"Sheet4!AV17","v":10},{"$f":"Sheet4!AW17","v":10},{"$f":"Sheet4!AX17","v":10},{"$f":"Sheet4!AY17","v":10},{"$f":"Sheet4!AZ17","v":10},{"$f":"Sheet4!BA17","v":10},{"$f":"Sheet4!BB17","v":10},{"$f":"Sheet4!BC17","v":10},{"$f":"Sheet4!BD17","v":10},{"$f":"Sheet4!BE17","v":10},{"$f":"Sheet4!BF17","v":10},{"$f":"Sheet4!BG17","v":10},null,null,null,null,null,null,null,null,null,null,null,null,null,null,null,null,null,null,null,null,null,null,{"$f":"IF(CD17=\".\",\".\",D27)","v":"E"},{"$f":"IF(CE17=\".\",\".\",E27)","v":"E"},"E","E","E","E","E","E","E","E","E","E","E","E","E","E","E","E",".","E","A",".","E","A",".","E","A","A","A","A","A","A","A","A","A","A","A","A","A","A","A","A","A","A","A","A","A","A","A","A","A","A","A","A","A","A"]
[{"$f":"IF(MAX(D18:BG18)=30,90,COUNTIF(D18:BG18,20)*20)","v":0},{"$f":"COUNTIF(D18:BG18,\"E\")","v":0},"Quizzer #2",{"$f":"IF(D$17=\"\",\"\",IF(D$17=0,0,\"\"))","v":""},{"$f":"IF(E$17=\"\",\"\",IF(E$17=0,0,\"\"))","v":""},"","","","","","","","","","","","","","","",{"$f":"IF(U$17=\"\",\"\",IF(U$17=0,0,\"\"))","v":""},"","","","","","","","","","","","","","","",{"$f":"IF(AK$17=\"\",\"\",IF(AK$17=0,0,\"\"))","v":""},"","","","","","","","","","","","","","","",{"$f":"IF(BA$17=\"\",\"\",IF(BA$17=0,0,\"\"))","v":""},"","","","","","",null,null,null,null,null,null,null,null,null,null,null,null,null,null,null,null,null,null,null,null,null,null,{"$f":"Sheet4!D18","v":20},{"$f":"Sheet4!E18","v":20},{"$f":"Sheet4!F18","v":20},{"$f":"Sheet4!G18","v":20},{"$f":"Sheet4!H18","v":20},{"$f":"Sheet4!I18","v":20},{"$f":"Sheet4!J18","v":20},{"$f":"Sheet4!K18","v":20},{"$f":"Sheet4!L18","v":20},{"$f":"Sheet4!M18","v":20},{"$f":"Sheet4!N18","v":20},{"$f":"Sheet4!O18","v":20},{"$f":"Sheet4!P18","v":20},{"$f":"Sheet4!Q18","v":20},{"$f":"Sheet4!R18","v":20},{"$f":"Sheet4!S18","v":20},{"$f":"Sheet4!T18","v":20},{"$f":"Sheet4!U18","v":20},{"$f":"Sheet4!V18","v":"."},{"$f":"Sheet4!W18","v":20},{"$f":"Sheet4!X18","v":10},{"$f":"Sheet4!Y18","v":"."},{"$f":"Sheet4!Z18","v":20},{"$f":"Sheet4!AA18","v":10},{"$f":"Sheet4!AB18","v":"."},{"$f":"Sheet4!AC18","v":20},{"$f":"Sheet4!AD18","v":10},{"$f":"Sheet4!AE18","v":10},{"$f":"Sheet4!AF18","v":10},{"$f":"Sheet4!AG18","v":10},{"$f":"Sheet4!AH18","v":10},{"$f":"Sheet4!AI18","v":10},{"$f":"Sheet4!AJ18","v":10},{"$f":"Sheet4!AK18","v":10},{"$f":"Sheet4!AL18","v":10},{"$f":"Sheet4!AM18","v":10},{"$f":"Sheet4!AN18","v":10},{"$f":"Sheet4!AO18","v":10},{"$f":"Sheet4!AP18","v":10},{"$f":"Sheet4!AQ18","v":10},{"$f":"Sheet4!AR18","v":10},{"$f":"Sheet4!AS18","v":10},{"$f":"Sheet4!AT18","v":10},{"$f":"Sheet4!AU18","v":10},{"$f":"Sheet4!AV18","v":10},{"$f":"Sheet4!AW18","v":10},{"$f":"Sheet4!AX18","v":10},{"$f":"Sheet4!AY18","v":10},{"$f":"Sheet4!AZ18","v":10},{"$f":"Sheet4!BA18","v":10},{"$f":"Sheet4!BB18","v":10},{"$f":"Sheet4!BC18","v":10},{"$f":"Sheet4!BD18","v":10},{"$f":"Sheet4!BE18","v":10},{"$f":"Sheet4!BF18","v":10},{"$f":"Sheet4!BG18","v":10},null,null,null,null,null,null,null,null,null,null,null,null,null,null,null,null,null,null,null,null,null,null,{"$f":"IF(CD18=\".\",\".\",D27)","v":"E"},{"$f":"IF(CE18=\".\",\".\",E27)","v":"E"},"E","E","E","E","E","E","E","E","E","E","E","E","E","E","E","E",".","E","A",".","E","A",".","E","A","A","A","A","A","A","A","A","A","A","A","A","A","A","A","A","A","A","A","A","A","A","A","A","A","A","A","A","A","A"]
[0,{"$f":"COUNTIF(D19:BG19,\"E\")","v":0},"Quizzer #3",{"$f":"IF(D$17=\"\",\"\",IF(D$17=0,0,\"\"))","v":""},"","","","","","","","","","","","","","","","","","","","","","","","","","","","","","","","","","","","","","","","","","","","","","","","","","","","","","","",null,null,null,null,null,null,null,null,null,null,null,null,null,null,null,null,null,null,null,null,null,null,{"$f":"Sheet4!D19","v":20},{"$f":"Sheet4!E19","v":20},{"$f":"Sheet4!F19","v":20},{"$f":"Sheet4!G19","v":20},{"$f":"Sheet4!H19","v":20},{"$f":"Sheet4!I19","v":20},{"$f":"Sheet4!J19","v":20},{"$f":"Sheet4!K19","v":20},{"$f":"Sheet4!L19","v":20},{"$f":"Sheet4!M19","v":20},{"$f":"Sheet4!N19","v":20},{"$f":"Sheet4!O19","v":20},{"$f":"Sheet4!P19","v":20},{"$f":"Sheet4!Q19","v":20},{"$f":"Sheet4!R19","v":20},{"$f":"Sheet4!S19","v":20},{"$f":"Sheet4!T19","v":20},{"$f":"Sheet4!U19","v":20},{"$f":"Sheet4!V19","v":"."},{"$f":"Sheet4!W19","v":20},{"$f":"Sheet4!X19","v":10},{"$f":"Sheet4!Y19","v":"."},{"$f":"Sheet4!Z19","v":20},{"$f":"Sheet4!AA19","v":10},{"$f":"Sheet4!AB19","v":"."},{"$f":"Sheet4!AC19","v":20},{"$f":"Sheet4!AD19","v":10},{"$f":"Sheet4!AE19","v":10},{"$f":"Sheet4!AF19","v":10},{"$f":"Sheet4!AG19","v":10},{"$f":"Sheet4!AH19","v":10},{"$f":"Sheet4!AI19","v":10},{"$f":"Sheet4!AJ19","v":10},{"$f":"Sheet4!AK19","v":10},{"$f":"Sheet4!AL19","v":10},{"$f":"Sheet4!AM19","v":10},{"$f":"Sheet4!AN19","v":10},{"$f":"Sheet4!AO19","v":10},{"$f":"Sheet4!AP19","v":10},{"$f":"Sheet4!AQ19","v":10},{"$f":"Sheet4!AR19","v":10},{"$f":"Sheet4!AS19","v":10},{"$f":"Sheet4!AT19","v":10},{"$f":"Sheet4!AU19","v":10},{"$f":"Sheet4!AV19","v":10},{"$f":"Sheet4!AW19","v":10},{"$f":"Sheet4!AX19","v":10},{"$f":"Sheet4!AY19","v":10},{"$f":"Sheet4!AZ19","v":10},{"$f":"Sheet4!BA19","v":10},{"$f":"Sheet4!BB19","v":10},{"$f":"Sheet4!BC19","v":10},{"$f":"Sheet4!BD19","v":10},{"$f":"Sheet4!BE19","v":10},{"$f":"Sheet4!BF19","v":10},{"$f":"Sheet4!BG19","v":10},null,null,null,null,null,null,null,null,null,null,null,null,null,null,null,null,null,null,null,null,null,null,{"$f":"IF(CD19=\".\",\".\",D27)","v":"E"},{"$f":"IF(CE19=\".\",\".\",E27)","v":"E"},"E","E","E","E","E","E","E","E","E","E","E","E","E","E","E","E",".","E","A",".","E","A",".","E","A","A","A","A","A","A","A","A","A","A","A","A","A","A","A","A","A","A","A","A","A","A","A","A","A","A","A","A","A","A"]
[0,{"$f":"COUNTIF(D20:BG20,\"E\")","v":0},"Quizzer #4","","","","","","","","","","","","","","","","","","","","","","","","","","","","","","","","","","","","","","","","","","","","","","","","","","","","","","","","",null,null,null,null,null,null,null,null,null,null,null,null,null,null,null,null,null,null,null,null,null,null,{"$f":"Sheet4!D20","v":20},{"$f":"Sheet4!E20","v":20},{"$f":"Sheet4!F20","v":20},{"$f":"Sheet4!G20","v":20},{"$f":"Sheet4!H20","v":20},{"$f":"Sheet4!I20","v":20},{"$f":"Sheet4!J20","v":20},{"$f":"Sheet4!K20","v":20},{"$f":"Sheet4!L20","v":20},{"$f":"Sheet4!M20","v":20},{"$f":"Sheet4!N20","v":20},{"$f":"Sheet4!O20","v":20},{"$f":"Sheet4!P20","v":20},{"$f":"Sheet4!Q20","v":20},{"$f":"Sheet4!R20","v":20},{"$f":"Sheet4!S20","v":20},{"$f":"Sheet4!T20","v":20},{"$f":"Sheet4!U20","v":20},{"$f":"Sheet4!V20","v":"."},{"$f":"Sheet4!W20","v":20},{"$f":"Sheet4!X20","v":10},{"$f":"Sheet4!Y20","v":"."},{"$f":"Sheet4!Z20","v":20},{"$f":"Sheet4!AA20","v":10},{"$f":"Sheet4!AB20","v":"."},{"$f":"Sheet4!AC20","v":20},{"$f":"Sheet4!AD20","v":10},{"$f":"Sheet4!AE20","v":10},{"$f":"Sheet4!AF20","v":10},{"$f":"Sheet4!AG20","v":10},{"$f":"Sheet4!AH20","v":10},{"$f":"Sheet4!AI20","v":10},{"$f":"Sheet4!AJ20","v":10},{"$f":"Sheet4!AK20","v":10},{"$f":"Sheet4!AL20","v":10},{"$f":"Sheet4!AM20","v":10},{"$f":"Sheet4!AN20","v":10},{"$f":"Sheet4!AO20","v":10},{"$f":"Sheet4!AP20","v":10},{"$f":"Sheet4!AQ20","v":10},{"$f":"Sheet4!AR20","v":10},{"$f":"Sheet4!AS20","v":10},{"$f":"Sheet4!AT20","v":10},{"$f":"Sheet4!AU20","v":10},{"$f":"Sheet4!AV20","v":10},{"$f":"Sheet4!AW20","v":10},{"$f":"Sheet4!AX20","v":10},{"$f":"Sheet4!AY20","v":10},{"$f":"Sheet4!AZ20","v":10},{"$f":"Sheet4!BA20","v":10},{"$f":"Sheet4!BB20","v":10},{"$f":"Sheet4!BC20","v":10},{"$f":"Sheet4!BD20","v":10},{"$f":"Sheet4!BE20","v":10},{"$f":"Sheet4!BF20","v":10},{"$f":"Sheet4!BG20","v":10},null,null,null,null,null,null,null,null,null,null,null,null,null,null,null,null,null,null,null,null,null,null,{"$f":"IF(CD20=\".\",\".\",D27)","v":"E"},{"$f":"IF(CE20=\".\",\".\",E27)","v":"E"},"E","E","E","E","E","E","E","E","E","E","E","E","E","E","E","E",".","E","A",".","E","A",".","E","A","A","A","A","A","A","A","A","A","A","A","A","A","A","A","A","A","A","A","A","A","A","A","A","A","A","A","A","A","A"]
[0,{"$f":"COUNTIF(D21:BG21,\"E\")","v":0},{"$f":"IF(Scoresheet!C21=\"\",\"\",Scoresheet!C21)","v":" "},"","","","","","","","","","","","","","","","","","","","","","","","","","","","","","","","","","","","","","","","","","","","","","","","","","","","","","","","",null,null,null,null,null,null,null,null,null,null,null,null,null,null,null,null,null,null,null,null,null,null,{"$f":"Sheet4!D21","v":20},{"$f":"Sheet4!E21","v":20},{"$f":"Sheet4!F21","v":20},{"$f":"Sheet4!G21","v":20},{"$f":"Sheet4!H21","v":20},{"$f":"Sheet4!I21","v":20},{"$f":"Sheet4!J21","v":20},{"$f":"Sheet4!K21","v":20},{"$f":"Sheet4!L21","v":20},{"$f":"Sheet4!M21","v":20},{"$f":"Sheet4!N21","v":20},{"$f":"Sheet4!O21","v":20},{"$f":"Sheet4!P21","v":20},{"$f":"Sheet4!Q21","v":20},{"$f":"Sheet4!R21","v":20},{"$f":"Sheet4!S21","v":20},{"$f":"Sheet4!T21","v":20},{"$f":"Sheet4!U21","v":20},{"$f":"Sheet4!V21","v":"."},{"$f":"Sheet4!W21","v":20},{"$f":"Sheet4!X21","v":10},{"$f":"Sheet4!Y21","v":"."},{"$f":"Sheet4!Z21","v":20},{"$f":"Sheet4!AA21","v":10},{"$f":"Sheet4!AB21","v":"."},{"$f":"Sheet4!AC21","v":20},{"$f":"Sheet4!AD21","v":10},{"$f":"Sheet4!AE21","v":10},{"$f":"Sheet4!AF21","v":10},{"$f":"Sheet4!AG21","v":10},{"$f":"Sheet4!AH21","v":10},{"$f":"Sheet4!AI21","v":10},{"$f":"Sheet4!AJ21","v":10},{"$f":"Sheet4!AK21","v":10},{"$f":"Sheet4!AL21","v":10},{"$f":"Sheet4!AM21","v":10},{"$f":"Sheet4!AN21","v":10},{"$f":"Sheet4!AO21","v":10},{"$f":"Sheet4!AP21","v":10},{"$f":"Sheet4!AQ21","v":10},{"$f":"Sheet4!AR21","v":10},{"$f":"Sheet4!AS21","v":10},{"$f":"Sheet4!AT21","v":10},{"$f":"Sheet4!AU21","v":10},{"$f":"Sheet4!AV21","v":10},{"$f":"Sheet4!AW21","v":10},{"$f":"Sheet4!AX21","v":10},{"$f":"Sheet4!AY21","v":10},{"$f":"Sheet4!AZ21","v":10},{"$f":"Sheet4!BA21","v":10},{"$f":"Sheet4!BB21","v":10},{"$f":"Sheet4!BC21","v":10},{"$f":"Sheet4!BD21","v":10},{"$f":"Sheet4!BE21","v":10},{"$f":"Sheet4!BF21","v":10},{"$f":"Sheet4!BG21","v":10},null,null,null,null,null,null,null,null,null,null,null,null,null,null,null,null,null,null,null,null,null,null,{"$f":"IF(CD21=\".\",\".\",D27)","v":"E"},{"$f":"IF(CE21=\".\",\".\",E27)","v":"E"},"E","E","E","E","E","E","E","E","E","E","E","E","E","E","E","E",".","E","A",".","E","A",".","E","A","A","A","A","A","A","A","A","A","A","A","A","A","A","A","A","A","A","A","A","A","A","A","A","A","A","A","A","A","A"]
[{"$f":"ROUND(BG22,0)","v":0},{"$f":"B24","v":0},0.25,{"$f":"SUM(D17:D21)+D29+0.25","v":0.25},{"$f":"D22+SUM(E17:E21)+E29","v":0.25},{"$f":"E22+SUM(F17:F21)+F29+F36","v":0.25},{"$f":"F22+SUM(G17:G21)+G29+G36","v":0.25},{"$f":"G22+SUM(H17:H21)+H29+H36","v":0.25},{"$f":"H22+SUM(I17:I21)+I29+I36","v":0.25},0.25,0.25,0.25,0.25,0.25,0.25,0.25,0.25,0.25,0.25,0.25,0.25,0.25,0.25,0.25,0.25,0.25,0.25,0.25,0.25,0.25,0.25,0.25,0.25,0.25,0.25,0.25,0.25,0.25,0.25,0.25,0.25,0.25,0.25,0.25,0.25,0.25,0.25,0.25,0.25,0.25,0.25,0.25,0.25,0.25,0.25,0.25,0.25,0.25,0.25]
["Team Total","Olympic Pts.",{"$f":"IF(Sheet4!B91=0,IF(Sheet4!B92=0,Sheet4!C80,Sheet4!C81),IF(Sheet4!B92=0,Sheet4!C83,Sheet4!C82))","v":"Timeout = T, Foul = F ------------>"},null,null,null,null,null,null,null,null,null,null,null,null,null,null,null,null,null,null,null,null,null,null,null,null,null,null,null,null,null,null,null,null,null,null,null,null,null,null,null,null,null,null,null,null,null,null,null,null,null,null,null,null,null,null,null,null,null,null,null,null,null,null,null,null,null,null,null,null,null,null,null,null,null,null,null,null,null,null,{"$f":"CD17","v":20},{"$f":"CE17","v":20},20,20,20,20,20,20,20,20,20,20,20,20,20,20,20,20,".",20,10,".",20,10,".",20,10,10,10,10,10,10,10,10,10,10,10,10,10,10,10,10,10,10,10,10,10,10,10,10,10,10,10,10,10,10]
[null,{"$f":"AB124","v":0},"Devoted",null,{"$f":"COUNTIF(D17:D21,\"E\")","v":0},{"$f":"COUNTIF(D17:E21,\"E\")","v":0},{"$f":"COUNTIF(E17:F21,\"E\")","v":0},{"$f":"COUNTIF(F17:G21,\"E\")","v":0},0,0,0,0,0,0,0,0,0,0,0,0,0,0,0,0,0,0,0,0,0,0,0,0,0,0,0,0,0,0,0,0,0,0,0,0,0,0,0,0,0,0,0,0,0,0,0,0,0,0,0,null,null,null,null,null,null,null,null,null,null,null,null,null,null,null,null,null,null,null,null,null,null,{"$f":"FD17","v":"E"},{"$f":"FE17","v":"E"},"E","E","E","E","E","E","E","E","E","E","E","E","E","E","E","E",".","E","A",".","E","A",".","E","A","A","A","A","A","A","A","A","A","A","A","A","A","A","A","A","A","A","A","A","A","A","A","A","A","A","A","A","A","A"]
[null,0,"Harrisburg BIC",null,{"$f":"COUNTIF(D17:D21,\"E\")","v":0},{"$f":"COUNTIF(E17:E21,\"E\")","v":0},{"$f":"COUNTIF(F17:F21,\"E\")","v":0},{"$f":"COUNTIF(G17:G21,\"E\")","v":0},0,0,0,0,0,0,0,0,0,0,0,0,0,0,0,0,0,0,0,0,0,0,0,0,0,0,0,0,0,0,0,0,0,0,0,0,0,0,0,0,0,0,0,0,0,0,0,0,0,0,0,null,null,null,null,null,null,null,null,null,null,null,null,null,null,null,null,null,null,null,null,null,null,0,0,0,0,0,0,0,0,0,0,0,0,0,0,0,0,0,0,0,0,0,0,0,0,0,0,0,0,0,0,0,0,0,0,0,0,0,0,0,0,0,0,0,0,0,0,0,0,0,0,0,0,0,0,0,0]
[null,{"$f":"IF(BG35>=3,2,0)","v":0},"Ministering Spirits",20,{"$f":"IF(E25=1,\".\",20)","v":20},{"$f":"IF(F50=\"A\",\".\",IF(F73=\"A\",\".\",IF(F25=1,\".\",IF(SUM(F47,F70)<2,20,10))))","v":20},20,20,{"$f":"IF(I50=\"A\",\".\",IF(I73=\"A\",\".\",IF(I25=1,\".\",IF(I48=0,20,10))))","v":20},{"$f":"IF(J50=\"A\",\".\",IF(J73=\"A\",\".\",IF(J25=1,\".\",IF(J48=0,20,10))))","v":20},20,20,20,20,20,20,20,20,20,20,20,".",20,{"$f":"IF(COUNTIF(V17:W20,\"\")<8,\">\",10)","v":10},".",20,{"$f":"IF(COUNTIF(Y17:Z20,\"\")<8,\">\",10)","v":10},".",20,{"$f":"AD110","v":10},10,10,10,10,10,10,10,10,10,10,10,10,10,10,10,10,10,10,10,10,10,10,10,10,10,10,10,10,10]
[null,{"$f":"IF(B26=2,0,IF(B24+B25=10,IF(A22>=130,1,0),IF(B24+B25=5,IF(A22>=100,1,0),IF(A22>=70,1,0))))","v":0},"Not be Shaken","E",{"$f":"IF(E25=1,\".\",\"E\")","v":"E"},{"$f":"IF(F26=\".\",\".\",IF(SUM(F47,F70)<2,\"E\",\"A\"))","v":"E"},"E","E",{"$f":"IF(I26=\".\",\".\",IF(I48=0,\"E\",\"A\"))","v":"E"},{"$f":"IF(J26=\".\",\".\",IF(J48=0,\"E\",\"A\"))","v":"E"},"E","E","E","E","E","E","E","E","E","E","E",{"$f":"IF(V26=10,\"A\",\".\")","v":"."},"E",{"$f":"IF(X26=10,\"A\",\".\")","v":"A"},{"$f":"IF(Y26=10,\"A\",\".\")","v":"."},"E",{"$f":"IF(AA26=10,\"A\",\".\")","v":"A"},{"$f":"IF(AB26=10,\"A\",\".\")","v":"."},"E","A","A","A","A","A","A","A","A","A","A","A","A","A","A","A","A","A","A","A","A","A","A","A","A","A","A","A","A","A","A",null,null,null,null,null,null,null,null,null,null,null,null,null,null,null,null,null,null,null,null,null,null,{"$f":"CD18","v":20},{"$f":"CE18","v":20},20,20,20,20,20,20,20,20,20,20,20,20,20,20,20,20,".",20,10,".",20,10,".",20,10,10,10,10,10,10,10,10,10,10,10,10,10,10,10,10,10,10,10,10,10,10,10,10,10,10,10,10,10,10]
[null,null,"The Witnesses",{"$f":"IF(D15=15,\".\",IF(D15=0,0,\"\"))","v":""},{"$f":"IF(E15=15,\".\",IF(E15=0,0,\"\"))","v":""},"","","",".",".",".",".",".",".",".",".",".",".",".",".",{"$f":"IF(U15=0,0,IF(U$84=0,\".\",\"\"))","v":"."},{"$f":"IF(V15=0,0,IF(V$84=0,\".\",\"\"))","v":"."},{"$f":"IF(W15=15,\".\",IF(W15=0,0,\"\"))","v":"."},{"$f":"IF(X15=0,0,IF(X$84=0,\".\",\"\"))","v":"."},{"$f":"IF(Y15=0,0,IF(Y$84=0,\".\",\"\"))","v":"."},{"$f":"IF(Z15=15,\".\",IF(Z15=0,0,\"\"))","v":"."},{"$f":"IF(AA15=0,0,IF(AA$84=0,\".\",\"\"))","v":"."},{"$f":"IF(AB15=0,0,IF(AB$84=0,\".\",\"\"))","v":"."},{"$f":"IF(AC15=15,\".\",IF(AC15=0,0,\"\"))","v":"."},{"$f":"IF(AD15=15,\".\",IF(AD15=0,0,\"\"))","v":"."},".",".",".",".",".",".",".",".",".",".",".",".",".",".",".",".",".",".",".",".",".",".",".",".",".",".",".",".",".",null,null,null,null,null,null,null,null,null,null,null,null,null,null,null,null,null,null,null,null,null,null,{"$f":"FD18","v":"E"},{"$f":"FE18","v":"E"},"E","E","E","E","E","E","E","E","E","E","E","E","E","E","E","E",".","E","A",".","E","A",".","E","A","A","A","A","A","A","A","A","A","A","A","A","A","A","A","A","A","A","A","A","A","A","A","A","A","A","A","A","A","A"]
[null,null,"With Boldness",{"$f":"Sheet4!D93+IF(E25=0,0,-0.01)","v":0},{"$f":"Sheet4!E93+IF(F25=0,0,-0.01)","v":0},{"$f":"Sheet4!F93+IF(G25=0,0,-0.01)","v":0},{"$f":"Sheet4!G93+IF(H25=0,0,-0.01)","v":0},{"$f":"Sheet4!H93+IF(I25=0,0,IF(SUM($E25:I25)<3,-0.01,IF(SUM($E25:I25)>3,-10,IF(MAX(Sheet4!H23:H27)=3,-10,-0.01))))","v":0},{"$f":"Sheet4!I93+IF(J25=0,0,IF(SUM($E25:J25)<3,-0.01,IF(SUM($E25:J25)>3,-10,IF(MAX(Sheet4!I23:I27)=3,-10,-0.01))))","v":0},{"$f":"Sheet4!J93+IF(K25=0,0,IF(SUM($E25:K25)<3,-0.01,IF(SUM($E25:K25)>3,-10,IF(MAX(Sheet4!J23:J27)=3,-10,-0.01))))","v":0},{"$f":"Sheet4!K93+IF(L25=0,0,IF(SUM($E25:L25)<3,-0.01,IF(SUM($E25:L25)>3,-10,IF(MAX(Sheet4!K23:K27)=3,-10,-0.01))))","v":0},{"$f":"Sheet4!L93+IF(M25=0,0,IF(SUM($E25:M25)<3,-0.01,IF(SUM($E25:M25)>3,-10,IF(MAX(Sheet4!L23:L27)=3,-10,-0.01))))","v":0},{"$f":"Sheet4!M93+IF(N25=0,0,IF(SUM($E25:N25)<3,-0.01,IF(SUM($E25:N25)>3,-10,IF(MAX(Sheet4!M23:M27)=3,-10,-0.01))))","v":0},{"$f":"Sheet4!N93+IF(O25=0,0,IF(SUM($E25:O25)<3,-0.01,IF(SUM($E25:O25)>3,-10,IF(MAX(Sheet4!N23:N27)=3,-10,-0.01))))","v":0},{"$f":"Sheet4!O93+IF(P25=0,0,IF(SUM($E25:P25)<3,-0.01,IF(SUM($E25:P25)>3,-10,IF(MAX(Sheet4!O23:O27)=3,-10,-0.01))))","v":0},{"$f":"Sheet4!P93+IF(Q25=0,0,IF(SUM($E25:Q25)<3,-0.01,IF(SUM($E25:Q25)>3,-10,IF(MAX(Sheet4!P23:P27)=3,-10,-0.01))))","v":0},{"$f":"Sheet4!Q93+IF(R25=0,0,IF(SUM($E25:R25)<3,-0.01,IF(SUM($E25:R25)>3,-10,IF(MAX(Sheet4!Q23:Q27)=3,-10,-0.01))))","v":0},{"$f":"Sheet4!R93+IF(S25=0,0,IF(SUM($E25:S25)<3,-0.01,IF(SUM($E25:S25)>3,-10,IF(MAX(Sheet4!R23:R27)=3,-10,-0.01))))","v":0},{"$f":"Sheet4!S93+IF(T25=1,-10,0)","v":0},{"$f":"Sheet4!T93+IF(U25=1,-10,0)","v":0},{"$f":"Sheet4!U93+IF(V25=1,-10,0)","v":0},{"$f":"Sheet4!V93","v":0},{"$f":"Sheet4!W93+IF(X25=1,-10,0)","v":0},{"$f":"Sheet4!X93+IF(Y25=1,-10,0)","v":0},{"$f":"Sheet4!Y93","v":0},{"$f":"Sheet4!Z93+IF(AA25=1,-10,0)","v":0},{"$f":"Sheet4!AA93+IF(AB25=1,-10,0)","v":0},{"$f":"Sheet4!AB93","v":0},{"$f":"Sheet4!AC93+IF(AD25=1,-10,0)","v":0},{"$f":"Sheet4!AD93+IF(AE25=1,-10,0)","v":0},{"$f":"Sheet4!AE93+IF(AF25=1,-10,0)","v":0},{"$f":"Sheet4!AF93+IF(AG25=1,-10,0)","v":0},{"$f":"Sheet4!AG93+IF(AH25=1,-10,0)","v":0},{"$f":"Sheet4!AH93+IF(AI25=1,-10,0)","v":0},{"$f":"Sheet4!AI93+IF(AJ25=1,-10,0)","v":0},{"$f":"Sheet4!AJ93+IF(AK25=1,-10,0)","v":0},{"$f":"Sheet4!AK93+IF(AL25=1,-10,0)","v":0},{"$f":"Sheet4!AL93+IF(AM25=1,-10,0)","v":0},{"$f":"Sheet4!AM93+IF(AN25=1,-10,0)","v":0},{"$f":"Sheet4!AN93+IF(AO25=1,-10,0)","v":0},{"$f":"Sheet4!AO93+IF(AP25=1,-10,0)","v":0},{"$f":"Sheet4!AP93+IF(AQ25=1,-10,0)","v":0},{"$f":"Sheet4!AQ93+IF(AR25=1,-10,0)","v":0},{"$f":"Sheet4!AR93+IF(AS25=1,-10,0)","v":0},{"$f":"Sheet4!AS93+IF(AT25=1,-10,0)","v":0},{"$f":"Sheet4!AT93+IF(AU25=1,-10,0)","v":0},{"$f":"Sheet4!AU93+IF(AV25=1,-10,0)","v":0},{"$f":"Sheet4!AV93+IF(AW25=1,-10,0)","v":0},{"$f":"Sheet4!AW93+IF(AX25=1,-10,0)","v":0},{"$f":"Sheet4!AX93+IF(AY25=1,-10,0)","v":0},{"$f":"Sheet4!AY93+IF(AZ25=1,-10,0)","v":0},{"$f":"Sheet4!AZ93+IF(BA25=1,-10,0)","v":0},{"$f":"Sheet4!BA93+IF(BB25=1,-10,0)","v":0},{"$f":"Sheet4!BB93+IF(BC25=1,-10,0)","v":0},{"$f":"Sheet4!BC93+IF(BD25=1,-10,0)","v":0},{"$f":"Sheet4!BD93+IF(BE25=1,-10,0)","v":0},{"$f":"Sheet4!BE93+IF(BF25=1,-10,0)","v":0},{"$f":"Sheet4!BF93+IF(BG25=1,-10,0)","v":0},{"$f":"Sheet4!BG93+IF(BH25=1,-10,0)","v":0}]
[null,null,"DBQ Lions",null,null,{"$f":"IF(COUNTIF($D17:F17,20)>=1,1,0)","v":0},{"$f":"IF(COUNTIF($D17:G17,20)>=1,1,0)","v":0},{"$f":"IF(COUNTIF($D17:H17,20)>=1,1,0)","v":0},{"$f":"IF(COUNTIF($D17:I17,20)>=1,1,0)","v":0},{"$f":"IF(COUNTIF($D17:J17,20)>=1,1,0)","v":0},{"$f":"IF(COUNTIF($D17:K17,20)>=1,1,0)","v":0},{"$f":"IF(COUNTIF($D17:L17,20)>=1,1,0)","v":0},{"$f":"IF(COUNTIF($D17:M17,20)>=1,1,0)","v":0},{"$f":"IF(COUNTIF($D17:N17,20)>=1,1,0)","v":0},{"$f":"IF(COUNTIF($D17:O17,20)>=1,1,0)","v":0},{"$f":"IF(COUNTIF($D17:P17,20)>=1,1,0)","v":0},{"$f":"IF(COUNTIF($D17:Q17,20)>=1,1,0)","v":0},{"$f":"IF(COUNTIF($D17:R17,20)>=1,1,0)","v":0},{"$f":"IF(COUNTIF($D17:S17,20)>=1,1,0)","v":0},{"$f":"IF(COUNTIF($D17:T17,20)>=1,1,0)","v":0},{"$f":"IF(COUNTIF($D17:U17,20)>=1,1,0)","v":0},{"$f":"IF(COUNTIF($D17:V17,20)>=1,1,0)","v":0},{"$f":"IF(COUNTIF($D17:W17,20)>=1,1,0)","v":0},{"$f":"IF(COUNTIF($D17:X17,20)>=1,1,0)","v":0},{"$f":"IF(COUNTIF($D17:Y17,20)>=1,1,0)","v":0},{"$f":"IF(COUNTIF($D17:Z17,20)>=1,1,0)","v":0},{"$f":"IF(COUNTIF($D17:AA17,20)>=1,1,0)","v":0},{"$f":"IF(COUNTIF($D17:AB17,20)>=1,1,0)","v":0},{"$f":"IF(COUNTIF($D17:AC17,20)>=1,1,0)","v":0},{"$f":"IF(COUNTIF($D17:AD17,20)>=1,1,0)","v":0},{"$f":"IF(COUNTIF($D17:AE17,20)>=1,1,0)","v":0},{"$f":"IF(COUNTIF($D17:AF17,20)>=1,1,0)","v":0},{"$f":"IF(COUNTIF($D17:AG17,20)>=1,1,0)","v":0},{"$f":"IF(COUNTIF($D17:AH17,20)>=1,1,0)","v":0},{"$f":"IF(COUNTIF($D17:AI17,20)>=1,1,0)","v":0},{"$f":"IF(COUNTIF($D17:AJ17,20)>=1,1,0)","v":0},{"$f":"IF(COUNTIF($D17:AK17,20)>=1,1,0)","v":0},{"$f":"IF(COUNTIF($D17:AL17,20)>=1,1,0)","v":0},{"$f":"IF(COUNTIF($D17:AM17,20)>=1,1,0)","v":0},{"$f":"IF(COUNTIF($D17:AN17,20)>=1,1,0)","v":0},{"$f":"IF(COUNTIF($D17:AO17,20)>=1,1,0)","v":0},{"$f":"IF(COUNTIF($D17:AP17,20)>=1,1,0)","v":0},{"$f":"IF(COUNTIF($D17:AQ17,20)>=1,1,0)","v":0},{"$f":"IF(COUNTIF($D17:AR17,20)>=1,1,0)","v":0},{"$f":"IF(COUNTIF($D17:AS17,20)>=1,1,0)","v":0},{"$f":"IF(COUNTIF($D17:AT17,20)>=1,1,0)","v":0},{"$f":"IF(COUNTIF($D17:AU17,20)>=1,1,0)","v":0},{"$f":"IF(COUNTIF($D17:AV17,20)>=1,1,0)","v":0},{"$f":"IF(COUNTIF($D17:AW17,20)>=1,1,0)","v":0},{"$f":"IF(COUNTIF($D17:AX17,20)>=1,1,0)","v":0},{"$f":"IF(COUNTIF($D17:AY17,20)>=1,1,0)","v":0},{"$f":"IF(COUNTIF($D17:AZ17,20)>=1,1,0)","v":0},{"$f":"IF(COUNTIF($D17:BA17,20)>=1,1,0)","v":0},{"$f":"IF(COUNTIF($D17:BB17,20)>=1,1,0)","v":0},{"$f":"IF(COUNTIF($D17:BC17,20)>=1,1,0)","v":0},{"$f":"IF(COUNTIF($D17:BD17,20)>=1,1,0)","v":0},{"$f":"IF(COUNTIF($D17:BE17,20)>=1,1,0)","v":0},{"$f":"IF(COUNTIF($D17:BF17,20)>=1,1,0)","v":0},{"$f":"IF(COUNTIF($D17:BG17,20)>=1,1,0)","v":0},null,null,null,null,null,null,null,null,null,null,null,null,null,null,null,null,null,null,null,null,null,null,{"$f":"CD19","v":20},{"$f":"CE19","v":20},20,20,20,20,20,20,20,20,20,20,20,20,20,20,20,20,".",20,10,".",20,10,".",20,10,10,10,10,10,10,10,10,10,10,10,10,10,10,10,10,10,10,10,10,10,10,10,10,10,10,10,10,10,10]
[null,null,"DBQ Red Wings",null,null,{"$f":"IF(COUNTIF($D18:F18,20)>=1,1,0)","v":0},{"$f":"IF(COUNTIF($D18:G18,20)>=1,1,0)","v":0},{"$f":"IF(COUNTIF($D18:H18,20)>=1,1,0)","v":0},{"$f":"IF(COUNTIF($D18:I18,20)>=1,1,0)","v":0},{"$f":"IF(COUNTIF($D18:J18,20)>=1,1,0)","v":0},{"$f":"IF(COUNTIF($D18:K18,20)>=1,1,0)","v":0},{"$f":"IF(COUNTIF($D18:L18,20)>=1,1,0)","v":0},{"$f":"IF(COUNTIF($D18:M18,20)>=1,1,0)","v":0},{"$f":"IF(COUNTIF($D18:N18,20)>=1,1,0)","v":0},{"$f":"IF(COUNTIF($D18:O18,20)>=1,1,0)","v":0},{"$f":"IF(COUNTIF($D18:P18,20)>=1,1,0)","v":0},{"$f":"IF(COUNTIF($D18:Q18,20)>=1,1,0)","v":0},{"$f":"IF(COUNTIF($D18:R18,20)>=1,1,0)","v":0},{"$f":"IF(COUNTIF($D18:S18,20)>=1,1,0)","v":0},{"$f":"IF(COUNTIF($D18:T18,20)>=1,1,0)","v":0},{"$f":"IF(COUNTIF($D18:U18,20)>=1,1,0)","v":0},{"$f":"IF(COUNTIF($D18:V18,20)>=1,1,0)","v":0},{"$f":"IF(COUNTIF($D18:W18,20)>=1,1,0)","v":0},{"$f":"IF(COUNTIF($D18:X18,20)>=1,1,0)","v":0},{"$f":"IF(COUNTIF($D18:Y18,20)>=1,1,0)","v":0},{"$f":"IF(COUNTIF($D18:Z18,20)>=1,1,0)","v":0},{"$f":"IF(COUNTIF($D18:AA18,20)>=1,1,0)","v":0},{"$f":"IF(COUNTIF($D18:AB18,20)>=1,1,0)","v":0},{"$f":"IF(COUNTIF($D18:AC18,20)>=1,1,0)","v":0},{"$f":"IF(COUNTIF($D18:AD18,20)>=1,1,0)","v":0},{"$f":"IF(COUNTIF($D18:AE18,20)>=1,1,0)","v":0},{"$f":"IF(COUNTIF($D18:AF18,20)>=1,1,0)","v":0},{"$f":"IF(COUNTIF($D18:AG18,20)>=1,1,0)","v":0},{"$f":"IF(COUNTIF($D18:AH18,20)>=1,1,0)","v":0},{"$f":"IF(COUNTIF($D18:AI18,20)>=1,1,0)","v":0},{"$f":"IF(COUNTIF($D18:AJ18,20)>=1,1,0)","v":0},{"$f":"IF(COUNTIF($D18:AK18,20)>=1,1,0)","v":0},{"$f":"IF(COUNTIF($D18:AL18,20)>=1,1,0)","v":0},{"$f":"IF(COUNTIF($D18:AM18,20)>=1,1,0)","v":0},{"$f":"IF(COUNTIF($D18:AN18,20)>=1,1,0)","v":0},{"$f":"IF(COUNTIF($D18:AO18,20)>=1,1,0)","v":0},{"$f":"IF(COUNTIF($D18:AP18,20)>=1,1,0)","v":0},{"$f":"IF(COUNTIF($D18:AQ18,20)>=1,1,0)","v":0},{"$f":"IF(COUNTIF($D18:AR18,20)>=1,1,0)","v":0},{"$f":"IF(COUNTIF($D18:AS18,20)>=1,1,0)","v":0},{"$f":"IF(COUNTIF($D18:AT18,20)>=1,1,0)","v":0},{"$f":"IF(COUNTIF($D18:AU18,20)>=1,1,0)","v":0},{"$f":"IF(COUNTIF($D18:AV18,20)>=1,1,0)","v":0},{"$f":"IF(COUNTIF($D18:AW18,20)>=1,1,0)","v":0},{"$f":"IF(COUNTIF($D18:AX18,20)>=1,1,0)","v":0},{"$f":"IF(COUNTIF($D18:AY18,20)>=1,1,0)","v":0},{"$f":"IF(COUNTIF($D18:AZ18,20)>=1,1,0)","v":0},{"$f":"IF(COUNTIF($D18:BA18,20)>=1,1,0)","v":0},{"$f":"IF(COUNTIF($D18:BB18,20)>=1,1,0)","v":0},{"$f":"IF(COUNTIF($D18:BC18,20)>=1,1,0)","v":0},{"$f":"IF(COUNTIF($D18:BD18,20)>=1,1,0)","v":0},{"$f":"IF(COUNTIF($D18:BE18,20)>=1,1,0)","v":0},{"$f":"IF(COUNTIF($D18:BF18,20)>=1,1,0)","v":0},{"$f":"IF(COUNTIF($D18:BG18,20)>=1,1,0)","v":0},null,null,null,null,null,null,null,null,null,null,null,null,null,null,null,null,null,null,null,null,null,null,{"$f":"FD19","v":"E"},{"$f":"FE19","v":"E"},"E","E","E","E","E","E","E","E","E","E","E","E","E","E","E","E",".","E","A",".","E","A",".","E","A","A","A","A","A","A","A","A","A","A","A","A","A","A","A","A","A","A","A","A","A","A","A","A","A","A","A","A","A","A"]
[null,null,"DBQ Tigers",null,null,{"$f":"IF(COUNTIF($D19:F19,20)>=1,1,0)","v":0},{"$f":"IF(COUNTIF($D19:G19,20)>=1,1,0)","v":0},{"$f":"IF(COUNTIF($D19:H19,20)>=1,1,0)","v":0},{"$f":"IF(COUNTIF($D19:I19,20)>=1,1,0)","v":0},{"$f":"IF(COUNTIF($D19:J19,20)>=1,1,0)","v":0},{"$f":"IF(COUNTIF($D19:K19,20)>=1,1,0)","v":0},{"$f":"IF(COUNTIF($D19:L19,20)>=1,1,0)","v":0},{"$f":"IF(COUNTIF($D19:M19,20)>=1,1,0)","v":0},{"$f":"IF(COUNTIF($D19:N19,20)>=1,1,0)","v":0},{"$f":"IF(COUNTIF($D19:O19,20)>=1,1,0)","v":0},{"$f":"IF(COUNTIF($D19:P19,20)>=1,1,0)","v":0},{"$f":"IF(COUNTIF($D19:Q19,20)>=1,1,0)","v":0},{"$f":"IF(COUNTIF($D19:R19,20)>=1,1,0)","v":0},{"$f":"IF(COUNTIF($D19:S19,20)>=1,1,0)","v":0},{"$f":"IF(COUNTIF($D19:T19,20)>=1,1,0)","v":0},{"$f":"IF(COUNTIF($D19:U19,20)>=1,1,0)","v":0},{"$f":"IF(COUNTIF($D19:V19,20)>=1,1,0)","v":0},{"$f":"IF(COUNTIF($D19:W19,20)>=1,1,0)","v":0},{"$f":"IF(COUNTIF($D19:X19,20)>=1,1,0)","v":0},{"$f":"IF(COUNTIF($D19:Y19,20)>=1,1,0)","v":0},{"$f":"IF(COUNTIF($D19:Z19,20)>=1,1,0)","v":0},{"$f":"IF(COUNTIF($D19:AA19,20)>=1,1,0)","v":0},{"$f":"IF(COUNTIF($D19:AB19,20)>=1,1,0)","v":0},{"$f":"IF(COUNTIF($D19:AC19,20)>=1,1,0)","v":0},{"$f":"IF(COUNTIF($D19:AD19,20)>=1,1,0)","v":0},{"$f":"IF(COUNTIF($D19:AE19,20)>=1,1,0)","v":0},{"$f":"IF(COUNTIF($D19:AF19,20)>=1,1,0)","v":0},{"$f":"IF(COUNTIF($D19:AG19,20)>=1,1,0)","v":0},{"$f":"IF(COUNTIF($D19:AH19,20)>=1,1,0)","v":0},{"$f":"IF(COUNTIF($D19:AI19,20)>=1,1,0)","v":0},{"$f":"IF(COUNTIF($D19:AJ19,20)>=1,1,0)","v":0},{"$f":"IF(COUNTIF($D19:AK19,20)>=1,1,0)","v":0},{"$f":"IF(COUNTIF($D19:AL19,20)>=1,1,0)","v":0},{"$f":"IF(COUNTIF($D19:AM19,20)>=1,1,0)","v":0},{"$f":"IF(COUNTIF($D19:AN19,20)>=1,1,0)","v":0},{"$f":"IF(COUNTIF($D19:AO19,20)>=1,1,0)","v":0},{"$f":"IF(COUNTIF($D19:AP19,20)>=1,1,0)","v":0},{"$f":"IF(COUNTIF($D19:AQ19,20)>=1,1,0)","v":0},{"$f":"IF(COUNTIF($D19:AR19,20)>=1,1,0)","v":0},{"$f":"IF(COUNTIF($D19:AS19,20)>=1,1,0)","v":0},{"$f":"IF(COUNTIF($D19:AT19,20)>=1,1,0)","v":0},{"$f":"IF(COUNTIF($D19:AU19,20)>=1,1,0)","v":0},{"$f":"IF(COUNTIF($D19:AV19,20)>=1,1,0)","v":0},{"$f":"IF(COUNTIF($D19:AW19,20)>=1,1,0)","v":0},{"$f":"IF(COUNTIF($D19:AX19,20)>=1,1,0)","v":0},{"$f":"IF(COUNTIF($D19:AY19,20)>=1,1,0)","v":0},{"$f":"IF(COUNTIF($D19:AZ19,20)>=1,1,0)","v":0},{"$f":"IF(COUNTIF($D19:BA19,20)>=1,1,0)","v":0},{"$f":"IF(COUNTIF($D19:BB19,20)>=1,1,0)","v":0},{"$f":"IF(COUNTIF($D19:BC19,20)>=1,1,0)","v":0},{"$f":"IF(COUNTIF($D19:BD19,20)>=1,1,0)","v":0},{"$f":"IF(COUNTIF($D19:BE19,20)>=1,1,0)","v":0},{"$f":"IF(COUNTIF($D19:BF19,20)>=1,1,0)","v":0},{"$f":"IF(COUNTIF($D19:BG19,20)>=1,1,0)","v":0}]
[null,null,"Stephen Lewellyn",null,null,{"$f":"IF(COUNTIF($D20:F20,20)>=1,1,0)","v":0},{"$f":"IF(COUNTIF($D20:G20,20)>=1,1,0)","v":0},{"$f":"IF(COUNTIF($D20:H20,20)>=1,1,0)","v":0},{"$f":"IF(COUNTIF($D20:I20,20)>=1,1,0)","v":0},{"$f":"IF(COUNTIF($D20:J20,20)>=1,1,0)","v":0},{"$f":"IF(COUNTIF($D20:K20,20)>=1,1,0)","v":0},{"$f":"IF(COUNTIF($D20:L20,20)>=1,1,0)","v":0},{"$f":"IF(COUNTIF($D20:M20,20)>=1,1,0)","v":0},{"$f":"IF(COUNTIF($D20:N20,20)>=1,1,0)","v":0},{"$f":"IF(COUNTIF($D20:O20,20)>=1,1,0)","v":0},{"$f":"IF(COUNTIF($D20:P20,20)>=1,1,0)","v":0},{"$f":"IF(COUNTIF($D20:Q20,20)>=1,1,0)","v":0},{"$f":"IF(COUNTIF($D20:R20,20)>=1,1,0)","v":0},{"$f":"IF(COUNTIF($D20:S20,20)>=1,1,0)","v":0},{"$f":"IF(COUNTIF($D20:T20,20)>=1,1,0)","v":0},{"$f":"IF(COUNTIF($D20:U20,20)>=1,1,0)","v":0},{"$f":"IF(COUNTIF($D20:V20,20)>=1,1,0)","v":0},{"$f":"IF(COUNTIF($D20:W20,20)>=1,1,0)","v":0},{"$f":"IF(COUNTIF($D20:X20,20)>=1,1,0)","v":0},{"$f":"IF(COUNTIF($D20:Y20,20)>=1,1,0)","v":0},{"$f":"IF(COUNTIF($D20:Z20,20)>=1,1,0)","v":0},{"$f":"IF(COUNTIF($D20:AA20,20)>=1,1,0)","v":0},{"$f":"IF(COUNTIF($D20:AB20,20)>=1,1,0)","v":0},{"$f":"IF(COUNTIF($D20:AC20,20)>=1,1,0)","v":0},{"$f":"IF(COUNTIF($D20:AD20,20)>=1,1,0)","v":0},{"$f":"IF(COUNTIF($D20:AE20,20)>=1,1,0)","v":0},{"$f":"IF(COUNTIF($D20:AF20,20)>=1,1,0)","v":0},{"$f":"IF(COUNTIF($D20:AG20,20)>=1,1,0)","v":0},{"$f":"IF(COUNTIF($D20:AH20,20)>=1,1,0)","v":0},{"$f":"IF(COUNTIF($D20:AI20,20)>=1,1,0)","v":0},{"$f":"IF(COUNTIF($D20:AJ20,20)>=1,1,0)","v":0},{"$f":"IF(COUNTIF($D20:AK20,20)>=1,1,0)","v":0},{"$f":"IF(COUNTIF($D20:AL20,20)>=1,1,0)","v":0},{"$f":"IF(COUNTIF($D20:AM20,20)>=1,1,0)","v":0},{"$f":"IF(COUNTIF($D20:AN20,20)>=1,1,0)","v":0},{"$f":"IF(COUNTIF($D20:AO20,20)>=1,1,0)","v":0},{"$f":"IF(COUNTIF($D20:AP20,20)>=1,1,0)","v":0},{"$f":"IF(COUNTIF($D20:AQ20,20)>=1,1,0)","v":0},{"$f":"IF(COUNTIF($D20:AR20,20)>=1,1,0)","v":0},{"$f":"IF(COUNTIF($D20:AS20,20)>=1,1,0)","v":0},{"$f":"IF(COUNTIF($D20:AT20,20)>=1,1,0)","v":0},{"$f":"IF(COUNTIF($D20:AU20,20)>=1,1,0)","v":0},{"$f":"IF(COUNTIF($D20:AV20,20)>=1,1,0)","v":0},{"$f":"IF(COUNTIF($D20:AW20,20)>=1,1,0)","v":0},{"$f":"IF(COUNTIF($D20:AX20,20)>=1,1,0)","v":0},{"$f":"IF(COUNTIF($D20:AY20,20)>=1,1,0)","v":0},{"$f":"IF(COUNTIF($D20:AZ20,20)>=1,1,0)","v":0},{"$f":"IF(COUNTIF($D20:BA20,20)>=1,1,0)","v":0},{"$f":"IF(COUNTIF($D20:BB20,20)>=1,1,0)","v":0},{"$f":"IF(COUNTIF($D20:BC20,20)>=1,1,0)","v":0},{"$f":"IF(COUNTIF($D20:BD20,20)>=1,1,0)","v":0},{"$f":"IF(COUNTIF($D20:BE20,20)>=1,1,0)","v":0},{"$f":"IF(COUNTIF($D20:BF20,20)>=1,1,0)","v":0},{"$f":"IF(COUNTIF($D20:BG20,20)>=1,1,0)","v":0},null,null,null,null,null,null,null,null,null,null,null,null,null,null,null,null,null,null,null,null,null,null,{"$f":"CD20","v":20},{"$f":"CE20","v":20},20,20,20,20,20,20,20,20,20,20,20,20,20,20,20,20,".",20,10,".",20,10,".",20,10,10,10,10,10,10,10,10,10,10,10,10,10,10,10,10,10,10,10,10,10,10,10,10,10,10,10,10,10,10]
[null,null,"Corbin Ford",null,null,{"$f":"IF(COUNTIF($D21:F21,20)>=1,1,0)","v":0},{"$f":"IF(COUNTIF($D21:G21,20)>=1,1,0)","v":0},{"$f":"IF(COUNTIF($D21:H21,20)>=1,1,0)","v":0},{"$f":"IF(COUNTIF($D21:I21,20)>=1,1,0)","v":0},{"$f":"IF(COUNTIF($D21:J21,20)>=1,1,0)","v":0},{"$f":"IF(COUNTIF($D21:K21,20)>=1,1,0)","v":0},{"$f":"IF(COUNTIF($D21:L21,20)>=1,1,0)","v":0},{"$f":"IF(COUNTIF($D21:M21,20)>=1,1,0)","v":0},{"$f":"IF(COUNTIF($D21:N21,20)>=1,1,0)","v":0},{"$f":"IF(COUNTIF($D21:O21,20)>=1,1,0)","v":0},{"$f":"IF(COUNTIF($D21:P21,20)>=1,1,0)","v":0},{"$f":"IF(COUNTIF($D21:Q21,20)>=1,1,0)","v":0},{"$f":"IF(COUNTIF($D21:R21,20)>=1,1,0)","v":0},{"$f":"IF(COUNTIF($D21:S21,20)>=1,1,0)","v":0},{"$f":"IF(COUNTIF($D21:T21,20)>=1,1,0)","v":0},{"$f":"IF(COUNTIF($D21:U21,20)>=1,1,0)","v":0},{"$f":"IF(COUNTIF($D21:V21,20)>=1,1,0)","v":0},{"$f":"IF(COUNTIF($D21:W21,20)>=1,1,0)","v":0},{"$f":"IF(COUNTIF($D21:X21,20)>=1,1,0)","v":0},{"$f":"IF(COUNTIF($D21:Y21,20)>=1,1,0)","v":0},{"$f":"IF(COUNTIF($D21:Z21,20)>=1,1,0)","v":0},{"$f":"IF(COUNTIF($D21:AA21,20)>=1,1,0)","v":0},{"$f":"IF(COUNTIF($D21:AB21,20)>=1,1,0)","v":0},{"$f":"IF(COUNTIF($D21:AC21,20)>=1,1,0)","v":0},{"$f":"IF(COUNTIF($D21:AD21,20)>=1,1,0)","v":0},{"$f":"IF(COUNTIF($D21:AE21,20)>=1,1,0)","v":0},{"$f":"IF(COUNTIF($D21:AF21,20)>=1,1,0)","v":0},{"$f":"IF(COUNTIF($D21:AG21,20)>=1,1,0)","v":0},{"$f":"IF(COUNTIF($D21:AH21,20)>=1,1,0)","v":0},{"$f":"IF(COUNTIF($D21:AI21,20)>=1,1,0)","v":0},{"$f":"IF(COUNTIF($D21:AJ21,20)>=1,1,0)","v":0},{"$f":"IF(COUNTIF($D21:AK21,20)>=1,1,0)","v":0},{"$f":"IF(COUNTIF($D21:AL21,20)>=1,1,0)","v":0},{"$f":"IF(COUNTIF($D21:AM21,20)>=1,1,0)","v":0},{"$f":"IF(COUNTIF($D21:AN21,20)>=1,1,0)","v":0},{"$f":"IF(COUNTIF($D21:AO21,20)>=1,1,0)","v":0},{"$f":"IF(COUNTIF($D21:AP21,20)>=1,1,0)","v":0},{"$f":"IF(COUNTIF($D21:AQ21,20)>=1,1,0)","v":0},{"$f":"IF(COUNTIF($D21:AR21,20)>=1,1,0)","v":0},{"$f":"IF(COUNTIF($D21:AS21,20)>=1,1,0)","v":0},{"$f":"IF(COUNTIF($D21:AT21,20)>=1,1,0)","v":0},{"$f":"IF(COUNTIF($D21:AU21,20)>=1,1,0)","v":0},{"$f":"IF(COUNTIF($D21:AV21,20)>=1,1,0)","v":0},{"$f":"IF(COUNTIF($D21:AW21,20)>=1,1,0)","v":0},{"$f":"IF(COUNTIF($D21:AX21,20)>=1,1,0)","v":0},{"$f":"IF(COUNTIF($D21:AY21,20)>=1,1,0)","v":0},{"$f":"IF(COUNTIF($D21:AZ21,20)>=1,1,0)","v":0},{"$f":"IF(COUNTIF($D21:BA21,20)>=1,1,0)","v":0},{"$f":"IF(COUNTIF($D21:BB21,20)>=1,1,0)","v":0},{"$f":"IF(COUNTIF($D21:BC21,20)>=1,1,0)","v":0},{"$f":"IF(COUNTIF($D21:BD21,20)>=1,1,0)","v":0},{"$f":"IF(COUNTIF($D21:BE21,20)>=1,1,0)","v":0},{"$f":"IF(COUNTIF($D21:BF21,20)>=1,1,0)","v":0},{"$f":"IF(COUNTIF($D21:BG21,20)>=1,1,0)","v":0},null,null,null,null,null,null,null,null,null,null,null,null,null,null,null,null,null,null,null,null,null,null,{"$f":"FD20","v":"E"},{"$f":"FE20","v":"E"},"E","E","E","E","E","E","E","E","E","E","E","E","E","E","E","E",".","E","A",".","E","A",".","E","A","A","A","A","A","A","A","A","A","A","A","A","A","A","A","A","A","A","A","A","A","A","A","A","A","A","A","A","A","A"]
[null,null,"R.J. Scott",null,null,{"$f":"SUM(F30:F34)","v":0},{"$f":"SUM(G30:G34)","v":0},0,0,0,0,0,0,0,0,0,0,0,0,0,0,0,0,0,0,0,0,0,0,0,0,0,0,0,0,0,0,0,0,0,0,0,0,0,0,0,0,0,0,0,0,0,0,0,0,0,0,0,0]
[null,null,"Alex Moncrieff",null,null,{"$f":"IF(F27=\"A\",0.01,IF(F35>=3,IF(F35>E35,10,0),0))","v":0},{"$f":"IF(G27=\"A\",0.01,IF(G35>=3,IF(G35>F35,10,0),0))","v":0},0,0,0,0,0,0,0,0,0,0,0,0,0,{"$f":"IF(U20=\"A\",0.01,IF(U19=\"A\",0.01,IF(U18=\"A\",0.01,IF(U17=\"A\",0.01,IF(U35>=3,IF(U35>T35,10,0),0)))))","v":0},{"$f":"IF(V17=\"A\",0.01,IF(V18=\"A\",0.01,IF(V19=\"A\",0.01,IF(V20=\"A\",0.01,0))))","v":0},{"$f":"IF(W27=\"A\",0.01,IF(W35>=3,IF(W35>V35,10,0),0))","v":0},{"$f":"IF(X17=\"A\",0.01,IF(X18=\"A\",0.01,IF(X19=\"A\",0.01,IF(X20=\"A\",0.01,0))))","v":0},{"$f":"IF(Y17=\"A\",0.01,IF(Y18=\"A\",0.01,IF(Y19=\"A\",0.01,IF(Y20=\"A\",0.01,0))))","v":0},{"$f":"IF(Z27=\"A\",0.01,IF(Z35>=3,IF(Z35>Y35,10,0),0))","v":0},{"$f":"IF(AA17=\"A\",0.01,IF(AA18=\"A\",0.01,IF(AA19=\"A\",0.01,IF(AA20=\"A\",0.01,0))))","v":0},{"$f":"IF(AB17=\"A\",0.01,IF(AB18=\"A\",0.01,IF(AB19=\"A\",0.01,IF(AB20=\"A\",0.01,0))))","v":0},{"$f":"IF(AC27=\"A\",0.01,IF(AC35>=3,IF(AC35>AB35,10,0),0))","v":0},{"$f":"IF(AC107=\"\",0,IF(AD27=\"A\",0.01,IF(AD35>=3,IF(AD35>AC35,10,0),0)))","v":0},{"$f":"IF(AD107=\"\",0,IF(AE27=\"A\",0.01,IF(AE35>=3,IF(AE35>AD35,10,0),0)))","v":0},0,0,0,0,0,0,0,0,0,0,0,0,0,0,0,0,0,0,0,0,0,0,0,0,0,0,0,0,null,null,null,null,null,null,null,null,null,null,null,null,null,null,null,null,null,null,null,null,null,null,{"$f":"CD21","v":20},{"$f":"CE21","v":20},20,20,20,20,20,20,20,20,20,20,20,20,20,20,20,20,".",20,10,".",20,10,".",20,10,10,10,10,10,10,10,10,10,10,10,10,10,10,10,10,10,10,10,10,10,10,10,10,10,10,10,10,10,10]
[null,null," ",null,null,null,null,null,null,null,null,null,null,null,null,null,null,null,null,null,null,null,null,null,null,null,null,null,null,null,null,null,null,null,null,null,null,null,null,null,null,null,null,null,null,null,null,null,null,null,null,null,null,null,null,null,null,null,null,null,null,null,null,null,null,null,null,null,null,null,null,null,null,null,null,null,null,null,null,null,null,{"$f":"FD21","v":"E"},{"$f":"FE21","v":"E"},"E","E","E","E","E","E","E","E","E","E","E","E","E","E","E","E",".","E","A",".","E","A",".","E","A","A","A","A","A","A","A","A","A","A","A","A","A","A","A","A","A","A","A","A","A","A","A","A","A","A","A","A","A","A"]
[null,null," ",{"$f":"D15","v":8},{"$f":"E15","v":8},8,8,14,15,15,15,15,15,15,15,15,15,15,15,15,15,15,15,15,15,15,15,15,15,15,15,15,15,15,15,15,15,15,15,15,15,15,15,15,15,15,15,15,15,15,15,15,15,15,15,15,15,15,15]
["Individual","Errors","Team Name",1,2,3,4,5,6,7,8,9,10,11,12,13,14,15,16,17,{"$f":"IF(U16=\"\",\"\",U16)","v":""},{"$f":"IF(V16=\"\",\"\",V16)","v":""},18,{"$f":"IF(X16=\"\",\"\",X16)","v":""},{"$f":"IF(Y16=\"\",\"\",Y16)","v":""},19,{"$f":"IF(AA16=\"\",\"\",AA16)","v":""},{"$f":"IF(AB16=\"\",\"\",AB16)","v":""},20,{"$f":"IF(AD16=\"\",\"\",AD16)","v":""},{"$f":"IF(AE16=\"\",\"\",AE16)","v":""},"","","","","","","","","","","","","","","","","","","","","","","","","","","",""]
[{"$f":"IF(MAX(D40:BG40)=30,90,COUNTIF(D40:BG40,20)*20)","v":0},{"$f":"COUNTIF(D40:BG40,\"E\")","v":0},"Quizzer #1",{"$f":"IF(D$17=\"\",\"\",IF(D$17=0,0,\"\"))","v":""},"","","","","","","","","","","","","","","",{"$f":"IF(T$17=\"\",\"\",IF(T$17=0,0,\"\"))","v":""},"","","","","","","","","","","","","","","",{"$f":"IF(AJ$17=\"\",\"\",IF(AJ$17=0,0,\"\"))","v":""},"","","","","","","","","","","","","","","",{"$f":"IF(AZ$17=\"\",\"\",IF(AZ$17=0,0,\"\"))","v":""},"","","","","","","",null,null,null,null,null,null,null,null,null,null,null,null,null,null,null,null,null,null,null,null,null,null,{"$f":"Sheet4!D40","v":20},{"$f":"Sheet4!E40","v":20},{"$f":"Sheet4!F40","v":20},{"$f":"Sheet4!G40","v":20},{"$f":"Sheet4!H40","v":20},{"$f":"Sheet4!I40","v":20},{"$f":"Sheet4!J40","v":20},{"$f":"Sheet4!K40","v":20},{"$f":"Sheet4!L40","v":20},{"$f":"Sheet4!M40","v":20},{"$f":"Sheet4!N40","v":20},{"$f":"Sheet4!O40","v":20},{"$f":"Sheet4!P40","v":20},{"$f":"Sheet4!Q40","v":20},{"$f":"Sheet4!R40","v":20},{"$f":"Sheet4!S40","v":20},{"$f":"Sheet4!T40","v":20},{"$f":"Sheet4!U40","v":20},{"$f":"Sheet4!V40","v":"."},{"$f":"Sheet4!W40","v":20},{"$f":"Sheet4!X40","v":10},{"$f":"Sheet4!Y40","v":"."},{"$f":"Sheet4!Z40","v":20},{"$f":"Sheet4!AA40","v":10},{"$f":"Sheet4!AB40","v":"."},{"$f":"Sheet4!AC40","v":20},{"$f":"Sheet4!AD40","v":10},{"$f":"Sheet4!AE40","v":10},{"$f":"Sheet4!AF40","v":10},{"$f":"Sheet4!AG40","v":10},{"$f":"Sheet4!AH40","v":10},{"$f":"Sheet4!AI40","v":10},{"$f":"Sheet4!AJ40","v":10},{"$f":"Sheet4!AK40","v":10},{"$f":"Sheet4!AL40","v":10},{"$f":"Sheet4!AM40","v":10},{"$f":"Sheet4!AN40","v":10},{"$f":"Sheet4!AO40","v":10},{"$f":"Sheet4!AP40","v":10},{"$f":"Sheet4!AQ40","v":10},{"$f":"Sheet4!AR40","v":10},{"$f":"Sheet4!AS40","v":10},{"$f":"Sheet4!AT40","v":10},{"$f":"Sheet4!AU40","v":10},{"$f":"Sheet4!AV40","v":10},{"$f":"Sheet4!AW40","v":10},{"$f":"Sheet4!AX40","v":10},{"$f":"Sheet4!AY40","v":10},{"$f":"Sheet4!AZ40","v":10},{"$f":"Sheet4!BA40","v":10},{"$f":"Sheet4!BB40","v":10},{"$f":"Sheet4!BC40","v":10},{"$f":"Sheet4!BD40","v":10},{"$f":"Sheet4!BE40","v":10},{"$f":"Sheet4!BF40","v":10},{"$f":"Sheet4!BG40","v":10},null,null,null,null,null,null,null,null,null,null,null,null,null,null,null,null,null,null,null,null,null,null,{"$f":"IF(CD40=\".\",\".\",D50)","v":"E"},{"$f":"IF(CE40=\".\",\".\",E50)","v":"E"},"E","E","E","E","E","E","E","E","E","E","E","E","E","E","E","E",".","E","A",".","E","A",".","E","A","A","A","A","A","A","A","A","A","A","A","A","A","A","A","A","A","A","A","A","A","A","A","A","A","A","A","A","A","A"]
[0,{"$f":"COUNTIF(D41:BG41,\"E\")","v":0},"Quizzer #2","","","","","","","","","","","","","","","","","","","","","","","","","","","","","","","","","","","","","","","","","","","","","","","","","","","","","","","","",null,null,null,null,null,null,null,null,null,null,null,null,null,null,null,null,null,null,null,null,null,null,{"$f":"Sheet4!D41","v":20},{"$f":"Sheet4!E41","v":20},{"$f":"Sheet4!F41","v":20},{"$f":"Sheet4!G41","v":20},{"$f":"Sheet4!H41","v":20},{"$f":"Sheet4!I41","v":20},{"$f":"Sheet4!J41","v":20},{"$f":"Sheet4!K41","v":20},{"$f":"Sheet4!L41","v":20},{"$f":"Sheet4!M41","v":20},{"$f":"Sheet4!N41","v":20},{"$f":"Sheet4!O41","v":20},{"$f":"Sheet4!P41","v":20},{"$f":"Sheet4!Q41","v":20},{"$f":"Sheet4!R41","v":20},{"$f":"Sheet4!S41","v":20},{"$f":"Sheet4!T41","v":20},{"$f":"Sheet4!U41","v":20},{"$f":"Sheet4!V41","v":"."},{"$f":"Sheet4!W41","v":20},{"$f":"Sheet4!X41","v":10},{"$f":"Sheet4!Y41","v":"."},{"$f":"Sheet4!Z41","v":20},{"$f":"Sheet4!AA41","v":10},{"$f":"Sheet4!AB41","v":"."},{"$f":"Sheet4!AC41","v":20},{"$f":"Sheet4!AD41","v":10},{"$f":"Sheet4!AE41","v":10},{"$f":"Sheet4!AF41","v":10},{"$f":"Sheet4!AG41","v":10},{"$f":"Sheet4!AH41","v":10},{"$f":"Sheet4!AI41","v":10},{"$f":"Sheet4!AJ41","v":10},{"$f":"Sheet4!AK41","v":10},{"$f":"Sheet4!AL41","v":10},{"$f":"Sheet4!AM41","v":10},{"$f":"Sheet4!AN41","v":10},{"$f":"Sheet4!AO41","v":10},{"$f":"Sheet4!AP41","v":10},{"$f":"Sheet4!AQ41","v":10},{"$f":"Sheet4!AR41","v":10},{"$f":"Sheet4!AS41","v":10},{"$f":"Sheet4!AT41","v":10},{"$f":"Sheet4!AU41","v":10},{"$f":"Sheet4!AV41","v":10},{"$f":"Sheet4!AW41","v":10},{"$f":"Sheet4!AX41","v":10},{"$f":"Sheet4!AY41","v":10},{"$f":"Sheet4!AZ41","v":10},{"$f":"Sheet4!BA41","v":10},{"$f":"Sheet4!BB41","v":10},{"$f":"Sheet4!BC41","v":10},{"$f":"Sheet4!BD41","v":10},{"$f":"Sheet4!BE41","v":10},{"$f":"Sheet4!BF41","v":10},{"$f":"Sheet4!BG41","v":10},null,null,null,null,null,null,null,null,null,null,null,null,null,null,null,null,null,null,null,null,null,null,{"$f":"IF(CD41=\".\",\".\",D50)","v":"E"},{"$f":"IF(CE41=\".\",\".\",E50)","v":"E"},"E","E","E","E","E","E","E","E","E","E","E","E","E","E","E","E",".","E","A",".","E","A",".","E","A","A","A","A","A","A","A","A","A","A","A","A","A","A","A","A","A","A","A","A","A","A","A","A","A","A","A","A","A","A"]
[0,{"$f":"COUNTIF(D42:BG42,\"E\")","v":0},"Quizzer #3","","","","","","","","","","","","","","","","","","","","","","","","","","","","","","","","","","","","","","","","","","","","","","","","","","","","","","","","",null,null,null,null,null,null,null,null,null,null,null,null,null,null,null,null,null,null,null,null,null,null,{"$f":"Sheet4!D42","v":20},{"$f":"Sheet4!E42","v":20},{"$f":"Sheet4!F42","v":20},{"$f":"Sheet4!G42","v":20},{"$f":"Sheet4!H42","v":20},{"$f":"Sheet4!I42","v":20},{"$f":"Sheet4!J42","v":20},{"$f":"Sheet4!K42","v":20},{"$f":"Sheet4!L42","v":20},{"$f":"Sheet4!M42","v":20},{"$f":"Sheet4!N42","v":20},{"$f":"Sheet4!O42","v":20},{"$f":"Sheet4!P42","v":20},{"$f":"Sheet4!Q42","v":20},{"$f":"Sheet4!R42","v":20},{"$f":"Sheet4!S42","v":20},{"$f":"Sheet4!T42","v":20},{"$f":"Sheet4!U42","v":20},{"$f":"Sheet4!V42","v":"."},{"$f":"Sheet4!W42","v":20},{"$f":"Sheet4!X42","v":10},{"$f":"Sheet4!Y42","v":"."},{"$f":"Sheet4!Z42","v":20},{"$f":"Sheet4!AA42","v":10},{"$f":"Sheet4!AB42","v":"."},{"$f":"Sheet4!AC42","v":20},{"$f":"Sheet4!AD42","v":10},{"$f":"Sheet4!AE42","v":10},{"$f":"Sheet4!AF42","v":10},{"$f":"Sheet4!AG42","v":10},{"$f":"Sheet4!AH42","v":10},{"$f":"Sheet4!AI42","v":10},{"$f":"Sheet4!AJ42","v":10},{"$f":"Sheet4!AK42","v":10},{"$f":"Sheet4!AL42","v":10},{"$f":"Sheet4!AM42","v":10},{"$f":"Sheet4!AN42","v":10},{"$f":"Sheet4!AO42","v":10},{"$f":"Sheet4!AP42","v":10},{"$f":"Sheet4!AQ42","v":10},{"$f":"Sheet4!AR42","v":10},{"$f":"Sheet4!AS42","v":10},{"$f":"Sheet4!AT42","v":10},{"$f":"Sheet4!AU42","v":10},{"$f":"Sheet4!AV42","v":10},{"$f":"Sheet4!AW42","v":10},{"$f":"Sheet4!AX42","v":10},{"$f":"Sheet4!AY42","v":10},{"$f":"Sheet4!AZ42","v":10},{"$f":"Sheet4!BA42","v":10},{"$f":"Sheet4!BB42","v":10},{"$f":"Sheet4!BC42","v":10},{"$f":"Sheet4!BD42","v":10},{"$f":"Sheet4!BE42","v":10},{"$f":"Sheet4!BF42","v":10},{"$f":"Sheet4!BG42","v":10},null,null,null,null,null,null,null,null,null,null,null,null,null,null,null,null,null,null,null,null,null,null,{"$f":"IF(CD42=\".\",\".\",D50)","v":"E"},{"$f":"IF(CE42=\".\",\".\",E50)","v":"E"},"E","E","E","E","E","E","E","E","E","E","E","E","E","E","E","E",".","E","A",".","E","A",".","E","A","A","A","A","A","A","A","A","A","A","A","A","A","A","A","A","A","A","A","A","A","A","A","A","A","A","A","A","A","A"]
[0,{"$f":"COUNTIF(D43:BG43,\"E\")","v":0},"Quizzer #4","","","","","","","","","","","","","","","","","","","","","","","","","","","","","","","","","","","","","","","","","","","","","","","","","","","","","","","","",null,null,null,null,null,null,null,null,null,null,null,null,null,null,null,null,null,null,null,null,null,null,{"$f":"Sheet4!D43","v":20},{"$f":"Sheet4!E43","v":20},{"$f":"Sheet4!F43","v":20},{"$f":"Sheet4!G43","v":20},{"$f":"Sheet4!H43","v":20},{"$f":"Sheet4!I43","v":20},{"$f":"Sheet4!J43","v":20},{"$f":"Sheet4!K43","v":20},{"$f":"Sheet4!L43","v":20},{"$f":"Sheet4!M43","v":20},{"$f":"Sheet4!N43","v":20},{"$f":"Sheet4!O43","v":20},{"$f":"Sheet4!P43","v":20},{"$f":"Sheet4!Q43","v":20},{"$f":"Sheet4!R43","v":20},{"$f":"Sheet4!S43","v":20},{"$f":"Sheet4!T43","v":20},{"$f":"Sheet4!U43","v":20},{"$f":"Sheet4!V43","v":"."},{"$f":"Sheet4!W43","v":20},{"$f":"Sheet4!X43","v":10},{"$f":"Sheet4!Y43","v":"."},{"$f":"Sheet4!Z43","v":20},{"$f":"Sheet4!AA43","v":10},{"$f":"Sheet4!AB43","v":"."},{"$f":"Sheet4!AC43","v":20},{"$f":"Sheet4!AD43","v":10},{"$f":"Sheet4!AE43","v":10},{"$f":"Sheet4!AF43","v":10},{"$f":"Sheet4!AG43","v":10},{"$f":"Sheet4!AH43","v":10},{"$f":"Sheet4!AI43","v":10},{"$f":"Sheet4!AJ43","v":10},{"$f":"Sheet4!AK43","v":10},{"$f":"Sheet4!AL43","v":10},{"$f":"Sheet4!AM43","v":10},{"$f":"Sheet4!AN43","v":10},{"$f":"Sheet4!AO43","v":10},{"$f":"Sheet4!AP43","v":10},{"$f":"Sheet4!AQ43","v":10},{"$f":"Sheet4!AR43","v":10},{"$f":"Sheet4!AS43","v":10},{"$f":"Sheet4!AT43","v":10},{"$f":"Sheet4!AU43","v":10},{"$f":"Sheet4!AV43","v":10},{"$f":"Sheet4!AW43","v":10},{"$f":"Sheet4!AX43","v":10},{"$f":"Sheet4!AY43","v":10},{"$f":"Sheet4!AZ43","v":10},{"$f":"Sheet4!BA43","v":10},{"$f":"Sheet4!BB43","v":10},{"$f":"Sheet4!BC43","v":10},{"$f":"Sheet4!BD43","v":10},{"$f":"Sheet4!BE43","v":10},{"$f":"Sheet4!BF43","v":10},{"$f":"Sheet4!BG43","v":10},null,null,null,null,null,null,null,null,null,null,null,null,null,null,null,null,null,null,null,null,null,null,{"$f":"IF(CD43=\".\",\".\",D50)","v":"E"},{"$f":"IF(CE43=\".\",\".\",E50)","v":"E"},"E","E","E","E","E","E","E","E","E","E","E","E","E","E","E","E",".","E","A",".","E","A",".","E","A","A","A","A","A","A","A","A","A","A","A","A","A","A","A","A","A","A","A","A","A","A","A","A","A","A","A","A","A","A"]
[0,{"$f":"COUNTIF(D44:BG44,\"E\")","v":0},{"$f":"IF(Scoresheet!C44=\"\",\"\",Scoresheet!C44)","v":""},"","","","","","","","","","","","","","","","","","","","","","","","","","","","","","","","","","","","","","","","","","","","","","","","","","","","","","","","",null,null,null,null,null,null,null,null,null,null,null,null,null,null,null,null,null,null,null,null,null,null,{"$f":"Sheet4!D44","v":20},{"$f":"Sheet4!E44","v":20},{"$f":"Sheet4!F44","v":20},{"$f":"Sheet4!G44","v":20},{"$f":"Sheet4!H44","v":20},{"$f":"Sheet4!I44","v":20},{"$f":"Sheet4!J44","v":20},{"$f":"Sheet4!K44","v":20},{"$f":"Sheet4!L44","v":20},{"$f":"Sheet4!M44","v":20},{"$f":"Sheet4!N44","v":20},{"$f":"Sheet4!O44","v":20},{"$f":"Sheet4!P44","v":20},{"$f":"Sheet4!Q44","v":20},{"$f":"Sheet4!R44","v":20},{"$f":"Sheet4!S44","v":20},{"$f":"Sheet4!T44","v":20},{"$f":"Sheet4!U44","v":20},{"$f":"Sheet4!V44","v":"."},{"$f":"Sheet4!W44","v":20},{"$f":"Sheet4!X44","v":10},{"$f":"Sheet4!Y44","v":"."},{"$f":"Sheet4!Z44","v":20},{"$f":"Sheet4!AA44","v":10},{"$f":"Sheet4!AB44","v":"."},{"$f":"Sheet4!AC44","v":20},{"$f":"Sheet4!AD44","v":10},{"$f":"Sheet4!AE44","v":10},{"$f":"Sheet4!AF44","v":10},{"$f":"Sheet4!AG44","v":10},{"$f":"Sheet4!AH44","v":10},{"$f":"Sheet4!AI44","v":10},{"$f":"Sheet4!AJ44","v":10},{"$f":"Sheet4!AK44","v":10},{"$f":"Sheet4!AL44","v":10},{"$f":"Sheet4!AM44","v":10},{"$f":"Sheet4!AN44","v":10},{"$f":"Sheet4!AO44","v":10},{"$f":"Sheet4!AP44","v":10},{"$f":"Sheet4!AQ44","v":10},{"$f":"Sheet4!AR44","v":10},{"$f":"Sheet4!AS44","v":10},{"$f":"Sheet4!AT44","v":10},{"$f":"Sheet4!AU44","v":10},{"$f":"Sheet4!AV44","v":10},{"$f":"Sheet4!AW44","v":10},{"$f":"Sheet4!AX44","v":10},{"$f":"Sheet4!AY44","v":10},{"$f":"Sheet4!AZ44","v":10},{"$f":"Sheet4!BA44","v":10},{"$f":"Sheet4!BB44","v":10},{"$f":"Sheet4!BC44","v":10},{"$f":"Sheet4!BD44","v":10},{"$f":"Sheet4!BE44","v":10},{"$f":"Sheet4!BF44","v":10},{"$f":"Sheet4!BG44","v":10},null,null,null,null,null,null,null,null,null,null,null,null,null,null,null,null,null,null,null,null,null,null,{"$f":"IF(CD44=\".\",\".\",D50)","v":"E"},{"$f":"IF(CE44=\".\",\".\",E50)","v":"E"},"E","E","E","E","E","E","E","E","E","E","E","E","E","E","E","E",".","E","A",".","E","A",".","E","A","A","A","A","A","A","A","A","A","A","A","A","A","A","A","A","A","A","A","A","A","A","A","A","A","A","A","A","A","A"]
[{"$f":"ROUND(BG45,0)","v":0},{"$f":"B47","v":0},0.25,{"$f":"SUM(D40:D44)+D52+0.25","v":0.25},{"$f":"D45+SUM(E40:E44)+E52","v":0.25},{"$f":"E45+SUM(F40:F44)+F52+F59","v":0.25},{"$f":"F45+SUM(G40:G44)+G52+G59","v":0.25},{"$f":"G45+SUM(H40:H44)+H52+H59","v":0.25},{"$f":"H45+SUM(I40:I44)+I52+I59","v":0.25},0.25,0.25,0.25,0.25,0.25,0.25,0.25,0.25,0.25,0.25,0.25,0.25,0.25,0.25,0.25,0.25,0.25,0.25,0.25,0.25,0.25,0.25,0.25,0.25,0.25,0.25,0.25,0.25,0.25,0.25,0.25,0.25,0.25,0.25,0.25,0.25,0.25,0.25,0.25,0.25,0.25,0.25,0.25,0.25,0.25,0.25,0.25,0.25,0.25,0.25]
["Team Total","Olympic Pts.",{"$f":"IF(Sheet4!B114=0,IF(Sheet4!B115=0,Sheet4!C103,Sheet4!C104),IF(Sheet4!B115=0,Sheet4!C106,Sheet4!C105))","v":"Timeout = T, Foul = F ------------>"},null,null,null,null,null,null,null,null,null,null,null,null,null,null,null,null,null,null,null,null,null,null,null,null,null,null,null,null,null,null,null,null,null,null,null,null,null,null,null,null,null,null,null,null,null,null,null,null,null,null,null,null,null,null,null,null,null,null,null,null,null,null,null,null,null,null,null,null,null,null,null,null,null,null,null,null,null,null,{"$f":"CD40","v":20},{"$f":"CE40","v":20},20,20,20,20,20,20,20,20,20,20,20,20,20,20,20,20,".",20,10,".",20,10,".",20,10,10,10,10,10,10,10,10,10,10,10,10,10,10,10,10,10,10,10,10,10,10,10,10,10,10,10,10,10,10]
[null,{"$f":"AB125","v":0},"Hannah Lotharius",null,{"$f":"COUNTIF(D40:D44,\"E\")","v":0},{"$f":"COUNTIF(D40:E44,\"E\")","v":0},{"$f":"COUNTIF(E40:F44,\"E\")","v":0},{"$f":"COUNTIF(F40:G44,\"E\")","v":0},0,0,0,0,0,0,0,0,0,0,0,0,0,0,0,0,0,0,0,0,0,0,0,0,0,0,0,0,0,0,0,0,0,0,0,0,0,0,0,0,0,0,0,0,0,0,0,0,0,0,0,null,null,null,null,null,null,null,null,null,null,null,null,null,null,null,null,null,null,null,null,null,null,{"$f":"FD40","v":"E"},{"$f":"FE40","v":"E"},"E","E","E","E","E","E","E","E","E","E","E","E","E","E","E","E",".","E","A",".","E","A",".","E","A","A","A","A","A","A","A","A","A","A","A","A","A","A","A","A","A","A","A","A","A","A","A","A","A","A","A","A","A","A"]
[null,0,"Stephen Hall",null,{"$f":"COUNTIF(D40:D44,\"E\")","v":0},{"$f":"COUNTIF(E40:E44,\"E\")","v":0},{"$f":"COUNTIF(F40:F44,\"E\")","v":0},{"$f":"COUNTIF(G40:G44,\"E\")","v":0},0,0,0,0,0,0,0,0,0,0,0,0,0,0,0,0,0,0,0,0,0,0,0,0,0,0,0,0,0,0,0,0,0,0,0,0,0,0,0,0,0,0,0,0,0,0,0,0,0,0,0,null,null,null,null,null,null,null,null,null,null,null,null,null,null,null,null,null,null,null,null,null,null,0,1,2,3,4,5,6,7,8,9,10,11,12,13,14,15,16,17,18,19,20,21,22,23,24,25,26,27,28,29,30,31,32,33,34,35,36,37,38,39,40,41,42,43,44,45,46,47,48,49,50,51,52,53,54,55]
[null,{"$f":"IF(BG58>=3,2,0)","v":0},"Matthew Gedlen",20,{"$f":"IF(E48=1,\".\",20)","v":20},{"$f":"IF(F73=\"A\",\".\",IF(F60=1,\".\",IF(F48=1,\".\",IF(SUM(F70,F24)<2,20,10))))","v":20},20,20,{"$f":"IF(I73=\"A\",\".\",IF(I60=1,\".\",IF(I48=1,\".\",IF(I25=0,20,10))))","v":20},{"$f":"IF(J73=\"A\",\".\",IF(J60=1,\".\",IF(J48=1,\".\",IF(J25=0,20,10))))","v":20},20,20,20,20,20,20,20,20,20,20,20,".",20,{"$f":"IF(COUNTIF(V40:W43,\"\")<8,\">\",10)","v":10},".",20,{"$f":"IF(COUNTIF(Y40:Z43,\"\")<8,\">\",10)","v":10},".",20,{"$f":"AD115","v":10},{"$f":"AE115","v":10},10,10,10,10,10,10,10,10,10,10,10,10,10,10,10,10,10,10,10,10,10,10,10,10,10,10,10,10]
[null,{"$f":"IF(B49=2,0,IF(B47+B48=10,IF(A45>=130,1,0),IF(B47+B48=5,IF(A45>=100,1,0),IF(A45>=70,1,0))))","v":0},"Madeline Dykstra","E",{"$f":"IF(E48=1,\".\",\"E\")","v":"E"},{"$f":"IF(F49=\".\",\".\",IF(SUM(F70,F24)<2,\"E\",\"A\"))","v":"E"},{"$f":"IF(G49=\".\",\".\",IF(SUM(G70,G24)<2,\"E\",\"A\"))","v":"E"},"E",{"$f":"IF(I49=\".\",\".\",IF(I25=0,\"E\",\"A\"))","v":"E"},{"$f":"IF(J49=\".\",\".\",IF(J25=0,\"E\",\"A\"))","v":"E"},"E","E","E","E","E","E","E","E","E","E","E",{"$f":"IF(V49=10,\"A\",\".\")","v":"."},"E",{"$f":"IF(X49=10,\"A\",\".\")","v":"A"},{"$f":"IF(Y49=10,\"A\",\".\")","v":"."},"E",{"$f":"IF(AA49=10,\"A\",\".\")","v":"A"},{"$f":"IF(AB49=10,\"A\",\".\")","v":"."},"E",{"$f":"AD116","v":"A"},"A","A","A","A","A","A","A","A","A","A","A","A","A","A","A","A","A","A","A","A","A","A","A","A","A","A","A","A","A",null,null,null,null,null,null,null,null,null,null,null,null,null,null,null,null,null,null,null,null,null,null,{"$f":"CD41","v":20},{"$f":"CE41","v":20},20,20,20,20,20,20,20,20,20,20,20,20,20,20,20,20,".",20,10,".",20,10,".",20,10,10,10,10,10,10,10,10,10,10,10,10,10,10,10,10,10,10,10,10,10,10,10,10,10,10,10,10,10,10]
[null,null,"Grace Buiten",{"$f":"IF(D38=15,\".\",IF(D38=0,0,\"\"))","v":""},{"$f":"IF(E38=15,\".\",IF(E38=0,0,\"\"))","v":""},"","","",".",".",".",".",".",".",".",".",".",".",".",".",{"$f":"IF(U38=0,0,IF(U$84=0,\".\",\"\"))","v":"."},{"$f":"IF(V38=0,0,IF(V$84=0,\".\",\"\"))","v":"."},{"$f":"IF(W38=15,\".\",IF(W38=0,0,\"\"))","v":"."},{"$f":"IF(X38=0,0,IF(X$84=0,\".\",\"\"))","v":"."},{"$f":"IF(Y38=0,0,IF(Y$84=0,\".\",\"\"))","v":"."},{"$f":"IF(Z38=15,\".\",IF(Z38=0,0,\"\"))","v":"."},{"$f":"IF(AA38=0,0,IF(AA$84=0,\".\",\"\"))","v":"."},{"$f":"IF(AB38=0,0,IF(AB$84=0,\".\",\"\"))","v":"."},{"$f":"IF(AC38=15,\".\",IF(AC38=0,0,\"\"))","v":"."},{"$f":"IF(AD38=15,\".\",IF(AD38=0,0,\"\"))","v":"."},".",".",".",".",".",".",".",".",".",".",".",".",".",".",".",".",".",".",".",".",".",".",".",".",".",".",".",".",".",null,null,null,null,null,null,null,null,null,null,null,null,null,null,null,null,null,null,null,null,null,null,{"$f":"FD41","v":"E"},{"$f":"FE41","v":"E"},"E","E","E","E","E","E","E","E","E","E","E","E","E","E","E","E",".","E","A",".","E","A",".","E","A","A","A","A","A","A","A","A","A","A","A","A","A","A","A","A","A","A","A","A","A","A","A","A","A","A","A","A","A","A"]
[null,null,"Daniel Thompson",{"$f":"Sheet4!D116+IF(E48=0,0,-0.01)","v":0},{"$f":"Sheet4!E116+IF(F48=0,0,-0.01)","v":0},{"$f":"Sheet4!F116+IF(G48=0,0,-0.01)","v":0},{"$f":"Sheet4!G116+IF(H48=0,0,-0.01)","v":0},{"$f":"Sheet4!H116+IF(I48=0,0,IF(SUM($E48:I48)<3,-0.01,IF(SUM($E48:I48)>3,-10,IF(MAX(Sheet4!H46:H50)=3,-10,-0.01))))","v":0},{"$f":"Sheet4!I116+IF(J48=0,0,IF(SUM($E48:J48)<3,-0.01,IF(SUM($E48:J48)>3,-10,IF(MAX(Sheet4!I46:I50)=3,-10,-0.01))))","v":0},{"$f":"Sheet4!J116+IF(K48=0,0,IF(SUM($E48:K48)<3,-0.01,IF(SUM($E48:K48)>3,-10,IF(MAX(Sheet4!J46:J50)=3,-10,-0.01))))","v":0},{"$f":"Sheet4!K116+IF(L48=0,0,IF(SUM($E48:L48)<3,-0.01,IF(SUM($E48:L48)>3,-10,IF(MAX(Sheet4!K46:K50)=3,-10,-0.01))))","v":0},{"$f":"Sheet4!L116+IF(M48=0,0,IF(SUM($E48:M48)<3,-0.01,IF(SUM($E48:M48)>3,-10,IF(MAX(Sheet4!L46:L50)=3,-10,-0.01))))","v":0},{"$f":"Sheet4!M116+IF(N48=0,0,IF(SUM($E48:N48)<3,-0.01,IF(SUM($E48:N48)>3,-10,IF(MAX(Sheet4!M46:M50)=3,-10,-0.01))))","v":0},{"$f":"Sheet4!N116+IF(O48=0,0,IF(SUM($E48:O48)<3,-0.01,IF(SUM($E48:O48)>3,-10,IF(MAX(Sheet4!N46:N50)=3,-10,-0.01))))","v":0},{"$f":"Sheet4!O116+IF(P48=0,0,IF(SUM($E48:P48)<3,-0.01,IF(SUM($E48:P48)>3,-10,IF(MAX(Sheet4!O46:O50)=3,-10,-0.01))))","v":0},{"$f":"Sheet4!P116+IF(Q48=0,0,IF(SUM($E48:Q48)<3,-0.01,IF(SUM($E48:Q48)>3,-10,IF(MAX(Sheet4!P46:P50)=3,-10,-0.01))))","v":0},{"$f":"Sheet4!Q116+IF(R48=0,0,IF(SUM($E48:R48)<3,-0.01,IF(SUM($E48:R48)>3,-10,IF(MAX(Sheet4!Q46:Q50)=3,-10,-0.01))))","v":0},{"$f":"Sheet4!R116+IF(S48=0,0,IF(SUM($E48:S48)<3,-0.01,IF(SUM($E48:S48)>3,-10,IF(MAX(Sheet4!R46:R50)=3,-10,-0.01))))","v":0},{"$f":"Sheet4!S116+IF(T48=1,-10,0)","v":0},{"$f":"Sheet4!T116+IF(U48=1,-10,0)","v":0},{"$f":"Sheet4!U116+IF(V48=1,-10,0)","v":0},{"$f":"Sheet4!V116","v":0},{"$f":"Sheet4!W116+IF(X48=1,-10,0)","v":0},{"$f":"Sheet4!X116+IF(Y48=1,-10,0)","v":0},{"$f":"Sheet4!Y116","v":0},{"$f":"Sheet4!Z116+IF(AA48=1,-10,0)","v":0},{"$f":"Sheet4!AA116+IF(AB48=1,-10,0)","v":0},{"$f":"Sheet4!AB116","v":0},{"$f":"Sheet4!AC116+IF(AD48=1,-10,0)","v":0},{"$f":"Sheet4!AD116+IF(AE48=1,-10,0)","v":0},{"$f":"Sheet4!AE116+IF(AF48=1,-10,0)","v":0},{"$f":"Sheet4!AF116+IF(AG48=1,-10,0)","v":0},{"$f":"Sheet4!AG116+IF(AH48=1,-10,0)","v":0},{"$f":"Sheet4!AH116+IF(AI48=1,-10,0)","v":0},{"$f":"Sheet4!AI116+IF(AJ48=1,-10,0)","v":0},{"$f":"Sheet4!AJ116+IF(AK48=1,-10,0)","v":0},{"$f":"Sheet4!AK116+IF(AL48=1,-10,0)","v":0},{"$f":"Sheet4!AL116+IF(AM48=1,-10,0)","v":0},{"$f":"Sheet4!AM116+IF(AN48=1,-10,0)","v":0},{"$f":"Sheet4!AN116+IF(AO48=1,-10,0)","v":0},{"$f":"Sheet4!AO116+IF(AP48=1,-10,0)","v":0},{"$f":"Sheet4!AP116+IF(AQ48=1,-10,0)","v":0},{"$f":"Sheet4!AQ116+IF(AR48=1,-10,0)","v":0},{"$f":"Sheet4!AR116+IF(AS48=1,-10,0)","v":0},{"$f":"Sheet4!AS116+IF(AT48=1,-10,0)","v":0},{"$f":"Sheet4!AT116+IF(AU48=1,-10,0)","v":0},{"$f":"Sheet4!AU116+IF(AV48=1,-10,0)","v":0},{"$f":"Sheet4!AV116+IF(AW48=1,-10,0)","v":0},{"$f":"Sheet4!AW116+IF(AX48=1,-10,0)","v":0},{"$f":"Sheet4!AX116+IF(AY48=1,-10,0)","v":0},{"$f":"Sheet4!AY116+IF(AZ48=1,-10,0)","v":0},{"$f":"Sheet4!AZ116+IF(BA48=1,-10,0)","v":0},{"$f":"Sheet4!BA116+IF(BB48=1,-10,0)","v":0},{"$f":"Sheet4!BB116+IF(BC48=1,-10,0)","v":0},{"$f":"Sheet4!BC116+IF(BD48=1,-10,0)","v":0},{"$f":"Sheet4!BD116+IF(BE48=1,-10,0)","v":0},{"$f":"Sheet4!BE116+IF(BF48=1,-10,0)","v":0},{"$f":"Sheet4!BF116+IF(BG48=1,-10,0)","v":0},{"$f":"Sheet4!BG116+IF(BH48=1,-10,0)","v":0}]
[null,null,"Gloria Mayer",null,null,{"$f":"IF(COUNTIF($D40:F40,20)>=1,1,0)","v":0},{"$f":"IF(COUNTIF($D40:G40,20)>=1,1,0)","v":0},{"$f":"IF(COUNTIF($D40:H40,20)>=1,1,0)","v":0},{"$f":"IF(COUNTIF($D40:I40,20)>=1,1,0)","v":0},{"$f":"IF(COUNTIF($D40:J40,20)>=1,1,0)","v":0},{"$f":"IF(COUNTIF($D40:K40,20)>=1,1,0)","v":0},{"$f":"IF(COUNTIF($D40:L40,20)>=1,1,0)","v":0},{"$f":"IF(COUNTIF($D40:M40,20)>=1,1,0)","v":0},{"$f":"IF(COUNTIF($D40:N40,20)>=1,1,0)","v":0},{"$f":"IF(COUNTIF($D40:O40,20)>=1,1,0)","v":0},{"$f":"IF(COUNTIF($D40:P40,20)>=1,1,0)","v":0},{"$f":"IF(COUNTIF($D40:Q40,20)>=1,1,0)","v":0},{"$f":"IF(COUNTIF($D40:R40,20)>=1,1,0)","v":0},{"$f":"IF(COUNTIF($D40:S40,20)>=1,1,0)","v":0},{"$f":"IF(COUNTIF($D40:T40,20)>=1,1,0)","v":0},{"$f":"IF(COUNTIF($D40:U40,20)>=1,1,0)","v":0},{"$f":"IF(COUNTIF($D40:V40,20)>=1,1,0)","v":0},{"$f":"IF(COUNTIF($D40:W40,20)>=1,1,0)","v":0},{"$f":"IF(COUNTIF($D40:X40,20)>=1,1,0)","v":0},{"$f":"IF(COUNTIF($D40:Y40,20)>=1,1,0)","v":0},{"$f":"IF(COUNTIF($D40:Z40,20)>=1,1,0)","v":0},{"$f":"IF(COUNTIF($D40:AA40,20)>=1,1,0)","v":0},{"$f":"IF(COUNTIF($D40:AB40,20)>=1,1,0)","v":0},{"$f":"IF(COUNTIF($D40:AC40,20)>=1,1,0)","v":0},{"$f":"IF(COUNTIF($D40:AD40,20)>=1,1,0)","v":0},{"$f":"IF(COUNTIF($D40:AE40,20)>=1,1,0)","v":0},{"$f":"IF(COUNTIF($D40:AF40,20)>=1,1,0)","v":0},{"$f":"IF(COUNTIF($D40:AG40,20)>=1,1,0)","v":0},{"$f":"IF(COUNTIF($D40:AH40,20)>=1,1,0)","v":0},{"$f":"IF(COUNTIF($D40:AI40,20)>=1,1,0)","v":0},{"$f":"IF(COUNTIF($D40:AJ40,20)>=1,1,0)","v":0},{"$f":"IF(COUNTIF($D40:AK40,20)>=1,1,0)","v":0},{"$f":"IF(COUNTIF($D40:AL40,20)>=1,1,0)","v":0},{"$f":"IF(COUNTIF($D40:AM40,20)>=1,1,0)","v":0},{"$f":"IF(COUNTIF($D40:AN40,20)>=1,1,0)","v":0},{"$f":"IF(COUNTIF($D40:AO40,20)>=1,1,0)","v":0},{"$f":"IF(COUNTIF($D40:AP40,20)>=1,1,0)","v":0},{"$f":"IF(COUNTIF($D40:AQ40,20)>=1,1,0)","v":0},{"$f":"IF(COUNTIF($D40:AR40,20)>=1,1,0)","v":0},{"$f":"IF(COUNTIF($D40:AS40,20)>=1,1,0)","v":0},{"$f":"IF(COUNTIF($D40:AT40,20)>=1,1,0)","v":0},{"$f":"IF(COUNTIF($D40:AU40,20)>=1,1,0)","v":0},{"$f":"IF(COUNTIF($D40:AV40,20)>=1,1,0)","v":0},{"$f":"IF(COUNTIF($D40:AW40,20)>=1,1,0)","v":0},{"$f":"IF(COUNTIF($D40:AX40,20)>=1,1,0)","v":0},{"$f":"IF(COUNTIF($D40:AY40,20)>=1,1,0)","v":0},{"$f":"IF(COUNTIF($D40:AZ40,20)>=1,1,0)","v":0},{"$f":"IF(COUNTIF($D40:BA40,20)>=1,1,0)","v":0},{"$f":"IF(COUNTIF($D40:BB40,20)>=1,1,0)","v":0},{"$f":"IF(COUNTIF($D40:BC40,20)>=1,1,0)","v":0},{"$f":"IF(COUNTIF($D40:BD40,20)>=1,1,0)","v":0},{"$f":"IF(COUNTIF($D40:BE40,20)>=1,1,0)","v":0},{"$f":"IF(COUNTIF($D40:BF40,20)>=1,1,0)","v":0},{"$f":"IF(COUNTIF($D40:BG40,20)>=1,1,0)","v":0},null,null,null,null,null,null,null,null,null,null,null,null,null,null,null,null,null,null,null,null,null,null,{"$f":"CD42","v":20},{"$f":"CE42","v":20},20,20,20,20,20,20,20,20,20,20,20,20,20,20,20,20,".",20,10,".",20,10,".",20,10,10,10,10,10,10,10,10,10,10,10,10,10,10,10,10,10,10,10,10,10,10,10,10,10,10,10,10,10,10]
[null,null,"Jessica Matthew",null,null,{"$f":"IF(COUNTIF($D41:F41,20)>=1,1,0)","v":0},{"$f":"IF(COUNTIF($D41:G41,20)>=1,1,0)","v":0},{"$f":"IF(COUNTIF($D41:H41,20)>=1,1,0)","v":0},{"$f":"IF(COUNTIF($D41:I41,20)>=1,1,0)","v":0},{"$f":"IF(COUNTIF($D41:J41,20)>=1,1,0)","v":0},{"$f":"IF(COUNTIF($D41:K41,20)>=1,1,0)","v":0},{"$f":"IF(COUNTIF($D41:L41,20)>=1,1,0)","v":0},{"$f":"IF(COUNTIF($D41:M41,20)>=1,1,0)","v":0},{"$f":"IF(COUNTIF($D41:N41,20)>=1,1,0)","v":0},{"$f":"IF(COUNTIF($D41:O41,20)>=1,1,0)","v":0},{"$f":"IF(COUNTIF($D41:P41,20)>=1,1,0)","v":0},{"$f":"IF(COUNTIF($D41:Q41,20)>=1,1,0)","v":0},{"$f":"IF(COUNTIF($D41:R41,20)>=1,1,0)","v":0},{"$f":"IF(COUNTIF($D41:S41,20)>=1,1,0)","v":0},{"$f":"IF(COUNTIF($D41:T41,20)>=1,1,0)","v":0},{"$f":"IF(COUNTIF($D41:U41,20)>=1,1,0)","v":0},{"$f":"IF(COUNTIF($D41:V41,20)>=1,1,0)","v":0},{"$f":"IF(COUNTIF($D41:W41,20)>=1,1,0)","v":0},{"$f":"IF(COUNTIF($D41:X41,20)>=1,1,0)","v":0},{"$f":"IF(COUNTIF($D41:Y41,20)>=1,1,0)","v":0},{"$f":"IF(COUNTIF($D41:Z41,20)>=1,1,0)","v":0},{"$f":"IF(COUNTIF($D41:AA41,20)>=1,1,0)","v":0},{"$f":"IF(COUNTIF($D41:AB41,20)>=1,1,0)","v":0},{"$f":"IF(COUNTIF($D41:AC41,20)>=1,1,0)","v":0},{"$f":"IF(COUNTIF($D41:AD41,20)>=1,1,0)","v":0},{"$f":"IF(COUNTIF($D41:AE41,20)>=1,1,0)","v":0},{"$f":"IF(COUNTIF($D41:AF41,20)>=1,1,0)","v":0},{"$f":"IF(COUNTIF($D41:AG41,20)>=1,1,0)","v":0},{"$f":"IF(COUNTIF($D41:AH41,20)>=1,1,0)","v":0},{"$f":"IF(COUNTIF($D41:AI41,20)>=1,1,0)","v":0},{"$f":"IF(COUNTIF($D41:AJ41,20)>=1,1,0)","v":0},{"$f":"IF(COUNTIF($D41:AK41,20)>=1,1,0)","v":0},{"$f":"IF(COUNTIF($D41:AL41,20)>=1,1,0)","v":0},{"$f":"IF(COUNTIF($D41:AM41,20)>=1,1,0)","v":0},{"$f":"IF(COUNTIF($D41:AN41,20)>=1,1,0)","v":0},{"$f":"IF(COUNTIF($D41:AO41,20)>=1,1,0)","v":0},{"$f":"IF(COUNTIF($D41:AP41,20)>=1,1,0)","v":0},{"$f":"IF(COUNTIF($D41:AQ41,20)>=1,1,0)","v":0},{"$f":"IF(COUNTIF($D41:AR41,20)>=1,1,0)","v":0},{"$f":"IF(COUNTIF($D41:AS41,20)>=1,1,0)","v":0},{"$f":"IF(COUNTIF($D41:AT41,20)>=1,1,0)","v":0},{"$f":"IF(COUNTIF($D41:AU41,20)>=1,1,0)","v":0},{"$f":"IF(COUNTIF($D41:AV41,20)>=1,1,0)","v":0},{"$f":"IF(COUNTIF($D41:AW41,20)>=1,1,0)","v":0},{"$f":"IF(COUNTIF($D41:AX41,20)>=1,1,0)","v":0},{"$f":"IF(COUNTIF($D41:AY41,20)>=1,1,0)","v":0},{"$f":"IF(COUNTIF($D41:AZ41,20)>=1,1,0)","v":0},{"$f":"IF(COUNTIF($D41:BA41,20)>=1,1,0)","v":0},{"$f":"IF(COUNTIF($D41:BB41,20)>=1,1,0)","v":0},{"$f":"IF(COUNTIF($D41:BC41,20)>=1,1,0)","v":0},{"$f":"IF(COUNTIF($D41:BD41,20)>=1,1,0)","v":0},{"$f":"IF(COUNTIF($D41:BE41,20)>=1,1,0)","v":0},{"$f":"IF(COUNTIF($D41:BF41,20)>=1,1,0)","v":0},{"$f":"IF(COUNTIF($D41:BG41,20)>=1,1,0)","v":0},null,null,null,null,null,null,null,null,null,null,null,null,null,null,null,null,null,null,null,null,null,null,{"$f":"FD42","v":"E"},{"$f":"FE42","v":"E"},"E","E","E","E","E","E","E","E","E","E","E","E","E","E","E","E",".","E","A",".","E","A",".","E","A","A","A","A","A","A","A","A","A","A","A","A","A","A","A","A","A","A","A","A","A","A","A","A","A","A","A","A","A","A"]
[null,null,"Melody Mayer",null,null,{"$f":"IF(COUNTIF($D42:F42,20)>=1,1,0)","v":0},{"$f":"IF(COUNTIF($D42:G42,20)>=1,1,0)","v":0},{"$f":"IF(COUNTIF($D42:H42,20)>=1,1,0)","v":0},{"$f":"IF(COUNTIF($D42:I42,20)>=1,1,0)","v":0},{"$f":"IF(COUNTIF($D42:J42,20)>=1,1,0)","v":0},{"$f":"IF(COUNTIF($D42:K42,20)>=1,1,0)","v":0},{"$f":"IF(COUNTIF($D42:L42,20)>=1,1,0)","v":0},{"$f":"IF(COUNTIF($D42:M42,20)>=1,1,0)","v":0},{"$f":"IF(COUNTIF($D42:N42,20)>=1,1,0)","v":0},{"$f":"IF(COUNTIF($D42:O42,20)>=1,1,0)","v":0},{"$f":"IF(COUNTIF($D42:P42,20)>=1,1,0)","v":0},{"$f":"IF(COUNTIF($D42:Q42,20)>=1,1,0)","v":0},{"$f":"IF(COUNTIF($D42:R42,20)>=1,1,0)","v":0},{"$f":"IF(COUNTIF($D42:S42,20)>=1,1,0)","v":0},{"$f":"IF(COUNTIF($D42:T42,20)>=1,1,0)","v":0},{"$f":"IF(COUNTIF($D42:U42,20)>=1,1,0)","v":0},{"$f":"IF(COUNTIF($D42:V42,20)>=1,1,0)","v":0},{"$f":"IF(COUNTIF($D42:W42,20)>=1,1,0)","v":0},{"$f":"IF(COUNTIF($D42:X42,20)>=1,1,0)","v":0},{"$f":"IF(COUNTIF($D42:Y42,20)>=1,1,0)","v":0},{"$f":"IF(COUNTIF($D42:Z42,20)>=1,1,0)","v":0},{"$f":"IF(COUNTIF($D42:AA42,20)>=1,1,0)","v":0},{"$f":"IF(COUNTIF($D42:AB42,20)>=1,1,0)","v":0},{"$f":"IF(COUNTIF($D42:AC42,20)>=1,1,0)","v":0},{"$f":"IF(COUNTIF($D42:AD42,20)>=1,1,0)","v":0},{"$f":"IF(COUNTIF($D42:AE42,20)>=1,1,0)","v":0},{"$f":"IF(COUNTIF($D42:AF42,20)>=1,1,0)","v":0},{"$f":"IF(COUNTIF($D42:AG42,20)>=1,1,0)","v":0},{"$f":"IF(COUNTIF($D42:AH42,20)>=1,1,0)","v":0},{"$f":"IF(COUNTIF($D42:AI42,20)>=1,1,0)","v":0},{"$f":"IF(COUNTIF($D42:AJ42,20)>=1,1,0)","v":0},{"$f":"IF(COUNTIF($D42:AK42,20)>=1,1,0)","v":0},{"$f":"IF(COUNTIF($D42:AL42,20)>=1,1,0)","v":0},{"$f":"IF(COUNTIF($D42:AM42,20)>=1,1,0)","v":0},{"$f":"IF(COUNTIF($D42:AN42,20)>=1,1,0)","v":0},{"$f":"IF(COUNTIF($D42:AO42,20)>=1,1,0)","v":0},{"$f":"IF(COUNTIF($D42:AP42,20)>=1,1,0)","v":0},{"$f":"IF(COUNTIF($D42:AQ42,20)>=1,1,0)","v":0},{"$f":"IF(COUNTIF($D42:AR42,20)>=1,1,0)","v":0},{"$f":"IF(COUNTIF($D42:AS42,20)>=1,1,0)","v":0},{"$f":"IF(COUNTIF($D42:AT42,20)>=1,1,0)","v":0},{"$f":"IF(COUNTIF($D42:AU42,20)>=1,1,0)","v":0},{"$f":"IF(COUNTIF($D42:AV42,20)>=1,1,0)","v":0},{"$f":"IF(COUNTIF($D42:AW42,20)>=1,1,0)","v":0},{"$f":"IF(COUNTIF($D42:AX42,20)>=1,1,0)","v":0},{"$f":"IF(COUNTIF($D42:AY42,20)>=1,1,0)","v":0},{"$f":"IF(COUNTIF($D42:AZ42,20)>=1,1,0)","v":0},{"$f":"IF(COUNTIF($D42:BA42,20)>=1,1,0)","v":0},{"$f":"IF(COUNTIF($D42:BB42,20)>=1,1,0)","v":0},{"$f":"IF(COUNTIF($D42:BC42,20)>=1,1,0)","v":0},{"$f":"IF(COUNTIF($D42:BD42,20)>=1,1,0)","v":0},{"$f":"IF(COUNTIF($D42:BE42,20)>=1,1,0)","v":0},{"$f":"IF(COUNTIF($D42:BF42,20)>=1,1,0)","v":0},{"$f":"IF(COUNTIF($D42:BG42,20)>=1,1,0)","v":0}]
[null,null,"Klrissa McCulloch",null,null,{"$f":"IF(COUNTIF($D43:F43,20)>=1,1,0)","v":0},{"$f":"IF(COUNTIF($D43:G43,20)>=1,1,0)","v":0},{"$f":"IF(COUNTIF($D43:H43,20)>=1,1,0)","v":0},{"$f":"IF(COUNTIF($D43:I43,20)>=1,1,0)","v":0},{"$f":"IF(COUNTIF($D43:J43,20)>=1,1,0)","v":0},{"$f":"IF(COUNTIF($D43:K43,20)>=1,1,0)","v":0},{"$f":"IF(COUNTIF($D43:L43,20)>=1,1,0)","v":0},{"$f":"IF(COUNTIF($D43:M43,20)>=1,1,0)","v":0},{"$f":"IF(COUNTIF($D43:N43,20)>=1,1,0)","v":0},{"$f":"IF(COUNTIF($D43:O43,20)>=1,1,0)","v":0},{"$f":"IF(COUNTIF($D43:P43,20)>=1,1,0)","v":0},{"$f":"IF(COUNTIF($D43:Q43,20)>=1,1,0)","v":0},{"$f":"IF(COUNTIF($D43:R43,20)>=1,1,0)","v":0},{"$f":"IF(COUNTIF($D43:S43,20)>=1,1,0)","v":0},{"$f":"IF(COUNTIF($D43:T43,20)>=1,1,0)","v":0},{"$f":"IF(COUNTIF($D43:U43,20)>=1,1,0)","v":0},{"$f":"IF(COUNTIF($D43:V43,20)>=1,1,0)","v":0},{"$f":"IF(COUNTIF($D43:W43,20)>=1,1,0)","v":0},{"$f":"IF(COUNTIF($D43:X43,20)>=1,1,0)","v":0},{"$f":"IF(COUNTIF($D43:Y43,20)>=1,1,0)","v":0},{"$f":"IF(COUNTIF($D43:Z43,20)>=1,1,0)","v":0},{"$f":"IF(COUNTIF($D43:AA43,20)>=1,1,0)","v":0},{"$f":"IF(COUNTIF($D43:AB43,20)>=1,1,0)","v":0},{"$f":"IF(COUNTIF($D43:AC43,20)>=1,1,0)","v":0},{"$f":"IF(COUNTIF($D43:AD43,20)>=1,1,0)","v":0},{"$f":"IF(COUNTIF($D43:AE43,20)>=1,1,0)","v":0},{"$f":"IF(COUNTIF($D43:AF43,20)>=1,1,0)","v":0},{"$f":"IF(COUNTIF($D43:AG43,20)>=1,1,0)","v":0},{"$f":"IF(COUNTIF($D43:AH43,20)>=1,1,0)","v":0},{"$f":"IF(COUNTIF($D43:AI43,20)>=1,1,0)","v":0},{"$f":"IF(COUNTIF($D43:AJ43,20)>=1,1,0)","v":0},{"$f":"IF(COUNTIF($D43:AK43,20)>=1,1,0)","v":0},{"$f":"IF(COUNTIF($D43:AL43,20)>=1,1,0)","v":0},{"$f":"IF(COUNTIF($D43:AM43,20)>=1,1,0)","v":0},{"$f":"IF(COUNTIF($D43:AN43,20)>=1,1,0)","v":0},{"$f":"IF(COUNTIF($D43:AO43,20)>=1,1,0)","v":0},{"$f":"IF(COUNTIF($D43:AP43,20)>=1,1,0)","v":0},{"$f":"IF(COUNTIF($D43:AQ43,20)>=1,1,0)","v":0},{"$f":"IF(COUNTIF($D43:AR43,20)>=1,1,0)","v":0},{"$f":"IF(COUNTIF($D43:AS43,20)>=1,1,0)","v":0},{"$f":"IF(COUNTIF($D43:AT43,20)>=1,1,0)","v":0},{"$f":"IF(COUNTIF($D43:AU43,20)>=1,1,0)","v":0},{"$f":"IF(COUNTIF($D43:AV43,20)>=1,1,0)","v":0},{"$f":"IF(COUNTIF($D43:AW43,20)>=1,1,0)","v":0},{"$f":"IF(COUNTIF($D43:AX43,20)>=1,1,0)","v":0},{"$f":"IF(COUNTIF($D43:AY43,20)>=1,1,0)","v":0},{"$f":"IF(COUNTIF($D43:AZ43,20)>=1,1,0)","v":0},{"$f":"IF(COUNTIF($D43:BA43,20)>=1,1,0)","v":0},{"$f":"IF(COUNTIF($D43:BB43,20)>=1,1,0)","v":0},{"$f":"IF(COUNTIF($D43:BC43,20)>=1,1,0)","v":0},{"$f":"IF(COUNTIF($D43:BD43,20)>=1,1,0)","v":0},{"$f":"IF(COUNTIF($D43:BE43,20)>=1,1,0)","v":0},{"$f":"IF(COUNTIF($D43:BF43,20)>=1,1,0)","v":0},{"$f":"IF(COUNTIF($D43:BG43,20)>=1,1,0)","v":0},null,null,null,null,null,null,null,null,null,null,null,null,null,null,null,null,null,null,null,null,null,null,{"$f":"CD43","v":20},{"$f":"CE43","v":20},20,20,20,20,20,20,20,20,20,20,20,20,20,20,20,20,".",20,10,".",20,10,".",20,10,10,10,10,10,10,10,10,10,10,10,10,10,10,10,10,10,10,10,10,10,10,10,10,10,10,10,10,10,10]
[null,null,"Bryan Robey",null,null,{"$f":"IF(COUNTIF($D44:F44,20)>=1,1,0)","v":0},{"$f":"IF(COUNTIF($D44:G44,20)>=1,1,0)","v":0},{"$f":"IF(COUNTIF($D44:H44,20)>=1,1,0)","v":0},{"$f":"IF(COUNTIF($D44:I44,20)>=1,1,0)","v":0},{"$f":"IF(COUNTIF($D44:J44,20)>=1,1,0)","v":0},{"$f":"IF(COUNTIF($D44:K44,20)>=1,1,0)","v":0},{"$f":"IF(COUNTIF($D44:L44,20)>=1,1,0)","v":0},{"$f":"IF(COUNTIF($D44:M44,20)>=1,1,0)","v":0},{"$f":"IF(COUNTIF($D44:N44,20)>=1,1,0)","v":0},{"$f":"IF(COUNTIF($D44:O44,20)>=1,1,0)","v":0},{"$f":"IF(COUNTIF($D44:P44,20)>=1,1,0)","v":0},{"$f":"IF(COUNTIF($D44:Q44,20)>=1,1,0)","v":0},{"$f":"IF(COUNTIF($D44:R44,20)>=1,1,0)","v":0},{"$f":"IF(COUNTIF($D44:S44,20)>=1,1,0)","v":0},{"$f":"IF(COUNTIF($D44:T44,20)>=1,1,0)","v":0},{"$f":"IF(COUNTIF($D44:U44,20)>=1,1,0)","v":0},{"$f":"IF(COUNTIF($D44:V44,20)>=1,1,0)","v":0},{"$f":"IF(COUNTIF($D44:W44,20)>=1,1,0)","v":0},{"$f":"IF(COUNTIF($D44:X44,20)>=1,1,0)","v":0},{"$f":"IF(COUNTIF($D44:Y44,20)>=1,1,0)","v":0},{"$f":"IF(COUNTIF($D44:Z44,20)>=1,1,0)","v":0},{"$f":"IF(COUNTIF($D44:AA44,20)>=1,1,0)","v":0},{"$f":"IF(COUNTIF($D44:AB44,20)>=1,1,0)","v":0},{"$f":"IF(COUNTIF($D44:AC44,20)>=1,1,0)","v":0},{"$f":"IF(COUNTIF($D44:AD44,20)>=1,1,0)","v":0},{"$f":"IF(COUNTIF($D44:AE44,20)>=1,1,0)","v":0},{"$f":"IF(COUNTIF($D44:AF44,20)>=1,1,0)","v":0},{"$f":"IF(COUNTIF($D44:AG44,20)>=1,1,0)","v":0},{"$f":"IF(COUNTIF($D44:AH44,20)>=1,1,0)","v":0},{"$f":"IF(COUNTIF($D44:AI44,20)>=1,1,0)","v":0},{"$f":"IF(COUNTIF($D44:AJ44,20)>=1,1,0)","v":0},{"$f":"IF(COUNTIF($D44:AK44,20)>=1,1,0)","v":0},{"$f":"IF(COUNTIF($D44:AL44,20)>=1,1,0)","v":0},{"$f":"IF(COUNTIF($D44:AM44,20)>=1,1,0)","v":0},{"$f":"IF(COUNTIF($D44:AN44,20)>=1,1,0)","v":0},{"$f":"IF(COUNTIF($D44:AO44,20)>=1,1,0)","v":0},{"$f":"IF(COUNTIF($D44:AP44,20)>=1,1,0)","v":0},{"$f":"IF(COUNTIF($D44:AQ44,20)>=1,1,0)","v":0},{"$f":"IF(COUNTIF($D44:AR44,20)>=1,1,0)","v":0},{"$f":"IF(COUNTIF($D44:AS44,20)>=1,1,0)","v":0},{"$f":"IF(COUNTIF($D44:AT44,20)>=1,1,0)","v":0},{"$f":"IF(COUNTIF($D44:AU44,20)>=1,1,0)","v":0},{"$f":"IF(COUNTIF($D44:AV44,20)>=1,1,0)","v":0},{"$f":"IF(COUNTIF($D44:AW44,20)>=1,1,0)","v":0},{"$f":"IF(COUNTIF($D44:AX44,20)>=1,1,0)","v":0},{"$f":"IF(COUNTIF($D44:AY44,20)>=1,1,0)","v":0},{"$f":"IF(COUNTIF($D44:AZ44,20)>=1,1,0)","v":0},{"$f":"IF(COUNTIF($D44:BA44,20)>=1,1,0)","v":0},{"$f":"IF(COUNTIF($D44:BB44,20)>=1,1,0)","v":0},{"$f":"IF(COUNTIF($D44:BC44,20)>=1,1,0)","v":0},{"$f":"IF(COUNTIF($D44:BD44,20)>=1,1,0)","v":0},{"$f":"IF(COUNTIF($D44:BE44,20)>=1,1,0)","v":0},{"$f":"IF(COUNTIF($D44:BF44,20)>=1,1,0)","v":0},{"$f":"IF(COUNTIF($D44:BG44,20)>=1,1,0)","v":0},null,null,null,null,null,null,null,null,null,null,null,null,null,null,null,null,null,null,null,null,null,null,{"$f":"FD43","v":"E"},{"$f":"FE43","v":"E"},"E","E","E","E","E","E","E","E","E","E","E","E","E","E","E","E",".","E","A",".","E","A",".","E","A","A","A","A","A","A","A","A","A","A","A","A","A","A","A","A","A","A","A","A","A","A","A","A","A","A","A","A","A","A"]
[null,null,"Bryce Hansen",null,null,{"$f":"SUM(F53:F57)","v":0},{"$f":"SUM(G53:G57)","v":0},0,0,0,0,0,0,0,0,0,0,0,0,0,0,0,0,0,0,0,0,0,0,0,0,0,0,0,0,0,0,0,0,0,0,0,0,0,0,0,0,0,0,0,0,0,0,0,0,0,0,0,0]
[null,null,"Devine Fumey",null,null,{"$f":"IF(F50=\"A\",0.01,IF(F58>=3,IF(F58>E58,10,0),0))","v":0},{"$f":"IF(G50=\"A\",0.01,IF(G58>=3,IF(G58>F58,10,0),0))","v":0},0,0,0,0,0,0,0,0,0,0,0,0,0,{"$f":"IF(U43=\"A\",0.01,IF(U42=\"A\",0.01,IF(U41=\"A\",0.01,IF(U40=\"A\",0.01,IF(U58>=3,IF(U58>T58,10,0),0)))))","v":0},{"$f":"IF(V40=\"A\",0.01,IF(V41=\"A\",0.01,IF(V42=\"A\",0.01,IF(V43=\"A\",0.01,0))))","v":0},{"$f":"IF(W50=\"A\",0.01,IF(W58>=3,IF(W58>V58,10,0),0))","v":0},{"$f":"IF(X40=\"A\",0.01,IF(X41=\"A\",0.01,IF(X42=\"A\",0.01,IF(X43=\"A\",0.01,0))))","v":0},{"$f":"IF(Y40=\"A\",0.01,IF(Y41=\"A\",0.01,IF(Y42=\"A\",0.01,IF(Y43=\"A\",0.01,0))))","v":0},{"$f":"IF(Z50=\"A\",0.01,IF(Z58>=3,IF(Z58>Y58,10,0),0))","v":0},{"$f":"IF(AA40=\"A\",0.01,IF(AA41=\"A\",0.01,IF(AA42=\"A\",0.01,IF(AA43=\"A\",0.01,0))))","v":0},{"$f":"IF(AB40=\"A\",0.01,IF(AB41=\"A\",0.01,IF(AB42=\"A\",0.01,IF(AB43=\"A\",0.01,0))))","v":0},{"$f":"IF(AC50=\"A\",0.01,IF(AC58>=3,IF(AC58>AB58,10,0),0))","v":0},{"$f":"IF(AC107=\"\",0,IF(AD50=\"A\",0.01,IF(AD58>=3,IF(AD58>AC58,10,0),0)))","v":0},0,0,0,0,0,0,0,0,0,0,0,0,0,0,0,0,0,0,0,0,0,0,0,0,0,0,0,0,0,null,null,null,null,null,null,null,null,null,null,null,null,null,null,null,null,null,null,null,null,null,null,{"$f":"CD44","v":20},{"$f":"CE44","v":20},20,20,20,20,20,20,20,20,20,20,20,20,20,20,20,20,".",20,10,".",20,10,".",20,10,10,10,10,10,10,10,10,10,10,10,10,10,10,10,10,10,10,10,10,10,10,10,10,10,10,10,10,10,10]
[null,null," ",null,null,{"$f":"IF(E48=1,IF(F71=1,1,0),0)","v":0},{"$f":"IF(F48=1,IF(G71=1,1,0),0)","v":0},{"$f":"IF(G48=1,IF(H71=1,1,0),0)","v":0},0,0,0,0,0,0,0,0,0,0,0,0,0,0,0,0,0,0,0,0,0,0,0,0,0,0,0,0,0,0,0,0,0,0,0,0,0,0,0,0,0,0,0,0,0,0,0,0,0,0,0,null,null,null,null,null,null,null,null,null,null,null,null,null,null,null,null,null,null,null,null,null,null,{"$f":"FD44","v":"E"},{"$f":"FE44","v":"E"},"E","E","E","E","E","E","E","E","E","E","E","E","E","E","E","E",".","E","A",".","E","A",".","E","A","A","A","A","A","A","A","A","A","A","A","A","A","A","A","A","A","A","A","A","A","A","A","A","A","A","A","A","A","A"]
[null,null," ",{"$f":"D38","v":8},{"$f":"E38","v":8},8,8,14,15,15,15,15,15,15,15,15,15,15,15,15,15,15,15,15,15,15,15,15,15,15,15,15,15,15,15,15,15,15,15,15,15,15,15,15,15,15,15,15,15,15,15,15,15,15,15,15,15,15,15]
["Individual","Errors","Team Name",1,2,3,4,5,6,7,8,9,10,11,12,13,14,15,16,17,{"$f":"IF(U39=\"\",\"\",U39)","v":""},{"$f":"IF(V39=\"\",\"\",V39)","v":""},18,{"$f":"IF(X39=\"\",\"\",X39)","v":""},{"$f":"IF(Y39=\"\",\"\",Y39)","v":""},19,{"$f":"IF(AA39=\"\",\"\",AA39)","v":""},{"$f":"IF(AB39=\"\",\"\",AB39)","v":""},20,{"$f":"IF(AD39=\"\",\"\",AD39)","v":""},{"$f":"IF(AE39=\"\",\"\",AE39)","v":""},"","","","","","","","","","","","","","","","","","","","","","","","","","","",""]
[{"$f":"IF(MAX(D63:BG63)=30,90,COUNTIF(D63:BG63,20)*20)","v":0},{"$f":"COUNTIF(D63:BG63,\"E\")","v":0},"Quizzer #1",{"$f":"IF(D$17=\"\",\"\",IF(D$17=0,0,\"\"))","v":""},"","","",null,"","","","","","","","","","","",{"$f":"IF(T$17=\"\",\"\",IF(T$17=0,0,\"\"))","v":""},"","","","","","","","","","","","","","","",{"$f":"IF(AJ$17=\"\",\"\",IF(AJ$17=0,0,\"\"))","v":""},"","","","","","","","","","","","","","","",{"$f":"IF(AZ$17=\"\",\"\",IF(AZ$17=0,0,\"\"))","v":""},"","","","","","","",null,null,null,null,null,null,null,null,null,null,null,null,null,null,null,null,null,null,null,null,null,null,{"$f":"Sheet4!D63","v":20},{"$f":"Sheet4!E63","v":20},{"$f":"Sheet4!F63","v":20},{"$f":"Sheet4!G63","v":20},{"$f":"Sheet4!H63","v":20},{"$f":"Sheet4!I63","v":"."},{"$f":"Sheet4!J63","v":20},{"$f":"Sheet4!K63","v":20},{"$f":"Sheet4!L63","v":20},{"$f":"Sheet4!M63","v":20},{"$f":"Sheet4!N63","v":20},{"$f":"Sheet4!O63","v":20},{"$f":"Sheet4!P63","v":20},{"$f":"Sheet4!Q63","v":20},{"$f":"Sheet4!R63","v":20},{"$f":"Sheet4!S63","v":20},{"$f":"Sheet4!T63","v":20},{"$f":"Sheet4!U63","v":20},{"$f":"Sheet4!V63","v":10},{"$f":"Sheet4!W63","v":20},{"$f":"Sheet4!X63","v":20},{"$f":"Sheet4!Y63","v":10},{"$f":"Sheet4!Z63","v":20},{"$f":"Sheet4!AA63","v":20},{"$f":"Sheet4!AB63","v":10},{"$f":"Sheet4!AC63","v":20},{"$f":"Sheet4!AD63","v":"."},{"$f":"Sheet4!AE63","v":"."},{"$f":"Sheet4!AF63","v":"."},{"$f":"Sheet4!AG63","v":"."},{"$f":"Sheet4!AH63","v":"."},{"$f":"Sheet4!AI63","v":"."},{"$f":"Sheet4!AJ63","v":"."},{"$f":"Sheet4!AK63","v":"."},{"$f":"Sheet4!AL63","v":"."},{"$f":"Sheet4!AM63","v":"."},{"$f":"Sheet4!AN63","v":"."},{"$f":"Sheet4!AO63","v":"."},{"$f":"Sheet4!AP63","v":"."},{"$f":"Sheet4!AQ63","v":"."},{"$f":"Sheet4!AR63","v":"."},{"$f":"Sheet4!AS63","v":"."},{"$f":"Sheet4!AT63","v":"."},{"$f":"Sheet4!AU63","v":"."},{"$f":"Sheet4!AV63","v":"."},{"$f":"Sheet4!AW63","v":"."},{"$f":"Sheet4!AX63","v":"."},{"$f":"Sheet4!AY63","v":"."},{"$f":"Sheet4!AZ63","v":"."},{"$f":"Sheet4!BA63","v":"."},{"$f":"Sheet4!BB63","v":"."},{"$f":"Sheet4!BC63","v":"."},{"$f":"Sheet4!BD63","v":"."},{"$f":"Sheet4!BE63","v":"."},{"$f":"Sheet4!BF63","v":"."},{"$f":"Sheet4!BG63","v":"."},null,null,null,null,null,null,null,null,null,null,null,null,null,null,null,null,null,null,null,null,null,null,{"$f":"IF(CD63=\".\",\".\",D73)","v":"E"},{"$f":"IF(CE63=\".\",\".\",E73)","v":"E"},"E","E","E",".","E","E","E","E","E","E","E","E","E","E","E","E","A","E","E","A","E","E","A","E",".",".",".",".",".",".",".",".",".",".",".",".",".",".",".",".",".",".",".",".",".",".",".",".",".",".",".",".",".","."]
[0,{"$f":"COUNTIF(D64:BG64,\"E\")","v":0},"Quizzer #2","","","","",null,"","","","","","","","","","","","","","","","","","","","","","","","","","","","","","","","","","","","","","","","","","","","","","","","","","","",null,null,null,null,null,null,null,null,null,null,null,null,null,null,null,null,null,null,null,null,null,null,{"$f":"Sheet4!D64","v":20},{"$f":"Sheet4!E64","v":20},{"$f":"Sheet4!F64","v":20},{"$f":"Sheet4!G64","v":20},{"$f":"Sheet4!H64","v":20},{"$f":"Sheet4!I64","v":"."},{"$f":"Sheet4!J64","v":20},{"$f":"Sheet4!K64","v":20},{"$f":"Sheet4!L64","v":20},{"$f":"Sheet4!M64","v":20},{"$f":"Sheet4!N64","v":20},{"$f":"Sheet4!O64","v":20},{"$f":"Sheet4!P64","v":20},{"$f":"Sheet4!Q64","v":20},{"$f":"Sheet4!R64","v":20},{"$f":"Sheet4!S64","v":20},{"$f":"Sheet4!T64","v":20},{"$f":"Sheet4!U64","v":20},{"$f":"Sheet4!V64","v":10},{"$f":"Sheet4!W64","v":20},{"$f":"Sheet4!X64","v":20},{"$f":"Sheet4!Y64","v":10},{"$f":"Sheet4!Z64","v":20},{"$f":"Sheet4!AA64","v":20},{"$f":"Sheet4!AB64","v":10},{"$f":"Sheet4!AC64","v":20},{"$f":"Sheet4!AD64","v":"."},{"$f":"Sheet4!AE64","v":"."},{"$f":"Sheet4!AF64","v":"."},{"$f":"Sheet4!AG64","v":"."},{"$f":"Sheet4!AH64","v":"."},{"$f":"Sheet4!AI64","v":"."},{"$f":"Sheet4!AJ64","v":"."},{"$f":"Sheet4!AK64","v":"."},{"$f":"Sheet4!AL64","v":"."},{"$f":"Sheet4!AM64","v":"."},{"$f":"Sheet4!AN64","v":"."},{"$f":"Sheet4!AO64","v":"."},{"$f":"Sheet4!AP64","v":"."},{"$f":"Sheet4!AQ64","v":"."},{"$f":"Sheet4!AR64","v":"."},{"$f":"Sheet4!AS64","v":"."},{"$f":"Sheet4!AT64","v":"."},{"$f":"Sheet4!AU64","v":"."},{"$f":"Sheet4!AV64","v":"."},{"$f":"Sheet4!AW64","v":"."},{"$f":"Sheet4!AX64","v":"."},{"$f":"Sheet4!AY64","v":"."},{"$f":"Sheet4!AZ64","v":"."},{"$f":"Sheet4!BA64","v":"."},{"$f":"Sheet4!BB64","v":"."},{"$f":"Sheet4!BC64","v":"."},{"$f":"Sheet4!BD64","v":"."},{"$f":"Sheet4!BE64","v":"."},{"$f":"Sheet4!BF64","v":"."},{"$f":"Sheet4!BG64","v":"."},null,null,null,null,null,null,null,null,null,null,null,null,null,null,null,null,null,null,null,null,null,null,{"$f":"IF(CD64=\".\",\".\",D73)","v":"E"},{"$f":"IF(CE64=\".\",\".\",E73)","v":"E"},"E","E","E",".","E","E","E","E","E","E","E","E","E","E","E","E","A","E","E","A","E","E","A","E",".",".",".",".",".",".",".",".",".",".",".",".",".",".",".",".",".",".",".",".",".",".",".",".",".",".",".",".",".","."]
[0,{"$f":"COUNTIF(D65:BG65,\"E\")","v":1},"Quizzer #3","","","","","E","","","","","","","","","","","","","","","","","","","","","","","","","","","","","","","","","","","","","","","","","","","","","","","","","","","",null,null,null,null,null,null,null,null,null,null,null,null,null,null,null,null,null,null,null,null,null,null,{"$f":"Sheet4!D65","v":20},{"$f":"Sheet4!E65","v":20},{"$f":"Sheet4!F65","v":20},{"$f":"Sheet4!G65","v":20},{"$f":"Sheet4!H65","v":20},{"$f":"Sheet4!I65","v":"."},{"$f":"Sheet4!J65","v":20},{"$f":"Sheet4!K65","v":20},{"$f":"Sheet4!L65","v":20},{"$f":"Sheet4!M65","v":20},{"$f":"Sheet4!N65","v":20},{"$f":"Sheet4!O65","v":20},{"$f":"Sheet4!P65","v":20},{"$f":"Sheet4!Q65","v":20},{"$f":"Sheet4!R65","v":20},{"$f":"Sheet4!S65","v":20},{"$f":"Sheet4!T65","v":20},{"$f":"Sheet4!U65","v":20},{"$f":"Sheet4!V65","v":10},{"$f":"Sheet4!W65","v":20},{"$f":"Sheet4!X65","v":20},{"$f":"Sheet4!Y65","v":10},{"$f":"Sheet4!Z65","v":20},{"$f":"Sheet4!AA65","v":20},{"$f":"Sheet4!AB65","v":10},{"$f":"Sheet4!AC65","v":20},{"$f":"Sheet4!AD65","v":"."},{"$f":"Sheet4!AE65","v":"."},{"$f":"Sheet4!AF65","v":"."},{"$f":"Sheet4!AG65","v":"."},{"$f":"Sheet4!AH65","v":"."},{"$f":"Sheet4!AI65","v":"."},{"$f":"Sheet4!AJ65","v":"."},{"$f":"Sheet4!AK65","v":"."},{"$f":"Sheet4!AL65","v":"."},{"$f":"Sheet4!AM65","v":"."},{"$f":"Sheet4!AN65","v":"."},{"$f":"Sheet4!AO65","v":"."},{"$f":"Sheet4!AP65","v":"."},{"$f":"Sheet4!AQ65","v":"."},{"$f":"Sheet4!AR65","v":"."},{"$f":"Sheet4!AS65","v":"."},{"$f":"Sheet4!AT65","v":"."},{"$f":"Sheet4!AU65","v":"."},{"$f":"Sheet4!AV65","v":"."},{"$f":"Sheet4!AW65","v":"."},{"$f":"Sheet4!AX65","v":"."},{"$f":"Sheet4!AY65","v":"."},{"$f":"Sheet4!AZ65","v":"."},{"$f":"Sheet4!BA65","v":"."},{"$f":"Sheet4!BB65","v":"."},{"$f":"Sheet4!BC65","v":"."},{"$f":"Sheet4!BD65","v":"."},{"$f":"Sheet4!BE65","v":"."},{"$f":"Sheet4!BF65","v":"."},{"$f":"Sheet4!BG65","v":"."},null,null,null,null,null,null,null,null,null,null,null,null,null,null,null,null,null,null,null,null,null,null,{"$f":"IF(CD65=\".\",\".\",D73)","v":"E"},{"$f":"IF(CE65=\".\",\".\",E73)","v":"E"},"E","E","E",".","E","E","E","E","E","E","E","E","E","E","E","E","A","E","E","A","E","E","A","E",".",".",".",".",".",".",".",".",".",".",".",".",".",".",".",".",".",".",".",".",".",".",".",".",".",".",".",".",".","."]
[0,{"$f":"COUNTIF(D66:BG66,\"E\")","v":0},"Quizzer #4","","","","","","","","","","","","","","","","","","","","","","","","","","","","","","","","","","","","","","","","","","","","","","","","","","","","","","","","",null,null,null,null,null,null,null,null,null,null,null,null,null,null,null,null,null,null,null,null,null,null,{"$f":"Sheet4!D66","v":20},{"$f":"Sheet4!E66","v":20},{"$f":"Sheet4!F66","v":20},{"$f":"Sheet4!G66","v":20},{"$f":"Sheet4!H66","v":20},{"$f":"Sheet4!I66","v":"."},{"$f":"Sheet4!J66","v":20},{"$f":"Sheet4!K66","v":20},{"$f":"Sheet4!L66","v":20},{"$f":"Sheet4!M66","v":20},{"$f":"Sheet4!N66","v":20},{"$f":"Sheet4!O66","v":20},{"$f":"Sheet4!P66","v":20},{"$f":"Sheet4!Q66","v":20},{"$f":"Sheet4!R66","v":20},{"$f":"Sheet4!S66","v":20},{"$f":"Sheet4!T66","v":20},{"$f":"Sheet4!U66","v":20},{"$f":"Sheet4!V66","v":10},{"$f":"Sheet4!W66","v":20},{"$f":"Sheet4!X66","v":20},{"$f":"Sheet4!Y66","v":10},{"$f":"Sheet4!Z66","v":20},{"$f":"Sheet4!AA66","v":20},{"$f":"Sheet4!AB66","v":10},{"$f":"Sheet4!AC66","v":20},{"$f":"Sheet4!AD66","v":"."},{"$f":"Sheet4!AE66","v":"."},{"$f":"Sheet4!AF66","v":"."},{"$f":"Sheet4!AG66","v":"."},{"$f":"Sheet4!AH66","v":"."},{"$f":"Sheet4!AI66","v":"."},{"$f":"Sheet4!AJ66","v":"."},{"$f":"Sheet4!AK66","v":"."},{"$f":"Sheet4!AL66","v":"."},{"$f":"Sheet4!AM66","v":"."},{"$f":"Sheet4!AN66","v":"."},{"$f":"Sheet4!AO66","v":"."},{"$f":"Sheet4!AP66","v":"."},{"$f":"Sheet4!AQ66","v":"."},{"$f":"Sheet4!AR66","v":"."},{"$f":"Sheet4!AS66","v":"."},{"$f":"Sheet4!AT66","v":"."},{"$f":"Sheet4!AU66","v":"."},{"$f":"Sheet4!AV66","v":"."},{"$f":"Sheet4!AW66","v":"."},{"$f":"Sheet4!AX66","v":"."},{"$f":"Sheet4!AY66","v":"."},{"$f":"Sheet4!AZ66","v":"."},{"$f":"Sheet4!BA66","v":"."},{"$f":"Sheet4!BB66","v":"."},{"$f":"Sheet4!BC66","v":"."},{"$f":"Sheet4!BD66","v":"."},{"$f":"Sheet4!BE66","v":"."},{"$f":"Sheet4!BF66","v":"."},{"$f":"Sheet4!BG66","v":"."},null,null,null,null,null,null,null,null,null,null,null,null,null,null,null,null,null,null,null,null,null,null,{"$f":"IF(CD66=\".\",\".\",D73)","v":"E"},{"$f":"IF(CE66=\".\",\".\",E73)","v":"E"},"E","E","E",".","E","E","E","E","E","E","E","E","E","E","E","E","A","E","E","A","E","E","A","E",".",".",".",".",".",".",".",".",".",".",".",".",".",".",".",".",".",".",".",".",".",".",".",".",".",".",".",".",".","."]
[0,{"$f":"COUNTIF(D67:BG67,\"E\")","v":0},null,"","","","","","","","","","","","","","","","","","","","","","","","","","","","","","","","","","","","","","","","","","","","","","","","","","","","","","","","",null,null,null,null,null,null,null,null,null,null,null,null,null,null,null,null,null,null,null,null,null,null,{"$f":"Sheet4!D67","v":20},{"$f":"Sheet4!E67","v":20},{"$f":"Sheet4!F67","v":20},{"$f":"Sheet4!G67","v":20},{"$f":"Sheet4!H67","v":20},{"$f":"Sheet4!I67","v":"."},{"$f":"Sheet4!J67","v":20},{"$f":"Sheet4!K67","v":20},{"$f":"Sheet4!L67","v":20},{"$f":"Sheet4!M67","v":20},{"$f":"Sheet4!N67","v":20},{"$f":"Sheet4!O67","v":20},{"$f":"Sheet4!P67","v":20},{"$f":"Sheet4!Q67","v":20},{"$f":"Sheet4!R67","v":20},{"$f":"Sheet4!S67","v":20},{"$f":"Sheet4!T67","v":20},{"$f":"Sheet4!U67","v":20},{"$f":"Sheet4!V67","v":10},{"$f":"Sheet4!W67","v":20},{"$f":"Sheet4!X67","v":20},{"$f":"Sheet4!Y67","v":10},{"$f":"Sheet4!Z67","v":20},{"$f":"Sheet4!AA67","v":20},{"$f":"Sheet4!AB67","v":10},{"$f":"Sheet4!AC67","v":20},{"$f":"Sheet4!AD67","v":"."},{"$f":"Sheet4!AE67","v":"."},{"$f":"Sheet4!AF67","v":"."},{"$f":"Sheet4!AG67","v":"."},{"$f":"Sheet4!AH67","v":"."},{"$f":"Sheet4!AI67","v":"."},{"$f":"Sheet4!AJ67","v":"."},{"$f":"Sheet4!AK67","v":"."},{"$f":"Sheet4!AL67","v":"."},{"$f":"Sheet4!AM67","v":"."},{"$f":"Sheet4!AN67","v":"."},{"$f":"Sheet4!AO67","v":"."},{"$f":"Sheet4!AP67","v":"."},{"$f":"Sheet4!AQ67","v":"."},{"$f":"Sheet4!AR67","v":"."},{"$f":"Sheet4!AS67","v":"."},{"$f":"Sheet4!AT67","v":"."},{"$f":"Sheet4!AU67","v":"."},{"$f":"Sheet4!AV67","v":"."},{"$f":"Sheet4!AW67","v":"."},{"$f":"Sheet4!AX67","v":"."},{"$f":"Sheet4!AY67","v":"."},{"$f":"Sheet4!AZ67","v":"."},{"$f":"Sheet4!BA67","v":"."},{"$f":"Sheet4!BB67","v":"."},{"$f":"Sheet4!BC67","v":"."},{"$f":"Sheet4!BD67","v":"."},{"$f":"Sheet4!BE67","v":"."},{"$f":"Sheet4!BF67","v":"."},{"$f":"Sheet4!BG67","v":"."},null,null,null,null,null,null,null,null,null,null,null,null,null,null,null,null,null,null,null,null,null,null,{"$f":"IF(CD67=\".\",\".\",D73)","v":"E"},{"$f":"IF(CE67=\".\",\".\",E73)","v":"E"},"E","E","E",".","E","E","E","E","E","E","E","E","E","E","E","E","A","E","E","A","E","E","A","E",".",".",".",".",".",".",".",".",".",".",".",".",".",".",".",".",".",".",".",".",".",".",".",".",".",".",".",".",".","."]
[0,0,0.25,{"$f":"SUM(D63:D67)+D75+0.25","v":0.25},{"$f":"D68+SUM(E63:E67)+E75","v":0.25},{"$f":"E68+SUM(F63:F67)+F75+F82","v":0.25},{"$f":"F68+SUM(G63:G67)+G75+G82","v":0.25},{"$f":"G68+SUM(H63:H67)+H75+H82","v":0.24},{"$f":"H68+SUM(I63:I67)+I75+I82","v":0.24},0.24,0.24,0.24,0.24,0.24,0.24,0.24,0.24,0.24,0.24,0.24,0.24,0.24,0.24,0.24,0.24,0.24,0.24,0.24,0.24,0.24,0.24,0.24,0.24,0.24,0.24,0.24,0.24,0.24,0.24,0.24,0.24,0.24,0.24,0.24,0.24,0.24,0.24,0.24,0.24,0.24,0.24,0.24,0.24,0.24,0.24,0.24,0.24,0.24,-99]
["Team Total","Olympic Pts.",{"$f":"IF(Sheet4!B137=0,IF(Sheet4!B138=0,Sheet4!C126,Sheet4!C127),IF(Sheet4!B138=0,Sheet4!C129,Sheet4!C128))","v":"Timeout = T, Foul = F ------------>"},null,null,null,null,null,null,null,null,null,null,null,null,null,null,null,null,null,null,null,null,null,null,null,null,null,null,null,null,null,null,null,null,null,null,null,null,null,null,null,null,null,null,null,null,null,null,null,null,null,null,null,null,null,null,null,null,null,null,null,null,null,null,null,null,null,null,null,null,null,null,null,null,null,null,null,null,null,null,{"$f":"CD63","v":20},{"$f":"CE63","v":20},20,20,20,".",20,20,20,20,20,20,20,20,20,20,20,20,10,20,20,10,20,20,10,20,".",".",".",".",".",".",".",".",".",".",".",".",".",".",".",".",".",".",".",".",".",".",".",".",".",".",".",".",".","."]
[null,{"$f":"AB126","v":0},"Hannah Trombley",null,{"$f":"COUNTIF(D63:D67,\"E\")","v":0},{"$f":"COUNTIF(D63:E67,\"E\")","v":0},{"$f":"COUNTIF(E63:F67,\"E\")","v":0},{"$f":"COUNTIF(F63:G67,\"E\")","v":0},1,1,0,0,0,0,0,0,0,0,0,0,0,0,0,0,0,0,0,0,0,0,0,0,0,0,0,0,0,0,0,0,0,0,0,0,0,0,0,0,0,0,0,0,0,0,0,0,0,0,0,null,null,null,null,null,null,null,null,null,null,null,null,null,null,null,null,null,null,null,null,null,null,{"$f":"FD63","v":"E"},{"$f":"FE63","v":"E"},"E","E","E",".","E","E","E","E","E","E","E","E","E","E","E","E","A","E","E","A","E","E","A","E",".",".",".",".",".",".",".",".",".",".",".",".",".",".",".",".",".",".",".",".",".",".",".",".",".",".",".",".",".","."]
[null,0,"Rachel Gervais",null,{"$f":"COUNTIF(D63:D67,\"E\")","v":0},{"$f":"COUNTIF(E63:E67,\"E\")","v":0},{"$f":"COUNTIF(F63:F67,\"E\")","v":0},{"$f":"COUNTIF(G63:G67,\"E\")","v":0},1,0,0,0,0,0,0,0,0,0,0,0,0,0,0,0,0,0,0,0,0,0,0,0,0,0,0,0,0,0,0,0,0,0,0,0,0,0,0,0,0,0,0,0,0,0,0,0,0,0,0,null,null,null,null,null,null,null,null,null,null,null,null,null,null,null,null,null,null,null,null,null,null,0,1,2,3,4,5,6,7,8,9,10,11,12,13,14,15,16,17,18,19,20,21,22,23,24,25,26,27,28,29,30,31,32,33,34,35,36,37,38,39,40,41,42,43,44,45,46,47,48,49,50,51,52,53,54,55]
[null,{"$f":"IF(BG81>=3,2,0)","v":0},"Lorissa Morgan",20,{"$f":"IF(E71=1,\".\",20)","v":20},{"$f":"IF(F83=1,\".\",IF(F71=1,\".\",IF(SUM(F47,F24)<2,20,10)))","v":20},20,20,".",20,20,20,20,20,20,20,20,20,20,20,20,{"$f":"IF(COUNTIF(T63:U66,\"\")<8,\".\",10)","v":10},20,{"$f":"IF(COUNTIF(W63:W66,\"\")<4,\".\",20)","v":20},{"$f":"IF(COUNTIF(W63:X66,\"\")<8,\">\",10)","v":10},20,{"$f":"IF(COUNTIF(Z63:Z66,\"\")<4,\".\",20)","v":20},{"$f":"IF(COUNTIF(Z63:AA66,\"\")<8,\">\",10)","v":10},20,{"$f":"AD120","v":"."},{"$f":"AE120","v":"."},".",".",".",".",".",".",".",".",".",".",".",".",".",".",".",".",".",".",".",".",".",".",".",".",".",".",".","."]
[null,{"$f":"IF(B72=2,0,IF(B70+B71=10,IF(A68>=130,1,0),IF(B70+B71=5,IF(A68>=100,1,0),IF(A68>=70,1,0))))","v":0},"Brittany Moncrieff","E",{"$f":"IF(E71=1,\".\",\"E\")","v":"E"},{"$f":"IF(F72=\".\",\".\",IF(SUM(F47,F24)<2,\"E\",\"A\"))","v":"E"},{"$f":"IF(G72=\".\",\".\",IF(SUM(G47,G24)<2,\"E\",\"A\"))","v":"E"},"E",".","E","E","E","E","E","E","E","E","E","E","E","E",{"$f":"IF(V72=10,\"A\",\".\")","v":"A"},"E",{"$f":"IF(X72=20,\"E\",\".\")","v":"E"},{"$f":"IF(Y72=10,\"A\",\".\")","v":"A"},"E",{"$f":"IF(AA72=20,\"E\",\".\")","v":"E"},{"$f":"IF(AB72=10,\"A\",\".\")","v":"A"},"E",{"$f":"AD121","v":"."},".",".",".",".",".",".",".",".",".",".",".",".",".",".",".",".",".",".",".",".",".",".",".",".",".",".",".",".",".",null,null,null,null,null,null,null,null,null,null,null,null,null,null,null,null,null,null,null,null,null,null,{"$f":"CD64","v":20},{"$f":"CE64","v":20},20,20,20,".",20,20,20,20,20,20,20,20,20,20,20,20,10,20,20,10,20,20,10,20,".",".",".",".",".",".",".",".",".",".",".",".",".",".",".",".",".",".",".",".",".",".",".",".",".",".",".",".",".","."]
[null,null,"Ronald Mahon",{"$f":"IF(D61=15,\".\",IF(D61=0,0,\"\"))","v":""},{"$f":"IF(E61=15,\".\",IF(E61=0,0,\"\"))","v":""},"","","",".",".",".",".",".",".",".",".",".",".",".",".",{"$f":"IF(U61=0,0,IF(U$84=0,\".\",\"\"))","v":"."},{"$f":"IF(V61=0,0,IF(V$84=0,\".\",\"\"))","v":"."},{"$f":"IF(W61=15,\".\",IF(W61=0,0,\"\"))","v":"."},{"$f":"IF(X61=0,0,IF(X$84=0,\".\",\"\"))","v":"."},{"$f":"IF(Y61=0,0,IF(Y$84=0,\".\",\"\"))","v":"."},{"$f":"IF(Z61=15,\".\",IF(Z61=0,0,\"\"))","v":"."},{"$f":"IF(AA61=0,0,IF(AA$84=0,\".\",\"\"))","v":"."},{"$f":"IF(AB61=0,0,IF(AB$84=0,\".\",\"\"))","v":"."},{"$f":"IF(AC61=15,\".\",IF(AC61=0,0,\"\"))","v":"."},{"$f":"IF(AD61=15,\".\",IF(AD61=0,0,\"\"))","v":"."},".",".",".",".",".",".",".",".",".",".",".",".",".",".",".",".",".",".",".",".",".",".",".",".",".",".",".",".",".",null,null,null,null,null,null,null,null,null,null,null,null,null,null,null,null,null,null,null,null,null,null,{"$f":"FD64","v":"E"},{"$f":"FE64","v":"E"},"E","E","E",".","E","E","E","E","E","E","E","E","E","E","E","E","A","E","E","A","E","E","A","E",".",".",".",".",".",".",".",".",".",".",".",".",".",".",".",".",".",".",".",".",".",".",".",".",".",".",".",".",".","."]
[null,null,"Jordan Hatfield",{"$f":"Sheet4!D139+IF(E71=0,0,-0.01)","v":0},{"$f":"Sheet4!E139+IF(F71=0,0,-0.01)","v":0},{"$f":"Sheet4!F139+IF(G71=0,0,-0.01)","v":0},{"$f":"Sheet4!G139+IF(H71=0,0,-0.01)","v":0},{"$f":"Sheet4!H139+IF(I71=0,0,IF(SUM($E71:I71)<3,-0.01,IF(SUM($E71:I71)>3,-10,IF(MAX(Sheet4!H69:H73)=3,-10,-0.01))))","v":-0.01},{"$f":"Sheet4!I139+IF(J71=0,0,IF(SUM($E71:J71)<3,-0.01,IF(SUM($E71:J71)>3,-10,IF(MAX(Sheet4!I69:I73)=3,-10,-0.01))))","v":0},{"$f":"Sheet4!J139+IF(K71=0,0,IF(SUM($E71:K71)<3,-0.01,IF(SUM($E71:K71)>3,-10,IF(MAX(Sheet4!J69:J73)=3,-10,-0.01))))","v":0},{"$f":"Sheet4!K139+IF(L71=0,0,IF(SUM($E71:L71)<3,-0.01,IF(SUM($E71:L71)>3,-10,IF(MAX(Sheet4!K69:K73)=3,-10,-0.01))))","v":0},{"$f":"Sheet4!L139+IF(M71=0,0,IF(SUM($E71:M71)<3,-0.01,IF(SUM($E71:M71)>3,-10,IF(MAX(Sheet4!L69:L73)=3,-10,-0.01))))","v":0},{"$f":"Sheet4!M139+IF(N71=0,0,IF(SUM($E71:N71)<3,-0.01,IF(SUM($E71:N71)>3,-10,IF(MAX(Sheet4!M69:M73)=3,-10,-0.01))))","v":0},{"$f":"Sheet4!N139+IF(O71=0,0,IF(SUM($E71:O71)<3,-0.01,IF(SUM($E71:O71)>3,-10,IF(MAX(Sheet4!N69:N73)=3,-10,-0.01))))","v":0},{"$f":"Sheet4!O139+IF(P71=0,0,IF(SUM($E71:P71)<3,-0.01,IF(SUM($E71:P71)>3,-10,IF(MAX(Sheet4!O69:O73)=3,-10,-0.01))))","v":0},{"$f":"Sheet4!P139+IF(Q71=0,0,IF(SUM($E71:Q71)<3,-0.01,IF(SUM($E71:Q71)>3,-10,IF(MAX(Sheet4!P69:P73)=3,-10,-0.01))))","v":0},{"$f":"Sheet4!Q139+IF(R71=0,0,IF(SUM($E71:R71)<3,-0.01,IF(SUM($E71:R71)>3,-10,IF(MAX(Sheet4!Q69:Q73)=3,-10,-0.01))))","v":0},{"$f":"Sheet4!R139+IF(S71=0,0,IF(SUM($E71:S71)<3,-0.01,IF(SUM($E71:S71)>3,-10,IF(MAX(Sheet4!R69:R73)=3,-10,-0.01))))","v":0},{"$f":"Sheet4!S139+IF(T71=1,-10,0)","v":0},{"$f":"Sheet4!T139+IF(U71=1,-10,0)","v":0},{"$f":"Sheet4!U139+IF(V71=1,-10,0)","v":0},{"$f":"Sheet4!V139","v":0},{"$f":"Sheet4!W139+IF(X71=1,-10,0)","v":0},{"$f":"Sheet4!X139+IF(Y71=1,-10,0)","v":0},{"$f":"Sheet4!Y139","v":0},{"$f":"Sheet4!Z139+IF(AA71=1,-10,0)","v":0},{"$f":"Sheet4!AA139+IF(AB71=1,-10,0)","v":0},{"$f":"Sheet4!AB139","v":0},{"$f":"Sheet4!AC139+IF(AD71=1,-10,0)","v":0},{"$f":"Sheet4!AD139+IF(AE71=1,-10,0)","v":0},{"$f":"Sheet4!AE139+IF(AF71=1,-10,0)","v":0},{"$f":"Sheet4!AF139+IF(AG71=1,-10,0)","v":0},{"$f":"Sheet4!AG139+IF(AH71=1,-10,0)","v":0},{"$f":"Sheet4!AH139+IF(AI71=1,-10,0)","v":0},{"$f":"Sheet4!AI139+IF(AJ71=1,-10,0)","v":0},{"$f":"Sheet4!AJ139+IF(AK71=1,-10,0)","v":0},{"$f":"Sheet4!AK139+IF(AL71=1,-10,0)","v":0},{"$f":"Sheet4!AL139+IF(AM71=1,-10,0)","v":0},{"$f":"Sheet4!AM139+IF(AN71=1,-10,0)","v":0},{"$f":"Sheet4!AN139+IF(AO71=1,-10,0)","v":0},{"$f":"Sheet4!AO139+IF(AP71=1,-10,0)","v":0},{"$f":"Sheet4!AP139+IF(AQ71=1,-10,0)","v":0},{"$f":"Sheet4!AQ139+IF(AR71=1,-10,0)","v":0},{"$f":"Sheet4!AR139+IF(AS71=1,-10,0)","v":0},{"$f":"Sheet4!AS139+IF(AT71=1,-10,0)","v":0},{"$f":"Sheet4!AT139+IF(AU71=1,-10,0)","v":0},{"$f":"Sheet4!AU139+IF(AV71=1,-10,0)","v":0},{"$f":"Sheet4!AV139+IF(AW71=1,-10,0)","v":0},{"$f":"Sheet4!AW139+IF(AX71=1,-10,0)","v":0},{"$f":"Sheet4!AX139+IF(AY71=1,-10,0)","v":0},{"$f":"Sheet4!AY139+IF(AZ71=1,-10,0)","v":0},{"$f":"Sheet4!AZ139+IF(BA71=1,-10,0)","v":0},{"$f":"Sheet4!BA139+IF(BB71=1,-10,0)","v":0},{"$f":"Sheet4!BB139+IF(BC71=1,-10,0)","v":0},{"$f":"Sheet4!BC139+IF(BD71=1,-10,0)","v":0},{"$f":"Sheet4!BD139+IF(BE71=1,-10,0)","v":0},{"$f":"Sheet4!BE139+IF(BF71=1,-10,0)","v":0},{"$f":"Sheet4!BF139+IF(BG71=1,-10,0)","v":0},{"$f":"Sheet4!BG139+IF(BH71=1,-10,0)","v":0}]
[null,null,"Daishawn Hughes",null,null,{"$f":"IF(COUNTIF($D63:F63,20)>=1,1,0)","v":0},{"$f":"IF(COUNTIF($D63:G63,20)>=1,1,0)","v":0},{"$f":"IF(COUNTIF($D63:H63,20)>=1,1,0)","v":0},{"$f":"IF(COUNTIF($D63:I63,20)>=1,1,0)","v":0},{"$f":"IF(COUNTIF($D63:J63,20)>=1,1,0)","v":0},{"$f":"IF(COUNTIF($D63:K63,20)>=1,1,0)","v":0},{"$f":"IF(COUNTIF($D63:L63,20)>=1,1,0)","v":0},{"$f":"IF(COUNTIF($D63:M63,20)>=1,1,0)","v":0},{"$f":"IF(COUNTIF($D63:N63,20)>=1,1,0)","v":0},{"$f":"IF(COUNTIF($D63:O63,20)>=1,1,0)","v":0},{"$f":"IF(COUNTIF($D63:P63,20)>=1,1,0)","v":0},{"$f":"IF(COUNTIF($D63:Q63,20)>=1,1,0)","v":0},{"$f":"IF(COUNTIF($D63:R63,20)>=1,1,0)","v":0},{"$f":"IF(COUNTIF($D63:S63,20)>=1,1,0)","v":0},{"$f":"IF(COUNTIF($D63:T63,20)>=1,1,0)","v":0},{"$f":"IF(COUNTIF($D63:U63,20)>=1,1,0)","v":0},{"$f":"IF(COUNTIF($D63:V63,20)>=1,1,0)","v":0},{"$f":"IF(COUNTIF($D63:W63,20)>=1,1,0)","v":0},{"$f":"IF(COUNTIF($D63:X63,20)>=1,1,0)","v":0},{"$f":"IF(COUNTIF($D63:Y63,20)>=1,1,0)","v":0},{"$f":"IF(COUNTIF($D63:Z63,20)>=1,1,0)","v":0},{"$f":"IF(COUNTIF($D63:AA63,20)>=1,1,0)","v":0},{"$f":"IF(COUNTIF($D63:AB63,20)>=1,1,0)","v":0},{"$f":"IF(COUNTIF($D63:AC63,20)>=1,1,0)","v":0},{"$f":"IF(COUNTIF($D63:AD63,20)>=1,1,0)","v":0},{"$f":"IF(COUNTIF($D63:AE63,20)>=1,1,0)","v":0},{"$f":"IF(COUNTIF($D63:AF63,20)>=1,1,0)","v":0},{"$f":"IF(COUNTIF($D63:AG63,20)>=1,1,0)","v":0},{"$f":"IF(COUNTIF($D63:AH63,20)>=1,1,0)","v":0},{"$f":"IF(COUNTIF($D63:AI63,20)>=1,1,0)","v":0},{"$f":"IF(COUNTIF($D63:AJ63,20)>=1,1,0)","v":0},{"$f":"IF(COUNTIF($D63:AK63,20)>=1,1,0)","v":0},{"$f":"IF(COUNTIF($D63:AL63,20)>=1,1,0)","v":0},{"$f":"IF(COUNTIF($D63:AM63,20)>=1,1,0)","v":0},{"$f":"IF(COUNTIF($D63:AN63,20)>=1,1,0)","v":0},{"$f":"IF(COUNTIF($D63:AO63,20)>=1,1,0)","v":0},{"$f":"IF(COUNTIF($D63:AP63,20)>=1,1,0)","v":0},{"$f":"IF(COUNTIF($D63:AQ63,20)>=1,1,0)","v":0},{"$f":"IF(COUNTIF($D63:AR63,20)>=1,1,0)","v":0},{"$f":"IF(COUNTIF($D63:AS63,20)>=1,1,0)","v":0},{"$f":"IF(COUNTIF($D63:AT63,20)>=1,1,0)","v":0},{"$f":"IF(COUNTIF($D63:AU63,20)>=1,1,0)","v":0},{"$f":"IF(COUNTIF($D63:AV63,20)>=1,1,0)","v":0},{"$f":"IF(COUNTIF($D63:AW63,20)>=1,1,0)","v":0},{"$f":"IF(COUNTIF($D63:AX63,20)>=1,1,0)","v":0},{"$f":"IF(COUNTIF($D63:AY63,20)>=1,1,0)","v":0},{"$f":"IF(COUNTIF($D63:AZ63,20)>=1,1,0)","v":0},{"$f":"IF(COUNTIF($D63:BA63,20)>=1,1,0)","v":0},{"$f":"IF(COUNTIF($D63:BB63,20)>=1,1,0)","v":0},{"$f":"IF(COUNTIF($D63:BC63,20)>=1,1,0)","v":0},{"$f":"IF(COUNTIF($D63:BD63,20)>=1,1,0)","v":0},{"$f":"IF(COUNTIF($D63:BE63,20)>=1,1,0)","v":0},{"$f":"IF(COUNTIF($D63:BF63,20)>=1,1,0)","v":0},{"$f":"IF(COUNTIF($D63:BG63,20)>=1,1,0)","v":0},null,null,null,null,null,null,null,null,null,null,null,null,null,null,null,null,null,null,null,null,null,null,{"$f":"CD65","v":20},{"$f":"CE65","v":20},20,20,20,".",20,20,20,20,20,20,20,20,20,20,20,20,10,20,20,10,20,20,10,20,".",".",".",".",".",".",".",".",".",".",".",".",".",".",".",".",".",".",".",".",".",".",".",".",".",".",".",".",".","."]
[null,null,"Jose Garcia",null,null,{"$f":"IF(COUNTIF($D64:F64,20)>=1,1,0)","v":0},{"$f":"IF(COUNTIF($D64:G64,20)>=1,1,0)","v":0},{"$f":"IF(COUNTIF($D64:H64,20)>=1,1,0)","v":0},{"$f":"IF(COUNTIF($D64:I64,20)>=1,1,0)","v":0},{"$f":"IF(COUNTIF($D64:J64,20)>=1,1,0)","v":0},{"$f":"IF(COUNTIF($D64:K64,20)>=1,1,0)","v":0},{"$f":"IF(COUNTIF($D64:L64,20)>=1,1,0)","v":0},{"$f":"IF(COUNTIF($D64:M64,20)>=1,1,0)","v":0},{"$f":"IF(COUNTIF($D64:N64,20)>=1,1,0)","v":0},{"$f":"IF(COUNTIF($D64:O64,20)>=1,1,0)","v":0},{"$f":"IF(COUNTIF($D64:P64,20)>=1,1,0)","v":0},{"$f":"IF(COUNTIF($D64:Q64,20)>=1,1,0)","v":0},{"$f":"IF(COUNTIF($D64:R64,20)>=1,1,0)","v":0},{"$f":"IF(COUNTIF($D64:S64,20)>=1,1,0)","v":0},{"$f":"IF(COUNTIF($D64:T64,20)>=1,1,0)","v":0},{"$f":"IF(COUNTIF($D64:U64,20)>=1,1,0)","v":0},{"$f":"IF(COUNTIF($D64:V64,20)>=1,1,0)","v":0},{"$f":"IF(COUNTIF($D64:W64,20)>=1,1,0)","v":0},{"$f":"IF(COUNTIF($D64:X64,20)>=1,1,0)","v":0},{"$f":"IF(COUNTIF($D64:Y64,20)>=1,1,0)","v":0},{"$f":"IF(COUNTIF($D64:Z64,20)>=1,1,0)","v":0},{"$f":"IF(COUNTIF($D64:AA64,20)>=1,1,0)","v":0},{"$f":"IF(COUNTIF($D64:AB64,20)>=1,1,0)","v":0},{"$f":"IF(COUNTIF($D64:AC64,20)>=1,1,0)","v":0},{"$f":"IF(COUNTIF($D64:AD64,20)>=1,1,0)","v":0},{"$f":"IF(COUNTIF($D64:AE64,20)>=1,1,0)","v":0},{"$f":"IF(COUNTIF($D64:AF64,20)>=1,1,0)","v":0},{"$f":"IF(COUNTIF($D64:AG64,20)>=1,1,0)","v":0},{"$f":"IF(COUNTIF($D64:AH64,20)>=1,1,0)","v":0},{"$f":"IF(COUNTIF($D64:AI64,20)>=1,1,0)","v":0},{"$f":"IF(COUNTIF($D64:AJ64,20)>=1,1,0)","v":0},{"$f":"IF(COUNTIF($D64:AK64,20)>=1,1,0)","v":0},{"$f":"IF(COUNTIF($D64:AL64,20)>=1,1,0)","v":0},{"$f":"IF(COUNTIF($D64:AM64,20)>=1,1,0)","v":0},{"$f":"IF(COUNTIF($D64:AN64,20)>=1,1,0)","v":0},{"$f":"IF(COUNTIF($D64:AO64,20)>=1,1,0)","v":0},{"$f":"IF(COUNTIF($D64:AP64,20)>=1,1,0)","v":0},{"$f":"IF(COUNTIF($D64:AQ64,20)>=1,1,0)","v":0},{"$f":"IF(COUNTIF($D64:AR64,20)>=1,1,0)","v":0},{"$f":"IF(COUNTIF($D64:AS64,20)>=1,1,0)","v":0},{"$f":"IF(COUNTIF($D64:AT64,20)>=1,1,0)","v":0},{"$f":"IF(COUNTIF($D64:AU64,20)>=1,1,0)","v":0},{"$f":"IF(COUNTIF($D64:AV64,20)>=1,1,0)","v":0},{"$f":"IF(COUNTIF($D64:AW64,20)>=1,1,0)","v":0},{"$f":"IF(COUNTIF($D64:AX64,20)>=1,1,0)","v":0},{"$f":"IF(COUNTIF($D64:AY64,20)>=1,1,0)","v":0},{"$f":"IF(COUNTIF($D64:AZ64,20)>=1,1,0)","v":0},{"$f":"IF(COUNTIF($D64:BA64,20)>=1,1,0)","v":0},{"$f":"IF(COUNTIF($D64:BB64,20)>=1,1,0)","v":0},{"$f":"IF(COUNTIF($D64:BC64,20)>=1,1,0)","v":0},{"$f":"IF(COUNTIF($D64:BD64,20)>=1,1,0)","v":0},{"$f":"IF(COUNTIF($D64:BE64,20)>=1,1,0)","v":0},{"$f":"IF(COUNTIF($D64:BF64,20)>=1,1,0)","v":0},{"$f":"IF(COUNTIF($D64:BG64,20)>=1,1,0)","v":0},null,null,null,null,null,null,null,null,null,null,null,null,null,null,null,null,null,null,null,null,null,null,{"$f":"FD65","v":"E"},{"$f":"FE65","v":"E"},"E","E","E",".","E","E","E","E","E","E","E","E","E","E","E","E","A","E","E","A","E","E","A","E",".",".",".",".",".",".",".",".",".",".",".",".",".",".",".",".",".",".",".",".",".",".",".",".",".",".",".",".",".","."]
[null,null,"Isaiah Rodrigues",null,null,{"$f":"IF(COUNTIF($D65:F65,20)>=1,1,0)","v":0},{"$f":"IF(COUNTIF($D65:G65,20)>=1,1,0)","v":0},{"$f":"IF(COUNTIF($D65:H65,20)>=1,1,0)","v":0},{"$f":"IF(COUNTIF($D65:I65,20)>=1,1,0)","v":0},{"$f":"IF(COUNTIF($D65:J65,20)>=1,1,0)","v":0},{"$f":"IF(COUNTIF($D65:K65,20)>=1,1,0)","v":0},{"$f":"IF(COUNTIF($D65:L65,20)>=1,1,0)","v":0},{"$f":"IF(COUNTIF($D65:M65,20)>=1,1,0)","v":0},{"$f":"IF(COUNTIF($D65:N65,20)>=1,1,0)","v":0},{"$f":"IF(COUNTIF($D65:O65,20)>=1,1,0)","v":0},{"$f":"IF(COUNTIF($D65:P65,20)>=1,1,0)","v":0},{"$f":"IF(COUNTIF($D65:Q65,20)>=1,1,0)","v":0},{"$f":"IF(COUNTIF($D65:R65,20)>=1,1,0)","v":0},{"$f":"IF(COUNTIF($D65:S65,20)>=1,1,0)","v":0},{"$f":"IF(COUNTIF($D65:T65,20)>=1,1,0)","v":0},{"$f":"IF(COUNTIF($D65:U65,20)>=1,1,0)","v":0},{"$f":"IF(COUNTIF($D65:V65,20)>=1,1,0)","v":0},{"$f":"IF(COUNTIF($D65:W65,20)>=1,1,0)","v":0},{"$f":"IF(COUNTIF($D65:X65,20)>=1,1,0)","v":0},{"$f":"IF(COUNTIF($D65:Y65,20)>=1,1,0)","v":0},{"$f":"IF(COUNTIF($D65:Z65,20)>=1,1,0)","v":0},{"$f":"IF(COUNTIF($D65:AA65,20)>=1,1,0)","v":0},{"$f":"IF(COUNTIF($D65:AB65,20)>=1,1,0)","v":0},{"$f":"IF(COUNTIF($D65:AC65,20)>=1,1,0)","v":0},{"$f":"IF(COUNTIF($D65:AD65,20)>=1,1,0)","v":0},{"$f":"IF(COUNTIF($D65:AE65,20)>=1,1,0)","v":0},{"$f":"IF(COUNTIF($D65:AF65,20)>=1,1,0)","v":0},{"$f":"IF(COUNTIF($D65:AG65,20)>=1,1,0)","v":0},{"$f":"IF(COUNTIF($D65:AH65,20)>=1,1,0)","v":0},{"$f":"IF(COUNTIF($D65:AI65,20)>=1,1,0)","v":0},{"$f":"IF(COUNTIF($D65:AJ65,20)>=1,1,0)","v":0},{"$f":"IF(COUNTIF($D65:AK65,20)>=1,1,0)","v":0},{"$f":"IF(COUNTIF($D65:AL65,20)>=1,1,0)","v":0},{"$f":"IF(COUNTIF($D65:AM65,20)>=1,1,0)","v":0},{"$f":"IF(COUNTIF($D65:AN65,20)>=1,1,0)","v":0},{"$f":"IF(COUNTIF($D65:AO65,20)>=1,1,0)","v":0},{"$f":"IF(COUNTIF($D65:AP65,20)>=1,1,0)","v":0},{"$f":"IF(COUNTIF($D65:AQ65,20)>=1,1,0)","v":0},{"$f":"IF(COUNTIF($D65:AR65,20)>=1,1,0)","v":0},{"$f":"IF(COUNTIF($D65:AS65,20)>=1,1,0)","v":0},{"$f":"IF(COUNTIF($D65:AT65,20)>=1,1,0)","v":0},{"$f":"IF(COUNTIF($D65:AU65,20)>=1,1,0)","v":0},{"$f":"IF(COUNTIF($D65:AV65,20)>=1,1,0)","v":0},{"$f":"IF(COUNTIF($D65:AW65,20)>=1,1,0)","v":0},{"$f":"IF(COUNTIF($D65:AX65,20)>=1,1,0)","v":0},{"$f":"IF(COUNTIF($D65:AY65,20)>=1,1,0)","v":0},{"$f":"IF(COUNTIF($D65:AZ65,20)>=1,1,0)","v":0},{"$f":"IF(COUNTIF($D65:BA65,20)>=1,1,0)","v":0},{"$f":"IF(COUNTIF($D65:BB65,20)>=1,1,0)","v":0},{"$f":"IF(COUNTIF($D65:BC65,20)>=1,1,0)","v":0},{"$f":"IF(COUNTIF($D65:BD65,20)>=1,1,0)","v":0},{"$f":"IF(COUNTIF($D65:BE65,20)>=1,1,0)","v":0},{"$f":"IF(COUNTIF($D65:BF65,20)>=1,1,0)","v":0},{"$f":"IF(COUNTIF($D65:BG65,20)>=1,1,0)","v":0}]
[null,null,"Anna Gedlen",null,null,{"$f":"IF(COUNTIF($D66:F66,20)>=1,1,0)","v":0},{"$f":"IF(COUNTIF($D66:G66,20)>=1,1,0)","v":0},{"$f":"IF(COUNTIF($D66:H66,20)>=1,1,0)","v":0},{"$f":"IF(COUNTIF($D66:I66,20)>=1,1,0)","v":0},{"$f":"IF(COUNTIF($D66:J66,20)>=1,1,0)","v":0},{"$f":"IF(COUNTIF($D66:K66,20)>=1,1,0)","v":0},{"$f":"IF(COUNTIF($D66:L66,20)>=1,1,0)","v":0},{"$f":"IF(COUNTIF($D66:M66,20)>=1,1,0)","v":0},{"$f":"IF(COUNTIF($D66:N66,20)>=1,1,0)","v":0},{"$f":"IF(COUNTIF($D66:O66,20)>=1,1,0)","v":0},{"$f":"IF(COUNTIF($D66:P66,20)>=1,1,0)","v":0},{"$f":"IF(COUNTIF($D66:Q66,20)>=1,1,0)","v":0},{"$f":"IF(COUNTIF($D66:R66,20)>=1,1,0)","v":0},{"$f":"IF(COUNTIF($D66:S66,20)>=1,1,0)","v":0},{"$f":"IF(COUNTIF($D66:T66,20)>=1,1,0)","v":0},{"$f":"IF(COUNTIF($D66:U66,20)>=1,1,0)","v":0},{"$f":"IF(COUNTIF($D66:V66,20)>=1,1,0)","v":0},{"$f":"IF(COUNTIF($D66:W66,20)>=1,1,0)","v":0},{"$f":"IF(COUNTIF($D66:X66,20)>=1,1,0)","v":0},{"$f":"IF(COUNTIF($D66:Y66,20)>=1,1,0)","v":0},{"$f":"IF(COUNTIF($D66:Z66,20)>=1,1,0)","v":0},{"$f":"IF(COUNTIF($D66:AA66,20)>=1,1,0)","v":0},{"$f":"IF(COUNTIF($D66:AB66,20)>=1,1,0)","v":0},{"$f":"IF(COUNTIF($D66:AC66,20)>=1,1,0)","v":0},{"$f":"IF(COUNTIF($D66:AD66,20)>=1,1,0)","v":0},{"$f":"IF(COUNTIF($D66:AE66,20)>=1,1,0)","v":0},{"$f":"IF(COUNTIF($D66:AF66,20)>=1,1,0)","v":0},{"$f":"IF(COUNTIF($D66:AG66,20)>=1,1,0)","v":0},{"$f":"IF(COUNTIF($D66:AH66,20)>=1,1,0)","v":0},{"$f":"IF(COUNTIF($D66:AI66,20)>=1,1,0)","v":0},{"$f":"IF(COUNTIF($D66:AJ66,20)>=1,1,0)","v":0},{"$f":"IF(COUNTIF($D66:AK66,20)>=1,1,0)","v":0},{"$f":"IF(COUNTIF($D66:AL66,20)>=1,1,0)","v":0},{"$f":"IF(COUNTIF($D66:AM66,20)>=1,1,0)","v":0},{"$f":"IF(COUNTIF($D66:AN66,20)>=1,1,0)","v":0},{"$f":"IF(COUNTIF($D66:AO66,20)>=1,1,0)","v":0},{"$f":"IF(COUNTIF($D66:AP66,20)>=1,1,0)","v":0},{"$f":"IF(COUNTIF($D66:AQ66,20)>=1,1,0)","v":0},{"$f":"IF(COUNTIF($D66:AR66,20)>=1,1,0)","v":0},{"$f":"IF(COUNTIF($D66:AS66,20)>=1,1,0)","v":0},{"$f":"IF(COUNTIF($D66:AT66,20)>=1,1,0)","v":0},{"$f":"IF(COUNTIF($D66:AU66,20)>=1,1,0)","v":0},{"$f":"IF(COUNTIF($D66:AV66,20)>=1,1,0)","v":0},{"$f":"IF(COUNTIF($D66:AW66,20)>=1,1,0)","v":0},{"$f":"IF(COUNTIF($D66:AX66,20)>=1,1,0)","v":0},{"$f":"IF(COUNTIF($D66:AY66,20)>=1,1,0)","v":0},{"$f":"IF(COUNTIF($D66:AZ66,20)>=1,1,0)","v":0},{"$f":"IF(COUNTIF($D66:BA66,20)>=1,1,0)","v":0},{"$f":"IF(COUNTIF($D66:BB66,20)>=1,1,0)","v":0},{"$f":"IF(COUNTIF($D66:BC66,20)>=1,1,0)","v":0},{"$f":"IF(COUNTIF($D66:BD66,20)>=1,1,0)","v":0},{"$f":"IF(COUNTIF($D66:BE66,20)>=1,1,0)","v":0},{"$f":"IF(COUNTIF($D66:BF66,20)>=1,1,0)","v":0},{"$f":"IF(COUNTIF($D66:BG66,20)>=1,1,0)","v":0},null,null,null,null,null,null,null,null,null,null,null,null,null,null,null,null,null,null,null,null,null,null,{"$f":"CD66","v":20},{"$f":"CE66","v":20},20,20,20,".",20,20,20,20,20,20,20,20,20,20,20,20,10,20,20,10,20,20,10,20,".",".",".",".",".",".",".",".",".",".",".",".",".",".",".",".",".",".",".",".",".",".",".",".",".",".",".",".",".","."]
[null,null,"Kylie Wampler",null,null,{"$f":"IF(COUNTIF($D67:F67,20)>=1,1,0)","v":0},{"$f":"IF(COUNTIF($D67:G67,20)>=1,1,0)","v":0},{"$f":"IF(COUNTIF($D67:H67,20)>=1,1,0)","v":0},{"$f":"IF(COUNTIF($D67:I67,20)>=1,1,0)","v":0},{"$f":"IF(COUNTIF($D67:J67,20)>=1,1,0)","v":0},{"$f":"IF(COUNTIF($D67:K67,20)>=1,1,0)","v":0},{"$f":"IF(COUNTIF($D67:L67,20)>=1,1,0)","v":0},{"$f":"IF(COUNTIF($D67:M67,20)>=1,1,0)","v":0},{"$f":"IF(COUNTIF($D67:N67,20)>=1,1,0)","v":0},{"$f":"IF(COUNTIF($D67:O67,20)>=1,1,0)","v":0},{"$f":"IF(COUNTIF($D67:P67,20)>=1,1,0)","v":0},{"$f":"IF(COUNTIF($D67:Q67,20)>=1,1,0)","v":0},{"$f":"IF(COUNTIF($D67:R67,20)>=1,1,0)","v":0},{"$f":"IF(COUNTIF($D67:S67,20)>=1,1,0)","v":0},{"$f":"IF(COUNTIF($D67:T67,20)>=1,1,0)","v":0},{"$f":"IF(COUNTIF($D67:U67,20)>=1,1,0)","v":0},{"$f":"IF(COUNTIF($D67:V67,20)>=1,1,0)","v":0},{"$f":"IF(COUNTIF($D67:W67,20)>=1,1,0)","v":0},{"$f":"IF(COUNTIF($D67:X67,20)>=1,1,0)","v":0},{"$f":"IF(COUNTIF($D67:Y67,20)>=1,1,0)","v":0},{"$f":"IF(COUNTIF($D67:Z67,20)>=1,1,0)","v":0},{"$f":"IF(COUNTIF($D67:AA67,20)>=1,1,0)","v":0},{"$f":"IF(COUNTIF($D67:AB67,20)>=1,1,0)","v":0},{"$f":"IF(COUNTIF($D67:AC67,20)>=1,1,0)","v":0},{"$f":"IF(COUNTIF($D67:AD67,20)>=1,1,0)","v":0},{"$f":"IF(COUNTIF($D67:AE67,20)>=1,1,0)","v":0},{"$f":"IF(COUNTIF($D67:AF67,20)>=1,1,0)","v":0},{"$f":"IF(COUNTIF($D67:AG67,20)>=1,1,0)","v":0},{"$f":"IF(COUNTIF($D67:AH67,20)>=1,1,0)","v":0},{"$f":"IF(COUNTIF($D67:AI67,20)>=1,1,0)","v":0},{"$f":"IF(COUNTIF($D67:AJ67,20)>=1,1,0)","v":0},{"$f":"IF(COUNTIF($D67:AK67,20)>=1,1,0)","v":0},{"$f":"IF(COUNTIF($D67:AL67,20)>=1,1,0)","v":0},{"$f":"IF(COUNTIF($D67:AM67,20)>=1,1,0)","v":0},{"$f":"IF(COUNTIF($D67:AN67,20)>=1,1,0)","v":0},{"$f":"IF(COUNTIF($D67:AO67,20)>=1,1,0)","v":0},{"$f":"IF(COUNTIF($D67:AP67,20)>=1,1,0)","v":0},{"$f":"IF(COUNTIF($D67:AQ67,20)>=1,1,0)","v":0},{"$f":"IF(COUNTIF($D67:AR67,20)>=1,1,0)","v":0},{"$f":"IF(COUNTIF($D67:AS67,20)>=1,1,0)","v":0},{"$f":"IF(COUNTIF($D67:AT67,20)>=1,1,0)","v":0},{"$f":"IF(COUNTIF($D67:AU67,20)>=1,1,0)","v":0},{"$f":"IF(COUNTIF($D67:AV67,20)>=1,1,0)","v":0},{"$f":"IF(COUNTIF($D67:AW67,20)>=1,1,0)","v":0},{"$f":"IF(COUNTIF($D67:AX67,20)>=1,1,0)","v":0},{"$f":"IF(COUNTIF($D67:AY67,20)>=1,1,0)","v":0},{"$f":"IF(COUNTIF($D67:AZ67,20)>=1,1,0)","v":0},{"$f":"IF(COUNTIF($D67:BA67,20)>=1,1,0)","v":0},{"$f":"IF(COUNTIF($D67:BB67,20)>=1,1,0)","v":0},{"$f":"IF(COUNTIF($D67:BC67,20)>=1,1,0)","v":0},{"$f":"IF(COUNTIF($D67:BD67,20)>=1,1,0)","v":0},{"$f":"IF(COUNTIF($D67:BE67,20)>=1,1,0)","v":0},{"$f":"IF(COUNTIF($D67:BF67,20)>=1,1,0)","v":0},{"$f":"IF(COUNTIF($D67:BG67,20)>=1,1,0)","v":0},null,null,null,null,null,null,null,null,null,null,null,null,null,null,null,null,null,null,null,null,null,null,{"$f":"FD66","v":"E"},{"$f":"FE66","v":"E"},"E","E","E",".","E","E","E","E","E","E","E","E","E","E","E","E","A","E","E","A","E","E","A","E",".",".",".",".",".",".",".",".",".",".",".",".",".",".",".",".",".",".",".",".",".",".",".",".",".",".",".",".",".","."]
[null,null,"Ellie White",null,null,{"$f":"SUM(F76:F80)","v":0},{"$f":"SUM(G76:G80)","v":0},0,0,0,0,0,0,0,0,0,0,0,0,0,0,0,0,0,0,0,0,0,0,0,0,0,0,0,0,0,0,0,0,0,0,0,0,0,0,0,0,0,0,0,0,0,0,0,0,0,0,0,0]
[null,null,"Corinne Vaughan",null,null,{"$f":"IF(F73=\"A\",0.01,IF(F81>=3,IF(F81>E81,10,0),0))","v":0},{"$f":"IF(G73=\"A\",0.01,IF(G81>=3,IF(G81>F81,10,0),0))","v":0},0,0,0,0,0,0,0,0,0,0,0,0,0,{"$f":"IF(U66=\"A\",0.01,IF(U65=\"A\",0.01,IF(U64=\"A\",0.01,IF(U63=\"A\",0.01,IF(U81>=3,IF(U81>T81,10,0),0)))))","v":0},{"$f":"IF(V63=\"A\",0.01,IF(V64=\"A\",0.01,IF(V65=\"A\",0.01,IF(V66=\"A\",0.01,0))))","v":0},{"$f":"IF(W73=\"A\",0.01,IF(W81>=3,IF(W81>V81,10,0),0))","v":0},{"$f":"IF(X73=\"A\",0.01,IF(X81>=3,IF(X81>W81,10,0),0))","v":0},{"$f":"IF(Y63=\"A\",0.01,IF(Y64=\"A\",0.01,IF(Y65=\"A\",0.01,IF(Y66=\"A\",0.01,0))))","v":0},{"$f":"IF(Z73=\"A\",0.01,IF(Z81>=3,IF(Z81>Y81,10,0),0))","v":0},{"$f":"IF(AA73=\"A\",0.01,IF(AA81>=3,IF(AA81>Z81,10,0),0))","v":0},{"$f":"IF(AB63=\"A\",0.01,IF(AB64=\"A\",0.01,IF(AB65=\"A\",0.01,IF(AB66=\"A\",0.01,0))))","v":0},{"$f":"IF(AC73=\"A\",0.01,IF(AC81>=3,IF(AC81>AB81,10,0),0))","v":0},{"$f":"IF(AC107=\"\",0,IF(AD73=\"A\",0.01,IF(AD81>=3,IF(AD81>AC81,10,0),0)))","v":0},0,0,0,0,0,0,0,0,0,0,0,0,0,0,0,0,0,0,0,0,0,0,0,0,0,0,0,0,0,null,null,null,null,null,null,null,null,null,null,null,null,null,null,null,null,null,null,null,null,null,null,{"$f":"CD67","v":20},{"$f":"CE67","v":20},20,20,20,".",20,20,20,20,20,20,20,20,20,20,20,20,10,20,20,10,20,20,10,20,".",".",".",".",".",".",".",".",".",".",".",".",".",".",".",".",".",".",".",".",".",".",".",".",".",".",".",".",".","."]
[null,null,"Andrew Hubbard",null,null,{"$f":"IF(E71=1,IF(F48+F25=1, 1,0),0)","v":0},{"$f":"IF(F71=1,IF(G48+G25=1, 1,0),0)","v":0},0,0,0,0,0,0,0,0,0,0,0,0,0,0,0,0,0,0,0,0,0,0,0,0,0,0,0,0,0,0,0,0,0,0,0,0,0,0,0,0,0,0,0,0,0,0,0,0,0,0,0,0,null,null,null,null,null,null,null,null,null,null,null,null,null,null,null,null,null,null,null,null,null,null,{"$f":"FD67","v":"E"},{"$f":"FE67","v":"E"},"E","E","E",".","E","E","E","E","E","E","E","E","E","E","E","E","A","E","E","A","E","E","A","E",".",".",".",".",".",".",".",".",".",".",".",".",".",".",".",".",".",".",".",".",".",".",".",".",".",".",".",".",".","."]
[null,null,"Julia Mayer",{"$f":"IF(D61=15,0,1)","v":1},{"$f":"IF(E61=15,0,1)","v":1},1,1,1,0,0,0,0,0,0,0,0,0,0,0,{"$f":"IF(T61=15,0,1)","v":0},{"$f":"IF(T84=0,0,IF(U61<15,1,IF(U71+U48+U25=1,0,1)))","v":0},{"$f":"IF(U84=0,0,IF(V61<15,1,IF(V71+V48+V25=1,0,1)))","v":0},{"$f":"IF(W61=15,0,1)","v":0},{"$f":"IF(W84=0,0,IF(X61<15,1,IF(X71+X48+X25=1,0,1)))","v":0},{"$f":"IF(X84=0,0,IF(Y61<15,1,IF(Y71+Y48+Y25=1,0,1)))","v":0},{"$f":"IF(Z61=15,0,1)","v":0},{"$f":"IF(Z84=0,0,IF(AA61<15,1,IF(AA71+AA48+AA25=1,0,1)))","v":0},{"$f":"IF(AA84=0,0,IF(AB61<15,1,IF(AB71+AB48+AB25=1,0,1)))","v":0},{"$f":"IF(AC61=15,0,1)","v":0},{"$f":"IF(AD61=15,0,1)","v":0},0,0,0,0,0,0,0,0,0,0,0,0,0,0,0,0,0,0,0,0,0,0,0,0,0,0,0,0,0]
[null,null,"Danielle Leidy",1,2,3,4,5,6,7,8,9,10,11,12,13,14,15,16,17,18,19,20,21,22,23,24,25,26,27,28,29,30,31,32,33,34,35,36,37,38,39,40,41,42,43,44,45,46,47,48,49,50,51,52,53,54,55,56]
[null,null,null,1,2,3,4,5,6,7,8,9,10,11,12,13,14,15,16,17,"17A","17B",18,"18A","18B",19,"19A","19B",20,{"$f":"AD62","v":""},{"$f":"AE62","v":""},"","","","","","","","","","","","","","","","","","","","","","","","","","","",""]
["Question\nNumber","Score"," ",null,null,"Instructions:","* For a 2-way quiz, use top 2 sections (not green). Start on Question #6\n* If an incorrect value is entered into a cell, it will remain red.\n* Spreadsheet will automatically calculate team bonus, error points, and olympic points.\n* Mark fouls with \"F\" and timeouts with \"T\" under the appropriate question on the indicated line for each team.\n* If nobody jumps on a question, mark \"0\" in the box for quizzer #1 on team #1.  This will proliferate zeros for\n   all quizzers on that question."]
[{"$f":"HLOOKUP(SUM($D$84:$BG$84)+1,$D$85:$BG$86,2)","v":6},{"$f":"$A22","v":0},{"$f":"C16","v":"Team Name"}]
[null,{"$f":"$A45","v":0},{"$f":"C39","v":"Team Name"}]
[null,{"$f":"$A68","v":0},{"$f":"C62","v":"Team Name"}]
[null,null," "]
[null,null," "]
[null,null,null,null,null,null,null,null,null,null,null,null,null,null,null,null,null,null,null,null,null,null,null,null,null,null,null,"Q#",{"$f":"AC16","v":20},{"$f":"AD16","v":""},"","","","","","","","","","","","","","","","","","","","","","","","","","","","",""]
[null,null,null,null,null,null,null,null,null,null,null,null,null,null,null,null,null,null,null,null,null,null,null,null,null,null,null,"Score",{"$f":"ROUND(AC22,0)","v":0},{"$f":"IF(AC101=\"A\",\"\",ROUND(AD22,0))","v":0},{"$f":"IF(AD101=\"A\",\"\",ROUND(AE22,0))","v":0},0,0,0,0,0,0,0,0,0,0,0,0,0,0,0,0,0,0,0,0,0,0,0,0,0,0,0,0]
[null,null,null,null,null,null,null,null,null,null,null,null,null,null,null,null,null,null,null,null,null,null,null,null,null,null,null,"Score",{"$f":"ROUND(AC45,0)","v":0},{"$f":"IF(AC101=\"B\",\"\",ROUND(AD45,0))","v":0},{"$f":"IF(AD101=\"B\",\"\",ROUND(AE45,0))","v":0},0,0,0,0,0,0,0,0,0,0,0,0,0,0,0,0,0,0,0,0,0,0,0,0,0,0,0,0]
[null,null,null,null,null,null,null,null,null,null,null,null,null,null,null,null,null,null,null,null,null,null,null,null,null,null,null,"Score",{"$f":"ROUND(AC68,0)","v":0},{"$f":"IF(AC101=\"C\",\"\",ROUND(AD68,0))","v":""},{"$f":"IF(AD101=\"C\",\"\",ROUND(AE68,0))","v":""},"","","","","","","","","","","","","","","","","","","","","","","","","","","",""]
[null,null,null,null,null,null,null,null,null,null,null,null,null,null,null,null,null,null,null,null,null,null,null,null,null,null,null,"Answered correctly?",{"$f":"IF(AC84=0,-1,IF(ROUND((AC68+AC45+AC22),-1)>ROUND((AB22+AB45+AB68),-1),1,0))","v":-1},{"$f":"IF(AD84=0,-1,IF(ROUND((AD68+AD45+AD22),-1)>ROUND((AC22+AC45+AC68),-1),1,0))","v":-1},{"$f":"IF(AE84=0,-1,IF(ROUND((AE68+AE45+AE22),-1)>ROUND((AD22+AD45+AD68),-1),1,0))","v":-1},{"$f":"IF(AF84=0,-1,IF(ROUND((AF68+AF45+AF22),-1)>ROUND((AE22+AE45+AE68),-1),1,0))","v":-1},{"$f":"IF(AG84=0,-1,IF(ROUND((AG68+AG45+AG22),-1)>ROUND((AF22+AF45+AF68),-1),1,0))","v":-1},-1,-1,-1,-1,-1,-1,-1,-1,-1,-1,-1,-1,-1,-1,-1,-1,-1,-1,-1,-1,-1,-1,-1,-1,-1,-1]
[null,null,null,null,null,null,null,null,null,null,null,null,null,null,null,null,null,null,null,null,null,null,null,null,null,null,null,"Tie for 1st?",{"$f":"IF(MEDIAN(AC94:AC96)=MAX(AC94:AC96),1,0)","v":1},{"$f":"IF(MEDIAN(AD94:AD96)=MAX(AD94:AD96),1,0)","v":1},1,1,1,1,1,1,1,1,1,1,1,1,1,1,1,1,1,1,1,1,1,1,1,1,1,1,1,1,1]
[null,null,null,null,null,null,null,null,null,null,null,null,null,null,null,null,null,null,null,null,null,null,null,null,null,null,null,"Tie for 2nd?",{"$f":"IF(MEDIAN(AC94:AC96)=MIN(AC94:AC96),1,0)","v":1},{"$f":"IF(MEDIAN(AD94:AD96)=MIN(AD94:AD96),1,0)","v":1},1,1,1,1,1,1,1,1,1,1,1,1,1,1,1,1,1,1,1,1,1,1,1,1,1,1,1,1,1]
[null,null,null,null,null,null,null,null,null,null,null,null,null,null,null,null,null,null,null,null,null,null,null,null,null,null,null,"3-way tie?",{"$f":"FLOOR(SUM(AC98:AC99)/2,1)","v":1},{"$f":"FLOOR(SUM(AD98:AD99)/2,1)","v":1},1,1,1,1,1,1,1,1,1,1,1,1,1,1,1,1,1,1,1,1,1,1,1,1,1,1,1,1,1]
[null,null,null,null,null,null,null,null,null,null,null,null,null,null,null,null,null,null,null,null,null,null,null,null,null,null,null,"Who's out?","C","C","C","C","C","C","C","C","C","C","C","C","C","C","C","C","C","C","C","C","C","C","C","C","C","C","C","C","C","C","C"]
[null,null,null,null,null,null,null,null,null,null,null,null,null,null,null,null,null,null,null,null,null,null,null,null,null,null,null,"Nobody jump?",{"$f":"IF(AC17=\"\",0,IF(AC17=0,1,0))","v":0},{"$f":"IF(AD17=\"\",0,IF(AD17=0,1,0))","v":0},0,0,0,0,0,0,0,0,0,0,0,0,0,0,0,0,0,0,0,0,0,0,0,0,0,0,0,0,0]
[null,null,null,null,null,null,null,null,null,null,null,null,null,null,null,null,null,null,null,null,null,null,null,null,null,null,null,"Next Q Reg?",{"$f":"IF(AC106=0,0,IF(AB105=1,1,IF(AC97=1,1,IF(AC102=1,1,0))))","v":0},{"$f":"IF(AD106=0,0,IF(AC105=1,1,IF(AD97=1,1,IF(AD102=1,1,0))))","v":0},0,0,0,0,0,0,0,0,0,0,0,0,0,0,0,0,0,0,0,0,0,0,0,0,0,0,0,0,0]
[null,null,null,null,null,null,null,null,null,null,null,null,null,null,null,null,null,null,null,null,null,null,null,null,null,null,null,"Next Q Tossup?",{"$f":"IF(AC103=1,0,IF(AC108<3,0,IF(RIGHT(AC93,1)=\"a\",0,IF(AC97=0,1,0))))","v":0},{"$f":"IF(AD103=1,0,IF(AD108<3,0,IF(RIGHT(AD93,1)=\"a\",0,IF(AD97=0,1,0))))","v":0},0,0,0,0,0,0,0,0,0,0,0,0,0,0,0,0,0,0,0,0,0,0,0,0,0,0,0,0,0]
[null,null,null,null,null,null,null,null,null,null,null,null,null,null,null,null,null,null,null,null,null,null,null,null,null,null,null,"Next Q Free?",{"$f":"IF(SUM(AC103:AC104)=0,IF(AC97=0,IF(AC104<>1,1,0),0),0)","v":0},{"$f":"IF(SUM(AD103:AD104)=0,IF(AD97=0,IF(AD104<>1,1,0),0),0)","v":0},0,0,0,0,0,0,0,0,0,0,0,0,0,0,0,0,0,0,0,0,0,0,0,0,0,0,0,0,0]
[null,null,null,null,null,null,null,null,null,null,null,null,null,null,null,null,null,null,null,null,null,null,null,null,null,null,null,"#teams next Q:",{"$f":"IF(AC108=3,IF(AC97=1,IF(SUM(AC98:AC100)=0,0,IF(AC100=1,3,2)),AC108),IF(AC97=1,IF(SUM(AC98:AC99)=0,0,2),2))","v":2},{"$f":"IF(AD108=0,0,IF(AD108=3,IF(AD97=1,IF(SUM(AD98:AD100)=0,0,IF(AD100=1,3,2)),AD108),IF(AD97=1,IF(SUM(AD98:AD99)=0,0,2),2)))","v":2},{"$f":"IF(AE108=0,0,IF(AE108=3,IF(AE97=1,IF(SUM(AE98:AE100)=0,0,IF(AE100=1,3,2)),AE108),IF(AE97=1,IF(SUM(AE98:AE99)=0,0,2),2)))","v":2},2,2,2,2,2,2,2,2,2,2,2,2,2,2,2,2,2,2,2,2,2,2,2,2,2,2,2,2]
[null,null,null,null,null,null,null,null,null,null,null,null,null,null,null,null,null,null,null,null,null,null,null,null,null,null,null,"Next Question#:",{"$f":"IF(AC97=-1,\"\",IF(AC106=0,\"\",IF(AC103=1,LEFT(AC93,2)+1,IF(AC104=1,CONCATENATE(AC93,\"A\"),IF(AC108=3,CONCATENATE(LEFT(AC93,2),\"B\"),CONCATENATE(AC93,\"A\"))))))","v":""},{"$f":"IF(AD97=-1,\"\",IF(AD106=0,\"\",IF(AD103=1,LEFT(AD93,2)+1,IF(AD104=1,CONCATENATE(AD93,\"A\"),IF(AD108=3,CONCATENATE(LEFT(AD93,2),\"B\"),CONCATENATE(AD93,\"A\"))))))","v":""},"","","","","","","","","","","","","","","","","","","","","","","","","","","","",""]
[null,null,null,null,null,null,null,null,null,null,null,null,null,null,null,null,null,null,null,null,null,null,null,null,null,null,null,"# teams in this Q:",2,{"$f":"AC106","v":2},{"$f":"AD106","v":2},2,2,2,2,2,2,2,2,2,2,2,2,2,2,2,2,2,2,2,2,2,2,2,2,2,2,2,2]
[]
[null,null,null,null,null,null,null,null,null,null,null,null,null,null,null,null,null,null,null,null,null,null,null,null,null,null,null,null,null,{"$f":"IF(AD102=1,0,IF(AD108=3,IF(AC103=1,20,IF(AC104=1,IF(AD25=1,\".\",20),IF(AC105=1,IF(AD24=0,10,\".\"),\"?\"))),IF(AD108=2,IF(AC101=\"A\",\".\",IF(AC103=1,20,IF(AD25=1,\".\",10))),\".\")))","v":10},{"$f":"IF(AE102=1,0,IF(AE108=3,IF(AD103=1,20,IF(AD104=1,IF(AE25=1,\".\",20),IF(AD105=1,IF(AE24=0,10,\".\"),\"?\"))),IF(AE108=2,IF(AD101=\"A\",\".\",IF(AD103=1,20,IF(AE25=1,\".\",10))),\".\")))","v":10},10,10,10,10,10,10,10,10,10,10,10,10,10,10,10,10,10,10,10,10,10,10,10,10,10,10,10,10]
[null,null,null,null,null,null,null,null,null,null,null,null,null,null,null,null,null,null,null,null,null,null,null,null,null,null,null,null,null,{"$f":"IF(AD110=20,\"E\",IF(AD110=10,\"A\",\".\"))","v":"A"},{"$f":"IF(AE110=20,\"E\",IF(AE110=10,\"A\",\".\"))","v":"A"},"A","A","A","A","A","A","A","A","A","A","A","A","A","A","A","A","A","A","A","A","A","A","A","A","A","A","A","A"]
[null,null,null,null,null,null,null,null,null,null,null,null,null,null,null,null,null,null,null,null,null,null,null,null,null,null,null,null,null,{"$f":"IF(AD102=1,0,\"\")","v":""},{"$f":"IF(AE102=1,0,\"\")","v":""},"","","","","","","","","","","","","","","","","","","","","","","","","","","",""]
[]
[]
[null,null,null,null,null,null,null,null,null,null,null,null,null,null,null,null,null,null,null,null,null,null,null,null,null,null,null,null,null,{"$f":"IF(AD102=1,0,IF(AD108=3,IF(AC103=1,20,IF(AC104=1,IF(AD48=1,\".\",20),IF(AC105=1,IF(AD47=0,10,\".\"),\"?\"))),IF(AD108=2,IF(AC101=\"B\",\".\",IF(AC103=1,20,IF(AD48=1,\".\",10))),\".\")))","v":10},{"$f":"IF(AE102=1,0,IF(AE108=3,IF(AD103=1,20,IF(AD104=1,IF(AE48=1,\".\",20),IF(AD105=1,IF(AE47=0,10,\".\"),\"?\"))),IF(AE108=2,IF(AD101=\"B\",\".\",IF(AD103=1,20,IF(AE48=1,\".\",10))),\".\")))","v":10},10,10,10,10,10,10,10,10,10,10,10,10,10,10,10,10,10,10,10,10,10,10,10,10,10,10,10,10]
[null,null,null,null,null,null,null,null,null,null,null,null,null,null,null,null,null,null,null,null,null,null,null,null,null,null,null,null,null,{"$f":"IF(AD115=20,\"E\",IF(AD115=10,\"A\",\".\"))","v":"A"},{"$f":"IF(AE115=20,\"E\",IF(AE115=10,\"A\",\".\"))","v":"A"},"A","A","A","A","A","A","A","A","A","A","A","A","A","A","A","A","A","A","A","A","A","A","A","A","A","A","A","A"]
[null,null,null,null,null,null,null,null,null,null,null,null,null,null,null,null,null,null,null,null,null,null,null,null,null,null,null,null,null,{"$f":"IF(AD102=1,0,\"\")","v":""},{"$f":"IF(AE102=1,0,\"\")","v":""},"","","","","","","","","","","","","","","","","","","","","","","","","","","",""]
[]
[]
[null,null,null,null,null,null,null,null,null,null,null,null,null,null,null,null,null,null,null,null,null,null,null,null,null,null,null,null,null,{"$f":"IF(AD102=1,0,IF(AD108=3,IF(AC103=1,20,IF(AC104=1,IF(AD71=1,\".\",20),IF(AC105=1,IF(AD70=0,10,\".\"),\"?\"))),IF(AD108=2,IF(AC101=\"C\",\".\",IF(AC103=1,20,IF(AD71=1,\".\",10))),\".\")))","v":"."},{"$f":"IF(AE102=1,0,IF(AE108=3,IF(AD103=1,20,IF(AD104=1,IF(AE71=1,\".\",20),IF(AD105=1,IF(AE70=0,10,\".\"),\"?\"))),IF(AE108=2,IF(AD101=\"C\",\".\",IF(AD103=1,20,IF(AE71=1,\".\",10))),\".\")))","v":"."},".",".",".",".",".",".",".",".",".",".",".",".",".",".",".",".",".",".",".",".",".",".",".",".",".",".",".","."]
[null,null,null,null,null,null,null,null,null,null,null,null,null,null,null,null,null,null,null,null,null,null,null,null,null,null,null,null,null,{"$f":"IF(AD120=20,\"E\",IF(AD120=10,\"A\",\".\"))","v":"."},{"$f":"IF(AE120=20,\"E\",IF(AE120=10,\"A\",\".\"))","v":"."},".",".",".",".",".",".",".",".",".",".",".",".",".",".",".",".",".",".",".",".",".",".",".",".",".",".",".","."]
[null,null,null,null,null,null,null,null,null,null,null,null,null,null,null,null,null,null,null,null,null,null,null,null,null,null,null,null,null,{"$f":"IF(AD102=1,0,\"\")","v":""},{"$f":"IF(AE102=1,0,\"\")","v":""},"","","","","","","","","","","","","","","","","","","","","","","","","","","",""]
[]
[null,null,null,null,null,null,null,null,null,null,null,null,null,null,null,null,null,null,null,null,null,null,null,null,null,null,null,{"$f":"MAX(AC124:BG124)","v":0},{"$f":"IF(AC$108-AC$106=3,IF(AC94=MAX(AC$94:AC$96),10,IF(AC94=MIN(AC$94:AC$96),1,5)),IF(AC$108-AC$106=2,\"later\",IF(AC$108-AC$106=1,IF(AC$101=\"A\",IF(AC94=MAX(AC$94:AC$96),10,1),0),0)))","v":0},{"$f":"IF(AC124>0,AC124,IF(AD$108-AD$106=3,IF(AD94=MAX(AD$94:AD$96),10,IF(AD94=MIN(AD$94:AD$96),1,5)),IF(AD$108-AD$106=2,IF(MAX($AC$124:AC$126 )=10,IF(AD94=MIN(AD$94:AD$96),1,5),IF(AD94=MIN(AD$94:AD$96),5,10)),IF(AD$108-AD$106=1,IF(AD$101=\"A\",IF(AD94=MAX(AD$94:AD$96),10,1),0),0))))","v":0},{"$f":"IF(AD124>0,AD124,IF(AE$108-AE$106=3,IF(AE94=MAX(AE$94:AE$96),10,IF(AE94=MIN(AE$94:AE$96),1,5)),IF(AE$108-AE$106=2,IF(MAX($AC$124:AD$126 )=10,IF(AE94=MIN(AE$94:AE$96),1,5),IF(AE94=MIN(AE$94:AE$96),5,10)),IF(AE$108-AE$106=1,IF(AE$101=\"A\",IF(AE94=MAX(AE$94:AE$96),10,1),0),0))))","v":0},{"$f":"IF(AE124>0,AE124,IF(AF$108-AF$106=3,IF(AF94=MAX(AF$94:AF$96),10,IF(AF94=MIN(AF$94:AF$96),1,5)),IF(AF$108-AF$106=2,IF(MAX($AC$124:AE$126 )=10,IF(AF94=MIN(AF$94:AF$96),1,5),IF(AF94=MIN(AF$94:AF$96),5,10)),IF(AF$108-AF$106=1,IF(AF$101=\"A\",IF(AF94=MAX(AF$94:AF$96),10,1),0),0))))","v":0},{"$f":"IF(AF124>0,AF124,IF(AG$108-AG$106=3,IF(AG94=MAX(AG$94:AG$96),10,IF(AG94=MIN(AG$94:AG$96),1,5)),IF(AG$108-AG$106=2,IF(MAX($AC$124:AF$126 )=10,IF(AG94=MIN(AG$94:AG$96),1,5),IF(AG94=MIN(AG$94:AG$96),5,10)),IF(AG$108-AG$106=1,IF(AG$101=\"A\",IF(AG94=MAX(AG$94:AG$96),10,1),0),0))))","v":0},{"$f":"IF(AG124>0,AG124,IF(AH$108-AH$106=3,IF(AH94=MAX(AH$94:AH$96),10,IF(AH94=MIN(AH$94:AH$96),1,5)),IF(AH$108-AH$106=2,IF(MAX($AC$124:AG$126 )=10,IF(AH94=MIN(AH$94:AH$96),1,5),IF(AH94=MIN(AH$94:AH$96),5,10)),IF(AH$108-AH$106=1,IF(AH$101=\"A\",IF(AH94=MAX(AH$94:AH$96),10,1),0),0))))","v":0},{"$f":"IF(AH124>0,AH124,IF(AI$108-AI$106=3,IF(AI94=MAX(AI$94:AI$96),10,IF(AI94=MIN(AI$94:AI$96),1,5)),IF(AI$108-AI$106=2,IF(MAX($AC$124:AH$126 )=10,IF(AI94=MIN(AI$94:AI$96),1,5),IF(AI94=MIN(AI$94:AI$96),5,10)),IF(AI$108-AI$106=1,IF(AI$101=\"A\",IF(AI94=MAX(AI$94:AI$96),10,1),0),0))))","v":0},{"$f":"IF(AI124>0,AI124,IF(AJ$108-AJ$106=3,IF(AJ94=MAX(AJ$94:AJ$96),10,IF(AJ94=MIN(AJ$94:AJ$96),1,5)),IF(AJ$108-AJ$106=2,IF(MAX($AC$124:AI$126 )=10,IF(AJ94=MIN(AJ$94:AJ$96),1,5),IF(AJ94=MIN(AJ$94:AJ$96),5,10)),IF(AJ$108-AJ$106=1,IF(AJ$101=\"A\",IF(AJ94=MAX(AJ$94:AJ$96),10,1),0),0))))","v":0},{"$f":"IF(AJ124>0,AJ124,IF(AK$108-AK$106=3,IF(AK94=MAX(AK$94:AK$96),10,IF(AK94=MIN(AK$94:AK$96),1,5)),IF(AK$108-AK$106=2,IF(MAX($AC$124:AJ$126 )=10,IF(AK94=MIN(AK$94:AK$96),1,5),IF(AK94=MIN(AK$94:AK$96),5,10)),IF(AK$108-AK$106=1,IF(AK$101=\"A\",IF(AK94=MAX(AK$94:AK$96),10,1),0),0))))","v":0},{"$f":"IF(AK124>0,AK124,IF(AL$108-AL$106=3,IF(AL94=MAX(AL$94:AL$96),10,IF(AL94=MIN(AL$94:AL$96),1,5)),IF(AL$108-AL$106=2,IF(MAX($AC$124:AK$126 )=10,IF(AL94=MIN(AL$94:AL$96),1,5),IF(AL94=MIN(AL$94:AL$96),5,10)),IF(AL$108-AL$106=1,IF(AL$101=\"A\",IF(AL94=MAX(AL$94:AL$96),10,1),0),0))))","v":0},{"$f":"IF(AL124>0,AL124,IF(AM$108-AM$106=3,IF(AM94=MAX(AM$94:AM$96),10,IF(AM94=MIN(AM$94:AM$96),1,5)),IF(AM$108-AM$106=2,IF(MAX($AC$124:AL$126 )=10,IF(AM94=MIN(AM$94:AM$96),1,5),IF(AM94=MIN(AM$94:AM$96),5,10)),IF(AM$108-AM$106=1,IF(AM$101=\"A\",IF(AM94=MAX(AM$94:AM$96),10,1),0),0))))","v":0},{"$f":"IF(AM124>0,AM124,IF(AN$108-AN$106=3,IF(AN94=MAX(AN$94:AN$96),10,IF(AN94=MIN(AN$94:AN$96),1,5)),IF(AN$108-AN$106=2,IF(MAX($AC$124:AM$126 )=10,IF(AN94=MIN(AN$94:AN$96),1,5),IF(AN94=MIN(AN$94:AN$96),5,10)),IF(AN$108-AN$106=1,IF(AN$101=\"A\",IF(AN94=MAX(AN$94:AN$96),10,1),0),0))))","v":0},{"$f":"IF(AN124>0,AN124,IF(AO$108-AO$106=3,IF(AO94=MAX(AO$94:AO$96),10,IF(AO94=MIN(AO$94:AO$96),1,5)),IF(AO$108-AO$106=2,IF(MAX($AC$124:AN$126 )=10,IF(AO94=MIN(AO$94:AO$96),1,5),IF(AO94=MIN(AO$94:AO$96),5,10)),IF(AO$108-AO$106=1,IF(AO$101=\"A\",IF(AO94=MAX(AO$94:AO$96),10,1),0),0))))","v":0},{"$f":"IF(AO124>0,AO124,IF(AP$108-AP$106=3,IF(AP94=MAX(AP$94:AP$96),10,IF(AP94=MIN(AP$94:AP$96),1,5)),IF(AP$108-AP$106=2,IF(MAX($AC$124:AO$126 )=10,IF(AP94=MIN(AP$94:AP$96),1,5),IF(AP94=MIN(AP$94:AP$96),5,10)),IF(AP$108-AP$106=1,IF(AP$101=\"A\",IF(AP94=MAX(AP$94:AP$96),10,1),0),0))))","v":0},{"$f":"IF(AP124>0,AP124,IF(AQ$108-AQ$106=3,IF(AQ94=MAX(AQ$94:AQ$96),10,IF(AQ94=MIN(AQ$94:AQ$96),1,5)),IF(AQ$108-AQ$106=2,IF(MAX($AC$124:AP$126 )=10,IF(AQ94=MIN(AQ$94:AQ$96),1,5),IF(AQ94=MIN(AQ$94:AQ$96),5,10)),IF(AQ$108-AQ$106=1,IF(AQ$101=\"A\",IF(AQ94=MAX(AQ$94:AQ$96),10,1),0),0))))","v":0},{"$f":"IF(AQ124>0,AQ124,IF(AR$108-AR$106=3,IF(AR94=MAX(AR$94:AR$96),10,IF(AR94=MIN(AR$94:AR$96),1,5)),IF(AR$108-AR$106=2,IF(MAX($AC$124:AQ$126 )=10,IF(AR94=MIN(AR$94:AR$96),1,5),IF(AR94=MIN(AR$94:AR$96),5,10)),IF(AR$108-AR$106=1,IF(AR$101=\"A\",IF(AR94=MAX(AR$94:AR$96),10,1),0),0))))","v":0},{"$f":"IF(AR124>0,AR124,IF(AS$108-AS$106=3,IF(AS94=MAX(AS$94:AS$96),10,IF(AS94=MIN(AS$94:AS$96),1,5)),IF(AS$108-AS$106=2,IF(MAX($AC$124:AR$126 )=10,IF(AS94=MIN(AS$94:AS$96),1,5),IF(AS94=MIN(AS$94:AS$96),5,10)),IF(AS$108-AS$106=1,IF(AS$101=\"A\",IF(AS94=MAX(AS$94:AS$96),10,1),0),0))))","v":0},{"$f":"IF(AS124>0,AS124,IF(AT$108-AT$106=3,IF(AT94=MAX(AT$94:AT$96),10,IF(AT94=MIN(AT$94:AT$96),1,5)),IF(AT$108-AT$106=2,IF(MAX($AC$124:AS$126 )=10,IF(AT94=MIN(AT$94:AT$96),1,5),IF(AT94=MIN(AT$94:AT$96),5,10)),IF(AT$108-AT$106=1,IF(AT$101=\"A\",IF(AT94=MAX(AT$94:AT$96),10,1),0),0))))","v":0},{"$f":"IF(AT124>0,AT124,IF(AU$108-AU$106=3,IF(AU94=MAX(AU$94:AU$96),10,IF(AU94=MIN(AU$94:AU$96),1,5)),IF(AU$108-AU$106=2,IF(MAX($AC$124:AT$126 )=10,IF(AU94=MIN(AU$94:AU$96),1,5),IF(AU94=MIN(AU$94:AU$96),5,10)),IF(AU$108-AU$106=1,IF(AU$101=\"A\",IF(AU94=MAX(AU$94:AU$96),10,1),0),0))))","v":0},{"$f":"IF(AU124>0,AU124,IF(AV$108-AV$106=3,IF(AV94=MAX(AV$94:AV$96),10,IF(AV94=MIN(AV$94:AV$96),1,5)),IF(AV$108-AV$106=2,IF(MAX($AC$124:AU$126 )=10,IF(AV94=MIN(AV$94:AV$96),1,5),IF(AV94=MIN(AV$94:AV$96),5,10)),IF(AV$108-AV$106=1,IF(AV$101=\"A\",IF(AV94=MAX(AV$94:AV$96),10,1),0),0))))","v":0},{"$f":"IF(AV124>0,AV124,IF(AW$108-AW$106=3,IF(AW94=MAX(AW$94:AW$96),10,IF(AW94=MIN(AW$94:AW$96),1,5)),IF(AW$108-AW$106=2,IF(MAX($AC$124:AV$126 )=10,IF(AW94=MIN(AW$94:AW$96),1,5),IF(AW94=MIN(AW$94:AW$96),5,10)),IF(AW$108-AW$106=1,IF(AW$101=\"A\",IF(AW94=MAX(AW$94:AW$96),10,1),0),0))))","v":0},{"$f":"IF(AW124>0,AW124,IF(AX$108-AX$106=3,IF(AX94=MAX(AX$94:AX$96),10,IF(AX94=MIN(AX$94:AX$96),1,5)),IF(AX$108-AX$106=2,IF(MAX($AC$124:AW$126 )=10,IF(AX94=MIN(AX$94:AX$96),1,5),IF(AX94=MIN(AX$94:AX$96),5,10)),IF(AX$108-AX$106=1,IF(AX$101=\"A\",IF(AX94=MAX(AX$94:AX$96),10,1),0),0))))","v":0},{"$f":"IF(AX124>0,AX124,IF(AY$108-AY$106=3,IF(AY94=MAX(AY$94:AY$96),10,IF(AY94=MIN(AY$94:AY$96),1,5)),IF(AY$108-AY$106=2,IF(MAX($AC$124:AX$126 )=10,IF(AY94=MIN(AY$94:AY$96),1,5),IF(AY94=MIN(AY$94:AY$96),5,10)),IF(AY$108-AY$106=1,IF(AY$101=\"A\",IF(AY94=MAX(AY$94:AY$96),10,1),0),0))))","v":0},{"$f":"IF(AY124>0,AY124,IF(AZ$108-AZ$106=3,IF(AZ94=MAX(AZ$94:AZ$96),10,IF(AZ94=MIN(AZ$94:AZ$96),1,5)),IF(AZ$108-AZ$106=2,IF(MAX($AC$124:AY$126 )=10,IF(AZ94=MIN(AZ$94:AZ$96),1,5),IF(AZ94=MIN(AZ$94:AZ$96),5,10)),IF(AZ$108-AZ$106=1,IF(AZ$101=\"A\",IF(AZ94=MAX(AZ$94:AZ$96),10,1),0),0))))","v":0},{"$f":"IF(AZ124>0,AZ124,IF(BA$108-BA$106=3,IF(BA94=MAX(BA$94:BA$96),10,IF(BA94=MIN(BA$94:BA$96),1,5)),IF(BA$108-BA$106=2,IF(MAX($AC$124:AZ$126 )=10,IF(BA94=MIN(BA$94:BA$96),1,5),IF(BA94=MIN(BA$94:BA$96),5,10)),IF(BA$108-BA$106=1,IF(BA$101=\"A\",IF(BA94=MAX(BA$94:BA$96),10,1),0),0))))","v":0},{"$f":"IF(BA124>0,BA124,IF(BB$108-BB$106=3,IF(BB94=MAX(BB$94:BB$96),10,IF(BB94=MIN(BB$94:BB$96),1,5)),IF(BB$108-BB$106=2,IF(MAX($AC$124:BA$126 )=10,IF(BB94=MIN(BB$94:BB$96),1,5),IF(BB94=MIN(BB$94:BB$96),5,10)),IF(BB$108-BB$106=1,IF(BB$101=\"A\",IF(BB94=MAX(BB$94:BB$96),10,1),0),0))))","v":0},{"$f":"IF(BB124>0,BB124,IF(BC$108-BC$106=3,IF(BC94=MAX(BC$94:BC$96),10,IF(BC94=MIN(BC$94:BC$96),1,5)),IF(BC$108-BC$106=2,IF(MAX($AC$124:BB$126 )=10,IF(BC94=MIN(BC$94:BC$96),1,5),IF(BC94=MIN(BC$94:BC$96),5,10)),IF(BC$108-BC$106=1,IF(BC$101=\"A\",IF(BC94=MAX(BC$94:BC$96),10,1),0),0))))","v":0},{"$f":"IF(BC124>0,BC124,IF(BD$108-BD$106=3,IF(BD94=MAX(BD$94:BD$96),10,IF(BD94=MIN(BD$94:BD$96),1,5)),IF(BD$108-BD$106=2,IF(MAX($AC$124:BC$126 )=10,IF(BD94=MIN(BD$94:BD$96),1,5),IF(BD94=MIN(BD$94:BD$96),5,10)),IF(BD$108-BD$106=1,IF(BD$101=\"A\",IF(BD94=MAX(BD$94:BD$96),10,1),0),0))))","v":0},{"$f":"IF(BD124>0,BD124,IF(BE$108-BE$106=3,IF(BE94=MAX(BE$94:BE$96),10,IF(BE94=MIN(BE$94:BE$96),1,5)),IF(BE$108-BE$106=2,IF(MAX($AC$124:BD$126 )=10,IF(BE94=MIN(BE$94:BE$96),1,5),IF(BE94=MIN(BE$94:BE$96),5,10)),IF(BE$108-BE$106=1,IF(BE$101=\"A\",IF(BE94=MAX(BE$94:BE$96),10,1),0),0))))","v":0},{"$f":"IF(BE124>0,BE124,IF(BF$108-BF$106=3,IF(BF94=MAX(BF$94:BF$96),10,IF(BF94=MIN(BF$94:BF$96),1,5)),IF(BF$108-BF$106=2,IF(MAX($AC$124:BE$126 )=10,IF(BF94=MIN(BF$94:BF$96),1,5),IF(BF94=MIN(BF$94:BF$96),5,10)),IF(BF$108-BF$106=1,IF(BF$101=\"A\",IF(BF94=MAX(BF$94:BF$96),10,1),0),0))))","v":0},{"$f":"IF(BF124>0,BF124,IF(BG$108-BG$106=3,IF(BG94=MAX(BG$94:BG$96),10,IF(BG94=MIN(BG$94:BG$96),1,5)),IF(BG$108-BG$106=2,IF(MAX($AC$124:BF$126 )=10,IF(BG94=MIN(BG$94:BG$96),1,5),IF(BG94=MIN(BG$94:BG$96),5,10)),IF(BG$108-BG$106=1,IF(BG$101=\"A\",IF(BG94=MAX(BG$94:BG$96),10,1),0),0))))","v":0}]
[null,null,null,null,null,null,null,null,null,null,null,null,null,null,null,null,null,null,null,null,null,null,null,null,null,null,null,{"$f":"MAX(AC125:BG125)","v":0},{"$f":"IF(AC$108-AC$106=3,IF(AC95=MAX(AC$94:AC$96),10,IF(AC95=MIN(AC$94:AC$96),1,5)),IF(AC$108-AC$106=2,\"later\",IF(AC$108-AC$106=1,IF(AC$101=\"B\",IF(AC95=MAX(AC$94:AC$96),10,1),0),0)))","v":0},{"$f":"IF(AC125>0,AC125,IF(AD$108-AD$106=3,IF(AD95=MAX(AD$94:AD$96),10,IF(AD95=MIN(AD$94:AD$96),1,5)),IF(AD$108-AD$106=2,IF(MAX($AC$124:AC$126 )=10,IF(AD95=MIN(AD$94:AD$96),1,5),IF(AD95=MIN(AD$94:AD$96),5,10)),IF(AD$108-AD$106=1,IF(AD$101=\"B\",IF(AD95=MAX(AD$94:AD$96),10,1),0),0))))","v":0},{"$f":"IF(AD125>0,AD125,IF(AE$108-AE$106=3,IF(AE95=MAX(AE$94:AE$96),10,IF(AE95=MIN(AE$94:AE$96),1,5)),IF(AE$108-AE$106=2,IF(MAX($AC$124:AD$126 )=10,IF(AE95=MIN(AE$94:AE$96),1,5),IF(AE95=MIN(AE$94:AE$96),5,10)),IF(AE$108-AE$106=1,IF(AE$101=\"B\",IF(AE95=MAX(AE$94:AE$96),10,1),0),0))))","v":0},{"$f":"IF(AE125>0,AE125,IF(AF$108-AF$106=3,IF(AF95=MAX(AF$94:AF$96),10,IF(AF95=MIN(AF$94:AF$96),1,5)),IF(AF$108-AF$106=2,IF(MAX($AC$124:AE$126 )=10,IF(AF95=MIN(AF$94:AF$96),1,5),IF(AF95=MIN(AF$94:AF$96),5,10)),IF(AF$108-AF$106=1,IF(AF$101=\"B\",IF(AF95=MAX(AF$94:AF$96),10,1),0),0))))","v":0},{"$f":"IF(AF125>0,AF125,IF(AG$108-AG$106=3,IF(AG95=MAX(AG$94:AG$96),10,IF(AG95=MIN(AG$94:AG$96),1,5)),IF(AG$108-AG$106=2,IF(MAX($AC$124:AF$126 )=10,IF(AG95=MIN(AG$94:AG$96),1,5),IF(AG95=MIN(AG$94:AG$96),5,10)),IF(AG$108-AG$106=1,IF(AG$101=\"B\",IF(AG95=MAX(AG$94:AG$96),10,1),0),0))))","v":0},{"$f":"IF(AG125>0,AG125,IF(AH$108-AH$106=3,IF(AH95=MAX(AH$94:AH$96),10,IF(AH95=MIN(AH$94:AH$96),1,5)),IF(AH$108-AH$106=2,IF(MAX($AC$124:AG$126 )=10,IF(AH95=MIN(AH$94:AH$96),1,5),IF(AH95=MIN(AH$94:AH$96),5,10)),IF(AH$108-AH$106=1,IF(AH$101=\"B\",IF(AH95=MAX(AH$94:AH$96),10,1),0),0))))","v":0},{"$f":"IF(AH125>0,AH125,IF(AI$108-AI$106=3,IF(AI95=MAX(AI$94:AI$96),10,IF(AI95=MIN(AI$94:AI$96),1,5)),IF(AI$108-AI$106=2,IF(MAX($AC$124:AH$126 )=10,IF(AI95=MIN(AI$94:AI$96),1,5),IF(AI95=MIN(AI$94:AI$96),5,10)),IF(AI$108-AI$106=1,IF(AI$101=\"B\",IF(AI95=MAX(AI$94:AI$96),10,1),0),0))))","v":0},{"$f":"IF(AI125>0,AI125,IF(AJ$108-AJ$106=3,IF(AJ95=MAX(AJ$94:AJ$96),10,IF(AJ95=MIN(AJ$94:AJ$96),1,5)),IF(AJ$108-AJ$106=2,IF(MAX($AC$124:AI$126 )=10,IF(AJ95=MIN(AJ$94:AJ$96),1,5),IF(AJ95=MIN(AJ$94:AJ$96),5,10)),IF(AJ$108-AJ$106=1,IF(AJ$101=\"B\",IF(AJ95=MAX(AJ$94:AJ$96),10,1),0),0))))","v":0},{"$f":"IF(AJ125>0,AJ125,IF(AK$108-AK$106=3,IF(AK95=MAX(AK$94:AK$96),10,IF(AK95=MIN(AK$94:AK$96),1,5)),IF(AK$108-AK$106=2,IF(MAX($AC$124:AJ$126 )=10,IF(AK95=MIN(AK$94:AK$96),1,5),IF(AK95=MIN(AK$94:AK$96),5,10)),IF(AK$108-AK$106=1,IF(AK$101=\"B\",IF(AK95=MAX(AK$94:AK$96),10,1),0),0))))","v":0},{"$f":"IF(AK125>0,AK125,IF(AL$108-AL$106=3,IF(AL95=MAX(AL$94:AL$96),10,IF(AL95=MIN(AL$94:AL$96),1,5)),IF(AL$108-AL$106=2,IF(MAX($AC$124:AK$126 )=10,IF(AL95=MIN(AL$94:AL$96),1,5),IF(AL95=MIN(AL$94:AL$96),5,10)),IF(AL$108-AL$106=1,IF(AL$101=\"B\",IF(AL95=MAX(AL$94:AL$96),10,1),0),0))))","v":0},{"$f":"IF(AL125>0,AL125,IF(AM$108-AM$106=3,IF(AM95=MAX(AM$94:AM$96),10,IF(AM95=MIN(AM$94:AM$96),1,5)),IF(AM$108-AM$106=2,IF(MAX($AC$124:AL$126 )=10,IF(AM95=MIN(AM$94:AM$96),1,5),IF(AM95=MIN(AM$94:AM$96),5,10)),IF(AM$108-AM$106=1,IF(AM$101=\"B\",IF(AM95=MAX(AM$94:AM$96),10,1),0),0))))","v":0},{"$f":"IF(AM125>0,AM125,IF(AN$108-AN$106=3,IF(AN95=MAX(AN$94:AN$96),10,IF(AN95=MIN(AN$94:AN$96),1,5)),IF(AN$108-AN$106=2,IF(MAX($AC$124:AM$126 )=10,IF(AN95=MIN(AN$94:AN$96),1,5),IF(AN95=MIN(AN$94:AN$96),5,10)),IF(AN$108-AN$106=1,IF(AN$101=\"B\",IF(AN95=MAX(AN$94:AN$96),10,1),0),0))))","v":0},{"$f":"IF(AN125>0,AN125,IF(AO$108-AO$106=3,IF(AO95=MAX(AO$94:AO$96),10,IF(AO95=MIN(AO$94:AO$96),1,5)),IF(AO$108-AO$106=2,IF(MAX($AC$124:AN$126 )=10,IF(AO95=MIN(AO$94:AO$96),1,5),IF(AO95=MIN(AO$94:AO$96),5,10)),IF(AO$108-AO$106=1,IF(AO$101=\"B\",IF(AO95=MAX(AO$94:AO$96),10,1),0),0))))","v":0},{"$f":"IF(AO125>0,AO125,IF(AP$108-AP$106=3,IF(AP95=MAX(AP$94:AP$96),10,IF(AP95=MIN(AP$94:AP$96),1,5)),IF(AP$108-AP$106=2,IF(MAX($AC$124:AO$126 )=10,IF(AP95=MIN(AP$94:AP$96),1,5),IF(AP95=MIN(AP$94:AP$96),5,10)),IF(AP$108-AP$106=1,IF(AP$101=\"B\",IF(AP95=MAX(AP$94:AP$96),10,1),0),0))))","v":0},{"$f":"IF(AP125>0,AP125,IF(AQ$108-AQ$106=3,IF(AQ95=MAX(AQ$94:AQ$96),10,IF(AQ95=MIN(AQ$94:AQ$96),1,5)),IF(AQ$108-AQ$106=2,IF(MAX($AC$124:AP$126 )=10,IF(AQ95=MIN(AQ$94:AQ$96),1,5),IF(AQ95=MIN(AQ$94:AQ$96),5,10)),IF(AQ$108-AQ$106=1,IF(AQ$101=\"B\",IF(AQ95=MAX(AQ$94:AQ$96),10,1),0),0))))","v":0},{"$f":"IF(AQ125>0,AQ125,IF(AR$108-AR$106=3,IF(AR95=MAX(AR$94:AR$96),10,IF(AR95=MIN(AR$94:AR$96),1,5)),IF(AR$108-AR$106=2,IF(MAX($AC$124:AQ$126 )=10,IF(AR95=MIN(AR$94:AR$96),1,5),IF(AR95=MIN(AR$94:AR$96),5,10)),IF(AR$108-AR$106=1,IF(AR$101=\"B\",IF(AR95=MAX(AR$94:AR$96),10,1),0),0))))","v":0},{"$f":"IF(AR125>0,AR125,IF(AS$108-AS$106=3,IF(AS95=MAX(AS$94:AS$96),10,IF(AS95=MIN(AS$94:AS$96),1,5)),IF(AS$108-AS$106=2,IF(MAX($AC$124:AR$126 )=10,IF(AS95=MIN(AS$94:AS$96),1,5),IF(AS95=MIN(AS$94:AS$96),5,10)),IF(AS$108-AS$106=1,IF(AS$101=\"B\",IF(AS95=MAX(AS$94:AS$96),10,1),0),0))))","v":0},{"$f":"IF(AS125>0,AS125,IF(AT$108-AT$106=3,IF(AT95=MAX(AT$94:AT$96),10,IF(AT95=MIN(AT$94:AT$96),1,5)),IF(AT$108-AT$106=2,IF(MAX($AC$124:AS$126 )=10,IF(AT95=MIN(AT$94:AT$96),1,5),IF(AT95=MIN(AT$94:AT$96),5,10)),IF(AT$108-AT$106=1,IF(AT$101=\"B\",IF(AT95=MAX(AT$94:AT$96),10,1),0),0))))","v":0},{"$f":"IF(AT125>0,AT125,IF(AU$108-AU$106=3,IF(AU95=MAX(AU$94:AU$96),10,IF(AU95=MIN(AU$94:AU$96),1,5)),IF(AU$108-AU$106=2,IF(MAX($AC$124:AT$126 )=10,IF(AU95=MIN(AU$94:AU$96),1,5),IF(AU95=MIN(AU$94:AU$96),5,10)),IF(AU$108-AU$106=1,IF(AU$101=\"B\",IF(AU95=MAX(AU$94:AU$96),10,1),0),0))))","v":0},{"$f":"IF(AU125>0,AU125,IF(AV$108-AV$106=3,IF(AV95=MAX(AV$94:AV$96),10,IF(AV95=MIN(AV$94:AV$96),1,5)),IF(AV$108-AV$106=2,IF(MAX($AC$124:AU$126 )=10,IF(AV95=MIN(AV$94:AV$96),1,5),IF(AV95=MIN(AV$94:AV$96),5,10)),IF(AV$108-AV$106=1,IF(AV$101=\"B\",IF(AV95=MAX(AV$94:AV$96),10,1),0),0))))","v":0},{"$f":"IF(AV125>0,AV125,IF(AW$108-AW$106=3,IF(AW95=MAX(AW$94:AW$96),10,IF(AW95=MIN(AW$94:AW$96),1,5)),IF(AW$108-AW$106=2,IF(MAX($AC$124:AV$126 )=10,IF(AW95=MIN(AW$94:AW$96),1,5),IF(AW95=MIN(AW$94:AW$96),5,10)),IF(AW$108-AW$106=1,IF(AW$101=\"B\",IF(AW95=MAX(AW$94:AW$96),10,1),0),0))))","v":0},{"$f":"IF(AW125>0,AW125,IF(AX$108-AX$106=3,IF(AX95=MAX(AX$94:AX$96),10,IF(AX95=MIN(AX$94:AX$96),1,5)),IF(AX$108-AX$106=2,IF(MAX($AC$124:AW$126 )=10,IF(AX95=MIN(AX$94:AX$96),1,5),IF(AX95=MIN(AX$94:AX$96),5,10)),IF(AX$108-AX$106=1,IF(AX$101=\"B\",IF(AX95=MAX(AX$94:AX$96),10,1),0),0))))","v":0},{"$f":"IF(AX125>0,AX125,IF(AY$108-AY$106=3,IF(AY95=MAX(AY$94:AY$96),10,IF(AY95=MIN(AY$94:AY$96),1,5)),IF(AY$108-AY$106=2,IF(MAX($AC$124:AX$126 )=10,IF(AY95=MIN(AY$94:AY$96),1,5),IF(AY95=MIN(AY$94:AY$96),5,10)),IF(AY$108-AY$106=1,IF(AY$101=\"B\",IF(AY95=MAX(AY$94:AY$96),10,1),0),0))))","v":0},{"$f":"IF(AY125>0,AY125,IF(AZ$108-AZ$106=3,IF(AZ95=MAX(AZ$94:AZ$96),10,IF(AZ95=MIN(AZ$94:AZ$96),1,5)),IF(AZ$108-AZ$106=2,IF(MAX($AC$124:AY$126 )=10,IF(AZ95=MIN(AZ$94:AZ$96),1,5),IF(AZ95=MIN(AZ$94:AZ$96),5,10)),IF(AZ$108-AZ$106=1,IF(AZ$101=\"B\",IF(AZ95=MAX(AZ$94:AZ$96),10,1),0),0))))","v":0},{"$f":"IF(AZ125>0,AZ125,IF(BA$108-BA$106=3,IF(BA95=MAX(BA$94:BA$96),10,IF(BA95=MIN(BA$94:BA$96),1,5)),IF(BA$108-BA$106=2,IF(MAX($AC$124:AZ$126 )=10,IF(BA95=MIN(BA$94:BA$96),1,5),IF(BA95=MIN(BA$94:BA$96),5,10)),IF(BA$108-BA$106=1,IF(BA$101=\"B\",IF(BA95=MAX(BA$94:BA$96),10,1),0),0))))","v":0},{"$f":"IF(BA125>0,BA125,IF(BB$108-BB$106=3,IF(BB95=MAX(BB$94:BB$96),10,IF(BB95=MIN(BB$94:BB$96),1,5)),IF(BB$108-BB$106=2,IF(MAX($AC$124:BA$126 )=10,IF(BB95=MIN(BB$94:BB$96),1,5),IF(BB95=MIN(BB$94:BB$96),5,10)),IF(BB$108-BB$106=1,IF(BB$101=\"B\",IF(BB95=MAX(BB$94:BB$96),10,1),0),0))))","v":0},{"$f":"IF(BB125>0,BB125,IF(BC$108-BC$106=3,IF(BC95=MAX(BC$94:BC$96),10,IF(BC95=MIN(BC$94:BC$96),1,5)),IF(BC$108-BC$106=2,IF(MAX($AC$124:BB$126 )=10,IF(BC95=MIN(BC$94:BC$96),1,5),IF(BC95=MIN(BC$94:BC$96),5,10)),IF(BC$108-BC$106=1,IF(BC$101=\"B\",IF(BC95=MAX(BC$94:BC$96),10,1),0),0))))","v":0},{"$f":"IF(BC125>0,BC125,IF(BD$108-BD$106=3,IF(BD95=MAX(BD$94:BD$96),10,IF(BD95=MIN(BD$94:BD$96),1,5)),IF(BD$108-BD$106=2,IF(MAX($AC$124:BC$126 )=10,IF(BD95=MIN(BD$94:BD$96),1,5),IF(BD95=MIN(BD$94:BD$96),5,10)),IF(BD$108-BD$106=1,IF(BD$101=\"B\",IF(BD95=MAX(BD$94:BD$96),10,1),0),0))))","v":0},{"$f":"IF(BD125>0,BD125,IF(BE$108-BE$106=3,IF(BE95=MAX(BE$94:BE$96),10,IF(BE95=MIN(BE$94:BE$96),1,5)),IF(BE$108-BE$106=2,IF(MAX($AC$124:BD$126 )=10,IF(BE95=MIN(BE$94:BE$96),1,5),IF(BE95=MIN(BE$94:BE$96),5,10)),IF(BE$108-BE$106=1,IF(BE$101=\"B\",IF(BE95=MAX(BE$94:BE$96),10,1),0),0))))","v":0},{"$f":"IF(BE125>0,BE125,IF(BF$108-BF$106=3,IF(BF95=MAX(BF$94:BF$96),10,IF(BF95=MIN(BF$94:BF$96),1,5)),IF(BF$108-BF$106=2,IF(MAX($AC$124:BE$126 )=10,IF(BF95=MIN(BF$94:BF$96),1,5),IF(BF95=MIN(BF$94:BF$96),5,10)),IF(BF$108-BF$106=1,IF(BF$101=\"B\",IF(BF95=MAX(BF$94:BF$96),10,1),0),0))))","v":0},{"$f":"IF(BF125>0,BF125,IF(BG$108-BG$106=3,IF(BG95=MAX(BG$94:BG$96),10,IF(BG95=MIN(BG$94:BG$96),1,5)),IF(BG$108-BG$106=2,IF(MAX($AC$124:BF$126 )=10,IF(BG95=MIN(BG$94:BG$96),1,5),IF(BG95=MIN(BG$94:BG$96),5,10)),IF(BG$108-BG$106=1,IF(BG$101=\"B\",IF(BG95=MAX(BG$94:BG$96),10,1),0),0))))","v":0}]
[null,null,null,null,null,null,null,null,null,null,null,null,null,null,null,null,null,null,null,null,null,null,null,null,null,null,null,0,{"$f":"IF(AC$108-AC$106=3,IF(AC96=MAX(AC$94:AC$96),10,IF(AC96=MIN(AC$94:AC$96),1,5)),IF(AC$108-AC$106=2,\"later\",IF(AC$108-AC$106=1,IF(AC$101=\"C\",IF(AC96=MAX(AC$94:AC$96),10,1),0),0)))","v":0},{"$f":"IF(AC126>0,AC126,IF(AD$108-AD$106=3,IF(AD96=MAX(AD$94:AD$96),10,IF(AD96=MIN(AD$94:AD$96),1,5)),IF(AD$108-AD$106=2,IF(MAX($AC$124:AC$126 )=10,IF(AD96=MIN(AD$94:AD$96),1,5),IF(AD96=MIN(AD$94:AD$96),5,10)),IF(AD$108-AD$106=1,IF(AD$101=\"C\",IF(AD96=MAX(AD$94:AD$96),10,1),0),0))))","v":0},{"$f":"IF(AD126>0,AD126,IF(AE$108-AE$106=3,IF(AE96=MAX(AE$94:AE$96),10,IF(AE96=MIN(AE$94:AE$96),1,5)),IF(AE$108-AE$106=2,IF(MAX($AC$124:AD$126 )=10,IF(AE96=MIN(AE$94:AE$96),1,5),IF(AE96=MIN(AE$94:AE$96),5,10)),IF(AE$108-AE$106=1,IF(AE$101=\"C\",IF(AE96=MAX(AE$94:AE$96),10,1),0),0))))","v":0},{"$f":"IF(AE126>0,AE126,IF(AF$108-AF$106=3,IF(AF96=MAX(AF$94:AF$96),10,IF(AF96=MIN(AF$94:AF$96),1,5)),IF(AF$108-AF$106=2,IF(MAX($AC$124:AE$126 )=10,IF(AF96=MIN(AF$94:AF$96),1,5),IF(AF96=MIN(AF$94:AF$96),5,10)),IF(AF$108-AF$106=1,IF(AF$101=\"C\",IF(AF96=MAX(AF$94:AF$96),10,1),0),0))))","v":0},{"$f":"IF(AF126>0,AF126,IF(AG$108-AG$106=3,IF(AG96=MAX(AG$94:AG$96),10,IF(AG96=MIN(AG$94:AG$96),1,5)),IF(AG$108-AG$106=2,IF(MAX($AC$124:AF$126 )=10,IF(AG96=MIN(AG$94:AG$96),1,5),IF(AG96=MIN(AG$94:AG$96),5,10)),IF(AG$108-AG$106=1,IF(AG$101=\"C\",IF(AG96=MAX(AG$94:AG$96),10,1),0),0))))","v":0},{"$f":"IF(AG126>0,AG126,IF(AH$108-AH$106=3,IF(AH96=MAX(AH$94:AH$96),10,IF(AH96=MIN(AH$94:AH$96),1,5)),IF(AH$108-AH$106=2,IF(MAX($AC$124:AG$126 )=10,IF(AH96=MIN(AH$94:AH$96),1,5),IF(AH96=MIN(AH$94:AH$96),5,10)),IF(AH$108-AH$106=1,IF(AH$101=\"C\",IF(AH96=MAX(AH$94:AH$96),10,1),0),0))))","v":0},{"$f":"IF(AH126>0,AH126,IF(AI$108-AI$106=3,IF(AI96=MAX(AI$94:AI$96),10,IF(AI96=MIN(AI$94:AI$96),1,5)),IF(AI$108-AI$106=2,IF(MAX($AC$124:AH$126 )=10,IF(AI96=MIN(AI$94:AI$96),1,5),IF(AI96=MIN(AI$94:AI$96),5,10)),IF(AI$108-AI$106=1,IF(AI$101=\"C\",IF(AI96=MAX(AI$94:AI$96),10,1),0),0))))","v":0},{"$f":"IF(AI126>0,AI126,IF(AJ$108-AJ$106=3,IF(AJ96=MAX(AJ$94:AJ$96),10,IF(AJ96=MIN(AJ$94:AJ$96),1,5)),IF(AJ$108-AJ$106=2,IF(MAX($AC$124:AI$126 )=10,IF(AJ96=MIN(AJ$94:AJ$96),1,5),IF(AJ96=MIN(AJ$94:AJ$96),5,10)),IF(AJ$108-AJ$106=1,IF(AJ$101=\"C\",IF(AJ96=MAX(AJ$94:AJ$96),10,1),0),0))))","v":0},{"$f":"IF(AJ126>0,AJ126,IF(AK$108-AK$106=3,IF(AK96=MAX(AK$94:AK$96),10,IF(AK96=MIN(AK$94:AK$96),1,5)),IF(AK$108-AK$106=2,IF(MAX($AC$124:AJ$126 )=10,IF(AK96=MIN(AK$94:AK$96),1,5),IF(AK96=MIN(AK$94:AK$96),5,10)),IF(AK$108-AK$106=1,IF(AK$101=\"C\",IF(AK96=MAX(AK$94:AK$96),10,1),0),0))))","v":0},{"$f":"IF(AK126>0,AK126,IF(AL$108-AL$106=3,IF(AL96=MAX(AL$94:AL$96),10,IF(AL96=MIN(AL$94:AL$96),1,5)),IF(AL$108-AL$106=2,IF(MAX($AC$124:AK$126 )=10,IF(AL96=MIN(AL$94:AL$96),1,5),IF(AL96=MIN(AL$94:AL$96),5,10)),IF(AL$108-AL$106=1,IF(AL$101=\"C\",IF(AL96=MAX(AL$94:AL$96),10,1),0),0))))","v":0},{"$f":"IF(AL126>0,AL126,IF(AM$108-AM$106=3,IF(AM96=MAX(AM$94:AM$96),10,IF(AM96=MIN(AM$94:AM$96),1,5)),IF(AM$108-AM$106=2,IF(MAX($AC$124:AL$126 )=10,IF(AM96=MIN(AM$94:AM$96),1,5),IF(AM96=MIN(AM$94:AM$96),5,10)),IF(AM$108-AM$106=1,IF(AM$101=\"C\",IF(AM96=MAX(AM$94:AM$96),10,1),0),0))))","v":0},{"$f":"IF(AM126>0,AM126,IF(AN$108-AN$106=3,IF(AN96=MAX(AN$94:AN$96),10,IF(AN96=MIN(AN$94:AN$96),1,5)),IF(AN$108-AN$106=2,IF(MAX($AC$124:AM$126 )=10,IF(AN96=MIN(AN$94:AN$96),1,5),IF(AN96=MIN(AN$94:AN$96),5,10)),IF(AN$108-AN$106=1,IF(AN$101=\"C\",IF(AN96=MAX(AN$94:AN$96),10,1),0),0))))","v":0},{"$f":"IF(AN126>0,AN126,IF(AO$108-AO$106=3,IF(AO96=MAX(AO$94:AO$96),10,IF(AO96=MIN(AO$94:AO$96),1,5)),IF(AO$108-AO$106=2,IF(MAX($AC$124:AN$126 )=10,IF(AO96=MIN(AO$94:AO$96),1,5),IF(AO96=MIN(AO$94:AO$96),5,10)),IF(AO$108-AO$106=1,IF(AO$101=\"C\",IF(AO96=MAX(AO$94:AO$96),10,1),0),0))))","v":0},{"$f":"IF(AO126>0,AO126,IF(AP$108-AP$106=3,IF(AP96=MAX(AP$94:AP$96),10,IF(AP96=MIN(AP$94:AP$96),1,5)),IF(AP$108-AP$106=2,IF(MAX($AC$124:AO$126 )=10,IF(AP96=MIN(AP$94:AP$96),1,5),IF(AP96=MIN(AP$94:AP$96),5,10)),IF(AP$108-AP$106=1,IF(AP$101=\"C\",IF(AP96=MAX(AP$94:AP$96),10,1),0),0))))","v":0},{"$f":"IF(AP126>0,AP126,IF(AQ$108-AQ$106=3,IF(AQ96=MAX(AQ$94:AQ$96),10,IF(AQ96=MIN(AQ$94:AQ$96),1,5)),IF(AQ$108-AQ$106=2,IF(MAX($AC$124:AP$126 )=10,IF(AQ96=MIN(AQ$94:AQ$96),1,5),IF(AQ96=MIN(AQ$94:AQ$96),5,10)),IF(AQ$108-AQ$106=1,IF(AQ$101=\"C\",IF(AQ96=MAX(AQ$94:AQ$96),10,1),0),0))))","v":0},{"$f":"IF(AQ126>0,AQ126,IF(AR$108-AR$106=3,IF(AR96=MAX(AR$94:AR$96),10,IF(AR96=MIN(AR$94:AR$96),1,5)),IF(AR$108-AR$106=2,IF(MAX($AC$124:AQ$126 )=10,IF(AR96=MIN(AR$94:AR$96),1,5),IF(AR96=MIN(AR$94:AR$96),5,10)),IF(AR$108-AR$106=1,IF(AR$101=\"C\",IF(AR96=MAX(AR$94:AR$96),10,1),0),0))))","v":0},{"$f":"IF(AR126>0,AR126,IF(AS$108-AS$106=3,IF(AS96=MAX(AS$94:AS$96),10,IF(AS96=MIN(AS$94:AS$96),1,5)),IF(AS$108-AS$106=2,IF(MAX($AC$124:AR$126 )=10,IF(AS96=MIN(AS$94:AS$96),1,5),IF(AS96=MIN(AS$94:AS$96),5,10)),IF(AS$108-AS$106=1,IF(AS$101=\"C\",IF(AS96=MAX(AS$94:AS$96),10,1),0),0))))","v":0},{"$f":"IF(AS126>0,AS126,IF(AT$108-AT$106=3,IF(AT96=MAX(AT$94:AT$96),10,IF(AT96=MIN(AT$94:AT$96),1,5)),IF(AT$108-AT$106=2,IF(MAX($AC$124:AS$126 )=10,IF(AT96=MIN(AT$94:AT$96),1,5),IF(AT96=MIN(AT$94:AT$96),5,10)),IF(AT$108-AT$106=1,IF(AT$101=\"C\",IF(AT96=MAX(AT$94:AT$96),10,1),0),0))))","v":0},{"$f":"IF(AT126>0,AT126,IF(AU$108-AU$106=3,IF(AU96=MAX(AU$94:AU$96),10,IF(AU96=MIN(AU$94:AU$96),1,5)),IF(AU$108-AU$106=2,IF(MAX($AC$124:AT$126 )=10,IF(AU96=MIN(AU$94:AU$96),1,5),IF(AU96=MIN(AU$94:AU$96),5,10)),IF(AU$108-AU$106=1,IF(AU$101=\"C\",IF(AU96=MAX(AU$94:AU$96),10,1),0),0))))","v":0},{"$f":"IF(AU126>0,AU126,IF(AV$108-AV$106=3,IF(AV96=MAX(AV$94:AV$96),10,IF(AV96=MIN(AV$94:AV$96),1,5)),IF(AV$108-AV$106=2,IF(MAX($AC$124:AU$126 )=10,IF(AV96=MIN(AV$94:AV$96),1,5),IF(AV96=MIN(AV$94:AV$96),5,10)),IF(AV$108-AV$106=1,IF(AV$101=\"C\",IF(AV96=MAX(AV$94:AV$96),10,1),0),0))))","v":0},{"$f":"IF(AV126>0,AV126,IF(AW$108-AW$106=3,IF(AW96=MAX(AW$94:AW$96),10,IF(AW96=MIN(AW$94:AW$96),1,5)),IF(AW$108-AW$106=2,IF(MAX($AC$124:AV$126 )=10,IF(AW96=MIN(AW$94:AW$96),1,5),IF(AW96=MIN(AW$94:AW$96),5,10)),IF(AW$108-AW$106=1,IF(AW$101=\"C\",IF(AW96=MAX(AW$94:AW$96),10,1),0),0))))","v":0},{"$f":"IF(AW126>0,AW126,IF(AX$108-AX$106=3,IF(AX96=MAX(AX$94:AX$96),10,IF(AX96=MIN(AX$94:AX$96),1,5)),IF(AX$108-AX$106=2,IF(MAX($AC$124:AW$126 )=10,IF(AX96=MIN(AX$94:AX$96),1,5),IF(AX96=MIN(AX$94:AX$96),5,10)),IF(AX$108-AX$106=1,IF(AX$101=\"C\",IF(AX96=MAX(AX$94:AX$96),10,1),0),0))))","v":0},{"$f":"IF(AX126>0,AX126,IF(AY$108-AY$106=3,IF(AY96=MAX(AY$94:AY$96),10,IF(AY96=MIN(AY$94:AY$96),1,5)),IF(AY$108-AY$106=2,IF(MAX($AC$124:AX$126 )=10,IF(AY96=MIN(AY$94:AY$96),1,5),IF(AY96=MIN(AY$94:AY$96),5,10)),IF(AY$108-AY$106=1,IF(AY$101=\"C\",IF(AY96=MAX(AY$94:AY$96),10,1),0),0))))","v":0},{"$f":"IF(AY126>0,AY126,IF(AZ$108-AZ$106=3,IF(AZ96=MAX(AZ$94:AZ$96),10,IF(AZ96=MIN(AZ$94:AZ$96),1,5)),IF(AZ$108-AZ$106=2,IF(MAX($AC$124:AY$126 )=10,IF(AZ96=MIN(AZ$94:AZ$96),1,5),IF(AZ96=MIN(AZ$94:AZ$96),5,10)),IF(AZ$108-AZ$106=1,IF(AZ$101=\"C\",IF(AZ96=MAX(AZ$94:AZ$96),10,1),0),0))))","v":0},{"$f":"IF(AZ126>0,AZ126,IF(BA$108-BA$106=3,IF(BA96=MAX(BA$94:BA$96),10,IF(BA96=MIN(BA$94:BA$96),1,5)),IF(BA$108-BA$106=2,IF(MAX($AC$124:AZ$126 )=10,IF(BA96=MIN(BA$94:BA$96),1,5),IF(BA96=MIN(BA$94:BA$96),5,10)),IF(BA$108-BA$106=1,IF(BA$101=\"C\",IF(BA96=MAX(BA$94:BA$96),10,1),0),0))))","v":0},{"$f":"IF(BA126>0,BA126,IF(BB$108-BB$106=3,IF(BB96=MAX(BB$94:BB$96),10,IF(BB96=MIN(BB$94:BB$96),1,5)),IF(BB$108-BB$106=2,IF(MAX($AC$124:BA$126 )=10,IF(BB96=MIN(BB$94:BB$96),1,5),IF(BB96=MIN(BB$94:BB$96),5,10)),IF(BB$108-BB$106=1,IF(BB$101=\"C\",IF(BB96=MAX(BB$94:BB$96),10,1),0),0))))","v":0},{"$f":"IF(BB126>0,BB126,IF(BC$108-BC$106=3,IF(BC96=MAX(BC$94:BC$96),10,IF(BC96=MIN(BC$94:BC$96),1,5)),IF(BC$108-BC$106=2,IF(MAX($AC$124:BB$126 )=10,IF(BC96=MIN(BC$94:BC$96),1,5),IF(BC96=MIN(BC$94:BC$96),5,10)),IF(BC$108-BC$106=1,IF(BC$101=\"C\",IF(BC96=MAX(BC$94:BC$96),10,1),0),0))))","v":0},{"$f":"IF(BC126>0,BC126,IF(BD$108-BD$106=3,IF(BD96=MAX(BD$94:BD$96),10,IF(BD96=MIN(BD$94:BD$96),1,5)),IF(BD$108-BD$106=2,IF(MAX($AC$124:BC$126 )=10,IF(BD96=MIN(BD$94:BD$96),1,5),IF(BD96=MIN(BD$94:BD$96),5,10)),IF(BD$108-BD$106=1,IF(BD$101=\"C\",IF(BD96=MAX(BD$94:BD$96),10,1),0),0))))","v":0},{"$f":"IF(BD126>0,BD126,IF(BE$108-BE$106=3,IF(BE96=MAX(BE$94:BE$96),10,IF(BE96=MIN(BE$94:BE$96),1,5)),IF(BE$108-BE$106=2,IF(MAX($AC$124:BD$126 )=10,IF(BE96=MIN(BE$94:BE$96),1,5),IF(BE96=MIN(BE$94:BE$96),5,10)),IF(BE$108-BE$106=1,IF(BE$101=\"C\",IF(BE96=MAX(BE$94:BE$96),10,1),0),0))))","v":0},{"$f":"IF(BE126>0,BE126,IF(BF$108-BF$106=3,IF(BF96=MAX(BF$94:BF$96),10,IF(BF96=MIN(BF$94:BF$96),1,5)),IF(BF$108-BF$106=2,IF(MAX($AC$124:BE$126 )=10,IF(BF96=MIN(BF$94:BF$96),1,5),IF(BF96=MIN(BF$94:BF$96),5,10)),IF(BF$108-BF$106=1,IF(BF$101=\"C\",IF(BF96=MAX(BF$94:BF$96),10,1),0),0))))","v":0},{"$f":"IF(BF126>0,BF126,IF(BG$108-BG$106=3,IF(BG96=MAX(BG$94:BG$96),10,IF(BG96=MIN(BG$94:BG$96),1,5)),IF(BG$108-BG$106=2,IF(MAX($AC$124:BF$126 )=10,IF(BG96=MIN(BG$94:BG$96),1,5),IF(BG96=MIN(BG$94:BG$96),5,10)),IF(BG$108-BG$106=1,IF(BG$101=\"C\",IF(BG96=MAX(BG$94:BG$96),10,1),0),0))))","v":0}]