{"text_format":"1","workbook":"xlsx","n_sheets":5,"sheets":["Scoresheet","Names","Sheet3","Sheet4","2-way Quiz"],"not_rendered":{"charts":0,"images":0,"macros":1,"external_links":0,"defined_names":0,"comments":0,"pivot_tables":0},"unopened":[],"bounds":{"document_bytes":16777216,"sheet_cells":100000,"rows_first":2000,"rows_last":500,"rows_between":2000,"halvings":0,"cell_chars":16384,"cell_head_chars":4096},"cells_cut":0,"cells_raw":0,"read":"whole","date_system":"1900"}

{"sheet":"Scoresheet","index":0,"n_rows":120,"n_cols":158,"rows_kept":120,"cut":false,"hidden":false,"merged":[[80,6,85,23],[11,3,12,25]]}
[null,null,"Seth Leidy"]
[null,null,"Cindy Hatfield"]
[null,null,"Mike Miller"]
[null,null,"Joe Greff"]
[null,null,"Courtney Terry"]
[null,null,"Joshua Leidy"]
[null,null,"Jason Jewell"]
[null,null,"Kelly Hile"]
[null,null,"John Hile"]
[null,null,"Matt Gutowsky"]
[null,"Quizmaster:"]
[null,"Sched. Start Time:",null,"Official DBQ Electronic Scoresheet"]
[null,"Date:",{"$f":"TODAY()","v":"2015-07-07"}]
[null," Room #"]
[null,null,null,{"$f":"IF(COUNTIF(D17:D20,\"\")+COUNTIF(D38:D41,\"\")+COUNTIF(D59:D62,\"\")=12,IF(E15<12,8,12),COUNTIF(D17:D20,\"\")+COUNTIF(D38:D41,\"\")+COUNTIF(D59:D62,\"\"))","v":12},12,12,12,12,12,12,12,12,12,12,12,12,{"$f":"COUNTIF(Q17:Q20,\"\")+COUNTIF(Q38:Q41,\"\")+COUNTIF(Q59:Q62,\"\")","v":12},12,12,12,12,12,12,12,12,12,12,12,12,12,12,12,12,12,12,12,12,12,12,12,12,12,12,12,12,12,12,12,12,12,12,12,12,12]
["Individual","Errors","Team Name",1,2,3,4,5,6,7,8,9,10,11,12,{"$f":"IF(O21+O42+O63<N42+N63+N21,\"12A\",\"\")","v":""},{"$f":"IF(P21+P42+P63<O42+O63+O21,\"12B\",\"\")","v":""},13,{"$f":"IF(R21+R42+R63<Q42+Q63+Q21,\"13A\",\"\")","v":""},{"$f":"IF(S21+S42+S63<R42+R63+R21,\"13B\",\"\")","v":""},14,{"$f":"IF(U21+U42+U63<T42+T63+T21,\"14A\",\"\")","v":""},{"$f":"IF(V21+V42+V63<U42+U63+U21,\"14B\",\"\")","v":""},15,{"$f":"IF(X101=\"\",\"\",X101)","v":""},{"$f":"IF(Y101=\"\",\"\",Y101)","v":""},"","","","","","","","","","","","","","","","","","","","","","","","","","","",""]
[{"$f":"SUM(D17:BB17)","v":0},{"$f":"COUNTIF(D17:BB17,\"E\")","v":0},"Quizzer #1",null,null,null,null,null,null,null,null,null,null,null,null,null,null,null,null,null,null,null,null,null,null,null,null,null,null,null,null,null,null,null,null,null,null,null,null,null,null,null,null,null,null,null,null,null,null,null,null,null,null,null,null,{"$f":"Sheet3!D17","v":20},{"$f":"Sheet3!E17","v":20},{"$f":"Sheet3!F17","v":20},{"$f":"Sheet3!G17","v":20},{"$f":"Sheet3!H17","v":20},{"$f":"Sheet3!I17","v":20},{"$f":"Sheet3!J17","v":20},{"$f":"Sheet3!K17","v":20},{"$f":"Sheet3!L17","v":20},{"$f":"Sheet3!M17","v":20},{"$f":"Sheet3!N17","v":20},{"$f":"Sheet3!O17","v":20},{"$f":"Sheet3!P17","v":20},{"$f":"Sheet3!Q17","v":10},{"$f":"Sheet3!R17","v":20},{"$f":"Sheet3!S17","v":20},{"$f":"Sheet3!T17","v":10},{"$f":"Sheet3!U17","v":20},{"$f":"Sheet3!V17","v":20},{"$f":"Sheet3!W17","v":10},{"$f":"Sheet3!X17","v":20},{"$f":"Sheet3!Y17","v":"?"},{"$f":"Sheet3!Z17","v":"?"},{"$f":"Sheet3!AA17","v":"?"},{"$f":"Sheet3!AB17","v":"?"},{"$f":"Sheet3!AC17","v":"?"},{"$f":"Sheet3!AD17","v":"?"},{"$f":"Sheet3!AE17","v":"?"},{"$f":"Sheet3!AF17","v":"?"},{"$f":"Sheet3!AG17","v":"?"},{"$f":"Sheet3!AH17","v":"?"},{"$f":"Sheet3!AI17","v":"?"},{"$f":"Sheet3!AJ17","v":"?"},{"$f":"Sheet3!AK17","v":"?"},{"$f":"Sheet3!AL17","v":"?"},{"$f":"Sheet3!AM17","v":"?"},{"$f":"Sheet3!AN17","v":"?"},{"$f":"Sheet3!AO17","v":"?"},{"$f":"Sheet3!AP17","v":"?"},{"$f":"Sheet3!AQ17","v":"?"},{"$f":"Sheet3!AR17","v":"?"},{"$f":"Sheet3!AS17","v":"?"},{"$f":"Sheet3!AT17","v":"?"},{"$f":"Sheet3!AU17","v":"?"},{"$f":"Sheet3!AV17","v":"?"},{"$f":"Sheet3!AW17","v":"?"},{"$f":"Sheet3!AX17","v":"?"},{"$f":"Sheet3!AY17","v":"?"},{"$f":"Sheet3!AZ17","v":"?"},{"$f":"Sheet3!BA17","v":"?"},{"$f":"Sheet3!BB17","v":"?"},null,{"$f":"IF(BD17=\".\",\".\",D26)","v":"E"},{"$f":"IF(BE17=\".\",\".\",E26)","v":"E"},"E","E","E","E","E","E","E","E","E","E","E","A","E","E","A","E","E","A","E",".",".",".",".",".",".",".",".",".",".",".",".",".",".",".",".",".",".",".",".",".",".",".",".",".",".",".",".",".","."]
[{"$f":"SUM(D18:BB18)","v":0},{"$f":"COUNTIF(D18:BB18,\"E\")","v":0},"Quizzer #2",{"$f":"IF(D$17=\"\",\"\",IF(D$17=0,0,\"\"))","v":""},"","","","","","","","","","","","","","","",{"$f":"IF(T$17=\"\",\"\",IF(T$17=0,0,\"\"))","v":""},"","","","","","","","","","","","","","","",{"$f":"IF(AJ$17=\"\",\"\",IF(AJ$17=0,0,\"\"))","v":""},"","","","","","","","","","","","","","","",{"$f":"IF(AZ$17=\"\",\"\",IF(AZ$17=0,0,\"\"))","v":""},"","",null,{"$f":"Sheet3!D18","v":20},{"$f":"Sheet3!E18","v":20},{"$f":"Sheet3!F18","v":20},{"$f":"Sheet3!G18","v":20},{"$f":"Sheet3!H18","v":20},{"$f":"Sheet3!I18","v":20},{"$f":"Sheet3!J18","v":20},{"$f":"Sheet3!K18","v":20},{"$f":"Sheet3!L18","v":20},{"$f":"Sheet3!M18","v":20},{"$f":"Sheet3!N18","v":20},{"$f":"Sheet3!O18","v":20},{"$f":"Sheet3!P18","v":20},{"$f":"Sheet3!Q18","v":10},{"$f":"Sheet3!R18","v":20},{"$f":"Sheet3!S18","v":20},{"$f":"Sheet3!T18","v":10},{"$f":"Sheet3!U18","v":20},{"$f":"Sheet3!V18","v":20},{"$f":"Sheet3!W18","v":10},{"$f":"Sheet3!X18","v":20},{"$f":"Sheet3!Y18","v":"?"},{"$f":"Sheet3!Z18","v":"?"},{"$f":"Sheet3!AA18","v":"?"},{"$f":"Sheet3!AB18","v":"?"},{"$f":"Sheet3!AC18","v":"?"},{"$f":"Sheet3!AD18","v":"?"},{"$f":"Sheet3!AE18","v":"?"},{"$f":"Sheet3!AF18","v":"?"},{"$f":"Sheet3!AG18","v":"?"},{"$f":"Sheet3!AH18","v":"?"},{"$f":"Sheet3!AI18","v":"?"},{"$f":"Sheet3!AJ18","v":"?"},{"$f":"Sheet3!AK18","v":"?"},{"$f":"Sheet3!AL18","v":"?"},{"$f":"Sheet3!AM18","v":"?"},{"$f":"Sheet3!AN18","v":"?"},{"$f":"Sheet3!AO18","v":"?"},{"$f":"Sheet3!AP18","v":"?"},{"$f":"Sheet3!AQ18","v":"?"},{"$f":"Sheet3!AR18","v":"?"},{"$f":"Sheet3!AS18","v":"?"},{"$f":"Sheet3!AT18","v":"?"},{"$f":"Sheet3!AU18","v":"?"},{"$f":"Sheet3!AV18","v":"?"},{"$f":"Sheet3!AW18","v":"?"},{"$f":"Sheet3!AX18","v":"?"},{"$f":"Sheet3!AY18","v":"?"},{"$f":"Sheet3!AZ18","v":"?"},{"$f":"Sheet3!BA18","v":"?"},{"$f":"Sheet3!BB18","v":"?"},null,{"$f":"IF(BD18=\".\",\".\",D26)","v":"E"},{"$f":"IF(BE18=\".\",\".\",E26)","v":"E"},"E","E","E","E","E","E","E","E","E","E","E","A","E","E","A","E","E","A","E",".",".",".",".",".",".",".",".",".",".",".",".",".",".",".",".",".",".",".",".",".",".",".",".",".",".",".",".",".","."]
[{"$f":"SUM(D19:BB19)","v":0},{"$f":"COUNTIF(D19:BB19,\"E\")","v":0},"Quizzer #3","","","","","","","","","","","","","","","","","","","","","","","","","","","","","","","","","","","","","","","","","","","","","","","","","","","",null,{"$f":"Sheet3!D19","v":20},{"$f":"Sheet3!E19","v":20},{"$f":"Sheet3!F19","v":20},{"$f":"Sheet3!G19","v":20},{"$f":"Sheet3!H19","v":20},{"$f":"Sheet3!I19","v":20},{"$f":"Sheet3!J19","v":20},{"$f":"Sheet3!K19","v":20},{"$f":"Sheet3!L19","v":20},{"$f":"Sheet3!M19","v":20},{"$f":"Sheet3!N19","v":20},{"$f":"Sheet3!O19","v":20},{"$f":"Sheet3!P19","v":20},{"$f":"Sheet3!Q19","v":10},{"$f":"Sheet3!R19","v":20},{"$f":"Sheet3!S19","v":20},{"$f":"Sheet3!T19","v":10},{"$f":"Sheet3!U19","v":20},{"$f":"Sheet3!V19","v":20},{"$f":"Sheet3!W19","v":10},{"$f":"Sheet3!X19","v":20},{"$f":"Sheet3!Y19","v":"?"},{"$f":"Sheet3!Z19","v":"?"},{"$f":"Sheet3!AA19","v":"?"},{"$f":"Sheet3!AB19","v":"?"},{"$f":"Sheet3!AC19","v":"?"},{"$f":"Sheet3!AD19","v":"?"},{"$f":"Sheet3!AE19","v":"?"},{"$f":"Sheet3!AF19","v":"?"},{"$f":"Sheet3!AG19","v":"?"},{"$f":"Sheet3!AH19","v":"?"},{"$f":"Sheet3!AI19","v":"?"},{"$f":"Sheet3!AJ19","v":"?"},{"$f":"Sheet3!AK19","v":"?"},{"$f":"Sheet3!AL19","v":"?"},{"$f":"Sheet3!AM19","v":"?"},{"$f":"Sheet3!AN19","v":"?"},{"$f":"Sheet3!AO19","v":"?"},{"$f":"Sheet3!AP19","v":"?"},{"$f":"Sheet3!AQ19","v":"?"},{"$f":"Sheet3!AR19","v":"?"},{"$f":"Sheet3!AS19","v":"?"},{"$f":"Sheet3!AT19","v":"?"},{"$f":"Sheet3!AU19","v":"?"},{"$f":"Sheet3!AV19","v":"?"},{"$f":"Sheet3!AW19","v":"?"},{"$f":"Sheet3!AX19","v":"?"},{"$f":"Sheet3!AY19","v":"?"},{"$f":"Sheet3!AZ19","v":"?"},{"$f":"Sheet3!BA19","v":"?"},{"$f":"Sheet3!BB19","v":"?"},null,{"$f":"IF(BD19=\".\",\".\",D26)","v":"E"},{"$f":"IF(BE19=\".\",\".\",E26)","v":"E"},"E","E","E","E","E","E","E","E","E","E","E","A","E","E","A","E","E","A","E",".",".",".",".",".",".",".",".",".",".",".",".",".",".",".",".",".",".",".",".",".",".",".",".",".",".",".",".",".","."]
[{"$f":"SUM(D20:BB20)","v":0},{"$f":"COUNTIF(D20:BB20,\"E\")","v":0},"Substitute","","","","","","","","","","","","","","","","","","","","","","","","","","","","","","","","","","","","","","","","","","","","","","","","","","","",null,{"$f":"Sheet3!D20","v":"."},{"$f":"Sheet3!E20","v":20},{"$f":"Sheet3!F20","v":20},{"$f":"Sheet3!G20","v":20},{"$f":"Sheet3!H20","v":20},{"$f":"Sheet3!I20","v":20},{"$f":"Sheet3!J20","v":20},{"$f":"Sheet3!K20","v":20},{"$f":"Sheet3!L20","v":20},{"$f":"Sheet3!M20","v":20},{"$f":"Sheet3!N20","v":20},{"$f":"Sheet3!O20","v":20},{"$f":"Sheet3!P20","v":20},{"$f":"Sheet3!Q20","v":10},{"$f":"Sheet3!R20","v":20},{"$f":"Sheet3!S20","v":20},{"$f":"Sheet3!T20","v":10},{"$f":"Sheet3!U20","v":20},{"$f":"Sheet3!V20","v":20},{"$f":"Sheet3!W20","v":10},{"$f":"Sheet3!X20","v":20},{"$f":"Sheet3!Y20","v":"?"},{"$f":"Sheet3!Z20","v":"?"},{"$f":"Sheet3!AA20","v":"?"},{"$f":"Sheet3!AB20","v":"?"},{"$f":"Sheet3!AC20","v":"?"},{"$f":"Sheet3!AD20","v":"?"},{"$f":"Sheet3!AE20","v":"?"},{"$f":"Sheet3!AF20","v":"?"},{"$f":"Sheet3!AG20","v":"?"},{"$f":"Sheet3!AH20","v":"?"},{"$f":"Sheet3!AI20","v":"?"},{"$f":"Sheet3!AJ20","v":"?"},{"$f":"Sheet3!AK20","v":"?"},{"$f":"Sheet3!AL20","v":"?"},{"$f":"Sheet3!AM20","v":"?"},{"$f":"Sheet3!AN20","v":"?"},{"$f":"Sheet3!AO20","v":"?"},{"$f":"Sheet3!AP20","v":"?"},{"$f":"Sheet3!AQ20","v":"?"},{"$f":"Sheet3!AR20","v":"?"},{"$f":"Sheet3!AS20","v":"?"},{"$f":"Sheet3!AT20","v":"?"},{"$f":"Sheet3!AU20","v":"?"},{"$f":"Sheet3!AV20","v":"?"},{"$f":"Sheet3!AW20","v":"?"},{"$f":"Sheet3!AX20","v":"?"},{"$f":"Sheet3!AY20","v":"?"},{"$f":"Sheet3!AZ20","v":"?"},{"$f":"Sheet3!BA20","v":"?"},{"$f":"Sheet3!BB20","v":"?"},null,{"$f":"IF(BD20=\".\",\".\",D26)","v":"."},{"$f":"IF(BE20=\".\",\".\",E26)","v":"E"},"E","E","E","E","E","E","E","E","E","E","E","A","E","E","A","E","E","A","E",".",".",".",".",".",".",".",".",".",".",".",".",".",".",".",".",".",".",".",".",".",".",".",".",".",".",".",".",".","."]
[{"$f":"ROUND(BB21,0)","v":0},{"$f":"SUM(B23:B26)","v":0},0.25,{"$f":"SUM(D17:D20)+D28+0.25+Sheet3!D92","v":0.25},{"$f":"D21+SUM(E17:E20)+E28+Sheet3!E92","v":0.25},{"$f":"E21+SUM(F17:F20)+F28+F34+Sheet3!F92","v":0.25},{"$f":"F21+SUM(G17:G20)+G28+G34+Sheet3!G92","v":0.25},{"$f":"G21+SUM(H17:H20)+H28+H34+Sheet3!H92","v":0.25},{"$f":"H21+SUM(I17:I20)+I28+I34+Sheet3!I92","v":0.25},{"$f":"IF(I21+J28<0,0.24,I21+SUM(J17:J20)+J28+J34)+Sheet3!J92","v":0.25},{"$f":"IF(J21+K28<0,0.23,J21+SUM(K17:K20)+K28+K34)+Sheet3!K92","v":0.25},{"$f":"IF(K21+L28<0,0.22,K21+SUM(L17:L20)+L28+L34)+Sheet3!L92","v":0.25},{"$f":"IF(L21+M28<0,0.21,L21+SUM(M17:M20)+M28+M34)+Sheet3!M92","v":0.25},{"$f":"IF(M21+N28<0,0.2,M21+SUM(N17:N20)+N28+N34)+Sheet3!N92","v":0.25},{"$f":"IF(N21+O28<0,0.19,N21+SUM(O17:O20)+O28+O34)+Sheet3!O92","v":0.25},{"$f":"IF(O21+P28<0,0.18,O21+SUM(P17:P20)+P28+P34)+Sheet3!P92","v":0.25},{"$f":"IF(P21+Q28<0,0.17,P21+SUM(Q17:Q20)+Q28+Q34)+Sheet3!Q92","v":0.25},{"$f":"IF(Q21+R28<0,0.16,Q21+SUM(R17:R20)+R28+R34)+Sheet3!R92","v":0.25},{"$f":"IF(R21+S28<0,0.15,R21+SUM(S17:S20)+S28+S34)+Sheet3!S92","v":0.25},{"$f":"IF(S21+T28<0,0.14,S21+SUM(T17:T20)+T28+T34)+Sheet3!T92","v":0.25},{"$f":"IF(T21+U28<0,0.13,T21+SUM(U17:U20)+U28+U34)+Sheet3!U92","v":0.25},{"$f":"IF(U21+V28<0,0.12,U21+SUM(V17:V20)+V28+V34)+Sheet3!V92","v":0.25},{"$f":"IF(V21+W28<0,0.11,V21+SUM(W17:W20)+W28+W34)+Sheet3!W92","v":0.25},{"$f":"IF(W21+X28<0,0.1,W21+SUM(X17:X20)+X28+X34)+Sheet3!X92","v":0.25},{"$f":"IF(X21+Y28<0,0.09,X21+SUM(Y17:Y20)+Y28+Y34)+Sheet3!Y92","v":0.25},{"$f":"IF(Y21+Z28<0,0.08,Y21+SUM(Z17:Z20)+Z28+Z34)+Sheet3!Z92","v":0.25},{"$f":"IF(Z21+AA28<0,0.07,Z21+SUM(AA17:AA20)+AA28+AA34)+Sheet3!AA92","v":0.25},{"$f":"IF(AA21+AB28<0,0.06,AA21+SUM(AB17:AB20)+AB28+AB34)+Sheet3!AB92","v":0.25},{"$f":"IF(AB21+AC28<0,0.05,AB21+SUM(AC17:AC20)+AC28+AC34)+Sheet3!AC92","v":0.25},{"$f":"IF(AC21+AD28<0,0.04,AC21+SUM(AD17:AD20)+AD28+AD34)+Sheet3!AD92","v":0.25},{"$f":"IF(AD21+AE28<0,0.03,AD21+SUM(AE17:AE20)+AE28+AE34)+Sheet3!AE92","v":0.25},{"$f":"IF(AE21+AF28<0,0.02,AE21+SUM(AF17:AF20)+AF28+AF34)+Sheet3!AF92","v":0.25},{"$f":"IF(AF21+AG28<0,0.01,AF21+SUM(AG17:AG20)+AG28+AG34)+Sheet3!AG92","v":0.25},{"$f":"IF(AG21+AH28<0,0,AG21+SUM(AH17:AH20)+AH28+AH34)+Sheet3!AH92","v":0.25},{"$f":"IF(AH21+AI28<0,0,AH21+SUM(AI17:AI20)+AI28+AI34)+Sheet3!AI92","v":0.25},{"$f":"IF(AI21+AJ28<0,0,AI21+SUM(AJ17:AJ20)+AJ28+AJ34)+Sheet3!AJ92","v":0.25},{"$f":"IF(AJ21+AK28<0,0,AJ21+SUM(AK17:AK20)+AK28+AK34)+Sheet3!AK92","v":0.25},{"$f":"IF(AK21+AL28<0,0,AK21+SUM(AL17:AL20)+AL28+AL34)+Sheet3!AL92","v":0.25},{"$f":"IF(AL21+AM28<0,0,AL21+SUM(AM17:AM20)+AM28+AM34)+Sheet3!AM92","v":0.25},{"$f":"IF(AM21+AN28<0,0,AM21+SUM(AN17:AN20)+AN28+AN34)+Sheet3!AN92","v":0.25},{"$f":"IF(AN21+AO28<0,0,AN21+SUM(AO17:AO20)+AO28+AO34)+Sheet3!AO92","v":0.25},{"$f":"IF(AO21+AP28<0,0,AO21+SUM(AP17:AP20)+AP28+AP34)+Sheet3!AP92","v":0.25},{"$f":"IF(AP21+AQ28<0,0,AP21+SUM(AQ17:AQ20)+AQ28+AQ34)+Sheet3!AQ92","v":0.25},{"$f":"IF(AQ21+AR28<0,0,AQ21+SUM(AR17:AR20)+AR28+AR34)+Sheet3!AR92","v":0.25},{"$f":"IF(AR21+AS28<0,0,AR21+SUM(AS17:AS20)+AS28+AS34)+Sheet3!AS92","v":0.25},{"$f":"IF(AS21+AT28<0,0,AS21+SUM(AT17:AT20)+AT28+AT34)+Sheet3!AT92","v":0.25},{"$f":"IF(AT21+AU28<0,0,AT21+SUM(AU17:AU20)+AU28+AU34)+Sheet3!AU92","v":0.25},{"$f":"IF(AU21+AV28<0,0,AU21+SUM(AV17:AV20)+AV28+AV34)+Sheet3!AV92","v":0.25},{"$f":"IF(AV21+AW28<0,0,AV21+SUM(AW17:AW20)+AW28+AW34)+Sheet3!AW92","v":0.25},{"$f":"IF(AW21+AX28<0,0,AW21+SUM(AX17:AX20)+AX28+AX34)+Sheet3!AX92","v":0.25},{"$f":"IF(AX21+AY28<0,0,AX21+SUM(AY17:AY20)+AY28+AY34)+Sheet3!AY92","v":0.25},{"$f":"IF(AY21+AZ28<0,0,AY21+SUM(AZ17:AZ20)+AZ28+AZ34)+Sheet3!AZ92","v":0.25},{"$f":"IF(AZ21+BA28<0,0,AZ21+SUM(BA17:BA20)+BA28+BA34)+Sheet3!BA92","v":0.25},{"$f":"IF(BA21+BB28<0,0,BA21+SUM(BB17:BB20)+BB28+BB34)+Sheet3!BB92","v":0.25}]
["Team Total","Olympic Pts.",{"$f":"IF(Sheet3!B90=0,IF(Sheet3!B91=0,Sheet3!C79,Sheet3!C80),IF(Sheet3!B91=0,Sheet3!C82,Sheet3!C81))","v":"Timeout = T, Foul = F ------------>"},null,null,null,null,null,null,null,null,null,null,null,null,null,null,null,null,null,null,null,null,null,null,null,null,null,null,null,null,null,null,null,null,null,null,null,null,null,null,null,null,null,null,null,null,null,null,null,null,null,null,null,null,{"$f":"BD17","v":20},{"$f":"BE17","v":20},20,20,20,20,20,20,20,20,20,20,20,10,20,20,10,20,20,10,20,"?","?","?","?","?","?","?","?","?","?","?","?","?","?","?","?","?","?","?","?","?","?","?","?","?","?","?","?","?","?"]
[null,{"$f":"W118","v":0},"CEPC Greatly Annoyed",null,{"$f":"COUNTIF(D17:D20,\"E\")","v":0},{"$f":"COUNTIF(D17:E20,\"E\")","v":0},{"$f":"COUNTIF(E17:F20,\"E\")","v":0},0,0,0,0,0,0,0,0,0,0,0,0,0,0,0,0,0,0,0,0,0,0,0,0,0,0,0,0,0,0,0,0,0,0,0,0,0,0,0,0,0,0,0,0,0,0,0,null,{"$f":"DD17","v":"E"},{"$f":"DE17","v":"E"},"E","E","E","E","E","E","E","E","E","E","E","A","E","E","A","E","E","A","E",".",".",".",".",".",".",".",".",".",".",".",".",".",".",".",".",".",".",".",".",".",".",".",".",".",".",".",".",".","."]
[null,0,"CMC Gushed Out",null,{"$f":"COUNTIF(D17:D20,\"E\")","v":0},{"$f":"COUNTIF(E17:E20,\"E\")","v":0},0,0,0,0,0,0,0,0,0,0,0,0,0,0,0,0,0,0,0,0,0,0,0,0,0,0,0,0,0,0,0,0,0,0,0,0,0,0,0,0,0,0,0,0,0,0,0,0,null,0,0,0,0,0,0,0,0,0,0,0,0,0,0,0,0,0,0,0,0,0,0,0,0,0,0,0,0,0,0,0,0,0,0,0,0,0,0,0,0,0,0,0,0,0,0,0,0,0,0,0]
[null,{"$f":"IF(BB33>=3,2,0)","v":0},"CMC Understand the Utterances",20,{"$f":"IF(E24=1,\".\",20)","v":20},{"$f":"IF(F47=\"A\",\".\",IF(F68=\"A\",\".\",IF(F24=1,\".\",IF(SUM(F44,F65)<2,20,10))))","v":20},20,20,20,20,20,20,20,20,20,20,{"$f":"IF(COUNTIF(O17:P20,\"\")<8,\".\",10)","v":10},20,{"$f":"IF(COUNTIF(R17:R20,\"\")<4,\".\",20)","v":20},{"$f":"IF(COUNTIF(R17:S20,\"\")<8,\">\",10)","v":10},20,{"$f":"IF(COUNTIF(U17:U20,\"\")<4,\".\",20)","v":20},{"$f":"IF(COUNTIF(U17:V20,\"\")<8,\">\",10)","v":10},20,{"$f":"Y104","v":"?"},"?","?","?","?","?","?","?","?","?","?","?","?","?","?","?","?","?","?","?","?","?","?","?","?","?","?","?","?","?",null,{"$f":"BD18","v":20},{"$f":"BE18","v":20},20,20,20,20,20,20,20,20,20,20,20,10,20,20,10,20,20,10,20,"?","?","?","?","?","?","?","?","?","?","?","?","?","?","?","?","?","?","?","?","?","?","?","?","?","?","?","?","?","?"]
[null,{"$f":"IF(B25=2,0,IF(B23+B24=10,IF(A21>=130,1,0),IF(B23+B24=5,IF(A21>=100,1,0),IF(A21>=70,1,0))))","v":0},"True Worship Church 1","E",{"$f":"IF(E24=1,\".\",\"E\")","v":"E"},{"$f":"IF(F25=\".\",\".\",IF(SUM(F44,F65)<2,\"E\",\"A\"))","v":"E"},"E","E","E","E","E","E","E","E","E","E",{"$f":"IF(Q25=10,\"A\",\".\")","v":"A"},"E",{"$f":"IF(S25=20,\"E\",\".\")","v":"E"},{"$f":"IF(T25=10,\"A\",\".\")","v":"A"},"E",{"$f":"IF(V25=20,\"E\",\".\")","v":"E"},{"$f":"IF(W25=10,\"A\",\".\")","v":"A"},"E",".",".",".",".",".",".",".",".",".",".",".",".",".",".",".",".",".",".",".",".",".",".",".",".",".",".",".",".",".",".",null,{"$f":"DD18","v":"E"},{"$f":"DE18","v":"E"},"E","E","E","E","E","E","E","E","E","E","E","A","E","E","A","E","E","A","E",".",".",".",".",".",".",".",".",".",".",".",".",".",".",".",".",".",".",".",".",".",".",".",".",".",".",".",".",".","."]
[null,null,"True Worship Church 2",{"$f":"IF(D15=12,\".\",IF(D15=0,0,\"\"))","v":"."},{"$f":"IF(E15=12,\".\",IF(E15=0,0,\"\"))","v":"."},".",".",".",".",".",".",".",".",".",".",{"$f":"IF(P15=0,0,IF(P$78=0,\".\",\"\"))","v":"."},{"$f":"IF(Q15=0,0,IF(Q$78=0,\".\",\"\"))","v":"."},".",{"$f":"IF(S15=0,0,IF(S$78=0,\".\",\"\"))","v":"."},{"$f":"IF(T15=0,0,IF(T$78=0,\".\",\"\"))","v":"."},".",{"$f":"IF(V15=0,0,IF(V$78=0,\".\",\"\"))","v":"."},{"$f":"IF(W15=0,0,IF(W$78=0,\".\",\"\"))","v":"."},".",".",".",".",".",".",".",".",".",".",".",".",".",".",".",".",".",".",".",".",".",".",".",".",".",".",".",".",".",".","."]
[null,null,"Heart Pangs of Death",{"$f":"IF(E24=0,0,IF(SUM($D24:E24)>=4,-10,-0.01))","v":0},{"$f":"IF(F24=0,0,IF(SUM($D24:F24)>=4,-10,-0.01))","v":0},{"$f":"IF(G24=0,0,IF(SUM($D24:G24)>=4,-10,-0.01))","v":0},{"$f":"IF(H24=0,0,IF(SUM($D24:H24)>=4,-10,-0.01))","v":0},{"$f":"IF(I24=0,0,IF(SUM($D24:I24)>=4,-10,-0.01))","v":0},{"$f":"IF(J24=0,0,IF(SUM($D24:J24)>=4,-10,-0.01))","v":0},{"$f":"IF(K24=0,0,IF(SUM($D24:K24)>=4,-10,-0.01))","v":0},{"$f":"IF(L24=0,0,IF(SUM($D24:L24)>=4,-10,-0.01))","v":0},{"$f":"IF(M24=0,0,IF(SUM($D24:M24)>=4,-10,-0.01))","v":0},{"$f":"IF(N24=0,0,IF(SUM($D24:N24)>=4,-10,-0.01))","v":0},{"$f":"IF(O24=0,0,IF(SUM($D24:O24)>=4,-10,-0.01))","v":0},{"$f":"IF(P24=0,0,IF(SUM($D24:P24)>=4,-10,-0.01))","v":0},{"$f":"IF(Q24=0,0,IF(SUM($D24:Q24)>=4,-10,-0.01))","v":0},{"$f":"IF(R24=0,0,IF(SUM($D24:R24)>=4,-10,-0.01))","v":0},{"$f":"IF(S24=0,0,IF(SUM($D24:S24)>=4,-10,-0.01))","v":0},{"$f":"IF(T24=0,0,IF(SUM($D24:T24)>=4,-10,-0.01))","v":0},{"$f":"IF(U24=0,0,IF(SUM($D24:U24)>=4,-10,-0.01))","v":0},{"$f":"IF(V24=0,0,IF(SUM($D24:V24)>=4,-10,-0.01))","v":0},{"$f":"IF(W24=0,0,IF(SUM($D24:W24)>=4,-10,-0.01))","v":0},0,{"$f":"IF(Y24=1,-10,0)","v":0},{"$f":"IF(Z24=1,-10,0)","v":0},{"$f":"IF(AA24=1,-10,0)","v":0},{"$f":"IF(AB24=1,-10,0)","v":0},0,0,0,0,0,0,0,0,0,0,0,0,0,0,0,0,0,0,0,0,0,0,0,0,0,0,0,null,{"$f":"BD19","v":20},{"$f":"BE19","v":20},20,20,20,20,20,20,20,20,20,20,20,10,20,20,10,20,20,10,20,"?","?","?","?","?","?","?","?","?","?","?","?","?","?","?","?","?","?","?","?","?","?","?","?","?","?","?","?","?","?"]
[null,null,"Cut to the Heart",null,null,{"$f":"IF(COUNTIF($D17:F17,20)>=1,1,0)","v":0},{"$f":"IF(COUNTIF($D17:G17,20)>=1,1,0)","v":0},{"$f":"IF(COUNTIF($D17:H17,20)>=1,1,0)","v":0},{"$f":"IF(COUNTIF($D17:I17,20)>=1,1,0)","v":0},{"$f":"IF(COUNTIF($D17:J17,20)>=1,1,0)","v":0},{"$f":"IF(COUNTIF($D17:K17,20)>=1,1,0)","v":0},{"$f":"IF(COUNTIF($D17:L17,20)>=1,1,0)","v":0},{"$f":"IF(COUNTIF($D17:M17,20)>=1,1,0)","v":0},{"$f":"IF(COUNTIF($D17:N17,20)>=1,1,0)","v":0},{"$f":"IF(COUNTIF($D17:O17,20)>=1,1,0)","v":0},{"$f":"IF(COUNTIF($D17:P17,20)>=1,1,0)","v":0},{"$f":"IF(COUNTIF($D17:Q17,20)>=1,1,0)","v":0},{"$f":"IF(COUNTIF($D17:R17,20)>=1,1,0)","v":0},{"$f":"IF(COUNTIF($D17:S17,20)>=1,1,0)","v":0},{"$f":"IF(COUNTIF($D17:T17,20)>=1,1,0)","v":0},{"$f":"IF(COUNTIF($D17:U17,20)>=1,1,0)","v":0},{"$f":"IF(COUNTIF($D17:V17,20)>=1,1,0)","v":0},{"$f":"IF(COUNTIF($D17:W17,20)>=1,1,0)","v":0},{"$f":"IF(COUNTIF($D17:X17,20)>=1,1,0)","v":0},{"$f":"IF(COUNTIF($D17:Y17,20)>=1,1,0)","v":0},{"$f":"IF(COUNTIF($D17:Z17,20)>=1,1,0)","v":0},{"$f":"IF(COUNTIF($D17:AA17,20)>=1,1,0)","v":0},{"$f":"IF(COUNTIF($D17:AB17,20)>=1,1,0)","v":0},{"$f":"IF(COUNTIF($D17:AC17,20)>=1,1,0)","v":0},{"$f":"IF(COUNTIF($D17:AD17,20)>=1,1,0)","v":0},{"$f":"IF(COUNTIF($D17:AE17,20)>=1,1,0)","v":0},{"$f":"IF(COUNTIF($D17:AF17,20)>=1,1,0)","v":0},{"$f":"IF(COUNTIF($D17:AG17,20)>=1,1,0)","v":0},{"$f":"IF(COUNTIF($D17:AH17,20)>=1,1,0)","v":0},{"$f":"IF(COUNTIF($D17:AI17,20)>=1,1,0)","v":0},{"$f":"IF(COUNTIF($D17:AJ17,20)>=1,1,0)","v":0},{"$f":"IF(COUNTIF($D17:AK17,20)>=1,1,0)","v":0},{"$f":"IF(COUNTIF($D17:AL17,20)>=1,1,0)","v":0},{"$f":"IF(COUNTIF($D17:AM17,20)>=1,1,0)","v":0},{"$f":"IF(COUNTIF($D17:AN17,20)>=1,1,0)","v":0},{"$f":"IF(COUNTIF($D17:AO17,20)>=1,1,0)","v":0},{"$f":"IF(COUNTIF($D17:AP17,20)>=1,1,0)","v":0},{"$f":"IF(COUNTIF($D17:AQ17,20)>=1,1,0)","v":0},{"$f":"IF(COUNTIF($D17:AR17,20)>=1,1,0)","v":0},{"$f":"IF(COUNTIF($D17:AS17,20)>=1,1,0)","v":0},{"$f":"IF(COUNTIF($D17:AT17,20)>=1,1,0)","v":0},{"$f":"IF(COUNTIF($D17:AU17,20)>=1,1,0)","v":0},{"$f":"IF(COUNTIF($D17:AV17,20)>=1,1,0)","v":0},{"$f":"IF(COUNTIF($D17:AW17,20)>=1,1,0)","v":0},{"$f":"IF(COUNTIF($D17:AX17,20)>=1,1,0)","v":0},{"$f":"IF(COUNTIF($D17:AY17,20)>=1,1,0)","v":0},{"$f":"IF(COUNTIF($D17:AZ17,20)>=1,1,0)","v":0},{"$f":"IF(COUNTIF($D17:BA17,20)>=1,1,0)","v":0},{"$f":"IF(COUNTIF($D17:BB17,20)>=1,1,0)","v":0},null,{"$f":"DD19","v":"E"},{"$f":"DE19","v":"E"},"E","E","E","E","E","E","E","E","E","E","E","A","E","E","A","E","E","A","E",".",".",".",".",".",".",".",".",".",".",".",".",".",".",".",".",".",".",".",".",".",".",".",".",".",".",".",".",".","."]
[null,null,"LP No Other Name",null,null,{"$f":"IF(COUNTIF($D18:F18,20)>=1,1,0)","v":0},{"$f":"IF(COUNTIF($D18:G18,20)>=1,1,0)","v":0},{"$f":"IF(COUNTIF($D18:H18,20)>=1,1,0)","v":0},{"$f":"IF(COUNTIF($D18:I18,20)>=1,1,0)","v":0},{"$f":"IF(COUNTIF($D18:J18,20)>=1,1,0)","v":0},{"$f":"IF(COUNTIF($D18:K18,20)>=1,1,0)","v":0},{"$f":"IF(COUNTIF($D18:L18,20)>=1,1,0)","v":0},{"$f":"IF(COUNTIF($D18:M18,20)>=1,1,0)","v":0},{"$f":"IF(COUNTIF($D18:N18,20)>=1,1,0)","v":0},{"$f":"IF(COUNTIF($D18:O18,20)>=1,1,0)","v":0},{"$f":"IF(COUNTIF($D18:P18,20)>=1,1,0)","v":0},{"$f":"IF(COUNTIF($D18:Q18,20)>=1,1,0)","v":0},{"$f":"IF(COUNTIF($D18:R18,20)>=1,1,0)","v":0},{"$f":"IF(COUNTIF($D18:S18,20)>=1,1,0)","v":0},{"$f":"IF(COUNTIF($D18:T18,20)>=1,1,0)","v":0},{"$f":"IF(COUNTIF($D18:U18,20)>=1,1,0)","v":0},{"$f":"IF(COUNTIF($D18:V18,20)>=1,1,0)","v":0},{"$f":"IF(COUNTIF($D18:W18,20)>=1,1,0)","v":0},{"$f":"IF(COUNTIF($D18:X18,20)>=1,1,0)","v":0},{"$f":"IF(COUNTIF($D18:Y18,20)>=1,1,0)","v":0},{"$f":"IF(COUNTIF($D18:Z18,20)>=1,1,0)","v":0},{"$f":"IF(COUNTIF($D18:AA18,20)>=1,1,0)","v":0},{"$f":"IF(COUNTIF($D18:AB18,20)>=1,1,0)","v":0},{"$f":"IF(COUNTIF($D18:AC18,20)>=1,1,0)","v":0},{"$f":"IF(COUNTIF($D18:AD18,20)>=1,1,0)","v":0},{"$f":"IF(COUNTIF($D18:AE18,20)>=1,1,0)","v":0},{"$f":"IF(COUNTIF($D18:AF18,20)>=1,1,0)","v":0},{"$f":"IF(COUNTIF($D18:AG18,20)>=1,1,0)","v":0},{"$f":"IF(COUNTIF($D18:AH18,20)>=1,1,0)","v":0},{"$f":"IF(COUNTIF($D18:AI18,20)>=1,1,0)","v":0},{"$f":"IF(COUNTIF($D18:AJ18,20)>=1,1,0)","v":0},{"$f":"IF(COUNTIF($D18:AK18,20)>=1,1,0)","v":0},{"$f":"IF(COUNTIF($D18:AL18,20)>=1,1,0)","v":0},{"$f":"IF(COUNTIF($D18:AM18,20)>=1,1,0)","v":0},{"$f":"IF(COUNTIF($D18:AN18,20)>=1,1,0)","v":0},{"$f":"IF(COUNTIF($D18:AO18,20)>=1,1,0)","v":0},{"$f":"IF(COUNTIF($D18:AP18,20)>=1,1,0)","v":0},{"$f":"IF(COUNTIF($D18:AQ18,20)>=1,1,0)","v":0},{"$f":"IF(COUNTIF($D18:AR18,20)>=1,1,0)","v":0},{"$f":"IF(COUNTIF($D18:AS18,20)>=1,1,0)","v":0},{"$f":"IF(COUNTIF($D18:AT18,20)>=1,1,0)","v":0},{"$f":"IF(COUNTIF($D18:AU18,20)>=1,1,0)","v":0},{"$f":"IF(COUNTIF($D18:AV18,20)>=1,1,0)","v":0},{"$f":"IF(COUNTIF($D18:AW18,20)>=1,1,0)","v":0},{"$f":"IF(COUNTIF($D18:AX18,20)>=1,1,0)","v":0},{"$f":"IF(COUNTIF($D18:AY18,20)>=1,1,0)","v":0},{"$f":"IF(COUNTIF($D18:AZ18,20)>=1,1,0)","v":0},{"$f":"IF(COUNTIF($D18:BA18,20)>=1,1,0)","v":0},{"$f":"IF(COUNTIF($D18:BB18,20)>=1,1,0)","v":0}]
[null,null,"LP Get Up Quickly",null,null,{"$f":"IF(COUNTIF($D19:F19,20)>=1,1,0)","v":0},{"$f":"IF(COUNTIF($D19:G19,20)>=1,1,0)","v":0},{"$f":"IF(COUNTIF($D19:H19,20)>=1,1,0)","v":0},{"$f":"IF(COUNTIF($D19:I19,20)>=1,1,0)","v":0},{"$f":"IF(COUNTIF($D19:J19,20)>=1,1,0)","v":0},{"$f":"IF(COUNTIF($D19:K19,20)>=1,1,0)","v":0},{"$f":"IF(COUNTIF($D19:L19,20)>=1,1,0)","v":0},{"$f":"IF(COUNTIF($D19:M19,20)>=1,1,0)","v":0},{"$f":"IF(COUNTIF($D19:N19,20)>=1,1,0)","v":0},{"$f":"IF(COUNTIF($D19:O19,20)>=1,1,0)","v":0},{"$f":"IF(COUNTIF($D19:P19,20)>=1,1,0)","v":0},{"$f":"IF(COUNTIF($D19:Q19,20)>=1,1,0)","v":0},{"$f":"IF(COUNTIF($D19:R19,20)>=1,1,0)","v":0},{"$f":"IF(COUNTIF($D19:S19,20)>=1,1,0)","v":0},{"$f":"IF(COUNTIF($D19:T19,20)>=1,1,0)","v":0},{"$f":"IF(COUNTIF($D19:U19,20)>=1,1,0)","v":0},{"$f":"IF(COUNTIF($D19:V19,20)>=1,1,0)","v":0},{"$f":"IF(COUNTIF($D19:W19,20)>=1,1,0)","v":0},{"$f":"IF(COUNTIF($D19:X19,20)>=1,1,0)","v":0},{"$f":"IF(COUNTIF($D19:Y19,20)>=1,1,0)","v":0},{"$f":"IF(COUNTIF($D19:Z19,20)>=1,1,0)","v":0},{"$f":"IF(COUNTIF($D19:AA19,20)>=1,1,0)","v":0},{"$f":"IF(COUNTIF($D19:AB19,20)>=1,1,0)","v":0},{"$f":"IF(COUNTIF($D19:AC19,20)>=1,1,0)","v":0},{"$f":"IF(COUNTIF($D19:AD19,20)>=1,1,0)","v":0},{"$f":"IF(COUNTIF($D19:AE19,20)>=1,1,0)","v":0},{"$f":"IF(COUNTIF($D19:AF19,20)>=1,1,0)","v":0},{"$f":"IF(COUNTIF($D19:AG19,20)>=1,1,0)","v":0},{"$f":"IF(COUNTIF($D19:AH19,20)>=1,1,0)","v":0},{"$f":"IF(COUNTIF($D19:AI19,20)>=1,1,0)","v":0},{"$f":"IF(COUNTIF($D19:AJ19,20)>=1,1,0)","v":0},{"$f":"IF(COUNTIF($D19:AK19,20)>=1,1,0)","v":0},{"$f":"IF(COUNTIF($D19:AL19,20)>=1,1,0)","v":0},{"$f":"IF(COUNTIF($D19:AM19,20)>=1,1,0)","v":0},{"$f":"IF(COUNTIF($D19:AN19,20)>=1,1,0)","v":0},{"$f":"IF(COUNTIF($D19:AO19,20)>=1,1,0)","v":0},{"$f":"IF(COUNTIF($D19:AP19,20)>=1,1,0)","v":0},{"$f":"IF(COUNTIF($D19:AQ19,20)>=1,1,0)","v":0},{"$f":"IF(COUNTIF($D19:AR19,20)>=1,1,0)","v":0},{"$f":"IF(COUNTIF($D19:AS19,20)>=1,1,0)","v":0},{"$f":"IF(COUNTIF($D19:AT19,20)>=1,1,0)","v":0},{"$f":"IF(COUNTIF($D19:AU19,20)>=1,1,0)","v":0},{"$f":"IF(COUNTIF($D19:AV19,20)>=1,1,0)","v":0},{"$f":"IF(COUNTIF($D19:AW19,20)>=1,1,0)","v":0},{"$f":"IF(COUNTIF($D19:AX19,20)>=1,1,0)","v":0},{"$f":"IF(COUNTIF($D19:AY19,20)>=1,1,0)","v":0},{"$f":"IF(COUNTIF($D19:AZ19,20)>=1,1,0)","v":0},{"$f":"IF(COUNTIF($D19:BA19,20)>=1,1,0)","v":0},{"$f":"IF(COUNTIF($D19:BB19,20)>=1,1,0)","v":0},null,{"$f":"BD20","v":"."},{"$f":"BE20","v":20},20,20,20,20,20,20,20,20,20,20,20,10,20,20,10,20,20,10,20,"?","?","?","?","?","?","?","?","?","?","?","?","?","?","?","?","?","?","?","?","?","?","?","?","?","?","?","?","?","?"]
[null,null,"LP O The Awful Us",null,null,{"$f":"IF(COUNTIF($D20:F20,20)>=1,1,0)","v":0},{"$f":"IF(COUNTIF($D20:G20,20)>=1,1,0)","v":0},{"$f":"IF(COUNTIF($D20:H20,20)>=1,1,0)","v":0},{"$f":"IF(COUNTIF($D20:I20,20)>=1,1,0)","v":0},{"$f":"IF(COUNTIF($D20:J20,20)>=1,1,0)","v":0},{"$f":"IF(COUNTIF($D20:K20,20)>=1,1,0)","v":0},{"$f":"IF(COUNTIF($D20:L20,20)>=1,1,0)","v":0},{"$f":"IF(COUNTIF($D20:M20,20)>=1,1,0)","v":0},{"$f":"IF(COUNTIF($D20:N20,20)>=1,1,0)","v":0},{"$f":"IF(COUNTIF($D20:O20,20)>=1,1,0)","v":0},{"$f":"IF(COUNTIF($D20:P20,20)>=1,1,0)","v":0},{"$f":"IF(COUNTIF($D20:Q20,20)>=1,1,0)","v":0},{"$f":"IF(COUNTIF($D20:R20,20)>=1,1,0)","v":0},{"$f":"IF(COUNTIF($D20:S20,20)>=1,1,0)","v":0},{"$f":"IF(COUNTIF($D20:T20,20)>=1,1,0)","v":0},{"$f":"IF(COUNTIF($D20:U20,20)>=1,1,0)","v":0},{"$f":"IF(COUNTIF($D20:V20,20)>=1,1,0)","v":0},{"$f":"IF(COUNTIF($D20:W20,20)>=1,1,0)","v":0},{"$f":"IF(COUNTIF($D20:X20,20)>=1,1,0)","v":0},{"$f":"IF(COUNTIF($D20:Y20,20)>=1,1,0)","v":0},{"$f":"IF(COUNTIF($D20:Z20,20)>=1,1,0)","v":0},{"$f":"IF(COUNTIF($D20:AA20,20)>=1,1,0)","v":0},{"$f":"IF(COUNTIF($D20:AB20,20)>=1,1,0)","v":0},{"$f":"IF(COUNTIF($D20:AC20,20)>=1,1,0)","v":0},{"$f":"IF(COUNTIF($D20:AD20,20)>=1,1,0)","v":0},{"$f":"IF(COUNTIF($D20:AE20,20)>=1,1,0)","v":0},{"$f":"IF(COUNTIF($D20:AF20,20)>=1,1,0)","v":0},{"$f":"IF(COUNTIF($D20:AG20,20)>=1,1,0)","v":0},{"$f":"IF(COUNTIF($D20:AH20,20)>=1,1,0)","v":0},{"$f":"IF(COUNTIF($D20:AI20,20)>=1,1,0)","v":0},{"$f":"IF(COUNTIF($D20:AJ20,20)>=1,1,0)","v":0},{"$f":"IF(COUNTIF($D20:AK20,20)>=1,1,0)","v":0},{"$f":"IF(COUNTIF($D20:AL20,20)>=1,1,0)","v":0},{"$f":"IF(COUNTIF($D20:AM20,20)>=1,1,0)","v":0},{"$f":"IF(COUNTIF($D20:AN20,20)>=1,1,0)","v":0},{"$f":"IF(COUNTIF($D20:AO20,20)>=1,1,0)","v":0},{"$f":"IF(COUNTIF($D20:AP20,20)>=1,1,0)","v":0},{"$f":"IF(COUNTIF($D20:AQ20,20)>=1,1,0)","v":0},{"$f":"IF(COUNTIF($D20:AR20,20)>=1,1,0)","v":0},{"$f":"IF(COUNTIF($D20:AS20,20)>=1,1,0)","v":0},{"$f":"IF(COUNTIF($D20:AT20,20)>=1,1,0)","v":0},{"$f":"IF(COUNTIF($D20:AU20,20)>=1,1,0)","v":0},{"$f":"IF(COUNTIF($D20:AV20,20)>=1,1,0)","v":0},{"$f":"IF(COUNTIF($D20:AW20,20)>=1,1,0)","v":0},{"$f":"IF(COUNTIF($D20:AX20,20)>=1,1,0)","v":0},{"$f":"IF(COUNTIF($D20:AY20,20)>=1,1,0)","v":0},{"$f":"IF(COUNTIF($D20:AZ20,20)>=1,1,0)","v":0},{"$f":"IF(COUNTIF($D20:BA20,20)>=1,1,0)","v":0},{"$f":"IF(COUNTIF($D20:BB20,20)>=1,1,0)","v":0},null,{"$f":"DD20","v":"."},{"$f":"DE20","v":"E"},"E","E","E","E","E","E","E","E","E","E","E","A","E","E","A","E","E","A","E",".",".",".",".",".",".",".",".",".",".",".",".",".",".",".",".",".",".",".",".",".",".",".",".",".",".",".",".",".","."]
[null,null,"MCC Bloody Moon",null,null,{"$f":"SUM(F29:F32)","v":0},{"$f":"SUM(G29:G32)","v":0},0,0,0,0,0,0,0,0,0,0,0,0,0,0,0,0,0,0,0,0,0,0,0,0,0,0,0,0,0,0,0,0,0,0,0,0,0,0,0,0,0,0,0,0,0,0,0]
[null,null,"Blood, Fire and Vapor",null,null,{"$f":"IF(F26=\"A\",0.01,IF(F33>=3,IF(F33>E33,10,0),0))","v":0},{"$f":"IF(G26=\"A\",0.01,IF(G33>=3,IF(G33>F33,10,0),0))","v":0},0,0,0,0,0,0,0,0,{"$f":"IF(P20=\"A\",0.01,IF(P19=\"A\",0.01,IF(P18=\"A\",0.01,IF(P17=\"A\",0.01,IF(P33>=3,IF(P33>O33,10,0),0)))))","v":0},{"$f":"IF(Q17=\"A\",0.01,IF(Q18=\"A\",0.01,IF(Q19=\"A\",0.01,IF(Q20=\"A\",0.01,0))))","v":0},{"$f":"IF(R26=\"A\",0.01,IF(R33>=3,IF(R33>Q33,10,0),0))","v":0},{"$f":"IF(S26=\"A\",0.01,IF(S33>=3,IF(S33>R33,10,0),0))","v":0},{"$f":"IF(T17=\"A\",0.01,IF(T18=\"A\",0.01,IF(T19=\"A\",0.01,IF(T20=\"A\",0.01,0))))","v":0},{"$f":"IF(U26=\"A\",0.01,IF(U33>=3,IF(U33>T33,10,0),0))","v":0},{"$f":"IF(V26=\"A\",0.01,IF(V33>=3,IF(V33>U33,10,0),0))","v":0},{"$f":"IF(W17=\"A\",0.01,IF(W18=\"A\",0.01,IF(W19=\"A\",0.01,IF(W20=\"A\",0.01,0))))","v":0},{"$f":"IF(X26=\"A\",0.01,IF(X33>=3,IF(X33>W33,10,0),0))","v":0},{"$f":"IF(X101=\"\",0,IF(Y26=\"A\",0.01,IF(Y33>=3,IF(Y33>X33,10,0),0)))","v":0},0,0,0,0,0,0,0,0,0,0,0,0,0,0,0,0,0,0,0,0,0,0,0,0,0,0,0,0,0]
[null,null," "]
[null,null," ",{"$f":"D15","v":12},{"$f":"E15","v":12},12,12,12,12,12,12,12,12,12,12,12,12,12,12,12,12,12,12,12,12,12,12,12,12,12,12,12,12,12,12,12,12,12,12,12,12,12,12,12,12,12,12,12,12,12,12,12,12,12]
["Individual","Errors","Team Name",1,2,3,4,5,6,7,8,9,10,11,12,{"$f":"IF(P16=\"\",\"\",P16)","v":""},{"$f":"IF(Q16=\"\",\"\",Q16)","v":""},13,{"$f":"IF(S16=\"\",\"\",S16)","v":""},{"$f":"IF(T16=\"\",\"\",T16)","v":""},14,{"$f":"IF(V16=\"\",\"\",V16)","v":""},{"$f":"IF(W16=\"\",\"\",W16)","v":""},15,{"$f":"IF(Y16=\"\",\"\",Y16)","v":""},{"$f":"IF(Z16=\"\",\"\",Z16)","v":""},"","","","","","","","","","","","","","","","","","","","","","","","","","","",""]
[{"$f":"SUM(D38:BB38)","v":0},{"$f":"COUNTIF(D38:BB38,\"E\")","v":0},"Quizzer #1",{"$f":"IF(D$17=\"\",\"\",IF(D$17=0,0,\"\"))","v":""},{"$f":"IF(E$17=\"\",\"\",IF(E$17=0,0,\"\"))","v":""},"","","","","","","","","","","","","","","",{"$f":"IF(U$17=\"\",\"\",IF(U$17=0,0,\"\"))","v":""},"","","","","","","","","","","","","","","",{"$f":"IF(AK$17=\"\",\"\",IF(AK$17=0,0,\"\"))","v":""},"","","","","","","","","","","","","","","",{"$f":"IF(BA$17=\"\",\"\",IF(BA$17=0,0,\"\"))","v":""},"",null,{"$f":"Sheet3!D38","v":20},{"$f":"Sheet3!E38","v":20},{"$f":"Sheet3!F38","v":20},{"$f":"Sheet3!G38","v":20},{"$f":"Sheet3!H38","v":20},{"$f":"Sheet3!I38","v":20},{"$f":"Sheet3!J38","v":20},{"$f":"Sheet3!K38","v":20},{"$f":"Sheet3!L38","v":20},{"$f":"Sheet3!M38","v":20},{"$f":"Sheet3!N38","v":20},{"$f":"Sheet3!O38","v":20},{"$f":"Sheet3!P38","v":20},{"$f":"Sheet3!Q38","v":10},{"$f":"Sheet3!R38","v":20},{"$f":"Sheet3!S38","v":20},{"$f":"Sheet3!T38","v":10},{"$f":"Sheet3!U38","v":20},{"$f":"Sheet3!V38","v":20},{"$f":"Sheet3!W38","v":10},{"$f":"Sheet3!X38","v":20},{"$f":"Sheet3!Y38","v":"?"},{"$f":"Sheet3!Z38","v":"?"},{"$f":"Sheet3!AA38","v":"?"},{"$f":"Sheet3!AB38","v":"?"},{"$f":"Sheet3!AC38","v":"?"},{"$f":"Sheet3!AD38","v":"?"},{"$f":"Sheet3!AE38","v":"?"},{"$f":"Sheet3!AF38","v":"?"},{"$f":"Sheet3!AG38","v":"?"},{"$f":"Sheet3!AH38","v":"?"},{"$f":"Sheet3!AI38","v":"?"},{"$f":"Sheet3!AJ38","v":"?"},{"$f":"Sheet3!AK38","v":"?"},{"$f":"Sheet3!AL38","v":"?"},{"$f":"Sheet3!AM38","v":"?"},{"$f":"Sheet3!AN38","v":"?"},{"$f":"Sheet3!AO38","v":"?"},{"$f":"Sheet3!AP38","v":"?"},{"$f":"Sheet3!AQ38","v":"?"},{"$f":"Sheet3!AR38","v":"?"},{"$f":"Sheet3!AS38","v":"?"},{"$f":"Sheet3!AT38","v":"?"},{"$f":"Sheet3!AU38","v":"?"},{"$f":"Sheet3!AV38","v":"?"},{"$f":"Sheet3!AW38","v":"?"},{"$f":"Sheet3!AX38","v":"?"},{"$f":"Sheet3!AY38","v":"?"},{"$f":"Sheet3!AZ38","v":"?"},{"$f":"Sheet3!BA38","v":"?"},{"$f":"Sheet3!BB38","v":"?"},null,{"$f":"IF(BD38=\".\",\".\",D47)","v":"E"},{"$f":"IF(BE38=\".\",\".\",E47)","v":"E"},"E","E","E","E","E","E","E","E","E","E","E","A","E","E","A","E","E","A","E",".",".",".",".",".",".",".",".",".",".",".",".",".",".",".",".",".",".",".",".",".",".",".",".",".",".",".",".",".","."]
[{"$f":"SUM(D39:BB39)","v":0},{"$f":"COUNTIF(D39:BB39,\"E\")","v":0},"Quizzer #2",{"$f":"IF(D$17=\"\",\"\",IF(D$17=0,0,\"\"))","v":""},"","","","","","","","","","","","","","","","","","","","","","","","","","","","","","","","","","","","","","","","","","","","","","","","","","",null,{"$f":"Sheet3!D39","v":20},{"$f":"Sheet3!E39","v":20},{"$f":"Sheet3!F39","v":20},{"$f":"Sheet3!G39","v":20},{"$f":"Sheet3!H39","v":20},{"$f":"Sheet3!I39","v":20},{"$f":"Sheet3!J39","v":20},{"$f":"Sheet3!K39","v":20},{"$f":"Sheet3!L39","v":20},{"$f":"Sheet3!M39","v":20},{"$f":"Sheet3!N39","v":20},{"$f":"Sheet3!O39","v":20},{"$f":"Sheet3!P39","v":20},{"$f":"Sheet3!Q39","v":10},{"$f":"Sheet3!R39","v":20},{"$f":"Sheet3!S39","v":20},{"$f":"Sheet3!T39","v":10},{"$f":"Sheet3!U39","v":20},{"$f":"Sheet3!V39","v":20},{"$f":"Sheet3!W39","v":10},{"$f":"Sheet3!X39","v":20},{"$f":"Sheet3!Y39","v":"?"},{"$f":"Sheet3!Z39","v":"?"},{"$f":"Sheet3!AA39","v":"?"},{"$f":"Sheet3!AB39","v":"?"},{"$f":"Sheet3!AC39","v":"?"},{"$f":"Sheet3!AD39","v":"?"},{"$f":"Sheet3!AE39","v":"?"},{"$f":"Sheet3!AF39","v":"?"},{"$f":"Sheet3!AG39","v":"?"},{"$f":"Sheet3!AH39","v":"?"},{"$f":"Sheet3!AI39","v":"?"},{"$f":"Sheet3!AJ39","v":"?"},{"$f":"Sheet3!AK39","v":"?"},{"$f":"Sheet3!AL39","v":"?"},{"$f":"Sheet3!AM39","v":"?"},{"$f":"Sheet3!AN39","v":"?"},{"$f":"Sheet3!AO39","v":"?"},{"$f":"Sheet3!AP39","v":"?"},{"$f":"Sheet3!AQ39","v":"?"},{"$f":"Sheet3!AR39","v":"?"},{"$f":"Sheet3!AS39","v":"?"},{"$f":"Sheet3!AT39","v":"?"},{"$f":"Sheet3!AU39","v":"?"},{"$f":"Sheet3!AV39","v":"?"},{"$f":"Sheet3!AW39","v":"?"},{"$f":"Sheet3!AX39","v":"?"},{"$f":"Sheet3!AY39","v":"?"},{"$f":"Sheet3!AZ39","v":"?"},{"$f":"Sheet3!BA39","v":"?"},{"$f":"Sheet3!BB39","v":"?"},null,{"$f":"IF(BD39=\".\",\".\",D47)","v":"E"},{"$f":"IF(BE39=\".\",\".\",E47)","v":"E"},"E","E","E","E","E","E","E","E","E","E","E","A","E","E","A","E","E","A","E",".",".",".",".",".",".",".",".",".",".",".",".",".",".",".",".",".",".",".",".",".",".",".",".",".",".",".",".",".","."]
[{"$f":"SUM(D40:BB40)","v":0},{"$f":"COUNTIF(D40:BB40,\"E\")","v":0},"Quizzer #3","","","","","","","","","","","","","","","","","","","","","","","","","","","","","","","","","","","","","","","","","","","","","","","","","","","",null,{"$f":"Sheet3!D40","v":20},{"$f":"Sheet3!E40","v":20},{"$f":"Sheet3!F40","v":20},{"$f":"Sheet3!G40","v":20},{"$f":"Sheet3!H40","v":20},{"$f":"Sheet3!I40","v":20},{"$f":"Sheet3!J40","v":20},{"$f":"Sheet3!K40","v":20},{"$f":"Sheet3!L40","v":20},{"$f":"Sheet3!M40","v":20},{"$f":"Sheet3!N40","v":20},{"$f":"Sheet3!O40","v":20},{"$f":"Sheet3!P40","v":20},{"$f":"Sheet3!Q40","v":10},{"$f":"Sheet3!R40","v":20},{"$f":"Sheet3!S40","v":20},{"$f":"Sheet3!T40","v":10},{"$f":"Sheet3!U40","v":20},{"$f":"Sheet3!V40","v":20},{"$f":"Sheet3!W40","v":10},{"$f":"Sheet3!X40","v":20},{"$f":"Sheet3!Y40","v":"?"},{"$f":"Sheet3!Z40","v":"?"},{"$f":"Sheet3!AA40","v":"?"},{"$f":"Sheet3!AB40","v":"?"},{"$f":"Sheet3!AC40","v":"?"},{"$f":"Sheet3!AD40","v":"?"},{"$f":"Sheet3!AE40","v":"?"},{"$f":"Sheet3!AF40","v":"?"},{"$f":"Sheet3!AG40","v":"?"},{"$f":"Sheet3!AH40","v":"?"},{"$f":"Sheet3!AI40","v":"?"},{"$f":"Sheet3!AJ40","v":"?"},{"$f":"Sheet3!AK40","v":"?"},{"$f":"Sheet3!AL40","v":"?"},{"$f":"Sheet3!AM40","v":"?"},{"$f":"Sheet3!AN40","v":"?"},{"$f":"Sheet3!AO40","v":"?"},{"$f":"Sheet3!AP40","v":"?"},{"$f":"Sheet3!AQ40","v":"?"},{"$f":"Sheet3!AR40","v":"?"},{"$f":"Sheet3!AS40","v":"?"},{"$f":"Sheet3!AT40","v":"?"},{"$f":"Sheet3!AU40","v":"?"},{"$f":"Sheet3!AV40","v":"?"},{"$f":"Sheet3!AW40","v":"?"},{"$f":"Sheet3!AX40","v":"?"},{"$f":"Sheet3!AY40","v":"?"},{"$f":"Sheet3!AZ40","v":"?"},{"$f":"Sheet3!BA40","v":"?"},{"$f":"Sheet3!BB40","v":"?"},null,{"$f":"IF(BD40=\".\",\".\",D47)","v":"E"},{"$f":"IF(BE40=\".\",\".\",E47)","v":"E"},"E","E","E","E","E","E","E","E","E","E","E","A","E","E","A","E","E","A","E",".",".",".",".",".",".",".",".",".",".",".",".",".",".",".",".",".",".",".",".",".",".",".",".",".",".",".",".",".","."]
[{"$f":"SUM(D41:BB41)","v":0},{"$f":"COUNTIF(D41:BB41,\"E\")","v":0},"Substitute","","","","","","","","","","","","","","","","","","","","","","","","","","","","","","","","","","","","","","","","","","","","","","","","","","","",null,{"$f":"Sheet3!D41","v":"."},{"$f":"Sheet3!E41","v":20},{"$f":"Sheet3!F41","v":20},{"$f":"Sheet3!G41","v":20},{"$f":"Sheet3!H41","v":20},{"$f":"Sheet3!I41","v":20},{"$f":"Sheet3!J41","v":20},{"$f":"Sheet3!K41","v":20},{"$f":"Sheet3!L41","v":20},{"$f":"Sheet3!M41","v":20},{"$f":"Sheet3!N41","v":20},{"$f":"Sheet3!O41","v":20},{"$f":"Sheet3!P41","v":20},{"$f":"Sheet3!Q41","v":10},{"$f":"Sheet3!R41","v":20},{"$f":"Sheet3!S41","v":20},{"$f":"Sheet3!T41","v":10},{"$f":"Sheet3!U41","v":20},{"$f":"Sheet3!V41","v":20},{"$f":"Sheet3!W41","v":10},{"$f":"Sheet3!X41","v":20},{"$f":"Sheet3!Y41","v":"?"},{"$f":"Sheet3!Z41","v":"?"},{"$f":"Sheet3!AA41","v":"?"},{"$f":"Sheet3!AB41","v":"?"},{"$f":"Sheet3!AC41","v":"?"},{"$f":"Sheet3!AD41","v":"?"},{"$f":"Sheet3!AE41","v":"?"},{"$f":"Sheet3!AF41","v":"?"},{"$f":"Sheet3!AG41","v":"?"},{"$f":"Sheet3!AH41","v":"?"},{"$f":"Sheet3!AI41","v":"?"},{"$f":"Sheet3!AJ41","v":"?"},{"$f":"Sheet3!AK41","v":"?"},{"$f":"Sheet3!AL41","v":"?"},{"$f":"Sheet3!AM41","v":"?"},{"$f":"Sheet3!AN41","v":"?"},{"$f":"Sheet3!AO41","v":"?"},{"$f":"Sheet3!AP41","v":"?"},{"$f":"Sheet3!AQ41","v":"?"},{"$f":"Sheet3!AR41","v":"?"},{"$f":"Sheet3!AS41","v":"?"},{"$f":"Sheet3!AT41","v":"?"},{"$f":"Sheet3!AU41","v":"?"},{"$f":"Sheet3!AV41","v":"?"},{"$f":"Sheet3!AW41","v":"?"},{"$f":"Sheet3!AX41","v":"?"},{"$f":"Sheet3!AY41","v":"?"},{"$f":"Sheet3!AZ41","v":"?"},{"$f":"Sheet3!BA41","v":"?"},{"$f":"Sheet3!BB41","v":"?"},null,{"$f":"IF(BD41=\".\",\".\",D47)","v":"."},{"$f":"IF(BE41=\".\",\".\",E47)","v":"E"},"E","E","E","E","E","E","E","E","E","E","E","A","E","E","A","E","E","A","E",".",".",".",".",".",".",".",".",".",".",".",".",".",".",".",".",".",".",".",".",".",".",".",".",".",".",".",".",".","."]
[{"$f":"ROUND(BB42,0)","v":0},{"$f":"SUM(B44:B47)","v":0},0.25,{"$f":"SUM(D38:D41)+D49+0.25+Sheet3!D113","v":0.25},{"$f":"D42+SUM(E38:E41)+E49+Sheet3!E113","v":0.25},{"$f":"E42+SUM(F38:F41)+F49+F55+Sheet3!F113","v":0.25},{"$f":"F42+SUM(G38:G41)+G49+G55+Sheet3!G113","v":0.25},{"$f":"G42+SUM(H38:H41)+H49+H55+Sheet3!H113","v":0.25},{"$f":"H42+SUM(I38:I41)+I49+I55+Sheet3!I113","v":0.25},{"$f":"IF(I42+J49<0,0.24,I42+SUM(J38:J41)+J49+J55)+Sheet3!J113","v":0.25},{"$f":"IF(J42+K49<0,0.23,J42+SUM(K38:K41)+K49+K55)+Sheet3!K113","v":0.25},{"$f":"IF(K42+L49<0,0.22,K42+SUM(L38:L41)+L49+L55)+Sheet3!L113","v":0.25},{"$f":"IF(L42+M49<0,0.21,L42+SUM(M38:M41)+M49+M55)+Sheet3!M113","v":0.25},{"$f":"IF(M42+N49<0,0.2,M42+SUM(N38:N41)+N49+N55)+Sheet3!N113","v":0.25},{"$f":"IF(N42+O49<0,0.19,N42+SUM(O38:O41)+O49+O55)+Sheet3!O113","v":0.25},{"$f":"IF(O42+P49<0,0.18,O42+SUM(P38:P41)+P49+P55)+Sheet3!P113","v":0.25},{"$f":"IF(P42+Q49<0,0.17,P42+SUM(Q38:Q41)+Q49+Q55)+Sheet3!Q113","v":0.25},{"$f":"IF(Q42+R49<0,0.16,Q42+SUM(R38:R41)+R49+R55)+Sheet3!R113","v":0.25},{"$f":"IF(R42+S49<0,0.15,R42+SUM(S38:S41)+S49+S55)+Sheet3!S113","v":0.25},{"$f":"IF(S42+T49<0,0.14,S42+SUM(T38:T41)+T49+T55)+Sheet3!T113","v":0.25},{"$f":"IF(T42+U49<0,0.13,T42+SUM(U38:U41)+U49+U55)+Sheet3!U113","v":0.25},{"$f":"IF(U42+V49<0,0.12,U42+SUM(V38:V41)+V49+V55)+Sheet3!V113","v":0.25},{"$f":"IF(V42+W49<0,0.11,V42+SUM(W38:W41)+W49+W55)+Sheet3!W113","v":0.25},{"$f":"IF(W42+X49<0,0.1,W42+SUM(X38:X41)+X49+X55)+Sheet3!X113","v":0.25},{"$f":"IF(X42+Y49<0,0.09,X42+SUM(Y38:Y41)+Y49+Y55)+Sheet3!Y113","v":0.25},{"$f":"IF(Y42+Z49<0,0.08,Y42+SUM(Z38:Z41)+Z49+Z55)+Sheet3!Z113","v":0.25},{"$f":"IF(Z42+AA49<0,0.07,Z42+SUM(AA38:AA41)+AA49+AA55)+Sheet3!AA113","v":0.25},{"$f":"IF(AA42+AB49<0,0.06,AA42+SUM(AB38:AB41)+AB49+AB55)+Sheet3!AB113","v":0.25},{"$f":"IF(AB42+AC49<0,0.05,AB42+SUM(AC38:AC41)+AC49+AC55)+Sheet3!AC113","v":0.25},{"$f":"IF(AC42+AD49<0,0.04,AC42+SUM(AD38:AD41)+AD49+AD55)+Sheet3!AD113","v":0.25},{"$f":"IF(AD42+AE49<0,0.03,AD42+SUM(AE38:AE41)+AE49+AE55)+Sheet3!AE113","v":0.25},{"$f":"IF(AE42+AF49<0,0.02,AE42+SUM(AF38:AF41)+AF49+AF55)+Sheet3!AF113","v":0.25},{"$f":"IF(AF42+AG49<0,0.01,AF42+SUM(AG38:AG41)+AG49+AG55)+Sheet3!AG113","v":0.25},{"$f":"IF(AG42+AH49<0,0,AG42+SUM(AH38:AH41)+AH49+AH55)+Sheet3!AH113","v":0.25},{"$f":"IF(AH42+AI49<0,0,AH42+SUM(AI38:AI41)+AI49+AI55)+Sheet3!AI113","v":0.25},{"$f":"IF(AI42+AJ49<0,0,AI42+SUM(AJ38:AJ41)+AJ49+AJ55)+Sheet3!AJ113","v":0.25},{"$f":"IF(AJ42+AK49<0,0,AJ42+SUM(AK38:AK41)+AK49+AK55)+Sheet3!AK113","v":0.25},{"$f":"IF(AK42+AL49<0,0,AK42+SUM(AL38:AL41)+AL49+AL55)+Sheet3!AL113","v":0.25},{"$f":"IF(AL42+AM49<0,0,AL42+SUM(AM38:AM41)+AM49+AM55)+Sheet3!AM113","v":0.25},{"$f":"IF(AM42+AN49<0,0,AM42+SUM(AN38:AN41)+AN49+AN55)+Sheet3!AN113","v":0.25},{"$f":"IF(AN42+AO49<0,0,AN42+SUM(AO38:AO41)+AO49+AO55)+Sheet3!AO113","v":0.25},{"$f":"IF(AO42+AP49<0,0,AO42+SUM(AP38:AP41)+AP49+AP55)+Sheet3!AP113","v":0.25},{"$f":"IF(AP42+AQ49<0,0,AP42+SUM(AQ38:AQ41)+AQ49+AQ55)+Sheet3!AQ113","v":0.25},{"$f":"IF(AQ42+AR49<0,0,AQ42+SUM(AR38:AR41)+AR49+AR55)+Sheet3!AR113","v":0.25},{"$f":"IF(AR42+AS49<0,0,AR42+SUM(AS38:AS41)+AS49+AS55)+Sheet3!AS113","v":0.25},{"$f":"IF(AS42+AT49<0,0,AS42+SUM(AT38:AT41)+AT49+AT55)+Sheet3!AT113","v":0.25},{"$f":"IF(AT42+AU49<0,0,AT42+SUM(AU38:AU41)+AU49+AU55)+Sheet3!AU113","v":0.25},{"$f":"IF(AU42+AV49<0,0,AU42+SUM(AV38:AV41)+AV49+AV55)+Sheet3!AV113","v":0.25},{"$f":"IF(AV42+AW49<0,0,AV42+SUM(AW38:AW41)+AW49+AW55)+Sheet3!AW113","v":0.25},{"$f":"IF(AW42+AX49<0,0,AW42+SUM(AX38:AX41)+AX49+AX55)+Sheet3!AX113","v":0.25},{"$f":"IF(AX42+AY49<0,0,AX42+SUM(AY38:AY41)+AY49+AY55)+Sheet3!AY113","v":0.25},{"$f":"IF(AY42+AZ49<0,0,AY42+SUM(AZ38:AZ41)+AZ49+AZ55)+Sheet3!AZ113","v":0.25},{"$f":"IF(AZ42+BA49<0,0,AZ42+SUM(BA38:BA41)+BA49+BA55)+Sheet3!BA113","v":0.25},{"$f":"IF(BA42+BB49<0,0,BA42+SUM(BB38:BB41)+BB49+BB55)+Sheet3!BB113","v":0.25}]
["Team Total","Olympic Pts.",{"$f":"IF(Sheet3!B111=0,IF(Sheet3!B112=0,Sheet3!C100,Sheet3!C101),IF(Sheet3!B112=0,Sheet3!C103,Sheet3!C102))","v":"Timeout = T, Foul = F ------------>"},null,null,null,null,null,null,null,null,null,null,null,null,null,null,null,null,null,null,null,null,null,null,null,null,null,null,null,null,null,null,null,null,null,null,null,null,null,null,null,null,null,null,null,null,null,null,null,null,null,null,null,null,{"$f":"BD38","v":20},{"$f":"BE38","v":20},20,20,20,20,20,20,20,20,20,20,20,10,20,20,10,20,20,10,20,"?","?","?","?","?","?","?","?","?","?","?","?","?","?","?","?","?","?","?","?","?","?","?","?","?","?","?","?","?","?"]
[null,{"$f":"W119","v":0},"CMC Silver & Gold",null,{"$f":"COUNTIF(D38:D41,\"E\")","v":0},{"$f":"COUNTIF(D38:E41,\"E\")","v":0},{"$f":"COUNTIF(E38:F41,\"E\")","v":0},0,0,0,0,0,0,0,0,0,0,0,0,0,0,0,0,0,0,0,0,0,0,0,0,0,0,0,0,0,0,0,0,0,0,0,0,0,0,0,0,0,0,0,0,0,0,0,null,{"$f":"DD38","v":"E"},{"$f":"DE38","v":"E"},"E","E","E","E","E","E","E","E","E","E","E","A","E","E","A","E","E","A","E",".",".",".",".",".",".",".",".",".",".",".",".",".",".",".",".",".",".",".",".",".",".",".",".",".",".",".",".",".","."]
[null,0,"LP Kingdom of God",null,{"$f":"COUNTIF(D38:D41,\"E\")","v":0},{"$f":"COUNTIF(E38:E41,\"E\")","v":0},0,0,0,0,0,0,0,0,0,0,0,0,0,0,0,0,0,0,0,0,0,0,0,0,0,0,0,0,0,0,0,0,0,0,0,0,0,0,0,0,0,0,0,0,0,0,0,0]
[null,{"$f":"IF(BB54>=3,2,0)","v":0},"MCC Dark Sun",20,{"$f":"IF(E45=1,\".\",20)","v":20},{"$f":"IF(F68=\"A\",\".\",IF(F56=1,\".\",IF(F45=1,\".\",IF(SUM(F65,F23)<2,20,10))))","v":20},20,20,20,20,20,20,20,20,20,20,{"$f":"IF(COUNTIF(O38:P41,\"\")<8,\".\",10)","v":10},20,{"$f":"IF(COUNTIF(R38:R41,\"\")<4,\".\",20)","v":20},{"$f":"IF(COUNTIF(R38:S41,\"\")<8,\">\",10)","v":10},20,{"$f":"IF(COUNTIF(U38:U41,\"\")<4,\".\",20)","v":20},{"$f":"IF(COUNTIF(U38:V41,\"\")<8,\">\",10)","v":10},20,{"$f":"Y109","v":"?"},{"$f":"Z109","v":"?"},"?","?","?","?","?","?","?","?","?","?","?","?","?","?","?","?","?","?","?","?","?","?","?","?","?","?","?","?",null,{"$f":"BD39","v":20},{"$f":"BE39","v":20},20,20,20,20,20,20,20,20,20,20,20,10,20,20,10,20,20,10,20,"?","?","?","?","?","?","?","?","?","?","?","?","?","?","?","?","?","?","?","?","?","?","?","?","?","?","?","?","?","?"]
[null,{"$f":"IF(B46=2,0,IF(B44+B45=10,IF(A42>=130,1,0),IF(B44+B45=5,IF(A42>=100,1,0),IF(A42>=70,1,0))))","v":0},"Andrew Hubbard","E",{"$f":"IF(E45=1,\".\",\"E\")","v":"E"},{"$f":"IF(F46=\".\",\".\",IF(SUM(F65,F23)<2,\"E\",\"A\"))","v":"E"},"E","E","E","E","E","E","E","E","E","E",{"$f":"IF(Q46=10,\"A\",\".\")","v":"A"},"E",{"$f":"IF(S46=20,\"E\",\".\")","v":"E"},{"$f":"IF(T46=10,\"A\",\".\")","v":"A"},"E",{"$f":"IF(V46=20,\"E\",\".\")","v":"E"},{"$f":"IF(W46=10,\"A\",\".\")","v":"A"},"E",{"$f":"Y110","v":"."},".",".",".",".",".",".",".",".",".",".",".",".",".",".",".",".",".",".",".",".",".",".",".",".",".",".",".",".",".",null,{"$f":"DD39","v":"E"},{"$f":"DE39","v":"E"},"E","E","E","E","E","E","E","E","E","E","E","A","E","E","A","E","E","A","E",".",".",".",".",".",".",".",".",".",".",".",".",".",".",".",".",".",".",".",".",".",".",".",".",".",".",".",".",".","."]
[null,null,"Joseph Glenn*",{"$f":"IF(D36=12,\".\",IF(D36=0,0,\"\"))","v":"."},{"$f":"IF(E36=12,\".\",IF(E36=0,0,\"\"))","v":"."},".",".",".",".",".",".",".",".",".",".",{"$f":"IF(P36=0,0,IF(P$78=0,\".\",\"\"))","v":"."},{"$f":"IF(Q36=0,0,IF(Q$78=0,\".\",\"\"))","v":"."},".",{"$f":"IF(S36=0,0,IF(S$78=0,\".\",\"\"))","v":"."},{"$f":"IF(T36=0,0,IF(T$78=0,\".\",\"\"))","v":"."},".",{"$f":"IF(V36=0,0,IF(V$78=0,\".\",\"\"))","v":"."},{"$f":"IF(W36=0,0,IF(W$78=0,\".\",\"\"))","v":"."},".",".",".",".",".",".",".",".",".",".",".",".",".",".",".",".",".",".",".",".",".",".",".",".",".",".",".",".",".",".","."]
[null,null,"Danielle Leidy",{"$f":"IF(E45=0,0,IF(SUM($D45:E45)>=4,-10,-0.01))","v":0},{"$f":"IF(F45=0,0,IF(SUM($D45:F45)>=4,-10,-0.01))","v":0},{"$f":"IF(G45=0,0,IF(SUM($D45:G45)>=4,-10,-0.01))","v":0},{"$f":"IF(H45=0,0,IF(SUM($D45:H45)>=4,-10,-0.01))","v":0},{"$f":"IF(I45=0,0,IF(SUM($D45:I45)>=4,-10,-0.01))","v":0},{"$f":"IF(J45=0,0,IF(SUM($D45:J45)>=4,-10,-0.01))","v":0},{"$f":"IF(K45=0,0,IF(SUM($D45:K45)>=4,-10,-0.01))","v":0},{"$f":"IF(L45=0,0,IF(SUM($D45:L45)>=4,-10,-0.01))","v":0},{"$f":"IF(M45=0,0,IF(SUM($D45:M45)>=4,-10,-0.01))","v":0},{"$f":"IF(N45=0,0,IF(SUM($D45:N45)>=4,-10,-0.01))","v":0},{"$f":"IF(O45=0,0,IF(SUM($D45:O45)>=4,-10,-0.01))","v":0},{"$f":"IF(P45=0,0,IF(SUM($D45:P45)>=4,-10,-0.01))","v":0},{"$f":"IF(Q45=0,0,IF(SUM($D45:Q45)>=4,-10,-0.01))","v":0},{"$f":"IF(R45=0,0,IF(SUM($D45:R45)>=4,-10,-0.01))","v":0},{"$f":"IF(S45=0,0,IF(SUM($D45:S45)>=4,-10,-0.01))","v":0},{"$f":"IF(T45=0,0,IF(SUM($D45:T45)>=4,-10,-0.01))","v":0},{"$f":"IF(U45=0,0,IF(SUM($D45:U45)>=4,-10,-0.01))","v":0},{"$f":"IF(V45=0,0,IF(SUM($D45:V45)>=4,-10,-0.01))","v":0},{"$f":"IF(W45=0,0,IF(SUM($D45:W45)>=4,-10,-0.01))","v":0},0,{"$f":"IF(Y45=1,-10,0)","v":0},{"$f":"IF(Z45=1,-10,0)","v":0},{"$f":"IF(AA45=1,-10,0)","v":0},{"$f":"IF(AB45=1,-10,0)","v":0},0,0,0,0,0,0,0,0,0,0,0,0,0,0,0,0,0,0,0,0,0,0,0,0,0,0,0,null,{"$f":"BD40","v":20},{"$f":"BE40","v":20},20,20,20,20,20,20,20,20,20,20,20,10,20,20,10,20,20,10,20,"?","?","?","?","?","?","?","?","?","?","?","?","?","?","?","?","?","?","?","?","?","?","?","?","?","?","?","?","?","?"]
[null,null,"Sylesse Sutton*",null,null,{"$f":"IF(COUNTIF($D38:F38,20)>=1,1,0)","v":0},{"$f":"IF(COUNTIF($D38:G38,20)>=1,1,0)","v":0},{"$f":"IF(COUNTIF($D38:H38,20)>=1,1,0)","v":0},{"$f":"IF(COUNTIF($D38:I38,20)>=1,1,0)","v":0},{"$f":"IF(COUNTIF($D38:J38,20)>=1,1,0)","v":0},{"$f":"IF(COUNTIF($D38:K38,20)>=1,1,0)","v":0},{"$f":"IF(COUNTIF($D38:L38,20)>=1,1,0)","v":0},{"$f":"IF(COUNTIF($D38:M38,20)>=1,1,0)","v":0},{"$f":"IF(COUNTIF($D38:N38,20)>=1,1,0)","v":0},{"$f":"IF(COUNTIF($D38:O38,20)>=1,1,0)","v":0},{"$f":"IF(COUNTIF($D38:P38,20)>=1,1,0)","v":0},{"$f":"IF(COUNTIF($D38:Q38,20)>=1,1,0)","v":0},{"$f":"IF(COUNTIF($D38:R38,20)>=1,1,0)","v":0},{"$f":"IF(COUNTIF($D38:S38,20)>=1,1,0)","v":0},{"$f":"IF(COUNTIF($D38:T38,20)>=1,1,0)","v":0},{"$f":"IF(COUNTIF($D38:U38,20)>=1,1,0)","v":0},{"$f":"IF(COUNTIF($D38:V38,20)>=1,1,0)","v":0},{"$f":"IF(COUNTIF($D38:W38,20)>=1,1,0)","v":0},{"$f":"IF(COUNTIF($D38:X38,20)>=1,1,0)","v":0},{"$f":"IF(COUNTIF($D38:Y38,20)>=1,1,0)","v":0},{"$f":"IF(COUNTIF($D38:Z38,20)>=1,1,0)","v":0},{"$f":"IF(COUNTIF($D38:AA38,20)>=1,1,0)","v":0},{"$f":"IF(COUNTIF($D38:AB38,20)>=1,1,0)","v":0},{"$f":"IF(COUNTIF($D38:AC38,20)>=1,1,0)","v":0},{"$f":"IF(COUNTIF($D38:AD38,20)>=1,1,0)","v":0},{"$f":"IF(COUNTIF($D38:AE38,20)>=1,1,0)","v":0},{"$f":"IF(COUNTIF($D38:AF38,20)>=1,1,0)","v":0},{"$f":"IF(COUNTIF($D38:AG38,20)>=1,1,0)","v":0},{"$f":"IF(COUNTIF($D38:AH38,20)>=1,1,0)","v":0},{"$f":"IF(COUNTIF($D38:AI38,20)>=1,1,0)","v":0},{"$f":"IF(COUNTIF($D38:AJ38,20)>=1,1,0)","v":0},{"$f":"IF(COUNTIF($D38:AK38,20)>=1,1,0)","v":0},{"$f":"IF(COUNTIF($D38:AL38,20)>=1,1,0)","v":0},{"$f":"IF(COUNTIF($D38:AM38,20)>=1,1,0)","v":0},{"$f":"IF(COUNTIF($D38:AN38,20)>=1,1,0)","v":0},{"$f":"IF(COUNTIF($D38:AO38,20)>=1,1,0)","v":0},{"$f":"IF(COUNTIF($D38:AP38,20)>=1,1,0)","v":0},{"$f":"IF(COUNTIF($D38:AQ38,20)>=1,1,0)","v":0},{"$f":"IF(COUNTIF($D38:AR38,20)>=1,1,0)","v":0},{"$f":"IF(COUNTIF($D38:AS38,20)>=1,1,0)","v":0},{"$f":"IF(COUNTIF($D38:AT38,20)>=1,1,0)","v":0},{"$f":"IF(COUNTIF($D38:AU38,20)>=1,1,0)","v":0},{"$f":"IF(COUNTIF($D38:AV38,20)>=1,1,0)","v":0},{"$f":"IF(COUNTIF($D38:AW38,20)>=1,1,0)","v":0},{"$f":"IF(COUNTIF($D38:AX38,20)>=1,1,0)","v":0},{"$f":"IF(COUNTIF($D38:AY38,20)>=1,1,0)","v":0},{"$f":"IF(COUNTIF($D38:AZ38,20)>=1,1,0)","v":0},{"$f":"IF(COUNTIF($D38:BA38,20)>=1,1,0)","v":0},{"$f":"IF(COUNTIF($D38:BB38,20)>=1,1,0)","v":0},null,{"$f":"DD40","v":"E"},{"$f":"DE40","v":"E"},"E","E","E","E","E","E","E","E","E","E","E","A","E","E","A","E","E","A","E",".",".",".",".",".",".",".",".",".",".",".",".",".",".",".",".",".",".",".",".",".",".",".",".",".",".",".",".",".","."]
[null,null,"Sha'Kira Wheeler*",null,null,{"$f":"IF(COUNTIF($D39:F39,20)>=1,1,0)","v":0},{"$f":"IF(COUNTIF($D39:G39,20)>=1,1,0)","v":0},{"$f":"IF(COUNTIF($D39:H39,20)>=1,1,0)","v":0},{"$f":"IF(COUNTIF($D39:I39,20)>=1,1,0)","v":0},{"$f":"IF(COUNTIF($D39:J39,20)>=1,1,0)","v":0},{"$f":"IF(COUNTIF($D39:K39,20)>=1,1,0)","v":0},{"$f":"IF(COUNTIF($D39:L39,20)>=1,1,0)","v":0},{"$f":"IF(COUNTIF($D39:M39,20)>=1,1,0)","v":0},{"$f":"IF(COUNTIF($D39:N39,20)>=1,1,0)","v":0},{"$f":"IF(COUNTIF($D39:O39,20)>=1,1,0)","v":0},{"$f":"IF(COUNTIF($D39:P39,20)>=1,1,0)","v":0},{"$f":"IF(COUNTIF($D39:Q39,20)>=1,1,0)","v":0},{"$f":"IF(COUNTIF($D39:R39,20)>=1,1,0)","v":0},{"$f":"IF(COUNTIF($D39:S39,20)>=1,1,0)","v":0},{"$f":"IF(COUNTIF($D39:T39,20)>=1,1,0)","v":0},{"$f":"IF(COUNTIF($D39:U39,20)>=1,1,0)","v":0},{"$f":"IF(COUNTIF($D39:V39,20)>=1,1,0)","v":0},{"$f":"IF(COUNTIF($D39:W39,20)>=1,1,0)","v":0},{"$f":"IF(COUNTIF($D39:X39,20)>=1,1,0)","v":0},{"$f":"IF(COUNTIF($D39:Y39,20)>=1,1,0)","v":0},{"$f":"IF(COUNTIF($D39:Z39,20)>=1,1,0)","v":0},{"$f":"IF(COUNTIF($D39:AA39,20)>=1,1,0)","v":0},{"$f":"IF(COUNTIF($D39:AB39,20)>=1,1,0)","v":0},{"$f":"IF(COUNTIF($D39:AC39,20)>=1,1,0)","v":0},{"$f":"IF(COUNTIF($D39:AD39,20)>=1,1,0)","v":0},{"$f":"IF(COUNTIF($D39:AE39,20)>=1,1,0)","v":0},{"$f":"IF(COUNTIF($D39:AF39,20)>=1,1,0)","v":0},{"$f":"IF(COUNTIF($D39:AG39,20)>=1,1,0)","v":0},{"$f":"IF(COUNTIF($D39:AH39,20)>=1,1,0)","v":0},{"$f":"IF(COUNTIF($D39:AI39,20)>=1,1,0)","v":0},{"$f":"IF(COUNTIF($D39:AJ39,20)>=1,1,0)","v":0},{"$f":"IF(COUNTIF($D39:AK39,20)>=1,1,0)","v":0},{"$f":"IF(COUNTIF($D39:AL39,20)>=1,1,0)","v":0},{"$f":"IF(COUNTIF($D39:AM39,20)>=1,1,0)","v":0},{"$f":"IF(COUNTIF($D39:AN39,20)>=1,1,0)","v":0},{"$f":"IF(COUNTIF($D39:AO39,20)>=1,1,0)","v":0},{"$f":"IF(COUNTIF($D39:AP39,20)>=1,1,0)","v":0},{"$f":"IF(COUNTIF($D39:AQ39,20)>=1,1,0)","v":0},{"$f":"IF(COUNTIF($D39:AR39,20)>=1,1,0)","v":0},{"$f":"IF(COUNTIF($D39:AS39,20)>=1,1,0)","v":0},{"$f":"IF(COUNTIF($D39:AT39,20)>=1,1,0)","v":0},{"$f":"IF(COUNTIF($D39:AU39,20)>=1,1,0)","v":0},{"$f":"IF(COUNTIF($D39:AV39,20)>=1,1,0)","v":0},{"$f":"IF(COUNTIF($D39:AW39,20)>=1,1,0)","v":0},{"$f":"IF(COUNTIF($D39:AX39,20)>=1,1,0)","v":0},{"$f":"IF(COUNTIF($D39:AY39,20)>=1,1,0)","v":0},{"$f":"IF(COUNTIF($D39:AZ39,20)>=1,1,0)","v":0},{"$f":"IF(COUNTIF($D39:BA39,20)>=1,1,0)","v":0},{"$f":"IF(COUNTIF($D39:BB39,20)>=1,1,0)","v":0}]
[null,null,"Klrissa McCulloch",null,null,{"$f":"IF(COUNTIF($D40:F40,20)>=1,1,0)","v":0},{"$f":"IF(COUNTIF($D40:G40,20)>=1,1,0)","v":0},{"$f":"IF(COUNTIF($D40:H40,20)>=1,1,0)","v":0},{"$f":"IF(COUNTIF($D40:I40,20)>=1,1,0)","v":0},{"$f":"IF(COUNTIF($D40:J40,20)>=1,1,0)","v":0},{"$f":"IF(COUNTIF($D40:K40,20)>=1,1,0)","v":0},{"$f":"IF(COUNTIF($D40:L40,20)>=1,1,0)","v":0},{"$f":"IF(COUNTIF($D40:M40,20)>=1,1,0)","v":0},{"$f":"IF(COUNTIF($D40:N40,20)>=1,1,0)","v":0},{"$f":"IF(COUNTIF($D40:O40,20)>=1,1,0)","v":0},{"$f":"IF(COUNTIF($D40:P40,20)>=1,1,0)","v":0},{"$f":"IF(COUNTIF($D40:Q40,20)>=1,1,0)","v":0},{"$f":"IF(COUNTIF($D40:R40,20)>=1,1,0)","v":0},{"$f":"IF(COUNTIF($D40:S40,20)>=1,1,0)","v":0},{"$f":"IF(COUNTIF($D40:T40,20)>=1,1,0)","v":0},{"$f":"IF(COUNTIF($D40:U40,20)>=1,1,0)","v":0},{"$f":"IF(COUNTIF($D40:V40,20)>=1,1,0)","v":0},{"$f":"IF(COUNTIF($D40:W40,20)>=1,1,0)","v":0},{"$f":"IF(COUNTIF($D40:X40,20)>=1,1,0)","v":0},{"$f":"IF(COUNTIF($D40:Y40,20)>=1,1,0)","v":0},{"$f":"IF(COUNTIF($D40:Z40,20)>=1,1,0)","v":0},{"$f":"IF(COUNTIF($D40:AA40,20)>=1,1,0)","v":0},{"$f":"IF(COUNTIF($D40:AB40,20)>=1,1,0)","v":0},{"$f":"IF(COUNTIF($D40:AC40,20)>=1,1,0)","v":0},{"$f":"IF(COUNTIF($D40:AD40,20)>=1,1,0)","v":0},{"$f":"IF(COUNTIF($D40:AE40,20)>=1,1,0)","v":0},{"$f":"IF(COUNTIF($D40:AF40,20)>=1,1,0)","v":0},{"$f":"IF(COUNTIF($D40:AG40,20)>=1,1,0)","v":0},{"$f":"IF(COUNTIF($D40:AH40,20)>=1,1,0)","v":0},{"$f":"IF(COUNTIF($D40:AI40,20)>=1,1,0)","v":0},{"$f":"IF(COUNTIF($D40:AJ40,20)>=1,1,0)","v":0},{"$f":"IF(COUNTIF($D40:AK40,20)>=1,1,0)","v":0},{"$f":"IF(COUNTIF($D40:AL40,20)>=1,1,0)","v":0},{"$f":"IF(COUNTIF($D40:AM40,20)>=1,1,0)","v":0},{"$f":"IF(COUNTIF($D40:AN40,20)>=1,1,0)","v":0},{"$f":"IF(COUNTIF($D40:AO40,20)>=1,1,0)","v":0},{"$f":"IF(COUNTIF($D40:AP40,20)>=1,1,0)","v":0},{"$f":"IF(COUNTIF($D40:AQ40,20)>=1,1,0)","v":0},{"$f":"IF(COUNTIF($D40:AR40,20)>=1,1,0)","v":0},{"$f":"IF(COUNTIF($D40:AS40,20)>=1,1,0)","v":0},{"$f":"IF(COUNTIF($D40:AT40,20)>=1,1,0)","v":0},{"$f":"IF(COUNTIF($D40:AU40,20)>=1,1,0)","v":0},{"$f":"IF(COUNTIF($D40:AV40,20)>=1,1,0)","v":0},{"$f":"IF(COUNTIF($D40:AW40,20)>=1,1,0)","v":0},{"$f":"IF(COUNTIF($D40:AX40,20)>=1,1,0)","v":0},{"$f":"IF(COUNTIF($D40:AY40,20)>=1,1,0)","v":0},{"$f":"IF(COUNTIF($D40:AZ40,20)>=1,1,0)","v":0},{"$f":"IF(COUNTIF($D40:BA40,20)>=1,1,0)","v":0},{"$f":"IF(COUNTIF($D40:BB40,20)>=1,1,0)","v":0},null,{"$f":"BD41","v":"."},{"$f":"BE41","v":20},20,20,20,20,20,20,20,20,20,20,20,10,20,20,10,20,20,10,20,"?","?","?","?","?","?","?","?","?","?","?","?","?","?","?","?","?","?","?","?","?","?","?","?","?","?","?","?","?","?"]
[null,null,"Michael Pappas",null,null,{"$f":"IF(COUNTIF($D41:F41,20)>=1,1,0)","v":0},{"$f":"IF(COUNTIF($D41:G41,20)>=1,1,0)","v":0},{"$f":"IF(COUNTIF($D41:H41,20)>=1,1,0)","v":0},{"$f":"IF(COUNTIF($D41:I41,20)>=1,1,0)","v":0},{"$f":"IF(COUNTIF($D41:J41,20)>=1,1,0)","v":0},{"$f":"IF(COUNTIF($D41:K41,20)>=1,1,0)","v":0},{"$f":"IF(COUNTIF($D41:L41,20)>=1,1,0)","v":0},{"$f":"IF(COUNTIF($D41:M41,20)>=1,1,0)","v":0},{"$f":"IF(COUNTIF($D41:N41,20)>=1,1,0)","v":0},{"$f":"IF(COUNTIF($D41:O41,20)>=1,1,0)","v":0},{"$f":"IF(COUNTIF($D41:P41,20)>=1,1,0)","v":0},{"$f":"IF(COUNTIF($D41:Q41,20)>=1,1,0)","v":0},{"$f":"IF(COUNTIF($D41:R41,20)>=1,1,0)","v":0},{"$f":"IF(COUNTIF($D41:S41,20)>=1,1,0)","v":0},{"$f":"IF(COUNTIF($D41:T41,20)>=1,1,0)","v":0},{"$f":"IF(COUNTIF($D41:U41,20)>=1,1,0)","v":0},{"$f":"IF(COUNTIF($D41:V41,20)>=1,1,0)","v":0},{"$f":"IF(COUNTIF($D41:W41,20)>=1,1,0)","v":0},{"$f":"IF(COUNTIF($D41:X41,20)>=1,1,0)","v":0},{"$f":"IF(COUNTIF($D41:Y41,20)>=1,1,0)","v":0},{"$f":"IF(COUNTIF($D41:Z41,20)>=1,1,0)","v":0},{"$f":"IF(COUNTIF($D41:AA41,20)>=1,1,0)","v":0},{"$f":"IF(COUNTIF($D41:AB41,20)>=1,1,0)","v":0},{"$f":"IF(COUNTIF($D41:AC41,20)>=1,1,0)","v":0},{"$f":"IF(COUNTIF($D41:AD41,20)>=1,1,0)","v":0},{"$f":"IF(COUNTIF($D41:AE41,20)>=1,1,0)","v":0},{"$f":"IF(COUNTIF($D41:AF41,20)>=1,1,0)","v":0},{"$f":"IF(COUNTIF($D41:AG41,20)>=1,1,0)","v":0},{"$f":"IF(COUNTIF($D41:AH41,20)>=1,1,0)","v":0},{"$f":"IF(COUNTIF($D41:AI41,20)>=1,1,0)","v":0},{"$f":"IF(COUNTIF($D41:AJ41,20)>=1,1,0)","v":0},{"$f":"IF(COUNTIF($D41:AK41,20)>=1,1,0)","v":0},{"$f":"IF(COUNTIF($D41:AL41,20)>=1,1,0)","v":0},{"$f":"IF(COUNTIF($D41:AM41,20)>=1,1,0)","v":0},{"$f":"IF(COUNTIF($D41:AN41,20)>=1,1,0)","v":0},{"$f":"IF(COUNTIF($D41:AO41,20)>=1,1,0)","v":0},{"$f":"IF(COUNTIF($D41:AP41,20)>=1,1,0)","v":0},{"$f":"IF(COUNTIF($D41:AQ41,20)>=1,1,0)","v":0},{"$f":"IF(COUNTIF($D41:AR41,20)>=1,1,0)","v":0},{"$f":"IF(COUNTIF($D41:AS41,20)>=1,1,0)","v":0},{"$f":"IF(COUNTIF($D41:AT41,20)>=1,1,0)","v":0},{"$f":"IF(COUNTIF($D41:AU41,20)>=1,1,0)","v":0},{"$f":"IF(COUNTIF($D41:AV41,20)>=1,1,0)","v":0},{"$f":"IF(COUNTIF($D41:AW41,20)>=1,1,0)","v":0},{"$f":"IF(COUNTIF($D41:AX41,20)>=1,1,0)","v":0},{"$f":"IF(COUNTIF($D41:AY41,20)>=1,1,0)","v":0},{"$f":"IF(COUNTIF($D41:AZ41,20)>=1,1,0)","v":0},{"$f":"IF(COUNTIF($D41:BA41,20)>=1,1,0)","v":0},{"$f":"IF(COUNTIF($D41:BB41,20)>=1,1,0)","v":0},null,{"$f":"DD41","v":"."},{"$f":"DE41","v":"E"},"E","E","E","E","E","E","E","E","E","E","E","A","E","E","A","E","E","A","E",".",".",".",".",".",".",".",".",".",".",".",".",".",".",".",".",".",".",".",".",".",".",".",".",".",".",".",".",".","."]
[null,null,"Sophia Fike",null,null,{"$f":"SUM(F50:F53)","v":0},0,0,0,0,0,0,0,0,0,0,0,0,0,0,0,0,0,0,0,0,0,0,0,0,0,0,0,0,0,0,0,{"$f":"SUM(AL50:AL53)","v":0},0,0,0,0,0,0,0,0,0,0,0,0,0,0,0,0]
[null,null,"Liam Ogden*",null,null,{"$f":"IF(F47=\"A\",0.01,IF(F54>=3,IF(F54>E54,10,0),0))","v":0},0,0,0,0,0,0,0,0,0,{"$f":"IF(P41=\"A\",0.01,IF(P40=\"A\",0.01,IF(P39=\"A\",0.01,IF(P38=\"A\",0.01,IF(P54>=3,IF(P54>O54,10,0),0)))))","v":0},{"$f":"IF(Q38=\"A\",0.01,IF(Q39=\"A\",0.01,IF(Q40=\"A\",0.01,IF(Q41=\"A\",0.01,0))))","v":0},{"$f":"IF(R47=\"A\",0.01,IF(R54>=3,IF(R54>Q54,10,0),0))","v":0},{"$f":"IF(S47=\"A\",0.01,IF(S54>=3,IF(S54>R54,10,0),0))","v":0},{"$f":"IF(T38=\"A\",0.01,IF(T39=\"A\",0.01,IF(T40=\"A\",0.01,IF(T41=\"A\",0.01,0))))","v":0},{"$f":"IF(U47=\"A\",0.01,IF(U54>=3,IF(U54>T54,10,0),0))","v":0},{"$f":"IF(V47=\"A\",0.01,IF(V54>=3,IF(V54>U54,10,0),0))","v":0},{"$f":"IF(W38=\"A\",0.01,IF(W39=\"A\",0.01,IF(W40=\"A\",0.01,IF(W41=\"A\",0.01,0))))","v":0},{"$f":"IF(X47=\"A\",0.01,IF(X54>=3,IF(X54>W54,10,0),0))","v":0},{"$f":"IF(X101=\"\",0,IF(Y47=\"A\",0.01,IF(Y54>=3,IF(Y54>X54,10,0),0)))","v":0},0,0,0,0,0,0,0,0,0,0,0,0,0,0,0,0,0,0,0,0,0,0,0,0,0,0,0,0,0]
[null,null," ",null,null,{"$f":"IF(E45=1,IF(F66=1,1,0),0)","v":0},0,0,0,0,0,0,0,0,0,0,0,0,0,0,0,0,0,0,0,0,0,0,0,0,0,0,0,0,0,0,0,0,0,0,0,0,0,0,0,0,0,0,0,0,0,0,0,0]
[null,null," ",{"$f":"D36","v":12},{"$f":"E36","v":12},12,12,12,12,12,12,12,12,12,12,12,12,12,12,12,12,12,12,12,12,12,12,12,12,12,12,12,12,12,12,12,12,12,12,12,12,12,12,12,12,12,12,12,12,12,12,12,12,12]
["Individual","Errors","Team Name",1,2,3,4,5,6,7,8,9,10,11,12,{"$f":"IF(P37=\"\",\"\",P37)","v":""},{"$f":"IF(Q37=\"\",\"\",Q37)","v":""},13,{"$f":"IF(S37=\"\",\"\",S37)","v":""},{"$f":"IF(T37=\"\",\"\",T37)","v":""},14,{"$f":"IF(V37=\"\",\"\",V37)","v":""},{"$f":"IF(W37=\"\",\"\",W37)","v":""},15,{"$f":"IF(Y37=\"\",\"\",Y37)","v":""},{"$f":"IF(Z37=\"\",\"\",Z37)","v":""},"","","","","","","","","","","","","","","","","","","","","","","","","","","",""]
[{"$f":"SUM(D59:BB59)","v":0},{"$f":"COUNTIF(D59:BB59,\"E\")","v":0},"Quizzer #1",{"$f":"IF(D$17=\"\",\"\",IF(D$17=0,0,\"\"))","v":""},"","","","","","","","","","","","","","","",{"$f":"IF(T$17=\"\",\"\",IF(T$17=0,0,\"\"))","v":""},"","","","","","","","","","","","","","","",{"$f":"IF(AJ$17=\"\",\"\",IF(AJ$17=0,0,\"\"))","v":""},"","","","","","","","","","","","","","","",{"$f":"IF(AZ$17=\"\",\"\",IF(AZ$17=0,0,\"\"))","v":""},"","",null,{"$f":"Sheet3!D59","v":20},{"$f":"Sheet3!E59","v":20},{"$f":"Sheet3!F59","v":20},{"$f":"Sheet3!G59","v":20},{"$f":"Sheet3!H59","v":20},{"$f":"Sheet3!I59","v":20},{"$f":"Sheet3!J59","v":20},{"$f":"Sheet3!K59","v":20},{"$f":"Sheet3!L59","v":20},{"$f":"Sheet3!M59","v":20},{"$f":"Sheet3!N59","v":20},{"$f":"Sheet3!O59","v":20},{"$f":"Sheet3!P59","v":20},{"$f":"Sheet3!Q59","v":10},{"$f":"Sheet3!R59","v":20},{"$f":"Sheet3!S59","v":20},{"$f":"Sheet3!T59","v":10},{"$f":"Sheet3!U59","v":20},{"$f":"Sheet3!V59","v":20},{"$f":"Sheet3!W59","v":10},{"$f":"Sheet3!X59","v":20},{"$f":"Sheet3!Y59","v":"?"},{"$f":"Sheet3!Z59","v":"?"},{"$f":"Sheet3!AA59","v":"?"},{"$f":"Sheet3!AB59","v":"?"},{"$f":"Sheet3!AC59","v":"?"},{"$f":"Sheet3!AD59","v":"?"},{"$f":"Sheet3!AE59","v":"?"},{"$f":"Sheet3!AF59","v":"?"},{"$f":"Sheet3!AG59","v":"?"},{"$f":"Sheet3!AH59","v":"?"},{"$f":"Sheet3!AI59","v":"?"},{"$f":"Sheet3!AJ59","v":"?"},{"$f":"Sheet3!AK59","v":"?"},{"$f":"Sheet3!AL59","v":"?"},{"$f":"Sheet3!AM59","v":"?"},{"$f":"Sheet3!AN59","v":"?"},{"$f":"Sheet3!AO59","v":"?"},{"$f":"Sheet3!AP59","v":"?"},{"$f":"Sheet3!AQ59","v":"?"},{"$f":"Sheet3!AR59","v":"?"},{"$f":"Sheet3!AS59","v":"?"},{"$f":"Sheet3!AT59","v":"?"},{"$f":"Sheet3!AU59","v":"?"},{"$f":"Sheet3!AV59","v":"?"},{"$f":"Sheet3!AW59","v":"?"},{"$f":"Sheet3!AX59","v":"?"},{"$f":"Sheet3!AY59","v":"?"},{"$f":"Sheet3!AZ59","v":"?"},{"$f":"Sheet3!BA59","v":"?"},{"$f":"Sheet3!BB59","v":"?"},null,{"$f":"IF(BD59=\".\",\".\",D68)","v":"E"},"E","E","E","E","E","E","E","E","E","E","E","E","A","E","E","A","E","E","A","E",".",".",".",".",".",".",".",".",".",".",".",".",".",".",".",".",".",".",".",".",".",".",".",".",".",".",".",".",".","."]
[{"$f":"SUM(D60:BB60)","v":0},{"$f":"COUNTIF(D60:BB60,\"E\")","v":0},"Quizzer #2","","","","","","","","","","","","","","","","","","","","","","","","","","","","","","","","","","","","","","","","","","","","","","","","","","","",null,{"$f":"Sheet3!D60","v":20},{"$f":"Sheet3!E60","v":20},{"$f":"Sheet3!F60","v":20},{"$f":"Sheet3!G60","v":20},{"$f":"Sheet3!H60","v":20},{"$f":"Sheet3!I60","v":20},{"$f":"Sheet3!J60","v":20},{"$f":"Sheet3!K60","v":20},{"$f":"Sheet3!L60","v":20},{"$f":"Sheet3!M60","v":20},{"$f":"Sheet3!N60","v":20},{"$f":"Sheet3!O60","v":20},{"$f":"Sheet3!P60","v":20},{"$f":"Sheet3!Q60","v":10},{"$f":"Sheet3!R60","v":20},{"$f":"Sheet3!S60","v":20},{"$f":"Sheet3!T60","v":10},{"$f":"Sheet3!U60","v":20},{"$f":"Sheet3!V60","v":20},{"$f":"Sheet3!W60","v":10},{"$f":"Sheet3!X60","v":20},{"$f":"Sheet3!Y60","v":"?"},{"$f":"Sheet3!Z60","v":"?"},{"$f":"Sheet3!AA60","v":"?"},{"$f":"Sheet3!AB60","v":"?"},{"$f":"Sheet3!AC60","v":"?"},{"$f":"Sheet3!AD60","v":"?"},{"$f":"Sheet3!AE60","v":"?"},{"$f":"Sheet3!AF60","v":"?"},{"$f":"Sheet3!AG60","v":"?"},{"$f":"Sheet3!AH60","v":"?"},{"$f":"Sheet3!AI60","v":"?"},{"$f":"Sheet3!AJ60","v":"?"},{"$f":"Sheet3!AK60","v":"?"},{"$f":"Sheet3!AL60","v":"?"},{"$f":"Sheet3!AM60","v":"?"},{"$f":"Sheet3!AN60","v":"?"},{"$f":"Sheet3!AO60","v":"?"},{"$f":"Sheet3!AP60","v":"?"},{"$f":"Sheet3!AQ60","v":"?"},{"$f":"Sheet3!AR60","v":"?"},{"$f":"Sheet3!AS60","v":"?"},{"$f":"Sheet3!AT60","v":"?"},{"$f":"Sheet3!AU60","v":"?"},{"$f":"Sheet3!AV60","v":"?"},{"$f":"Sheet3!AW60","v":"?"},{"$f":"Sheet3!AX60","v":"?"},{"$f":"Sheet3!AY60","v":"?"},{"$f":"Sheet3!AZ60","v":"?"},{"$f":"Sheet3!BA60","v":"?"},{"$f":"Sheet3!BB60","v":"?"},null,{"$f":"IF(BD60=\".\",\".\",D68)","v":"E"},"E","E","E","E","E","E","E","E","E","E","E","E","A","E","E","A","E","E","A","E",".",".",".",".",".",".",".",".",".",".",".",".",".",".",".",".",".",".",".",".",".",".",".",".",".",".",".",".",".","."]
[{"$f":"SUM(D61:BB61)","v":0},{"$f":"COUNTIF(D61:BB61,\"E\")","v":0},"Quizzer #3","","","","","","","","","","","","","","","","","","","","","","","","","","","","","","","","","","","","","","","","","","","","","","","","","","","",null,{"$f":"Sheet3!D61","v":20},{"$f":"Sheet3!E61","v":20},{"$f":"Sheet3!F61","v":20},{"$f":"Sheet3!G61","v":20},{"$f":"Sheet3!H61","v":20},{"$f":"Sheet3!I61","v":20},{"$f":"Sheet3!J61","v":20},{"$f":"Sheet3!K61","v":20},{"$f":"Sheet3!L61","v":20},{"$f":"Sheet3!M61","v":20},{"$f":"Sheet3!N61","v":20},{"$f":"Sheet3!O61","v":20},{"$f":"Sheet3!P61","v":20},{"$f":"Sheet3!Q61","v":10},{"$f":"Sheet3!R61","v":20},{"$f":"Sheet3!S61","v":20},{"$f":"Sheet3!T61","v":10},{"$f":"Sheet3!U61","v":20},{"$f":"Sheet3!V61","v":20},{"$f":"Sheet3!W61","v":10},{"$f":"Sheet3!X61","v":20},{"$f":"Sheet3!Y61","v":"?"},{"$f":"Sheet3!Z61","v":"?"},{"$f":"Sheet3!AA61","v":"?"},{"$f":"Sheet3!AB61","v":"?"},{"$f":"Sheet3!AC61","v":"?"},{"$f":"Sheet3!AD61","v":"?"},{"$f":"Sheet3!AE61","v":"?"},{"$f":"Sheet3!AF61","v":"?"},{"$f":"Sheet3!AG61","v":"?"},{"$f":"Sheet3!AH61","v":"?"},{"$f":"Sheet3!AI61","v":"?"},{"$f":"Sheet3!AJ61","v":"?"},{"$f":"Sheet3!AK61","v":"?"},{"$f":"Sheet3!AL61","v":"?"},{"$f":"Sheet3!AM61","v":"?"},{"$f":"Sheet3!AN61","v":"?"},{"$f":"Sheet3!AO61","v":"?"},{"$f":"Sheet3!AP61","v":"?"},{"$f":"Sheet3!AQ61","v":"?"},{"$f":"Sheet3!AR61","v":"?"},{"$f":"Sheet3!AS61","v":"?"},{"$f":"Sheet3!AT61","v":"?"},{"$f":"Sheet3!AU61","v":"?"},{"$f":"Sheet3!AV61","v":"?"},{"$f":"Sheet3!AW61","v":"?"},{"$f":"Sheet3!AX61","v":"?"},{"$f":"Sheet3!AY61","v":"?"},{"$f":"Sheet3!AZ61","v":"?"},{"$f":"Sheet3!BA61","v":"?"},{"$f":"Sheet3!BB61","v":"?"},null,{"$f":"IF(BD61=\".\",\".\",D68)","v":"E"},"E","E","E","E","E","E","E","E","E","E","E","E","A","E","E","A","E","E","A","E",".",".",".",".",".",".",".",".",".",".",".",".",".",".",".",".",".",".",".",".",".",".",".",".",".",".",".",".",".","."]
[{"$f":"SUM(D62:BB62)","v":0},{"$f":"COUNTIF(D62:BB62,\"E\")","v":0},"Substitute","","","","","","","","","","","","","","","","","","","","","","","","","","","","","","","","","","","","","","","","","","","","","","","","","","","",null,{"$f":"Sheet3!D62","v":"."},{"$f":"Sheet3!E62","v":20},{"$f":"Sheet3!F62","v":20},{"$f":"Sheet3!G62","v":20},{"$f":"Sheet3!H62","v":20},{"$f":"Sheet3!I62","v":20},{"$f":"Sheet3!J62","v":20},{"$f":"Sheet3!K62","v":20},{"$f":"Sheet3!L62","v":20},{"$f":"Sheet3!M62","v":20},{"$f":"Sheet3!N62","v":20},{"$f":"Sheet3!O62","v":20},{"$f":"Sheet3!P62","v":20},{"$f":"Sheet3!Q62","v":10},{"$f":"Sheet3!R62","v":20},{"$f":"Sheet3!S62","v":20},{"$f":"Sheet3!T62","v":10},{"$f":"Sheet3!U62","v":20},{"$f":"Sheet3!V62","v":20},{"$f":"Sheet3!W62","v":10},{"$f":"Sheet3!X62","v":20},{"$f":"Sheet3!Y62","v":"?"},{"$f":"Sheet3!Z62","v":"?"},{"$f":"Sheet3!AA62","v":"?"},{"$f":"Sheet3!AB62","v":"?"},{"$f":"Sheet3!AC62","v":"?"},{"$f":"Sheet3!AD62","v":"?"},{"$f":"Sheet3!AE62","v":"?"},{"$f":"Sheet3!AF62","v":"?"},{"$f":"Sheet3!AG62","v":"?"},{"$f":"Sheet3!AH62","v":"?"},{"$f":"Sheet3!AI62","v":"?"},{"$f":"Sheet3!AJ62","v":"?"},{"$f":"Sheet3!AK62","v":"?"},{"$f":"Sheet3!AL62","v":"?"},{"$f":"Sheet3!AM62","v":"?"},{"$f":"Sheet3!AN62","v":"?"},{"$f":"Sheet3!AO62","v":"?"},{"$f":"Sheet3!AP62","v":"?"},{"$f":"Sheet3!AQ62","v":"?"},{"$f":"Sheet3!AR62","v":"?"},{"$f":"Sheet3!AS62","v":"?"},{"$f":"Sheet3!AT62","v":"?"},{"$f":"Sheet3!AU62","v":"?"},{"$f":"Sheet3!AV62","v":"?"},{"$f":"Sheet3!AW62","v":"?"},{"$f":"Sheet3!AX62","v":"?"},{"$f":"Sheet3!AY62","v":"?"},{"$f":"Sheet3!AZ62","v":"?"},{"$f":"Sheet3!BA62","v":"?"},{"$f":"Sheet3!BB62","v":"?"},null,{"$f":"IF(BD62=\".\",\".\",D68)","v":"."},"E","E","E","E","E","E","E","E","E","E","E","E","A","E","E","A","E","E","A","E",".",".",".",".",".",".",".",".",".",".",".",".",".",".",".",".",".",".",".",".",".",".",".",".",".",".",".",".",".","."]
[{"$f":"ROUND(BB63,0)","v":0},{"$f":"SUM(B65:B68)","v":0},0.25,{"$f":"SUM(D59:D62)+D70+0.25+Sheet3!D134","v":0.25},{"$f":"D63+SUM(E59:E62)+E70+Sheet3!E134","v":0.25},{"$f":"E63+SUM(F59:F62)+F70+F76+Sheet3!F134","v":0.25},{"$f":"F63+SUM(G59:G62)+G70+G76+Sheet3!G134","v":0.25},{"$f":"G63+SUM(H59:H62)+H70+H76+Sheet3!H134","v":0.25},{"$f":"H63+SUM(I59:I62)+I70+I76+Sheet3!I134","v":0.25},{"$f":"IF(I63+J70<0,0.24,I63+SUM(J59:J62)+J70+J76)+Sheet3!J134","v":0.25},{"$f":"IF(J63+K70<0,0.23,J63+SUM(K59:K62)+K70+K76)+Sheet3!K134","v":0.25},{"$f":"IF(K63+L70<0,0.22,K63+SUM(L59:L62)+L70+L76)+Sheet3!L134","v":0.25},{"$f":"IF(L63+M70<0,0.21,L63+SUM(M59:M62)+M70+M76)+Sheet3!M134","v":0.25},{"$f":"IF(M63+N70<0,0.2,M63+SUM(N59:N62)+N70+N76)+Sheet3!N134","v":0.25},{"$f":"IF(N63+O70<0,0.19,N63+SUM(O59:O62)+O70+O76)+Sheet3!O134","v":0.25},{"$f":"IF(O63+P70<0,0.18,O63+SUM(P59:P62)+P70+P76)+Sheet3!P134","v":0.25},{"$f":"IF(P63+Q70<0,0.17,P63+SUM(Q59:Q62)+Q70+Q76)+Sheet3!Q134","v":0.25},{"$f":"IF(Q63+R70<0,0.16,Q63+SUM(R59:R62)+R70+R76)+Sheet3!R134","v":0.25},{"$f":"IF(R63+S70<0,0.15,R63+SUM(S59:S62)+S70+S76)+Sheet3!S134","v":0.25},{"$f":"IF(S63+T70<0,0.14,S63+SUM(T59:T62)+T70+T76)+Sheet3!T134","v":0.25},{"$f":"IF(T63+U70<0,0.13,T63+SUM(U59:U62)+U70+U76)+Sheet3!U134","v":0.25},{"$f":"IF(U63+V70<0,0.12,U63+SUM(V59:V62)+V70+V76)+Sheet3!V134","v":0.25},{"$f":"IF(V63+W70<0,0.11,V63+SUM(W59:W62)+W70+W76)+Sheet3!W134","v":0.25},{"$f":"IF(W63+X70<0,0.1,W63+SUM(X59:X62)+X70+X76)+Sheet3!X134","v":0.25},{"$f":"IF(X63+Y70<0,0.09,X63+SUM(Y59:Y62)+Y70+Y76)+Sheet3!Y134","v":0.25},{"$f":"IF(Y63+Z70<0,0.08,Y63+SUM(Z59:Z62)+Z70+Z76)+Sheet3!Z134","v":0.25},{"$f":"IF(Z63+AA70<0,0.07,Z63+SUM(AA59:AA62)+AA70+AA76)+Sheet3!AA134","v":0.25},{"$f":"IF(AA63+AB70<0,0.06,AA63+SUM(AB59:AB62)+AB70+AB76)+Sheet3!AB134","v":0.25},{"$f":"IF(AB63+AC70<0,0.05,AB63+SUM(AC59:AC62)+AC70+AC76)+Sheet3!AC134","v":0.25},{"$f":"IF(AC63+AD70<0,0.04,AC63+SUM(AD59:AD62)+AD70+AD76)+Sheet3!AD134","v":0.25},{"$f":"IF(AD63+AE70<0,0.03,AD63+SUM(AE59:AE62)+AE70+AE76)+Sheet3!AE134","v":0.25},{"$f":"IF(AE63+AF70<0,0.02,AE63+SUM(AF59:AF62)+AF70+AF76)+Sheet3!AF134","v":0.25},{"$f":"IF(AF63+AG70<0,0.01,AF63+SUM(AG59:AG62)+AG70+AG76)+Sheet3!AG134","v":0.25},{"$f":"IF(AG63+AH70<0,0,AG63+SUM(AH59:AH62)+AH70+AH76)+Sheet3!AH134","v":0.25},{"$f":"IF(AH63+AI70<0,0,AH63+SUM(AI59:AI62)+AI70+AI76)+Sheet3!AI134","v":0.25},{"$f":"IF(AI63+AJ70<0,0,AI63+SUM(AJ59:AJ62)+AJ70+AJ76)+Sheet3!AJ134","v":0.25},{"$f":"IF(AJ63+AK70<0,0,AJ63+SUM(AK59:AK62)+AK70+AK76)+Sheet3!AK134","v":0.25},{"$f":"IF(AK63+AL70<0,0,AK63+SUM(AL59:AL62)+AL70+AL76)+Sheet3!AL134","v":0.25},{"$f":"IF(AL63+AM70<0,0,AL63+SUM(AM59:AM62)+AM70+AM76)+Sheet3!AM134","v":0.25},{"$f":"IF(AM63+AN70<0,0,AM63+SUM(AN59:AN62)+AN70+AN76)+Sheet3!AN134","v":0.25},{"$f":"IF(AN63+AO70<0,0,AN63+SUM(AO59:AO62)+AO70+AO76)+Sheet3!AO134","v":0.25},{"$f":"IF(AO63+AP70<0,0,AO63+SUM(AP59:AP62)+AP70+AP76)+Sheet3!AP134","v":0.25},{"$f":"IF(AP63+AQ70<0,0,AP63+SUM(AQ59:AQ62)+AQ70+AQ76)+Sheet3!AQ134","v":0.25},{"$f":"IF(AQ63+AR70<0,0,AQ63+SUM(AR59:AR62)+AR70+AR76)+Sheet3!AR134","v":0.25},{"$f":"IF(AR63+AS70<0,0,AR63+SUM(AS59:AS62)+AS70+AS76)+Sheet3!AS134","v":0.25},{"$f":"IF(AS63+AT70<0,0,AS63+SUM(AT59:AT62)+AT70+AT76)+Sheet3!AT134","v":0.25},{"$f":"IF(AT63+AU70<0,0,AT63+SUM(AU59:AU62)+AU70+AU76)+Sheet3!AU134","v":0.25},{"$f":"IF(AU63+AV70<0,0,AU63+SUM(AV59:AV62)+AV70+AV76)+Sheet3!AV134","v":0.25},{"$f":"IF(AV63+AW70<0,0,AV63+SUM(AW59:AW62)+AW70+AW76)+Sheet3!AW134","v":0.25},{"$f":"IF(AW63+AX70<0,0,AW63+SUM(AX59:AX62)+AX70+AX76)+Sheet3!AX134","v":0.25},{"$f":"IF(AX63+AY70<0,0,AX63+SUM(AY59:AY62)+AY70+AY76)+Sheet3!AY134","v":0.25},{"$f":"IF(AY63+AZ70<0,0,AY63+SUM(AZ59:AZ62)+AZ70+AZ76)+Sheet3!AZ134","v":0.25},{"$f":"IF(AZ63+BA70<0,0,AZ63+SUM(BA59:BA62)+BA70+BA76)+Sheet3!BA134","v":0.25},{"$f":"IF(BA63+BB70<0,0,BA63+SUM(BB59:BB62)+BB70+BB76)+Sheet3!BB134","v":0.25}]
["Team Total","Olympic Pts.",{"$f":"IF(Sheet3!B132=0,IF(Sheet3!B133=0,Sheet3!C121,Sheet3!C122),IF(Sheet3!B133=0,Sheet3!C124,Sheet3!C123))","v":"Timeout = T, Foul = F ------------>"},null,null,null,null,null,null,null,null,null,null,null,null,null,null,null,null,null,null,null,null,null,null,null,null,null,null,null,null,null,null,null,null,null,null,null,null,null,null,null,null,null,null,null,null,null,null,null,null,null,null,null,null,{"$f":"BD59","v":20},{"$f":"BE59","v":20},20,20,20,20,20,20,20,20,20,20,20,10,20,20,10,20,20,10,20,"?","?","?","?","?","?","?","?","?","?","?","?","?","?","?","?","?","?","?","?","?","?","?","?","?","?","?","?","?","?"]
[null,{"$f":"W120","v":0},"Gabrielle Baut",null,{"$f":"COUNTIF(D59:D62,\"E\")","v":0},{"$f":"COUNTIF(D59:E62,\"E\")","v":0},{"$f":"COUNTIF(E59:F62,\"E\")","v":0},0,0,0,0,0,0,0,0,0,0,0,0,0,0,0,0,0,0,0,0,0,0,0,0,0,0,0,0,0,0,0,0,0,0,0,0,0,0,0,0,0,0,0,0,0,0,0,null,{"$f":"DD59","v":"E"},{"$f":"DE59","v":"E"},"E","E","E","E","E","E","E","E","E","E","E","A","E","E","A","E","E","A","E",".",".",".",".",".",".",".",".",".",".",".",".",".",".",".",".",".",".",".",".",".",".",".",".",".",".",".",".",".","."]
[null,0,"Hunter McGuire",null,{"$f":"COUNTIF(D59:D62,\"E\")","v":0},{"$f":"COUNTIF(E59:E62,\"E\")","v":0},0,0,0,0,0,0,0,0,0,0,0,0,0,0,0,0,0,0,0,0,0,0,0,0,0,0,0,0,0,0,0,0,0,0,0,0,0,0,0,0,0,0,0,0,0,0,0,0]
[null,{"$f":"IF(BB75>=3,2,0)","v":0},"Emily Mitchell",20,{"$f":"IF(E66=1,\".\",20)","v":20},{"$f":"IF(F77=1,\".\",IF(F66=1,\".\",IF(SUM(F44,F23)<2,20,10)))","v":20},{"$f":"IF(G77=1,\".\",IF(G66=1,\".\",IF(SUM(G44,G23)<2,20,10)))","v":20},{"$f":"IF(H77=1,\".\",IF(H66=1,\".\",IF(SUM(H44,H23)<2,20,10)))","v":20},20,20,20,20,20,20,20,20,{"$f":"IF(COUNTIF(O59:P62,\"\")<8,\".\",10)","v":10},20,{"$f":"IF(COUNTIF(R59:R62,\"\")<4,\".\",20)","v":20},{"$f":"IF(COUNTIF(R59:S62,\"\")<8,\">\",10)","v":10},20,{"$f":"IF(COUNTIF(U59:U62,\"\")<4,\".\",20)","v":20},{"$f":"IF(COUNTIF(U59:V62,\"\")<8,\">\",10)","v":10},20,{"$f":"Y114","v":"?"},{"$f":"Z114","v":"?"},"?","?","?","?","?","?","?","?","?","?","?","?","?","?","?","?","?","?","?","?","?","?","?","?","?","?","?","?",null,{"$f":"BD60","v":20},{"$f":"BE60","v":20},20,20,20,20,20,20,20,20,20,20,20,10,20,20,10,20,20,10,20,"?","?","?","?","?","?","?","?","?","?","?","?","?","?","?","?","?","?","?","?","?","?","?","?","?","?","?","?","?","?"]
[null,{"$f":"IF(B67=2,0,IF(B65+B66=10,IF(A63>=130,1,0),IF(B65+B66=5,IF(A63>=100,1,0),IF(A63>=70,1,0))))","v":0},"Daishawn Hughes","E",{"$f":"IF(E66=1,\".\",\"E\")","v":"E"},{"$f":"IF(F67=\".\",\".\",IF(SUM(F44,F23)<2,\"E\",\"A\"))","v":"E"},{"$f":"IF(G67=\".\",\".\",IF(SUM(G44,G23)<2,\"E\",\"A\"))","v":"E"},"E","E","E","E","E","E","E","E","E",{"$f":"IF(Q67=10,\"A\",\".\")","v":"A"},"E",{"$f":"IF(S67=20,\"E\",\".\")","v":"E"},{"$f":"IF(T67=10,\"A\",\".\")","v":"A"},"E",{"$f":"IF(V67=20,\"E\",\".\")","v":"E"},{"$f":"IF(W67=10,\"A\",\".\")","v":"A"},"E",{"$f":"Y115","v":"."},".",".",".",".",".",".",".",".",".",".",".",".",".",".",".",".",".",".",".",".",".",".",".",".",".",".",".",".",".",null,{"$f":"DD60","v":"E"},{"$f":"DE60","v":"E"},"E","E","E","E","E","E","E","E","E","E","E","A","E","E","A","E","E","A","E",".",".",".",".",".",".",".",".",".",".",".",".",".",".",".",".",".",".",".",".",".",".",".",".",".",".",".",".",".","."]
[null,null,"Willona Raybon*",{"$f":"IF(D57=12,\".\",IF(D57=0,0,\"\"))","v":"."},{"$f":"IF(E57=12,\".\",IF(E57=0,0,\"\"))","v":"."},".",".",".",".",".",".",".",".",".",".",{"$f":"IF(P57=0,0,IF(P$78=0,\".\",\"\"))","v":"."},{"$f":"IF(Q57=0,0,IF(Q$78=0,\".\",\"\"))","v":"."},".",{"$f":"IF(S57=0,0,IF(S$78=0,\".\",\"\"))","v":"."},{"$f":"IF(T57=0,0,IF(T$78=0,\".\",\"\"))","v":"."},".",{"$f":"IF(V57=0,0,IF(V$78=0,\".\",\"\"))","v":"."},{"$f":"IF(W57=0,0,IF(W$78=0,\".\",\"\"))","v":"."},".",".",".",".",".",".",".",".",".",".",".",".",".",".",".",".",".",".",".",".",".",".",".",".",".",".",".",".",".",".","."]
[null,null,"Jessica Matthews",{"$f":"IF(E66=0,0,IF(SUM($D66:E66)>=4,-10,-0.01))","v":0},{"$f":"IF(F66=0,0,IF(SUM($D66:F66)>=4,-10,-0.01))","v":0},{"$f":"IF(G66=0,0,IF(SUM($D66:G66)>=4,-10,-0.01))","v":0},{"$f":"IF(H66=0,0,IF(SUM($D66:H66)>=4,-10,-0.01))","v":0},{"$f":"IF(I66=0,0,IF(SUM($D66:I66)>=4,-10,-0.01))","v":0},{"$f":"IF(J66=0,0,IF(SUM($D66:J66)>=4,-10,-0.01))","v":0},{"$f":"IF(K66=0,0,IF(SUM($D66:K66)>=4,-10,-0.01))","v":0},{"$f":"IF(L66=0,0,IF(SUM($D66:L66)>=4,-10,-0.01))","v":0},{"$f":"IF(M66=0,0,IF(SUM($D66:M66)>=4,-10,-0.01))","v":0},{"$f":"IF(N66=0,0,IF(SUM($D66:N66)>=4,-10,-0.01))","v":0},{"$f":"IF(O66=0,0,IF(SUM($D66:O66)>=4,-10,-0.01))","v":0},{"$f":"IF(P66=0,0,IF(SUM($D66:P66)>=4,-10,-0.01))","v":0},{"$f":"IF(Q66=0,0,IF(SUM($D66:Q66)>=4,-10,-0.01))","v":0},{"$f":"IF(R66=0,0,IF(SUM($D66:R66)>=4,-10,-0.01))","v":0},{"$f":"IF(S66=0,0,IF(SUM($D66:S66)>=4,-10,-0.01))","v":0},{"$f":"IF(T66=0,0,IF(SUM($D66:T66)>=4,-10,-0.01))","v":0},{"$f":"IF(U66=0,0,IF(SUM($D66:U66)>=4,-10,-0.01))","v":0},{"$f":"IF(V66=0,0,IF(SUM($D66:V66)>=4,-10,-0.01))","v":0},{"$f":"IF(W66=0,0,IF(SUM($D66:W66)>=4,-10,-0.01))","v":0},0,{"$f":"IF(Y66=1,-10,0)","v":0},{"$f":"IF(Z66=1,-10,0)","v":0},{"$f":"IF(AA66=1,-10,0)","v":0},{"$f":"IF(AB66=1,-10,0)","v":0},0,0,0,0,0,0,0,0,0,0,0,0,0,0,0,0,0,0,0,0,0,0,0,0,0,0,0,null,{"$f":"BD61","v":20},{"$f":"BE61","v":20},20,20,20,20,20,20,20,20,20,20,20,10,20,20,10,20,20,10,20,"?","?","?","?","?","?","?","?","?","?","?","?","?","?","?","?","?","?","?","?","?","?","?","?","?","?","?","?","?","?"]
[null,null,"Lydia Hatfield",null,null,{"$f":"IF(COUNTIF($D59:F59,20)>=1,1,0)","v":0},{"$f":"IF(COUNTIF($D59:G59,20)>=1,1,0)","v":0},{"$f":"IF(COUNTIF($D59:H59,20)>=1,1,0)","v":0},{"$f":"IF(COUNTIF($D59:I59,20)>=1,1,0)","v":0},{"$f":"IF(COUNTIF($D59:J59,20)>=1,1,0)","v":0},{"$f":"IF(COUNTIF($D59:K59,20)>=1,1,0)","v":0},{"$f":"IF(COUNTIF($D59:L59,20)>=1,1,0)","v":0},{"$f":"IF(COUNTIF($D59:M59,20)>=1,1,0)","v":0},{"$f":"IF(COUNTIF($D59:N59,20)>=1,1,0)","v":0},{"$f":"IF(COUNTIF($D59:O59,20)>=1,1,0)","v":0},{"$f":"IF(COUNTIF($D59:P59,20)>=1,1,0)","v":0},{"$f":"IF(COUNTIF($D59:Q59,20)>=1,1,0)","v":0},{"$f":"IF(COUNTIF($D59:R59,20)>=1,1,0)","v":0},{"$f":"IF(COUNTIF($D59:S59,20)>=1,1,0)","v":0},{"$f":"IF(COUNTIF($D59:T59,20)>=1,1,0)","v":0},{"$f":"IF(COUNTIF($D59:U59,20)>=1,1,0)","v":0},{"$f":"IF(COUNTIF($D59:V59,20)>=1,1,0)","v":0},{"$f":"IF(COUNTIF($D59:W59,20)>=1,1,0)","v":0},{"$f":"IF(COUNTIF($D59:X59,20)>=1,1,0)","v":0},{"$f":"IF(COUNTIF($D59:Y59,20)>=1,1,0)","v":0},{"$f":"IF(COUNTIF($D59:Z59,20)>=1,1,0)","v":0},{"$f":"IF(COUNTIF($D59:AA59,20)>=1,1,0)","v":0},{"$f":"IF(COUNTIF($D59:AB59,20)>=1,1,0)","v":0},{"$f":"IF(COUNTIF($D59:AC59,20)>=1,1,0)","v":0},{"$f":"IF(COUNTIF($D59:AD59,20)>=1,1,0)","v":0},{"$f":"IF(COUNTIF($D59:AE59,20)>=1,1,0)","v":0},{"$f":"IF(COUNTIF($D59:AF59,20)>=1,1,0)","v":0},{"$f":"IF(COUNTIF($D59:AG59,20)>=1,1,0)","v":0},{"$f":"IF(COUNTIF($D59:AH59,20)>=1,1,0)","v":0},{"$f":"IF(COUNTIF($D59:AI59,20)>=1,1,0)","v":0},{"$f":"IF(COUNTIF($D59:AJ59,20)>=1,1,0)","v":0},{"$f":"IF(COUNTIF($D59:AK59,20)>=1,1,0)","v":0},{"$f":"IF(COUNTIF($D59:AL59,20)>=1,1,0)","v":0},{"$f":"IF(COUNTIF($D59:AM59,20)>=1,1,0)","v":0},{"$f":"IF(COUNTIF($D59:AN59,20)>=1,1,0)","v":0},{"$f":"IF(COUNTIF($D59:AO59,20)>=1,1,0)","v":0},{"$f":"IF(COUNTIF($D59:AP59,20)>=1,1,0)","v":0},{"$f":"IF(COUNTIF($D59:AQ59,20)>=1,1,0)","v":0},{"$f":"IF(COUNTIF($D59:AR59,20)>=1,1,0)","v":0},{"$f":"IF(COUNTIF($D59:AS59,20)>=1,1,0)","v":0},{"$f":"IF(COUNTIF($D59:AT59,20)>=1,1,0)","v":0},{"$f":"IF(COUNTIF($D59:AU59,20)>=1,1,0)","v":0},{"$f":"IF(COUNTIF($D59:AV59,20)>=1,1,0)","v":0},{"$f":"IF(COUNTIF($D59:AW59,20)>=1,1,0)","v":0},{"$f":"IF(COUNTIF($D59:AX59,20)>=1,1,0)","v":0},{"$f":"IF(COUNTIF($D59:AY59,20)>=1,1,0)","v":0},{"$f":"IF(COUNTIF($D59:AZ59,20)>=1,1,0)","v":0},{"$f":"IF(COUNTIF($D59:BA59,20)>=1,1,0)","v":0},{"$f":"IF(COUNTIF($D59:BB59,20)>=1,1,0)","v":0},null,{"$f":"DD61","v":"E"},{"$f":"DE61","v":"E"},"E","E","E","E","E","E","E","E","E","E","E","A","E","E","A","E","E","A","E",".",".",".",".",".",".",".",".",".",".",".",".",".",".",".",".",".",".",".",".",".",".",".",".",".",".",".",".",".","."]
[null,null,"Caleb Yonker",null,null,{"$f":"IF(COUNTIF($D60:F60,20)>=1,1,0)","v":0},{"$f":"IF(COUNTIF($D60:G60,20)>=1,1,0)","v":0},{"$f":"IF(COUNTIF($D60:H60,20)>=1,1,0)","v":0},{"$f":"IF(COUNTIF($D60:I60,20)>=1,1,0)","v":0},{"$f":"IF(COUNTIF($D60:J60,20)>=1,1,0)","v":0},{"$f":"IF(COUNTIF($D60:K60,20)>=1,1,0)","v":0},{"$f":"IF(COUNTIF($D60:L60,20)>=1,1,0)","v":0},{"$f":"IF(COUNTIF($D60:M60,20)>=1,1,0)","v":0},{"$f":"IF(COUNTIF($D60:N60,20)>=1,1,0)","v":0},{"$f":"IF(COUNTIF($D60:O60,20)>=1,1,0)","v":0},{"$f":"IF(COUNTIF($D60:P60,20)>=1,1,0)","v":0},{"$f":"IF(COUNTIF($D60:Q60,20)>=1,1,0)","v":0},{"$f":"IF(COUNTIF($D60:R60,20)>=1,1,0)","v":0},{"$f":"IF(COUNTIF($D60:S60,20)>=1,1,0)","v":0},{"$f":"IF(COUNTIF($D60:T60,20)>=1,1,0)","v":0},{"$f":"IF(COUNTIF($D60:U60,20)>=1,1,0)","v":0},{"$f":"IF(COUNTIF($D60:V60,20)>=1,1,0)","v":0},{"$f":"IF(COUNTIF($D60:W60,20)>=1,1,0)","v":0},{"$f":"IF(COUNTIF($D60:X60,20)>=1,1,0)","v":0},{"$f":"IF(COUNTIF($D60:Y60,20)>=1,1,0)","v":0},{"$f":"IF(COUNTIF($D60:Z60,20)>=1,1,0)","v":0},{"$f":"IF(COUNTIF($D60:AA60,20)>=1,1,0)","v":0},{"$f":"IF(COUNTIF($D60:AB60,20)>=1,1,0)","v":0},{"$f":"IF(COUNTIF($D60:AC60,20)>=1,1,0)","v":0},{"$f":"IF(COUNTIF($D60:AD60,20)>=1,1,0)","v":0},{"$f":"IF(COUNTIF($D60:AE60,20)>=1,1,0)","v":0},{"$f":"IF(COUNTIF($D60:AF60,20)>=1,1,0)","v":0},{"$f":"IF(COUNTIF($D60:AG60,20)>=1,1,0)","v":0},{"$f":"IF(COUNTIF($D60:AH60,20)>=1,1,0)","v":0},{"$f":"IF(COUNTIF($D60:AI60,20)>=1,1,0)","v":0},{"$f":"IF(COUNTIF($D60:AJ60,20)>=1,1,0)","v":0},{"$f":"IF(COUNTIF($D60:AK60,20)>=1,1,0)","v":0},{"$f":"IF(COUNTIF($D60:AL60,20)>=1,1,0)","v":0},{"$f":"IF(COUNTIF($D60:AM60,20)>=1,1,0)","v":0},{"$f":"IF(COUNTIF($D60:AN60,20)>=1,1,0)","v":0},{"$f":"IF(COUNTIF($D60:AO60,20)>=1,1,0)","v":0},{"$f":"IF(COUNTIF($D60:AP60,20)>=1,1,0)","v":0},{"$f":"IF(COUNTIF($D60:AQ60,20)>=1,1,0)","v":0},{"$f":"IF(COUNTIF($D60:AR60,20)>=1,1,0)","v":0},{"$f":"IF(COUNTIF($D60:AS60,20)>=1,1,0)","v":0},{"$f":"IF(COUNTIF($D60:AT60,20)>=1,1,0)","v":0},{"$f":"IF(COUNTIF($D60:AU60,20)>=1,1,0)","v":0},{"$f":"IF(COUNTIF($D60:AV60,20)>=1,1,0)","v":0},{"$f":"IF(COUNTIF($D60:AW60,20)>=1,1,0)","v":0},{"$f":"IF(COUNTIF($D60:AX60,20)>=1,1,0)","v":0},{"$f":"IF(COUNTIF($D60:AY60,20)>=1,1,0)","v":0},{"$f":"IF(COUNTIF($D60:AZ60,20)>=1,1,0)","v":0},{"$f":"IF(COUNTIF($D60:BA60,20)>=1,1,0)","v":0},{"$f":"IF(COUNTIF($D60:BB60,20)>=1,1,0)","v":0}]
[null,null,"Grant Mayer",null,null,{"$f":"IF(COUNTIF($D61:F61,20)>=1,1,0)","v":0},{"$f":"IF(COUNTIF($D61:G61,20)>=1,1,0)","v":0},{"$f":"IF(COUNTIF($D61:H61,20)>=1,1,0)","v":0},{"$f":"IF(COUNTIF($D61:I61,20)>=1,1,0)","v":0},{"$f":"IF(COUNTIF($D61:J61,20)>=1,1,0)","v":0},{"$f":"IF(COUNTIF($D61:K61,20)>=1,1,0)","v":0},{"$f":"IF(COUNTIF($D61:L61,20)>=1,1,0)","v":0},{"$f":"IF(COUNTIF($D61:M61,20)>=1,1,0)","v":0},{"$f":"IF(COUNTIF($D61:N61,20)>=1,1,0)","v":0},{"$f":"IF(COUNTIF($D61:O61,20)>=1,1,0)","v":0},{"$f":"IF(COUNTIF($D61:P61,20)>=1,1,0)","v":0},{"$f":"IF(COUNTIF($D61:Q61,20)>=1,1,0)","v":0},{"$f":"IF(COUNTIF($D61:R61,20)>=1,1,0)","v":0},{"$f":"IF(COUNTIF($D61:S61,20)>=1,1,0)","v":0},{"$f":"IF(COUNTIF($D61:T61,20)>=1,1,0)","v":0},{"$f":"IF(COUNTIF($D61:U61,20)>=1,1,0)","v":0},{"$f":"IF(COUNTIF($D61:V61,20)>=1,1,0)","v":0},{"$f":"IF(COUNTIF($D61:W61,20)>=1,1,0)","v":0},{"$f":"IF(COUNTIF($D61:X61,20)>=1,1,0)","v":0},{"$f":"IF(COUNTIF($D61:Y61,20)>=1,1,0)","v":0},{"$f":"IF(COUNTIF($D61:Z61,20)>=1,1,0)","v":0},{"$f":"IF(COUNTIF($D61:AA61,20)>=1,1,0)","v":0},{"$f":"IF(COUNTIF($D61:AB61,20)>=1,1,0)","v":0},{"$f":"IF(COUNTIF($D61:AC61,20)>=1,1,0)","v":0},{"$f":"IF(COUNTIF($D61:AD61,20)>=1,1,0)","v":0},{"$f":"IF(COUNTIF($D61:AE61,20)>=1,1,0)","v":0},{"$f":"IF(COUNTIF($D61:AF61,20)>=1,1,0)","v":0},{"$f":"IF(COUNTIF($D61:AG61,20)>=1,1,0)","v":0},{"$f":"IF(COUNTIF($D61:AH61,20)>=1,1,0)","v":0},{"$f":"IF(COUNTIF($D61:AI61,20)>=1,1,0)","v":0},{"$f":"IF(COUNTIF($D61:AJ61,20)>=1,1,0)","v":0},{"$f":"IF(COUNTIF($D61:AK61,20)>=1,1,0)","v":0},{"$f":"IF(COUNTIF($D61:AL61,20)>=1,1,0)","v":0},{"$f":"IF(COUNTIF($D61:AM61,20)>=1,1,0)","v":0},{"$f":"IF(COUNTIF($D61:AN61,20)>=1,1,0)","v":0},{"$f":"IF(COUNTIF($D61:AO61,20)>=1,1,0)","v":0},{"$f":"IF(COUNTIF($D61:AP61,20)>=1,1,0)","v":0},{"$f":"IF(COUNTIF($D61:AQ61,20)>=1,1,0)","v":0},{"$f":"IF(COUNTIF($D61:AR61,20)>=1,1,0)","v":0},{"$f":"IF(COUNTIF($D61:AS61,20)>=1,1,0)","v":0},{"$f":"IF(COUNTIF($D61:AT61,20)>=1,1,0)","v":0},{"$f":"IF(COUNTIF($D61:AU61,20)>=1,1,0)","v":0},{"$f":"IF(COUNTIF($D61:AV61,20)>=1,1,0)","v":0},{"$f":"IF(COUNTIF($D61:AW61,20)>=1,1,0)","v":0},{"$f":"IF(COUNTIF($D61:AX61,20)>=1,1,0)","v":0},{"$f":"IF(COUNTIF($D61:AY61,20)>=1,1,0)","v":0},{"$f":"IF(COUNTIF($D61:AZ61,20)>=1,1,0)","v":0},{"$f":"IF(COUNTIF($D61:BA61,20)>=1,1,0)","v":0},{"$f":"IF(COUNTIF($D61:BB61,20)>=1,1,0)","v":0},null,{"$f":"BD62","v":"."},{"$f":"BE62","v":20},20,20,20,20,20,20,20,20,20,20,20,10,20,20,10,20,20,10,20,"?","?","?","?","?","?","?","?","?","?","?","?","?","?","?","?","?","?","?","?","?","?","?","?","?","?","?","?","?","?"]
[null,null,"Cecil Coleman",null,null,{"$f":"IF(COUNTIF($D62:F62,20)>=1,1,0)","v":0},{"$f":"IF(COUNTIF($D62:G62,20)>=1,1,0)","v":0},{"$f":"IF(COUNTIF($D62:H62,20)>=1,1,0)","v":0},{"$f":"IF(COUNTIF($D62:I62,20)>=1,1,0)","v":0},{"$f":"IF(COUNTIF($D62:J62,20)>=1,1,0)","v":0},{"$f":"IF(COUNTIF($D62:K62,20)>=1,1,0)","v":0},{"$f":"IF(COUNTIF($D62:L62,20)>=1,1,0)","v":0},{"$f":"IF(COUNTIF($D62:M62,20)>=1,1,0)","v":0},{"$f":"IF(COUNTIF($D62:N62,20)>=1,1,0)","v":0},{"$f":"IF(COUNTIF($D62:O62,20)>=1,1,0)","v":0},{"$f":"IF(COUNTIF($D62:P62,20)>=1,1,0)","v":0},{"$f":"IF(COUNTIF($D62:Q62,20)>=1,1,0)","v":0},{"$f":"IF(COUNTIF($D62:R62,20)>=1,1,0)","v":0},{"$f":"IF(COUNTIF($D62:S62,20)>=1,1,0)","v":0},{"$f":"IF(COUNTIF($D62:T62,20)>=1,1,0)","v":0},{"$f":"IF(COUNTIF($D62:U62,20)>=1,1,0)","v":0},{"$f":"IF(COUNTIF($D62:V62,20)>=1,1,0)","v":0},{"$f":"IF(COUNTIF($D62:W62,20)>=1,1,0)","v":0},{"$f":"IF(COUNTIF($D62:X62,20)>=1,1,0)","v":0},{"$f":"IF(COUNTIF($D62:Y62,20)>=1,1,0)","v":0},{"$f":"IF(COUNTIF($D62:Z62,20)>=1,1,0)","v":0},{"$f":"IF(COUNTIF($D62:AA62,20)>=1,1,0)","v":0},{"$f":"IF(COUNTIF($D62:AB62,20)>=1,1,0)","v":0},{"$f":"IF(COUNTIF($D62:AC62,20)>=1,1,0)","v":0},{"$f":"IF(COUNTIF($D62:AD62,20)>=1,1,0)","v":0},{"$f":"IF(COUNTIF($D62:AE62,20)>=1,1,0)","v":0},{"$f":"IF(COUNTIF($D62:AF62,20)>=1,1,0)","v":0},{"$f":"IF(COUNTIF($D62:AG62,20)>=1,1,0)","v":0},{"$f":"IF(COUNTIF($D62:AH62,20)>=1,1,0)","v":0},{"$f":"IF(COUNTIF($D62:AI62,20)>=1,1,0)","v":0},{"$f":"IF(COUNTIF($D62:AJ62,20)>=1,1,0)","v":0},{"$f":"IF(COUNTIF($D62:AK62,20)>=1,1,0)","v":0},{"$f":"IF(COUNTIF($D62:AL62,20)>=1,1,0)","v":0},{"$f":"IF(COUNTIF($D62:AM62,20)>=1,1,0)","v":0},{"$f":"IF(COUNTIF($D62:AN62,20)>=1,1,0)","v":0},{"$f":"IF(COUNTIF($D62:AO62,20)>=1,1,0)","v":0},{"$f":"IF(COUNTIF($D62:AP62,20)>=1,1,0)","v":0},{"$f":"IF(COUNTIF($D62:AQ62,20)>=1,1,0)","v":0},{"$f":"IF(COUNTIF($D62:AR62,20)>=1,1,0)","v":0},{"$f":"IF(COUNTIF($D62:AS62,20)>=1,1,0)","v":0},{"$f":"IF(COUNTIF($D62:AT62,20)>=1,1,0)","v":0},{"$f":"IF(COUNTIF($D62:AU62,20)>=1,1,0)","v":0},{"$f":"IF(COUNTIF($D62:AV62,20)>=1,1,0)","v":0},{"$f":"IF(COUNTIF($D62:AW62,20)>=1,1,0)","v":0},{"$f":"IF(COUNTIF($D62:AX62,20)>=1,1,0)","v":0},{"$f":"IF(COUNTIF($D62:AY62,20)>=1,1,0)","v":0},{"$f":"IF(COUNTIF($D62:AZ62,20)>=1,1,0)","v":0},{"$f":"IF(COUNTIF($D62:BA62,20)>=1,1,0)","v":0},{"$f":"IF(COUNTIF($D62:BB62,20)>=1,1,0)","v":0},null,{"$f":"DD62","v":"."},{"$f":"DE62","v":"E"},"E","E","E","E","E","E","E","E","E","E","E","A","E","E","A","E","E","A","E",".",".",".",".",".",".",".",".",".",".",".",".",".",".",".",".",".",".",".",".",".",".",".",".",".",".",".",".",".","."]
[null,null,"Zander Cox*",null,null,{"$f":"SUM(F71:F74)","v":0},0,0,0,0,0,0,0,0,0,0,0,0,0,0,0,0,0,0,0,0,0,0,0,0,0,0,0,0,0,0,0,{"$f":"SUM(AL71:AL74)","v":0},0,0,0,0,0,0,0,0,0,0,0,0,0,0,0,0]
[null,null,"Sam Hatfield",null,null,{"$f":"IF(F68=\"A\",0.01,IF(F75>=3,IF(F75>E75,10,0),0))","v":0},0,0,0,0,0,0,0,0,0,{"$f":"IF(P62=\"A\",0.01,IF(P61=\"A\",0.01,IF(P60=\"A\",0.01,IF(P59=\"A\",0.01,IF(P75>=3,IF(P75>O75,10,0),0)))))","v":0},{"$f":"IF(Q59=\"A\",0.01,IF(Q60=\"A\",0.01,IF(Q61=\"A\",0.01,IF(Q62=\"A\",0.01,0))))","v":0},{"$f":"IF(R68=\"A\",0.01,IF(R75>=3,IF(R75>Q75,10,0),0))","v":0},{"$f":"IF(S68=\"A\",0.01,IF(S75>=3,IF(S75>R75,10,0),0))","v":0},{"$f":"IF(T59=\"A\",0.01,IF(T60=\"A\",0.01,IF(T61=\"A\",0.01,IF(T62=\"A\",0.01,0))))","v":0},{"$f":"IF(U68=\"A\",0.01,IF(U75>=3,IF(U75>T75,10,0),0))","v":0},{"$f":"IF(V68=\"A\",0.01,IF(V75>=3,IF(V75>U75,10,0),0))","v":0},{"$f":"IF(W59=\"A\",0.01,IF(W60=\"A\",0.01,IF(W61=\"A\",0.01,IF(W62=\"A\",0.01,0))))","v":0},{"$f":"IF(X68=\"A\",0.01,IF(X75>=3,IF(X75>W75,10,0),0))","v":0},{"$f":"IF(X101=\"\",0,IF(Y68=\"A\",0.01,IF(Y75>=3,IF(Y75>X75,10,0),0)))","v":0},{"$f":"IF(Y101=\"\",0,IF(Z68=\"A\",0.01,IF(Z75>=3,IF(Z75>Y75,10,0),0)))","v":0},0,0,0,0,0,0,0,0,0,0,0,0,0,0,0,0,0,0,0,0,0,0,0,0,0,0,0,0]
[null,null,"Patrick King*",null,null,{"$f":"IF(E66=1,IF(F45+F24=1, 1,0),0)","v":0},{"$f":"IF(F66=1,IF(G45+G24=1, 1,0),0)","v":0},0,0,0,0,0,0,0,0,0,0,0,0,0,0,0,0,0,0,0,0,0,0,0,0,0,0,0,0,0,0,0,0,0,0,0,0,0,0,0,0,0,0,0,0,0,0,0]
[null,null,"Carmen Yonker",{"$f":"IF(D57=12,0,1)","v":0},{"$f":"IF(E57=12,0,1)","v":0},0,0,0,0,0,0,0,0,0,0,{"$f":"IF(O78=0,0,IF(P57<12,1,IF(P66+P45+P24=1,0,1)))","v":0},{"$f":"IF(P78=0,0,IF(Q57<12,1,IF(Q66+Q45+Q24=1,0,1)))","v":0},0,{"$f":"IF(R78=0,0,IF(S57<12,1,IF(S66+S45+S24=1,0,1)))","v":0},{"$f":"IF(S78=0,0,IF(T57<12,1,IF(T66+T45+T24=1,0,1)))","v":0},0,{"$f":"IF(U78=0,0,IF(V57<12,1,IF(V66+V45+V24=1,0,1)))","v":0},{"$f":"IF(V78=0,0,IF(W57<12,1,IF(W66+W45+W24=1,0,1)))","v":0},0,0,0,0,0,0,0,0,0,0,0,0,0,0,0,0,0,0,0,0,0,0,0,0,0,0,0,0,0,0,0]
[null,null,"Curtis Parker*",1,2,3,4,5,6,7,8,9,10,11,12,13,14,15,16,17,18,19,20,21,22,23,24,25,26,27,28,29,30,31,32,33,34,35,36,37,38,39,40,41,42,43,44,45,46,47,48,49,50,51]
[null,null,"Ron Mahan*",1,2,3,4,5,6,7,8,9,10,11,12,"12A","12B",13,"13A","13B",14,"14A","14B",15,{"$f":"Y58","v":""},{"$f":"Z58","v":""},"","","","","","","","","","","","","","","","","","","","","","","","","","","",""]
["Question\nNumber","Score"," ",null,null,"Instructions:","* If an incorrect value is entered into a cell, it will remain red.\n* Spreadsheet will automatically calculate team bonus, error points, and olympic points.\n* Mark fouls with \"F\" and timeouts with \"T\" under the appropriate question on the indicated line for each team.\n* Foul points are calculated automatically.  If this causes a negative score you must overwrite the running score to \"0.\"\n* If nobody jumps on a question, mark \"0\" in the box for quizzer #1 on team #1.  This will proliferate zeros for\n   all quizzers on that question."]
[{"$f":"HLOOKUP(SUM($D$78:$BB$78)+1,$D$79:$BB$80,2)","v":1},{"$f":"$A21","v":0},{"$f":"C16","v":"Team Name"}]
[null,{"$f":"$A42","v":0},{"$f":"C37","v":"Team Name"}]
[null,{"$f":"$A63","v":0},{"$f":"C58","v":"Team Name"}]
[null,null," "]
[null,null," "]
[null,null,"Gloria Mkumbwa*",null,null,null,null,null,null,null,null,null,null,null,null,null,null,null,null,null,null,null,"Q#",{"$f":"X16","v":15},"","","","","","","","","","","","","","","","","","","","","","","","","","","","","",""]
[null,null,"Joshua Glenn",null,null,null,null,null,null,null,null,null,null,null,null,null,null,null,null,null,null,null,"Score",{"$f":"ROUND(X21,0)","v":0},{"$f":"IF(X95=\"A\",\"\",ROUND(Y21,0))","v":0},0,0,0,0,0,0,0,0,0,0,0,0,0,0,0,0,0,0,0,0,0,0,0,0,0,0,0,0,0]
[null,null,"Raishawn Hughes*",null,null,null,null,null,null,null,null,null,null,null,null,null,null,null,null,null,null,null,"Score",{"$f":"ROUND(X42,0)","v":0},{"$f":"IF(X95=\"B\",\"\",ROUND(Y42,0))","v":0},0,0,0,0,0,0,0,0,0,0,0,0,0,0,0,0,0,0,0,0,0,0,0,0,0,0,0,0,0]
[null,null,"Tyra Jackson*",null,null,null,null,null,null,null,null,null,null,null,null,null,null,null,null,null,null,null,"Score",{"$f":"ROUND(X63,0)","v":0},{"$f":"IF(X95=\"C\",\"\",ROUND(Y63,0))","v":0},0,0,0,0,0,0,0,0,0,0,0,0,0,0,0,0,0,0,0,0,0,0,0,0,0,0,0,0,0]
[null,null,"Jordan Hatfield",null,null,null,null,null,null,null,null,null,null,null,null,null,null,null,null,null,null,null,"Answered correctly?",{"$f":"IF(X78=0,-1,IF(ROUND((X63+X42+X21),-1)>ROUND((W21+W42+W63),-1),1,0))","v":-1},-1,-1,-1,-1,-1,{"$f":"IF(AD78=0,-1,IF(ROUND((AD63+AD42+AD21),-1)>ROUND((AC21+AC42+AC63),-1),1,0))","v":-1},-1,-1,-1,-1,-1,-1,-1,-1,-1,-1,-1,-1,-1,-1,-1,-1,-1,{"$f":"IF(AV78=0,-1,IF(ROUND((AV63+AV42+AV21),-1)>ROUND((AU21+AU42+AU63),-1),1,0))","v":-1},-1,-1,-1,-1,-1,-1]
[null,null,"Brandon Everett",null,null,null,null,null,null,null,null,null,null,null,null,null,null,null,null,null,null,null,"Tie for 1st?",{"$f":"IF(MEDIAN(X88:X90)=MAX(X88:X90),1,0)","v":1},{"$f":"IF(MEDIAN(Y88:Y90)=MAX(Y88:Y90),1,0)","v":1},1,1,1,1,1,1,1,1,1,1,1,1,1,1,1,1,1,1,1,1,1,1,1,1,1,1,1,1,1]
[null,null,"Melody Mayer",null,null,null,null,null,null,null,null,null,null,null,null,null,null,null,null,null,null,null,"Tie for 2nd?",{"$f":"IF(MEDIAN(X88:X90)=MIN(X88:X90),1,0)","v":1},{"$f":"IF(MEDIAN(Y88:Y90)=MIN(Y88:Y90),1,0)","v":1},1,1,1,1,1,1,1,1,1,1,1,1,1,1,1,1,1,1,1,1,1,1,1,1,1,1,1,1,1]
[null,null,"Julia Mayer",null,null,null,null,null,null,null,null,null,null,null,null,null,null,null,null,null,null,null,"3-way tie?",{"$f":"FLOOR(SUM(X92:X93)/2,1)","v":1},{"$f":"FLOOR(SUM(Y92:Y93)/2,1)","v":1},1,1,1,1,1,1,1,1,1,1,1,1,1,1,1,1,1,1,1,1,1,1,1,1,1,1,1,1,1]
[null,null,"Gloria Mayer",null,null,null,null,null,null,null,null,null,null,null,null,null,null,null,null,null,null,null,"Who's out?",{"$f":"IF(X100=2,IF(X88=X89,\"C\",IF(X89=X90,\"A\",\"B\")),0)","v":0},{"$f":"IF(X95=0,IF(Y100=2,IF(Y88=Y89,\"C\",IF(Y89=Y90,\"A\",\"B\")),0),X95)","v":0},{"$f":"IF(Y95=0,IF(Z100=2,IF(Z88=Z89,\"C\",IF(Z89=Z90,\"A\",\"B\")),0),Y95)","v":0},0,0,0,0,0,0,0,0,0,0,0,0,0,0,0,0,0,0,0,0,0,0,0,0,0,0,0,0]
[null,null,"Nate Cox*",null,null,null,null,null,null,null,null,null,null,null,null,null,null,null,null,null,null,null,"Nobody jump?",{"$f":"IF(X17=\"\",0,IF(X17=0,1,0))","v":0},0,0,0,0,0,0,0,0,0,0,0,0,0,0,0,0,0,0,0,0,0,0,0,0,0,0,0,0,0,0]
[null,null,"Alissa Dorie",null,null,null,null,null,null,null,null,null,null,null,null,null,null,null,null,null,null,null,"Next Q Reg?",{"$f":"IF(X100=0,0,IF(W99=1,1,IF(X91=1,1,IF(X96=1,1,0))))","v":0},{"$f":"IF(Y100=0,0,IF(X99=1,1,IF(Y91=1,1,IF(Y96=1,1,0))))","v":0},0,0,0,0,0,0,0,0,0,0,0,0,0,0,0,0,0,0,0,0,0,0,0,0,0,0,0,0,0]
[null,null,"Claire Ogden*",null,null,null,null,null,null,null,null,null,null,null,null,null,null,null,null,null,null,null,"Next Q Tossup?",{"$f":"IF(X97=1,0,IF(X102<3,0,IF(RIGHT(X87,1)=\"a\",0,IF(X91=0,1,0))))","v":0},{"$f":"IF(Y97=1,0,IF(Y102<3,0,IF(RIGHT(Y87,1)=\"a\",0,IF(Y91=0,1,0))))","v":0},0,0,0,0,0,0,0,0,0,0,0,0,0,0,0,0,0,0,0,0,0,0,0,0,0,0,0,0,0]
[null,null,"Cordelia Fike*",null,null,null,null,null,null,null,null,null,null,null,null,null,null,null,null,null,null,null,"Next Q Free?",{"$f":"IF(SUM(X97:X98)=0,IF(X91=0,IF(X98<>1,1,0),0),0)","v":0},{"$f":"IF(SUM(Y97:Y98)=0,IF(Y91=0,IF(Y98<>1,1,0),0),0)","v":0},0,0,0,0,0,0,0,0,0,0,0,0,0,0,0,0,0,0,0,0,0,0,0,0,0,0,0,0,0]
[null,null,"Owen Parker",null,null,null,null,null,null,null,null,null,null,null,null,null,null,null,null,null,null,null,"#teams next Q:",{"$f":"IF(X102=3,IF(X91=1,IF(SUM(X92:X94)=0,0,IF(X94=1,3,2)),X102),IF(X91=1,IF(SUM(X92:X93)=0,0,2),2))","v":3},{"$f":"IF(Y102=0,0,IF(Y102=3,IF(Y91=1,IF(SUM(Y92:Y94)=0,0,IF(Y94=1,3,2)),Y102),IF(Y91=1,IF(SUM(Y92:Y93)=0,0,2),2)))","v":3},{"$f":"IF(Z102=0,0,IF(Z102=3,IF(Z91=1,IF(SUM(Z92:Z94)=0,0,IF(Z94=1,3,2)),Z102),IF(Z91=1,IF(SUM(Z92:Z93)=0,0,2),2)))","v":3},3,3,3,3,3,3,3,3,3,3,3,3,3,3,3,3,3,3,3,3,3,3,3,3,3,3,3,3]
[null,null,"Deven Dorie",null,null,null,null,null,null,null,null,null,null,null,null,null,null,null,null,null,null,null,"Next Question#:",{"$f":"IF(X91=-1,\"\",IF(X100=0,\"\",IF(X97=1,LEFT(X87,2)+1,IF(X98=1,CONCATENATE(X87,\"A\"),IF(X102=3,CONCATENATE(LEFT(X87,2),\"B\"),CONCATENATE(X87,\"A\"))))))","v":""},{"$f":"IF(Y91=-1,\"\",IF(Y100=0,\"\",IF(Y97=1,LEFT(Y87,2)+1,IF(Y98=1,CONCATENATE(Y87,\"A\"),IF(Y102=3,CONCATENATE(LEFT(Y87,2),\"B\"),CONCATENATE(Y87,\"A\"))))))","v":""},"","","","","","","","","","","","","","","","","","","","","","","","","","","","",""]
[null,null,"Averi McCulloch*",null,null,null,null,null,null,null,null,null,null,null,null,null,null,null,null,null,null,null,"# teams in this Q:",3,{"$f":"X100","v":3},{"$f":"Y100","v":3},3,3,3,3,3,3,3,3,3,3,3,3,3,3,3,3,3,3,3,3,3,3,3,3,3,3,3,3]
[null,null,"Nathan Mayer"]
[null,null,"David Hampshire*",null,null,null,null,null,null,null,null,null,null,null,null,null,null,null,null,null,null,null,null,null,{"$f":"IF(Y96=1,0,IF(Y102=3,IF(X97=1,20,IF(X98=1,IF(Y24=1,\".\",20),IF(X99=1,IF(Y23=0,10,\".\"),\"?\"))),IF(Y102=2,IF(X95=\"A\",\".\",IF(X97=1,20,IF(Y24=1,\".\",10))),\".\")))","v":"?"},"?","?","?","?","?","?","?","?","?","?","?","?","?","?","?","?","?","?","?","?","?","?","?","?","?","?","?","?","?"]
[null,null,"Collin Gibson",null,null,null,null,null,null,null,null,null,null,null,null,null,null,null,null,null,null,null,null,null,{"$f":"IF(Y104=20,\"E\",IF(Y104=10,\"A\",\".\"))","v":"."},{"$f":"IF(Z104=20,\"E\",IF(Z104=10,\"A\",\".\"))","v":"."},".",".",".",".",".",".",".",".",".",".",".",".",".",".",".",".",".",".",".",".",".",".",".",".",".",".",".","."]
[null,null,null,null,null,null,null,null,null,null,null,null,null,null,null,null,null,null,null,null,null,null,null,null,{"$f":"IF(Y96=1,0,\"\")","v":""},{"$f":"IF(Z96=1,0,\"\")","v":""},"","","","","","","","","","","","","","","","","","","","","","","","","","","",""]
[]
[]
[null,null,null,null,null,null,null,null,null,null,null,null,null,null,null,null,null,null,null,null,null,null,null,null,{"$f":"IF(Y96=1,0,IF(Y102=3,IF(X97=1,20,IF(X98=1,IF(Y45=1,\".\",20),IF(X99=1,IF(Y44=0,10,\".\"),\"?\"))),IF(Y102=2,IF(X95=\"B\",\".\",IF(X97=1,20,IF(Y45=1,\".\",10))),\".\")))","v":"?"},"?","?","?","?","?","?","?","?","?","?","?","?","?","?","?","?","?","?","?","?","?","?","?","?","?","?","?","?","?"]
[null,null,null,null,null,null,null,null,null,null,null,null,null,null,null,null,null,null,null,null,null,null,null,null,{"$f":"IF(Y109=20,\"E\",IF(Y109=10,\"A\",\".\"))","v":"."},{"$f":"IF(Z109=20,\"E\",IF(Z109=10,\"A\",\".\"))","v":"."},".",".",".",".",".",".",".",".",".",".",".",".",".",".",".",".",".",".",".",".",".",".",".",".",".",".",".","."]
[null,null,null,null,null,null,null,null,null,null,null,null,null,null,null,null,null,null,null,null,null,null,null,null,{"$f":"IF(Y96=1,0,\"\")","v":""},{"$f":"IF(Z96=1,0,\"\")","v":""},"","","","","","","","","","","","","","","","","","","","","","","","","","","",""]
[]
[]
[null,null,null,null,null,null,null,null,null,null,null,null,null,null,null,null,null,null,null,null,null,null,null,null,{"$f":"IF(Y96=1,0,IF(Y102=3,IF(X97=1,20,IF(X98=1,IF(Y66=1,\".\",20),IF(X99=1,IF(Y65=0,10,\".\"),\"?\"))),IF(Y102=2,IF(X95=\"C\",\".\",IF(X97=1,20,IF(Y66=1,\".\",10))),\".\")))","v":"?"},"?","?","?","?","?","?","?","?","?","?","?","?","?","?","?","?","?","?","?","?","?","?","?","?","?","?","?","?","?"]
[null,null,null,null,null,null,null,null,null,null,null,null,null,null,null,null,null,null,null,null,null,null,null,null,{"$f":"IF(Y114=20,\"E\",IF(Y114=10,\"A\",\".\"))","v":"."},{"$f":"IF(Z114=20,\"E\",IF(Z114=10,\"A\",\".\"))","v":"."},".",".",".",".",".",".",".",".",".",".",".",".",".",".",".",".",".",".",".",".",".",".",".",".",".",".",".","."]
[null,null,null,null,null,null,null,null,null,null,null,null,null,null,null,null,null,null,null,null,null,null,null,null,{"$f":"IF(Y96=1,0,\"\")","v":""},{"$f":"IF(Z96=1,0,\"\")","v":""},"","","","","","","","","","","","","","","","","","","","","","","","","","","",""]
[]
[null,null,null,null,null,null,null,null,null,null,null,null,null,null,null,null,null,null,null,null,null,null,{"$f":"MAX(X118:BB118)","v":0},{"$f":"IF(X$102-X$100=3,IF(X88=MAX(X$88:X$90),10,IF(X88=MIN(X$88:X$90),1,5)),IF(X$102-X$100=2,\"later\",IF(X$102-X$100=1,IF(X$95=\"A\",IF(X88=MAX(X$88:X$90),10,1),0),0)))","v":0},{"$f":"IF(X118>0,X118,IF(Y$102-Y$100=3,IF(Y88=MAX(Y$88:Y$90),10,IF(Y88=MIN(Y$88:Y$90),1,5)),IF(Y$102-Y$100=2,IF(MAX($X$118:X$120 )=10,IF(Y88=MIN(Y$88:Y$90),1,5),IF(Y88=MIN(Y$88:Y$90),5,10)),IF(Y$102-Y$100=1,IF(Y$95=\"A\",IF(Y88=MAX(Y$88:Y$90),10,1),0),0))))","v":0},{"$f":"IF(Y118>0,Y118,IF(Z$102-Z$100=3,IF(Z88=MAX(Z$88:Z$90),10,IF(Z88=MIN(Z$88:Z$90),1,5)),IF(Z$102-Z$100=2,IF(MAX($X$118:Y$120 )=10,IF(Z88=MIN(Z$88:Z$90),1,5),IF(Z88=MIN(Z$88:Z$90),5,10)),IF(Z$102-Z$100=1,IF(Z$95=\"A\",IF(Z88=MAX(Z$88:Z$90),10,1),0),0))))","v":0},{"$f":"IF(Z118>0,Z118,IF(AA$102-AA$100=3,IF(AA88=MAX(AA$88:AA$90),10,IF(AA88=MIN(AA$88:AA$90),1,5)),IF(AA$102-AA$100=2,IF(MAX($X$118:Z$120 )=10,IF(AA88=MIN(AA$88:AA$90),1,5),IF(AA88=MIN(AA$88:AA$90),5,10)),IF(AA$102-AA$100=1,IF(AA$95=\"A\",IF(AA88=MAX(AA$88:AA$90),10,1),0),0))))","v":0},{"$f":"IF(AA118>0,AA118,IF(AB$102-AB$100=3,IF(AB88=MAX(AB$88:AB$90),10,IF(AB88=MIN(AB$88:AB$90),1,5)),IF(AB$102-AB$100=2,IF(MAX($X$118:AA$120 )=10,IF(AB88=MIN(AB$88:AB$90),1,5),IF(AB88=MIN(AB$88:AB$90),5,10)),IF(AB$102-AB$100=1,IF(AB$95=\"A\",IF(AB88=MAX(AB$88:AB$90),10,1),0),0))))","v":0},{"$f":"IF(AB118>0,AB118,IF(AC$102-AC$100=3,IF(AC88=MAX(AC$88:AC$90),10,IF(AC88=MIN(AC$88:AC$90),1,5)),IF(AC$102-AC$100=2,IF(MAX($X$118:AB$120 )=10,IF(AC88=MIN(AC$88:AC$90),1,5),IF(AC88=MIN(AC$88:AC$90),5,10)),IF(AC$102-AC$100=1,IF(AC$95=\"A\",IF(AC88=MAX(AC$88:AC$90),10,1),0),0))))","v":0},{"$f":"IF(AC118>0,AC118,IF(AD$102-AD$100=3,IF(AD88=MAX(AD$88:AD$90),10,IF(AD88=MIN(AD$88:AD$90),1,5)),IF(AD$102-AD$100=2,IF(MAX($X$118:AC$120 )=10,IF(AD88=MIN(AD$88:AD$90),1,5),IF(AD88=MIN(AD$88:AD$90),5,10)),IF(AD$102-AD$100=1,IF(AD$95=\"A\",IF(AD88=MAX(AD$88:AD$90),10,1),0),0))))","v":0},{"$f":"IF(AD118>0,AD118,IF(AE$102-AE$100=3,IF(AE88=MAX(AE$88:AE$90),10,IF(AE88=MIN(AE$88:AE$90),1,5)),IF(AE$102-AE$100=2,IF(MAX($X$118:AD$120 )=10,IF(AE88=MIN(AE$88:AE$90),1,5),IF(AE88=MIN(AE$88:AE$90),5,10)),IF(AE$102-AE$100=1,IF(AE$95=\"A\",IF(AE88=MAX(AE$88:AE$90),10,1),0),0))))","v":0},{"$f":"IF(AE118>0,AE118,IF(AF$102-AF$100=3,IF(AF88=MAX(AF$88:AF$90),10,IF(AF88=MIN(AF$88:AF$90),1,5)),IF(AF$102-AF$100=2,IF(MAX($X$118:AE$120 )=10,IF(AF88=MIN(AF$88:AF$90),1,5),IF(AF88=MIN(AF$88:AF$90),5,10)),IF(AF$102-AF$100=1,IF(AF$95=\"A\",IF(AF88=MAX(AF$88:AF$90),10,1),0),0))))","v":0},{"$f":"IF(AF118>0,AF118,IF(AG$102-AG$100=3,IF(AG88=MAX(AG$88:AG$90),10,IF(AG88=MIN(AG$88:AG$90),1,5)),IF(AG$102-AG$100=2,IF(MAX($X$118:AF$120 )=10,IF(AG88=MIN(AG$88:AG$90),1,5),IF(AG88=MIN(AG$88:AG$90),5,10)),IF(AG$102-AG$100=1,IF(AG$95=\"A\",IF(AG88=MAX(AG$88:AG$90),10,1),0),0))))","v":0},{"$f":"IF(AG118>0,AG118,IF(AH$102-AH$100=3,IF(AH88=MAX(AH$88:AH$90),10,IF(AH88=MIN(AH$88:AH$90),1,5)),IF(AH$102-AH$100=2,IF(MAX($X$118:AG$120 )=10,IF(AH88=MIN(AH$88:AH$90),1,5),IF(AH88=MIN(AH$88:AH$90),5,10)),IF(AH$102-AH$100=1,IF(AH$95=\"A\",IF(AH88=MAX(AH$88:AH$90),10,1),0),0))))","v":0},{"$f":"IF(AH118>0,AH118,IF(AI$102-AI$100=3,IF(AI88=MAX(AI$88:AI$90),10,IF(AI88=MIN(AI$88:AI$90),1,5)),IF(AI$102-AI$100=2,IF(MAX($X$118:AH$120 )=10,IF(AI88=MIN(AI$88:AI$90),1,5),IF(AI88=MIN(AI$88:AI$90),5,10)),IF(AI$102-AI$100=1,IF(AI$95=\"A\",IF(AI88=MAX(AI$88:AI$90),10,1),0),0))))","v":0},{"$f":"IF(AI118>0,AI118,IF(AJ$102-AJ$100=3,IF(AJ88=MAX(AJ$88:AJ$90),10,IF(AJ88=MIN(AJ$88:AJ$90),1,5)),IF(AJ$102-AJ$100=2,IF(MAX($X$118:AI$120 )=10,IF(AJ88=MIN(AJ$88:AJ$90),1,5),IF(AJ88=MIN(AJ$88:AJ$90),5,10)),IF(AJ$102-AJ$100=1,IF(AJ$95=\"A\",IF(AJ88=MAX(AJ$88:AJ$90),10,1),0),0))))","v":0},{"$f":"IF(AJ118>0,AJ118,IF(AK$102-AK$100=3,IF(AK88=MAX(AK$88:AK$90),10,IF(AK88=MIN(AK$88:AK$90),1,5)),IF(AK$102-AK$100=2,IF(MAX($X$118:AJ$120 )=10,IF(AK88=MIN(AK$88:AK$90),1,5),IF(AK88=MIN(AK$88:AK$90),5,10)),IF(AK$102-AK$100=1,IF(AK$95=\"A\",IF(AK88=MAX(AK$88:AK$90),10,1),0),0))))","v":0},{"$f":"IF(AK118>0,AK118,IF(AL$102-AL$100=3,IF(AL88=MAX(AL$88:AL$90),10,IF(AL88=MIN(AL$88:AL$90),1,5)),IF(AL$102-AL$100=2,IF(MAX($X$118:AK$120 )=10,IF(AL88=MIN(AL$88:AL$90),1,5),IF(AL88=MIN(AL$88:AL$90),5,10)),IF(AL$102-AL$100=1,IF(AL$95=\"A\",IF(AL88=MAX(AL$88:AL$90),10,1),0),0))))","v":0},{"$f":"IF(AL118>0,AL118,IF(AM$102-AM$100=3,IF(AM88=MAX(AM$88:AM$90),10,IF(AM88=MIN(AM$88:AM$90),1,5)),IF(AM$102-AM$100=2,IF(MAX($X$118:AL$120 )=10,IF(AM88=MIN(AM$88:AM$90),1,5),IF(AM88=MIN(AM$88:AM$90),5,10)),IF(AM$102-AM$100=1,IF(AM$95=\"A\",IF(AM88=MAX(AM$88:AM$90),10,1),0),0))))","v":0},{"$f":"IF(AM118>0,AM118,IF(AN$102-AN$100=3,IF(AN88=MAX(AN$88:AN$90),10,IF(AN88=MIN(AN$88:AN$90),1,5)),IF(AN$102-AN$100=2,IF(MAX($X$118:AM$120 )=10,IF(AN88=MIN(AN$88:AN$90),1,5),IF(AN88=MIN(AN$88:AN$90),5,10)),IF(AN$102-AN$100=1,IF(AN$95=\"A\",IF(AN88=MAX(AN$88:AN$90),10,1),0),0))))","v":0},{"$f":"IF(AN118>0,AN118,IF(AO$102-AO$100=3,IF(AO88=MAX(AO$88:AO$90),10,IF(AO88=MIN(AO$88:AO$90),1,5)),IF(AO$102-AO$100=2,IF(MAX($X$118:AN$120 )=10,IF(AO88=MIN(AO$88:AO$90),1,5),IF(AO88=MIN(AO$88:AO$90),5,10)),IF(AO$102-AO$100=1,IF(AO$95=\"A\",IF(AO88=MAX(AO$88:AO$90),10,1),0),0))))","v":0},{"$f":"IF(AO118>0,AO118,IF(AP$102-AP$100=3,IF(AP88=MAX(AP$88:AP$90),10,IF(AP88=MIN(AP$88:AP$90),1,5)),IF(AP$102-AP$100=2,IF(MAX($X$118:AO$120 )=10,IF(AP88=MIN(AP$88:AP$90),1,5),IF(AP88=MIN(AP$88:AP$90),5,10)),IF(AP$102-AP$100=1,IF(AP$95=\"A\",IF(AP88=MAX(AP$88:AP$90),10,1),0),0))))","v":0},{"$f":"IF(AP118>0,AP118,IF(AQ$102-AQ$100=3,IF(AQ88=MAX(AQ$88:AQ$90),10,IF(AQ88=MIN(AQ$88:AQ$90),1,5)),IF(AQ$102-AQ$100=2,IF(MAX($X$118:AP$120 )=10,IF(AQ88=MIN(AQ$88:AQ$90),1,5),IF(AQ88=MIN(AQ$88:AQ$90),5,10)),IF(AQ$102-AQ$100=1,IF(AQ$95=\"A\",IF(AQ88=MAX(AQ$88:AQ$90),10,1),0),0))))","v":0},{"$f":"IF(AQ118>0,AQ118,IF(AR$102-AR$100=3,IF(AR88=MAX(AR$88:AR$90),10,IF(AR88=MIN(AR$88:AR$90),1,5)),IF(AR$102-AR$100=2,IF(MAX($X$118:AQ$120 )=10,IF(AR88=MIN(AR$88:AR$90),1,5),IF(AR88=MIN(AR$88:AR$90),5,10)),IF(AR$102-AR$100=1,IF(AR$95=\"A\",IF(AR88=MAX(AR$88:AR$90),10,1),0),0))))","v":0},{"$f":"IF(AR118>0,AR118,IF(AS$102-AS$100=3,IF(AS88=MAX(AS$88:AS$90),10,IF(AS88=MIN(AS$88:AS$90),1,5)),IF(AS$102-AS$100=2,IF(MAX($X$118:AR$120 )=10,IF(AS88=MIN(AS$88:AS$90),1,5),IF(AS88=MIN(AS$88:AS$90),5,10)),IF(AS$102-AS$100=1,IF(AS$95=\"A\",IF(AS88=MAX(AS$88:AS$90),10,1),0),0))))","v":0},{"$f":"IF(AS118>0,AS118,IF(AT$102-AT$100=3,IF(AT88=MAX(AT$88:AT$90),10,IF(AT88=MIN(AT$88:AT$90),1,5)),IF(AT$102-AT$100=2,IF(MAX($X$118:AS$120 )=10,IF(AT88=MIN(AT$88:AT$90),1,5),IF(AT88=MIN(AT$88:AT$90),5,10)),IF(AT$102-AT$100=1,IF(AT$95=\"A\",IF(AT88=MAX(AT$88:AT$90),10,1),0),0))))","v":0},{"$f":"IF(AT118>0,AT118,IF(AU$102-AU$100=3,IF(AU88=MAX(AU$88:AU$90),10,IF(AU88=MIN(AU$88:AU$90),1,5)),IF(AU$102-AU$100=2,IF(MAX($X$118:AT$120 )=10,IF(AU88=MIN(AU$88:AU$90),1,5),IF(AU88=MIN(AU$88:AU$90),5,10)),IF(AU$102-AU$100=1,IF(AU$95=\"A\",IF(AU88=MAX(AU$88:AU$90),10,1),0),0))))","v":0},{"$f":"IF(AU118>0,AU118,IF(AV$102-AV$100=3,IF(AV88=MAX(AV$88:AV$90),10,IF(AV88=MIN(AV$88:AV$90),1,5)),IF(AV$102-AV$100=2,IF(MAX($X$118:AU$120 )=10,IF(AV88=MIN(AV$88:AV$90),1,5),IF(AV88=MIN(AV$88:AV$90),5,10)),IF(AV$102-AV$100=1,IF(AV$95=\"A\",IF(AV88=MAX(AV$88:AV$90),10,1),0),0))))","v":0},{"$f":"IF(AV118>0,AV118,IF(AW$102-AW$100=3,IF(AW88=MAX(AW$88:AW$90),10,IF(AW88=MIN(AW$88:AW$90),1,5)),IF(AW$102-AW$100=2,IF(MAX($X$118:AV$120 )=10,IF(AW88=MIN(AW$88:AW$90),1,5),IF(AW88=MIN(AW$88:AW$90),5,10)),IF(AW$102-AW$100=1,IF(AW$95=\"A\",IF(AW88=MAX(AW$88:AW$90),10,1),0),0))))","v":0},{"$f":"IF(AW118>0,AW118,IF(AX$102-AX$100=3,IF(AX88=MAX(AX$88:AX$90),10,IF(AX88=MIN(AX$88:AX$90),1,5)),IF(AX$102-AX$100=2,IF(MAX($X$118:AW$120 )=10,IF(AX88=MIN(AX$88:AX$90),1,5),IF(AX88=MIN(AX$88:AX$90),5,10)),IF(AX$102-AX$100=1,IF(AX$95=\"A\",IF(AX88=MAX(AX$88:AX$90),10,1),0),0))))","v":0},{"$f":"IF(AX118>0,AX118,IF(AY$102-AY$100=3,IF(AY88=MAX(AY$88:AY$90),10,IF(AY88=MIN(AY$88:AY$90),1,5)),IF(AY$102-AY$100=2,IF(MAX($X$118:AX$120 )=10,IF(AY88=MIN(AY$88:AY$90),1,5),IF(AY88=MIN(AY$88:AY$90),5,10)),IF(AY$102-AY$100=1,IF(AY$95=\"A\",IF(AY88=MAX(AY$88:AY$90),10,1),0),0))))","v":0},{"$f":"IF(AY118>0,AY118,IF(AZ$102-AZ$100=3,IF(AZ88=MAX(AZ$88:AZ$90),10,IF(AZ88=MIN(AZ$88:AZ$90),1,5)),IF(AZ$102-AZ$100=2,IF(MAX($X$118:AY$120 )=10,IF(AZ88=MIN(AZ$88:AZ$90),1,5),IF(AZ88=MIN(AZ$88:AZ$90),5,10)),IF(AZ$102-AZ$100=1,IF(AZ$95=\"A\",IF(AZ88=MAX(AZ$88:AZ$90),10,1),0),0))))","v":0},{"$f":"IF(AZ118>0,AZ118,IF(BA$102-BA$100=3,IF(BA88=MAX(BA$88:BA$90),10,IF(BA88=MIN(BA$88:BA$90),1,5)),IF(BA$102-BA$100=2,IF(MAX($X$118:AZ$120 )=10,IF(BA88=MIN(BA$88:BA$90),1,5),IF(BA88=MIN(BA$88:BA$90),5,10)),IF(BA$102-BA$100=1,IF(BA$95=\"A\",IF(BA88=MAX(BA$88:BA$90),10,1),0),0))))","v":0},{"$f":"IF(BA118>0,BA118,IF(BB$102-BB$100=3,IF(BB88=MAX(BB$88:BB$90),10,IF(BB88=MIN(BB$88:BB$90),1,5)),IF(BB$102-BB$100=2,IF(MAX($X$118:BA$120 )=10,IF(BB88=MIN(BB$88:BB$90),1,5),IF(BB88=MIN(BB$88:BB$90),5,10)),IF(BB$102-BB$100=1,IF(BB$95=\"A\",IF(BB88=MAX(BB$88:BB$90),10,1),0),0))))","v":0}]
[null,null,null,null,null,null,null,null,null,null,null,null,null,null,null,null,null,null,null,null,null,null,{"$f":"MAX(X119:BB119)","v":0},{"$f":"IF(X$102-X$100=3,IF(X89=MAX(X$88:X$90),10,IF(X89=MIN(X$88:X$90),1,5)),IF(X$102-X$100=2,\"later\",IF(X$102-X$100=1,IF(X$95=\"B\",IF(X89=MAX(X$88:X$90),10,1),0),0)))","v":0},{"$f":"IF(X119>0,X119,IF(Y$102-Y$100=3,IF(Y89=MAX(Y$88:Y$90),10,IF(Y89=MIN(Y$88:Y$90),1,5)),IF(Y$102-Y$100=2,IF(MAX($X$118:X$120 )=10,IF(Y89=MIN(Y$88:Y$90),1,5),IF(Y89=MIN(Y$88:Y$90),5,10)),IF(Y$102-Y$100=1,IF(Y$95=\"B\",IF(Y89=MAX(Y$88:Y$90),10,1),0),0))))","v":0},{"$f":"IF(Y119>0,Y119,IF(Z$102-Z$100=3,IF(Z89=MAX(Z$88:Z$90),10,IF(Z89=MIN(Z$88:Z$90),1,5)),IF(Z$102-Z$100=2,IF(MAX($X$118:Y$120 )=10,IF(Z89=MIN(Z$88:Z$90),1,5),IF(Z89=MIN(Z$88:Z$90),5,10)),IF(Z$102-Z$100=1,IF(Z$95=\"B\",IF(Z89=MAX(Z$88:Z$90),10,1),0),0))))","v":0},{"$f":"IF(Z119>0,Z119,IF(AA$102-AA$100=3,IF(AA89=MAX(AA$88:AA$90),10,IF(AA89=MIN(AA$88:AA$90),1,5)),IF(AA$102-AA$100=2,IF(MAX($X$118:Z$120 )=10,IF(AA89=MIN(AA$88:AA$90),1,5),IF(AA89=MIN(AA$88:AA$90),5,10)),IF(AA$102-AA$100=1,IF(AA$95=\"B\",IF(AA89=MAX(AA$88:AA$90),10,1),0),0))))","v":0},{"$f":"IF(AA119>0,AA119,IF(AB$102-AB$100=3,IF(AB89=MAX(AB$88:AB$90),10,IF(AB89=MIN(AB$88:AB$90),1,5)),IF(AB$102-AB$100=2,IF(MAX($X$118:AA$120 )=10,IF(AB89=MIN(AB$88:AB$90),1,5),IF(AB89=MIN(AB$88:AB$90),5,10)),IF(AB$102-AB$100=1,IF(AB$95=\"B\",IF(AB89=MAX(AB$88:AB$90),10,1),0),0))))","v":0},{"$f":"IF(AB119>0,AB119,IF(AC$102-AC$100=3,IF(AC89=MAX(AC$88:AC$90),10,IF(AC89=MIN(AC$88:AC$90),1,5)),IF(AC$102-AC$100=2,IF(MAX($X$118:AB$120 )=10,IF(AC89=MIN(AC$88:AC$90),1,5),IF(AC89=MIN(AC$88:AC$90),5,10)),IF(AC$102-AC$100=1,IF(AC$95=\"B\",IF(AC89=MAX(AC$88:AC$90),10,1),0),0))))","v":0},{"$f":"IF(AC119>0,AC119,IF(AD$102-AD$100=3,IF(AD89=MAX(AD$88:AD$90),10,IF(AD89=MIN(AD$88:AD$90),1,5)),IF(AD$102-AD$100=2,IF(MAX($X$118:AC$120 )=10,IF(AD89=MIN(AD$88:AD$90),1,5),IF(AD89=MIN(AD$88:AD$90),5,10)),IF(AD$102-AD$100=1,IF(AD$95=\"B\",IF(AD89=MAX(AD$88:AD$90),10,1),0),0))))","v":0},{"$f":"IF(AD119>0,AD119,IF(AE$102-AE$100=3,IF(AE89=MAX(AE$88:AE$90),10,IF(AE89=MIN(AE$88:AE$90),1,5)),IF(AE$102-AE$100=2,IF(MAX($X$118:AD$120 )=10,IF(AE89=MIN(AE$88:AE$90),1,5),IF(AE89=MIN(AE$88:AE$90),5,10)),IF(AE$102-AE$100=1,IF(AE$95=\"B\",IF(AE89=MAX(AE$88:AE$90),10,1),0),0))))","v":0},{"$f":"IF(AE119>0,AE119,IF(AF$102-AF$100=3,IF(AF89=MAX(AF$88:AF$90),10,IF(AF89=MIN(AF$88:AF$90),1,5)),IF(AF$102-AF$100=2,IF(MAX($X$118:AE$120 )=10,IF(AF89=MIN(AF$88:AF$90),1,5),IF(AF89=MIN(AF$88:AF$90),5,10)),IF(AF$102-AF$100=1,IF(AF$95=\"B\",IF(AF89=MAX(AF$88:AF$90),10,1),0),0))))","v":0},{"$f":"IF(AF119>0,AF119,IF(AG$102-AG$100=3,IF(AG89=MAX(AG$88:AG$90),10,IF(AG89=MIN(AG$88:AG$90),1,5)),IF(AG$102-AG$100=2,IF(MAX($X$118:AF$120 )=10,IF(AG89=MIN(AG$88:AG$90),1,5),IF(AG89=MIN(AG$88:AG$90),5,10)),IF(AG$102-AG$100=1,IF(AG$95=\"B\",IF(AG89=MAX(AG$88:AG$90),10,1),0),0))))","v":0},{"$f":"IF(AG119>0,AG119,IF(AH$102-AH$100=3,IF(AH89=MAX(AH$88:AH$90),10,IF(AH89=MIN(AH$88:AH$90),1,5)),IF(AH$102-AH$100=2,IF(MAX($X$118:AG$120 )=10,IF(AH89=MIN(AH$88:AH$90),1,5),IF(AH89=MIN(AH$88:AH$90),5,10)),IF(AH$102-AH$100=1,IF(AH$95=\"B\",IF(AH89=MAX(AH$88:AH$90),10,1),0),0))))","v":0},{"$f":"IF(AH119>0,AH119,IF(AI$102-AI$100=3,IF(AI89=MAX(AI$88:AI$90),10,IF(AI89=MIN(AI$88:AI$90),1,5)),IF(AI$102-AI$100=2,IF(MAX($X$118:AH$120 )=10,IF(AI89=MIN(AI$88:AI$90),1,5),IF(AI89=MIN(AI$88:AI$90),5,10)),IF(AI$102-AI$100=1,IF(AI$95=\"B\",IF(AI89=MAX(AI$88:AI$90),10,1),0),0))))","v":0},{"$f":"IF(AI119>0,AI119,IF(AJ$102-AJ$100=3,IF(AJ89=MAX(AJ$88:AJ$90),10,IF(AJ89=MIN(AJ$88:AJ$90),1,5)),IF(AJ$102-AJ$100=2,IF(MAX($X$118:AI$120 )=10,IF(AJ89=MIN(AJ$88:AJ$90),1,5),IF(AJ89=MIN(AJ$88:AJ$90),5,10)),IF(AJ$102-AJ$100=1,IF(AJ$95=\"B\",IF(AJ89=MAX(AJ$88:AJ$90),10,1),0),0))))","v":0},{"$f":"IF(AJ119>0,AJ119,IF(AK$102-AK$100=3,IF(AK89=MAX(AK$88:AK$90),10,IF(AK89=MIN(AK$88:AK$90),1,5)),IF(AK$102-AK$100=2,IF(MAX($X$118:AJ$120 )=10,IF(AK89=MIN(AK$88:AK$90),1,5),IF(AK89=MIN(AK$88:AK$90),5,10)),IF(AK$102-AK$100=1,IF(AK$95=\"B\",IF(AK89=MAX(AK$88:AK$90),10,1),0),0))))","v":0},{"$f":"IF(AK119>0,AK119,IF(AL$102-AL$100=3,IF(AL89=MAX(AL$88:AL$90),10,IF(AL89=MIN(AL$88:AL$90),1,5)),IF(AL$102-AL$100=2,IF(MAX($X$118:AK$120 )=10,IF(AL89=MIN(AL$88:AL$90),1,5),IF(AL89=MIN(AL$88:AL$90),5,10)),IF(AL$102-AL$100=1,IF(AL$95=\"B\",IF(AL89=MAX(AL$88:AL$90),10,1),0),0))))","v":0},{"$f":"IF(AL119>0,AL119,IF(AM$102-AM$100=3,IF(AM89=MAX(AM$88:AM$90),10,IF(AM89=MIN(AM$88:AM$90),1,5)),IF(AM$102-AM$100=2,IF(MAX($X$118:AL$120 )=10,IF(AM89=MIN(AM$88:AM$90),1,5),IF(AM89=MIN(AM$88:AM$90),5,10)),IF(AM$102-AM$100=1,IF(AM$95=\"B\",IF(AM89=MAX(AM$88:AM$90),10,1),0),0))))","v":0},{"$f":"IF(AM119>0,AM119,IF(AN$102-AN$100=3,IF(AN89=MAX(AN$88:AN$90),10,IF(AN89=MIN(AN$88:AN$90),1,5)),IF(AN$102-AN$100=2,IF(MAX($X$118:AM$120 )=10,IF(AN89=MIN(AN$88:AN$90),1,5),IF(AN89=MIN(AN$88:AN$90),5,10)),IF(AN$102-AN$100=1,IF(AN$95=\"B\",IF(AN89=MAX(AN$88:AN$90),10,1),0),0))))","v":0},{"$f":"IF(AN119>0,AN119,IF(AO$102-AO$100=3,IF(AO89=MAX(AO$88:AO$90),10,IF(AO89=MIN(AO$88:AO$90),1,5)),IF(AO$102-AO$100=2,IF(MAX($X$118:AN$120 )=10,IF(AO89=MIN(AO$88:AO$90),1,5),IF(AO89=MIN(AO$88:AO$90),5,10)),IF(AO$102-AO$100=1,IF(AO$95=\"B\",IF(AO89=MAX(AO$88:AO$90),10,1),0),0))))","v":0},{"$f":"IF(AO119>0,AO119,IF(AP$102-AP$100=3,IF(AP89=MAX(AP$88:AP$90),10,IF(AP89=MIN(AP$88:AP$90),1,5)),IF(AP$102-AP$100=2,IF(MAX($X$118:AO$120 )=10,IF(AP89=MIN(AP$88:AP$90),1,5),IF(AP89=MIN(AP$88:AP$90),5,10)),IF(AP$102-AP$100=1,IF(AP$95=\"B\",IF(AP89=MAX(AP$88:AP$90),10,1),0),0))))","v":0},{"$f":"IF(AP119>0,AP119,IF(AQ$102-AQ$100=3,IF(AQ89=MAX(AQ$88:AQ$90),10,IF(AQ89=MIN(AQ$88:AQ$90),1,5)),IF(AQ$102-AQ$100=2,IF(MAX($X$118:AP$120 )=10,IF(AQ89=MIN(AQ$88:AQ$90),1,5),IF(AQ89=MIN(AQ$88:AQ$90),5,10)),IF(AQ$102-AQ$100=1,IF(AQ$95=\"B\",IF(AQ89=MAX(AQ$88:AQ$90),10,1),0),0))))","v":0},{"$f":"IF(AQ119>0,AQ119,IF(AR$102-AR$100=3,IF(AR89=MAX(AR$88:AR$90),10,IF(AR89=MIN(AR$88:AR$90),1,5)),IF(AR$102-AR$100=2,IF(MAX($X$118:AQ$120 )=10,IF(AR89=MIN(AR$88:AR$90),1,5),IF(AR89=MIN(AR$88:AR$90),5,10)),IF(AR$102-AR$100=1,IF(AR$95=\"B\",IF(AR89=MAX(AR$88:AR$90),10,1),0),0))))","v":0},{"$f":"IF(AR119>0,AR119,IF(AS$102-AS$100=3,IF(AS89=MAX(AS$88:AS$90),10,IF(AS89=MIN(AS$88:AS$90),1,5)),IF(AS$102-AS$100=2,IF(MAX($X$118:AR$120 )=10,IF(AS89=MIN(AS$88:AS$90),1,5),IF(AS89=MIN(AS$88:AS$90),5,10)),IF(AS$102-AS$100=1,IF(AS$95=\"B\",IF(AS89=MAX(AS$88:AS$90),10,1),0),0))))","v":0},{"$f":"IF(AS119>0,AS119,IF(AT$102-AT$100=3,IF(AT89=MAX(AT$88:AT$90),10,IF(AT89=MIN(AT$88:AT$90),1,5)),IF(AT$102-AT$100=2,IF(MAX($X$118:AS$120 )=10,IF(AT89=MIN(AT$88:AT$90),1,5),IF(AT89=MIN(AT$88:AT$90),5,10)),IF(AT$102-AT$100=1,IF(AT$95=\"B\",IF(AT89=MAX(AT$88:AT$90),10,1),0),0))))","v":0},{"$f":"IF(AT119>0,AT119,IF(AU$102-AU$100=3,IF(AU89=MAX(AU$88:AU$90),10,IF(AU89=MIN(AU$88:AU$90),1,5)),IF(AU$102-AU$100=2,IF(MAX($X$118:AT$120 )=10,IF(AU89=MIN(AU$88:AU$90),1,5),IF(AU89=MIN(AU$88:AU$90),5,10)),IF(AU$102-AU$100=1,IF(AU$95=\"B\",IF(AU89=MAX(AU$88:AU$90),10,1),0),0))))","v":0},{"$f":"IF(AU119>0,AU119,IF(AV$102-AV$100=3,IF(AV89=MAX(AV$88:AV$90),10,IF(AV89=MIN(AV$88:AV$90),1,5)),IF(AV$102-AV$100=2,IF(MAX($X$118:AU$120 )=10,IF(AV89=MIN(AV$88:AV$90),1,5),IF(AV89=MIN(AV$88:AV$90),5,10)),IF(AV$102-AV$100=1,IF(AV$95=\"B\",IF(AV89=MAX(AV$88:AV$90),10,1),0),0))))","v":0},{"$f":"IF(AV119>0,AV119,IF(AW$102-AW$100=3,IF(AW89=MAX(AW$88:AW$90),10,IF(AW89=MIN(AW$88:AW$90),1,5)),IF(AW$102-AW$100=2,IF(MAX($X$118:AV$120 )=10,IF(AW89=MIN(AW$88:AW$90),1,5),IF(AW89=MIN(AW$88:AW$90),5,10)),IF(AW$102-AW$100=1,IF(AW$95=\"B\",IF(AW89=MAX(AW$88:AW$90),10,1),0),0))))","v":0},{"$f":"IF(AW119>0,AW119,IF(AX$102-AX$100=3,IF(AX89=MAX(AX$88:AX$90),10,IF(AX89=MIN(AX$88:AX$90),1,5)),IF(AX$102-AX$100=2,IF(MAX($X$118:AW$120 )=10,IF(AX89=MIN(AX$88:AX$90),1,5),IF(AX89=MIN(AX$88:AX$90),5,10)),IF(AX$102-AX$100=1,IF(AX$95=\"B\",IF(AX89=MAX(AX$88:AX$90),10,1),0),0))))","v":0},{"$f":"IF(AX119>0,AX119,IF(AY$102-AY$100=3,IF(AY89=MAX(AY$88:AY$90),10,IF(AY89=MIN(AY$88:AY$90),1,5)),IF(AY$102-AY$100=2,IF(MAX($X$118:AX$120 )=10,IF(AY89=MIN(AY$88:AY$90),1,5),IF(AY89=MIN(AY$88:AY$90),5,10)),IF(AY$102-AY$100=1,IF(AY$95=\"B\",IF(AY89=MAX(AY$88:AY$90),10,1),0),0))))","v":0},{"$f":"IF(AY119>0,AY119,IF(AZ$102-AZ$100=3,IF(AZ89=MAX(AZ$88:AZ$90),10,IF(AZ89=MIN(AZ$88:AZ$90),1,5)),IF(AZ$102-AZ$100=2,IF(MAX($X$118:AY$120 )=10,IF(AZ89=MIN(AZ$88:AZ$90),1,5),IF(AZ89=MIN(AZ$88:AZ$90),5,10)),IF(AZ$102-AZ$100=1,IF(AZ$95=\"B\",IF(AZ89=MAX(AZ$88:AZ$90),10,1),0),0))))","v":0},{"$f":"IF(AZ119>0,AZ119,IF(BA$102-BA$100=3,IF(BA89=MAX(BA$88:BA$90),10,IF(BA89=MIN(BA$88:BA$90),1,5)),IF(BA$102-BA$100=2,IF(MAX($X$118:AZ$120 )=10,IF(BA89=MIN(BA$88:BA$90),1,5),IF(BA89=MIN(BA$88:BA$90),5,10)),IF(BA$102-BA$100=1,IF(BA$95=\"B\",IF(BA89=MAX(BA$88:BA$90),10,1),0),0))))","v":0},{"$f":"IF(BA119>0,BA119,IF(BB$102-BB$100=3,IF(BB89=MAX(BB$88:BB$90),10,IF(BB89=MIN(BB$88:BB$90),1,5)),IF(BB$102-BB$100=2,IF(MAX($X$118:BA$120 )=10,IF(BB89=MIN(BB$88:BB$90),1,5),IF(BB89=MIN(BB$88:BB$90),5,10)),IF(BB$102-BB$100=1,IF(BB$95=\"B\",IF(BB89=MAX(BB$88:BB$90),10,1),0),0))))","v":0}]
[null,null,null,null,null,null,null,null,null,null,null,null,null,null,null,null,null,null,null,null,null,null,0,{"$f":"IF(X$102-X$100=3,IF(X90=MAX(X$88:X$90),10,IF(X90=MIN(X$88:X$90),1,5)),IF(X$102-X$100=2,\"later\",IF(X$102-X$100=1,IF(X$95=\"C\",IF(X90=MAX(X$88:X$90),10,1),0),0)))","v":0},{"$f":"IF(X120>0,X120,IF(Y$102-Y$100=3,IF(Y90=MAX(Y$88:Y$90),10,IF(Y90=MIN(Y$88:Y$90),1,5)),IF(Y$102-Y$100=2,IF(MAX($X$118:X$120 )=10,IF(Y90=MIN(Y$88:Y$90),1,5),IF(Y90=MIN(Y$88:Y$90),5,10)),IF(Y$102-Y$100=1,IF(Y$95=\"C\",IF(Y90=MAX(Y$88:Y$90),10,1),0),0))))","v":0},{"$f":"IF(Y120>0,Y120,IF(Z$102-Z$100=3,IF(Z90=MAX(Z$88:Z$90),10,IF(Z90=MIN(Z$88:Z$90),1,5)),IF(Z$102-Z$100=2,IF(MAX($X$118:Y$120 )=10,IF(Z90=MIN(Z$88:Z$90),1,5),IF(Z90=MIN(Z$88:Z$90),5,10)),IF(Z$102-Z$100=1,IF(Z$95=\"C\",IF(Z90=MAX(Z$88:Z$90),10,1),0),0))))","v":0},{"$f":"IF(Z120>0,Z120,IF(AA$102-AA$100=3,IF(AA90=MAX(AA$88:AA$90),10,IF(AA90=MIN(AA$88:AA$90),1,5)),IF(AA$102-AA$100=2,IF(MAX($X$118:Z$120 )=10,IF(AA90=MIN(AA$88:AA$90),1,5),IF(AA90=MIN(AA$88:AA$90),5,10)),IF(AA$102-AA$100=1,IF(AA$95=\"C\",IF(AA90=MAX(AA$88:AA$90),10,1),0),0))))","v":0},{"$f":"IF(AA120>0,AA120,IF(AB$102-AB$100=3,IF(AB90=MAX(AB$88:AB$90),10,IF(AB90=MIN(AB$88:AB$90),1,5)),IF(AB$102-AB$100=2,IF(MAX($X$118:AA$120 )=10,IF(AB90=MIN(AB$88:AB$90),1,5),IF(AB90=MIN(AB$88:AB$90),5,10)),IF(AB$102-AB$100=1,IF(AB$95=\"C\",IF(AB90=MAX(AB$88:AB$90),10,1),0),0))))","v":0},{"$f":"IF(AB120>0,AB120,IF(AC$102-AC$100=3,IF(AC90=MAX(AC$88:AC$90),10,IF(AC90=MIN(AC$88:AC$90),1,5)),IF(AC$102-AC$100=2,IF(MAX($X$118:AB$120 )=10,IF(AC90=MIN(AC$88:AC$90),1,5),IF(AC90=MIN(AC$88:AC$90),5,10)),IF(AC$102-AC$100=1,IF(AC$95=\"C\",IF(AC90=MAX(AC$88:AC$90),10,1),0),0))))","v":0},{"$f":"IF(AC120>0,AC120,IF(AD$102-AD$100=3,IF(AD90=MAX(AD$88:AD$90),10,IF(AD90=MIN(AD$88:AD$90),1,5)),IF(AD$102-AD$100=2,IF(MAX($X$118:AC$120 )=10,IF(AD90=MIN(AD$88:AD$90),1,5),IF(AD90=MIN(AD$88:AD$90),5,10)),IF(AD$102-AD$100=1,IF(AD$95=\"C\",IF(AD90=MAX(AD$88:AD$90),10,1),0),0))))","v":0},{"$f":"IF(AD120>0,AD120,IF(AE$102-AE$100=3,IF(AE90=MAX(AE$88:AE$90),10,IF(AE90=MIN(AE$88:AE$90),1,5)),IF(AE$102-AE$100=2,IF(MAX($X$118:AD$120 )=10,IF(AE90=MIN(AE$88:AE$90),1,5),IF(AE90=MIN(AE$88:AE$90),5,10)),IF(AE$102-AE$100=1,IF(AE$95=\"C\",IF(AE90=MAX(AE$88:AE$90),10,1),0),0))))","v":0},{"$f":"IF(AE120>0,AE120,IF(AF$102-AF$100=3,IF(AF90=MAX(AF$88:AF$90),10,IF(AF90=MIN(AF$88:AF$90),1,5)),IF(AF$102-AF$100=2,IF(MAX($X$118:AE$120 )=10,IF(AF90=MIN(AF$88:AF$90),1,5),IF(AF90=MIN(AF$88:AF$90),5,10)),IF(AF$102-AF$100=1,IF(AF$95=\"C\",IF(AF90=MAX(AF$88:AF$90),10,1),0),0))))","v":0},{"$f":"IF(AF120>0,AF120,IF(AG$102-AG$100=3,IF(AG90=MAX(AG$88:AG$90),10,IF(AG90=MIN(AG$88:AG$90),1,5)),IF(AG$102-AG$100=2,IF(MAX($X$118:AF$120 )=10,IF(AG90=MIN(AG$88:AG$90),1,5),IF(AG90=MIN(AG$88:AG$90),5,10)),IF(AG$102-AG$100=1,IF(AG$95=\"C\",IF(AG90=MAX(AG$88:AG$90),10,1),0),0))))","v":0},{"$f":"IF(AG120>0,AG120,IF(AH$102-AH$100=3,IF(AH90=MAX(AH$88:AH$90),10,IF(AH90=MIN(AH$88:AH$90),1,5)),IF(AH$102-AH$100=2,IF(MAX($X$118:AG$120 )=10,IF(AH90=MIN(AH$88:AH$90),1,5),IF(AH90=MIN(AH$88:AH$90),5,10)),IF(AH$102-AH$100=1,IF(AH$95=\"C\",IF(AH90=MAX(AH$88:AH$90),10,1),0),0))))","v":0},{"$f":"IF(AH120>0,AH120,IF(AI$102-AI$100=3,IF(AI90=MAX(AI$88:AI$90),10,IF(AI90=MIN(AI$88:AI$90),1,5)),IF(AI$102-AI$100=2,IF(MAX($X$118:AH$120 )=10,IF(AI90=MIN(AI$88:AI$90),1,5),IF(AI90=MIN(AI$88:AI$90),5,10)),IF(AI$102-AI$100=1,IF(AI$95=\"C\",IF(AI90=MAX(AI$88:AI$90),10,1),0),0))))","v":0},{"$f":"IF(AI120>0,AI120,IF(AJ$102-AJ$100=3,IF(AJ90=MAX(AJ$88:AJ$90),10,IF(AJ90=MIN(AJ$88:AJ$90),1,5)),IF(AJ$102-AJ$100=2,IF(MAX($X$118:AI$120 )=10,IF(AJ90=MIN(AJ$88:AJ$90),1,5),IF(AJ90=MIN(AJ$88:AJ$90),5,10)),IF(AJ$102-AJ$100=1,IF(AJ$95=\"C\",IF(AJ90=MAX(AJ$88:AJ$90),10,1),0),0))))","v":0},{"$f":"IF(AJ120>0,AJ120,IF(AK$102-AK$100=3,IF(AK90=MAX(AK$88:AK$90),10,IF(AK90=MIN(AK$88:AK$90),1,5)),IF(AK$102-AK$100=2,IF(MAX($X$118:AJ$120 )=10,IF(AK90=MIN(AK$88:AK$90),1,5),IF(AK90=MIN(AK$88:AK$90),5,10)),IF(AK$102-AK$100=1,IF(AK$95=\"C\",IF(AK90=MAX(AK$88:AK$90),10,1),0),0))))","v":0},{"$f":"IF(AK120>0,AK120,IF(AL$102-AL$100=3,IF(AL90=MAX(AL$88:AL$90),10,IF(AL90=MIN(AL$88:AL$90),1,5)),IF(AL$102-AL$100=2,IF(MAX($X$118:AK$120 )=10,IF(AL90=MIN(AL$88:AL$90),1,5),IF(AL90=MIN(AL$88:AL$90),5,10)),IF(AL$102-AL$100=1,IF(AL$95=\"C\",IF(AL90=MAX(AL$88:AL$90),10,1),0),0))))","v":0},{"$f":"IF(AL120>0,AL120,IF(AM$102-AM$100=3,IF(AM90=MAX(AM$88:AM$90),10,IF(AM90=MIN(AM$88:AM$90),1,5)),IF(AM$102-AM$100=2,IF(MAX($X$118:AL$120 )=10,IF(AM90=MIN(AM$88:AM$90),1,5),IF(AM90=MIN(AM$88:AM$90),5,10)),IF(AM$102-AM$100=1,IF(AM$95=\"C\",IF(AM90=MAX(AM$88:AM$90),10,1),0),0))))","v":0},{"$f":"IF(AM120>0,AM120,IF(AN$102-AN$100=3,IF(AN90=MAX(AN$88:AN$90),10,IF(AN90=MIN(AN$88:AN$90),1,5)),IF(AN$102-AN$100=2,IF(MAX($X$118:AM$120 )=10,IF(AN90=MIN(AN$88:AN$90),1,5),IF(AN90=MIN(AN$88:AN$90),5,10)),IF(AN$102-AN$100=1,IF(AN$95=\"C\",IF(AN90=MAX(AN$88:AN$90),10,1),0),0))))","v":0},{"$f":"IF(AN120>0,AN120,IF(AO$102-AO$100=3,IF(AO90=MAX(AO$88:AO$90),10,IF(AO90=MIN(AO$88:AO$90),1,5)),IF(AO$102-AO$100=2,IF(MAX($X$118:AN$120 )=10,IF(AO90=MIN(AO$88:AO$90),1,5),IF(AO90=MIN(AO$88:AO$90),5,10)),IF(AO$102-AO$100=1,IF(AO$95=\"C\",IF(AO90=MAX(AO$88:AO$90),10,1),0),0))))","v":0},{"$f":"IF(AO120>0,AO120,IF(AP$102-AP$100=3,IF(AP90=MAX(AP$88:AP$90),10,IF(AP90=MIN(AP$88:AP$90),1,5)),IF(AP$102-AP$100=2,IF(MAX($X$118:AO$120 )=10,IF(AP90=MIN(AP$88:AP$90),1,5),IF(AP90=MIN(AP$88:AP$90),5,10)),IF(AP$102-AP$100=1,IF(AP$95=\"C\",IF(AP90=MAX(AP$88:AP$90),10,1),0),0))))","v":0},{"$f":"IF(AP120>0,AP120,IF(AQ$102-AQ$100=3,IF(AQ90=MAX(AQ$88:AQ$90),10,IF(AQ90=MIN(AQ$88:AQ$90),1,5)),IF(AQ$102-AQ$100=2,IF(MAX($X$118:AP$120 )=10,IF(AQ90=MIN(AQ$88:AQ$90),1,5),IF(AQ90=MIN(AQ$88:AQ$90),5,10)),IF(AQ$102-AQ$100=1,IF(AQ$95=\"C\",IF(AQ90=MAX(AQ$88:AQ$90),10,1),0),0))))","v":0},{"$f":"IF(AQ120>0,AQ120,IF(AR$102-AR$100=3,IF(AR90=MAX(AR$88:AR$90),10,IF(AR90=MIN(AR$88:AR$90),1,5)),IF(AR$102-AR$100=2,IF(MAX($X$118:AQ$120 )=10,IF(AR90=MIN(AR$88:AR$90),1,5),IF(AR90=MIN(AR$88:AR$90),5,10)),IF(AR$102-AR$100=1,IF(AR$95=\"C\",IF(AR90=MAX(AR$88:AR$90),10,1),0),0))))","v":0},{"$f":"IF(AR120>0,AR120,IF(AS$102-AS$100=3,IF(AS90=MAX(AS$88:AS$90),10,IF(AS90=MIN(AS$88:AS$90),1,5)),IF(AS$102-AS$100=2,IF(MAX($X$118:AR$120 )=10,IF(AS90=MIN(AS$88:AS$90),1,5),IF(AS90=MIN(AS$88:AS$90),5,10)),IF(AS$102-AS$100=1,IF(AS$95=\"C\",IF(AS90=MAX(AS$88:AS$90),10,1),0),0))))","v":0},{"$f":"IF(AS120>0,AS120,IF(AT$102-AT$100=3,IF(AT90=MAX(AT$88:AT$90),10,IF(AT90=MIN(AT$88:AT$90),1,5)),IF(AT$102-AT$100=2,IF(MAX($X$118:AS$120 )=10,IF(AT90=MIN(AT$88:AT$90),1,5),IF(AT90=MIN(AT$88:AT$90),5,10)),IF(AT$102-AT$100=1,IF(AT$95=\"C\",IF(AT90=MAX(AT$88:AT$90),10,1),0),0))))","v":0},{"$f":"IF(AT120>0,AT120,IF(AU$102-AU$100=3,IF(AU90=MAX(AU$88:AU$90),10,IF(AU90=MIN(AU$88:AU$90),1,5)),IF(AU$102-AU$100=2,IF(MAX($X$118:AT$120 )=10,IF(AU90=MIN(AU$88:AU$90),1,5),IF(AU90=MIN(AU$88:AU$90),5,10)),IF(AU$102-AU$100=1,IF(AU$95=\"C\",IF(AU90=MAX(AU$88:AU$90),10,1),0),0))))","v":0},{"$f":"IF(AU120>0,AU120,IF(AV$102-AV$100=3,IF(AV90=MAX(AV$88:AV$90),10,IF(AV90=MIN(AV$88:AV$90),1,5)),IF(AV$102-AV$100=2,IF(MAX($X$118:AU$120 )=10,IF(AV90=MIN(AV$88:AV$90),1,5),IF(AV90=MIN(AV$88:AV$90),5,10)),IF(AV$102-AV$100=1,IF(AV$95=\"C\",IF(AV90=MAX(AV$88:AV$90),10,1),0),0))))","v":0},{"$f":"IF(AV120>0,AV120,IF(AW$102-AW$100=3,IF(AW90=MAX(AW$88:AW$90),10,IF(AW90=MIN(AW$88:AW$90),1,5)),IF(AW$102-AW$100=2,IF(MAX($X$118:AV$120 )=10,IF(AW90=MIN(AW$88:AW$90),1,5),IF(AW90=MIN(AW$88:AW$90),5,10)),IF(AW$102-AW$100=1,IF(AW$95=\"C\",IF(AW90=MAX(AW$88:AW$90),10,1),0),0))))","v":0},{"$f":"IF(AW120>0,AW120,IF(AX$102-AX$100=3,IF(AX90=MAX(AX$88:AX$90),10,IF(AX90=MIN(AX$88:AX$90),1,5)),IF(AX$102-AX$100=2,IF(MAX($X$118:AW$120 )=10,IF(AX90=MIN(AX$88:AX$90),1,5),IF(AX90=MIN(AX$88:AX$90),5,10)),IF(AX$102-AX$100=1,IF(AX$95=\"C\",IF(AX90=MAX(AX$88:AX$90),10,1),0),0))))","v":0},{"$f":"IF(AX120>0,AX120,IF(AY$102-AY$100=3,IF(AY90=MAX(AY$88:AY$90),10,IF(AY90=MIN(AY$88:AY$90),1,5)),IF(AY$102-AY$100=2,IF(MAX($X$118:AX$120 )=10,IF(AY90=MIN(AY$88:AY$90),1,5),IF(AY90=MIN(AY$88:AY$90),5,10)),IF(AY$102-AY$100=1,IF(AY$95=\"C\",IF(AY90=MAX(AY$88:AY$90),10,1),0),0))))","v":0},{"$f":"IF(AY120>0,AY120,IF(AZ$102-AZ$100=3,IF(AZ90=MAX(AZ$88:AZ$90),10,IF(AZ90=MIN(AZ$88:AZ$90),1,5)),IF(AZ$102-AZ$100=2,IF(MAX($X$118:AY$120 )=10,IF(AZ90=MIN(AZ$88:AZ$90),1,5),IF(AZ90=MIN(AZ$88:AZ$90),5,10)),IF(AZ$102-AZ$100=1,IF(AZ$95=\"C\",IF(AZ90=MAX(AZ$88:AZ$90),10,1),0),0))))","v":0},{"$f":"IF(AZ120>0,AZ120,IF(BA$102-BA$100=3,IF(BA90=MAX(BA$88:BA$90),10,IF(BA90=MIN(BA$88:BA$90),1,5)),IF(BA$102-BA$100=2,IF(MAX($X$118:AZ$120 )=10,IF(BA90=MIN(BA$88:BA$90),1,5),IF(BA90=MIN(BA$88:BA$90),5,10)),IF(BA$102-BA$100=1,IF(BA$95=\"C\",IF(BA90=MAX(BA$88:BA$90),10,1),0),0))))","v":0},{"$f":"IF(BA120>0,BA120,IF(BB$102-BB$100=3,IF(BB90=MAX(BB$88:BB$90),10,IF(BB90=MIN(BB$88:BB$90),1,5)),IF(BB$102-BB$100=2,IF(MAX($X$118:BA$120 )=10,IF(BB90=MIN(BB$88:BB$90),1,5),IF(BB90=MIN(BB$88:BB$90),5,10)),IF(BB$102-BB$100=1,IF(BB$95=\"C\",IF(BB90=MAX(BB$88:BB$90),10,1),0),0))))","v":0}]

{"sheet":"Names","index":1,"n_rows":2,"n_cols":6,"rows_kept":2,"cut":false,"hidden":false,"merged":[]}
["Team Name","Coach","Quizzer 1","Quizzer 2","Quizzer 3","Quizzer 4"]
["CEPC Greatly Annoyed","Darlene Baut","Gabrielle Baut","Ron Mahan*","Andrew Hubbard"]

{"sheet":"Sheet3","index":2,"n_rows":134,"n_cols":54,"rows_kept":134,"cut":false,"hidden":true,"merged":[]}
[null,null,null,1,2,3,4,5,6,7,8,9,10,11,12,"a","b",13,"a","b",14,"a","b",15]
[null,null,null,"R",{"$f":"IF(SUM(Scoresheet!E23,Scoresheet!E65,Scoresheet!E44)=0,\"R\",\"T\")","v":"R"},{"$f":"IF(SUM(Scoresheet!F24,Scoresheet!F66,Scoresheet!F45)=0,\"R\",IF(E2=\"R\",\"T\",\"F\"))","v":"R"},{"$f":"IF(SUM(Scoresheet!G24,Scoresheet!G66,Scoresheet!G45)=0,\"R\",IF(F2=\"R\",\"T\",\"F\"))","v":"R"},{"$f":"IF(SUM(Scoresheet!H24,Scoresheet!H66,Scoresheet!H45)=0,\"R\",IF(G2=\"R\",\"T\",\"F\"))","v":"R"},{"$f":"IF(SUM(Scoresheet!I24,Scoresheet!I66,Scoresheet!I45)=0,\"R\",IF(H2=\"R\",\"T\",\"F\"))","v":"R"},{"$f":"IF(SUM(Scoresheet!J24,Scoresheet!J66,Scoresheet!J45)=0,\"R\",IF(I2=\"R\",\"T\",\"F\"))","v":"R"},{"$f":"IF(SUM(Scoresheet!K24,Scoresheet!K66,Scoresheet!K45)=0,\"R\",IF(J2=\"R\",\"T\",\"F\"))","v":"R"},{"$f":"IF(SUM(Scoresheet!L24,Scoresheet!L66,Scoresheet!L45)=0,\"R\",IF(K2=\"R\",\"T\",\"F\"))","v":"R"},{"$f":"IF(SUM(Scoresheet!M24,Scoresheet!M66,Scoresheet!M45)=0,\"R\",IF(L2=\"R\",\"T\",\"F\"))","v":"R"},{"$f":"IF(SUM(Scoresheet!N24,Scoresheet!N66,Scoresheet!N45)=0,\"R\",IF(M2=\"R\",\"T\",\"F\"))","v":"R"},{"$f":"IF(SUM(Scoresheet!O24,Scoresheet!O66,Scoresheet!O45)=0,\"R\",IF(N2=\"R\",\"T\",\"F\"))","v":"R"},{"$f":"IF(SUM(Scoresheet!P24,Scoresheet!P66,Scoresheet!P45)=0,\"R\",IF(O2=\"R\",\"T\",\"F\"))","v":"R"},"F","R","T","F","R","T","F","R",{"$f":"IF(Scoresheet!X97=1,\"R\",IF(Scoresheet!X98=1,\"T\",IF(Scoresheet!X99=1,\"F\",0)))","v":0},{"$f":"IF(Scoresheet!Y97=1,\"R\",IF(Scoresheet!Y98=1,\"T\",IF(Scoresheet!Y99=1,\"F\",0)))","v":0},{"$f":"IF(Scoresheet!Z97=1,\"R\",IF(Scoresheet!Z98=1,\"T\",IF(Scoresheet!Z99=1,\"F\",0)))","v":0},{"$f":"IF(Scoresheet!AA97=1,\"R\",IF(Scoresheet!AA98=1,\"T\",IF(Scoresheet!AA99=1,\"F\",0)))","v":0},{"$f":"IF(Scoresheet!AB97=1,\"R\",IF(Scoresheet!AB98=1,\"T\",IF(Scoresheet!AB99=1,\"F\",0)))","v":0},{"$f":"IF(Scoresheet!AC97=1,\"R\",IF(Scoresheet!AC98=1,\"T\",IF(Scoresheet!AC99=1,\"F\",0)))","v":0},{"$f":"IF(Scoresheet!AD97=1,\"R\",IF(Scoresheet!AD98=1,\"T\",IF(Scoresheet!AD99=1,\"F\",0)))","v":0},{"$f":"IF(Scoresheet!AE97=1,\"R\",IF(Scoresheet!AE98=1,\"T\",IF(Scoresheet!AE99=1,\"F\",0)))","v":0},{"$f":"IF(Scoresheet!AF97=1,\"R\",IF(Scoresheet!AF98=1,\"T\",IF(Scoresheet!AF99=1,\"F\",0)))","v":0},{"$f":"IF(Scoresheet!AG97=1,\"R\",IF(Scoresheet!AG98=1,\"T\",IF(Scoresheet!AG99=1,\"F\",0)))","v":0},{"$f":"IF(Scoresheet!AH97=1,\"R\",IF(Scoresheet!AH98=1,\"T\",IF(Scoresheet!AH99=1,\"F\",0)))","v":0},{"$f":"IF(Scoresheet!AI97=1,\"R\",IF(Scoresheet!AI98=1,\"T\",IF(Scoresheet!AI99=1,\"F\",0)))","v":0},{"$f":"IF(Scoresheet!AJ97=1,\"R\",IF(Scoresheet!AJ98=1,\"T\",IF(Scoresheet!AJ99=1,\"F\",0)))","v":0},{"$f":"IF(Scoresheet!AK97=1,\"R\",IF(Scoresheet!AK98=1,\"T\",IF(Scoresheet!AK99=1,\"F\",0)))","v":0},{"$f":"IF(Scoresheet!AL97=1,\"R\",IF(Scoresheet!AL98=1,\"T\",IF(Scoresheet!AL99=1,\"F\",0)))","v":0},{"$f":"IF(Scoresheet!AM97=1,\"R\",IF(Scoresheet!AM98=1,\"T\",IF(Scoresheet!AM99=1,\"F\",0)))","v":0},{"$f":"IF(Scoresheet!AN97=1,\"R\",IF(Scoresheet!AN98=1,\"T\",IF(Scoresheet!AN99=1,\"F\",0)))","v":0},{"$f":"IF(Scoresheet!AO97=1,\"R\",IF(Scoresheet!AO98=1,\"T\",IF(Scoresheet!AO99=1,\"F\",0)))","v":0},{"$f":"IF(Scoresheet!AP97=1,\"R\",IF(Scoresheet!AP98=1,\"T\",IF(Scoresheet!AP99=1,\"F\",0)))","v":0},{"$f":"IF(Scoresheet!AQ97=1,\"R\",IF(Scoresheet!AQ98=1,\"T\",IF(Scoresheet!AQ99=1,\"F\",0)))","v":0},{"$f":"IF(Scoresheet!AR97=1,\"R\",IF(Scoresheet!AR98=1,\"T\",IF(Scoresheet!AR99=1,\"F\",0)))","v":0},{"$f":"IF(Scoresheet!AS97=1,\"R\",IF(Scoresheet!AS98=1,\"T\",IF(Scoresheet!AS99=1,\"F\",0)))","v":0},{"$f":"IF(Scoresheet!AT97=1,\"R\",IF(Scoresheet!AT98=1,\"T\",IF(Scoresheet!AT99=1,\"F\",0)))","v":0},{"$f":"IF(Scoresheet!AU97=1,\"R\",IF(Scoresheet!AU98=1,\"T\",IF(Scoresheet!AU99=1,\"F\",0)))","v":0},{"$f":"IF(Scoresheet!AV97=1,\"R\",IF(Scoresheet!AV98=1,\"T\",IF(Scoresheet!AV99=1,\"F\",0)))","v":0},{"$f":"IF(Scoresheet!AW97=1,\"R\",IF(Scoresheet!AW98=1,\"T\",IF(Scoresheet!AW99=1,\"F\",0)))","v":0},{"$f":"IF(Scoresheet!AX97=1,\"R\",IF(Scoresheet!AX98=1,\"T\",IF(Scoresheet!AX99=1,\"F\",0)))","v":0},{"$f":"IF(Scoresheet!AY97=1,\"R\",IF(Scoresheet!AY98=1,\"T\",IF(Scoresheet!AY99=1,\"F\",0)))","v":0},{"$f":"IF(Scoresheet!AZ97=1,\"R\",IF(Scoresheet!AZ98=1,\"T\",IF(Scoresheet!AZ99=1,\"F\",0)))","v":0},{"$f":"IF(Scoresheet!BA97=1,\"R\",IF(Scoresheet!BA98=1,\"T\",IF(Scoresheet!BA99=1,\"F\",0)))","v":0}]
[]
[]
[]
[]
[]
[]
[]
[]
[]
[]
[]
[]
[]
[null,null,{"$f":"Scoresheet!C16","v":"Team Name"}]
[null,null,{"$f":"Scoresheet!C17","v":"Quizzer #1"},20,{"$f":"IF(D22>2,\".\",IF(D27=2,IF(D22=0,IF(Scoresheet!E25=20,30,Scoresheet!E25),Scoresheet!E25),IF(E27>2,IF(E$2=\"R\",\".\",Scoresheet!E25),Scoresheet!E25)))","v":20},{"$f":"IF(E22>2,\".\",IF(E27=2,IF(E22=0,IF(Scoresheet!F25=20,30,Scoresheet!F25),Scoresheet!F25),IF(F27>2,IF(F$2=\"R\",\".\",Scoresheet!F25),Scoresheet!F25)))","v":20},{"$f":"IF(F22>2,\".\",IF(F27=2,IF(F22=0,IF(Scoresheet!G25=20,30,Scoresheet!G25),Scoresheet!G25),IF(G27>2,IF(G$2=\"R\",\".\",Scoresheet!G25),Scoresheet!G25)))","v":20},{"$f":"IF(G22>2,\".\",IF(G27=2,IF(G22=0,IF(Scoresheet!H25=20,30,Scoresheet!H25),Scoresheet!H25),IF(H27>2,IF(H$2=\"R\",\".\",Scoresheet!H25),Scoresheet!H25)))","v":20},{"$f":"IF(H22>2,\".\",IF(H27=2,IF(H22=0,IF(Scoresheet!I25=20,30,Scoresheet!I25),Scoresheet!I25),IF(I27>2,IF(I$2=\"R\",\".\",Scoresheet!I25),Scoresheet!I25)))","v":20},{"$f":"IF(I22>2,\".\",IF(I27=2,IF(I22=0,IF(Scoresheet!J25=20,30,Scoresheet!J25),Scoresheet!J25),IF(J27>2,IF(J$2=\"R\",\".\",Scoresheet!J25),Scoresheet!J25)))","v":20},{"$f":"IF(J22>2,\".\",IF(J27=2,IF(J22=0,IF(Scoresheet!K25=20,30,Scoresheet!K25),Scoresheet!K25),IF(K27>2,IF(K$2=\"R\",\".\",Scoresheet!K25),Scoresheet!K25)))","v":20},{"$f":"IF(K22>2,\".\",IF(K27=2,IF(K22=0,IF(Scoresheet!L25=20,30,Scoresheet!L25),Scoresheet!L25),IF(L27>2,IF(L$2=\"R\",\".\",Scoresheet!L25),Scoresheet!L25)))","v":20},{"$f":"IF(L22>2,\".\",IF(L27=2,IF(L22=0,IF(Scoresheet!M25=20,30,Scoresheet!M25),Scoresheet!M25),IF(M27>2,IF(M$2=\"R\",\".\",Scoresheet!M25),Scoresheet!M25)))","v":20},{"$f":"IF(M22>2,\".\",IF(M27=2,IF(M22=0,IF(Scoresheet!N25=20,30,Scoresheet!N25),Scoresheet!N25),IF(N27>2,IF(N$2=\"R\",\".\",Scoresheet!N25),Scoresheet!N25)))","v":20},{"$f":"IF(N22>2,\".\",IF(N27=2,IF(N22=0,IF(Scoresheet!O25=20,30,Scoresheet!O25),Scoresheet!O25),IF(O27>2,IF(O$2=\"R\",\".\",Scoresheet!O25),Scoresheet!O25)))","v":20},{"$f":"IF(O22>2,\".\",IF(O27=2,IF(O22=0,IF(Scoresheet!P25=20,30,Scoresheet!P25),Scoresheet!P25),IF(P27>2,IF(P$2=\"R\",\".\",Scoresheet!P25),Scoresheet!P25)))","v":20},{"$f":"IF(P22>2,\".\",IF(P27=2,IF(P22=0,IF(Scoresheet!Q25=20,30,Scoresheet!Q25),Scoresheet!Q25),IF(Q27>2,IF(Q$2=\"R\",\".\",Scoresheet!Q25),Scoresheet!Q25)))","v":10},{"$f":"IF(Q22>2,\".\",IF(Q27=2,IF(Q22=0,IF(Scoresheet!R25=20,30,Scoresheet!R25),Scoresheet!R25),IF(R27>2,IF(R$2=\"R\",\".\",Scoresheet!R25),Scoresheet!R25)))","v":20},{"$f":"IF(R22>2,\".\",IF(R27=2,IF(R22=0,IF(Scoresheet!S25=20,30,Scoresheet!S25),Scoresheet!S25),IF(S27>2,IF(S$2=\"R\",\".\",Scoresheet!S25),Scoresheet!S25)))","v":20},{"$f":"IF(S22>2,\".\",IF(S27=2,IF(S22=0,IF(Scoresheet!T25=20,30,Scoresheet!T25),Scoresheet!T25),IF(T27>2,IF(T$2=\"R\",\".\",Scoresheet!T25),Scoresheet!T25)))","v":10},{"$f":"IF(T22>2,\".\",IF(T27=2,IF(T22=0,IF(Scoresheet!U25=20,30,Scoresheet!U25),Scoresheet!U25),IF(U27>2,IF(U$2=\"R\",\".\",Scoresheet!U25),Scoresheet!U25)))","v":20},{"$f":"IF(U22>2,\".\",IF(U27=2,IF(U22=0,IF(Scoresheet!V25=20,30,Scoresheet!V25),Scoresheet!V25),IF(V27>2,IF(V$2=\"R\",\".\",Scoresheet!V25),Scoresheet!V25)))","v":20},{"$f":"IF(V22>2,\".\",IF(V27=2,IF(V22=0,IF(Scoresheet!W25=20,30,Scoresheet!W25),Scoresheet!W25),IF(W27>2,IF(W$2=\"R\",\".\",Scoresheet!W25),Scoresheet!W25)))","v":10},{"$f":"IF(W22>2,\".\",IF(W27=2,IF(W22=0,IF(Scoresheet!X25=20,30,Scoresheet!X25),Scoresheet!X25),IF(X27>2,IF(X$2=\"R\",\".\",Scoresheet!X25),Scoresheet!X25)))","v":20},{"$f":"IF(X22>2,\".\",IF(X27=2,IF(X22=0,IF(Scoresheet!Y25=20,30,Scoresheet!Y25),Scoresheet!Y25),IF(Y27>2,IF(Y$2=\"R\",\".\",Scoresheet!Y25),Scoresheet!Y25)))","v":"?"},{"$f":"IF(Y22>2,\".\",IF(Y27=2,IF(Y22=0,IF(Scoresheet!Z25=20,30,Scoresheet!Z25),Scoresheet!Z25),IF(Z27>2,IF(Z$2=\"R\",\".\",Scoresheet!Z25),Scoresheet!Z25)))","v":"?"},{"$f":"IF(Z22>2,\".\",IF(Z27=2,IF(Z22=0,IF(Scoresheet!AA25=20,30,Scoresheet!AA25),Scoresheet!AA25),IF(AA27>2,IF(AA$2=\"R\",\".\",Scoresheet!AA25),Scoresheet!AA25)))","v":"?"},{"$f":"IF(AA22>2,\".\",IF(AA27=2,IF(AA22=0,IF(Scoresheet!AB25=20,30,Scoresheet!AB25),Scoresheet!AB25),IF(AB27>2,IF(AB$2=\"R\",\".\",Scoresheet!AB25),Scoresheet!AB25)))","v":"?"},{"$f":"IF(AB22>2,\".\",IF(AB27=2,IF(AB22=0,IF(Scoresheet!AC25=20,30,Scoresheet!AC25),Scoresheet!AC25),IF(AC27>2,IF(AC$2=\"R\",\".\",Scoresheet!AC25),Scoresheet!AC25)))","v":"?"},{"$f":"IF(AC22>2,\".\",IF(AC27=2,IF(AC22=0,IF(Scoresheet!AD25=20,30,Scoresheet!AD25),Scoresheet!AD25),IF(AD27>2,IF(AD$2=\"R\",\".\",Scoresheet!AD25),Scoresheet!AD25)))","v":"?"},{"$f":"IF(AD22>2,\".\",IF(AD27=2,IF(AD22=0,IF(Scoresheet!AE25=20,30,Scoresheet!AE25),Scoresheet!AE25),IF(AE27>2,IF(AE$2=\"R\",\".\",Scoresheet!AE25),Scoresheet!AE25)))","v":"?"},{"$f":"IF(AE22>2,\".\",IF(AE27=2,IF(AE22=0,IF(Scoresheet!AF25=20,30,Scoresheet!AF25),Scoresheet!AF25),IF(AF27>2,IF(AF$2=\"R\",\".\",Scoresheet!AF25),Scoresheet!AF25)))","v":"?"},{"$f":"IF(AF22>2,\".\",IF(AF27=2,IF(AF22=0,IF(Scoresheet!AG25=20,30,Scoresheet!AG25),Scoresheet!AG25),IF(AG27>2,IF(AG$2=\"R\",\".\",Scoresheet!AG25),Scoresheet!AG25)))","v":"?"},{"$f":"IF(AG22>2,\".\",IF(AG27=2,IF(AG22=0,IF(Scoresheet!AH25=20,30,Scoresheet!AH25),Scoresheet!AH25),IF(AH27>2,IF(AH$2=\"R\",\".\",Scoresheet!AH25),Scoresheet!AH25)))","v":"?"},{"$f":"IF(AH22>2,\".\",IF(AH27=2,IF(AH22=0,IF(Scoresheet!AI25=20,30,Scoresheet!AI25),Scoresheet!AI25),IF(AI27>2,IF(AI$2=\"R\",\".\",Scoresheet!AI25),Scoresheet!AI25)))","v":"?"},{"$f":"IF(AI22>2,\".\",IF(AI27=2,IF(AI22=0,IF(Scoresheet!AJ25=20,30,Scoresheet!AJ25),Scoresheet!AJ25),IF(AJ27>2,IF(AJ$2=\"R\",\".\",Scoresheet!AJ25),Scoresheet!AJ25)))","v":"?"},{"$f":"IF(AJ22>2,\".\",IF(AJ27=2,IF(AJ22=0,IF(Scoresheet!AK25=20,30,Scoresheet!AK25),Scoresheet!AK25),IF(AK27>2,IF(AK$2=\"R\",\".\",Scoresheet!AK25),Scoresheet!AK25)))","v":"?"},{"$f":"IF(AK22>2,\".\",IF(AK27=2,IF(AK22=0,IF(Scoresheet!AL25=20,30,Scoresheet!AL25),Scoresheet!AL25),IF(AL27>2,IF(AL$2=\"R\",\".\",Scoresheet!AL25),Scoresheet!AL25)))","v":"?"},{"$f":"IF(AL22>2,\".\",IF(AL27=2,IF(AL22=0,IF(Scoresheet!AM25=20,30,Scoresheet!AM25),Scoresheet!AM25),IF(AM27>2,IF(AM$2=\"R\",\".\",Scoresheet!AM25),Scoresheet!AM25)))","v":"?"},{"$f":"IF(AM22>2,\".\",IF(AM27=2,IF(AM22=0,IF(Scoresheet!AN25=20,30,Scoresheet!AN25),Scoresheet!AN25),IF(AN27>2,IF(AN$2=\"R\",\".\",Scoresheet!AN25),Scoresheet!AN25)))","v":"?"},{"$f":"IF(AN22>2,\".\",IF(AN27=2,IF(AN22=0,IF(Scoresheet!AO25=20,30,Scoresheet!AO25),Scoresheet!AO25),IF(AO27>2,IF(AO$2=\"R\",\".\",Scoresheet!AO25),Scoresheet!AO25)))","v":"?"},{"$f":"IF(AO22>2,\".\",IF(AO27=2,IF(AO22=0,IF(Scoresheet!AP25=20,30,Scoresheet!AP25),Scoresheet!AP25),IF(AP27>2,IF(AP$2=\"R\",\".\",Scoresheet!AP25),Scoresheet!AP25)))","v":"?"},{"$f":"IF(AP22>2,\".\",IF(AP27=2,IF(AP22=0,IF(Scoresheet!AQ25=20,30,Scoresheet!AQ25),Scoresheet!AQ25),IF(AQ27>2,IF(AQ$2=\"R\",\".\",Scoresheet!AQ25),Scoresheet!AQ25)))","v":"?"},{"$f":"IF(AQ22>2,\".\",IF(AQ27=2,IF(AQ22=0,IF(Scoresheet!AR25=20,30,Scoresheet!AR25),Scoresheet!AR25),IF(AR27>2,IF(AR$2=\"R\",\".\",Scoresheet!AR25),Scoresheet!AR25)))","v":"?"},{"$f":"IF(AR22>2,\".\",IF(AR27=2,IF(AR22=0,IF(Scoresheet!AS25=20,30,Scoresheet!AS25),Scoresheet!AS25),IF(AS27>2,IF(AS$2=\"R\",\".\",Scoresheet!AS25),Scoresheet!AS25)))","v":"?"},{"$f":"IF(AS22>2,\".\",IF(AS27=2,IF(AS22=0,IF(Scoresheet!AT25=20,30,Scoresheet!AT25),Scoresheet!AT25),IF(AT27>2,IF(AT$2=\"R\",\".\",Scoresheet!AT25),Scoresheet!AT25)))","v":"?"},{"$f":"IF(AT22>2,\".\",IF(AT27=2,IF(AT22=0,IF(Scoresheet!AU25=20,30,Scoresheet!AU25),Scoresheet!AU25),IF(AU27>2,IF(AU$2=\"R\",\".\",Scoresheet!AU25),Scoresheet!AU25)))","v":"?"},{"$f":"IF(AU22>2,\".\",IF(AU27=2,IF(AU22=0,IF(Scoresheet!AV25=20,30,Scoresheet!AV25),Scoresheet!AV25),IF(AV27>2,IF(AV$2=\"R\",\".\",Scoresheet!AV25),Scoresheet!AV25)))","v":"?"},{"$f":"IF(AV22>2,\".\",IF(AV27=2,IF(AV22=0,IF(Scoresheet!AW25=20,30,Scoresheet!AW25),Scoresheet!AW25),IF(AW27>2,IF(AW$2=\"R\",\".\",Scoresheet!AW25),Scoresheet!AW25)))","v":"?"},{"$f":"IF(AW22>2,\".\",IF(AW27=2,IF(AW22=0,IF(Scoresheet!AX25=20,30,Scoresheet!AX25),Scoresheet!AX25),IF(AX27>2,IF(AX$2=\"R\",\".\",Scoresheet!AX25),Scoresheet!AX25)))","v":"?"},{"$f":"IF(AX22>2,\".\",IF(AX27=2,IF(AX22=0,IF(Scoresheet!AY25=20,30,Scoresheet!AY25),Scoresheet!AY25),IF(AY27>2,IF(AY$2=\"R\",\".\",Scoresheet!AY25),Scoresheet!AY25)))","v":"?"},{"$f":"IF(AY22>2,\".\",IF(AY27=2,IF(AY22=0,IF(Scoresheet!AZ25=20,30,Scoresheet!AZ25),Scoresheet!AZ25),IF(AZ27>2,IF(AZ$2=\"R\",\".\",Scoresheet!AZ25),Scoresheet!AZ25)))","v":"?"},{"$f":"IF(AZ22>2,\".\",IF(AZ27=2,IF(AZ22=0,IF(Scoresheet!BA25=20,30,Scoresheet!BA25),Scoresheet!BA25),IF(BA27>2,IF(BA$2=\"R\",\".\",Scoresheet!BA25),Scoresheet!BA25)))","v":"?"},{"$f":"IF(BA22>2,\".\",IF(BA27=2,IF(BA22=0,IF(Scoresheet!BB25=20,30,Scoresheet!BB25),Scoresheet!BB25),IF(BB27>2,IF(BB$2=\"R\",\".\",Scoresheet!BB25),Scoresheet!BB25)))","v":"?"}]
[null,null,{"$f":"Scoresheet!C18","v":"Quizzer #2"},20,{"$f":"IF(D23>2,\".\",IF(D28=2,IF(D23=0,IF(Scoresheet!E25=20,30,Scoresheet!E25),Scoresheet!E25),IF(E28>2,IF(E$2=\"R\",\".\",Scoresheet!E25),Scoresheet!E25)))","v":20},{"$f":"IF(E23>2,\".\",IF(E28=2,IF(E23=0,IF(Scoresheet!F25=20,30,Scoresheet!F25),Scoresheet!F25),IF(F28>2,IF(F$2=\"R\",\".\",Scoresheet!F25),Scoresheet!F25)))","v":20},{"$f":"IF(F23>2,\".\",IF(F28=2,IF(F23=0,IF(Scoresheet!G25=20,30,Scoresheet!G25),Scoresheet!G25),IF(G28>2,IF(G$2=\"R\",\".\",Scoresheet!G25),Scoresheet!G25)))","v":20},{"$f":"IF(G23>2,\".\",IF(G28=2,IF(G23=0,IF(Scoresheet!H25=20,30,Scoresheet!H25),Scoresheet!H25),IF(H28>2,IF(H$2=\"R\",\".\",Scoresheet!H25),Scoresheet!H25)))","v":20},{"$f":"IF(H23>2,\".\",IF(H28=2,IF(H23=0,IF(Scoresheet!I25=20,30,Scoresheet!I25),Scoresheet!I25),IF(I28>2,IF(I$2=\"R\",\".\",Scoresheet!I25),Scoresheet!I25)))","v":20},{"$f":"IF(I23>2,\".\",IF(I28=2,IF(I23=0,IF(Scoresheet!J25=20,30,Scoresheet!J25),Scoresheet!J25),IF(J28>2,IF(J$2=\"R\",\".\",Scoresheet!J25),Scoresheet!J25)))","v":20},{"$f":"IF(J23>2,\".\",IF(J28=2,IF(J23=0,IF(Scoresheet!K25=20,30,Scoresheet!K25),Scoresheet!K25),IF(K28>2,IF(K$2=\"R\",\".\",Scoresheet!K25),Scoresheet!K25)))","v":20},{"$f":"IF(K23>2,\".\",IF(K28=2,IF(K23=0,IF(Scoresheet!L25=20,30,Scoresheet!L25),Scoresheet!L25),IF(L28>2,IF(L$2=\"R\",\".\",Scoresheet!L25),Scoresheet!L25)))","v":20},{"$f":"IF(L23>2,\".\",IF(L28=2,IF(L23=0,IF(Scoresheet!M25=20,30,Scoresheet!M25),Scoresheet!M25),IF(M28>2,IF(M$2=\"R\",\".\",Scoresheet!M25),Scoresheet!M25)))","v":20},{"$f":"IF(M23>2,\".\",IF(M28=2,IF(M23=0,IF(Scoresheet!N25=20,30,Scoresheet!N25),Scoresheet!N25),IF(N28>2,IF(N$2=\"R\",\".\",Scoresheet!N25),Scoresheet!N25)))","v":20},{"$f":"IF(N23>2,\".\",IF(N28=2,IF(N23=0,IF(Scoresheet!O25=20,30,Scoresheet!O25),Scoresheet!O25),IF(O28>2,IF(O$2=\"R\",\".\",Scoresheet!O25),Scoresheet!O25)))","v":20},{"$f":"IF(O23>2,\".\",IF(O28=2,IF(O23=0,IF(Scoresheet!P25=20,30,Scoresheet!P25),Scoresheet!P25),IF(P28>2,IF(P$2=\"R\",\".\",Scoresheet!P25),Scoresheet!P25)))","v":20},{"$f":"IF(P23>2,\".\",IF(P28=2,IF(P23=0,IF(Scoresheet!Q25=20,30,Scoresheet!Q25),Scoresheet!Q25),IF(Q28>2,IF(Q$2=\"R\",\".\",Scoresheet!Q25),Scoresheet!Q25)))","v":10},{"$f":"IF(Q23>2,\".\",IF(Q28=2,IF(Q23=0,IF(Scoresheet!R25=20,30,Scoresheet!R25),Scoresheet!R25),IF(R28>2,IF(R$2=\"R\",\".\",Scoresheet!R25),Scoresheet!R25)))","v":20},{"$f":"IF(R23>2,\".\",IF(R28=2,IF(R23=0,IF(Scoresheet!S25=20,30,Scoresheet!S25),Scoresheet!S25),IF(S28>2,IF(S$2=\"R\",\".\",Scoresheet!S25),Scoresheet!S25)))","v":20},{"$f":"IF(S23>2,\".\",IF(S28=2,IF(S23=0,IF(Scoresheet!T25=20,30,Scoresheet!T25),Scoresheet!T25),IF(T28>2,IF(T$2=\"R\",\".\",Scoresheet!T25),Scoresheet!T25)))","v":10},{"$f":"IF(T23>2,\".\",IF(T28=2,IF(T23=0,IF(Scoresheet!U25=20,30,Scoresheet!U25),Scoresheet!U25),IF(U28>2,IF(U$2=\"R\",\".\",Scoresheet!U25),Scoresheet!U25)))","v":20},{"$f":"IF(U23>2,\".\",IF(U28=2,IF(U23=0,IF(Scoresheet!V25=20,30,Scoresheet!V25),Scoresheet!V25),IF(V28>2,IF(V$2=\"R\",\".\",Scoresheet!V25),Scoresheet!V25)))","v":20},{"$f":"IF(V23>2,\".\",IF(V28=2,IF(V23=0,IF(Scoresheet!W25=20,30,Scoresheet!W25),Scoresheet!W25),IF(W28>2,IF(W$2=\"R\",\".\",Scoresheet!W25),Scoresheet!W25)))","v":10},{"$f":"IF(W23>2,\".\",IF(W28=2,IF(W23=0,IF(Scoresheet!X25=20,30,Scoresheet!X25),Scoresheet!X25),IF(X28>2,IF(X$2=\"R\",\".\",Scoresheet!X25),Scoresheet!X25)))","v":20},{"$f":"IF(X23>2,\".\",IF(X28=2,IF(X23=0,IF(Scoresheet!Y25=20,30,Scoresheet!Y25),Scoresheet!Y25),IF(Y28>2,IF(Y$2=\"R\",\".\",Scoresheet!Y25),Scoresheet!Y25)))","v":"?"},{"$f":"IF(Y23>2,\".\",IF(Y28=2,IF(Y23=0,IF(Scoresheet!Z25=20,30,Scoresheet!Z25),Scoresheet!Z25),IF(Z28>2,IF(Z$2=\"R\",\".\",Scoresheet!Z25),Scoresheet!Z25)))","v":"?"},{"$f":"IF(Z23>2,\".\",IF(Z28=2,IF(Z23=0,IF(Scoresheet!AA25=20,30,Scoresheet!AA25),Scoresheet!AA25),IF(AA28>2,IF(AA$2=\"R\",\".\",Scoresheet!AA25),Scoresheet!AA25)))","v":"?"},{"$f":"IF(AA23>2,\".\",IF(AA28=2,IF(AA23=0,IF(Scoresheet!AB25=20,30,Scoresheet!AB25),Scoresheet!AB25),IF(AB28>2,IF(AB$2=\"R\",\".\",Scoresheet!AB25),Scoresheet!AB25)))","v":"?"},{"$f":"IF(AB23>2,\".\",IF(AB28=2,IF(AB23=0,IF(Scoresheet!AC25=20,30,Scoresheet!AC25),Scoresheet!AC25),IF(AC28>2,IF(AC$2=\"R\",\".\",Scoresheet!AC25),Scoresheet!AC25)))","v":"?"},{"$f":"IF(AC23>2,\".\",IF(AC28=2,IF(AC23=0,IF(Scoresheet!AD25=20,30,Scoresheet!AD25),Scoresheet!AD25),IF(AD28>2,IF(AD$2=\"R\",\".\",Scoresheet!AD25),Scoresheet!AD25)))","v":"?"},{"$f":"IF(AD23>2,\".\",IF(AD28=2,IF(AD23=0,IF(Scoresheet!AE25=20,30,Scoresheet!AE25),Scoresheet!AE25),IF(AE28>2,IF(AE$2=\"R\",\".\",Scoresheet!AE25),Scoresheet!AE25)))","v":"?"},{"$f":"IF(AE23>2,\".\",IF(AE28=2,IF(AE23=0,IF(Scoresheet!AF25=20,30,Scoresheet!AF25),Scoresheet!AF25),IF(AF28>2,IF(AF$2=\"R\",\".\",Scoresheet!AF25),Scoresheet!AF25)))","v":"?"},{"$f":"IF(AF23>2,\".\",IF(AF28=2,IF(AF23=0,IF(Scoresheet!AG25=20,30,Scoresheet!AG25),Scoresheet!AG25),IF(AG28>2,IF(AG$2=\"R\",\".\",Scoresheet!AG25),Scoresheet!AG25)))","v":"?"},{"$f":"IF(AG23>2,\".\",IF(AG28=2,IF(AG23=0,IF(Scoresheet!AH25=20,30,Scoresheet!AH25),Scoresheet!AH25),IF(AH28>2,IF(AH$2=\"R\",\".\",Scoresheet!AH25),Scoresheet!AH25)))","v":"?"},{"$f":"IF(AH23>2,\".\",IF(AH28=2,IF(AH23=0,IF(Scoresheet!AI25=20,30,Scoresheet!AI25),Scoresheet!AI25),IF(AI28>2,IF(AI$2=\"R\",\".\",Scoresheet!AI25),Scoresheet!AI25)))","v":"?"},{"$f":"IF(AI23>2,\".\",IF(AI28=2,IF(AI23=0,IF(Scoresheet!AJ25=20,30,Scoresheet!AJ25),Scoresheet!AJ25),IF(AJ28>2,IF(AJ$2=\"R\",\".\",Scoresheet!AJ25),Scoresheet!AJ25)))","v":"?"},{"$f":"IF(AJ23>2,\".\",IF(AJ28=2,IF(AJ23=0,IF(Scoresheet!AK25=20,30,Scoresheet!AK25),Scoresheet!AK25),IF(AK28>2,IF(AK$2=\"R\",\".\",Scoresheet!AK25),Scoresheet!AK25)))","v":"?"},{"$f":"IF(AK23>2,\".\",IF(AK28=2,IF(AK23=0,IF(Scoresheet!AL25=20,30,Scoresheet!AL25),Scoresheet!AL25),IF(AL28>2,IF(AL$2=\"R\",\".\",Scoresheet!AL25),Scoresheet!AL25)))","v":"?"},{"$f":"IF(AL23>2,\".\",IF(AL28=2,IF(AL23=0,IF(Scoresheet!AM25=20,30,Scoresheet!AM25),Scoresheet!AM25),IF(AM28>2,IF(AM$2=\"R\",\".\",Scoresheet!AM25),Scoresheet!AM25)))","v":"?"},{"$f":"IF(AM23>2,\".\",IF(AM28=2,IF(AM23=0,IF(Scoresheet!AN25=20,30,Scoresheet!AN25),Scoresheet!AN25),IF(AN28>2,IF(AN$2=\"R\",\".\",Scoresheet!AN25),Scoresheet!AN25)))","v":"?"},{"$f":"IF(AN23>2,\".\",IF(AN28=2,IF(AN23=0,IF(Scoresheet!AO25=20,30,Scoresheet!AO25),Scoresheet!AO25),IF(AO28>2,IF(AO$2=\"R\",\".\",Scoresheet!AO25),Scoresheet!AO25)))","v":"?"},{"$f":"IF(AO23>2,\".\",IF(AO28=2,IF(AO23=0,IF(Scoresheet!AP25=20,30,Scoresheet!AP25),Scoresheet!AP25),IF(AP28>2,IF(AP$2=\"R\",\".\",Scoresheet!AP25),Scoresheet!AP25)))","v":"?"},{"$f":"IF(AP23>2,\".\",IF(AP28=2,IF(AP23=0,IF(Scoresheet!AQ25=20,30,Scoresheet!AQ25),Scoresheet!AQ25),IF(AQ28>2,IF(AQ$2=\"R\",\".\",Scoresheet!AQ25),Scoresheet!AQ25)))","v":"?"},{"$f":"IF(AQ23>2,\".\",IF(AQ28=2,IF(AQ23=0,IF(Scoresheet!AR25=20,30,Scoresheet!AR25),Scoresheet!AR25),IF(AR28>2,IF(AR$2=\"R\",\".\",Scoresheet!AR25),Scoresheet!AR25)))","v":"?"},{"$f":"IF(AR23>2,\".\",IF(AR28=2,IF(AR23=0,IF(Scoresheet!AS25=20,30,Scoresheet!AS25),Scoresheet!AS25),IF(AS28>2,IF(AS$2=\"R\",\".\",Scoresheet!AS25),Scoresheet!AS25)))","v":"?"},{"$f":"IF(AS23>2,\".\",IF(AS28=2,IF(AS23=0,IF(Scoresheet!AT25=20,30,Scoresheet!AT25),Scoresheet!AT25),IF(AT28>2,IF(AT$2=\"R\",\".\",Scoresheet!AT25),Scoresheet!AT25)))","v":"?"},{"$f":"IF(AT23>2,\".\",IF(AT28=2,IF(AT23=0,IF(Scoresheet!AU25=20,30,Scoresheet!AU25),Scoresheet!AU25),IF(AU28>2,IF(AU$2=\"R\",\".\",Scoresheet!AU25),Scoresheet!AU25)))","v":"?"},{"$f":"IF(AU23>2,\".\",IF(AU28=2,IF(AU23=0,IF(Scoresheet!AV25=20,30,Scoresheet!AV25),Scoresheet!AV25),IF(AV28>2,IF(AV$2=\"R\",\".\",Scoresheet!AV25),Scoresheet!AV25)))","v":"?"},{"$f":"IF(AV23>2,\".\",IF(AV28=2,IF(AV23=0,IF(Scoresheet!AW25=20,30,Scoresheet!AW25),Scoresheet!AW25),IF(AW28>2,IF(AW$2=\"R\",\".\",Scoresheet!AW25),Scoresheet!AW25)))","v":"?"},{"$f":"IF(AW23>2,\".\",IF(AW28=2,IF(AW23=0,IF(Scoresheet!AX25=20,30,Scoresheet!AX25),Scoresheet!AX25),IF(AX28>2,IF(AX$2=\"R\",\".\",Scoresheet!AX25),Scoresheet!AX25)))","v":"?"},{"$f":"IF(AX23>2,\".\",IF(AX28=2,IF(AX23=0,IF(Scoresheet!AY25=20,30,Scoresheet!AY25),Scoresheet!AY25),IF(AY28>2,IF(AY$2=\"R\",\".\",Scoresheet!AY25),Scoresheet!AY25)))","v":"?"},{"$f":"IF(AY23>2,\".\",IF(AY28=2,IF(AY23=0,IF(Scoresheet!AZ25=20,30,Scoresheet!AZ25),Scoresheet!AZ25),IF(AZ28>2,IF(AZ$2=\"R\",\".\",Scoresheet!AZ25),Scoresheet!AZ25)))","v":"?"},{"$f":"IF(AZ23>2,\".\",IF(AZ28=2,IF(AZ23=0,IF(Scoresheet!BA25=20,30,Scoresheet!BA25),Scoresheet!BA25),IF(BA28>2,IF(BA$2=\"R\",\".\",Scoresheet!BA25),Scoresheet!BA25)))","v":"?"},{"$f":"IF(BA23>2,\".\",IF(BA28=2,IF(BA23=0,IF(Scoresheet!BB25=20,30,Scoresheet!BB25),Scoresheet!BB25),IF(BB28>2,IF(BB$2=\"R\",\".\",Scoresheet!BB25),Scoresheet!BB25)))","v":"?"}]
[null,null,{"$f":"Scoresheet!C19","v":"Quizzer #3"},20,{"$f":"IF(D24>2,\".\",IF(D29=2,IF(D24=0,IF(Scoresheet!E25=20,30,Scoresheet!E25),Scoresheet!E25),IF(E29>2,IF(E$2=\"R\",\".\",Scoresheet!E25),Scoresheet!E25)))","v":20},{"$f":"IF(E24>2,\".\",IF(E29=2,IF(E24=0,IF(Scoresheet!F25=20,30,Scoresheet!F25),Scoresheet!F25),IF(F29>2,IF(F$2=\"R\",\".\",Scoresheet!F25),Scoresheet!F25)))","v":20},{"$f":"IF(F24>2,\".\",IF(F29=2,IF(F24=0,IF(Scoresheet!G25=20,30,Scoresheet!G25),Scoresheet!G25),IF(G29>2,IF(G$2=\"R\",\".\",Scoresheet!G25),Scoresheet!G25)))","v":20},{"$f":"IF(G24>2,\".\",IF(G29=2,IF(G24=0,IF(Scoresheet!H25=20,30,Scoresheet!H25),Scoresheet!H25),IF(H29>2,IF(H$2=\"R\",\".\",Scoresheet!H25),Scoresheet!H25)))","v":20},{"$f":"IF(H24>2,\".\",IF(H29=2,IF(H24=0,IF(Scoresheet!I25=20,30,Scoresheet!I25),Scoresheet!I25),IF(I29>2,IF(I$2=\"R\",\".\",Scoresheet!I25),Scoresheet!I25)))","v":20},{"$f":"IF(I24>2,\".\",IF(I29=2,IF(I24=0,IF(Scoresheet!J25=20,30,Scoresheet!J25),Scoresheet!J25),IF(J29>2,IF(J$2=\"R\",\".\",Scoresheet!J25),Scoresheet!J25)))","v":20},{"$f":"IF(J24>2,\".\",IF(J29=2,IF(J24=0,IF(Scoresheet!K25=20,30,Scoresheet!K25),Scoresheet!K25),IF(K29>2,IF(K$2=\"R\",\".\",Scoresheet!K25),Scoresheet!K25)))","v":20},{"$f":"IF(K24>2,\".\",IF(K29=2,IF(K24=0,IF(Scoresheet!L25=20,30,Scoresheet!L25),Scoresheet!L25),IF(L29>2,IF(L$2=\"R\",\".\",Scoresheet!L25),Scoresheet!L25)))","v":20},{"$f":"IF(L24>2,\".\",IF(L29=2,IF(L24=0,IF(Scoresheet!M25=20,30,Scoresheet!M25),Scoresheet!M25),IF(M29>2,IF(M$2=\"R\",\".\",Scoresheet!M25),Scoresheet!M25)))","v":20},{"$f":"IF(M24>2,\".\",IF(M29=2,IF(M24=0,IF(Scoresheet!N25=20,30,Scoresheet!N25),Scoresheet!N25),IF(N29>2,IF(N$2=\"R\",\".\",Scoresheet!N25),Scoresheet!N25)))","v":20},{"$f":"IF(N24>2,\".\",IF(N29=2,IF(N24=0,IF(Scoresheet!O25=20,30,Scoresheet!O25),Scoresheet!O25),IF(O29>2,IF(O$2=\"R\",\".\",Scoresheet!O25),Scoresheet!O25)))","v":20},{"$f":"IF(O24>2,\".\",IF(O29=2,IF(O24=0,IF(Scoresheet!P25=20,30,Scoresheet!P25),Scoresheet!P25),IF(P29>2,IF(P$2=\"R\",\".\",Scoresheet!P25),Scoresheet!P25)))","v":20},{"$f":"IF(P24>2,\".\",IF(P29=2,IF(P24=0,IF(Scoresheet!Q25=20,30,Scoresheet!Q25),Scoresheet!Q25),IF(Q29>2,IF(Q$2=\"R\",\".\",Scoresheet!Q25),Scoresheet!Q25)))","v":10},{"$f":"IF(Q24>2,\".\",IF(Q29=2,IF(Q24=0,IF(Scoresheet!R25=20,30,Scoresheet!R25),Scoresheet!R25),IF(R29>2,IF(R$2=\"R\",\".\",Scoresheet!R25),Scoresheet!R25)))","v":20},{"$f":"IF(R24>2,\".\",IF(R29=2,IF(R24=0,IF(Scoresheet!S25=20,30,Scoresheet!S25),Scoresheet!S25),IF(S29>2,IF(S$2=\"R\",\".\",Scoresheet!S25),Scoresheet!S25)))","v":20},{"$f":"IF(S24>2,\".\",IF(S29=2,IF(S24=0,IF(Scoresheet!T25=20,30,Scoresheet!T25),Scoresheet!T25),IF(T29>2,IF(T$2=\"R\",\".\",Scoresheet!T25),Scoresheet!T25)))","v":10},{"$f":"IF(T24>2,\".\",IF(T29=2,IF(T24=0,IF(Scoresheet!U25=20,30,Scoresheet!U25),Scoresheet!U25),IF(U29>2,IF(U$2=\"R\",\".\",Scoresheet!U25),Scoresheet!U25)))","v":20},{"$f":"IF(U24>2,\".\",IF(U29=2,IF(U24=0,IF(Scoresheet!V25=20,30,Scoresheet!V25),Scoresheet!V25),IF(V29>2,IF(V$2=\"R\",\".\",Scoresheet!V25),Scoresheet!V25)))","v":20},{"$f":"IF(V24>2,\".\",IF(V29=2,IF(V24=0,IF(Scoresheet!W25=20,30,Scoresheet!W25),Scoresheet!W25),IF(W29>2,IF(W$2=\"R\",\".\",Scoresheet!W25),Scoresheet!W25)))","v":10},{"$f":"IF(W24>2,\".\",IF(W29=2,IF(W24=0,IF(Scoresheet!X25=20,30,Scoresheet!X25),Scoresheet!X25),IF(X29>2,IF(X$2=\"R\",\".\",Scoresheet!X25),Scoresheet!X25)))","v":20},{"$f":"IF(X24>2,\".\",IF(X29=2,IF(X24=0,IF(Scoresheet!Y25=20,30,Scoresheet!Y25),Scoresheet!Y25),IF(Y29>2,IF(Y$2=\"R\",\".\",Scoresheet!Y25),Scoresheet!Y25)))","v":"?"},{"$f":"IF(Y24>2,\".\",IF(Y29=2,IF(Y24=0,IF(Scoresheet!Z25=20,30,Scoresheet!Z25),Scoresheet!Z25),IF(Z29>2,IF(Z$2=\"R\",\".\",Scoresheet!Z25),Scoresheet!Z25)))","v":"?"},{"$f":"IF(Z24>2,\".\",IF(Z29=2,IF(Z24=0,IF(Scoresheet!AA25=20,30,Scoresheet!AA25),Scoresheet!AA25),IF(AA29>2,IF(AA$2=\"R\",\".\",Scoresheet!AA25),Scoresheet!AA25)))","v":"?"},{"$f":"IF(AA24>2,\".\",IF(AA29=2,IF(AA24=0,IF(Scoresheet!AB25=20,30,Scoresheet!AB25),Scoresheet!AB25),IF(AB29>2,IF(AB$2=\"R\",\".\",Scoresheet!AB25),Scoresheet!AB25)))","v":"?"},{"$f":"IF(AB24>2,\".\",IF(AB29=2,IF(AB24=0,IF(Scoresheet!AC25=20,30,Scoresheet!AC25),Scoresheet!AC25),IF(AC29>2,IF(AC$2=\"R\",\".\",Scoresheet!AC25),Scoresheet!AC25)))","v":"?"},{"$f":"IF(AC24>2,\".\",IF(AC29=2,IF(AC24=0,IF(Scoresheet!AD25=20,30,Scoresheet!AD25),Scoresheet!AD25),IF(AD29>2,IF(AD$2=\"R\",\".\",Scoresheet!AD25),Scoresheet!AD25)))","v":"?"},{"$f":"IF(AD24>2,\".\",IF(AD29=2,IF(AD24=0,IF(Scoresheet!AE25=20,30,Scoresheet!AE25),Scoresheet!AE25),IF(AE29>2,IF(AE$2=\"R\",\".\",Scoresheet!AE25),Scoresheet!AE25)))","v":"?"},{"$f":"IF(AE24>2,\".\",IF(AE29=2,IF(AE24=0,IF(Scoresheet!AF25=20,30,Scoresheet!AF25),Scoresheet!AF25),IF(AF29>2,IF(AF$2=\"R\",\".\",Scoresheet!AF25),Scoresheet!AF25)))","v":"?"},{"$f":"IF(AF24>2,\".\",IF(AF29=2,IF(AF24=0,IF(Scoresheet!AG25=20,30,Scoresheet!AG25),Scoresheet!AG25),IF(AG29>2,IF(AG$2=\"R\",\".\",Scoresheet!AG25),Scoresheet!AG25)))","v":"?"},{"$f":"IF(AG24>2,\".\",IF(AG29=2,IF(AG24=0,IF(Scoresheet!AH25=20,30,Scoresheet!AH25),Scoresheet!AH25),IF(AH29>2,IF(AH$2=\"R\",\".\",Scoresheet!AH25),Scoresheet!AH25)))","v":"?"},{"$f":"IF(AH24>2,\".\",IF(AH29=2,IF(AH24=0,IF(Scoresheet!AI25=20,30,Scoresheet!AI25),Scoresheet!AI25),IF(AI29>2,IF(AI$2=\"R\",\".\",Scoresheet!AI25),Scoresheet!AI25)))","v":"?"},{"$f":"IF(AI24>2,\".\",IF(AI29=2,IF(AI24=0,IF(Scoresheet!AJ25=20,30,Scoresheet!AJ25),Scoresheet!AJ25),IF(AJ29>2,IF(AJ$2=\"R\",\".\",Scoresheet!AJ25),Scoresheet!AJ25)))","v":"?"},{"$f":"IF(AJ24>2,\".\",IF(AJ29=2,IF(AJ24=0,IF(Scoresheet!AK25=20,30,Scoresheet!AK25),Scoresheet!AK25),IF(AK29>2,IF(AK$2=\"R\",\".\",Scoresheet!AK25),Scoresheet!AK25)))","v":"?"},{"$f":"IF(AK24>2,\".\",IF(AK29=2,IF(AK24=0,IF(Scoresheet!AL25=20,30,Scoresheet!AL25),Scoresheet!AL25),IF(AL29>2,IF(AL$2=\"R\",\".\",Scoresheet!AL25),Scoresheet!AL25)))","v":"?"},{"$f":"IF(AL24>2,\".\",IF(AL29=2,IF(AL24=0,IF(Scoresheet!AM25=20,30,Scoresheet!AM25),Scoresheet!AM25),IF(AM29>2,IF(AM$2=\"R\",\".\",Scoresheet!AM25),Scoresheet!AM25)))","v":"?"},{"$f":"IF(AM24>2,\".\",IF(AM29=2,IF(AM24=0,IF(Scoresheet!AN25=20,30,Scoresheet!AN25),Scoresheet!AN25),IF(AN29>2,IF(AN$2=\"R\",\".\",Scoresheet!AN25),Scoresheet!AN25)))","v":"?"},{"$f":"IF(AN24>2,\".\",IF(AN29=2,IF(AN24=0,IF(Scoresheet!AO25=20,30,Scoresheet!AO25),Scoresheet!AO25),IF(AO29>2,IF(AO$2=\"R\",\".\",Scoresheet!AO25),Scoresheet!AO25)))","v":"?"},{"$f":"IF(AO24>2,\".\",IF(AO29=2,IF(AO24=0,IF(Scoresheet!AP25=20,30,Scoresheet!AP25),Scoresheet!AP25),IF(AP29>2,IF(AP$2=\"R\",\".\",Scoresheet!AP25),Scoresheet!AP25)))","v":"?"},{"$f":"IF(AP24>2,\".\",IF(AP29=2,IF(AP24=0,IF(Scoresheet!AQ25=20,30,Scoresheet!AQ25),Scoresheet!AQ25),IF(AQ29>2,IF(AQ$2=\"R\",\".\",Scoresheet!AQ25),Scoresheet!AQ25)))","v":"?"},{"$f":"IF(AQ24>2,\".\",IF(AQ29=2,IF(AQ24=0,IF(Scoresheet!AR25=20,30,Scoresheet!AR25),Scoresheet!AR25),IF(AR29>2,IF(AR$2=\"R\",\".\",Scoresheet!AR25),Scoresheet!AR25)))","v":"?"},{"$f":"IF(AR24>2,\".\",IF(AR29=2,IF(AR24=0,IF(Scoresheet!AS25=20,30,Scoresheet!AS25),Scoresheet!AS25),IF(AS29>2,IF(AS$2=\"R\",\".\",Scoresheet!AS25),Scoresheet!AS25)))","v":"?"},{"$f":"IF(AS24>2,\".\",IF(AS29=2,IF(AS24=0,IF(Scoresheet!AT25=20,30,Scoresheet!AT25),Scoresheet!AT25),IF(AT29>2,IF(AT$2=\"R\",\".\",Scoresheet!AT25),Scoresheet!AT25)))","v":"?"},{"$f":"IF(AT24>2,\".\",IF(AT29=2,IF(AT24=0,IF(Scoresheet!AU25=20,30,Scoresheet!AU25),Scoresheet!AU25),IF(AU29>2,IF(AU$2=\"R\",\".\",Scoresheet!AU25),Scoresheet!AU25)))","v":"?"},{"$f":"IF(AU24>2,\".\",IF(AU29=2,IF(AU24=0,IF(Scoresheet!AV25=20,30,Scoresheet!AV25),Scoresheet!AV25),IF(AV29>2,IF(AV$2=\"R\",\".\",Scoresheet!AV25),Scoresheet!AV25)))","v":"?"},{"$f":"IF(AV24>2,\".\",IF(AV29=2,IF(AV24=0,IF(Scoresheet!AW25=20,30,Scoresheet!AW25),Scoresheet!AW25),IF(AW29>2,IF(AW$2=\"R\",\".\",Scoresheet!AW25),Scoresheet!AW25)))","v":"?"},{"$f":"IF(AW24>2,\".\",IF(AW29=2,IF(AW24=0,IF(Scoresheet!AX25=20,30,Scoresheet!AX25),Scoresheet!AX25),IF(AX29>2,IF(AX$2=\"R\",\".\",Scoresheet!AX25),Scoresheet!AX25)))","v":"?"},{"$f":"IF(AX24>2,\".\",IF(AX29=2,IF(AX24=0,IF(Scoresheet!AY25=20,30,Scoresheet!AY25),Scoresheet!AY25),IF(AY29>2,IF(AY$2=\"R\",\".\",Scoresheet!AY25),Scoresheet!AY25)))","v":"?"},{"$f":"IF(AY24>2,\".\",IF(AY29=2,IF(AY24=0,IF(Scoresheet!AZ25=20,30,Scoresheet!AZ25),Scoresheet!AZ25),IF(AZ29>2,IF(AZ$2=\"R\",\".\",Scoresheet!AZ25),Scoresheet!AZ25)))","v":"?"},{"$f":"IF(AZ24>2,\".\",IF(AZ29=2,IF(AZ24=0,IF(Scoresheet!BA25=20,30,Scoresheet!BA25),Scoresheet!BA25),IF(BA29>2,IF(BA$2=\"R\",\".\",Scoresheet!BA25),Scoresheet!BA25)))","v":"?"},{"$f":"IF(BA24>2,\".\",IF(BA29=2,IF(BA24=0,IF(Scoresheet!BB25=20,30,Scoresheet!BB25),Scoresheet!BB25),IF(BB29>2,IF(BB$2=\"R\",\".\",Scoresheet!BB25),Scoresheet!BB25)))","v":"?"}]
[null,null,{"$f":"Scoresheet!C20","v":"Substitute"},".",{"$f":"IF(D25>2,\".\",IF(D30=2,IF(D25=0,IF(Scoresheet!E25=20,30,Scoresheet!E25),Scoresheet!E25),IF(E30>2,IF(E$2=\"R\",\".\",Scoresheet!E25),Scoresheet!E25)))","v":20},{"$f":"IF(E25>2,\".\",IF(E30=2,IF(E25=0,IF(Scoresheet!F25=20,30,Scoresheet!F25),Scoresheet!F25),IF(F30>2,IF(F$2=\"R\",\".\",Scoresheet!F25),Scoresheet!F25)))","v":20},{"$f":"IF(F25>2,\".\",IF(F30=2,IF(F25=0,IF(Scoresheet!G25=20,30,Scoresheet!G25),Scoresheet!G25),IF(G30>2,IF(G$2=\"R\",\".\",Scoresheet!G25),Scoresheet!G25)))","v":20},{"$f":"IF(G25>2,\".\",IF(G30=2,IF(G25=0,IF(Scoresheet!H25=20,30,Scoresheet!H25),Scoresheet!H25),IF(H30>2,IF(H$2=\"R\",\".\",Scoresheet!H25),Scoresheet!H25)))","v":20},{"$f":"IF(H25>2,\".\",IF(H30=2,IF(H25=0,IF(Scoresheet!I25=20,30,Scoresheet!I25),Scoresheet!I25),IF(I30>2,IF(I$2=\"R\",\".\",Scoresheet!I25),Scoresheet!I25)))","v":20},{"$f":"IF(I25>2,\".\",IF(I30=2,IF(I25=0,IF(Scoresheet!J25=20,30,Scoresheet!J25),Scoresheet!J25),IF(J30>2,IF(J$2=\"R\",\".\",Scoresheet!J25),Scoresheet!J25)))","v":20},{"$f":"IF(J25>2,\".\",IF(J30=2,IF(J25=0,IF(Scoresheet!K25=20,30,Scoresheet!K25),Scoresheet!K25),IF(K30>2,IF(K$2=\"R\",\".\",Scoresheet!K25),Scoresheet!K25)))","v":20},{"$f":"IF(K25>2,\".\",IF(K30=2,IF(K25=0,IF(Scoresheet!L25=20,30,Scoresheet!L25),Scoresheet!L25),IF(L30>2,IF(L$2=\"R\",\".\",Scoresheet!L25),Scoresheet!L25)))","v":20},{"$f":"IF(L25>2,\".\",IF(L30=2,IF(L25=0,IF(Scoresheet!M25=20,30,Scoresheet!M25),Scoresheet!M25),IF(M30>2,IF(M$2=\"R\",\".\",Scoresheet!M25),Scoresheet!M25)))","v":20},{"$f":"IF(M25>2,\".\",IF(M30=2,IF(M25=0,IF(Scoresheet!N25=20,30,Scoresheet!N25),Scoresheet!N25),IF(N30>2,IF(N$2=\"R\",\".\",Scoresheet!N25),Scoresheet!N25)))","v":20},{"$f":"IF(N25>2,\".\",IF(N30=2,IF(N25=0,IF(Scoresheet!O25=20,30,Scoresheet!O25),Scoresheet!O25),IF(O30>2,IF(O$2=\"R\",\".\",Scoresheet!O25),Scoresheet!O25)))","v":20},{"$f":"IF(O25>2,\".\",IF(O30=2,IF(O25=0,IF(Scoresheet!P25=20,30,Scoresheet!P25),Scoresheet!P25),IF(P30>2,IF(P$2=\"R\",\".\",Scoresheet!P25),Scoresheet!P25)))","v":20},{"$f":"IF(P25>2,\".\",IF(P30=2,IF(P25=0,IF(Scoresheet!Q25=20,30,Scoresheet!Q25),Scoresheet!Q25),IF(Q30>2,IF(Q$2=\"R\",\".\",Scoresheet!Q25),Scoresheet!Q25)))","v":10},{"$f":"IF(Q25>2,\".\",IF(Q30=2,IF(Q25=0,IF(Scoresheet!R25=20,30,Scoresheet!R25),Scoresheet!R25),IF(R30>2,IF(R$2=\"R\",\".\",Scoresheet!R25),Scoresheet!R25)))","v":20},{"$f":"IF(R25>2,\".\",IF(R30=2,IF(R25=0,IF(Scoresheet!S25=20,30,Scoresheet!S25),Scoresheet!S25),IF(S30>2,IF(S$2=\"R\",\".\",Scoresheet!S25),Scoresheet!S25)))","v":20},{"$f":"IF(S25>2,\".\",IF(S30=2,IF(S25=0,IF(Scoresheet!T25=20,30,Scoresheet!T25),Scoresheet!T25),IF(T30>2,IF(T$2=\"R\",\".\",Scoresheet!T25),Scoresheet!T25)))","v":10},{"$f":"IF(T25>2,\".\",IF(T30=2,IF(T25=0,IF(Scoresheet!U25=20,30,Scoresheet!U25),Scoresheet!U25),IF(U30>2,IF(U$2=\"R\",\".\",Scoresheet!U25),Scoresheet!U25)))","v":20},{"$f":"IF(U25>2,\".\",IF(U30=2,IF(U25=0,IF(Scoresheet!V25=20,30,Scoresheet!V25),Scoresheet!V25),IF(V30>2,IF(V$2=\"R\",\".\",Scoresheet!V25),Scoresheet!V25)))","v":20},{"$f":"IF(V25>2,\".\",IF(V30=2,IF(V25=0,IF(Scoresheet!W25=20,30,Scoresheet!W25),Scoresheet!W25),IF(W30>2,IF(W$2=\"R\",\".\",Scoresheet!W25),Scoresheet!W25)))","v":10},{"$f":"IF(W25>2,\".\",IF(W30=2,IF(W25=0,IF(Scoresheet!X25=20,30,Scoresheet!X25),Scoresheet!X25),IF(X30>2,IF(X$2=\"R\",\".\",Scoresheet!X25),Scoresheet!X25)))","v":20},{"$f":"IF(X25>2,\".\",IF(X30=2,IF(X25=0,IF(Scoresheet!Y25=20,30,Scoresheet!Y25),Scoresheet!Y25),IF(Y30>2,IF(Y$2=\"R\",\".\",Scoresheet!Y25),Scoresheet!Y25)))","v":"?"},{"$f":"IF(Y25>2,\".\",IF(Y30=2,IF(Y25=0,IF(Scoresheet!Z25=20,30,Scoresheet!Z25),Scoresheet!Z25),IF(Z30>2,IF(Z$2=\"R\",\".\",Scoresheet!Z25),Scoresheet!Z25)))","v":"?"},{"$f":"IF(Z25>2,\".\",IF(Z30=2,IF(Z25=0,IF(Scoresheet!AA25=20,30,Scoresheet!AA25),Scoresheet!AA25),IF(AA30>2,IF(AA$2=\"R\",\".\",Scoresheet!AA25),Scoresheet!AA25)))","v":"?"},{"$f":"IF(AA25>2,\".\",IF(AA30=2,IF(AA25=0,IF(Scoresheet!AB25=20,30,Scoresheet!AB25),Scoresheet!AB25),IF(AB30>2,IF(AB$2=\"R\",\".\",Scoresheet!AB25),Scoresheet!AB25)))","v":"?"},{"$f":"IF(AB25>2,\".\",IF(AB30=2,IF(AB25=0,IF(Scoresheet!AC25=20,30,Scoresheet!AC25),Scoresheet!AC25),IF(AC30>2,IF(AC$2=\"R\",\".\",Scoresheet!AC25),Scoresheet!AC25)))","v":"?"},{"$f":"IF(AC25>2,\".\",IF(AC30=2,IF(AC25=0,IF(Scoresheet!AD25=20,30,Scoresheet!AD25),Scoresheet!AD25),IF(AD30>2,IF(AD$2=\"R\",\".\",Scoresheet!AD25),Scoresheet!AD25)))","v":"?"},{"$f":"IF(AD25>2,\".\",IF(AD30=2,IF(AD25=0,IF(Scoresheet!AE25=20,30,Scoresheet!AE25),Scoresheet!AE25),IF(AE30>2,IF(AE$2=\"R\",\".\",Scoresheet!AE25),Scoresheet!AE25)))","v":"?"},{"$f":"IF(AE25>2,\".\",IF(AE30=2,IF(AE25=0,IF(Scoresheet!AF25=20,30,Scoresheet!AF25),Scoresheet!AF25),IF(AF30>2,IF(AF$2=\"R\",\".\",Scoresheet!AF25),Scoresheet!AF25)))","v":"?"},{"$f":"IF(AF25>2,\".\",IF(AF30=2,IF(AF25=0,IF(Scoresheet!AG25=20,30,Scoresheet!AG25),Scoresheet!AG25),IF(AG30>2,IF(AG$2=\"R\",\".\",Scoresheet!AG25),Scoresheet!AG25)))","v":"?"},{"$f":"IF(AG25>2,\".\",IF(AG30=2,IF(AG25=0,IF(Scoresheet!AH25=20,30,Scoresheet!AH25),Scoresheet!AH25),IF(AH30>2,IF(AH$2=\"R\",\".\",Scoresheet!AH25),Scoresheet!AH25)))","v":"?"},{"$f":"IF(AH25>2,\".\",IF(AH30=2,IF(AH25=0,IF(Scoresheet!AI25=20,30,Scoresheet!AI25),Scoresheet!AI25),IF(AI30>2,IF(AI$2=\"R\",\".\",Scoresheet!AI25),Scoresheet!AI25)))","v":"?"},{"$f":"IF(AI25>2,\".\",IF(AI30=2,IF(AI25=0,IF(Scoresheet!AJ25=20,30,Scoresheet!AJ25),Scoresheet!AJ25),IF(AJ30>2,IF(AJ$2=\"R\",\".\",Scoresheet!AJ25),Scoresheet!AJ25)))","v":"?"},{"$f":"IF(AJ25>2,\".\",IF(AJ30=2,IF(AJ25=0,IF(Scoresheet!AK25=20,30,Scoresheet!AK25),Scoresheet!AK25),IF(AK30>2,IF(AK$2=\"R\",\".\",Scoresheet!AK25),Scoresheet!AK25)))","v":"?"},{"$f":"IF(AK25>2,\".\",IF(AK30=2,IF(AK25=0,IF(Scoresheet!AL25=20,30,Scoresheet!AL25),Scoresheet!AL25),IF(AL30>2,IF(AL$2=\"R\",\".\",Scoresheet!AL25),Scoresheet!AL25)))","v":"?"},{"$f":"IF(AL25>2,\".\",IF(AL30=2,IF(AL25=0,IF(Scoresheet!AM25=20,30,Scoresheet!AM25),Scoresheet!AM25),IF(AM30>2,IF(AM$2=\"R\",\".\",Scoresheet!AM25),Scoresheet!AM25)))","v":"?"},{"$f":"IF(AM25>2,\".\",IF(AM30=2,IF(AM25=0,IF(Scoresheet!AN25=20,30,Scoresheet!AN25),Scoresheet!AN25),IF(AN30>2,IF(AN$2=\"R\",\".\",Scoresheet!AN25),Scoresheet!AN25)))","v":"?"},{"$f":"IF(AN25>2,\".\",IF(AN30=2,IF(AN25=0,IF(Scoresheet!AO25=20,30,Scoresheet!AO25),Scoresheet!AO25),IF(AO30>2,IF(AO$2=\"R\",\".\",Scoresheet!AO25),Scoresheet!AO25)))","v":"?"},{"$f":"IF(AO25>2,\".\",IF(AO30=2,IF(AO25=0,IF(Scoresheet!AP25=20,30,Scoresheet!AP25),Scoresheet!AP25),IF(AP30>2,IF(AP$2=\"R\",\".\",Scoresheet!AP25),Scoresheet!AP25)))","v":"?"},{"$f":"IF(AP25>2,\".\",IF(AP30=2,IF(AP25=0,IF(Scoresheet!AQ25=20,30,Scoresheet!AQ25),Scoresheet!AQ25),IF(AQ30>2,IF(AQ$2=\"R\",\".\",Scoresheet!AQ25),Scoresheet!AQ25)))","v":"?"},{"$f":"IF(AQ25>2,\".\",IF(AQ30=2,IF(AQ25=0,IF(Scoresheet!AR25=20,30,Scoresheet!AR25),Scoresheet!AR25),IF(AR30>2,IF(AR$2=\"R\",\".\",Scoresheet!AR25),Scoresheet!AR25)))","v":"?"},{"$f":"IF(AR25>2,\".\",IF(AR30=2,IF(AR25=0,IF(Scoresheet!AS25=20,30,Scoresheet!AS25),Scoresheet!AS25),IF(AS30>2,IF(AS$2=\"R\",\".\",Scoresheet!AS25),Scoresheet!AS25)))","v":"?"},{"$f":"IF(AS25>2,\".\",IF(AS30=2,IF(AS25=0,IF(Scoresheet!AT25=20,30,Scoresheet!AT25),Scoresheet!AT25),IF(AT30>2,IF(AT$2=\"R\",\".\",Scoresheet!AT25),Scoresheet!AT25)))","v":"?"},{"$f":"IF(AT25>2,\".\",IF(AT30=2,IF(AT25=0,IF(Scoresheet!AU25=20,30,Scoresheet!AU25),Scoresheet!AU25),IF(AU30>2,IF(AU$2=\"R\",\".\",Scoresheet!AU25),Scoresheet!AU25)))","v":"?"},{"$f":"IF(AU25>2,\".\",IF(AU30=2,IF(AU25=0,IF(Scoresheet!AV25=20,30,Scoresheet!AV25),Scoresheet!AV25),IF(AV30>2,IF(AV$2=\"R\",\".\",Scoresheet!AV25),Scoresheet!AV25)))","v":"?"},{"$f":"IF(AV25>2,\".\",IF(AV30=2,IF(AV25=0,IF(Scoresheet!AW25=20,30,Scoresheet!AW25),Scoresheet!AW25),IF(AW30>2,IF(AW$2=\"R\",\".\",Scoresheet!AW25),Scoresheet!AW25)))","v":"?"},{"$f":"IF(AW25>2,\".\",IF(AW30=2,IF(AW25=0,IF(Scoresheet!AX25=20,30,Scoresheet!AX25),Scoresheet!AX25),IF(AX30>2,IF(AX$2=\"R\",\".\",Scoresheet!AX25),Scoresheet!AX25)))","v":"?"},{"$f":"IF(AX25>2,\".\",IF(AX30=2,IF(AX25=0,IF(Scoresheet!AY25=20,30,Scoresheet!AY25),Scoresheet!AY25),IF(AY30>2,IF(AY$2=\"R\",\".\",Scoresheet!AY25),Scoresheet!AY25)))","v":"?"},{"$f":"IF(AY25>2,\".\",IF(AY30=2,IF(AY25=0,IF(Scoresheet!AZ25=20,30,Scoresheet!AZ25),Scoresheet!AZ25),IF(AZ30>2,IF(AZ$2=\"R\",\".\",Scoresheet!AZ25),Scoresheet!AZ25)))","v":"?"},{"$f":"IF(AZ25>2,\".\",IF(AZ30=2,IF(AZ25=0,IF(Scoresheet!BA25=20,30,Scoresheet!BA25),Scoresheet!BA25),IF(BA30>2,IF(BA$2=\"R\",\".\",Scoresheet!BA25),Scoresheet!BA25)))","v":"?"},{"$f":"IF(BA25>2,\".\",IF(BA30=2,IF(BA25=0,IF(Scoresheet!BB25=20,30,Scoresheet!BB25),Scoresheet!BB25),IF(BB30>2,IF(BB$2=\"R\",\".\",Scoresheet!BB25),Scoresheet!BB25)))","v":"?"}]
[]
[null,null,{"$f":"CONCATENATE(\"# of errors \",C17)","v":"# of errors Quizzer #1"},{"$f":"IF(Scoresheet!D17=\"E\",1,0)","v":0},{"$f":"IF(Scoresheet!E17=\"E\",D22+1,D22)","v":0},{"$f":"IF(Scoresheet!F17=\"E\",E22+1,E22)","v":0},{"$f":"IF(Scoresheet!G17=\"E\",F22+1,F22)","v":0},{"$f":"IF(Scoresheet!H17=\"E\",G22+1,G22)","v":0},{"$f":"IF(Scoresheet!I17=\"E\",H22+1,H22)","v":0},{"$f":"IF(Scoresheet!J17=\"E\",I22+1,I22)","v":0},{"$f":"IF(Scoresheet!K17=\"E\",J22+1,J22)","v":0},{"$f":"IF(Scoresheet!L17=\"E\",K22+1,K22)","v":0},{"$f":"IF(Scoresheet!M17=\"E\",L22+1,L22)","v":0},{"$f":"IF(Scoresheet!N17=\"E\",M22+1,M22)","v":0},{"$f":"IF(Scoresheet!O17=\"E\",N22+1,N22)","v":0},{"$f":"IF(Scoresheet!P17=\"E\",O22+1,O22)","v":0},{"$f":"IF(Scoresheet!Q17=\"E\",P22+1,P22)","v":0},{"$f":"IF(Scoresheet!R17=\"E\",Q22+1,Q22)","v":0},{"$f":"IF(Scoresheet!S17=\"E\",R22+1,R22)","v":0},{"$f":"IF(Scoresheet!T17=\"E\",S22+1,S22)","v":0},{"$f":"IF(Scoresheet!U17=\"E\",T22+1,T22)","v":0},{"$f":"IF(Scoresheet!V17=\"E\",U22+1,U22)","v":0},{"$f":"IF(Scoresheet!W17=\"E\",V22+1,V22)","v":0},{"$f":"IF(Scoresheet!X17=\"E\",W22+1,W22)","v":0},{"$f":"IF(Scoresheet!Y17=\"E\",X22+1,X22)","v":0},{"$f":"IF(Scoresheet!Z17=\"E\",Y22+1,Y22)","v":0},{"$f":"IF(Scoresheet!AA17=\"E\",Z22+1,Z22)","v":0},{"$f":"IF(Scoresheet!AB17=\"E\",AA22+1,AA22)","v":0},{"$f":"IF(Scoresheet!AC17=\"E\",AB22+1,AB22)","v":0},{"$f":"IF(Scoresheet!AD17=\"E\",AC22+1,AC22)","v":0},{"$f":"IF(Scoresheet!AE17=\"E\",AD22+1,AD22)","v":0},{"$f":"IF(Scoresheet!AF17=\"E\",AE22+1,AE22)","v":0},{"$f":"IF(Scoresheet!AG17=\"E\",AF22+1,AF22)","v":0},{"$f":"IF(Scoresheet!AH17=\"E\",AG22+1,AG22)","v":0},{"$f":"IF(Scoresheet!AI17=\"E\",AH22+1,AH22)","v":0},{"$f":"IF(Scoresheet!AJ17=\"E\",AI22+1,AI22)","v":0},{"$f":"IF(Scoresheet!AK17=\"E\",AJ22+1,AJ22)","v":0},{"$f":"IF(Scoresheet!AL17=\"E\",AK22+1,AK22)","v":0},{"$f":"IF(Scoresheet!AM17=\"E\",AL22+1,AL22)","v":0},{"$f":"IF(Scoresheet!AN17=\"E\",AM22+1,AM22)","v":0},{"$f":"IF(Scoresheet!AO17=\"E\",AN22+1,AN22)","v":0},{"$f":"IF(Scoresheet!AP17=\"E\",AO22+1,AO22)","v":0},{"$f":"IF(Scoresheet!AQ17=\"E\",AP22+1,AP22)","v":0},{"$f":"IF(Scoresheet!AR17=\"E\",AQ22+1,AQ22)","v":0},{"$f":"IF(Scoresheet!AS17=\"E\",AR22+1,AR22)","v":0},{"$f":"IF(Scoresheet!AT17=\"E\",AS22+1,AS22)","v":0},{"$f":"IF(Scoresheet!AU17=\"E\",AT22+1,AT22)","v":0},{"$f":"IF(Scoresheet!AV17=\"E\",AU22+1,AU22)","v":0},{"$f":"IF(Scoresheet!AW17=\"E\",AV22+1,AV22)","v":0},{"$f":"IF(Scoresheet!AX17=\"E\",AW22+1,AW22)","v":0},{"$f":"IF(Scoresheet!AY17=\"E\",AX22+1,AX22)","v":0},{"$f":"IF(Scoresheet!AZ17=\"E\",AY22+1,AY22)","v":0},{"$f":"IF(Scoresheet!BA17=\"E\",AZ22+1,AZ22)","v":0},{"$f":"IF(Scoresheet!BB17=\"E\",BA22+1,BA22)","v":0}]
[null,null,{"$f":"CONCATENATE(\"# of errors \",C18)","v":"# of errors Quizzer #2"},{"$f":"IF(Scoresheet!D18=\"E\",1,0)","v":0},{"$f":"IF(Scoresheet!E18=\"E\",D23+1,D23)","v":0},{"$f":"IF(Scoresheet!F18=\"E\",E23+1,E23)","v":0},{"$f":"IF(Scoresheet!G18=\"E\",F23+1,F23)","v":0},{"$f":"IF(Scoresheet!H18=\"E\",G23+1,G23)","v":0},{"$f":"IF(Scoresheet!I18=\"E\",H23+1,H23)","v":0},{"$f":"IF(Scoresheet!J18=\"E\",I23+1,I23)","v":0},{"$f":"IF(Scoresheet!K18=\"E\",J23+1,J23)","v":0},{"$f":"IF(Scoresheet!L18=\"E\",K23+1,K23)","v":0},{"$f":"IF(Scoresheet!M18=\"E\",L23+1,L23)","v":0},{"$f":"IF(Scoresheet!N18=\"E\",M23+1,M23)","v":0},{"$f":"IF(Scoresheet!O18=\"E\",N23+1,N23)","v":0},{"$f":"IF(Scoresheet!P18=\"E\",O23+1,O23)","v":0},{"$f":"IF(Scoresheet!Q18=\"E\",P23+1,P23)","v":0},{"$f":"IF(Scoresheet!R18=\"E\",Q23+1,Q23)","v":0},{"$f":"IF(Scoresheet!S18=\"E\",R23+1,R23)","v":0},{"$f":"IF(Scoresheet!T18=\"E\",S23+1,S23)","v":0},{"$f":"IF(Scoresheet!U18=\"E\",T23+1,T23)","v":0},{"$f":"IF(Scoresheet!V18=\"E\",U23+1,U23)","v":0},{"$f":"IF(Scoresheet!W18=\"E\",V23+1,V23)","v":0},{"$f":"IF(Scoresheet!X18=\"E\",W23+1,W23)","v":0},{"$f":"IF(Scoresheet!Y18=\"E\",X23+1,X23)","v":0},{"$f":"IF(Scoresheet!Z18=\"E\",Y23+1,Y23)","v":0},{"$f":"IF(Scoresheet!AA18=\"E\",Z23+1,Z23)","v":0},{"$f":"IF(Scoresheet!AB18=\"E\",AA23+1,AA23)","v":0},{"$f":"IF(Scoresheet!AC18=\"E\",AB23+1,AB23)","v":0},{"$f":"IF(Scoresheet!AD18=\"E\",AC23+1,AC23)","v":0},{"$f":"IF(Scoresheet!AE18=\"E\",AD23+1,AD23)","v":0},{"$f":"IF(Scoresheet!AF18=\"E\",AE23+1,AE23)","v":0},{"$f":"IF(Scoresheet!AG18=\"E\",AF23+1,AF23)","v":0},{"$f":"IF(Scoresheet!AH18=\"E\",AG23+1,AG23)","v":0},{"$f":"IF(Scoresheet!AI18=\"E\",AH23+1,AH23)","v":0},{"$f":"IF(Scoresheet!AJ18=\"E\",AI23+1,AI23)","v":0},{"$f":"IF(Scoresheet!AK18=\"E\",AJ23+1,AJ23)","v":0},{"$f":"IF(Scoresheet!AL18=\"E\",AK23+1,AK23)","v":0},{"$f":"IF(Scoresheet!AM18=\"E\",AL23+1,AL23)","v":0},{"$f":"IF(Scoresheet!AN18=\"E\",AM23+1,AM23)","v":0},{"$f":"IF(Scoresheet!AO18=\"E\",AN23+1,AN23)","v":0},{"$f":"IF(Scoresheet!AP18=\"E\",AO23+1,AO23)","v":0},{"$f":"IF(Scoresheet!AQ18=\"E\",AP23+1,AP23)","v":0},{"$f":"IF(Scoresheet!AR18=\"E\",AQ23+1,AQ23)","v":0},{"$f":"IF(Scoresheet!AS18=\"E\",AR23+1,AR23)","v":0},{"$f":"IF(Scoresheet!AT18=\"E\",AS23+1,AS23)","v":0},{"$f":"IF(Scoresheet!AU18=\"E\",AT23+1,AT23)","v":0},{"$f":"IF(Scoresheet!AV18=\"E\",AU23+1,AU23)","v":0},{"$f":"IF(Scoresheet!AW18=\"E\",AV23+1,AV23)","v":0},{"$f":"IF(Scoresheet!AX18=\"E\",AW23+1,AW23)","v":0},{"$f":"IF(Scoresheet!AY18=\"E\",AX23+1,AX23)","v":0},{"$f":"IF(Scoresheet!AZ18=\"E\",AY23+1,AY23)","v":0},{"$f":"IF(Scoresheet!BA18=\"E\",AZ23+1,AZ23)","v":0},{"$f":"IF(Scoresheet!BB18=\"E\",BA23+1,BA23)","v":0}]
[null,null,{"$f":"CONCATENATE(\"# of errors \",C19)","v":"# of errors Quizzer #3"},{"$f":"IF(Scoresheet!D19=\"E\",1,0)","v":0},{"$f":"IF(Scoresheet!E19=\"E\",D24+1,D24)","v":0},{"$f":"IF(Scoresheet!F19=\"E\",E24+1,E24)","v":0},{"$f":"IF(Scoresheet!G19=\"E\",F24+1,F24)","v":0},{"$f":"IF(Scoresheet!H19=\"E\",G24+1,G24)","v":0},{"$f":"IF(Scoresheet!I19=\"E\",H24+1,H24)","v":0},{"$f":"IF(Scoresheet!J19=\"E\",I24+1,I24)","v":0},{"$f":"IF(Scoresheet!K19=\"E\",J24+1,J24)","v":0},{"$f":"IF(Scoresheet!L19=\"E\",K24+1,K24)","v":0},{"$f":"IF(Scoresheet!M19=\"E\",L24+1,L24)","v":0},{"$f":"IF(Scoresheet!N19=\"E\",M24+1,M24)","v":0},{"$f":"IF(Scoresheet!O19=\"E\",N24+1,N24)","v":0},{"$f":"IF(Scoresheet!P19=\"E\",O24+1,O24)","v":0},{"$f":"IF(Scoresheet!Q19=\"E\",P24+1,P24)","v":0},{"$f":"IF(Scoresheet!R19=\"E\",Q24+1,Q24)","v":0},{"$f":"IF(Scoresheet!S19=\"E\",R24+1,R24)","v":0},{"$f":"IF(Scoresheet!T19=\"E\",S24+1,S24)","v":0},{"$f":"IF(Scoresheet!U19=\"E\",T24+1,T24)","v":0},{"$f":"IF(Scoresheet!V19=\"E\",U24+1,U24)","v":0},{"$f":"IF(Scoresheet!W19=\"E\",V24+1,V24)","v":0},{"$f":"IF(Scoresheet!X19=\"E\",W24+1,W24)","v":0},{"$f":"IF(Scoresheet!Y19=\"E\",X24+1,X24)","v":0},{"$f":"IF(Scoresheet!Z19=\"E\",Y24+1,Y24)","v":0},{"$f":"IF(Scoresheet!AA19=\"E\",Z24+1,Z24)","v":0},{"$f":"IF(Scoresheet!AB19=\"E\",AA24+1,AA24)","v":0},{"$f":"IF(Scoresheet!AC19=\"E\",AB24+1,AB24)","v":0},{"$f":"IF(Scoresheet!AD19=\"E\",AC24+1,AC24)","v":0},{"$f":"IF(Scoresheet!AE19=\"E\",AD24+1,AD24)","v":0},{"$f":"IF(Scoresheet!AF19=\"E\",AE24+1,AE24)","v":0},{"$f":"IF(Scoresheet!AG19=\"E\",AF24+1,AF24)","v":0},{"$f":"IF(Scoresheet!AH19=\"E\",AG24+1,AG24)","v":0},{"$f":"IF(Scoresheet!AI19=\"E\",AH24+1,AH24)","v":0},{"$f":"IF(Scoresheet!AJ19=\"E\",AI24+1,AI24)","v":0},{"$f":"IF(Scoresheet!AK19=\"E\",AJ24+1,AJ24)","v":0},{"$f":"IF(Scoresheet!AL19=\"E\",AK24+1,AK24)","v":0},{"$f":"IF(Scoresheet!AM19=\"E\",AL24+1,AL24)","v":0},{"$f":"IF(Scoresheet!AN19=\"E\",AM24+1,AM24)","v":0},{"$f":"IF(Scoresheet!AO19=\"E\",AN24+1,AN24)","v":0},{"$f":"IF(Scoresheet!AP19=\"E\",AO24+1,AO24)","v":0},{"$f":"IF(Scoresheet!AQ19=\"E\",AP24+1,AP24)","v":0},{"$f":"IF(Scoresheet!AR19=\"E\",AQ24+1,AQ24)","v":0},{"$f":"IF(Scoresheet!AS19=\"E\",AR24+1,AR24)","v":0},{"$f":"IF(Scoresheet!AT19=\"E\",AS24+1,AS24)","v":0},{"$f":"IF(Scoresheet!AU19=\"E\",AT24+1,AT24)","v":0},{"$f":"IF(Scoresheet!AV19=\"E\",AU24+1,AU24)","v":0},{"$f":"IF(Scoresheet!AW19=\"E\",AV24+1,AV24)","v":0},{"$f":"IF(Scoresheet!AX19=\"E\",AW24+1,AW24)","v":0},{"$f":"IF(Scoresheet!AY19=\"E\",AX24+1,AX24)","v":0},{"$f":"IF(Scoresheet!AZ19=\"E\",AY24+1,AY24)","v":0},{"$f":"IF(Scoresheet!BA19=\"E\",AZ24+1,AZ24)","v":0},{"$f":"IF(Scoresheet!BB19=\"E\",BA24+1,BA24)","v":0}]
[null,null,{"$f":"CONCATENATE(\"# of errors \",C20)","v":"# of errors Substitute"},{"$f":"IF(Scoresheet!D20=\"E\",1,0)","v":0},{"$f":"IF(Scoresheet!E20=\"E\",D25+1,D25)","v":0},{"$f":"IF(Scoresheet!F20=\"E\",E25+1,E25)","v":0},{"$f":"IF(Scoresheet!G20=\"E\",F25+1,F25)","v":0},{"$f":"IF(Scoresheet!H20=\"E\",G25+1,G25)","v":0},{"$f":"IF(Scoresheet!I20=\"E\",H25+1,H25)","v":0},{"$f":"IF(Scoresheet!J20=\"E\",I25+1,I25)","v":0},{"$f":"IF(Scoresheet!K20=\"E\",J25+1,J25)","v":0},{"$f":"IF(Scoresheet!L20=\"E\",K25+1,K25)","v":0},{"$f":"IF(Scoresheet!M20=\"E\",L25+1,L25)","v":0},{"$f":"IF(Scoresheet!N20=\"E\",M25+1,M25)","v":0},{"$f":"IF(Scoresheet!O20=\"E\",N25+1,N25)","v":0},{"$f":"IF(Scoresheet!P20=\"E\",O25+1,O25)","v":0},{"$f":"IF(Scoresheet!Q20=\"E\",P25+1,P25)","v":0},{"$f":"IF(Scoresheet!R20=\"E\",Q25+1,Q25)","v":0},{"$f":"IF(Scoresheet!S20=\"E\",R25+1,R25)","v":0},{"$f":"IF(Scoresheet!T20=\"E\",S25+1,S25)","v":0},{"$f":"IF(Scoresheet!U20=\"E\",T25+1,T25)","v":0},{"$f":"IF(Scoresheet!V20=\"E\",U25+1,U25)","v":0},{"$f":"IF(Scoresheet!W20=\"E\",V25+1,V25)","v":0},{"$f":"IF(Scoresheet!X20=\"E\",W25+1,W25)","v":0},{"$f":"IF(Scoresheet!Y20=\"E\",X25+1,X25)","v":0},{"$f":"IF(Scoresheet!Z20=\"E\",Y25+1,Y25)","v":0},{"$f":"IF(Scoresheet!AA20=\"E\",Z25+1,Z25)","v":0},{"$f":"IF(Scoresheet!AB20=\"E\",AA25+1,AA25)","v":0},{"$f":"IF(Scoresheet!AC20=\"E\",AB25+1,AB25)","v":0},{"$f":"IF(Scoresheet!AD20=\"E\",AC25+1,AC25)","v":0},{"$f":"IF(Scoresheet!AE20=\"E\",AD25+1,AD25)","v":0},{"$f":"IF(Scoresheet!AF20=\"E\",AE25+1,AE25)","v":0},{"$f":"IF(Scoresheet!AG20=\"E\",AF25+1,AF25)","v":0},{"$f":"IF(Scoresheet!AH20=\"E\",AG25+1,AG25)","v":0},{"$f":"IF(Scoresheet!AI20=\"E\",AH25+1,AH25)","v":0},{"$f":"IF(Scoresheet!AJ20=\"E\",AI25+1,AI25)","v":0},{"$f":"IF(Scoresheet!AK20=\"E\",AJ25+1,AJ25)","v":0},{"$f":"IF(Scoresheet!AL20=\"E\",AK25+1,AK25)","v":0},{"$f":"IF(Scoresheet!AM20=\"E\",AL25+1,AL25)","v":0},{"$f":"IF(Scoresheet!AN20=\"E\",AM25+1,AM25)","v":0},{"$f":"IF(Scoresheet!AO20=\"E\",AN25+1,AN25)","v":0},{"$f":"IF(Scoresheet!AP20=\"E\",AO25+1,AO25)","v":0},{"$f":"IF(Scoresheet!AQ20=\"E\",AP25+1,AP25)","v":0},{"$f":"IF(Scoresheet!AR20=\"E\",AQ25+1,AQ25)","v":0},{"$f":"IF(Scoresheet!AS20=\"E\",AR25+1,AR25)","v":0},{"$f":"IF(Scoresheet!AT20=\"E\",AS25+1,AS25)","v":0},{"$f":"IF(Scoresheet!AU20=\"E\",AT25+1,AT25)","v":0},{"$f":"IF(Scoresheet!AV20=\"E\",AU25+1,AU25)","v":0},{"$f":"IF(Scoresheet!AW20=\"E\",AV25+1,AV25)","v":0},{"$f":"IF(Scoresheet!AX20=\"E\",AW25+1,AW25)","v":0},{"$f":"IF(Scoresheet!AY20=\"E\",AX25+1,AX25)","v":0},{"$f":"IF(Scoresheet!AZ20=\"E\",AY25+1,AY25)","v":0},{"$f":"IF(Scoresheet!BA20=\"E\",AZ25+1,AZ25)","v":0},{"$f":"IF(Scoresheet!BB20=\"E\",BA25+1,BA25)","v":0}]
[]
[null,null,{"$f":"CONCATENATE(\"#20's \",C17)","v":"#20's Quizzer #1"},{"$f":"COUNTIF(Scoresheet!$D17:D17,20)+COUNTIF(Scoresheet!$D17:D17,30)","v":0},{"$f":"COUNTIF(Scoresheet!$D17:E17,20)+COUNTIF(Scoresheet!$D17:E17,30)","v":0},{"$f":"COUNTIF(Scoresheet!$D17:F17,20)+COUNTIF(Scoresheet!$D17:F17,30)","v":0},{"$f":"COUNTIF(Scoresheet!$D17:G17,20)+COUNTIF(Scoresheet!$D17:G17,30)","v":0},{"$f":"COUNTIF(Scoresheet!$D17:H17,20)+COUNTIF(Scoresheet!$D17:H17,30)","v":0},{"$f":"COUNTIF(Scoresheet!$D17:I17,20)+COUNTIF(Scoresheet!$D17:I17,30)","v":0},{"$f":"COUNTIF(Scoresheet!$D17:J17,20)+COUNTIF(Scoresheet!$D17:J17,30)","v":0},{"$f":"COUNTIF(Scoresheet!$D17:K17,20)+COUNTIF(Scoresheet!$D17:K17,30)","v":0},{"$f":"COUNTIF(Scoresheet!$D17:L17,20)+COUNTIF(Scoresheet!$D17:L17,30)","v":0},{"$f":"COUNTIF(Scoresheet!$D17:M17,20)+COUNTIF(Scoresheet!$D17:M17,30)","v":0},{"$f":"COUNTIF(Scoresheet!$D17:N17,20)+COUNTIF(Scoresheet!$D17:N17,30)","v":0},{"$f":"COUNTIF(Scoresheet!$D17:O17,20)+COUNTIF(Scoresheet!$D17:O17,30)","v":0},{"$f":"COUNTIF(Scoresheet!$D17:P17,20)+COUNTIF(Scoresheet!$D17:P17,30)","v":0},{"$f":"COUNTIF(Scoresheet!$D17:Q17,20)+COUNTIF(Scoresheet!$D17:Q17,30)","v":0},{"$f":"COUNTIF(Scoresheet!$D17:R17,20)+COUNTIF(Scoresheet!$D17:R17,30)","v":0},{"$f":"COUNTIF(Scoresheet!$D17:S17,20)+COUNTIF(Scoresheet!$D17:S17,30)","v":0},{"$f":"COUNTIF(Scoresheet!$D17:T17,20)+COUNTIF(Scoresheet!$D17:T17,30)","v":0},{"$f":"COUNTIF(Scoresheet!$D17:U17,20)+COUNTIF(Scoresheet!$D17:U17,30)","v":0},{"$f":"COUNTIF(Scoresheet!$D17:V17,20)+COUNTIF(Scoresheet!$D17:V17,30)","v":0},{"$f":"COUNTIF(Scoresheet!$D17:W17,20)+COUNTIF(Scoresheet!$D17:W17,30)","v":0},{"$f":"COUNTIF(Scoresheet!$D17:X17,20)+COUNTIF(Scoresheet!$D17:X17,30)","v":0},{"$f":"COUNTIF(Scoresheet!$D17:Y17,20)+COUNTIF(Scoresheet!$D17:Y17,30)","v":0},{"$f":"COUNTIF(Scoresheet!$D17:Z17,20)+COUNTIF(Scoresheet!$D17:Z17,30)","v":0},{"$f":"COUNTIF(Scoresheet!$D17:AA17,20)+COUNTIF(Scoresheet!$D17:AA17,30)","v":0},{"$f":"COUNTIF(Scoresheet!$D17:AB17,20)+COUNTIF(Scoresheet!$D17:AB17,30)","v":0},{"$f":"COUNTIF(Scoresheet!$D17:AC17,20)+COUNTIF(Scoresheet!$D17:AC17,30)","v":0},{"$f":"COUNTIF(Scoresheet!$D17:AD17,20)+COUNTIF(Scoresheet!$D17:AD17,30)","v":0},{"$f":"COUNTIF(Scoresheet!$D17:AE17,20)+COUNTIF(Scoresheet!$D17:AE17,30)","v":0},{"$f":"COUNTIF(Scoresheet!$D17:AF17,20)+COUNTIF(Scoresheet!$D17:AF17,30)","v":0},{"$f":"COUNTIF(Scoresheet!$D17:AG17,20)+COUNTIF(Scoresheet!$D17:AG17,30)","v":0},{"$f":"COUNTIF(Scoresheet!$D17:AH17,20)+COUNTIF(Scoresheet!$D17:AH17,30)","v":0},{"$f":"COUNTIF(Scoresheet!$D17:AI17,20)+COUNTIF(Scoresheet!$D17:AI17,30)","v":0},{"$f":"COUNTIF(Scoresheet!$D17:AJ17,20)+COUNTIF(Scoresheet!$D17:AJ17,30)","v":0},{"$f":"COUNTIF(Scoresheet!$D17:AK17,20)+COUNTIF(Scoresheet!$D17:AK17,30)","v":0},{"$f":"COUNTIF(Scoresheet!$D17:AL17,20)+COUNTIF(Scoresheet!$D17:AL17,30)","v":0},{"$f":"COUNTIF(Scoresheet!$D17:AM17,20)+COUNTIF(Scoresheet!$D17:AM17,30)","v":0},{"$f":"COUNTIF(Scoresheet!$D17:AN17,20)+COUNTIF(Scoresheet!$D17:AN17,30)","v":0},{"$f":"COUNTIF(Scoresheet!$D17:AO17,20)+COUNTIF(Scoresheet!$D17:AO17,30)","v":0},{"$f":"COUNTIF(Scoresheet!$D17:AP17,20)+COUNTIF(Scoresheet!$D17:AP17,30)","v":0},{"$f":"COUNTIF(Scoresheet!$D17:AQ17,20)+COUNTIF(Scoresheet!$D17:AQ17,30)","v":0},{"$f":"COUNTIF(Scoresheet!$D17:AR17,20)+COUNTIF(Scoresheet!$D17:AR17,30)","v":0},{"$f":"COUNTIF(Scoresheet!$D17:AS17,20)+COUNTIF(Scoresheet!$D17:AS17,30)","v":0},{"$f":"COUNTIF(Scoresheet!$D17:AT17,20)+COUNTIF(Scoresheet!$D17:AT17,30)","v":0},{"$f":"COUNTIF(Scoresheet!$D17:AU17,20)+COUNTIF(Scoresheet!$D17:AU17,30)","v":0},{"$f":"COUNTIF(Scoresheet!$D17:AV17,20)+COUNTIF(Scoresheet!$D17:AV17,30)","v":0},{"$f":"COUNTIF(Scoresheet!$D17:AW17,20)+COUNTIF(Scoresheet!$D17:AW17,30)","v":0},{"$f":"COUNTIF(Scoresheet!$D17:AX17,20)+COUNTIF(Scoresheet!$D17:AX17,30)","v":0},{"$f":"COUNTIF(Scoresheet!$D17:AY17,20)+COUNTIF(Scoresheet!$D17:AY17,30)","v":0},{"$f":"COUNTIF(Scoresheet!$D17:AZ17,20)+COUNTIF(Scoresheet!$D17:AZ17,30)","v":0},{"$f":"COUNTIF(Scoresheet!$D17:BA17,20)+COUNTIF(Scoresheet!$D17:BA17,30)","v":0},{"$f":"COUNTIF(Scoresheet!$D17:BB17,20)+COUNTIF(Scoresheet!$D17:BB17,30)","v":0}]
[null,null,{"$f":"CONCATENATE(\"#20's \",C18)","v":"#20's Quizzer #2"},{"$f":"COUNTIF(Scoresheet!$D18:D18,20)+COUNTIF(Scoresheet!$D18:D18,30)","v":0},{"$f":"COUNTIF(Scoresheet!$D18:E18,20)+COUNTIF(Scoresheet!$D18:E18,30)","v":0},{"$f":"COUNTIF(Scoresheet!$D18:F18,20)+COUNTIF(Scoresheet!$D18:F18,30)","v":0},{"$f":"COUNTIF(Scoresheet!$D18:G18,20)+COUNTIF(Scoresheet!$D18:G18,30)","v":0},{"$f":"COUNTIF(Scoresheet!$D18:H18,20)+COUNTIF(Scoresheet!$D18:H18,30)","v":0},{"$f":"COUNTIF(Scoresheet!$D18:I18,20)+COUNTIF(Scoresheet!$D18:I18,30)","v":0},{"$f":"COUNTIF(Scoresheet!$D18:J18,20)+COUNTIF(Scoresheet!$D18:J18,30)","v":0},{"$f":"COUNTIF(Scoresheet!$D18:K18,20)+COUNTIF(Scoresheet!$D18:K18,30)","v":0},{"$f":"COUNTIF(Scoresheet!$D18:L18,20)+COUNTIF(Scoresheet!$D18:L18,30)","v":0},{"$f":"COUNTIF(Scoresheet!$D18:M18,20)+COUNTIF(Scoresheet!$D18:M18,30)","v":0},{"$f":"COUNTIF(Scoresheet!$D18:N18,20)+COUNTIF(Scoresheet!$D18:N18,30)","v":0},{"$f":"COUNTIF(Scoresheet!$D18:O18,20)+COUNTIF(Scoresheet!$D18:O18,30)","v":0},{"$f":"COUNTIF(Scoresheet!$D18:P18,20)+COUNTIF(Scoresheet!$D18:P18,30)","v":0},{"$f":"COUNTIF(Scoresheet!$D18:Q18,20)+COUNTIF(Scoresheet!$D18:Q18,30)","v":0},{"$f":"COUNTIF(Scoresheet!$D18:R18,20)+COUNTIF(Scoresheet!$D18:R18,30)","v":0},{"$f":"COUNTIF(Scoresheet!$D18:S18,20)+COUNTIF(Scoresheet!$D18:S18,30)","v":0},{"$f":"COUNTIF(Scoresheet!$D18:T18,20)+COUNTIF(Scoresheet!$D18:T18,30)","v":0},{"$f":"COUNTIF(Scoresheet!$D18:U18,20)+COUNTIF(Scoresheet!$D18:U18,30)","v":0},{"$f":"COUNTIF(Scoresheet!$D18:V18,20)+COUNTIF(Scoresheet!$D18:V18,30)","v":0},{"$f":"COUNTIF(Scoresheet!$D18:W18,20)+COUNTIF(Scoresheet!$D18:W18,30)","v":0},{"$f":"COUNTIF(Scoresheet!$D18:X18,20)+COUNTIF(Scoresheet!$D18:X18,30)","v":0},{"$f":"COUNTIF(Scoresheet!$D18:Y18,20)+COUNTIF(Scoresheet!$D18:Y18,30)","v":0},{"$f":"COUNTIF(Scoresheet!$D18:Z18,20)+COUNTIF(Scoresheet!$D18:Z18,30)","v":0},{"$f":"COUNTIF(Scoresheet!$D18:AA18,20)+COUNTIF(Scoresheet!$D18:AA18,30)","v":0},{"$f":"COUNTIF(Scoresheet!$D18:AB18,20)+COUNTIF(Scoresheet!$D18:AB18,30)","v":0},{"$f":"COUNTIF(Scoresheet!$D18:AC18,20)+COUNTIF(Scoresheet!$D18:AC18,30)","v":0},{"$f":"COUNTIF(Scoresheet!$D18:AD18,20)+COUNTIF(Scoresheet!$D18:AD18,30)","v":0},{"$f":"COUNTIF(Scoresheet!$D18:AE18,20)+COUNTIF(Scoresheet!$D18:AE18,30)","v":0},{"$f":"COUNTIF(Scoresheet!$D18:AF18,20)+COUNTIF(Scoresheet!$D18:AF18,30)","v":0},{"$f":"COUNTIF(Scoresheet!$D18:AG18,20)+COUNTIF(Scoresheet!$D18:AG18,30)","v":0},{"$f":"COUNTIF(Scoresheet!$D18:AH18,20)+COUNTIF(Scoresheet!$D18:AH18,30)","v":0},{"$f":"COUNTIF(Scoresheet!$D18:AI18,20)+COUNTIF(Scoresheet!$D18:AI18,30)","v":0},{"$f":"COUNTIF(Scoresheet!$D18:AJ18,20)+COUNTIF(Scoresheet!$D18:AJ18,30)","v":0},{"$f":"COUNTIF(Scoresheet!$D18:AK18,20)+COUNTIF(Scoresheet!$D18:AK18,30)","v":0},{"$f":"COUNTIF(Scoresheet!$D18:AL18,20)+COUNTIF(Scoresheet!$D18:AL18,30)","v":0},{"$f":"COUNTIF(Scoresheet!$D18:AM18,20)+COUNTIF(Scoresheet!$D18:AM18,30)","v":0},{"$f":"COUNTIF(Scoresheet!$D18:AN18,20)+COUNTIF(Scoresheet!$D18:AN18,30)","v":0},{"$f":"COUNTIF(Scoresheet!$D18:AO18,20)+COUNTIF(Scoresheet!$D18:AO18,30)","v":0},{"$f":"COUNTIF(Scoresheet!$D18:AP18,20)+COUNTIF(Scoresheet!$D18:AP18,30)","v":0},{"$f":"COUNTIF(Scoresheet!$D18:AQ18,20)+COUNTIF(Scoresheet!$D18:AQ18,30)","v":0},{"$f":"COUNTIF(Scoresheet!$D18:AR18,20)+COUNTIF(Scoresheet!$D18:AR18,30)","v":0},{"$f":"COUNTIF(Scoresheet!$D18:AS18,20)+COUNTIF(Scoresheet!$D18:AS18,30)","v":0},{"$f":"COUNTIF(Scoresheet!$D18:AT18,20)+COUNTIF(Scoresheet!$D18:AT18,30)","v":0},{"$f":"COUNTIF(Scoresheet!$D18:AU18,20)+COUNTIF(Scoresheet!$D18:AU18,30)","v":0},{"$f":"COUNTIF(Scoresheet!$D18:AV18,20)+COUNTIF(Scoresheet!$D18:AV18,30)","v":0},{"$f":"COUNTIF(Scoresheet!$D18:AW18,20)+COUNTIF(Scoresheet!$D18:AW18,30)","v":0},{"$f":"COUNTIF(Scoresheet!$D18:AX18,20)+COUNTIF(Scoresheet!$D18:AX18,30)","v":0},{"$f":"COUNTIF(Scoresheet!$D18:AY18,20)+COUNTIF(Scoresheet!$D18:AY18,30)","v":0},{"$f":"COUNTIF(Scoresheet!$D18:AZ18,20)+COUNTIF(Scoresheet!$D18:AZ18,30)","v":0},{"$f":"COUNTIF(Scoresheet!$D18:BA18,20)+COUNTIF(Scoresheet!$D18:BA18,30)","v":0},{"$f":"COUNTIF(Scoresheet!$D18:BB18,20)+COUNTIF(Scoresheet!$D18:BB18,30)","v":0}]
[null,null,{"$f":"CONCATENATE(\"#20's \",C19)","v":"#20's Quizzer #3"},{"$f":"COUNTIF(Scoresheet!$D19:D19,20)+COUNTIF(Scoresheet!$D19:D19,30)","v":0},{"$f":"COUNTIF(Scoresheet!$D19:E19,20)+COUNTIF(Scoresheet!$D19:E19,30)","v":0},{"$f":"COUNTIF(Scoresheet!$D19:F19,20)+COUNTIF(Scoresheet!$D19:F19,30)","v":0},{"$f":"COUNTIF(Scoresheet!$D19:G19,20)+COUNTIF(Scoresheet!$D19:G19,30)","v":0},{"$f":"COUNTIF(Scoresheet!$D19:H19,20)+COUNTIF(Scoresheet!$D19:H19,30)","v":0},{"$f":"COUNTIF(Scoresheet!$D19:I19,20)+COUNTIF(Scoresheet!$D19:I19,30)","v":0},{"$f":"COUNTIF(Scoresheet!$D19:J19,20)+COUNTIF(Scoresheet!$D19:J19,30)","v":0},{"$f":"COUNTIF(Scoresheet!$D19:K19,20)+COUNTIF(Scoresheet!$D19:K19,30)","v":0},{"$f":"COUNTIF(Scoresheet!$D19:L19,20)+COUNTIF(Scoresheet!$D19:L19,30)","v":0},{"$f":"COUNTIF(Scoresheet!$D19:M19,20)+COUNTIF(Scoresheet!$D19:M19,30)","v":0},{"$f":"COUNTIF(Scoresheet!$D19:N19,20)+COUNTIF(Scoresheet!$D19:N19,30)","v":0},{"$f":"COUNTIF(Scoresheet!$D19:O19,20)+COUNTIF(Scoresheet!$D19:O19,30)","v":0},{"$f":"COUNTIF(Scoresheet!$D19:P19,20)+COUNTIF(Scoresheet!$D19:P19,30)","v":0},{"$f":"COUNTIF(Scoresheet!$D19:Q19,20)+COUNTIF(Scoresheet!$D19:Q19,30)","v":0},{"$f":"COUNTIF(Scoresheet!$D19:R19,20)+COUNTIF(Scoresheet!$D19:R19,30)","v":0},{"$f":"COUNTIF(Scoresheet!$D19:S19,20)+COUNTIF(Scoresheet!$D19:S19,30)","v":0},{"$f":"COUNTIF(Scoresheet!$D19:T19,20)+COUNTIF(Scoresheet!$D19:T19,30)","v":0},{"$f":"COUNTIF(Scoresheet!$D19:U19,20)+COUNTIF(Scoresheet!$D19:U19,30)","v":0},{"$f":"COUNTIF(Scoresheet!$D19:V19,20)+COUNTIF(Scoresheet!$D19:V19,30)","v":0},{"$f":"COUNTIF(Scoresheet!$D19:W19,20)+COUNTIF(Scoresheet!$D19:W19,30)","v":0},{"$f":"COUNTIF(Scoresheet!$D19:X19,20)+COUNTIF(Scoresheet!$D19:X19,30)","v":0},{"$f":"COUNTIF(Scoresheet!$D19:Y19,20)+COUNTIF(Scoresheet!$D19:Y19,30)","v":0},{"$f":"COUNTIF(Scoresheet!$D19:Z19,20)+COUNTIF(Scoresheet!$D19:Z19,30)","v":0},{"$f":"COUNTIF(Scoresheet!$D19:AA19,20)+COUNTIF(Scoresheet!$D19:AA19,30)","v":0},{"$f":"COUNTIF(Scoresheet!$D19:AB19,20)+COUNTIF(Scoresheet!$D19:AB19,30)","v":0},{"$f":"COUNTIF(Scoresheet!$D19:AC19,20)+COUNTIF(Scoresheet!$D19:AC19,30)","v":0},{"$f":"COUNTIF(Scoresheet!$D19:AD19,20)+COUNTIF(Scoresheet!$D19:AD19,30)","v":0},{"$f":"COUNTIF(Scoresheet!$D19:AE19,20)+COUNTIF(Scoresheet!$D19:AE19,30)","v":0},{"$f":"COUNTIF(Scoresheet!$D19:AF19,20)+COUNTIF(Scoresheet!$D19:AF19,30)","v":0},{"$f":"COUNTIF(Scoresheet!$D19:AG19,20)+COUNTIF(Scoresheet!$D19:AG19,30)","v":0},{"$f":"COUNTIF(Scoresheet!$D19:AH19,20)+COUNTIF(Scoresheet!$D19:AH19,30)","v":0},{"$f":"COUNTIF(Scoresheet!$D19:AI19,20)+COUNTIF(Scoresheet!$D19:AI19,30)","v":0},{"$f":"COUNTIF(Scoresheet!$D19:AJ19,20)+COUNTIF(Scoresheet!$D19:AJ19,30)","v":0},{"$f":"COUNTIF(Scoresheet!$D19:AK19,20)+COUNTIF(Scoresheet!$D19:AK19,30)","v":0},{"$f":"COUNTIF(Scoresheet!$D19:AL19,20)+COUNTIF(Scoresheet!$D19:AL19,30)","v":0},{"$f":"COUNTIF(Scoresheet!$D19:AM19,20)+COUNTIF(Scoresheet!$D19:AM19,30)","v":0},{"$f":"COUNTIF(Scoresheet!$D19:AN19,20)+COUNTIF(Scoresheet!$D19:AN19,30)","v":0},{"$f":"COUNTIF(Scoresheet!$D19:AO19,20)+COUNTIF(Scoresheet!$D19:AO19,30)","v":0},{"$f":"COUNTIF(Scoresheet!$D19:AP19,20)+COUNTIF(Scoresheet!$D19:AP19,30)","v":0},{"$f":"COUNTIF(Scoresheet!$D19:AQ19,20)+COUNTIF(Scoresheet!$D19:AQ19,30)","v":0},{"$f":"COUNTIF(Scoresheet!$D19:AR19,20)+COUNTIF(Scoresheet!$D19:AR19,30)","v":0},{"$f":"COUNTIF(Scoresheet!$D19:AS19,20)+COUNTIF(Scoresheet!$D19:AS19,30)","v":0},{"$f":"COUNTIF(Scoresheet!$D19:AT19,20)+COUNTIF(Scoresheet!$D19:AT19,30)","v":0},{"$f":"COUNTIF(Scoresheet!$D19:AU19,20)+COUNTIF(Scoresheet!$D19:AU19,30)","v":0},{"$f":"COUNTIF(Scoresheet!$D19:AV19,20)+COUNTIF(Scoresheet!$D19:AV19,30)","v":0},{"$f":"COUNTIF(Scoresheet!$D19:AW19,20)+COUNTIF(Scoresheet!$D19:AW19,30)","v":0},{"$f":"COUNTIF(Scoresheet!$D19:AX19,20)+COUNTIF(Scoresheet!$D19:AX19,30)","v":0},{"$f":"COUNTIF(Scoresheet!$D19:AY19,20)+COUNTIF(Scoresheet!$D19:AY19,30)","v":0},{"$f":"COUNTIF(Scoresheet!$D19:AZ19,20)+COUNTIF(Scoresheet!$D19:AZ19,30)","v":0},{"$f":"COUNTIF(Scoresheet!$D19:BA19,20)+COUNTIF(Scoresheet!$D19:BA19,30)","v":0},{"$f":"COUNTIF(Scoresheet!$D19:BB19,20)+COUNTIF(Scoresheet!$D19:BB19,30)","v":0}]
[null,null,{"$f":"CONCATENATE(\"#20's \",C20)","v":"#20's Substitute"},{"$f":"COUNTIF(Scoresheet!$D20:D20,20)+COUNTIF(Scoresheet!$D20:D20,30)","v":0},{"$f":"COUNTIF(Scoresheet!$D20:E20,20)+COUNTIF(Scoresheet!$D20:E20,30)","v":0},{"$f":"COUNTIF(Scoresheet!$D20:F20,20)+COUNTIF(Scoresheet!$D20:F20,30)","v":0},{"$f":"COUNTIF(Scoresheet!$D20:G20,20)+COUNTIF(Scoresheet!$D20:G20,30)","v":0},{"$f":"COUNTIF(Scoresheet!$D20:H20,20)+COUNTIF(Scoresheet!$D20:H20,30)","v":0},{"$f":"COUNTIF(Scoresheet!$D20:I20,20)+COUNTIF(Scoresheet!$D20:I20,30)","v":0},{"$f":"COUNTIF(Scoresheet!$D20:J20,20)+COUNTIF(Scoresheet!$D20:J20,30)","v":0},{"$f":"COUNTIF(Scoresheet!$D20:K20,20)+COUNTIF(Scoresheet!$D20:K20,30)","v":0},{"$f":"COUNTIF(Scoresheet!$D20:L20,20)+COUNTIF(Scoresheet!$D20:L20,30)","v":0},{"$f":"COUNTIF(Scoresheet!$D20:M20,20)+COUNTIF(Scoresheet!$D20:M20,30)","v":0},{"$f":"COUNTIF(Scoresheet!$D20:N20,20)+COUNTIF(Scoresheet!$D20:N20,30)","v":0},{"$f":"COUNTIF(Scoresheet!$D20:O20,20)+COUNTIF(Scoresheet!$D20:O20,30)","v":0},{"$f":"COUNTIF(Scoresheet!$D20:P20,20)+COUNTIF(Scoresheet!$D20:P20,30)","v":0},{"$f":"COUNTIF(Scoresheet!$D20:Q20,20)+COUNTIF(Scoresheet!$D20:Q20,30)","v":0},{"$f":"COUNTIF(Scoresheet!$D20:R20,20)+COUNTIF(Scoresheet!$D20:R20,30)","v":0},{"$f":"COUNTIF(Scoresheet!$D20:S20,20)+COUNTIF(Scoresheet!$D20:S20,30)","v":0},{"$f":"COUNTIF(Scoresheet!$D20:T20,20)+COUNTIF(Scoresheet!$D20:T20,30)","v":0},{"$f":"COUNTIF(Scoresheet!$D20:U20,20)+COUNTIF(Scoresheet!$D20:U20,30)","v":0},{"$f":"COUNTIF(Scoresheet!$D20:V20,20)+COUNTIF(Scoresheet!$D20:V20,30)","v":0},{"$f":"COUNTIF(Scoresheet!$D20:W20,20)+COUNTIF(Scoresheet!$D20:W20,30)","v":0},{"$f":"COUNTIF(Scoresheet!$D20:X20,20)+COUNTIF(Scoresheet!$D20:X20,30)","v":0},{"$f":"COUNTIF(Scoresheet!$D20:Y20,20)+COUNTIF(Scoresheet!$D20:Y20,30)","v":0},{"$f":"COUNTIF(Scoresheet!$D20:Z20,20)+COUNTIF(Scoresheet!$D20:Z20,30)","v":0},{"$f":"COUNTIF(Scoresheet!$D20:AA20,20)+COUNTIF(Scoresheet!$D20:AA20,30)","v":0},{"$f":"COUNTIF(Scoresheet!$D20:AB20,20)+COUNTIF(Scoresheet!$D20:AB20,30)","v":0},{"$f":"COUNTIF(Scoresheet!$D20:AC20,20)+COUNTIF(Scoresheet!$D20:AC20,30)","v":0},{"$f":"COUNTIF(Scoresheet!$D20:AD20,20)+COUNTIF(Scoresheet!$D20:AD20,30)","v":0},{"$f":"COUNTIF(Scoresheet!$D20:AE20,20)+COUNTIF(Scoresheet!$D20:AE20,30)","v":0},{"$f":"COUNTIF(Scoresheet!$D20:AF20,20)+COUNTIF(Scoresheet!$D20:AF20,30)","v":0},{"$f":"COUNTIF(Scoresheet!$D20:AG20,20)+COUNTIF(Scoresheet!$D20:AG20,30)","v":0},{"$f":"COUNTIF(Scoresheet!$D20:AH20,20)+COUNTIF(Scoresheet!$D20:AH20,30)","v":0},{"$f":"COUNTIF(Scoresheet!$D20:AI20,20)+COUNTIF(Scoresheet!$D20:AI20,30)","v":0},{"$f":"COUNTIF(Scoresheet!$D20:AJ20,20)+COUNTIF(Scoresheet!$D20:AJ20,30)","v":0},{"$f":"COUNTIF(Scoresheet!$D20:AK20,20)+COUNTIF(Scoresheet!$D20:AK20,30)","v":0},{"$f":"COUNTIF(Scoresheet!$D20:AL20,20)+COUNTIF(Scoresheet!$D20:AL20,30)","v":0},{"$f":"COUNTIF(Scoresheet!$D20:AM20,20)+COUNTIF(Scoresheet!$D20:AM20,30)","v":0},{"$f":"COUNTIF(Scoresheet!$D20:AN20,20)+COUNTIF(Scoresheet!$D20:AN20,30)","v":0},{"$f":"COUNTIF(Scoresheet!$D20:AO20,20)+COUNTIF(Scoresheet!$D20:AO20,30)","v":0},{"$f":"COUNTIF(Scoresheet!$D20:AP20,20)+COUNTIF(Scoresheet!$D20:AP20,30)","v":0},{"$f":"COUNTIF(Scoresheet!$D20:AQ20,20)+COUNTIF(Scoresheet!$D20:AQ20,30)","v":0},{"$f":"COUNTIF(Scoresheet!$D20:AR20,20)+COUNTIF(Scoresheet!$D20:AR20,30)","v":0},{"$f":"COUNTIF(Scoresheet!$D20:AS20,20)+COUNTIF(Scoresheet!$D20:AS20,30)","v":0},{"$f":"COUNTIF(Scoresheet!$D20:AT20,20)+COUNTIF(Scoresheet!$D20:AT20,30)","v":0},{"$f":"COUNTIF(Scoresheet!$D20:AU20,20)+COUNTIF(Scoresheet!$D20:AU20,30)","v":0},{"$f":"COUNTIF(Scoresheet!$D20:AV20,20)+COUNTIF(Scoresheet!$D20:AV20,30)","v":0},{"$f":"COUNTIF(Scoresheet!$D20:AW20,20)+COUNTIF(Scoresheet!$D20:AW20,30)","v":0},{"$f":"COUNTIF(Scoresheet!$D20:AX20,20)+COUNTIF(Scoresheet!$D20:AX20,30)","v":0},{"$f":"COUNTIF(Scoresheet!$D20:AY20,20)+COUNTIF(Scoresheet!$D20:AY20,30)","v":0},{"$f":"COUNTIF(Scoresheet!$D20:AZ20,20)+COUNTIF(Scoresheet!$D20:AZ20,30)","v":0},{"$f":"COUNTIF(Scoresheet!$D20:BA20,20)+COUNTIF(Scoresheet!$D20:BA20,30)","v":0},{"$f":"COUNTIF(Scoresheet!$D20:BB20,20)+COUNTIF(Scoresheet!$D20:BB20,30)","v":0}]
[]
[]
[]
[]
[]
[]
[null,null,{"$f":"Scoresheet!C37","v":"Team Name"}]
[null,null,{"$f":"Scoresheet!C38","v":"Quizzer #1"},20,{"$f":"IF(D43>2,\".\",IF(D48=2,IF(D43=0,IF(Scoresheet!E46=20,30,Scoresheet!E46),Scoresheet!E46),IF(E48>2,IF(E$2=\"R\",\".\",Scoresheet!E46),Scoresheet!E46)))","v":20},{"$f":"IF(E43>2,\".\",IF(E48=2,IF(E43=0,IF(Scoresheet!F46=20,30,Scoresheet!F46),Scoresheet!F46),IF(F48>2,IF(F$2=\"R\",\".\",Scoresheet!F46),Scoresheet!F46)))","v":20},{"$f":"IF(F43>2,\".\",IF(F48=2,IF(F43=0,IF(Scoresheet!G46=20,30,Scoresheet!G46),Scoresheet!G46),IF(G48>2,IF(G$2=\"R\",\".\",Scoresheet!G46),Scoresheet!G46)))","v":20},{"$f":"IF(G43>2,\".\",IF(G48=2,IF(G43=0,IF(Scoresheet!H46=20,30,Scoresheet!H46),Scoresheet!H46),IF(H48>2,IF(H$2=\"R\",\".\",Scoresheet!H46),Scoresheet!H46)))","v":20},{"$f":"IF(H43>2,\".\",IF(H48=2,IF(H43=0,IF(Scoresheet!I46=20,30,Scoresheet!I46),Scoresheet!I46),IF(I48>2,IF(I$2=\"R\",\".\",Scoresheet!I46),Scoresheet!I46)))","v":20},{"$f":"IF(I43>2,\".\",IF(I48=2,IF(I43=0,IF(Scoresheet!J46=20,30,Scoresheet!J46),Scoresheet!J46),IF(J48>2,IF(J$2=\"R\",\".\",Scoresheet!J46),Scoresheet!J46)))","v":20},{"$f":"IF(J43>2,\".\",IF(J48=2,IF(J43=0,IF(Scoresheet!K46=20,30,Scoresheet!K46),Scoresheet!K46),IF(K48>2,IF(K$2=\"R\",\".\",Scoresheet!K46),Scoresheet!K46)))","v":20},{"$f":"IF(K43>2,\".\",IF(K48=2,IF(K43=0,IF(Scoresheet!L46=20,30,Scoresheet!L46),Scoresheet!L46),IF(L48>2,IF(L$2=\"R\",\".\",Scoresheet!L46),Scoresheet!L46)))","v":20},{"$f":"IF(L43>2,\".\",IF(L48=2,IF(L43=0,IF(Scoresheet!M46=20,30,Scoresheet!M46),Scoresheet!M46),IF(M48>2,IF(M$2=\"R\",\".\",Scoresheet!M46),Scoresheet!M46)))","v":20},{"$f":"IF(M43>2,\".\",IF(M48=2,IF(M43=0,IF(Scoresheet!N46=20,30,Scoresheet!N46),Scoresheet!N46),IF(N48>2,IF(N$2=\"R\",\".\",Scoresheet!N46),Scoresheet!N46)))","v":20},{"$f":"IF(N43>2,\".\",IF(N48=2,IF(N43=0,IF(Scoresheet!O46=20,30,Scoresheet!O46),Scoresheet!O46),IF(O48>2,IF(O$2=\"R\",\".\",Scoresheet!O46),Scoresheet!O46)))","v":20},{"$f":"IF(O43>2,\".\",IF(O48=2,IF(O43=0,IF(Scoresheet!P46=20,30,Scoresheet!P46),Scoresheet!P46),IF(P48>2,IF(P$2=\"R\",\".\",Scoresheet!P46),Scoresheet!P46)))","v":20},{"$f":"IF(P43>2,\".\",IF(P48=2,IF(P43=0,IF(Scoresheet!Q46=20,30,Scoresheet!Q46),Scoresheet!Q46),IF(Q48>2,IF(Q$2=\"R\",\".\",Scoresheet!Q46),Scoresheet!Q46)))","v":10},{"$f":"IF(Q43>2,\".\",IF(Q48=2,IF(Q43=0,IF(Scoresheet!R46=20,30,Scoresheet!R46),Scoresheet!R46),IF(R48>2,IF(R$2=\"R\",\".\",Scoresheet!R46),Scoresheet!R46)))","v":20},{"$f":"IF(R43>2,\".\",IF(R48=2,IF(R43=0,IF(Scoresheet!S46=20,30,Scoresheet!S46),Scoresheet!S46),IF(S48>2,IF(S$2=\"R\",\".\",Scoresheet!S46),Scoresheet!S46)))","v":20},{"$f":"IF(S43>2,\".\",IF(S48=2,IF(S43=0,IF(Scoresheet!T46=20,30,Scoresheet!T46),Scoresheet!T46),IF(T48>2,IF(T$2=\"R\",\".\",Scoresheet!T46),Scoresheet!T46)))","v":10},{"$f":"IF(T43>2,\".\",IF(T48=2,IF(T43=0,IF(Scoresheet!U46=20,30,Scoresheet!U46),Scoresheet!U46),IF(U48>2,IF(U$2=\"R\",\".\",Scoresheet!U46),Scoresheet!U46)))","v":20},{"$f":"IF(U43>2,\".\",IF(U48=2,IF(U43=0,IF(Scoresheet!V46=20,30,Scoresheet!V46),Scoresheet!V46),IF(V48>2,IF(V$2=\"R\",\".\",Scoresheet!V46),Scoresheet!V46)))","v":20},{"$f":"IF(V43>2,\".\",IF(V48=2,IF(V43=0,IF(Scoresheet!W46=20,30,Scoresheet!W46),Scoresheet!W46),IF(W48>2,IF(W$2=\"R\",\".\",Scoresheet!W46),Scoresheet!W46)))","v":10},{"$f":"IF(W43>2,\".\",IF(W48=2,IF(W43=0,IF(Scoresheet!X46=20,30,Scoresheet!X46),Scoresheet!X46),IF(X48>2,IF(X$2=\"R\",\".\",Scoresheet!X46),Scoresheet!X46)))","v":20},{"$f":"IF(X43>2,\".\",IF(X48=2,IF(X43=0,IF(Scoresheet!Y46=20,30,Scoresheet!Y46),Scoresheet!Y46),IF(Y48>2,IF(Y$2=\"R\",\".\",Scoresheet!Y46),Scoresheet!Y46)))","v":"?"},{"$f":"IF(Y43>2,\".\",IF(Y48=2,IF(Y43=0,IF(Scoresheet!Z46=20,30,Scoresheet!Z46),Scoresheet!Z46),IF(Z48>2,IF(Z$2=\"R\",\".\",Scoresheet!Z46),Scoresheet!Z46)))","v":"?"},{"$f":"IF(Z43>2,\".\",IF(Z48=2,IF(Z43=0,IF(Scoresheet!AA46=20,30,Scoresheet!AA46),Scoresheet!AA46),IF(AA48>2,IF(AA$2=\"R\",\".\",Scoresheet!AA46),Scoresheet!AA46)))","v":"?"},{"$f":"IF(AA43>2,\".\",IF(AA48=2,IF(AA43=0,IF(Scoresheet!AB46=20,30,Scoresheet!AB46),Scoresheet!AB46),IF(AB48>2,IF(AB$2=\"R\",\".\",Scoresheet!AB46),Scoresheet!AB46)))","v":"?"},{"$f":"IF(AB43>2,\".\",IF(AB48=2,IF(AB43=0,IF(Scoresheet!AC46=20,30,Scoresheet!AC46),Scoresheet!AC46),IF(AC48>2,IF(AC$2=\"R\",\".\",Scoresheet!AC46),Scoresheet!AC46)))","v":"?"},{"$f":"IF(AC43>2,\".\",IF(AC48=2,IF(AC43=0,IF(Scoresheet!AD46=20,30,Scoresheet!AD46),Scoresheet!AD46),IF(AD48>2,IF(AD$2=\"R\",\".\",Scoresheet!AD46),Scoresheet!AD46)))","v":"?"},{"$f":"IF(AD43>2,\".\",IF(AD48=2,IF(AD43=0,IF(Scoresheet!AE46=20,30,Scoresheet!AE46),Scoresheet!AE46),IF(AE48>2,IF(AE$2=\"R\",\".\",Scoresheet!AE46),Scoresheet!AE46)))","v":"?"},{"$f":"IF(AE43>2,\".\",IF(AE48=2,IF(AE43=0,IF(Scoresheet!AF46=20,30,Scoresheet!AF46),Scoresheet!AF46),IF(AF48>2,IF(AF$2=\"R\",\".\",Scoresheet!AF46),Scoresheet!AF46)))","v":"?"},{"$f":"IF(AF43>2,\".\",IF(AF48=2,IF(AF43=0,IF(Scoresheet!AG46=20,30,Scoresheet!AG46),Scoresheet!AG46),IF(AG48>2,IF(AG$2=\"R\",\".\",Scoresheet!AG46),Scoresheet!AG46)))","v":"?"},{"$f":"IF(AG43>2,\".\",IF(AG48=2,IF(AG43=0,IF(Scoresheet!AH46=20,30,Scoresheet!AH46),Scoresheet!AH46),IF(AH48>2,IF(AH$2=\"R\",\".\",Scoresheet!AH46),Scoresheet!AH46)))","v":"?"},{"$f":"IF(AH43>2,\".\",IF(AH48=2,IF(AH43=0,IF(Scoresheet!AI46=20,30,Scoresheet!AI46),Scoresheet!AI46),IF(AI48>2,IF(AI$2=\"R\",\".\",Scoresheet!AI46),Scoresheet!AI46)))","v":"?"},{"$f":"IF(AI43>2,\".\",IF(AI48=2,IF(AI43=0,IF(Scoresheet!AJ46=20,30,Scoresheet!AJ46),Scoresheet!AJ46),IF(AJ48>2,IF(AJ$2=\"R\",\".\",Scoresheet!AJ46),Scoresheet!AJ46)))","v":"?"},{"$f":"IF(AJ43>2,\".\",IF(AJ48=2,IF(AJ43=0,IF(Scoresheet!AK46=20,30,Scoresheet!AK46),Scoresheet!AK46),IF(AK48>2,IF(AK$2=\"R\",\".\",Scoresheet!AK46),Scoresheet!AK46)))","v":"?"},{"$f":"IF(AK43>2,\".\",IF(AK48=2,IF(AK43=0,IF(Scoresheet!AL46=20,30,Scoresheet!AL46),Scoresheet!AL46),IF(AL48>2,IF(AL$2=\"R\",\".\",Scoresheet!AL46),Scoresheet!AL46)))","v":"?"},{"$f":"IF(AL43>2,\".\",IF(AL48=2,IF(AL43=0,IF(Scoresheet!AM46=20,30,Scoresheet!AM46),Scoresheet!AM46),IF(AM48>2,IF(AM$2=\"R\",\".\",Scoresheet!AM46),Scoresheet!AM46)))","v":"?"},{"$f":"IF(AM43>2,\".\",IF(AM48=2,IF(AM43=0,IF(Scoresheet!AN46=20,30,Scoresheet!AN46),Scoresheet!AN46),IF(AN48>2,IF(AN$2=\"R\",\".\",Scoresheet!AN46),Scoresheet!AN46)))","v":"?"},{"$f":"IF(AN43>2,\".\",IF(AN48=2,IF(AN43=0,IF(Scoresheet!AO46=20,30,Scoresheet!AO46),Scoresheet!AO46),IF(AO48>2,IF(AO$2=\"R\",\".\",Scoresheet!AO46),Scoresheet!AO46)))","v":"?"},{"$f":"IF(AO43>2,\".\",IF(AO48=2,IF(AO43=0,IF(Scoresheet!AP46=20,30,Scoresheet!AP46),Scoresheet!AP46),IF(AP48>2,IF(AP$2=\"R\",\".\",Scoresheet!AP46),Scoresheet!AP46)))","v":"?"},{"$f":"IF(AP43>2,\".\",IF(AP48=2,IF(AP43=0,IF(Scoresheet!AQ46=20,30,Scoresheet!AQ46),Scoresheet!AQ46),IF(AQ48>2,IF(AQ$2=\"R\",\".\",Scoresheet!AQ46),Scoresheet!AQ46)))","v":"?"},{"$f":"IF(AQ43>2,\".\",IF(AQ48=2,IF(AQ43=0,IF(Scoresheet!AR46=20,30,Scoresheet!AR46),Scoresheet!AR46),IF(AR48>2,IF(AR$2=\"R\",\".\",Scoresheet!AR46),Scoresheet!AR46)))","v":"?"},{"$f":"IF(AR43>2,\".\",IF(AR48=2,IF(AR43=0,IF(Scoresheet!AS46=20,30,Scoresheet!AS46),Scoresheet!AS46),IF(AS48>2,IF(AS$2=\"R\",\".\",Scoresheet!AS46),Scoresheet!AS46)))","v":"?"},{"$f":"IF(AS43>2,\".\",IF(AS48=2,IF(AS43=0,IF(Scoresheet!AT46=20,30,Scoresheet!AT46),Scoresheet!AT46),IF(AT48>2,IF(AT$2=\"R\",\".\",Scoresheet!AT46),Scoresheet!AT46)))","v":"?"},{"$f":"IF(AT43>2,\".\",IF(AT48=2,IF(AT43=0,IF(Scoresheet!AU46=20,30,Scoresheet!AU46),Scoresheet!AU46),IF(AU48>2,IF(AU$2=\"R\",\".\",Scoresheet!AU46),Scoresheet!AU46)))","v":"?"},{"$f":"IF(AU43>2,\".\",IF(AU48=2,IF(AU43=0,IF(Scoresheet!AV46=20,30,Scoresheet!AV46),Scoresheet!AV46),IF(AV48>2,IF(AV$2=\"R\",\".\",Scoresheet!AV46),Scoresheet!AV46)))","v":"?"},{"$f":"IF(AV43>2,\".\",IF(AV48=2,IF(AV43=0,IF(Scoresheet!AW46=20,30,Scoresheet!AW46),Scoresheet!AW46),IF(AW48>2,IF(AW$2=\"R\",\".\",Scoresheet!AW46),Scoresheet!AW46)))","v":"?"},{"$f":"IF(AW43>2,\".\",IF(AW48=2,IF(AW43=0,IF(Scoresheet!AX46=20,30,Scoresheet!AX46),Scoresheet!AX46),IF(AX48>2,IF(AX$2=\"R\",\".\",Scoresheet!AX46),Scoresheet!AX46)))","v":"?"},{"$f":"IF(AX43>2,\".\",IF(AX48=2,IF(AX43=0,IF(Scoresheet!AY46=20,30,Scoresheet!AY46),Scoresheet!AY46),IF(AY48>2,IF(AY$2=\"R\",\".\",Scoresheet!AY46),Scoresheet!AY46)))","v":"?"},{"$f":"IF(AY43>2,\".\",IF(AY48=2,IF(AY43=0,IF(Scoresheet!AZ46=20,30,Scoresheet!AZ46),Scoresheet!AZ46),IF(AZ48>2,IF(AZ$2=\"R\",\".\",Scoresheet!AZ46),Scoresheet!AZ46)))","v":"?"},{"$f":"IF(AZ43>2,\".\",IF(AZ48=2,IF(AZ43=0,IF(Scoresheet!BA46=20,30,Scoresheet!BA46),Scoresheet!BA46),IF(BA48>2,IF(BA$2=\"R\",\".\",Scoresheet!BA46),Scoresheet!BA46)))","v":"?"},{"$f":"IF(BA43>2,\".\",IF(BA48=2,IF(BA43=0,IF(Scoresheet!BB46=20,30,Scoresheet!BB46),Scoresheet!BB46),IF(BB48>2,IF(BB$2=\"R\",\".\",Scoresheet!BB46),Scoresheet!BB46)))","v":"?"}]
[null,null,{"$f":"Scoresheet!C39","v":"Quizzer #2"},20,{"$f":"IF(D44>2,\".\",IF(D49=2,IF(D44=0,IF(Scoresheet!E46=20,30,Scoresheet!E46),Scoresheet!E46),IF(E49>2,IF(E$2=\"R\",\".\",Scoresheet!E46),Scoresheet!E46)))","v":20},{"$f":"IF(E44>2,\".\",IF(E49=2,IF(E44=0,IF(Scoresheet!F46=20,30,Scoresheet!F46),Scoresheet!F46),IF(F49>2,IF(F$2=\"R\",\".\",Scoresheet!F46),Scoresheet!F46)))","v":20},{"$f":"IF(F44>2,\".\",IF(F49=2,IF(F44=0,IF(Scoresheet!G46=20,30,Scoresheet!G46),Scoresheet!G46),IF(G49>2,IF(G$2=\"R\",\".\",Scoresheet!G46),Scoresheet!G46)))","v":20},{"$f":"IF(G44>2,\".\",IF(G49=2,IF(G44=0,IF(Scoresheet!H46=20,30,Scoresheet!H46),Scoresheet!H46),IF(H49>2,IF(H$2=\"R\",\".\",Scoresheet!H46),Scoresheet!H46)))","v":20},{"$f":"IF(H44>2,\".\",IF(H49=2,IF(H44=0,IF(Scoresheet!I46=20,30,Scoresheet!I46),Scoresheet!I46),IF(I49>2,IF(I$2=\"R\",\".\",Scoresheet!I46),Scoresheet!I46)))","v":20},{"$f":"IF(I44>2,\".\",IF(I49=2,IF(I44=0,IF(Scoresheet!J46=20,30,Scoresheet!J46),Scoresheet!J46),IF(J49>2,IF(J$2=\"R\",\".\",Scoresheet!J46),Scoresheet!J46)))","v":20},{"$f":"IF(J44>2,\".\",IF(J49=2,IF(J44=0,IF(Scoresheet!K46=20,30,Scoresheet!K46),Scoresheet!K46),IF(K49>2,IF(K$2=\"R\",\".\",Scoresheet!K46),Scoresheet!K46)))","v":20},{"$f":"IF(K44>2,\".\",IF(K49=2,IF(K44=0,IF(Scoresheet!L46=20,30,Scoresheet!L46),Scoresheet!L46),IF(L49>2,IF(L$2=\"R\",\".\",Scoresheet!L46),Scoresheet!L46)))","v":20},{"$f":"IF(L44>2,\".\",IF(L49=2,IF(L44=0,IF(Scoresheet!M46=20,30,Scoresheet!M46),Scoresheet!M46),IF(M49>2,IF(M$2=\"R\",\".\",Scoresheet!M46),Scoresheet!M46)))","v":20},{"$f":"IF(M44>2,\".\",IF(M49=2,IF(M44=0,IF(Scoresheet!N46=20,30,Scoresheet!N46),Scoresheet!N46),IF(N49>2,IF(N$2=\"R\",\".\",Scoresheet!N46),Scoresheet!N46)))","v":20},{"$f":"IF(N44>2,\".\",IF(N49=2,IF(N44=0,IF(Scoresheet!O46=20,30,Scoresheet!O46),Scoresheet!O46),IF(O49>2,IF(O$2=\"R\",\".\",Scoresheet!O46),Scoresheet!O46)))","v":20},{"$f":"IF(O44>2,\".\",IF(O49=2,IF(O44=0,IF(Scoresheet!P46=20,30,Scoresheet!P46),Scoresheet!P46),IF(P49>2,IF(P$2=\"R\",\".\",Scoresheet!P46),Scoresheet!P46)))","v":20},{"$f":"IF(P44>2,\".\",IF(P49=2,IF(P44=0,IF(Scoresheet!Q46=20,30,Scoresheet!Q46),Scoresheet!Q46),IF(Q49>2,IF(Q$2=\"R\",\".\",Scoresheet!Q46),Scoresheet!Q46)))","v":10},{"$f":"IF(Q44>2,\".\",IF(Q49=2,IF(Q44=0,IF(Scoresheet!R46=20,30,Scoresheet!R46),Scoresheet!R46),IF(R49>2,IF(R$2=\"R\",\".\",Scoresheet!R46),Scoresheet!R46)))","v":20},{"$f":"IF(R44>2,\".\",IF(R49=2,IF(R44=0,IF(Scoresheet!S46=20,30,Scoresheet!S46),Scoresheet!S46),IF(S49>2,IF(S$2=\"R\",\".\",Scoresheet!S46),Scoresheet!S46)))","v":20},{"$f":"IF(S44>2,\".\",IF(S49=2,IF(S44=0,IF(Scoresheet!T46=20,30,Scoresheet!T46),Scoresheet!T46),IF(T49>2,IF(T$2=\"R\",\".\",Scoresheet!T46),Scoresheet!T46)))","v":10},{"$f":"IF(T44>2,\".\",IF(T49=2,IF(T44=0,IF(Scoresheet!U46=20,30,Scoresheet!U46),Scoresheet!U46),IF(U49>2,IF(U$2=\"R\",\".\",Scoresheet!U46),Scoresheet!U46)))","v":20},{"$f":"IF(U44>2,\".\",IF(U49=2,IF(U44=0,IF(Scoresheet!V46=20,30,Scoresheet!V46),Scoresheet!V46),IF(V49>2,IF(V$2=\"R\",\".\",Scoresheet!V46),Scoresheet!V46)))","v":20},{"$f":"IF(V44>2,\".\",IF(V49=2,IF(V44=0,IF(Scoresheet!W46=20,30,Scoresheet!W46),Scoresheet!W46),IF(W49>2,IF(W$2=\"R\",\".\",Scoresheet!W46),Scoresheet!W46)))","v":10},{"$f":"IF(W44>2,\".\",IF(W49=2,IF(W44=0,IF(Scoresheet!X46=20,30,Scoresheet!X46),Scoresheet!X46),IF(X49>2,IF(X$2=\"R\",\".\",Scoresheet!X46),Scoresheet!X46)))","v":20},{"$f":"IF(X44>2,\".\",IF(X49=2,IF(X44=0,IF(Scoresheet!Y46=20,30,Scoresheet!Y46),Scoresheet!Y46),IF(Y49>2,IF(Y$2=\"R\",\".\",Scoresheet!Y46),Scoresheet!Y46)))","v":"?"},{"$f":"IF(Y44>2,\".\",IF(Y49=2,IF(Y44=0,IF(Scoresheet!Z46=20,30,Scoresheet!Z46),Scoresheet!Z46),IF(Z49>2,IF(Z$2=\"R\",\".\",Scoresheet!Z46),Scoresheet!Z46)))","v":"?"},{"$f":"IF(Z44>2,\".\",IF(Z49=2,IF(Z44=0,IF(Scoresheet!AA46=20,30,Scoresheet!AA46),Scoresheet!AA46),IF(AA49>2,IF(AA$2=\"R\",\".\",Scoresheet!AA46),Scoresheet!AA46)))","v":"?"},{"$f":"IF(AA44>2,\".\",IF(AA49=2,IF(AA44=0,IF(Scoresheet!AB46=20,30,Scoresheet!AB46),Scoresheet!AB46),IF(AB49>2,IF(AB$2=\"R\",\".\",Scoresheet!AB46),Scoresheet!AB46)))","v":"?"},{"$f":"IF(AB44>2,\".\",IF(AB49=2,IF(AB44=0,IF(Scoresheet!AC46=20,30,Scoresheet!AC46),Scoresheet!AC46),IF(AC49>2,IF(AC$2=\"R\",\".\",Scoresheet!AC46),Scoresheet!AC46)))","v":"?"},{"$f":"IF(AC44>2,\".\",IF(AC49=2,IF(AC44=0,IF(Scoresheet!AD46=20,30,Scoresheet!AD46),Scoresheet!AD46),IF(AD49>2,IF(AD$2=\"R\",\".\",Scoresheet!AD46),Scoresheet!AD46)))","v":"?"},{"$f":"IF(AD44>2,\".\",IF(AD49=2,IF(AD44=0,IF(Scoresheet!AE46=20,30,Scoresheet!AE46),Scoresheet!AE46),IF(AE49>2,IF(AE$2=\"R\",\".\",Scoresheet!AE46),Scoresheet!AE46)))","v":"?"},{"$f":"IF(AE44>2,\".\",IF(AE49=2,IF(AE44=0,IF(Scoresheet!AF46=20,30,Scoresheet!AF46),Scoresheet!AF46),IF(AF49>2,IF(AF$2=\"R\",\".\",Scoresheet!AF46),Scoresheet!AF46)))","v":"?"},{"$f":"IF(AF44>2,\".\",IF(AF49=2,IF(AF44=0,IF(Scoresheet!AG46=20,30,Scoresheet!AG46),Scoresheet!AG46),IF(AG49>2,IF(AG$2=\"R\",\".\",Scoresheet!AG46),Scoresheet!AG46)))","v":"?"},{"$f":"IF(AG44>2,\".\",IF(AG49=2,IF(AG44=0,IF(Scoresheet!AH46=20,30,Scoresheet!AH46),Scoresheet!AH46),IF(AH49>2,IF(AH$2=\"R\",\".\",Scoresheet!AH46),Scoresheet!AH46)))","v":"?"},{"$f":"IF(AH44>2,\".\",IF(AH49=2,IF(AH44=0,IF(Scoresheet!AI46=20,30,Scoresheet!AI46),Scoresheet!AI46),IF(AI49>2,IF(AI$2=\"R\",\".\",Scoresheet!AI46),Scoresheet!AI46)))","v":"?"},{"$f":"IF(AI44>2,\".\",IF(AI49=2,IF(AI44=0,IF(Scoresheet!AJ46=20,30,Scoresheet!AJ46),Scoresheet!AJ46),IF(AJ49>2,IF(AJ$2=\"R\",\".\",Scoresheet!AJ46),Scoresheet!AJ46)))","v":"?"},{"$f":"IF(AJ44>2,\".\",IF(AJ49=2,IF(AJ44=0,IF(Scoresheet!AK46=20,30,Scoresheet!AK46),Scoresheet!AK46),IF(AK49>2,IF(AK$2=\"R\",\".\",Scoresheet!AK46),Scoresheet!AK46)))","v":"?"},{"$f":"IF(AK44>2,\".\",IF(AK49=2,IF(AK44=0,IF(Scoresheet!AL46=20,30,Scoresheet!AL46),Scoresheet!AL46),IF(AL49>2,IF(AL$2=\"R\",\".\",Scoresheet!AL46),Scoresheet!AL46)))","v":"?"},{"$f":"IF(AL44>2,\".\",IF(AL49=2,IF(AL44=0,IF(Scoresheet!AM46=20,30,Scoresheet!AM46),Scoresheet!AM46),IF(AM49>2,IF(AM$2=\"R\",\".\",Scoresheet!AM46),Scoresheet!AM46)))","v":"?"},{"$f":"IF(AM44>2,\".\",IF(AM49=2,IF(AM44=0,IF(Scoresheet!AN46=20,30,Scoresheet!AN46),Scoresheet!AN46),IF(AN49>2,IF(AN$2=\"R\",\".\",Scoresheet!AN46),Scoresheet!AN46)))","v":"?"},{"$f":"IF(AN44>2,\".\",IF(AN49=2,IF(AN44=0,IF(Scoresheet!AO46=20,30,Scoresheet!AO46),Scoresheet!AO46),IF(AO49>2,IF(AO$2=\"R\",\".\",Scoresheet!AO46),Scoresheet!AO46)))","v":"?"},{"$f":"IF(AO44>2,\".\",IF(AO49=2,IF(AO44=0,IF(Scoresheet!AP46=20,30,Scoresheet!AP46),Scoresheet!AP46),IF(AP49>2,IF(AP$2=\"R\",\".\",Scoresheet!AP46),Scoresheet!AP46)))","v":"?"},{"$f":"IF(AP44>2,\".\",IF(AP49=2,IF(AP44=0,IF(Scoresheet!AQ46=20,30,Scoresheet!AQ46),Scoresheet!AQ46),IF(AQ49>2,IF(AQ$2=\"R\",\".\",Scoresheet!AQ46),Scoresheet!AQ46)))","v":"?"},{"$f":"IF(AQ44>2,\".\",IF(AQ49=2,IF(AQ44=0,IF(Scoresheet!AR46=20,30,Scoresheet!AR46),Scoresheet!AR46),IF(AR49>2,IF(AR$2=\"R\",\".\",Scoresheet!AR46),Scoresheet!AR46)))","v":"?"},{"$f":"IF(AR44>2,\".\",IF(AR49=2,IF(AR44=0,IF(Scoresheet!AS46=20,30,Scoresheet!AS46),Scoresheet!AS46),IF(AS49>2,IF(AS$2=\"R\",\".\",Scoresheet!AS46),Scoresheet!AS46)))","v":"?"},{"$f":"IF(AS44>2,\".\",IF(AS49=2,IF(AS44=0,IF(Scoresheet!AT46=20,30,Scoresheet!AT46),Scoresheet!AT46),IF(AT49>2,IF(AT$2=\"R\",\".\",Scoresheet!AT46),Scoresheet!AT46)))","v":"?"},{"$f":"IF(AT44>2,\".\",IF(AT49=2,IF(AT44=0,IF(Scoresheet!AU46=20,30,Scoresheet!AU46),Scoresheet!AU46),IF(AU49>2,IF(AU$2=\"R\",\".\",Scoresheet!AU46),Scoresheet!AU46)))","v":"?"},{"$f":"IF(AU44>2,\".\",IF(AU49=2,IF(AU44=0,IF(Scoresheet!AV46=20,30,Scoresheet!AV46),Scoresheet!AV46),IF(AV49>2,IF(AV$2=\"R\",\".\",Scoresheet!AV46),Scoresheet!AV46)))","v":"?"},{"$f":"IF(AV44>2,\".\",IF(AV49=2,IF(AV44=0,IF(Scoresheet!AW46=20,30,Scoresheet!AW46),Scoresheet!AW46),IF(AW49>2,IF(AW$2=\"R\",\".\",Scoresheet!AW46),Scoresheet!AW46)))","v":"?"},{"$f":"IF(AW44>2,\".\",IF(AW49=2,IF(AW44=0,IF(Scoresheet!AX46=20,30,Scoresheet!AX46),Scoresheet!AX46),IF(AX49>2,IF(AX$2=\"R\",\".\",Scoresheet!AX46),Scoresheet!AX46)))","v":"?"},{"$f":"IF(AX44>2,\".\",IF(AX49=2,IF(AX44=0,IF(Scoresheet!AY46=20,30,Scoresheet!AY46),Scoresheet!AY46),IF(AY49>2,IF(AY$2=\"R\",\".\",Scoresheet!AY46),Scoresheet!AY46)))","v":"?"},{"$f":"IF(AY44>2,\".\",IF(AY49=2,IF(AY44=0,IF(Scoresheet!AZ46=20,30,Scoresheet!AZ46),Scoresheet!AZ46),IF(AZ49>2,IF(AZ$2=\"R\",\".\",Scoresheet!AZ46),Scoresheet!AZ46)))","v":"?"},{"$f":"IF(AZ44>2,\".\",IF(AZ49=2,IF(AZ44=0,IF(Scoresheet!BA46=20,30,Scoresheet!BA46),Scoresheet!BA46),IF(BA49>2,IF(BA$2=\"R\",\".\",Scoresheet!BA46),Scoresheet!BA46)))","v":"?"},{"$f":"IF(BA44>2,\".\",IF(BA49=2,IF(BA44=0,IF(Scoresheet!BB46=20,30,Scoresheet!BB46),Scoresheet!BB46),IF(BB49>2,IF(BB$2=\"R\",\".\",Scoresheet!BB46),Scoresheet!BB46)))","v":"?"}]
[null,null,{"$f":"Scoresheet!C40","v":"Quizzer #3"},20,{"$f":"IF(D45>2,\".\",IF(D50=2,IF(D45=0,IF(Scoresheet!E46=20,30,Scoresheet!E46),Scoresheet!E46),IF(E50>2,IF(E$2=\"R\",\".\",Scoresheet!E46),Scoresheet!E46)))","v":20},{"$f":"IF(E45>2,\".\",IF(E50=2,IF(E45=0,IF(Scoresheet!F46=20,30,Scoresheet!F46),Scoresheet!F46),IF(F50>2,IF(F$2=\"R\",\".\",Scoresheet!F46),Scoresheet!F46)))","v":20},{"$f":"IF(F45>2,\".\",IF(F50=2,IF(F45=0,IF(Scoresheet!G46=20,30,Scoresheet!G46),Scoresheet!G46),IF(G50>2,IF(G$2=\"R\",\".\",Scoresheet!G46),Scoresheet!G46)))","v":20},{"$f":"IF(G45>2,\".\",IF(G50=2,IF(G45=0,IF(Scoresheet!H46=20,30,Scoresheet!H46),Scoresheet!H46),IF(H50>2,IF(H$2=\"R\",\".\",Scoresheet!H46),Scoresheet!H46)))","v":20},{"$f":"IF(H45>2,\".\",IF(H50=2,IF(H45=0,IF(Scoresheet!I46=20,30,Scoresheet!I46),Scoresheet!I46),IF(I50>2,IF(I$2=\"R\",\".\",Scoresheet!I46),Scoresheet!I46)))","v":20},{"$f":"IF(I45>2,\".\",IF(I50=2,IF(I45=0,IF(Scoresheet!J46=20,30,Scoresheet!J46),Scoresheet!J46),IF(J50>2,IF(J$2=\"R\",\".\",Scoresheet!J46),Scoresheet!J46)))","v":20},{"$f":"IF(J45>2,\".\",IF(J50=2,IF(J45=0,IF(Scoresheet!K46=20,30,Scoresheet!K46),Scoresheet!K46),IF(K50>2,IF(K$2=\"R\",\".\",Scoresheet!K46),Scoresheet!K46)))","v":20},{"$f":"IF(K45>2,\".\",IF(K50=2,IF(K45=0,IF(Scoresheet!L46=20,30,Scoresheet!L46),Scoresheet!L46),IF(L50>2,IF(L$2=\"R\",\".\",Scoresheet!L46),Scoresheet!L46)))","v":20},{"$f":"IF(L45>2,\".\",IF(L50=2,IF(L45=0,IF(Scoresheet!M46=20,30,Scoresheet!M46),Scoresheet!M46),IF(M50>2,IF(M$2=\"R\",\".\",Scoresheet!M46),Scoresheet!M46)))","v":20},{"$f":"IF(M45>2,\".\",IF(M50=2,IF(M45=0,IF(Scoresheet!N46=20,30,Scoresheet!N46),Scoresheet!N46),IF(N50>2,IF(N$2=\"R\",\".\",Scoresheet!N46),Scoresheet!N46)))","v":20},{"$f":"IF(N45>2,\".\",IF(N50=2,IF(N45=0,IF(Scoresheet!O46=20,30,Scoresheet!O46),Scoresheet!O46),IF(O50>2,IF(O$2=\"R\",\".\",Scoresheet!O46),Scoresheet!O46)))","v":20},{"$f":"IF(O45>2,\".\",IF(O50=2,IF(O45=0,IF(Scoresheet!P46=20,30,Scoresheet!P46),Scoresheet!P46),IF(P50>2,IF(P$2=\"R\",\".\",Scoresheet!P46),Scoresheet!P46)))","v":20},{"$f":"IF(P45>2,\".\",IF(P50=2,IF(P45=0,IF(Scoresheet!Q46=20,30,Scoresheet!Q46),Scoresheet!Q46),IF(Q50>2,IF(Q$2=\"R\",\".\",Scoresheet!Q46),Scoresheet!Q46)))","v":10},{"$f":"IF(Q45>2,\".\",IF(Q50=2,IF(Q45=0,IF(Scoresheet!R46=20,30,Scoresheet!R46),Scoresheet!R46),IF(R50>2,IF(R$2=\"R\",\".\",Scoresheet!R46),Scoresheet!R46)))","v":20},{"$f":"IF(R45>2,\".\",IF(R50=2,IF(R45=0,IF(Scoresheet!S46=20,30,Scoresheet!S46),Scoresheet!S46),IF(S50>2,IF(S$2=\"R\",\".\",Scoresheet!S46),Scoresheet!S46)))","v":20},{"$f":"IF(S45>2,\".\",IF(S50=2,IF(S45=0,IF(Scoresheet!T46=20,30,Scoresheet!T46),Scoresheet!T46),IF(T50>2,IF(T$2=\"R\",\".\",Scoresheet!T46),Scoresheet!T46)))","v":10},{"$f":"IF(T45>2,\".\",IF(T50=2,IF(T45=0,IF(Scoresheet!U46=20,30,Scoresheet!U46),Scoresheet!U46),IF(U50>2,IF(U$2=\"R\",\".\",Scoresheet!U46),Scoresheet!U46)))","v":20},{"$f":"IF(U45>2,\".\",IF(U50=2,IF(U45=0,IF(Scoresheet!V46=20,30,Scoresheet!V46),Scoresheet!V46),IF(V50>2,IF(V$2=\"R\",\".\",Scoresheet!V46),Scoresheet!V46)))","v":20},{"$f":"IF(V45>2,\".\",IF(V50=2,IF(V45=0,IF(Scoresheet!W46=20,30,Scoresheet!W46),Scoresheet!W46),IF(W50>2,IF(W$2=\"R\",\".\",Scoresheet!W46),Scoresheet!W46)))","v":10},{"$f":"IF(W45>2,\".\",IF(W50=2,IF(W45=0,IF(Scoresheet!X46=20,30,Scoresheet!X46),Scoresheet!X46),IF(X50>2,IF(X$2=\"R\",\".\",Scoresheet!X46),Scoresheet!X46)))","v":20},{"$f":"IF(X45>2,\".\",IF(X50=2,IF(X45=0,IF(Scoresheet!Y46=20,30,Scoresheet!Y46),Scoresheet!Y46),IF(Y50>2,IF(Y$2=\"R\",\".\",Scoresheet!Y46),Scoresheet!Y46)))","v":"?"},{"$f":"IF(Y45>2,\".\",IF(Y50=2,IF(Y45=0,IF(Scoresheet!Z46=20,30,Scoresheet!Z46),Scoresheet!Z46),IF(Z50>2,IF(Z$2=\"R\",\".\",Scoresheet!Z46),Scoresheet!Z46)))","v":"?"},{"$f":"IF(Z45>2,\".\",IF(Z50=2,IF(Z45=0,IF(Scoresheet!AA46=20,30,Scoresheet!AA46),Scoresheet!AA46),IF(AA50>2,IF(AA$2=\"R\",\".\",Scoresheet!AA46),Scoresheet!AA46)))","v":"?"},{"$f":"IF(AA45>2,\".\",IF(AA50=2,IF(AA45=0,IF(Scoresheet!AB46=20,30,Scoresheet!AB46),Scoresheet!AB46),IF(AB50>2,IF(AB$2=\"R\",\".\",Scoresheet!AB46),Scoresheet!AB46)))","v":"?"},{"$f":"IF(AB45>2,\".\",IF(AB50=2,IF(AB45=0,IF(Scoresheet!AC46=20,30,Scoresheet!AC46),Scoresheet!AC46),IF(AC50>2,IF(AC$2=\"R\",\".\",Scoresheet!AC46),Scoresheet!AC46)))","v":"?"},{"$f":"IF(AC45>2,\".\",IF(AC50=2,IF(AC45=0,IF(Scoresheet!AD46=20,30,Scoresheet!AD46),Scoresheet!AD46),IF(AD50>2,IF(AD$2=\"R\",\".\",Scoresheet!AD46),Scoresheet!AD46)))","v":"?"},{"$f":"IF(AD45>2,\".\",IF(AD50=2,IF(AD45=0,IF(Scoresheet!AE46=20,30,Scoresheet!AE46),Scoresheet!AE46),IF(AE50>2,IF(AE$2=\"R\",\".\",Scoresheet!AE46),Scoresheet!AE46)))","v":"?"},{"$f":"IF(AE45>2,\".\",IF(AE50=2,IF(AE45=0,IF(Scoresheet!AF46=20,30,Scoresheet!AF46),Scoresheet!AF46),IF(AF50>2,IF(AF$2=\"R\",\".\",Scoresheet!AF46),Scoresheet!AF46)))","v":"?"},{"$f":"IF(AF45>2,\".\",IF(AF50=2,IF(AF45=0,IF(Scoresheet!AG46=20,30,Scoresheet!AG46),Scoresheet!AG46),IF(AG50>2,IF(AG$2=\"R\",\".\",Scoresheet!AG46),Scoresheet!AG46)))","v":"?"},{"$f":"IF(AG45>2,\".\",IF(AG50=2,IF(AG45=0,IF(Scoresheet!AH46=20,30,Scoresheet!AH46),Scoresheet!AH46),IF(AH50>2,IF(AH$2=\"R\",\".\",Scoresheet!AH46),Scoresheet!AH46)))","v":"?"},{"$f":"IF(AH45>2,\".\",IF(AH50=2,IF(AH45=0,IF(Scoresheet!AI46=20,30,Scoresheet!AI46),Scoresheet!AI46),IF(AI50>2,IF(AI$2=\"R\",\".\",Scoresheet!AI46),Scoresheet!AI46)))","v":"?"},{"$f":"IF(AI45>2,\".\",IF(AI50=2,IF(AI45=0,IF(Scoresheet!AJ46=20,30,Scoresheet!AJ46),Scoresheet!AJ46),IF(AJ50>2,IF(AJ$2=\"R\",\".\",Scoresheet!AJ46),Scoresheet!AJ46)))","v":"?"},{"$f":"IF(AJ45>2,\".\",IF(AJ50=2,IF(AJ45=0,IF(Scoresheet!AK46=20,30,Scoresheet!AK46),Scoresheet!AK46),IF(AK50>2,IF(AK$2=\"R\",\".\",Scoresheet!AK46),Scoresheet!AK46)))","v":"?"},{"$f":"IF(AK45>2,\".\",IF(AK50=2,IF(AK45=0,IF(Scoresheet!AL46=20,30,Scoresheet!AL46),Scoresheet!AL46),IF(AL50>2,IF(AL$2=\"R\",\".\",Scoresheet!AL46),Scoresheet!AL46)))","v":"?"},{"$f":"IF(AL45>2,\".\",IF(AL50=2,IF(AL45=0,IF(Scoresheet!AM46=20,30,Scoresheet!AM46),Scoresheet!AM46),IF(AM50>2,IF(AM$2=\"R\",\".\",Scoresheet!AM46),Scoresheet!AM46)))","v":"?"},{"$f":"IF(AM45>2,\".\",IF(AM50=2,IF(AM45=0,IF(Scoresheet!AN46=20,30,Scoresheet!AN46),Scoresheet!AN46),IF(AN50>2,IF(AN$2=\"R\",\".\",Scoresheet!AN46),Scoresheet!AN46)))","v":"?"},{"$f":"IF(AN45>2,\".\",IF(AN50=2,IF(AN45=0,IF(Scoresheet!AO46=20,30,Scoresheet!AO46),Scoresheet!AO46),IF(AO50>2,IF(AO$2=\"R\",\".\",Scoresheet!AO46),Scoresheet!AO46)))","v":"?"},{"$f":"IF(AO45>2,\".\",IF(AO50=2,IF(AO45=0,IF(Scoresheet!AP46=20,30,Scoresheet!AP46),Scoresheet!AP46),IF(AP50>2,IF(AP$2=\"R\",\".\",Scoresheet!AP46),Scoresheet!AP46)))","v":"?"},{"$f":"IF(AP45>2,\".\",IF(AP50=2,IF(AP45=0,IF(Scoresheet!AQ46=20,30,Scoresheet!AQ46),Scoresheet!AQ46),IF(AQ50>2,IF(AQ$2=\"R\",\".\",Scoresheet!AQ46),Scoresheet!AQ46)))","v":"?"},{"$f":"IF(AQ45>2,\".\",IF(AQ50=2,IF(AQ45=0,IF(Scoresheet!AR46=20,30,Scoresheet!AR46),Scoresheet!AR46),IF(AR50>2,IF(AR$2=\"R\",\".\",Scoresheet!AR46),Scoresheet!AR46)))","v":"?"},{"$f":"IF(AR45>2,\".\",IF(AR50=2,IF(AR45=0,IF(Scoresheet!AS46=20,30,Scoresheet!AS46),Scoresheet!AS46),IF(AS50>2,IF(AS$2=\"R\",\".\",Scoresheet!AS46),Scoresheet!AS46)))","v":"?"},{"$f":"IF(AS45>2,\".\",IF(AS50=2,IF(AS45=0,IF(Scoresheet!AT46=20,30,Scoresheet!AT46),Scoresheet!AT46),IF(AT50>2,IF(AT$2=\"R\",\".\",Scoresheet!AT46),Scoresheet!AT46)))","v":"?"},{"$f":"IF(AT45>2,\".\",IF(AT50=2,IF(AT45=0,IF(Scoresheet!AU46=20,30,Scoresheet!AU46),Scoresheet!AU46),IF(AU50>2,IF(AU$2=\"R\",\".\",Scoresheet!AU46),Scoresheet!AU46)))","v":"?"},{"$f":"IF(AU45>2,\".\",IF(AU50=2,IF(AU45=0,IF(Scoresheet!AV46=20,30,Scoresheet!AV46),Scoresheet!AV46),IF(AV50>2,IF(AV$2=\"R\",\".\",Scoresheet!AV46),Scoresheet!AV46)))","v":"?"},{"$f":"IF(AV45>2,\".\",IF(AV50=2,IF(AV45=0,IF(Scoresheet!AW46=20,30,Scoresheet!AW46),Scoresheet!AW46),IF(AW50>2,IF(AW$2=\"R\",\".\",Scoresheet!AW46),Scoresheet!AW46)))","v":"?"},{"$f":"IF(AW45>2,\".\",IF(AW50=2,IF(AW45=0,IF(Scoresheet!AX46=20,30,Scoresheet!AX46),Scoresheet!AX46),IF(AX50>2,IF(AX$2=\"R\",\".\",Scoresheet!AX46),Scoresheet!AX46)))","v":"?"},{"$f":"IF(AX45>2,\".\",IF(AX50=2,IF(AX45=0,IF(Scoresheet!AY46=20,30,Scoresheet!AY46),Scoresheet!AY46),IF(AY50>2,IF(AY$2=\"R\",\".\",Scoresheet!AY46),Scoresheet!AY46)))","v":"?"},{"$f":"IF(AY45>2,\".\",IF(AY50=2,IF(AY45=0,IF(Scoresheet!AZ46=20,30,Scoresheet!AZ46),Scoresheet!AZ46),IF(AZ50>2,IF(AZ$2=\"R\",\".\",Scoresheet!AZ46),Scoresheet!AZ46)))","v":"?"},{"$f":"IF(AZ45>2,\".\",IF(AZ50=2,IF(AZ45=0,IF(Scoresheet!BA46=20,30,Scoresheet!BA46),Scoresheet!BA46),IF(BA50>2,IF(BA$2=\"R\",\".\",Scoresheet!BA46),Scoresheet!BA46)))","v":"?"},{"$f":"IF(BA45>2,\".\",IF(BA50=2,IF(BA45=0,IF(Scoresheet!BB46=20,30,Scoresheet!BB46),Scoresheet!BB46),IF(BB50>2,IF(BB$2=\"R\",\".\",Scoresheet!BB46),Scoresheet!BB46)))","v":"?"}]
[null,null,{"$f":"Scoresheet!C41","v":"Substitute"},".",{"$f":"IF(D46>2,\".\",IF(D51=2,IF(D46=0,IF(Scoresheet!E46=20,30,Scoresheet!E46),Scoresheet!E46),IF(E51>2,IF(E$2=\"R\",\".\",Scoresheet!E46),Scoresheet!E46)))","v":20},{"$f":"IF(E46>2,\".\",IF(E51=2,IF(E46=0,IF(Scoresheet!F46=20,30,Scoresheet!F46),Scoresheet!F46),IF(F51>2,IF(F$2=\"R\",\".\",Scoresheet!F46),Scoresheet!F46)))","v":20},{"$f":"IF(F46>2,\".\",IF(F51=2,IF(F46=0,IF(Scoresheet!G46=20,30,Scoresheet!G46),Scoresheet!G46),IF(G51>2,IF(G$2=\"R\",\".\",Scoresheet!G46),Scoresheet!G46)))","v":20},{"$f":"IF(G46>2,\".\",IF(G51=2,IF(G46=0,IF(Scoresheet!H46=20,30,Scoresheet!H46),Scoresheet!H46),IF(H51>2,IF(H$2=\"R\",\".\",Scoresheet!H46),Scoresheet!H46)))","v":20},{"$f":"IF(H46>2,\".\",IF(H51=2,IF(H46=0,IF(Scoresheet!I46=20,30,Scoresheet!I46),Scoresheet!I46),IF(I51>2,IF(I$2=\"R\",\".\",Scoresheet!I46),Scoresheet!I46)))","v":20},{"$f":"IF(I46>2,\".\",IF(I51=2,IF(I46=0,IF(Scoresheet!J46=20,30,Scoresheet!J46),Scoresheet!J46),IF(J51>2,IF(J$2=\"R\",\".\",Scoresheet!J46),Scoresheet!J46)))","v":20},{"$f":"IF(J46>2,\".\",IF(J51=2,IF(J46=0,IF(Scoresheet!K46=20,30,Scoresheet!K46),Scoresheet!K46),IF(K51>2,IF(K$2=\"R\",\".\",Scoresheet!K46),Scoresheet!K46)))","v":20},{"$f":"IF(K46>2,\".\",IF(K51=2,IF(K46=0,IF(Scoresheet!L46=20,30,Scoresheet!L46),Scoresheet!L46),IF(L51>2,IF(L$2=\"R\",\".\",Scoresheet!L46),Scoresheet!L46)))","v":20},{"$f":"IF(L46>2,\".\",IF(L51=2,IF(L46=0,IF(Scoresheet!M46=20,30,Scoresheet!M46),Scoresheet!M46),IF(M51>2,IF(M$2=\"R\",\".\",Scoresheet!M46),Scoresheet!M46)))","v":20},{"$f":"IF(M46>2,\".\",IF(M51=2,IF(M46=0,IF(Scoresheet!N46=20,30,Scoresheet!N46),Scoresheet!N46),IF(N51>2,IF(N$2=\"R\",\".\",Scoresheet!N46),Scoresheet!N46)))","v":20},{"$f":"IF(N46>2,\".\",IF(N51=2,IF(N46=0,IF(Scoresheet!O46=20,30,Scoresheet!O46),Scoresheet!O46),IF(O51>2,IF(O$2=\"R\",\".\",Scoresheet!O46),Scoresheet!O46)))","v":20},{"$f":"IF(O46>2,\".\",IF(O51=2,IF(O46=0,IF(Scoresheet!P46=20,30,Scoresheet!P46),Scoresheet!P46),IF(P51>2,IF(P$2=\"R\",\".\",Scoresheet!P46),Scoresheet!P46)))","v":20},{"$f":"IF(P46>2,\".\",IF(P51=2,IF(P46=0,IF(Scoresheet!Q46=20,30,Scoresheet!Q46),Scoresheet!Q46),IF(Q51>2,IF(Q$2=\"R\",\".\",Scoresheet!Q46),Scoresheet!Q46)))","v":10},{"$f":"IF(Q46>2,\".\",IF(Q51=2,IF(Q46=0,IF(Scoresheet!R46=20,30,Scoresheet!R46),Scoresheet!R46),IF(R51>2,IF(R$2=\"R\",\".\",Scoresheet!R46),Scoresheet!R46)))","v":20},{"$f":"IF(R46>2,\".\",IF(R51=2,IF(R46=0,IF(Scoresheet!S46=20,30,Scoresheet!S46),Scoresheet!S46),IF(S51>2,IF(S$2=\"R\",\".\",Scoresheet!S46),Scoresheet!S46)))","v":20},{"$f":"IF(S46>2,\".\",IF(S51=2,IF(S46=0,IF(Scoresheet!T46=20,30,Scoresheet!T46),Scoresheet!T46),IF(T51>2,IF(T$2=\"R\",\".\",Scoresheet!T46),Scoresheet!T46)))","v":10},{"$f":"IF(T46>2,\".\",IF(T51=2,IF(T46=0,IF(Scoresheet!U46=20,30,Scoresheet!U46),Scoresheet!U46),IF(U51>2,IF(U$2=\"R\",\".\",Scoresheet!U46),Scoresheet!U46)))","v":20},{"$f":"IF(U46>2,\".\",IF(U51=2,IF(U46=0,IF(Scoresheet!V46=20,30,Scoresheet!V46),Scoresheet!V46),IF(V51>2,IF(V$2=\"R\",\".\",Scoresheet!V46),Scoresheet!V46)))","v":20},{"$f":"IF(V46>2,\".\",IF(V51=2,IF(V46=0,IF(Scoresheet!W46=20,30,Scoresheet!W46),Scoresheet!W46),IF(W51>2,IF(W$2=\"R\",\".\",Scoresheet!W46),Scoresheet!W46)))","v":10},{"$f":"IF(W46>2,\".\",IF(W51=2,IF(W46=0,IF(Scoresheet!X46=20,30,Scoresheet!X46),Scoresheet!X46),IF(X51>2,IF(X$2=\"R\",\".\",Scoresheet!X46),Scoresheet!X46)))","v":20},{"$f":"IF(X46>2,\".\",IF(X51=2,IF(X46=0,IF(Scoresheet!Y46=20,30,Scoresheet!Y46),Scoresheet!Y46),IF(Y51>2,IF(Y$2=\"R\",\".\",Scoresheet!Y46),Scoresheet!Y46)))","v":"?"},{"$f":"IF(Y46>2,\".\",IF(Y51=2,IF(Y46=0,IF(Scoresheet!Z46=20,30,Scoresheet!Z46),Scoresheet!Z46),IF(Z51>2,IF(Z$2=\"R\",\".\",Scoresheet!Z46),Scoresheet!Z46)))","v":"?"},{"$f":"IF(Z46>2,\".\",IF(Z51=2,IF(Z46=0,IF(Scoresheet!AA46=20,30,Scoresheet!AA46),Scoresheet!AA46),IF(AA51>2,IF(AA$2=\"R\",\".\",Scoresheet!AA46),Scoresheet!AA46)))","v":"?"},{"$f":"IF(AA46>2,\".\",IF(AA51=2,IF(AA46=0,IF(Scoresheet!AB46=20,30,Scoresheet!AB46),Scoresheet!AB46),IF(AB51>2,IF(AB$2=\"R\",\".\",Scoresheet!AB46),Scoresheet!AB46)))","v":"?"},{"$f":"IF(AB46>2,\".\",IF(AB51=2,IF(AB46=0,IF(Scoresheet!AC46=20,30,Scoresheet!AC46),Scoresheet!AC46),IF(AC51>2,IF(AC$2=\"R\",\".\",Scoresheet!AC46),Scoresheet!AC46)))","v":"?"},{"$f":"IF(AC46>2,\".\",IF(AC51=2,IF(AC46=0,IF(Scoresheet!AD46=20,30,Scoresheet!AD46),Scoresheet!AD46),IF(AD51>2,IF(AD$2=\"R\",\".\",Scoresheet!AD46),Scoresheet!AD46)))","v":"?"},{"$f":"IF(AD46>2,\".\",IF(AD51=2,IF(AD46=0,IF(Scoresheet!AE46=20,30,Scoresheet!AE46),Scoresheet!AE46),IF(AE51>2,IF(AE$2=\"R\",\".\",Scoresheet!AE46),Scoresheet!AE46)))","v":"?"},{"$f":"IF(AE46>2,\".\",IF(AE51=2,IF(AE46=0,IF(Scoresheet!AF46=20,30,Scoresheet!AF46),Scoresheet!AF46),IF(AF51>2,IF(AF$2=\"R\",\".\",Scoresheet!AF46),Scoresheet!AF46)))","v":"?"},{"$f":"IF(AF46>2,\".\",IF(AF51=2,IF(AF46=0,IF(Scoresheet!AG46=20,30,Scoresheet!AG46),Scoresheet!AG46),IF(AG51>2,IF(AG$2=\"R\",\".\",Scoresheet!AG46),Scoresheet!AG46)))","v":"?"},{"$f":"IF(AG46>2,\".\",IF(AG51=2,IF(AG46=0,IF(Scoresheet!AH46=20,30,Scoresheet!AH46),Scoresheet!AH46),IF(AH51>2,IF(AH$2=\"R\",\".\",Scoresheet!AH46),Scoresheet!AH46)))","v":"?"},{"$f":"IF(AH46>2,\".\",IF(AH51=2,IF(AH46=0,IF(Scoresheet!AI46=20,30,Scoresheet!AI46),Scoresheet!AI46),IF(AI51>2,IF(AI$2=\"R\",\".\",Scoresheet!AI46),Scoresheet!AI46)))","v":"?"},{"$f":"IF(AI46>2,\".\",IF(AI51=2,IF(AI46=0,IF(Scoresheet!AJ46=20,30,Scoresheet!AJ46),Scoresheet!AJ46),IF(AJ51>2,IF(AJ$2=\"R\",\".\",Scoresheet!AJ46),Scoresheet!AJ46)))","v":"?"},{"$f":"IF(AJ46>2,\".\",IF(AJ51=2,IF(AJ46=0,IF(Scoresheet!AK46=20,30,Scoresheet!AK46),Scoresheet!AK46),IF(AK51>2,IF(AK$2=\"R\",\".\",Scoresheet!AK46),Scoresheet!AK46)))","v":"?"},{"$f":"IF(AK46>2,\".\",IF(AK51=2,IF(AK46=0,IF(Scoresheet!AL46=20,30,Scoresheet!AL46),Scoresheet!AL46),IF(AL51>2,IF(AL$2=\"R\",\".\",Scoresheet!AL46),Scoresheet!AL46)))","v":"?"},{"$f":"IF(AL46>2,\".\",IF(AL51=2,IF(AL46=0,IF(Scoresheet!AM46=20,30,Scoresheet!AM46),Scoresheet!AM46),IF(AM51>2,IF(AM$2=\"R\",\".\",Scoresheet!AM46),Scoresheet!AM46)))","v":"?"},{"$f":"IF(AM46>2,\".\",IF(AM51=2,IF(AM46=0,IF(Scoresheet!AN46=20,30,Scoresheet!AN46),Scoresheet!AN46),IF(AN51>2,IF(AN$2=\"R\",\".\",Scoresheet!AN46),Scoresheet!AN46)))","v":"?"},{"$f":"IF(AN46>2,\".\",IF(AN51=2,IF(AN46=0,IF(Scoresheet!AO46=20,30,Scoresheet!AO46),Scoresheet!AO46),IF(AO51>2,IF(AO$2=\"R\",\".\",Scoresheet!AO46),Scoresheet!AO46)))","v":"?"},{"$f":"IF(AO46>2,\".\",IF(AO51=2,IF(AO46=0,IF(Scoresheet!AP46=20,30,Scoresheet!AP46),Scoresheet!AP46),IF(AP51>2,IF(AP$2=\"R\",\".\",Scoresheet!AP46),Scoresheet!AP46)))","v":"?"},{"$f":"IF(AP46>2,\".\",IF(AP51=2,IF(AP46=0,IF(Scoresheet!AQ46=20,30,Scoresheet!AQ46),Scoresheet!AQ46),IF(AQ51>2,IF(AQ$2=\"R\",\".\",Scoresheet!AQ46),Scoresheet!AQ46)))","v":"?"},{"$f":"IF(AQ46>2,\".\",IF(AQ51=2,IF(AQ46=0,IF(Scoresheet!AR46=20,30,Scoresheet!AR46),Scoresheet!AR46),IF(AR51>2,IF(AR$2=\"R\",\".\",Scoresheet!AR46),Scoresheet!AR46)))","v":"?"},{"$f":"IF(AR46>2,\".\",IF(AR51=2,IF(AR46=0,IF(Scoresheet!AS46=20,30,Scoresheet!AS46),Scoresheet!AS46),IF(AS51>2,IF(AS$2=\"R\",\".\",Scoresheet!AS46),Scoresheet!AS46)))","v":"?"},{"$f":"IF(AS46>2,\".\",IF(AS51=2,IF(AS46=0,IF(Scoresheet!AT46=20,30,Scoresheet!AT46),Scoresheet!AT46),IF(AT51>2,IF(AT$2=\"R\",\".\",Scoresheet!AT46),Scoresheet!AT46)))","v":"?"},{"$f":"IF(AT46>2,\".\",IF(AT51=2,IF(AT46=0,IF(Scoresheet!AU46=20,30,Scoresheet!AU46),Scoresheet!AU46),IF(AU51>2,IF(AU$2=\"R\",\".\",Scoresheet!AU46),Scoresheet!AU46)))","v":"?"},{"$f":"IF(AU46>2,\".\",IF(AU51=2,IF(AU46=0,IF(Scoresheet!AV46=20,30,Scoresheet!AV46),Scoresheet!AV46),IF(AV51>2,IF(AV$2=\"R\",\".\",Scoresheet!AV46),Scoresheet!AV46)))","v":"?"},{"$f":"IF(AV46>2,\".\",IF(AV51=2,IF(AV46=0,IF(Scoresheet!AW46=20,30,Scoresheet!AW46),Scoresheet!AW46),IF(AW51>2,IF(AW$2=\"R\",\".\",Scoresheet!AW46),Scoresheet!AW46)))","v":"?"},{"$f":"IF(AW46>2,\".\",IF(AW51=2,IF(AW46=0,IF(Scoresheet!AX46=20,30,Scoresheet!AX46),Scoresheet!AX46),IF(AX51>2,IF(AX$2=\"R\",\".\",Scoresheet!AX46),Scoresheet!AX46)))","v":"?"},{"$f":"IF(AX46>2,\".\",IF(AX51=2,IF(AX46=0,IF(Scoresheet!AY46=20,30,Scoresheet!AY46),Scoresheet!AY46),IF(AY51>2,IF(AY$2=\"R\",\".\",Scoresheet!AY46),Scoresheet!AY46)))","v":"?"},{"$f":"IF(AY46>2,\".\",IF(AY51=2,IF(AY46=0,IF(Scoresheet!AZ46=20,30,Scoresheet!AZ46),Scoresheet!AZ46),IF(AZ51>2,IF(AZ$2=\"R\",\".\",Scoresheet!AZ46),Scoresheet!AZ46)))","v":"?"},{"$f":"IF(AZ46>2,\".\",IF(AZ51=2,IF(AZ46=0,IF(Scoresheet!BA46=20,30,Scoresheet!BA46),Scoresheet!BA46),IF(BA51>2,IF(BA$2=\"R\",\".\",Scoresheet!BA46),Scoresheet!BA46)))","v":"?"},{"$f":"IF(BA46>2,\".\",IF(BA51=2,IF(BA46=0,IF(Scoresheet!BB46=20,30,Scoresheet!BB46),Scoresheet!BB46),IF(BB51>2,IF(BB$2=\"R\",\".\",Scoresheet!BB46),Scoresheet!BB46)))","v":"?"}]
[]
[null,null,{"$f":"CONCATENATE(\"# of errors \",C38)","v":"# of errors Quizzer #1"},{"$f":"IF(Scoresheet!D38=\"E\",1,0)","v":0},{"$f":"IF(Scoresheet!E38=\"E\",D43+1,D43)","v":0},{"$f":"IF(Scoresheet!F38=\"E\",E43+1,E43)","v":0},{"$f":"IF(Scoresheet!G38=\"E\",F43+1,F43)","v":0},{"$f":"IF(Scoresheet!H38=\"E\",G43+1,G43)","v":0},{"$f":"IF(Scoresheet!I38=\"E\",H43+1,H43)","v":0},{"$f":"IF(Scoresheet!J38=\"E\",I43+1,I43)","v":0},{"$f":"IF(Scoresheet!K38=\"E\",J43+1,J43)","v":0},{"$f":"IF(Scoresheet!L38=\"E\",K43+1,K43)","v":0},{"$f":"IF(Scoresheet!M38=\"E\",L43+1,L43)","v":0},{"$f":"IF(Scoresheet!N38=\"E\",M43+1,M43)","v":0},{"$f":"IF(Scoresheet!O38=\"E\",N43+1,N43)","v":0},{"$f":"IF(Scoresheet!P38=\"E\",O43+1,O43)","v":0},{"$f":"IF(Scoresheet!Q38=\"E\",P43+1,P43)","v":0},{"$f":"IF(Scoresheet!R38=\"E\",Q43+1,Q43)","v":0},{"$f":"IF(Scoresheet!S38=\"E\",R43+1,R43)","v":0},{"$f":"IF(Scoresheet!T38=\"E\",S43+1,S43)","v":0},{"$f":"IF(Scoresheet!U38=\"E\",T43+1,T43)","v":0},{"$f":"IF(Scoresheet!V38=\"E\",U43+1,U43)","v":0},{"$f":"IF(Scoresheet!W38=\"E\",V43+1,V43)","v":0},{"$f":"IF(Scoresheet!X38=\"E\",W43+1,W43)","v":0},{"$f":"IF(Scoresheet!Y38=\"E\",X43+1,X43)","v":0},{"$f":"IF(Scoresheet!Z38=\"E\",Y43+1,Y43)","v":0},{"$f":"IF(Scoresheet!AA38=\"E\",Z43+1,Z43)","v":0},{"$f":"IF(Scoresheet!AB38=\"E\",AA43+1,AA43)","v":0},{"$f":"IF(Scoresheet!AC38=\"E\",AB43+1,AB43)","v":0},{"$f":"IF(Scoresheet!AD38=\"E\",AC43+1,AC43)","v":0},{"$f":"IF(Scoresheet!AE38=\"E\",AD43+1,AD43)","v":0},{"$f":"IF(Scoresheet!AF38=\"E\",AE43+1,AE43)","v":0},{"$f":"IF(Scoresheet!AG38=\"E\",AF43+1,AF43)","v":0},{"$f":"IF(Scoresheet!AH38=\"E\",AG43+1,AG43)","v":0},{"$f":"IF(Scoresheet!AI38=\"E\",AH43+1,AH43)","v":0},{"$f":"IF(Scoresheet!AJ38=\"E\",AI43+1,AI43)","v":0},{"$f":"IF(Scoresheet!AK38=\"E\",AJ43+1,AJ43)","v":0},{"$f":"IF(Scoresheet!AL38=\"E\",AK43+1,AK43)","v":0},{"$f":"IF(Scoresheet!AM38=\"E\",AL43+1,AL43)","v":0},{"$f":"IF(Scoresheet!AN38=\"E\",AM43+1,AM43)","v":0},{"$f":"IF(Scoresheet!AO38=\"E\",AN43+1,AN43)","v":0},{"$f":"IF(Scoresheet!AP38=\"E\",AO43+1,AO43)","v":0},{"$f":"IF(Scoresheet!AQ38=\"E\",AP43+1,AP43)","v":0},{"$f":"IF(Scoresheet!AR38=\"E\",AQ43+1,AQ43)","v":0},{"$f":"IF(Scoresheet!AS38=\"E\",AR43+1,AR43)","v":0},{"$f":"IF(Scoresheet!AT38=\"E\",AS43+1,AS43)","v":0},{"$f":"IF(Scoresheet!AU38=\"E\",AT43+1,AT43)","v":0},{"$f":"IF(Scoresheet!AV38=\"E\",AU43+1,AU43)","v":0},{"$f":"IF(Scoresheet!AW38=\"E\",AV43+1,AV43)","v":0},{"$f":"IF(Scoresheet!AX38=\"E\",AW43+1,AW43)","v":0},{"$f":"IF(Scoresheet!AY38=\"E\",AX43+1,AX43)","v":0},{"$f":"IF(Scoresheet!AZ38=\"E\",AY43+1,AY43)","v":0},{"$f":"IF(Scoresheet!BA38=\"E\",AZ43+1,AZ43)","v":0},{"$f":"IF(Scoresheet!BB38=\"E\",BA43+1,BA43)","v":0}]
[null,null,{"$f":"CONCATENATE(\"# of errors \",C39)","v":"# of errors Quizzer #2"},{"$f":"IF(Scoresheet!D39=\"E\",1,0)","v":0},{"$f":"IF(Scoresheet!E39=\"E\",D44+1,D44)","v":0},{"$f":"IF(Scoresheet!F39=\"E\",E44+1,E44)","v":0},{"$f":"IF(Scoresheet!G39=\"E\",F44+1,F44)","v":0},{"$f":"IF(Scoresheet!H39=\"E\",G44+1,G44)","v":0},{"$f":"IF(Scoresheet!I39=\"E\",H44+1,H44)","v":0},{"$f":"IF(Scoresheet!J39=\"E\",I44+1,I44)","v":0},{"$f":"IF(Scoresheet!K39=\"E\",J44+1,J44)","v":0},{"$f":"IF(Scoresheet!L39=\"E\",K44+1,K44)","v":0},{"$f":"IF(Scoresheet!M39=\"E\",L44+1,L44)","v":0},{"$f":"IF(Scoresheet!N39=\"E\",M44+1,M44)","v":0},{"$f":"IF(Scoresheet!O39=\"E\",N44+1,N44)","v":0},{"$f":"IF(Scoresheet!P39=\"E\",O44+1,O44)","v":0},{"$f":"IF(Scoresheet!Q39=\"E\",P44+1,P44)","v":0},{"$f":"IF(Scoresheet!R39=\"E\",Q44+1,Q44)","v":0},{"$f":"IF(Scoresheet!S39=\"E\",R44+1,R44)","v":0},{"$f":"IF(Scoresheet!T39=\"E\",S44+1,S44)","v":0},{"$f":"IF(Scoresheet!U39=\"E\",T44+1,T44)","v":0},{"$f":"IF(Scoresheet!V39=\"E\",U44+1,U44)","v":0},{"$f":"IF(Scoresheet!W39=\"E\",V44+1,V44)","v":0},{"$f":"IF(Scoresheet!X39=\"E\",W44+1,W44)","v":0},{"$f":"IF(Scoresheet!Y39=\"E\",X44+1,X44)","v":0},{"$f":"IF(Scoresheet!Z39=\"E\",Y44+1,Y44)","v":0},{"$f":"IF(Scoresheet!AA39=\"E\",Z44+1,Z44)","v":0},{"$f":"IF(Scoresheet!AB39=\"E\",AA44+1,AA44)","v":0},{"$f":"IF(Scoresheet!AC39=\"E\",AB44+1,AB44)","v":0},{"$f":"IF(Scoresheet!AD39=\"E\",AC44+1,AC44)","v":0},{"$f":"IF(Scoresheet!AE39=\"E\",AD44+1,AD44)","v":0},{"$f":"IF(Scoresheet!AF39=\"E\",AE44+1,AE44)","v":0},{"$f":"IF(Scoresheet!AG39=\"E\",AF44+1,AF44)","v":0},{"$f":"IF(Scoresheet!AH39=\"E\",AG44+1,AG44)","v":0},{"$f":"IF(Scoresheet!AI39=\"E\",AH44+1,AH44)","v":0},{"$f":"IF(Scoresheet!AJ39=\"E\",AI44+1,AI44)","v":0},{"$f":"IF(Scoresheet!AK39=\"E\",AJ44+1,AJ44)","v":0},{"$f":"IF(Scoresheet!AL39=\"E\",AK44+1,AK44)","v":0},{"$f":"IF(Scoresheet!AM39=\"E\",AL44+1,AL44)","v":0},{"$f":"IF(Scoresheet!AN39=\"E\",AM44+1,AM44)","v":0},{"$f":"IF(Scoresheet!AO39=\"E\",AN44+1,AN44)","v":0},{"$f":"IF(Scoresheet!AP39=\"E\",AO44+1,AO44)","v":0},{"$f":"IF(Scoresheet!AQ39=\"E\",AP44+1,AP44)","v":0},{"$f":"IF(Scoresheet!AR39=\"E\",AQ44+1,AQ44)","v":0},{"$f":"IF(Scoresheet!AS39=\"E\",AR44+1,AR44)","v":0},{"$f":"IF(Scoresheet!AT39=\"E\",AS44+1,AS44)","v":0},{"$f":"IF(Scoresheet!AU39=\"E\",AT44+1,AT44)","v":0},{"$f":"IF(Scoresheet!AV39=\"E\",AU44+1,AU44)","v":0},{"$f":"IF(Scoresheet!AW39=\"E\",AV44+1,AV44)","v":0},{"$f":"IF(Scoresheet!AX39=\"E\",AW44+1,AW44)","v":0},{"$f":"IF(Scoresheet!AY39=\"E\",AX44+1,AX44)","v":0},{"$f":"IF(Scoresheet!AZ39=\"E\",AY44+1,AY44)","v":0},{"$f":"IF(Scoresheet!BA39=\"E\",AZ44+1,AZ44)","v":0},{"$f":"IF(Scoresheet!BB39=\"E\",BA44+1,BA44)","v":0}]
[null,null,{"$f":"CONCATENATE(\"# of errors \",C40)","v":"# of errors Quizzer #3"},{"$f":"IF(Scoresheet!D40=\"E\",1,0)","v":0},{"$f":"IF(Scoresheet!E40=\"E\",D45+1,D45)","v":0},{"$f":"IF(Scoresheet!F40=\"E\",E45+1,E45)","v":0},{"$f":"IF(Scoresheet!G40=\"E\",F45+1,F45)","v":0},{"$f":"IF(Scoresheet!H40=\"E\",G45+1,G45)","v":0},{"$f":"IF(Scoresheet!I40=\"E\",H45+1,H45)","v":0},{"$f":"IF(Scoresheet!J40=\"E\",I45+1,I45)","v":0},{"$f":"IF(Scoresheet!K40=\"E\",J45+1,J45)","v":0},{"$f":"IF(Scoresheet!L40=\"E\",K45+1,K45)","v":0},{"$f":"IF(Scoresheet!M40=\"E\",L45+1,L45)","v":0},{"$f":"IF(Scoresheet!N40=\"E\",M45+1,M45)","v":0},{"$f":"IF(Scoresheet!O40=\"E\",N45+1,N45)","v":0},{"$f":"IF(Scoresheet!P40=\"E\",O45+1,O45)","v":0},{"$f":"IF(Scoresheet!Q40=\"E\",P45+1,P45)","v":0},{"$f":"IF(Scoresheet!R40=\"E\",Q45+1,Q45)","v":0},{"$f":"IF(Scoresheet!S40=\"E\",R45+1,R45)","v":0},{"$f":"IF(Scoresheet!T40=\"E\",S45+1,S45)","v":0},{"$f":"IF(Scoresheet!U40=\"E\",T45+1,T45)","v":0},{"$f":"IF(Scoresheet!V40=\"E\",U45+1,U45)","v":0},{"$f":"IF(Scoresheet!W40=\"E\",V45+1,V45)","v":0},{"$f":"IF(Scoresheet!X40=\"E\",W45+1,W45)","v":0},{"$f":"IF(Scoresheet!Y40=\"E\",X45+1,X45)","v":0},{"$f":"IF(Scoresheet!Z40=\"E\",Y45+1,Y45)","v":0},{"$f":"IF(Scoresheet!AA40=\"E\",Z45+1,Z45)","v":0},{"$f":"IF(Scoresheet!AB40=\"E\",AA45+1,AA45)","v":0},{"$f":"IF(Scoresheet!AC40=\"E\",AB45+1,AB45)","v":0},{"$f":"IF(Scoresheet!AD40=\"E\",AC45+1,AC45)","v":0},{"$f":"IF(Scoresheet!AE40=\"E\",AD45+1,AD45)","v":0},{"$f":"IF(Scoresheet!AF40=\"E\",AE45+1,AE45)","v":0},{"$f":"IF(Scoresheet!AG40=\"E\",AF45+1,AF45)","v":0},{"$f":"IF(Scoresheet!AH40=\"E\",AG45+1,AG45)","v":0},{"$f":"IF(Scoresheet!AI40=\"E\",AH45+1,AH45)","v":0},{"$f":"IF(Scoresheet!AJ40=\"E\",AI45+1,AI45)","v":0},{"$f":"IF(Scoresheet!AK40=\"E\",AJ45+1,AJ45)","v":0},{"$f":"IF(Scoresheet!AL40=\"E\",AK45+1,AK45)","v":0},{"$f":"IF(Scoresheet!AM40=\"E\",AL45+1,AL45)","v":0},{"$f":"IF(Scoresheet!AN40=\"E\",AM45+1,AM45)","v":0},{"$f":"IF(Scoresheet!AO40=\"E\",AN45+1,AN45)","v":0},{"$f":"IF(Scoresheet!AP40=\"E\",AO45+1,AO45)","v":0},{"$f":"IF(Scoresheet!AQ40=\"E\",AP45+1,AP45)","v":0},{"$f":"IF(Scoresheet!AR40=\"E\",AQ45+1,AQ45)","v":0},{"$f":"IF(Scoresheet!AS40=\"E\",AR45+1,AR45)","v":0},{"$f":"IF(Scoresheet!AT40=\"E\",AS45+1,AS45)","v":0},{"$f":"IF(Scoresheet!AU40=\"E\",AT45+1,AT45)","v":0},{"$f":"IF(Scoresheet!AV40=\"E\",AU45+1,AU45)","v":0},{"$f":"IF(Scoresheet!AW40=\"E\",AV45+1,AV45)","v":0},{"$f":"IF(Scoresheet!AX40=\"E\",AW45+1,AW45)","v":0},{"$f":"IF(Scoresheet!AY40=\"E\",AX45+1,AX45)","v":0},{"$f":"IF(Scoresheet!AZ40=\"E\",AY45+1,AY45)","v":0},{"$f":"IF(Scoresheet!BA40=\"E\",AZ45+1,AZ45)","v":0},{"$f":"IF(Scoresheet!BB40=\"E\",BA45+1,BA45)","v":0}]
[null,null,{"$f":"CONCATENATE(\"# of errors \",C41)","v":"# of errors Substitute"},{"$f":"IF(Scoresheet!D41=\"E\",1,0)","v":0},{"$f":"IF(Scoresheet!E41=\"E\",D46+1,D46)","v":0},{"$f":"IF(Scoresheet!F41=\"E\",E46+1,E46)","v":0},{"$f":"IF(Scoresheet!G41=\"E\",F46+1,F46)","v":0},{"$f":"IF(Scoresheet!H41=\"E\",G46+1,G46)","v":0},{"$f":"IF(Scoresheet!I41=\"E\",H46+1,H46)","v":0},{"$f":"IF(Scoresheet!J41=\"E\",I46+1,I46)","v":0},{"$f":"IF(Scoresheet!K41=\"E\",J46+1,J46)","v":0},{"$f":"IF(Scoresheet!L41=\"E\",K46+1,K46)","v":0},{"$f":"IF(Scoresheet!M41=\"E\",L46+1,L46)","v":0},{"$f":"IF(Scoresheet!N41=\"E\",M46+1,M46)","v":0},{"$f":"IF(Scoresheet!O41=\"E\",N46+1,N46)","v":0},{"$f":"IF(Scoresheet!P41=\"E\",O46+1,O46)","v":0},{"$f":"IF(Scoresheet!Q41=\"E\",P46+1,P46)","v":0},{"$f":"IF(Scoresheet!R41=\"E\",Q46+1,Q46)","v":0},{"$f":"IF(Scoresheet!S41=\"E\",R46+1,R46)","v":0},{"$f":"IF(Scoresheet!T41=\"E\",S46+1,S46)","v":0},{"$f":"IF(Scoresheet!U41=\"E\",T46+1,T46)","v":0},{"$f":"IF(Scoresheet!V41=\"E\",U46+1,U46)","v":0},{"$f":"IF(Scoresheet!W41=\"E\",V46+1,V46)","v":0},{"$f":"IF(Scoresheet!X41=\"E\",W46+1,W46)","v":0},{"$f":"IF(Scoresheet!Y41=\"E\",X46+1,X46)","v":0},{"$f":"IF(Scoresheet!Z41=\"E\",Y46+1,Y46)","v":0},{"$f":"IF(Scoresheet!AA41=\"E\",Z46+1,Z46)","v":0},{"$f":"IF(Scoresheet!AB41=\"E\",AA46+1,AA46)","v":0},{"$f":"IF(Scoresheet!AC41=\"E\",AB46+1,AB46)","v":0},{"$f":"IF(Scoresheet!AD41=\"E\",AC46+1,AC46)","v":0},{"$f":"IF(Scoresheet!AE41=\"E\",AD46+1,AD46)","v":0},{"$f":"IF(Scoresheet!AF41=\"E\",AE46+1,AE46)","v":0},{"$f":"IF(Scoresheet!AG41=\"E\",AF46+1,AF46)","v":0},{"$f":"IF(Scoresheet!AH41=\"E\",AG46+1,AG46)","v":0},{"$f":"IF(Scoresheet!AI41=\"E\",AH46+1,AH46)","v":0},{"$f":"IF(Scoresheet!AJ41=\"E\",AI46+1,AI46)","v":0},{"$f":"IF(Scoresheet!AK41=\"E\",AJ46+1,AJ46)","v":0},{"$f":"IF(Scoresheet!AL41=\"E\",AK46+1,AK46)","v":0},{"$f":"IF(Scoresheet!AM41=\"E\",AL46+1,AL46)","v":0},{"$f":"IF(Scoresheet!AN41=\"E\",AM46+1,AM46)","v":0},{"$f":"IF(Scoresheet!AO41=\"E\",AN46+1,AN46)","v":0},{"$f":"IF(Scoresheet!AP41=\"E\",AO46+1,AO46)","v":0},{"$f":"IF(Scoresheet!AQ41=\"E\",AP46+1,AP46)","v":0},{"$f":"IF(Scoresheet!AR41=\"E\",AQ46+1,AQ46)","v":0},{"$f":"IF(Scoresheet!AS41=\"E\",AR46+1,AR46)","v":0},{"$f":"IF(Scoresheet!AT41=\"E\",AS46+1,AS46)","v":0},{"$f":"IF(Scoresheet!AU41=\"E\",AT46+1,AT46)","v":0},{"$f":"IF(Scoresheet!AV41=\"E\",AU46+1,AU46)","v":0},{"$f":"IF(Scoresheet!AW41=\"E\",AV46+1,AV46)","v":0},{"$f":"IF(Scoresheet!AX41=\"E\",AW46+1,AW46)","v":0},{"$f":"IF(Scoresheet!AY41=\"E\",AX46+1,AX46)","v":0},{"$f":"IF(Scoresheet!AZ41=\"E\",AY46+1,AY46)","v":0},{"$f":"IF(Scoresheet!BA41=\"E\",AZ46+1,AZ46)","v":0},{"$f":"IF(Scoresheet!BB41=\"E\",BA46+1,BA46)","v":0}]
[]
[null,null,{"$f":"CONCATENATE(\"#20's \",C38)","v":"#20's Quizzer #1"},{"$f":"COUNTIF(Scoresheet!$D38:D38,20)+COUNTIF(Scoresheet!$D38:D38,30)","v":0},{"$f":"COUNTIF(Scoresheet!$D38:E38,20)+COUNTIF(Scoresheet!$D38:E38,30)","v":0},{"$f":"COUNTIF(Scoresheet!$D38:F38,20)+COUNTIF(Scoresheet!$D38:F38,30)","v":0},{"$f":"COUNTIF(Scoresheet!$D38:G38,20)+COUNTIF(Scoresheet!$D38:G38,30)","v":0},{"$f":"COUNTIF(Scoresheet!$D38:H38,20)+COUNTIF(Scoresheet!$D38:H38,30)","v":0},{"$f":"COUNTIF(Scoresheet!$D38:I38,20)+COUNTIF(Scoresheet!$D38:I38,30)","v":0},{"$f":"COUNTIF(Scoresheet!$D38:J38,20)+COUNTIF(Scoresheet!$D38:J38,30)","v":0},{"$f":"COUNTIF(Scoresheet!$D38:K38,20)+COUNTIF(Scoresheet!$D38:K38,30)","v":0},{"$f":"COUNTIF(Scoresheet!$D38:L38,20)+COUNTIF(Scoresheet!$D38:L38,30)","v":0},{"$f":"COUNTIF(Scoresheet!$D38:M38,20)+COUNTIF(Scoresheet!$D38:M38,30)","v":0},{"$f":"COUNTIF(Scoresheet!$D38:N38,20)+COUNTIF(Scoresheet!$D38:N38,30)","v":0},{"$f":"COUNTIF(Scoresheet!$D38:O38,20)+COUNTIF(Scoresheet!$D38:O38,30)","v":0},{"$f":"COUNTIF(Scoresheet!$D38:P38,20)+COUNTIF(Scoresheet!$D38:P38,30)","v":0},{"$f":"COUNTIF(Scoresheet!$D38:Q38,20)+COUNTIF(Scoresheet!$D38:Q38,30)","v":0},{"$f":"COUNTIF(Scoresheet!$D38:R38,20)+COUNTIF(Scoresheet!$D38:R38,30)","v":0},{"$f":"COUNTIF(Scoresheet!$D38:S38,20)+COUNTIF(Scoresheet!$D38:S38,30)","v":0},{"$f":"COUNTIF(Scoresheet!$D38:T38,20)+COUNTIF(Scoresheet!$D38:T38,30)","v":0},{"$f":"COUNTIF(Scoresheet!$D38:U38,20)+COUNTIF(Scoresheet!$D38:U38,30)","v":0},{"$f":"COUNTIF(Scoresheet!$D38:V38,20)+COUNTIF(Scoresheet!$D38:V38,30)","v":0},{"$f":"COUNTIF(Scoresheet!$D38:W38,20)+COUNTIF(Scoresheet!$D38:W38,30)","v":0},{"$f":"COUNTIF(Scoresheet!$D38:X38,20)+COUNTIF(Scoresheet!$D38:X38,30)","v":0},{"$f":"COUNTIF(Scoresheet!$D38:Y38,20)+COUNTIF(Scoresheet!$D38:Y38,30)","v":0},{"$f":"COUNTIF(Scoresheet!$D38:Z38,20)+COUNTIF(Scoresheet!$D38:Z38,30)","v":0},{"$f":"COUNTIF(Scoresheet!$D38:AA38,20)+COUNTIF(Scoresheet!$D38:AA38,30)","v":0},{"$f":"COUNTIF(Scoresheet!$D38:AB38,20)+COUNTIF(Scoresheet!$D38:AB38,30)","v":0},{"$f":"COUNTIF(Scoresheet!$D38:AC38,20)+COUNTIF(Scoresheet!$D38:AC38,30)","v":0},{"$f":"COUNTIF(Scoresheet!$D38:AD38,20)+COUNTIF(Scoresheet!$D38:AD38,30)","v":0},{"$f":"COUNTIF(Scoresheet!$D38:AE38,20)+COUNTIF(Scoresheet!$D38:AE38,30)","v":0},{"$f":"COUNTIF(Scoresheet!$D38:AF38,20)+COUNTIF(Scoresheet!$D38:AF38,30)","v":0},{"$f":"COUNTIF(Scoresheet!$D38:AG38,20)+COUNTIF(Scoresheet!$D38:AG38,30)","v":0},{"$f":"COUNTIF(Scoresheet!$D38:AH38,20)+COUNTIF(Scoresheet!$D38:AH38,30)","v":0},{"$f":"COUNTIF(Scoresheet!$D38:AI38,20)+COUNTIF(Scoresheet!$D38:AI38,30)","v":0},{"$f":"COUNTIF(Scoresheet!$D38:AJ38,20)+COUNTIF(Scoresheet!$D38:AJ38,30)","v":0},{"$f":"COUNTIF(Scoresheet!$D38:AK38,20)+COUNTIF(Scoresheet!$D38:AK38,30)","v":0},{"$f":"COUNTIF(Scoresheet!$D38:AL38,20)+COUNTIF(Scoresheet!$D38:AL38,30)","v":0},{"$f":"COUNTIF(Scoresheet!$D38:AM38,20)+COUNTIF(Scoresheet!$D38:AM38,30)","v":0},{"$f":"COUNTIF(Scoresheet!$D38:AN38,20)+COUNTIF(Scoresheet!$D38:AN38,30)","v":0},{"$f":"COUNTIF(Scoresheet!$D38:AO38,20)+COUNTIF(Scoresheet!$D38:AO38,30)","v":0},{"$f":"COUNTIF(Scoresheet!$D38:AP38,20)+COUNTIF(Scoresheet!$D38:AP38,30)","v":0},{"$f":"COUNTIF(Scoresheet!$D38:AQ38,20)+COUNTIF(Scoresheet!$D38:AQ38,30)","v":0},{"$f":"COUNTIF(Scoresheet!$D38:AR38,20)+COUNTIF(Scoresheet!$D38:AR38,30)","v":0},{"$f":"COUNTIF(Scoresheet!$D38:AS38,20)+COUNTIF(Scoresheet!$D38:AS38,30)","v":0},{"$f":"COUNTIF(Scoresheet!$D38:AT38,20)+COUNTIF(Scoresheet!$D38:AT38,30)","v":0},{"$f":"COUNTIF(Scoresheet!$D38:AU38,20)+COUNTIF(Scoresheet!$D38:AU38,30)","v":0},{"$f":"COUNTIF(Scoresheet!$D38:AV38,20)+COUNTIF(Scoresheet!$D38:AV38,30)","v":0},{"$f":"COUNTIF(Scoresheet!$D38:AW38,20)+COUNTIF(Scoresheet!$D38:AW38,30)","v":0},{"$f":"COUNTIF(Scoresheet!$D38:AX38,20)+COUNTIF(Scoresheet!$D38:AX38,30)","v":0},{"$f":"COUNTIF(Scoresheet!$D38:AY38,20)+COUNTIF(Scoresheet!$D38:AY38,30)","v":0},{"$f":"COUNTIF(Scoresheet!$D38:AZ38,20)+COUNTIF(Scoresheet!$D38:AZ38,30)","v":0},{"$f":"COUNTIF(Scoresheet!$D38:BA38,20)+COUNTIF(Scoresheet!$D38:BA38,30)","v":0},{"$f":"COUNTIF(Scoresheet!$D38:BB38,20)+COUNTIF(Scoresheet!$D38:BB38,30)","v":0}]
[null,null,{"$f":"CONCATENATE(\"#20's \",C39)","v":"#20's Quizzer #2"},{"$f":"COUNTIF(Scoresheet!$D39:D39,20)+COUNTIF(Scoresheet!$D39:D39,30)","v":0},{"$f":"COUNTIF(Scoresheet!$D39:E39,20)+COUNTIF(Scoresheet!$D39:E39,30)","v":0},{"$f":"COUNTIF(Scoresheet!$D39:F39,20)+COUNTIF(Scoresheet!$D39:F39,30)","v":0},{"$f":"COUNTIF(Scoresheet!$D39:G39,20)+COUNTIF(Scoresheet!$D39:G39,30)","v":0},{"$f":"COUNTIF(Scoresheet!$D39:H39,20)+COUNTIF(Scoresheet!$D39:H39,30)","v":0},{"$f":"COUNTIF(Scoresheet!$D39:I39,20)+COUNTIF(Scoresheet!$D39:I39,30)","v":0},{"$f":"COUNTIF(Scoresheet!$D39:J39,20)+COUNTIF(Scoresheet!$D39:J39,30)","v":0},{"$f":"COUNTIF(Scoresheet!$D39:K39,20)+COUNTIF(Scoresheet!$D39:K39,30)","v":0},{"$f":"COUNTIF(Scoresheet!$D39:L39,20)+COUNTIF(Scoresheet!$D39:L39,30)","v":0},{"$f":"COUNTIF(Scoresheet!$D39:M39,20)+COUNTIF(Scoresheet!$D39:M39,30)","v":0},{"$f":"COUNTIF(Scoresheet!$D39:N39,20)+COUNTIF(Scoresheet!$D39:N39,30)","v":0},{"$f":"COUNTIF(Scoresheet!$D39:O39,20)+COUNTIF(Scoresheet!$D39:O39,30)","v":0},{"$f":"COUNTIF(Scoresheet!$D39:P39,20)+COUNTIF(Scoresheet!$D39:P39,30)","v":0},{"$f":"COUNTIF(Scoresheet!$D39:Q39,20)+COUNTIF(Scoresheet!$D39:Q39,30)","v":0},{"$f":"COUNTIF(Scoresheet!$D39:R39,20)+COUNTIF(Scoresheet!$D39:R39,30)","v":0},{"$f":"COUNTIF(Scoresheet!$D39:S39,20)+COUNTIF(Scoresheet!$D39:S39,30)","v":0},{"$f":"COUNTIF(Scoresheet!$D39:T39,20)+COUNTIF(Scoresheet!$D39:T39,30)","v":0},{"$f":"COUNTIF(Scoresheet!$D39:U39,20)+COUNTIF(Scoresheet!$D39:U39,30)","v":0},{"$f":"COUNTIF(Scoresheet!$D39:V39,20)+COUNTIF(Scoresheet!$D39:V39,30)","v":0},{"$f":"COUNTIF(Scoresheet!$D39:W39,20)+COUNTIF(Scoresheet!$D39:W39,30)","v":0},{"$f":"COUNTIF(Scoresheet!$D39:X39,20)+COUNTIF(Scoresheet!$D39:X39,30)","v":0},{"$f":"COUNTIF(Scoresheet!$D39:Y39,20)+COUNTIF(Scoresheet!$D39:Y39,30)","v":0},{"$f":"COUNTIF(Scoresheet!$D39:Z39,20)+COUNTIF(Scoresheet!$D39:Z39,30)","v":0},{"$f":"COUNTIF(Scoresheet!$D39:AA39,20)+COUNTIF(Scoresheet!$D39:AA39,30)","v":0},{"$f":"COUNTIF(Scoresheet!$D39:AB39,20)+COUNTIF(Scoresheet!$D39:AB39,30)","v":0},{"$f":"COUNTIF(Scoresheet!$D39:AC39,20)+COUNTIF(Scoresheet!$D39:AC39,30)","v":0},{"$f":"COUNTIF(Scoresheet!$D39:AD39,20)+COUNTIF(Scoresheet!$D39:AD39,30)","v":0},{"$f":"COUNTIF(Scoresheet!$D39:AE39,20)+COUNTIF(Scoresheet!$D39:AE39,30)","v":0},{"$f":"COUNTIF(Scoresheet!$D39:AF39,20)+COUNTIF(Scoresheet!$D39:AF39,30)","v":0},{"$f":"COUNTIF(Scoresheet!$D39:AG39,20)+COUNTIF(Scoresheet!$D39:AG39,30)","v":0},{"$f":"COUNTIF(Scoresheet!$D39:AH39,20)+COUNTIF(Scoresheet!$D39:AH39,30)","v":0},{"$f":"COUNTIF(Scoresheet!$D39:AI39,20)+COUNTIF(Scoresheet!$D39:AI39,30)","v":0},{"$f":"COUNTIF(Scoresheet!$D39:AJ39,20)+COUNTIF(Scoresheet!$D39:AJ39,30)","v":0},{"$f":"COUNTIF(Scoresheet!$D39:AK39,20)+COUNTIF(Scoresheet!$D39:AK39,30)","v":0},{"$f":"COUNTIF(Scoresheet!$D39:AL39,20)+COUNTIF(Scoresheet!$D39:AL39,30)","v":0},{"$f":"COUNTIF(Scoresheet!$D39:AM39,20)+COUNTIF(Scoresheet!$D39:AM39,30)","v":0},{"$f":"COUNTIF(Scoresheet!$D39:AN39,20)+COUNTIF(Scoresheet!$D39:AN39,30)","v":0},{"$f":"COUNTIF(Scoresheet!$D39:AO39,20)+COUNTIF(Scoresheet!$D39:AO39,30)","v":0},{"$f":"COUNTIF(Scoresheet!$D39:AP39,20)+COUNTIF(Scoresheet!$D39:AP39,30)","v":0},{"$f":"COUNTIF(Scoresheet!$D39:AQ39,20)+COUNTIF(Scoresheet!$D39:AQ39,30)","v":0},{"$f":"COUNTIF(Scoresheet!$D39:AR39,20)+COUNTIF(Scoresheet!$D39:AR39,30)","v":0},{"$f":"COUNTIF(Scoresheet!$D39:AS39,20)+COUNTIF(Scoresheet!$D39:AS39,30)","v":0},{"$f":"COUNTIF(Scoresheet!$D39:AT39,20)+COUNTIF(Scoresheet!$D39:AT39,30)","v":0},{"$f":"COUNTIF(Scoresheet!$D39:AU39,20)+COUNTIF(Scoresheet!$D39:AU39,30)","v":0},{"$f":"COUNTIF(Scoresheet!$D39:AV39,20)+COUNTIF(Scoresheet!$D39:AV39,30)","v":0},{"$f":"COUNTIF(Scoresheet!$D39:AW39,20)+COUNTIF(Scoresheet!$D39:AW39,30)","v":0},{"$f":"COUNTIF(Scoresheet!$D39:AX39,20)+COUNTIF(Scoresheet!$D39:AX39,30)","v":0},{"$f":"COUNTIF(Scoresheet!$D39:AY39,20)+COUNTIF(Scoresheet!$D39:AY39,30)","v":0},{"$f":"COUNTIF(Scoresheet!$D39:AZ39,20)+COUNTIF(Scoresheet!$D39:AZ39,30)","v":0},{"$f":"COUNTIF(Scoresheet!$D39:BA39,20)+COUNTIF(Scoresheet!$D39:BA39,30)","v":0},{"$f":"COUNTIF(Scoresheet!$D39:BB39,20)+COUNTIF(Scoresheet!$D39:BB39,30)","v":0}]
[null,null,{"$f":"CONCATENATE(\"#20's \",C40)","v":"#20's Quizzer #3"},{"$f":"COUNTIF(Scoresheet!$D40:D40,20)+COUNTIF(Scoresheet!$D40:D40,30)","v":0},{"$f":"COUNTIF(Scoresheet!$D40:E40,20)+COUNTIF(Scoresheet!$D40:E40,30)","v":0},{"$f":"COUNTIF(Scoresheet!$D40:F40,20)+COUNTIF(Scoresheet!$D40:F40,30)","v":0},{"$f":"COUNTIF(Scoresheet!$D40:G40,20)+COUNTIF(Scoresheet!$D40:G40,30)","v":0},{"$f":"COUNTIF(Scoresheet!$D40:H40,20)+COUNTIF(Scoresheet!$D40:H40,30)","v":0},{"$f":"COUNTIF(Scoresheet!$D40:I40,20)+COUNTIF(Scoresheet!$D40:I40,30)","v":0},{"$f":"COUNTIF(Scoresheet!$D40:J40,20)+COUNTIF(Scoresheet!$D40:J40,30)","v":0},{"$f":"COUNTIF(Scoresheet!$D40:K40,20)+COUNTIF(Scoresheet!$D40:K40,30)","v":0},{"$f":"COUNTIF(Scoresheet!$D40:L40,20)+COUNTIF(Scoresheet!$D40:L40,30)","v":0},{"$f":"COUNTIF(Scoresheet!$D40:M40,20)+COUNTIF(Scoresheet!$D40:M40,30)","v":0},{"$f":"COUNTIF(Scoresheet!$D40:N40,20)+COUNTIF(Scoresheet!$D40:N40,30)","v":0},{"$f":"COUNTIF(Scoresheet!$D40:O40,20)+COUNTIF(Scoresheet!$D40:O40,30)","v":0},{"$f":"COUNTIF(Scoresheet!$D40:P40,20)+COUNTIF(Scoresheet!$D40:P40,30)","v":0},{"$f":"COUNTIF(Scoresheet!$D40:Q40,20)+COUNTIF(Scoresheet!$D40:Q40,30)","v":0},{"$f":"COUNTIF(Scoresheet!$D40:R40,20)+COUNTIF(Scoresheet!$D40:R40,30)","v":0},{"$f":"COUNTIF(Scoresheet!$D40:S40,20)+COUNTIF(Scoresheet!$D40:S40,30)","v":0},{"$f":"COUNTIF(Scoresheet!$D40:T40,20)+COUNTIF(Scoresheet!$D40:T40,30)","v":0},{"$f":"COUNTIF(Scoresheet!$D40:U40,20)+COUNTIF(Scoresheet!$D40:U40,30)","v":0},{"$f":"COUNTIF(Scoresheet!$D40:V40,20)+COUNTIF(Scoresheet!$D40:V40,30)","v":0},{"$f":"COUNTIF(Scoresheet!$D40:W40,20)+COUNTIF(Scoresheet!$D40:W40,30)","v":0},{"$f":"COUNTIF(Scoresheet!$D40:X40,20)+COUNTIF(Scoresheet!$D40:X40,30)","v":0},{"$f":"COUNTIF(Scoresheet!$D40:Y40,20)+COUNTIF(Scoresheet!$D40:Y40,30)","v":0},{"$f":"COUNTIF(Scoresheet!$D40:Z40,20)+COUNTIF(Scoresheet!$D40:Z40,30)","v":0},{"$f":"COUNTIF(Scoresheet!$D40:AA40,20)+COUNTIF(Scoresheet!$D40:AA40,30)","v":0},{"$f":"COUNTIF(Scoresheet!$D40:AB40,20)+COUNTIF(Scoresheet!$D40:AB40,30)","v":0},{"$f":"COUNTIF(Scoresheet!$D40:AC40,20)+COUNTIF(Scoresheet!$D40:AC40,30)","v":0},{"$f":"COUNTIF(Scoresheet!$D40:AD40,20)+COUNTIF(Scoresheet!$D40:AD40,30)","v":0},{"$f":"COUNTIF(Scoresheet!$D40:AE40,20)+COUNTIF(Scoresheet!$D40:AE40,30)","v":0},{"$f":"COUNTIF(Scoresheet!$D40:AF40,20)+COUNTIF(Scoresheet!$D40:AF40,30)","v":0},{"$f":"COUNTIF(Scoresheet!$D40:AG40,20)+COUNTIF(Scoresheet!$D40:AG40,30)","v":0},{"$f":"COUNTIF(Scoresheet!$D40:AH40,20)+COUNTIF(Scoresheet!$D40:AH40,30)","v":0},{"$f":"COUNTIF(Scoresheet!$D40:AI40,20)+COUNTIF(Scoresheet!$D40:AI40,30)","v":0},{"$f":"COUNTIF(Scoresheet!$D40:AJ40,20)+COUNTIF(Scoresheet!$D40:AJ40,30)","v":0},{"$f":"COUNTIF(Scoresheet!$D40:AK40,20)+COUNTIF(Scoresheet!$D40:AK40,30)","v":0},{"$f":"COUNTIF(Scoresheet!$D40:AL40,20)+COUNTIF(Scoresheet!$D40:AL40,30)","v":0},{"$f":"COUNTIF(Scoresheet!$D40:AM40,20)+COUNTIF(Scoresheet!$D40:AM40,30)","v":0},{"$f":"COUNTIF(Scoresheet!$D40:AN40,20)+COUNTIF(Scoresheet!$D40:AN40,30)","v":0},{"$f":"COUNTIF(Scoresheet!$D40:AO40,20)+COUNTIF(Scoresheet!$D40:AO40,30)","v":0},{"$f":"COUNTIF(Scoresheet!$D40:AP40,20)+COUNTIF(Scoresheet!$D40:AP40,30)","v":0},{"$f":"COUNTIF(Scoresheet!$D40:AQ40,20)+COUNTIF(Scoresheet!$D40:AQ40,30)","v":0},{"$f":"COUNTIF(Scoresheet!$D40:AR40,20)+COUNTIF(Scoresheet!$D40:AR40,30)","v":0},{"$f":"COUNTIF(Scoresheet!$D40:AS40,20)+COUNTIF(Scoresheet!$D40:AS40,30)","v":0},{"$f":"COUNTIF(Scoresheet!$D40:AT40,20)+COUNTIF(Scoresheet!$D40:AT40,30)","v":0},{"$f":"COUNTIF(Scoresheet!$D40:AU40,20)+COUNTIF(Scoresheet!$D40:AU40,30)","v":0},{"$f":"COUNTIF(Scoresheet!$D40:AV40,20)+COUNTIF(Scoresheet!$D40:AV40,30)","v":0},{"$f":"COUNTIF(Scoresheet!$D40:AW40,20)+COUNTIF(Scoresheet!$D40:AW40,30)","v":0},{"$f":"COUNTIF(Scoresheet!$D40:AX40,20)+COUNTIF(Scoresheet!$D40:AX40,30)","v":0},{"$f":"COUNTIF(Scoresheet!$D40:AY40,20)+COUNTIF(Scoresheet!$D40:AY40,30)","v":0},{"$f":"COUNTIF(Scoresheet!$D40:AZ40,20)+COUNTIF(Scoresheet!$D40:AZ40,30)","v":0},{"$f":"COUNTIF(Scoresheet!$D40:BA40,20)+COUNTIF(Scoresheet!$D40:BA40,30)","v":0},{"$f":"COUNTIF(Scoresheet!$D40:BB40,20)+COUNTIF(Scoresheet!$D40:BB40,30)","v":0}]
[null,null,{"$f":"CONCATENATE(\"#20's \",C41)","v":"#20's Substitute"},{"$f":"COUNTIF(Scoresheet!$D41:D41,20)+COUNTIF(Scoresheet!$D41:D41,30)","v":0},{"$f":"COUNTIF(Scoresheet!$D41:E41,20)+COUNTIF(Scoresheet!$D41:E41,30)","v":0},{"$f":"COUNTIF(Scoresheet!$D41:F41,20)+COUNTIF(Scoresheet!$D41:F41,30)","v":0},{"$f":"COUNTIF(Scoresheet!$D41:G41,20)+COUNTIF(Scoresheet!$D41:G41,30)","v":0},{"$f":"COUNTIF(Scoresheet!$D41:H41,20)+COUNTIF(Scoresheet!$D41:H41,30)","v":0},{"$f":"COUNTIF(Scoresheet!$D41:I41,20)+COUNTIF(Scoresheet!$D41:I41,30)","v":0},{"$f":"COUNTIF(Scoresheet!$D41:J41,20)+COUNTIF(Scoresheet!$D41:J41,30)","v":0},{"$f":"COUNTIF(Scoresheet!$D41:K41,20)+COUNTIF(Scoresheet!$D41:K41,30)","v":0},{"$f":"COUNTIF(Scoresheet!$D41:L41,20)+COUNTIF(Scoresheet!$D41:L41,30)","v":0},{"$f":"COUNTIF(Scoresheet!$D41:M41,20)+COUNTIF(Scoresheet!$D41:M41,30)","v":0},{"$f":"COUNTIF(Scoresheet!$D41:N41,20)+COUNTIF(Scoresheet!$D41:N41,30)","v":0},{"$f":"COUNTIF(Scoresheet!$D41:O41,20)+COUNTIF(Scoresheet!$D41:O41,30)","v":0},{"$f":"COUNTIF(Scoresheet!$D41:P41,20)+COUNTIF(Scoresheet!$D41:P41,30)","v":0},{"$f":"COUNTIF(Scoresheet!$D41:Q41,20)+COUNTIF(Scoresheet!$D41:Q41,30)","v":0},{"$f":"COUNTIF(Scoresheet!$D41:R41,20)+COUNTIF(Scoresheet!$D41:R41,30)","v":0},{"$f":"COUNTIF(Scoresheet!$D41:S41,20)+COUNTIF(Scoresheet!$D41:S41,30)","v":0},{"$f":"COUNTIF(Scoresheet!$D41:T41,20)+COUNTIF(Scoresheet!$D41:T41,30)","v":0},{"$f":"COUNTIF(Scoresheet!$D41:U41,20)+COUNTIF(Scoresheet!$D41:U41,30)","v":0},{"$f":"COUNTIF(Scoresheet!$D41:V41,20)+COUNTIF(Scoresheet!$D41:V41,30)","v":0},{"$f":"COUNTIF(Scoresheet!$D41:W41,20)+COUNTIF(Scoresheet!$D41:W41,30)","v":0},{"$f":"COUNTIF(Scoresheet!$D41:X41,20)+COUNTIF(Scoresheet!$D41:X41,30)","v":0},{"$f":"COUNTIF(Scoresheet!$D41:Y41,20)+COUNTIF(Scoresheet!$D41:Y41,30)","v":0},{"$f":"COUNTIF(Scoresheet!$D41:Z41,20)+COUNTIF(Scoresheet!$D41:Z41,30)","v":0},{"$f":"COUNTIF(Scoresheet!$D41:AA41,20)+COUNTIF(Scoresheet!$D41:AA41,30)","v":0},{"$f":"COUNTIF(Scoresheet!$D41:AB41,20)+COUNTIF(Scoresheet!$D41:AB41,30)","v":0},{"$f":"COUNTIF(Scoresheet!$D41:AC41,20)+COUNTIF(Scoresheet!$D41:AC41,30)","v":0},{"$f":"COUNTIF(Scoresheet!$D41:AD41,20)+COUNTIF(Scoresheet!$D41:AD41,30)","v":0},{"$f":"COUNTIF(Scoresheet!$D41:AE41,20)+COUNTIF(Scoresheet!$D41:AE41,30)","v":0},{"$f":"COUNTIF(Scoresheet!$D41:AF41,20)+COUNTIF(Scoresheet!$D41:AF41,30)","v":0},{"$f":"COUNTIF(Scoresheet!$D41:AG41,20)+COUNTIF(Scoresheet!$D41:AG41,30)","v":0},{"$f":"COUNTIF(Scoresheet!$D41:AH41,20)+COUNTIF(Scoresheet!$D41:AH41,30)","v":0},{"$f":"COUNTIF(Scoresheet!$D41:AI41,20)+COUNTIF(Scoresheet!$D41:AI41,30)","v":0},{"$f":"COUNTIF(Scoresheet!$D41:AJ41,20)+COUNTIF(Scoresheet!$D41:AJ41,30)","v":0},{"$f":"COUNTIF(Scoresheet!$D41:AK41,20)+COUNTIF(Scoresheet!$D41:AK41,30)","v":0},{"$f":"COUNTIF(Scoresheet!$D41:AL41,20)+COUNTIF(Scoresheet!$D41:AL41,30)","v":0},{"$f":"COUNTIF(Scoresheet!$D41:AM41,20)+COUNTIF(Scoresheet!$D41:AM41,30)","v":0},{"$f":"COUNTIF(Scoresheet!$D41:AN41,20)+COUNTIF(Scoresheet!$D41:AN41,30)","v":0},{"$f":"COUNTIF(Scoresheet!$D41:AO41,20)+COUNTIF(Scoresheet!$D41:AO41,30)","v":0},{"$f":"COUNTIF(Scoresheet!$D41:AP41,20)+COUNTIF(Scoresheet!$D41:AP41,30)","v":0},{"$f":"COUNTIF(Scoresheet!$D41:AQ41,20)+COUNTIF(Scoresheet!$D41:AQ41,30)","v":0},{"$f":"COUNTIF(Scoresheet!$D41:AR41,20)+COUNTIF(Scoresheet!$D41:AR41,30)","v":0},{"$f":"COUNTIF(Scoresheet!$D41:AS41,20)+COUNTIF(Scoresheet!$D41:AS41,30)","v":0},{"$f":"COUNTIF(Scoresheet!$D41:AT41,20)+COUNTIF(Scoresheet!$D41:AT41,30)","v":0},{"$f":"COUNTIF(Scoresheet!$D41:AU41,20)+COUNTIF(Scoresheet!$D41:AU41,30)","v":0},{"$f":"COUNTIF(Scoresheet!$D41:AV41,20)+COUNTIF(Scoresheet!$D41:AV41,30)","v":0},{"$f":"COUNTIF(Scoresheet!$D41:AW41,20)+COUNTIF(Scoresheet!$D41:AW41,30)","v":0},{"$f":"COUNTIF(Scoresheet!$D41:AX41,20)+COUNTIF(Scoresheet!$D41:AX41,30)","v":0},{"$f":"COUNTIF(Scoresheet!$D41:AY41,20)+COUNTIF(Scoresheet!$D41:AY41,30)","v":0},{"$f":"COUNTIF(Scoresheet!$D41:AZ41,20)+COUNTIF(Scoresheet!$D41:AZ41,30)","v":0},{"$f":"COUNTIF(Scoresheet!$D41:BA41,20)+COUNTIF(Scoresheet!$D41:BA41,30)","v":0},{"$f":"COUNTIF(Scoresheet!$D41:BB41,20)+COUNTIF(Scoresheet!$D41:BB41,30)","v":0}]
[]
[]
[]
[]
[]
[]
[null,null,{"$f":"Scoresheet!C58","v":"Team Name"}]
[null,null,{"$f":"Scoresheet!C59","v":"Quizzer #1"},20,{"$f":"IF(D64>2,\".\",IF(D69=2,IF(D64=0,IF(Scoresheet!E67=20,30,Scoresheet!E67),Scoresheet!E67),IF(E69>2,IF(E$2=\"R\",\".\",Scoresheet!E67),Scoresheet!E67)))","v":20},{"$f":"IF(E64>2,\".\",IF(E69=2,IF(E64=0,IF(Scoresheet!F67=20,30,Scoresheet!F67),Scoresheet!F67),IF(F69>2,IF(F$2=\"R\",\".\",Scoresheet!F67),Scoresheet!F67)))","v":20},{"$f":"IF(F64>2,\".\",IF(F69=2,IF(F64=0,IF(Scoresheet!G67=20,30,Scoresheet!G67),Scoresheet!G67),IF(G69>2,IF(G$2=\"R\",\".\",Scoresheet!G67),Scoresheet!G67)))","v":20},{"$f":"IF(G64>2,\".\",IF(G69=2,IF(G64=0,IF(Scoresheet!H67=20,30,Scoresheet!H67),Scoresheet!H67),IF(H69>2,IF(H$2=\"R\",\".\",Scoresheet!H67),Scoresheet!H67)))","v":20},{"$f":"IF(H64>2,\".\",IF(H69=2,IF(H64=0,IF(Scoresheet!I67=20,30,Scoresheet!I67),Scoresheet!I67),IF(I69>2,IF(I$2=\"R\",\".\",Scoresheet!I67),Scoresheet!I67)))","v":20},{"$f":"IF(I64>2,\".\",IF(I69=2,IF(I64=0,IF(Scoresheet!J67=20,30,Scoresheet!J67),Scoresheet!J67),IF(J69>2,IF(J$2=\"R\",\".\",Scoresheet!J67),Scoresheet!J67)))","v":20},{"$f":"IF(J64>2,\".\",IF(J69=2,IF(J64=0,IF(Scoresheet!K67=20,30,Scoresheet!K67),Scoresheet!K67),IF(K69>2,IF(K$2=\"R\",\".\",Scoresheet!K67),Scoresheet!K67)))","v":20},{"$f":"IF(K64>2,\".\",IF(K69=2,IF(K64=0,IF(Scoresheet!L67=20,30,Scoresheet!L67),Scoresheet!L67),IF(L69>2,IF(L$2=\"R\",\".\",Scoresheet!L67),Scoresheet!L67)))","v":20},{"$f":"IF(L64>2,\".\",IF(L69=2,IF(L64=0,IF(Scoresheet!M67=20,30,Scoresheet!M67),Scoresheet!M67),IF(M69>2,IF(M$2=\"R\",\".\",Scoresheet!M67),Scoresheet!M67)))","v":20},{"$f":"IF(M64>2,\".\",IF(M69=2,IF(M64=0,IF(Scoresheet!N67=20,30,Scoresheet!N67),Scoresheet!N67),IF(N69>2,IF(N$2=\"R\",\".\",Scoresheet!N67),Scoresheet!N67)))","v":20},{"$f":"IF(N64>2,\".\",IF(N69=2,IF(N64=0,IF(Scoresheet!O67=20,30,Scoresheet!O67),Scoresheet!O67),IF(O69>2,IF(O$2=\"R\",\".\",Scoresheet!O67),Scoresheet!O67)))","v":20},{"$f":"IF(O64>2,\".\",IF(O69=2,IF(O64=0,IF(Scoresheet!P67=20,30,Scoresheet!P67),Scoresheet!P67),IF(P69>2,IF(P$2=\"R\",\".\",Scoresheet!P67),Scoresheet!P67)))","v":20},{"$f":"IF(P64>2,\".\",IF(P69=2,IF(P64=0,IF(Scoresheet!Q67=20,30,Scoresheet!Q67),Scoresheet!Q67),IF(Q69>2,IF(Q$2=\"R\",\".\",Scoresheet!Q67),Scoresheet!Q67)))","v":10},{"$f":"IF(Q64>2,\".\",IF(Q69=2,IF(Q64=0,IF(Scoresheet!R67=20,30,Scoresheet!R67),Scoresheet!R67),IF(R69>2,IF(R$2=\"R\",\".\",Scoresheet!R67),Scoresheet!R67)))","v":20},{"$f":"IF(R64>2,\".\",IF(R69=2,IF(R64=0,IF(Scoresheet!S67=20,30,Scoresheet!S67),Scoresheet!S67),IF(S69>2,IF(S$2=\"R\",\".\",Scoresheet!S67),Scoresheet!S67)))","v":20},{"$f":"IF(S64>2,\".\",IF(S69=2,IF(S64=0,IF(Scoresheet!T67=20,30,Scoresheet!T67),Scoresheet!T67),IF(T69>2,IF(T$2=\"R\",\".\",Scoresheet!T67),Scoresheet!T67)))","v":10},{"$f":"IF(T64>2,\".\",IF(T69=2,IF(T64=0,IF(Scoresheet!U67=20,30,Scoresheet!U67),Scoresheet!U67),IF(U69>2,IF(U$2=\"R\",\".\",Scoresheet!U67),Scoresheet!U67)))","v":20},{"$f":"IF(U64>2,\".\",IF(U69=2,IF(U64=0,IF(Scoresheet!V67=20,30,Scoresheet!V67),Scoresheet!V67),IF(V69>2,IF(V$2=\"R\",\".\",Scoresheet!V67),Scoresheet!V67)))","v":20},{"$f":"IF(V64>2,\".\",IF(V69=2,IF(V64=0,IF(Scoresheet!W67=20,30,Scoresheet!W67),Scoresheet!W67),IF(W69>2,IF(W$2=\"R\",\".\",Scoresheet!W67),Scoresheet!W67)))","v":10},{"$f":"IF(W64>2,\".\",IF(W69=2,IF(W64=0,IF(Scoresheet!X67=20,30,Scoresheet!X67),Scoresheet!X67),IF(X69>2,IF(X$2=\"R\",\".\",Scoresheet!X67),Scoresheet!X67)))","v":20},{"$f":"IF(X64>2,\".\",IF(X69=2,IF(X64=0,IF(Scoresheet!Y67=20,30,Scoresheet!Y67),Scoresheet!Y67),IF(Y69>2,IF(Y$2=\"R\",\".\",Scoresheet!Y67),Scoresheet!Y67)))","v":"?"},{"$f":"IF(Y64>2,\".\",IF(Y69=2,IF(Y64=0,IF(Scoresheet!Z67=20,30,Scoresheet!Z67),Scoresheet!Z67),IF(Z69>2,IF(Z$2=\"R\",\".\",Scoresheet!Z67),Scoresheet!Z67)))","v":"?"},{"$f":"IF(Z64>2,\".\",IF(Z69=2,IF(Z64=0,IF(Scoresheet!AA67=20,30,Scoresheet!AA67),Scoresheet!AA67),IF(AA69>2,IF(AA$2=\"R\",\".\",Scoresheet!AA67),Scoresheet!AA67)))","v":"?"},{"$f":"IF(AA64>2,\".\",IF(AA69=2,IF(AA64=0,IF(Scoresheet!AB67=20,30,Scoresheet!AB67),Scoresheet!AB67),IF(AB69>2,IF(AB$2=\"R\",\".\",Scoresheet!AB67),Scoresheet!AB67)))","v":"?"},{"$f":"IF(AB64>2,\".\",IF(AB69=2,IF(AB64=0,IF(Scoresheet!AC67=20,30,Scoresheet!AC67),Scoresheet!AC67),IF(AC69>2,IF(AC$2=\"R\",\".\",Scoresheet!AC67),Scoresheet!AC67)))","v":"?"},{"$f":"IF(AC64>2,\".\",IF(AC69=2,IF(AC64=0,IF(Scoresheet!AD67=20,30,Scoresheet!AD67),Scoresheet!AD67),IF(AD69>2,IF(AD$2=\"R\",\".\",Scoresheet!AD67),Scoresheet!AD67)))","v":"?"},{"$f":"IF(AD64>2,\".\",IF(AD69=2,IF(AD64=0,IF(Scoresheet!AE67=20,30,Scoresheet!AE67),Scoresheet!AE67),IF(AE69>2,IF(AE$2=\"R\",\".\",Scoresheet!AE67),Scoresheet!AE67)))","v":"?"},{"$f":"IF(AE64>2,\".\",IF(AE69=2,IF(AE64=0,IF(Scoresheet!AF67=20,30,Scoresheet!AF67),Scoresheet!AF67),IF(AF69>2,IF(AF$2=\"R\",\".\",Scoresheet!AF67),Scoresheet!AF67)))","v":"?"},{"$f":"IF(AF64>2,\".\",IF(AF69=2,IF(AF64=0,IF(Scoresheet!AG67=20,30,Scoresheet!AG67),Scoresheet!AG67),IF(AG69>2,IF(AG$2=\"R\",\".\",Scoresheet!AG67),Scoresheet!AG67)))","v":"?"},{"$f":"IF(AG64>2,\".\",IF(AG69=2,IF(AG64=0,IF(Scoresheet!AH67=20,30,Scoresheet!AH67),Scoresheet!AH67),IF(AH69>2,IF(AH$2=\"R\",\".\",Scoresheet!AH67),Scoresheet!AH67)))","v":"?"},{"$f":"IF(AH64>2,\".\",IF(AH69=2,IF(AH64=0,IF(Scoresheet!AI67=20,30,Scoresheet!AI67),Scoresheet!AI67),IF(AI69>2,IF(AI$2=\"R\",\".\",Scoresheet!AI67),Scoresheet!AI67)))","v":"?"},{"$f":"IF(AI64>2,\".\",IF(AI69=2,IF(AI64=0,IF(Scoresheet!AJ67=20,30,Scoresheet!AJ67),Scoresheet!AJ67),IF(AJ69>2,IF(AJ$2=\"R\",\".\",Scoresheet!AJ67),Scoresheet!AJ67)))","v":"?"},{"$f":"IF(AJ64>2,\".\",IF(AJ69=2,IF(AJ64=0,IF(Scoresheet!AK67=20,30,Scoresheet!AK67),Scoresheet!AK67),IF(AK69>2,IF(AK$2=\"R\",\".\",Scoresheet!AK67),Scoresheet!AK67)))","v":"?"},{"$f":"IF(AK64>2,\".\",IF(AK69=2,IF(AK64=0,IF(Scoresheet!AL67=20,30,Scoresheet!AL67),Scoresheet!AL67),IF(AL69>2,IF(AL$2=\"R\",\".\",Scoresheet!AL67),Scoresheet!AL67)))","v":"?"},{"$f":"IF(AL64>2,\".\",IF(AL69=2,IF(AL64=0,IF(Scoresheet!AM67=20,30,Scoresheet!AM67),Scoresheet!AM67),IF(AM69>2,IF(AM$2=\"R\",\".\",Scoresheet!AM67),Scoresheet!AM67)))","v":"?"},{"$f":"IF(AM64>2,\".\",IF(AM69=2,IF(AM64=0,IF(Scoresheet!AN67=20,30,Scoresheet!AN67),Scoresheet!AN67),IF(AN69>2,IF(AN$2=\"R\",\".\",Scoresheet!AN67),Scoresheet!AN67)))","v":"?"},{"$f":"IF(AN64>2,\".\",IF(AN69=2,IF(AN64=0,IF(Scoresheet!AO67=20,30,Scoresheet!AO67),Scoresheet!AO67),IF(AO69>2,IF(AO$2=\"R\",\".\",Scoresheet!AO67),Scoresheet!AO67)))","v":"?"},{"$f":"IF(AO64>2,\".\",IF(AO69=2,IF(AO64=0,IF(Scoresheet!AP67=20,30,Scoresheet!AP67),Scoresheet!AP67),IF(AP69>2,IF(AP$2=\"R\",\".\",Scoresheet!AP67),Scoresheet!AP67)))","v":"?"},{"$f":"IF(AP64>2,\".\",IF(AP69=2,IF(AP64=0,IF(Scoresheet!AQ67=20,30,Scoresheet!AQ67),Scoresheet!AQ67),IF(AQ69>2,IF(AQ$2=\"R\",\".\",Scoresheet!AQ67),Scoresheet!AQ67)))","v":"?"},{"$f":"IF(AQ64>2,\".\",IF(AQ69=2,IF(AQ64=0,IF(Scoresheet!AR67=20,30,Scoresheet!AR67),Scoresheet!AR67),IF(AR69>2,IF(AR$2=\"R\",\".\",Scoresheet!AR67),Scoresheet!AR67)))","v":"?"},{"$f":"IF(AR64>2,\".\",IF(AR69=2,IF(AR64=0,IF(Scoresheet!AS67=20,30,Scoresheet!AS67),Scoresheet!AS67),IF(AS69>2,IF(AS$2=\"R\",\".\",Scoresheet!AS67),Scoresheet!AS67)))","v":"?"},{"$f":"IF(AS64>2,\".\",IF(AS69=2,IF(AS64=0,IF(Scoresheet!AT67=20,30,Scoresheet!AT67),Scoresheet!AT67),IF(AT69>2,IF(AT$2=\"R\",\".\",Scoresheet!AT67),Scoresheet!AT67)))","v":"?"},{"$f":"IF(AT64>2,\".\",IF(AT69=2,IF(AT64=0,IF(Scoresheet!AU67=20,30,Scoresheet!AU67),Scoresheet!AU67),IF(AU69>2,IF(AU$2=\"R\",\".\",Scoresheet!AU67),Scoresheet!AU67)))","v":"?"},{"$f":"IF(AU64>2,\".\",IF(AU69=2,IF(AU64=0,IF(Scoresheet!AV67=20,30,Scoresheet!AV67),Scoresheet!AV67),IF(AV69>2,IF(AV$2=\"R\",\".\",Scoresheet!AV67),Scoresheet!AV67)))","v":"?"},{"$f":"IF(AV64>2,\".\",IF(AV69=2,IF(AV64=0,IF(Scoresheet!AW67=20,30,Scoresheet!AW67),Scoresheet!AW67),IF(AW69>2,IF(AW$2=\"R\",\".\",Scoresheet!AW67),Scoresheet!AW67)))","v":"?"},{"$f":"IF(AW64>2,\".\",IF(AW69=2,IF(AW64=0,IF(Scoresheet!AX67=20,30,Scoresheet!AX67),Scoresheet!AX67),IF(AX69>2,IF(AX$2=\"R\",\".\",Scoresheet!AX67),Scoresheet!AX67)))","v":"?"},{"$f":"IF(AX64>2,\".\",IF(AX69=2,IF(AX64=0,IF(Scoresheet!AY67=20,30,Scoresheet!AY67),Scoresheet!AY67),IF(AY69>2,IF(AY$2=\"R\",\".\",Scoresheet!AY67),Scoresheet!AY67)))","v":"?"},{"$f":"IF(AY64>2,\".\",IF(AY69=2,IF(AY64=0,IF(Scoresheet!AZ67=20,30,Scoresheet!AZ67),Scoresheet!AZ67),IF(AZ69>2,IF(AZ$2=\"R\",\".\",Scoresheet!AZ67),Scoresheet!AZ67)))","v":"?"},{"$f":"IF(AZ64>2,\".\",IF(AZ69=2,IF(AZ64=0,IF(Scoresheet!BA67=20,30,Scoresheet!BA67),Scoresheet!BA67),IF(BA69>2,IF(BA$2=\"R\",\".\",Scoresheet!BA67),Scoresheet!BA67)))","v":"?"},{"$f":"IF(BA64>2,\".\",IF(BA69=2,IF(BA64=0,IF(Scoresheet!BB67=20,30,Scoresheet!BB67),Scoresheet!BB67),IF(BB69>2,IF(BB$2=\"R\",\".\",Scoresheet!BB67),Scoresheet!BB67)))","v":"?"}]
[null,null,{"$f":"Scoresheet!C60","v":"Quizzer #2"},20,{"$f":"IF(D65>2,\".\",IF(D70=2,IF(D65=0,IF(Scoresheet!E67=20,30,Scoresheet!E67),Scoresheet!E67),IF(E70>2,IF(E$2=\"R\",\".\",Scoresheet!E67),Scoresheet!E67)))","v":20},{"$f":"IF(E65>2,\".\",IF(E70=2,IF(E65=0,IF(Scoresheet!F67=20,30,Scoresheet!F67),Scoresheet!F67),IF(F70>2,IF(F$2=\"R\",\".\",Scoresheet!F67),Scoresheet!F67)))","v":20},{"$f":"IF(F65>2,\".\",IF(F70=2,IF(F65=0,IF(Scoresheet!G67=20,30,Scoresheet!G67),Scoresheet!G67),IF(G70>2,IF(G$2=\"R\",\".\",Scoresheet!G67),Scoresheet!G67)))","v":20},{"$f":"IF(G65>2,\".\",IF(G70=2,IF(G65=0,IF(Scoresheet!H67=20,30,Scoresheet!H67),Scoresheet!H67),IF(H70>2,IF(H$2=\"R\",\".\",Scoresheet!H67),Scoresheet!H67)))","v":20},{"$f":"IF(H65>2,\".\",IF(H70=2,IF(H65=0,IF(Scoresheet!I67=20,30,Scoresheet!I67),Scoresheet!I67),IF(I70>2,IF(I$2=\"R\",\".\",Scoresheet!I67),Scoresheet!I67)))","v":20},{"$f":"IF(I65>2,\".\",IF(I70=2,IF(I65=0,IF(Scoresheet!J67=20,30,Scoresheet!J67),Scoresheet!J67),IF(J70>2,IF(J$2=\"R\",\".\",Scoresheet!J67),Scoresheet!J67)))","v":20},{"$f":"IF(J65>2,\".\",IF(J70=2,IF(J65=0,IF(Scoresheet!K67=20,30,Scoresheet!K67),Scoresheet!K67),IF(K70>2,IF(K$2=\"R\",\".\",Scoresheet!K67),Scoresheet!K67)))","v":20},{"$f":"IF(K65>2,\".\",IF(K70=2,IF(K65=0,IF(Scoresheet!L67=20,30,Scoresheet!L67),Scoresheet!L67),IF(L70>2,IF(L$2=\"R\",\".\",Scoresheet!L67),Scoresheet!L67)))","v":20},{"$f":"IF(L65>2,\".\",IF(L70=2,IF(L65=0,IF(Scoresheet!M67=20,30,Scoresheet!M67),Scoresheet!M67),IF(M70>2,IF(M$2=\"R\",\".\",Scoresheet!M67),Scoresheet!M67)))","v":20},{"$f":"IF(M65>2,\".\",IF(M70=2,IF(M65=0,IF(Scoresheet!N67=20,30,Scoresheet!N67),Scoresheet!N67),IF(N70>2,IF(N$2=\"R\",\".\",Scoresheet!N67),Scoresheet!N67)))","v":20},{"$f":"IF(N65>2,\".\",IF(N70=2,IF(N65=0,IF(Scoresheet!O67=20,30,Scoresheet!O67),Scoresheet!O67),IF(O70>2,IF(O$2=\"R\",\".\",Scoresheet!O67),Scoresheet!O67)))","v":20},{"$f":"IF(O65>2,\".\",IF(O70=2,IF(O65=0,IF(Scoresheet!P67=20,30,Scoresheet!P67),Scoresheet!P67),IF(P70>2,IF(P$2=\"R\",\".\",Scoresheet!P67),Scoresheet!P67)))","v":20},{"$f":"IF(P65>2,\".\",IF(P70=2,IF(P65=0,IF(Scoresheet!Q67=20,30,Scoresheet!Q67),Scoresheet!Q67),IF(Q70>2,IF(Q$2=\"R\",\".\",Scoresheet!Q67),Scoresheet!Q67)))","v":10},{"$f":"IF(Q65>2,\".\",IF(Q70=2,IF(Q65=0,IF(Scoresheet!R67=20,30,Scoresheet!R67),Scoresheet!R67),IF(R70>2,IF(R$2=\"R\",\".\",Scoresheet!R67),Scoresheet!R67)))","v":20},{"$f":"IF(R65>2,\".\",IF(R70=2,IF(R65=0,IF(Scoresheet!S67=20,30,Scoresheet!S67),Scoresheet!S67),IF(S70>2,IF(S$2=\"R\",\".\",Scoresheet!S67),Scoresheet!S67)))","v":20},{"$f":"IF(S65>2,\".\",IF(S70=2,IF(S65=0,IF(Scoresheet!T67=20,30,Scoresheet!T67),Scoresheet!T67),IF(T70>2,IF(T$2=\"R\",\".\",Scoresheet!T67),Scoresheet!T67)))","v":10},{"$f":"IF(T65>2,\".\",IF(T70=2,IF(T65=0,IF(Scoresheet!U67=20,30,Scoresheet!U67),Scoresheet!U67),IF(U70>2,IF(U$2=\"R\",\".\",Scoresheet!U67),Scoresheet!U67)))","v":20},{"$f":"IF(U65>2,\".\",IF(U70=2,IF(U65=0,IF(Scoresheet!V67=20,30,Scoresheet!V67),Scoresheet!V67),IF(V70>2,IF(V$2=\"R\",\".\",Scoresheet!V67),Scoresheet!V67)))","v":20},{"$f":"IF(V65>2,\".\",IF(V70=2,IF(V65=0,IF(Scoresheet!W67=20,30,Scoresheet!W67),Scoresheet!W67),IF(W70>2,IF(W$2=\"R\",\".\",Scoresheet!W67),Scoresheet!W67)))","v":10},{"$f":"IF(W65>2,\".\",IF(W70=2,IF(W65=0,IF(Scoresheet!X67=20,30,Scoresheet!X67),Scoresheet!X67),IF(X70>2,IF(X$2=\"R\",\".\",Scoresheet!X67),Scoresheet!X67)))","v":20},{"$f":"IF(X65>2,\".\",IF(X70=2,IF(X65=0,IF(Scoresheet!Y67=20,30,Scoresheet!Y67),Scoresheet!Y67),IF(Y70>2,IF(Y$2=\"R\",\".\",Scoresheet!Y67),Scoresheet!Y67)))","v":"?"},{"$f":"IF(Y65>2,\".\",IF(Y70=2,IF(Y65=0,IF(Scoresheet!Z67=20,30,Scoresheet!Z67),Scoresheet!Z67),IF(Z70>2,IF(Z$2=\"R\",\".\",Scoresheet!Z67),Scoresheet!Z67)))","v":"?"},{"$f":"IF(Z65>2,\".\",IF(Z70=2,IF(Z65=0,IF(Scoresheet!AA67=20,30,Scoresheet!AA67),Scoresheet!AA67),IF(AA70>2,IF(AA$2=\"R\",\".\",Scoresheet!AA67),Scoresheet!AA67)))","v":"?"},{"$f":"IF(AA65>2,\".\",IF(AA70=2,IF(AA65=0,IF(Scoresheet!AB67=20,30,Scoresheet!AB67),Scoresheet!AB67),IF(AB70>2,IF(AB$2=\"R\",\".\",Scoresheet!AB67),Scoresheet!AB67)))","v":"?"},{"$f":"IF(AB65>2,\".\",IF(AB70=2,IF(AB65=0,IF(Scoresheet!AC67=20,30,Scoresheet!AC67),Scoresheet!AC67),IF(AC70>2,IF(AC$2=\"R\",\".\",Scoresheet!AC67),Scoresheet!AC67)))","v":"?"},{"$f":"IF(AC65>2,\".\",IF(AC70=2,IF(AC65=0,IF(Scoresheet!AD67=20,30,Scoresheet!AD67),Scoresheet!AD67),IF(AD70>2,IF(AD$2=\"R\",\".\",Scoresheet!AD67),Scoresheet!AD67)))","v":"?"},{"$f":"IF(AD65>2,\".\",IF(AD70=2,IF(AD65=0,IF(Scoresheet!AE67=20,30,Scoresheet!AE67),Scoresheet!AE67),IF(AE70>2,IF(AE$2=\"R\",\".\",Scoresheet!AE67),Scoresheet!AE67)))","v":"?"},{"$f":"IF(AE65>2,\".\",IF(AE70=2,IF(AE65=0,IF(Scoresheet!AF67=20,30,Scoresheet!AF67),Scoresheet!AF67),IF(AF70>2,IF(AF$2=\"R\",\".\",Scoresheet!AF67),Scoresheet!AF67)))","v":"?"},{"$f":"IF(AF65>2,\".\",IF(AF70=2,IF(AF65=0,IF(Scoresheet!AG67=20,30,Scoresheet!AG67),Scoresheet!AG67),IF(AG70>2,IF(AG$2=\"R\",\".\",Scoresheet!AG67),Scoresheet!AG67)))","v":"?"},{"$f":"IF(AG65>2,\".\",IF(AG70=2,IF(AG65=0,IF(Scoresheet!AH67=20,30,Scoresheet!AH67),Scoresheet!AH67),IF(AH70>2,IF(AH$2=\"R\",\".\",Scoresheet!AH67),Scoresheet!AH67)))","v":"?"},{"$f":"IF(AH65>2,\".\",IF(AH70=2,IF(AH65=0,IF(Scoresheet!AI67=20,30,Scoresheet!AI67),Scoresheet!AI67),IF(AI70>2,IF(AI$2=\"R\",\".\",Scoresheet!AI67),Scoresheet!AI67)))","v":"?"},{"$f":"IF(AI65>2,\".\",IF(AI70=2,IF(AI65=0,IF(Scoresheet!AJ67=20,30,Scoresheet!AJ67),Scoresheet!AJ67),IF(AJ70>2,IF(AJ$2=\"R\",\".\",Scoresheet!AJ67),Scoresheet!AJ67)))","v":"?"},{"$f":"IF(AJ65>2,\".\",IF(AJ70=2,IF(AJ65=0,IF(Scoresheet!AK67=20,30,Scoresheet!AK67),Scoresheet!AK67),IF(AK70>2,IF(AK$2=\"R\",\".\",Scoresheet!AK67),Scoresheet!AK67)))","v":"?"},{"$f":"IF(AK65>2,\".\",IF(AK70=2,IF(AK65=0,IF(Scoresheet!AL67=20,30,Scoresheet!AL67),Scoresheet!AL67),IF(AL70>2,IF(AL$2=\"R\",\".\",Scoresheet!AL67),Scoresheet!AL67)))","v":"?"},{"$f":"IF(AL65>2,\".\",IF(AL70=2,IF(AL65=0,IF(Scoresheet!AM67=20,30,Scoresheet!AM67),Scoresheet!AM67),IF(AM70>2,IF(AM$2=\"R\",\".\",Scoresheet!AM67),Scoresheet!AM67)))","v":"?"},{"$f":"IF(AM65>2,\".\",IF(AM70=2,IF(AM65=0,IF(Scoresheet!AN67=20,30,Scoresheet!AN67),Scoresheet!AN67),IF(AN70>2,IF(AN$2=\"R\",\".\",Scoresheet!AN67),Scoresheet!AN67)))","v":"?"},{"$f":"IF(AN65>2,\".\",IF(AN70=2,IF(AN65=0,IF(Scoresheet!AO67=20,30,Scoresheet!AO67),Scoresheet!AO67),IF(AO70>2,IF(AO$2=\"R\",\".\",Scoresheet!AO67),Scoresheet!AO67)))","v":"?"},{"$f":"IF(AO65>2,\".\",IF(AO70=2,IF(AO65=0,IF(Scoresheet!AP67=20,30,Scoresheet!AP67),Scoresheet!AP67),IF(AP70>2,IF(AP$2=\"R\",\".\",Scoresheet!AP67),Scoresheet!AP67)))","v":"?"},{"$f":"IF(AP65>2,\".\",IF(AP70=2,IF(AP65=0,IF(Scoresheet!AQ67=20,30,Scoresheet!AQ67),Scoresheet!AQ67),IF(AQ70>2,IF(AQ$2=\"R\",\".\",Scoresheet!AQ67),Scoresheet!AQ67)))","v":"?"},{"$f":"IF(AQ65>2,\".\",IF(AQ70=2,IF(AQ65=0,IF(Scoresheet!AR67=20,30,Scoresheet!AR67),Scoresheet!AR67),IF(AR70>2,IF(AR$2=\"R\",\".\",Scoresheet!AR67),Scoresheet!AR67)))","v":"?"},{"$f":"IF(AR65>2,\".\",IF(AR70=2,IF(AR65=0,IF(Scoresheet!AS67=20,30,Scoresheet!AS67),Scoresheet!AS67),IF(AS70>2,IF(AS$2=\"R\",\".\",Scoresheet!AS67),Scoresheet!AS67)))","v":"?"},{"$f":"IF(AS65>2,\".\",IF(AS70=2,IF(AS65=0,IF(Scoresheet!AT67=20,30,Scoresheet!AT67),Scoresheet!AT67),IF(AT70>2,IF(AT$2=\"R\",\".\",Scoresheet!AT67),Scoresheet!AT67)))","v":"?"},{"$f":"IF(AT65>2,\".\",IF(AT70=2,IF(AT65=0,IF(Scoresheet!AU67=20,30,Scoresheet!AU67),Scoresheet!AU67),IF(AU70>2,IF(AU$2=\"R\",\".\",Scoresheet!AU67),Scoresheet!AU67)))","v":"?"},{"$f":"IF(AU65>2,\".\",IF(AU70=2,IF(AU65=0,IF(Scoresheet!AV67=20,30,Scoresheet!AV67),Scoresheet!AV67),IF(AV70>2,IF(AV$2=\"R\",\".\",Scoresheet!AV67),Scoresheet!AV67)))","v":"?"},{"$f":"IF(AV65>2,\".\",IF(AV70=2,IF(AV65=0,IF(Scoresheet!AW67=20,30,Scoresheet!AW67),Scoresheet!AW67),IF(AW70>2,IF(AW$2=\"R\",\".\",Scoresheet!AW67),Scoresheet!AW67)))","v":"?"},{"$f":"IF(AW65>2,\".\",IF(AW70=2,IF(AW65=0,IF(Scoresheet!AX67=20,30,Scoresheet!AX67),Scoresheet!AX67),IF(AX70>2,IF(AX$2=\"R\",\".\",Scoresheet!AX67),Scoresheet!AX67)))","v":"?"},{"$f":"IF(AX65>2,\".\",IF(AX70=2,IF(AX65=0,IF(Scoresheet!AY67=20,30,Scoresheet!AY67),Scoresheet!AY67),IF(AY70>2,IF(AY$2=\"R\",\".\",Scoresheet!AY67),Scoresheet!AY67)))","v":"?"},{"$f":"IF(AY65>2,\".\",IF(AY70=2,IF(AY65=0,IF(Scoresheet!AZ67=20,30,Scoresheet!AZ67),Scoresheet!AZ67),IF(AZ70>2,IF(AZ$2=\"R\",\".\",Scoresheet!AZ67),Scoresheet!AZ67)))","v":"?"},{"$f":"IF(AZ65>2,\".\",IF(AZ70=2,IF(AZ65=0,IF(Scoresheet!BA67=20,30,Scoresheet!BA67),Scoresheet!BA67),IF(BA70>2,IF(BA$2=\"R\",\".\",Scoresheet!BA67),Scoresheet!BA67)))","v":"?"},{"$f":"IF(BA65>2,\".\",IF(BA70=2,IF(BA65=0,IF(Scoresheet!BB67=20,30,Scoresheet!BB67),Scoresheet!BB67),IF(BB70>2,IF(BB$2=\"R\",\".\",Scoresheet!BB67),Scoresheet!BB67)))","v":"?"}]
[null,null,{"$f":"Scoresheet!C61","v":"Quizzer #3"},20,{"$f":"IF(D66>2,\".\",IF(D71=2,IF(D66=0,IF(Scoresheet!E67=20,30,Scoresheet!E67),Scoresheet!E67),IF(E71>2,IF(E$2=\"R\",\".\",Scoresheet!E67),Scoresheet!E67)))","v":20},{"$f":"IF(E66>2,\".\",IF(E71=2,IF(E66=0,IF(Scoresheet!F67=20,30,Scoresheet!F67),Scoresheet!F67),IF(F71>2,IF(F$2=\"R\",\".\",Scoresheet!F67),Scoresheet!F67)))","v":20},{"$f":"IF(F66>2,\".\",IF(F71=2,IF(F66=0,IF(Scoresheet!G67=20,30,Scoresheet!G67),Scoresheet!G67),IF(G71>2,IF(G$2=\"R\",\".\",Scoresheet!G67),Scoresheet!G67)))","v":20},{"$f":"IF(G66>2,\".\",IF(G71=2,IF(G66=0,IF(Scoresheet!H67=20,30,Scoresheet!H67),Scoresheet!H67),IF(H71>2,IF(H$2=\"R\",\".\",Scoresheet!H67),Scoresheet!H67)))","v":20},{"$f":"IF(H66>2,\".\",IF(H71=2,IF(H66=0,IF(Scoresheet!I67=20,30,Scoresheet!I67),Scoresheet!I67),IF(I71>2,IF(I$2=\"R\",\".\",Scoresheet!I67),Scoresheet!I67)))","v":20},{"$f":"IF(I66>2,\".\",IF(I71=2,IF(I66=0,IF(Scoresheet!J67=20,30,Scoresheet!J67),Scoresheet!J67),IF(J71>2,IF(J$2=\"R\",\".\",Scoresheet!J67),Scoresheet!J67)))","v":20},{"$f":"IF(J66>2,\".\",IF(J71=2,IF(J66=0,IF(Scoresheet!K67=20,30,Scoresheet!K67),Scoresheet!K67),IF(K71>2,IF(K$2=\"R\",\".\",Scoresheet!K67),Scoresheet!K67)))","v":20},{"$f":"IF(K66>2,\".\",IF(K71=2,IF(K66=0,IF(Scoresheet!L67=20,30,Scoresheet!L67),Scoresheet!L67),IF(L71>2,IF(L$2=\"R\",\".\",Scoresheet!L67),Scoresheet!L67)))","v":20},{"$f":"IF(L66>2,\".\",IF(L71=2,IF(L66=0,IF(Scoresheet!M67=20,30,Scoresheet!M67),Scoresheet!M67),IF(M71>2,IF(M$2=\"R\",\".\",Scoresheet!M67),Scoresheet!M67)))","v":20},{"$f":"IF(M66>2,\".\",IF(M71=2,IF(M66=0,IF(Scoresheet!N67=20,30,Scoresheet!N67),Scoresheet!N67),IF(N71>2,IF(N$2=\"R\",\".\",Scoresheet!N67),Scoresheet!N67)))","v":20},{"$f":"IF(N66>2,\".\",IF(N71=2,IF(N66=0,IF(Scoresheet!O67=20,30,Scoresheet!O67),Scoresheet!O67),IF(O71>2,IF(O$2=\"R\",\".\",Scoresheet!O67),Scoresheet!O67)))","v":20},{"$f":"IF(O66>2,\".\",IF(O71=2,IF(O66=0,IF(Scoresheet!P67=20,30,Scoresheet!P67),Scoresheet!P67),IF(P71>2,IF(P$2=\"R\",\".\",Scoresheet!P67),Scoresheet!P67)))","v":20},{"$f":"IF(P66>2,\".\",IF(P71=2,IF(P66=0,IF(Scoresheet!Q67=20,30,Scoresheet!Q67),Scoresheet!Q67),IF(Q71>2,IF(Q$2=\"R\",\".\",Scoresheet!Q67),Scoresheet!Q67)))","v":10},{"$f":"IF(Q66>2,\".\",IF(Q71=2,IF(Q66=0,IF(Scoresheet!R67=20,30,Scoresheet!R67),Scoresheet!R67),IF(R71>2,IF(R$2=\"R\",\".\",Scoresheet!R67),Scoresheet!R67)))","v":20},{"$f":"IF(R66>2,\".\",IF(R71=2,IF(R66=0,IF(Scoresheet!S67=20,30,Scoresheet!S67),Scoresheet!S67),IF(S71>2,IF(S$2=\"R\",\".\",Scoresheet!S67),Scoresheet!S67)))","v":20},{"$f":"IF(S66>2,\".\",IF(S71=2,IF(S66=0,IF(Scoresheet!T67=20,30,Scoresheet!T67),Scoresheet!T67),IF(T71>2,IF(T$2=\"R\",\".\",Scoresheet!T67),Scoresheet!T67)))","v":10},{"$f":"IF(T66>2,\".\",IF(T71=2,IF(T66=0,IF(Scoresheet!U67=20,30,Scoresheet!U67),Scoresheet!U67),IF(U71>2,IF(U$2=\"R\",\".\",Scoresheet!U67),Scoresheet!U67)))","v":20},{"$f":"IF(U66>2,\".\",IF(U71=2,IF(U66=0,IF(Scoresheet!V67=20,30,Scoresheet!V67),Scoresheet!V67),IF(V71>2,IF(V$2=\"R\",\".\",Scoresheet!V67),Scoresheet!V67)))","v":20},{"$f":"IF(V66>2,\".\",IF(V71=2,IF(V66=0,IF(Scoresheet!W67=20,30,Scoresheet!W67),Scoresheet!W67),IF(W71>2,IF(W$2=\"R\",\".\",Scoresheet!W67),Scoresheet!W67)))","v":10},{"$f":"IF(W66>2,\".\",IF(W71=2,IF(W66=0,IF(Scoresheet!X67=20,30,Scoresheet!X67),Scoresheet!X67),IF(X71>2,IF(X$2=\"R\",\".\",Scoresheet!X67),Scoresheet!X67)))","v":20},{"$f":"IF(X66>2,\".\",IF(X71=2,IF(X66=0,IF(Scoresheet!Y67=20,30,Scoresheet!Y67),Scoresheet!Y67),IF(Y71>2,IF(Y$2=\"R\",\".\",Scoresheet!Y67),Scoresheet!Y67)))","v":"?"},{"$f":"IF(Y66>2,\".\",IF(Y71=2,IF(Y66=0,IF(Scoresheet!Z67=20,30,Scoresheet!Z67),Scoresheet!Z67),IF(Z71>2,IF(Z$2=\"R\",\".\",Scoresheet!Z67),Scoresheet!Z67)))","v":"?"},{"$f":"IF(Z66>2,\".\",IF(Z71=2,IF(Z66=0,IF(Scoresheet!AA67=20,30,Scoresheet!AA67),Scoresheet!AA67),IF(AA71>2,IF(AA$2=\"R\",\".\",Scoresheet!AA67),Scoresheet!AA67)))","v":"?"},{"$f":"IF(AA66>2,\".\",IF(AA71=2,IF(AA66=0,IF(Scoresheet!AB67=20,30,Scoresheet!AB67),Scoresheet!AB67),IF(AB71>2,IF(AB$2=\"R\",\".\",Scoresheet!AB67),Scoresheet!AB67)))","v":"?"},{"$f":"IF(AB66>2,\".\",IF(AB71=2,IF(AB66=0,IF(Scoresheet!AC67=20,30,Scoresheet!AC67),Scoresheet!AC67),IF(AC71>2,IF(AC$2=\"R\",\".\",Scoresheet!AC67),Scoresheet!AC67)))","v":"?"},{"$f":"IF(AC66>2,\".\",IF(AC71=2,IF(AC66=0,IF(Scoresheet!AD67=20,30,Scoresheet!AD67),Scoresheet!AD67),IF(AD71>2,IF(AD$2=\"R\",\".\",Scoresheet!AD67),Scoresheet!AD67)))","v":"?"},{"$f":"IF(AD66>2,\".\",IF(AD71=2,IF(AD66=0,IF(Scoresheet!AE67=20,30,Scoresheet!AE67),Scoresheet!AE67),IF(AE71>2,IF(AE$2=\"R\",\".\",Scoresheet!AE67),Scoresheet!AE67)))","v":"?"},{"$f":"IF(AE66>2,\".\",IF(AE71=2,IF(AE66=0,IF(Scoresheet!AF67=20,30,Scoresheet!AF67),Scoresheet!AF67),IF(AF71>2,IF(AF$2=\"R\",\".\",Scoresheet!AF67),Scoresheet!AF67)))","v":"?"},{"$f":"IF(AF66>2,\".\",IF(AF71=2,IF(AF66=0,IF(Scoresheet!AG67=20,30,Scoresheet!AG67),Scoresheet!AG67),IF(AG71>2,IF(AG$2=\"R\",\".\",Scoresheet!AG67),Scoresheet!AG67)))","v":"?"},{"$f":"IF(AG66>2,\".\",IF(AG71=2,IF(AG66=0,IF(Scoresheet!AH67=20,30,Scoresheet!AH67),Scoresheet!AH67),IF(AH71>2,IF(AH$2=\"R\",\".\",Scoresheet!AH67),Scoresheet!AH67)))","v":"?"},{"$f":"IF(AH66>2,\".\",IF(AH71=2,IF(AH66=0,IF(Scoresheet!AI67=20,30,Scoresheet!AI67),Scoresheet!AI67),IF(AI71>2,IF(AI$2=\"R\",\".\",Scoresheet!AI67),Scoresheet!AI67)))","v":"?"},{"$f":"IF(AI66>2,\".\",IF(AI71=2,IF(AI66=0,IF(Scoresheet!AJ67=20,30,Scoresheet!AJ67),Scoresheet!AJ67),IF(AJ71>2,IF(AJ$2=\"R\",\".\",Scoresheet!AJ67),Scoresheet!AJ67)))","v":"?"},{"$f":"IF(AJ66>2,\".\",IF(AJ71=2,IF(AJ66=0,IF(Scoresheet!AK67=20,30,Scoresheet!AK67),Scoresheet!AK67),IF(AK71>2,IF(AK$2=\"R\",\".\",Scoresheet!AK67),Scoresheet!AK67)))","v":"?"},{"$f":"IF(AK66>2,\".\",IF(AK71=2,IF(AK66=0,IF(Scoresheet!AL67=20,30,Scoresheet!AL67),Scoresheet!AL67),IF(AL71>2,IF(AL$2=\"R\",\".\",Scoresheet!AL67),Scoresheet!AL67)))","v":"?"},{"$f":"IF(AL66>2,\".\",IF(AL71=2,IF(AL66=0,IF(Scoresheet!AM67=20,30,Scoresheet!AM67),Scoresheet!AM67),IF(AM71>2,IF(AM$2=\"R\",\".\",Scoresheet!AM67),Scoresheet!AM67)))","v":"?"},{"$f":"IF(AM66>2,\".\",IF(AM71=2,IF(AM66=0,IF(Scoresheet!AN67=20,30,Scoresheet!AN67),Scoresheet!AN67),IF(AN71>2,IF(AN$2=\"R\",\".\",Scoresheet!AN67),Scoresheet!AN67)))","v":"?"},{"$f":"IF(AN66>2,\".\",IF(AN71=2,IF(AN66=0,IF(Scoresheet!AO67=20,30,Scoresheet!AO67),Scoresheet!AO67),IF(AO71>2,IF(AO$2=\"R\",\".\",Scoresheet!AO67),Scoresheet!AO67)))","v":"?"},{"$f":"IF(AO66>2,\".\",IF(AO71=2,IF(AO66=0,IF(Scoresheet!AP67=20,30,Scoresheet!AP67),Scoresheet!AP67),IF(AP71>2,IF(AP$2=\"R\",\".\",Scoresheet!AP67),Scoresheet!AP67)))","v":"?"},{"$f":"IF(AP66>2,\".\",IF(AP71=2,IF(AP66=0,IF(Scoresheet!AQ67=20,30,Scoresheet!AQ67),Scoresheet!AQ67),IF(AQ71>2,IF(AQ$2=\"R\",\".\",Scoresheet!AQ67),Scoresheet!AQ67)))","v":"?"},{"$f":"IF(AQ66>2,\".\",IF(AQ71=2,IF(AQ66=0,IF(Scoresheet!AR67=20,30,Scoresheet!AR67),Scoresheet!AR67),IF(AR71>2,IF(AR$2=\"R\",\".\",Scoresheet!AR67),Scoresheet!AR67)))","v":"?"},{"$f":"IF(AR66>2,\".\",IF(AR71=2,IF(AR66=0,IF(Scoresheet!AS67=20,30,Scoresheet!AS67),Scoresheet!AS67),IF(AS71>2,IF(AS$2=\"R\",\".\",Scoresheet!AS67),Scoresheet!AS67)))","v":"?"},{"$f":"IF(AS66>2,\".\",IF(AS71=2,IF(AS66=0,IF(Scoresheet!AT67=20,30,Scoresheet!AT67),Scoresheet!AT67),IF(AT71>2,IF(AT$2=\"R\",\".\",Scoresheet!AT67),Scoresheet!AT67)))","v":"?"},{"$f":"IF(AT66>2,\".\",IF(AT71=2,IF(AT66=0,IF(Scoresheet!AU67=20,30,Scoresheet!AU67),Scoresheet!AU67),IF(AU71>2,IF(AU$2=\"R\",\".\",Scoresheet!AU67),Scoresheet!AU67)))","v":"?"},{"$f":"IF(AU66>2,\".\",IF(AU71=2,IF(AU66=0,IF(Scoresheet!AV67=20,30,Scoresheet!AV67),Scoresheet!AV67),IF(AV71>2,IF(AV$2=\"R\",\".\",Scoresheet!AV67),Scoresheet!AV67)))","v":"?"},{"$f":"IF(AV66>2,\".\",IF(AV71=2,IF(AV66=0,IF(Scoresheet!AW67=20,30,Scoresheet!AW67),Scoresheet!AW67),IF(AW71>2,IF(AW$2=\"R\",\".\",Scoresheet!AW67),Scoresheet!AW67)))","v":"?"},{"$f":"IF(AW66>2,\".\",IF(AW71=2,IF(AW66=0,IF(Scoresheet!AX67=20,30,Scoresheet!AX67),Scoresheet!AX67),IF(AX71>2,IF(AX$2=\"R\",\".\",Scoresheet!AX67),Scoresheet!AX67)))","v":"?"},{"$f":"IF(AX66>2,\".\",IF(AX71=2,IF(AX66=0,IF(Scoresheet!AY67=20,30,Scoresheet!AY67),Scoresheet!AY67),IF(AY71>2,IF(AY$2=\"R\",\".\",Scoresheet!AY67),Scoresheet!AY67)))","v":"?"},{"$f":"IF(AY66>2,\".\",IF(AY71=2,IF(AY66=0,IF(Scoresheet!AZ67=20,30,Scoresheet!AZ67),Scoresheet!AZ67),IF(AZ71>2,IF(AZ$2=\"R\",\".\",Scoresheet!AZ67),Scoresheet!AZ67)))","v":"?"},{"$f":"IF(AZ66>2,\".\",IF(AZ71=2,IF(AZ66=0,IF(Scoresheet!BA67=20,30,Scoresheet!BA67),Scoresheet!BA67),IF(BA71>2,IF(BA$2=\"R\",\".\",Scoresheet!BA67),Scoresheet!BA67)))","v":"?"},{"$f":"IF(BA66>2,\".\",IF(BA71=2,IF(BA66=0,IF(Scoresheet!BB67=20,30,Scoresheet!BB67),Scoresheet!BB67),IF(BB71>2,IF(BB$2=\"R\",\".\",Scoresheet!BB67),Scoresheet!BB67)))","v":"?"}]
[null,null,{"$f":"Scoresheet!C62","v":"Substitute"},".",{"$f":"IF(D67>2,\".\",IF(D72=2,IF(D67=0,IF(Scoresheet!E67=20,30,Scoresheet!E67),Scoresheet!E67),IF(E72>2,IF(E$2=\"R\",\".\",Scoresheet!E67),Scoresheet!E67)))","v":20},{"$f":"IF(E67>2,\".\",IF(E72=2,IF(E67=0,IF(Scoresheet!F67=20,30,Scoresheet!F67),Scoresheet!F67),IF(F72>2,IF(F$2=\"R\",\".\",Scoresheet!F67),Scoresheet!F67)))","v":20},{"$f":"IF(F67>2,\".\",IF(F72=2,IF(F67=0,IF(Scoresheet!G67=20,30,Scoresheet!G67),Scoresheet!G67),IF(G72>2,IF(G$2=\"R\",\".\",Scoresheet!G67),Scoresheet!G67)))","v":20},{"$f":"IF(G67>2,\".\",IF(G72=2,IF(G67=0,IF(Scoresheet!H67=20,30,Scoresheet!H67),Scoresheet!H67),IF(H72>2,IF(H$2=\"R\",\".\",Scoresheet!H67),Scoresheet!H67)))","v":20},{"$f":"IF(H67>2,\".\",IF(H72=2,IF(H67=0,IF(Scoresheet!I67=20,30,Scoresheet!I67),Scoresheet!I67),IF(I72>2,IF(I$2=\"R\",\".\",Scoresheet!I67),Scoresheet!I67)))","v":20},{"$f":"IF(I67>2,\".\",IF(I72=2,IF(I67=0,IF(Scoresheet!J67=20,30,Scoresheet!J67),Scoresheet!J67),IF(J72>2,IF(J$2=\"R\",\".\",Scoresheet!J67),Scoresheet!J67)))","v":20},{"$f":"IF(J67>2,\".\",IF(J72=2,IF(J67=0,IF(Scoresheet!K67=20,30,Scoresheet!K67),Scoresheet!K67),IF(K72>2,IF(K$2=\"R\",\".\",Scoresheet!K67),Scoresheet!K67)))","v":20},{"$f":"IF(K67>2,\".\",IF(K72=2,IF(K67=0,IF(Scoresheet!L67=20,30,Scoresheet!L67),Scoresheet!L67),IF(L72>2,IF(L$2=\"R\",\".\",Scoresheet!L67),Scoresheet!L67)))","v":20},{"$f":"IF(L67>2,\".\",IF(L72=2,IF(L67=0,IF(Scoresheet!M67=20,30,Scoresheet!M67),Scoresheet!M67),IF(M72>2,IF(M$2=\"R\",\".\",Scoresheet!M67),Scoresheet!M67)))","v":20},{"$f":"IF(M67>2,\".\",IF(M72=2,IF(M67=0,IF(Scoresheet!N67=20,30,Scoresheet!N67),Scoresheet!N67),IF(N72>2,IF(N$2=\"R\",\".\",Scoresheet!N67),Scoresheet!N67)))","v":20},{"$f":"IF(N67>2,\".\",IF(N72=2,IF(N67=0,IF(Scoresheet!O67=20,30,Scoresheet!O67),Scoresheet!O67),IF(O72>2,IF(O$2=\"R\",\".\",Scoresheet!O67),Scoresheet!O67)))","v":20},{"$f":"IF(O67>2,\".\",IF(O72=2,IF(O67=0,IF(Scoresheet!P67=20,30,Scoresheet!P67),Scoresheet!P67),IF(P72>2,IF(P$2=\"R\",\".\",Scoresheet!P67),Scoresheet!P67)))","v":20},{"$f":"IF(P67>2,\".\",IF(P72=2,IF(P67=0,IF(Scoresheet!Q67=20,30,Scoresheet!Q67),Scoresheet!Q67),IF(Q72>2,IF(Q$2=\"R\",\".\",Scoresheet!Q67),Scoresheet!Q67)))","v":10},{"$f":"IF(Q67>2,\".\",IF(Q72=2,IF(Q67=0,IF(Scoresheet!R67=20,30,Scoresheet!R67),Scoresheet!R67),IF(R72>2,IF(R$2=\"R\",\".\",Scoresheet!R67),Scoresheet!R67)))","v":20},{"$f":"IF(R67>2,\".\",IF(R72=2,IF(R67=0,IF(Scoresheet!S67=20,30,Scoresheet!S67),Scoresheet!S67),IF(S72>2,IF(S$2=\"R\",\".\",Scoresheet!S67),Scoresheet!S67)))","v":20},{"$f":"IF(S67>2,\".\",IF(S72=2,IF(S67=0,IF(Scoresheet!T67=20,30,Scoresheet!T67),Scoresheet!T67),IF(T72>2,IF(T$2=\"R\",\".\",Scoresheet!T67),Scoresheet!T67)))","v":10},{"$f":"IF(T67>2,\".\",IF(T72=2,IF(T67=0,IF(Scoresheet!U67=20,30,Scoresheet!U67),Scoresheet!U67),IF(U72>2,IF(U$2=\"R\",\".\",Scoresheet!U67),Scoresheet!U67)))","v":20},{"$f":"IF(U67>2,\".\",IF(U72=2,IF(U67=0,IF(Scoresheet!V67=20,30,Scoresheet!V67),Scoresheet!V67),IF(V72>2,IF(V$2=\"R\",\".\",Scoresheet!V67),Scoresheet!V67)))","v":20},{"$f":"IF(V67>2,\".\",IF(V72=2,IF(V67=0,IF(Scoresheet!W67=20,30,Scoresheet!W67),Scoresheet!W67),IF(W72>2,IF(W$2=\"R\",\".\",Scoresheet!W67),Scoresheet!W67)))","v":10},{"$f":"IF(W67>2,\".\",IF(W72=2,IF(W67=0,IF(Scoresheet!X67=20,30,Scoresheet!X67),Scoresheet!X67),IF(X72>2,IF(X$2=\"R\",\".\",Scoresheet!X67),Scoresheet!X67)))","v":20},{"$f":"IF(X67>2,\".\",IF(X72=2,IF(X67=0,IF(Scoresheet!Y67=20,30,Scoresheet!Y67),Scoresheet!Y67),IF(Y72>2,IF(Y$2=\"R\",\".\",Scoresheet!Y67),Scoresheet!Y67)))","v":"?"},{"$f":"IF(Y67>2,\".\",IF(Y72=2,IF(Y67=0,IF(Scoresheet!Z67=20,30,Scoresheet!Z67),Scoresheet!Z67),IF(Z72>2,IF(Z$2=\"R\",\".\",Scoresheet!Z67),Scoresheet!Z67)))","v":"?"},{"$f":"IF(Z67>2,\".\",IF(Z72=2,IF(Z67=0,IF(Scoresheet!AA67=20,30,Scoresheet!AA67),Scoresheet!AA67),IF(AA72>2,IF(AA$2=\"R\",\".\",Scoresheet!AA67),Scoresheet!AA67)))","v":"?"},{"$f":"IF(AA67>2,\".\",IF(AA72=2,IF(AA67=0,IF(Scoresheet!AB67=20,30,Scoresheet!AB67),Scoresheet!AB67),IF(AB72>2,IF(AB$2=\"R\",\".\",Scoresheet!AB67),Scoresheet!AB67)))","v":"?"},{"$f":"IF(AB67>2,\".\",IF(AB72=2,IF(AB67=0,IF(Scoresheet!AC67=20,30,Scoresheet!AC67),Scoresheet!AC67),IF(AC72>2,IF(AC$2=\"R\",\".\",Scoresheet!AC67),Scoresheet!AC67)))","v":"?"},{"$f":"IF(AC67>2,\".\",IF(AC72=2,IF(AC67=0,IF(Scoresheet!AD67=20,30,Scoresheet!AD67),Scoresheet!AD67),IF(AD72>2,IF(AD$2=\"R\",\".\",Scoresheet!AD67),Scoresheet!AD67)))","v":"?"},{"$f":"IF(AD67>2,\".\",IF(AD72=2,IF(AD67=0,IF(Scoresheet!AE67=20,30,Scoresheet!AE67),Scoresheet!AE67),IF(AE72>2,IF(AE$2=\"R\",\".\",Scoresheet!AE67),Scoresheet!AE67)))","v":"?"},{"$f":"IF(AE67>2,\".\",IF(AE72=2,IF(AE67=0,IF(Scoresheet!AF67=20,30,Scoresheet!AF67),Scoresheet!AF67),IF(AF72>2,IF(AF$2=\"R\",\".\",Scoresheet!AF67),Scoresheet!AF67)))","v":"?"},{"$f":"IF(AF67>2,\".\",IF(AF72=2,IF(AF67=0,IF(Scoresheet!AG67=20,30,Scoresheet!AG67),Scoresheet!AG67),IF(AG72>2,IF(AG$2=\"R\",\".\",Scoresheet!AG67),Scoresheet!AG67)))","v":"?"},{"$f":"IF(AG67>2,\".\",IF(AG72=2,IF(AG67=0,IF(Scoresheet!AH67=20,30,Scoresheet!AH67),Scoresheet!AH67),IF(AH72>2,IF(AH$2=\"R\",\".\",Scoresheet!AH67),Scoresheet!AH67)))","v":"?"},{"$f":"IF(AH67>2,\".\",IF(AH72=2,IF(AH67=0,IF(Scoresheet!AI67=20,30,Scoresheet!AI67),Scoresheet!AI67),IF(AI72>2,IF(AI$2=\"R\",\".\",Scoresheet!AI67),Scoresheet!AI67)))","v":"?"},{"$f":"IF(AI67>2,\".\",IF(AI72=2,IF(AI67=0,IF(Scoresheet!AJ67=20,30,Scoresheet!AJ67),Scoresheet!AJ67),IF(AJ72>2,IF(AJ$2=\"R\",\".\",Scoresheet!AJ67),Scoresheet!AJ67)))","v":"?"},{"$f":"IF(AJ67>2,\".\",IF(AJ72=2,IF(AJ67=0,IF(Scoresheet!AK67=20,30,Scoresheet!AK67),Scoresheet!AK67),IF(AK72>2,IF(AK$2=\"R\",\".\",Scoresheet!AK67),Scoresheet!AK67)))","v":"?"},{"$f":"IF(AK67>2,\".\",IF(AK72=2,IF(AK67=0,IF(Scoresheet!AL67=20,30,Scoresheet!AL67),Scoresheet!AL67),IF(AL72>2,IF(AL$2=\"R\",\".\",Scoresheet!AL67),Scoresheet!AL67)))","v":"?"},{"$f":"IF(AL67>2,\".\",IF(AL72=2,IF(AL67=0,IF(Scoresheet!AM67=20,30,Scoresheet!AM67),Scoresheet!AM67),IF(AM72>2,IF(AM$2=\"R\",\".\",Scoresheet!AM67),Scoresheet!AM67)))","v":"?"},{"$f":"IF(AM67>2,\".\",IF(AM72=2,IF(AM67=0,IF(Scoresheet!AN67=20,30,Scoresheet!AN67),Scoresheet!AN67),IF(AN72>2,IF(AN$2=\"R\",\".\",Scoresheet!AN67),Scoresheet!AN67)))","v":"?"},{"$f":"IF(AN67>2,\".\",IF(AN72=2,IF(AN67=0,IF(Scoresheet!AO67=20,30,Scoresheet!AO67),Scoresheet!AO67),IF(AO72>2,IF(AO$2=\"R\",\".\",Scoresheet!AO67),Scoresheet!AO67)))","v":"?"},{"$f":"IF(AO67>2,\".\",IF(AO72=2,IF(AO67=0,IF(Scoresheet!AP67=20,30,Scoresheet!AP67),Scoresheet!AP67),IF(AP72>2,IF(AP$2=\"R\",\".\",Scoresheet!AP67),Scoresheet!AP67)))","v":"?"},{"$f":"IF(AP67>2,\".\",IF(AP72=2,IF(AP67=0,IF(Scoresheet!AQ67=20,30,Scoresheet!AQ67),Scoresheet!AQ67),IF(AQ72>2,IF(AQ$2=\"R\",\".\",Scoresheet!AQ67),Scoresheet!AQ67)))","v":"?"},{"$f":"IF(AQ67>2,\".\",IF(AQ72=2,IF(AQ67=0,IF(Scoresheet!AR67=20,30,Scoresheet!AR67),Scoresheet!AR67),IF(AR72>2,IF(AR$2=\"R\",\".\",Scoresheet!AR67),Scoresheet!AR67)))","v":"?"},{"$f":"IF(AR67>2,\".\",IF(AR72=2,IF(AR67=0,IF(Scoresheet!AS67=20,30,Scoresheet!AS67),Scoresheet!AS67),IF(AS72>2,IF(AS$2=\"R\",\".\",Scoresheet!AS67),Scoresheet!AS67)))","v":"?"},{"$f":"IF(AS67>2,\".\",IF(AS72=2,IF(AS67=0,IF(Scoresheet!AT67=20,30,Scoresheet!AT67),Scoresheet!AT67),IF(AT72>2,IF(AT$2=\"R\",\".\",Scoresheet!AT67),Scoresheet!AT67)))","v":"?"},{"$f":"IF(AT67>2,\".\",IF(AT72=2,IF(AT67=0,IF(Scoresheet!AU67=20,30,Scoresheet!AU67),Scoresheet!AU67),IF(AU72>2,IF(AU$2=\"R\",\".\",Scoresheet!AU67),Scoresheet!AU67)))","v":"?"},{"$f":"IF(AU67>2,\".\",IF(AU72=2,IF(AU67=0,IF(Scoresheet!AV67=20,30,Scoresheet!AV67),Scoresheet!AV67),IF(AV72>2,IF(AV$2=\"R\",\".\",Scoresheet!AV67),Scoresheet!AV67)))","v":"?"},{"$f":"IF(AV67>2,\".\",IF(AV72=2,IF(AV67=0,IF(Scoresheet!AW67=20,30,Scoresheet!AW67),Scoresheet!AW67),IF(AW72>2,IF(AW$2=\"R\",\".\",Scoresheet!AW67),Scoresheet!AW67)))","v":"?"},{"$f":"IF(AW67>2,\".\",IF(AW72=2,IF(AW67=0,IF(Scoresheet!AX67=20,30,Scoresheet!AX67),Scoresheet!AX67),IF(AX72>2,IF(AX$2=\"R\",\".\",Scoresheet!AX67),Scoresheet!AX67)))","v":"?"},{"$f":"IF(AX67>2,\".\",IF(AX72=2,IF(AX67=0,IF(Scoresheet!AY67=20,30,Scoresheet!AY67),Scoresheet!AY67),IF(AY72>2,IF(AY$2=\"R\",\".\",Scoresheet!AY67),Scoresheet!AY67)))","v":"?"},{"$f":"IF(AY67>2,\".\",IF(AY72=2,IF(AY67=0,IF(Scoresheet!AZ67=20,30,Scoresheet!AZ67),Scoresheet!AZ67),IF(AZ72>2,IF(AZ$2=\"R\",\".\",Scoresheet!AZ67),Scoresheet!AZ67)))","v":"?"},{"$f":"IF(AZ67>2,\".\",IF(AZ72=2,IF(AZ67=0,IF(Scoresheet!BA67=20,30,Scoresheet!BA67),Scoresheet!BA67),IF(BA72>2,IF(BA$2=\"R\",\".\",Scoresheet!BA67),Scoresheet!BA67)))","v":"?"},{"$f":"IF(BA67>2,\".\",IF(BA72=2,IF(BA67=0,IF(Scoresheet!BB67=20,30,Scoresheet!BB67),Scoresheet!BB67),IF(BB72>2,IF(BB$2=\"R\",\".\",Scoresheet!BB67),Scoresheet!BB67)))","v":"?"}]
[]
[null,null,{"$f":"CONCATENATE(\"# of errors \",C59)","v":"# of errors Quizzer #1"},{"$f":"IF(Scoresheet!D59=\"E\",1,0)","v":0},{"$f":"IF(Scoresheet!E59=\"E\",D64+1,D64)","v":0},{"$f":"IF(Scoresheet!F59=\"E\",E64+1,E64)","v":0},{"$f":"IF(Scoresheet!G59=\"E\",F64+1,F64)","v":0},{"$f":"IF(Scoresheet!H59=\"E\",G64+1,G64)","v":0},{"$f":"IF(Scoresheet!I59=\"E\",H64+1,H64)","v":0},{"$f":"IF(Scoresheet!J59=\"E\",I64+1,I64)","v":0},{"$f":"IF(Scoresheet!K59=\"E\",J64+1,J64)","v":0},{"$f":"IF(Scoresheet!L59=\"E\",K64+1,K64)","v":0},{"$f":"IF(Scoresheet!M59=\"E\",L64+1,L64)","v":0},{"$f":"IF(Scoresheet!N59=\"E\",M64+1,M64)","v":0},{"$f":"IF(Scoresheet!O59=\"E\",N64+1,N64)","v":0},{"$f":"IF(Scoresheet!P59=\"E\",O64+1,O64)","v":0},{"$f":"IF(Scoresheet!Q59=\"E\",P64+1,P64)","v":0},{"$f":"IF(Scoresheet!R59=\"E\",Q64+1,Q64)","v":0},{"$f":"IF(Scoresheet!S59=\"E\",R64+1,R64)","v":0},{"$f":"IF(Scoresheet!T59=\"E\",S64+1,S64)","v":0},{"$f":"IF(Scoresheet!U59=\"E\",T64+1,T64)","v":0},{"$f":"IF(Scoresheet!V59=\"E\",U64+1,U64)","v":0},{"$f":"IF(Scoresheet!W59=\"E\",V64+1,V64)","v":0},{"$f":"IF(Scoresheet!X59=\"E\",W64+1,W64)","v":0},{"$f":"IF(Scoresheet!Y59=\"E\",X64+1,X64)","v":0},{"$f":"IF(Scoresheet!Z59=\"E\",Y64+1,Y64)","v":0},{"$f":"IF(Scoresheet!AA59=\"E\",Z64+1,Z64)","v":0},{"$f":"IF(Scoresheet!AB59=\"E\",AA64+1,AA64)","v":0},{"$f":"IF(Scoresheet!AC59=\"E\",AB64+1,AB64)","v":0},{"$f":"IF(Scoresheet!AD59=\"E\",AC64+1,AC64)","v":0},{"$f":"IF(Scoresheet!AE59=\"E\",AD64+1,AD64)","v":0},{"$f":"IF(Scoresheet!AF59=\"E\",AE64+1,AE64)","v":0},{"$f":"IF(Scoresheet!AG59=\"E\",AF64+1,AF64)","v":0},{"$f":"IF(Scoresheet!AH59=\"E\",AG64+1,AG64)","v":0},{"$f":"IF(Scoresheet!AI59=\"E\",AH64+1,AH64)","v":0},{"$f":"IF(Scoresheet!AJ59=\"E\",AI64+1,AI64)","v":0},{"$f":"IF(Scoresheet!AK59=\"E\",AJ64+1,AJ64)","v":0},{"$f":"IF(Scoresheet!AL59=\"E\",AK64+1,AK64)","v":0},{"$f":"IF(Scoresheet!AM59=\"E\",AL64+1,AL64)","v":0},{"$f":"IF(Scoresheet!AN59=\"E\",AM64+1,AM64)","v":0},{"$f":"IF(Scoresheet!AO59=\"E\",AN64+1,AN64)","v":0},{"$f":"IF(Scoresheet!AP59=\"E\",AO64+1,AO64)","v":0},{"$f":"IF(Scoresheet!AQ59=\"E\",AP64+1,AP64)","v":0},{"$f":"IF(Scoresheet!AR59=\"E\",AQ64+1,AQ64)","v":0},{"$f":"IF(Scoresheet!AS59=\"E\",AR64+1,AR64)","v":0},{"$f":"IF(Scoresheet!AT59=\"E\",AS64+1,AS64)","v":0},{"$f":"IF(Scoresheet!AU59=\"E\",AT64+1,AT64)","v":0},{"$f":"IF(Scoresheet!AV59=\"E\",AU64+1,AU64)","v":0},{"$f":"IF(Scoresheet!AW59=\"E\",AV64+1,AV64)","v":0},{"$f":"IF(Scoresheet!AX59=\"E\",AW64+1,AW64)","v":0},{"$f":"IF(Scoresheet!AY59=\"E\",AX64+1,AX64)","v":0},{"$f":"IF(Scoresheet!AZ59=\"E\",AY64+1,AY64)","v":0},{"$f":"IF(Scoresheet!BA59=\"E\",AZ64+1,AZ64)","v":0},{"$f":"IF(Scoresheet!BB59=\"E\",BA64+1,BA64)","v":0}]
[null,null,{"$f":"CONCATENATE(\"# of errors \",C60)","v":"# of errors Quizzer #2"},{"$f":"IF(Scoresheet!D60=\"E\",1,0)","v":0},{"$f":"IF(Scoresheet!E60=\"E\",D65+1,D65)","v":0},{"$f":"IF(Scoresheet!F60=\"E\",E65+1,E65)","v":0},{"$f":"IF(Scoresheet!G60=\"E\",F65+1,F65)","v":0},{"$f":"IF(Scoresheet!H60=\"E\",G65+1,G65)","v":0},{"$f":"IF(Scoresheet!I60=\"E\",H65+1,H65)","v":0},{"$f":"IF(Scoresheet!J60=\"E\",I65+1,I65)","v":0},{"$f":"IF(Scoresheet!K60=\"E\",J65+1,J65)","v":0},{"$f":"IF(Scoresheet!L60=\"E\",K65+1,K65)","v":0},{"$f":"IF(Scoresheet!M60=\"E\",L65+1,L65)","v":0},{"$f":"IF(Scoresheet!N60=\"E\",M65+1,M65)","v":0},{"$f":"IF(Scoresheet!O60=\"E\",N65+1,N65)","v":0},{"$f":"IF(Scoresheet!P60=\"E\",O65+1,O65)","v":0},{"$f":"IF(Scoresheet!Q60=\"E\",P65+1,P65)","v":0},{"$f":"IF(Scoresheet!R60=\"E\",Q65+1,Q65)","v":0},{"$f":"IF(Scoresheet!S60=\"E\",R65+1,R65)","v":0},{"$f":"IF(Scoresheet!T60=\"E\",S65+1,S65)","v":0},{"$f":"IF(Scoresheet!U60=\"E\",T65+1,T65)","v":0},{"$f":"IF(Scoresheet!V60=\"E\",U65+1,U65)","v":0},{"$f":"IF(Scoresheet!W60=\"E\",V65+1,V65)","v":0},{"$f":"IF(Scoresheet!X60=\"E\",W65+1,W65)","v":0},{"$f":"IF(Scoresheet!Y60=\"E\",X65+1,X65)","v":0},{"$f":"IF(Scoresheet!Z60=\"E\",Y65+1,Y65)","v":0},{"$f":"IF(Scoresheet!AA60=\"E\",Z65+1,Z65)","v":0},{"$f":"IF(Scoresheet!AB60=\"E\",AA65+1,AA65)","v":0},{"$f":"IF(Scoresheet!AC60=\"E\",AB65+1,AB65)","v":0},{"$f":"IF(Scoresheet!AD60=\"E\",AC65+1,AC65)","v":0},{"$f":"IF(Scoresheet!AE60=\"E\",AD65+1,AD65)","v":0},{"$f":"IF(Scoresheet!AF60=\"E\",AE65+1,AE65)","v":0},{"$f":"IF(Scoresheet!AG60=\"E\",AF65+1,AF65)","v":0},{"$f":"IF(Scoresheet!AH60=\"E\",AG65+1,AG65)","v":0},{"$f":"IF(Scoresheet!AI60=\"E\",AH65+1,AH65)","v":0},{"$f":"IF(Scoresheet!AJ60=\"E\",AI65+1,AI65)","v":0},{"$f":"IF(Scoresheet!AK60=\"E\",AJ65+1,AJ65)","v":0},{"$f":"IF(Scoresheet!AL60=\"E\",AK65+1,AK65)","v":0},{"$f":"IF(Scoresheet!AM60=\"E\",AL65+1,AL65)","v":0},{"$f":"IF(Scoresheet!AN60=\"E\",AM65+1,AM65)","v":0},{"$f":"IF(Scoresheet!AO60=\"E\",AN65+1,AN65)","v":0},{"$f":"IF(Scoresheet!AP60=\"E\",AO65+1,AO65)","v":0},{"$f":"IF(Scoresheet!AQ60=\"E\",AP65+1,AP65)","v":0},{"$f":"IF(Scoresheet!AR60=\"E\",AQ65+1,AQ65)","v":0},{"$f":"IF(Scoresheet!AS60=\"E\",AR65+1,AR65)","v":0},{"$f":"IF(Scoresheet!AT60=\"E\",AS65+1,AS65)","v":0},{"$f":"IF(Scoresheet!AU60=\"E\",AT65+1,AT65)","v":0},{"$f":"IF(Scoresheet!AV60=\"E\",AU65+1,AU65)","v":0},{"$f":"IF(Scoresheet!AW60=\"E\",AV65+1,AV65)","v":0},{"$f":"IF(Scoresheet!AX60=\"E\",AW65+1,AW65)","v":0},{"$f":"IF(Scoresheet!AY60=\"E\",AX65+1,AX65)","v":0},{"$f":"IF(Scoresheet!AZ60=\"E\",AY65+1,AY65)","v":0},{"$f":"IF(Scoresheet!BA60=\"E\",AZ65+1,AZ65)","v":0},{"$f":"IF(Scoresheet!BB60=\"E\",BA65+1,BA65)","v":0}]
[null,null,{"$f":"CONCATENATE(\"# of errors \",C61)","v":"# of errors Quizzer #3"},{"$f":"IF(Scoresheet!D61=\"E\",1,0)","v":0},{"$f":"IF(Scoresheet!E61=\"E\",D66+1,D66)","v":0},{"$f":"IF(Scoresheet!F61=\"E\",E66+1,E66)","v":0},{"$f":"IF(Scoresheet!G61=\"E\",F66+1,F66)","v":0},{"$f":"IF(Scoresheet!H61=\"E\",G66+1,G66)","v":0},{"$f":"IF(Scoresheet!I61=\"E\",H66+1,H66)","v":0},{"$f":"IF(Scoresheet!J61=\"E\",I66+1,I66)","v":0},{"$f":"IF(Scoresheet!K61=\"E\",J66+1,J66)","v":0},{"$f":"IF(Scoresheet!L61=\"E\",K66+1,K66)","v":0},{"$f":"IF(Scoresheet!M61=\"E\",L66+1,L66)","v":0},{"$f":"IF(Scoresheet!N61=\"E\",M66+1,M66)","v":0},{"$f":"IF(Scoresheet!O61=\"E\",N66+1,N66)","v":0},{"$f":"IF(Scoresheet!P61=\"E\",O66+1,O66)","v":0},{"$f":"IF(Scoresheet!Q61=\"E\",P66+1,P66)","v":0},{"$f":"IF(Scoresheet!R61=\"E\",Q66+1,Q66)","v":0},{"$f":"IF(Scoresheet!S61=\"E\",R66+1,R66)","v":0},{"$f":"IF(Scoresheet!T61=\"E\",S66+1,S66)","v":0},{"$f":"IF(Scoresheet!U61=\"E\",T66+1,T66)","v":0},{"$f":"IF(Scoresheet!V61=\"E\",U66+1,U66)","v":0},{"$f":"IF(Scoresheet!W61=\"E\",V66+1,V66)","v":0},{"$f":"IF(Scoresheet!X61=\"E\",W66+1,W66)","v":0},{"$f":"IF(Scoresheet!Y61=\"E\",X66+1,X66)","v":0},{"$f":"IF(Scoresheet!Z61=\"E\",Y66+1,Y66)","v":0},{"$f":"IF(Scoresheet!AA61=\"E\",Z66+1,Z66)","v":0},{"$f":"IF(Scoresheet!AB61=\"E\",AA66+1,AA66)","v":0},{"$f":"IF(Scoresheet!AC61=\"E\",AB66+1,AB66)","v":0},{"$f":"IF(Scoresheet!AD61=\"E\",AC66+1,AC66)","v":0},{"$f":"IF(Scoresheet!AE61=\"E\",AD66+1,AD66)","v":0},{"$f":"IF(Scoresheet!AF61=\"E\",AE66+1,AE66)","v":0},{"$f":"IF(Scoresheet!AG61=\"E\",AF66+1,AF66)","v":0},{"$f":"IF(Scoresheet!AH61=\"E\",AG66+1,AG66)","v":0},{"$f":"IF(Scoresheet!AI61=\"E\",AH66+1,AH66)","v":0},{"$f":"IF(Scoresheet!AJ61=\"E\",AI66+1,AI66)","v":0},{"$f":"IF(Scoresheet!AK61=\"E\",AJ66+1,AJ66)","v":0},{"$f":"IF(Scoresheet!AL61=\"E\",AK66+1,AK66)","v":0},{"$f":"IF(Scoresheet!AM61=\"E\",AL66+1,AL66)","v":0},{"$f":"IF(Scoresheet!AN61=\"E\",AM66+1,AM66)","v":0},{"$f":"IF(Scoresheet!AO61=\"E\",AN66+1,AN66)","v":0},{"$f":"IF(Scoresheet!AP61=\"E\",AO66+1,AO66)","v":0},{"$f":"IF(Scoresheet!AQ61=\"E\",AP66+1,AP66)","v":0},{"$f":"IF(Scoresheet!AR61=\"E\",AQ66+1,AQ66)","v":0},{"$f":"IF(Scoresheet!AS61=\"E\",AR66+1,AR66)","v":0},{"$f":"IF(Scoresheet!AT61=\"E\",AS66+1,AS66)","v":0},{"$f":"IF(Scoresheet!AU61=\"E\",AT66+1,AT66)","v":0},{"$f":"IF(Scoresheet!AV61=\"E\",AU66+1,AU66)","v":0},{"$f":"IF(Scoresheet!AW61=\"E\",AV66+1,AV66)","v":0},{"$f":"IF(Scoresheet!AX61=\"E\",AW66+1,AW66)","v":0},{"$f":"IF(Scoresheet!AY61=\"E\",AX66+1,AX66)","v":0},{"$f":"IF(Scoresheet!AZ61=\"E\",AY66+1,AY66)","v":0},{"$f":"IF(Scoresheet!BA61=\"E\",AZ66+1,AZ66)","v":0},{"$f":"IF(Scoresheet!BB61=\"E\",BA66+1,BA66)","v":0}]
[null,null,{"$f":"CONCATENATE(\"# of errors \",C62)","v":"# of errors Substitute"},{"$f":"IF(Scoresheet!D62=\"E\",1,0)","v":0},{"$f":"IF(Scoresheet!E62=\"E\",D67+1,D67)","v":0},{"$f":"IF(Scoresheet!F62=\"E\",E67+1,E67)","v":0},{"$f":"IF(Scoresheet!G62=\"E\",F67+1,F67)","v":0},{"$f":"IF(Scoresheet!H62=\"E\",G67+1,G67)","v":0},{"$f":"IF(Scoresheet!I62=\"E\",H67+1,H67)","v":0},{"$f":"IF(Scoresheet!J62=\"E\",I67+1,I67)","v":0},{"$f":"IF(Scoresheet!K62=\"E\",J67+1,J67)","v":0},{"$f":"IF(Scoresheet!L62=\"E\",K67+1,K67)","v":0},{"$f":"IF(Scoresheet!M62=\"E\",L67+1,L67)","v":0},{"$f":"IF(Scoresheet!N62=\"E\",M67+1,M67)","v":0},{"$f":"IF(Scoresheet!O62=\"E\",N67+1,N67)","v":0},{"$f":"IF(Scoresheet!P62=\"E\",O67+1,O67)","v":0},{"$f":"IF(Scoresheet!Q62=\"E\",P67+1,P67)","v":0},{"$f":"IF(Scoresheet!R62=\"E\",Q67+1,Q67)","v":0},{"$f":"IF(Scoresheet!S62=\"E\",R67+1,R67)","v":0},{"$f":"IF(Scoresheet!T62=\"E\",S67+1,S67)","v":0},{"$f":"IF(Scoresheet!U62=\"E\",T67+1,T67)","v":0},{"$f":"IF(Scoresheet!V62=\"E\",U67+1,U67)","v":0},{"$f":"IF(Scoresheet!W62=\"E\",V67+1,V67)","v":0},{"$f":"IF(Scoresheet!X62=\"E\",W67+1,W67)","v":0},{"$f":"IF(Scoresheet!Y62=\"E\",X67+1,X67)","v":0},{"$f":"IF(Scoresheet!Z62=\"E\",Y67+1,Y67)","v":0},{"$f":"IF(Scoresheet!AA62=\"E\",Z67+1,Z67)","v":0},{"$f":"IF(Scoresheet!AB62=\"E\",AA67+1,AA67)","v":0},{"$f":"IF(Scoresheet!AC62=\"E\",AB67+1,AB67)","v":0},{"$f":"IF(Scoresheet!AD62=\"E\",AC67+1,AC67)","v":0},{"$f":"IF(Scoresheet!AE62=\"E\",AD67+1,AD67)","v":0},{"$f":"IF(Scoresheet!AF62=\"E\",AE67+1,AE67)","v":0},{"$f":"IF(Scoresheet!AG62=\"E\",AF67+1,AF67)","v":0},{"$f":"IF(Scoresheet!AH62=\"E\",AG67+1,AG67)","v":0},{"$f":"IF(Scoresheet!AI62=\"E\",AH67+1,AH67)","v":0},{"$f":"IF(Scoresheet!AJ62=\"E\",AI67+1,AI67)","v":0},{"$f":"IF(Scoresheet!AK62=\"E\",AJ67+1,AJ67)","v":0},{"$f":"IF(Scoresheet!AL62=\"E\",AK67+1,AK67)","v":0},{"$f":"IF(Scoresheet!AM62=\"E\",AL67+1,AL67)","v":0},{"$f":"IF(Scoresheet!AN62=\"E\",AM67+1,AM67)","v":0},{"$f":"IF(Scoresheet!AO62=\"E\",AN67+1,AN67)","v":0},{"$f":"IF(Scoresheet!AP62=\"E\",AO67+1,AO67)","v":0},{"$f":"IF(Scoresheet!AQ62=\"E\",AP67+1,AP67)","v":0},{"$f":"IF(Scoresheet!AR62=\"E\",AQ67+1,AQ67)","v":0},{"$f":"IF(Scoresheet!AS62=\"E\",AR67+1,AR67)","v":0},{"$f":"IF(Scoresheet!AT62=\"E\",AS67+1,AS67)","v":0},{"$f":"IF(Scoresheet!AU62=\"E\",AT67+1,AT67)","v":0},{"$f":"IF(Scoresheet!AV62=\"E\",AU67+1,AU67)","v":0},{"$f":"IF(Scoresheet!AW62=\"E\",AV67+1,AV67)","v":0},{"$f":"IF(Scoresheet!AX62=\"E\",AW67+1,AW67)","v":0},{"$f":"IF(Scoresheet!AY62=\"E\",AX67+1,AX67)","v":0},{"$f":"IF(Scoresheet!AZ62=\"E\",AY67+1,AY67)","v":0},{"$f":"IF(Scoresheet!BA62=\"E\",AZ67+1,AZ67)","v":0},{"$f":"IF(Scoresheet!BB62=\"E\",BA67+1,BA67)","v":0}]
[]
[null,null,{"$f":"CONCATENATE(\"#20's \",C59)","v":"#20's Quizzer #1"},{"$f":"COUNTIF(Scoresheet!$D59:D59,20)+COUNTIF(Scoresheet!$D59:D59,30)","v":0},{"$f":"COUNTIF(Scoresheet!$D59:E59,20)+COUNTIF(Scoresheet!$D59:E59,30)","v":0},{"$f":"COUNTIF(Scoresheet!$D59:F59,20)+COUNTIF(Scoresheet!$D59:F59,30)","v":0},{"$f":"COUNTIF(Scoresheet!$D59:G59,20)+COUNTIF(Scoresheet!$D59:G59,30)","v":0},{"$f":"COUNTIF(Scoresheet!$D59:H59,20)+COUNTIF(Scoresheet!$D59:H59,30)","v":0},{"$f":"COUNTIF(Scoresheet!$D59:I59,20)+COUNTIF(Scoresheet!$D59:I59,30)","v":0},{"$f":"COUNTIF(Scoresheet!$D59:J59,20)+COUNTIF(Scoresheet!$D59:J59,30)","v":0},{"$f":"COUNTIF(Scoresheet!$D59:K59,20)+COUNTIF(Scoresheet!$D59:K59,30)","v":0},{"$f":"COUNTIF(Scoresheet!$D59:L59,20)+COUNTIF(Scoresheet!$D59:L59,30)","v":0},{"$f":"COUNTIF(Scoresheet!$D59:M59,20)+COUNTIF(Scoresheet!$D59:M59,30)","v":0},{"$f":"COUNTIF(Scoresheet!$D59:N59,20)+COUNTIF(Scoresheet!$D59:N59,30)","v":0},{"$f":"COUNTIF(Scoresheet!$D59:O59,20)+COUNTIF(Scoresheet!$D59:O59,30)","v":0},{"$f":"COUNTIF(Scoresheet!$D59:P59,20)+COUNTIF(Scoresheet!$D59:P59,30)","v":0},{"$f":"COUNTIF(Scoresheet!$D59:Q59,20)+COUNTIF(Scoresheet!$D59:Q59,30)","v":0},{"$f":"COUNTIF(Scoresheet!$D59:R59,20)+COUNTIF(Scoresheet!$D59:R59,30)","v":0},{"$f":"COUNTIF(Scoresheet!$D59:S59,20)+COUNTIF(Scoresheet!$D59:S59,30)","v":0},{"$f":"COUNTIF(Scoresheet!$D59:T59,20)+COUNTIF(Scoresheet!$D59:T59,30)","v":0},{"$f":"COUNTIF(Scoresheet!$D59:U59,20)+COUNTIF(Scoresheet!$D59:U59,30)","v":0},{"$f":"COUNTIF(Scoresheet!$D59:V59,20)+COUNTIF(Scoresheet!$D59:V59,30)","v":0},{"$f":"COUNTIF(Scoresheet!$D59:W59,20)+COUNTIF(Scoresheet!$D59:W59,30)","v":0},{"$f":"COUNTIF(Scoresheet!$D59:X59,20)+COUNTIF(Scoresheet!$D59:X59,30)","v":0},{"$f":"COUNTIF(Scoresheet!$D59:Y59,20)+COUNTIF(Scoresheet!$D59:Y59,30)","v":0},{"$f":"COUNTIF(Scoresheet!$D59:Z59,20)+COUNTIF(Scoresheet!$D59:Z59,30)","v":0},{"$f":"COUNTIF(Scoresheet!$D59:AA59,20)+COUNTIF(Scoresheet!$D59:AA59,30)","v":0},{"$f":"COUNTIF(Scoresheet!$D59:AB59,20)+COUNTIF(Scoresheet!$D59:AB59,30)","v":0},{"$f":"COUNTIF(Scoresheet!$D59:AC59,20)+COUNTIF(Scoresheet!$D59:AC59,30)","v":0},{"$f":"COUNTIF(Scoresheet!$D59:AD59,20)+COUNTIF(Scoresheet!$D59:AD59,30)","v":0},{"$f":"COUNTIF(Scoresheet!$D59:AE59,20)+COUNTIF(Scoresheet!$D59:AE59,30)","v":0},{"$f":"COUNTIF(Scoresheet!$D59:AF59,20)+COUNTIF(Scoresheet!$D59:AF59,30)","v":0},{"$f":"COUNTIF(Scoresheet!$D59:AG59,20)+COUNTIF(Scoresheet!$D59:AG59,30)","v":0},{"$f":"COUNTIF(Scoresheet!$D59:AH59,20)+COUNTIF(Scoresheet!$D59:AH59,30)","v":0},{"$f":"COUNTIF(Scoresheet!$D59:AI59,20)+COUNTIF(Scoresheet!$D59:AI59,30)","v":0},{"$f":"COUNTIF(Scoresheet!$D59:AJ59,20)+COUNTIF(Scoresheet!$D59:AJ59,30)","v":0},{"$f":"COUNTIF(Scoresheet!$D59:AK59,20)+COUNTIF(Scoresheet!$D59:AK59,30)","v":0},{"$f":"COUNTIF(Scoresheet!$D59:AL59,20)+COUNTIF(Scoresheet!$D59:AL59,30)","v":0},{"$f":"COUNTIF(Scoresheet!$D59:AM59,20)+COUNTIF(Scoresheet!$D59:AM59,30)","v":0},{"$f":"COUNTIF(Scoresheet!$D59:AN59,20)+COUNTIF(Scoresheet!$D59:AN59,30)","v":0},{"$f":"COUNTIF(Scoresheet!$D59:AO59,20)+COUNTIF(Scoresheet!$D59:AO59,30)","v":0},{"$f":"COUNTIF(Scoresheet!$D59:AP59,20)+COUNTIF(Scoresheet!$D59:AP59,30)","v":0},{"$f":"COUNTIF(Scoresheet!$D59:AQ59,20)+COUNTIF(Scoresheet!$D59:AQ59,30)","v":0},{"$f":"COUNTIF(Scoresheet!$D59:AR59,20)+COUNTIF(Scoresheet!$D59:AR59,30)","v":0},{"$f":"COUNTIF(Scoresheet!$D59:AS59,20)+COUNTIF(Scoresheet!$D59:AS59,30)","v":0},{"$f":"COUNTIF(Scoresheet!$D59:AT59,20)+COUNTIF(Scoresheet!$D59:AT59,30)","v":0},{"$f":"COUNTIF(Scoresheet!$D59:AU59,20)+COUNTIF(Scoresheet!$D59:AU59,30)","v":0},{"$f":"COUNTIF(Scoresheet!$D59:AV59,20)+COUNTIF(Scoresheet!$D59:AV59,30)","v":0},{"$f":"COUNTIF(Scoresheet!$D59:AW59,20)+COUNTIF(Scoresheet!$D59:AW59,30)","v":0},{"$f":"COUNTIF(Scoresheet!$D59:AX59,20)+COUNTIF(Scoresheet!$D59:AX59,30)","v":0},{"$f":"COUNTIF(Scoresheet!$D59:AY59,20)+COUNTIF(Scoresheet!$D59:AY59,30)","v":0},{"$f":"COUNTIF(Scoresheet!$D59:AZ59,20)+COUNTIF(Scoresheet!$D59:AZ59,30)","v":0},{"$f":"COUNTIF(Scoresheet!$D59:BA59,20)+COUNTIF(Scoresheet!$D59:BA59,30)","v":0},{"$f":"COUNTIF(Scoresheet!$D59:BB59,20)+COUNTIF(Scoresheet!$D59:BB59,30)","v":0}]
[null,null,{"$f":"CONCATENATE(\"#20's \",C60)","v":"#20's Quizzer #2"},{"$f":"COUNTIF(Scoresheet!$D60:D60,20)+COUNTIF(Scoresheet!$D60:D60,30)","v":0},{"$f":"COUNTIF(Scoresheet!$D60:E60,20)+COUNTIF(Scoresheet!$D60:E60,30)","v":0},{"$f":"COUNTIF(Scoresheet!$D60:F60,20)+COUNTIF(Scoresheet!$D60:F60,30)","v":0},{"$f":"COUNTIF(Scoresheet!$D60:G60,20)+COUNTIF(Scoresheet!$D60:G60,30)","v":0},{"$f":"COUNTIF(Scoresheet!$D60:H60,20)+COUNTIF(Scoresheet!$D60:H60,30)","v":0},{"$f":"COUNTIF(Scoresheet!$D60:I60,20)+COUNTIF(Scoresheet!$D60:I60,30)","v":0},{"$f":"COUNTIF(Scoresheet!$D60:J60,20)+COUNTIF(Scoresheet!$D60:J60,30)","v":0},{"$f":"COUNTIF(Scoresheet!$D60:K60,20)+COUNTIF(Scoresheet!$D60:K60,30)","v":0},{"$f":"COUNTIF(Scoresheet!$D60:L60,20)+COUNTIF(Scoresheet!$D60:L60,30)","v":0},{"$f":"COUNTIF(Scoresheet!$D60:M60,20)+COUNTIF(Scoresheet!$D60:M60,30)","v":0},{"$f":"COUNTIF(Scoresheet!$D60:N60,20)+COUNTIF(Scoresheet!$D60:N60,30)","v":0},{"$f":"COUNTIF(Scoresheet!$D60:O60,20)+COUNTIF(Scoresheet!$D60:O60,30)","v":0},{"$f":"COUNTIF(Scoresheet!$D60:P60,20)+COUNTIF(Scoresheet!$D60:P60,30)","v":0},{"$f":"COUNTIF(Scoresheet!$D60:Q60,20)+COUNTIF(Scoresheet!$D60:Q60,30)","v":0},{"$f":"COUNTIF(Scoresheet!$D60:R60,20)+COUNTIF(Scoresheet!$D60:R60,30)","v":0},{"$f":"COUNTIF(Scoresheet!$D60:S60,20)+COUNTIF(Scoresheet!$D60:S60,30)","v":0},{"$f":"COUNTIF(Scoresheet!$D60:T60,20)+COUNTIF(Scoresheet!$D60:T60,30)","v":0},{"$f":"COUNTIF(Scoresheet!$D60:U60,20)+COUNTIF(Scoresheet!$D60:U60,30)","v":0},{"$f":"COUNTIF(Scoresheet!$D60:V60,20)+COUNTIF(Scoresheet!$D60:V60,30)","v":0},{"$f":"COUNTIF(Scoresheet!$D60:W60,20)+COUNTIF(Scoresheet!$D60:W60,30)","v":0},{"$f":"COUNTIF(Scoresheet!$D60:X60,20)+COUNTIF(Scoresheet!$D60:X60,30)","v":0},{"$f":"COUNTIF(Scoresheet!$D60:Y60,20)+COUNTIF(Scoresheet!$D60:Y60,30)","v":0},{"$f":"COUNTIF(Scoresheet!$D60:Z60,20)+COUNTIF(Scoresheet!$D60:Z60,30)","v":0},{"$f":"COUNTIF(Scoresheet!$D60:AA60,20)+COUNTIF(Scoresheet!$D60:AA60,30)","v":0},{"$f":"COUNTIF(Scoresheet!$D60:AB60,20)+COUNTIF(Scoresheet!$D60:AB60,30)","v":0},{"$f":"COUNTIF(Scoresheet!$D60:AC60,20)+COUNTIF(Scoresheet!$D60:AC60,30)","v":0},{"$f":"COUNTIF(Scoresheet!$D60:AD60,20)+COUNTIF(Scoresheet!$D60:AD60,30)","v":0},{"$f":"COUNTIF(Scoresheet!$D60:AE60,20)+COUNTIF(Scoresheet!$D60:AE60,30)","v":0},{"$f":"COUNTIF(Scoresheet!$D60:AF60,20)+COUNTIF(Scoresheet!$D60:AF60,30)","v":0},{"$f":"COUNTIF(Scoresheet!$D60:AG60,20)+COUNTIF(Scoresheet!$D60:AG60,30)","v":0},{"$f":"COUNTIF(Scoresheet!$D60:AH60,20)+COUNTIF(Scoresheet!$D60:AH60,30)","v":0},{"$f":"COUNTIF(Scoresheet!$D60:AI60,20)+COUNTIF(Scoresheet!$D60:AI60,30)","v":0},{"$f":"COUNTIF(Scoresheet!$D60:AJ60,20)+COUNTIF(Scoresheet!$D60:AJ60,30)","v":0},{"$f":"COUNTIF(Scoresheet!$D60:AK60,20)+COUNTIF(Scoresheet!$D60:AK60,30)","v":0},{"$f":"COUNTIF(Scoresheet!$D60:AL60,20)+COUNTIF(Scoresheet!$D60:AL60,30)","v":0},{"$f":"COUNTIF(Scoresheet!$D60:AM60,20)+COUNTIF(Scoresheet!$D60:AM60,30)","v":0},{"$f":"COUNTIF(Scoresheet!$D60:AN60,20)+COUNTIF(Scoresheet!$D60:AN60,30)","v":0},{"$f":"COUNTIF(Scoresheet!$D60:AO60,20)+COUNTIF(Scoresheet!$D60:AO60,30)","v":0},{"$f":"COUNTIF(Scoresheet!$D60:AP60,20)+COUNTIF(Scoresheet!$D60:AP60,30)","v":0},{"$f":"COUNTIF(Scoresheet!$D60:AQ60,20)+COUNTIF(Scoresheet!$D60:AQ60,30)","v":0},{"$f":"COUNTIF(Scoresheet!$D60:AR60,20)+COUNTIF(Scoresheet!$D60:AR60,30)","v":0},{"$f":"COUNTIF(Scoresheet!$D60:AS60,20)+COUNTIF(Scoresheet!$D60:AS60,30)","v":0},{"$f":"COUNTIF(Scoresheet!$D60:AT60,20)+COUNTIF(Scoresheet!$D60:AT60,30)","v":0},{"$f":"COUNTIF(Scoresheet!$D60:AU60,20)+COUNTIF(Scoresheet!$D60:AU60,30)","v":0},{"$f":"COUNTIF(Scoresheet!$D60:AV60,20)+COUNTIF(Scoresheet!$D60:AV60,30)","v":0},{"$f":"COUNTIF(Scoresheet!$D60:AW60,20)+COUNTIF(Scoresheet!$D60:AW60,30)","v":0},{"$f":"COUNTIF(Scoresheet!$D60:AX60,20)+COUNTIF(Scoresheet!$D60:AX60,30)","v":0},{"$f":"COUNTIF(Scoresheet!$D60:AY60,20)+COUNTIF(Scoresheet!$D60:AY60,30)","v":0},{"$f":"COUNTIF(Scoresheet!$D60:AZ60,20)+COUNTIF(Scoresheet!$D60:AZ60,30)","v":0},{"$f":"COUNTIF(Scoresheet!$D60:BA60,20)+COUNTIF(Scoresheet!$D60:BA60,30)","v":0},{"$f":"COUNTIF(Scoresheet!$D60:BB60,20)+COUNTIF(Scoresheet!$D60:BB60,30)","v":0}]
[null,null,{"$f":"CONCATENATE(\"#20's \",C61)","v":"#20's Quizzer #3"},{"$f":"COUNTIF(Scoresheet!$D61:D61,20)+COUNTIF(Scoresheet!$D61:D61,30)","v":0},{"$f":"COUNTIF(Scoresheet!$D61:E61,20)+COUNTIF(Scoresheet!$D61:E61,30)","v":0},{"$f":"COUNTIF(Scoresheet!$D61:F61,20)+COUNTIF(Scoresheet!$D61:F61,30)","v":0},{"$f":"COUNTIF(Scoresheet!$D61:G61,20)+COUNTIF(Scoresheet!$D61:G61,30)","v":0},{"$f":"COUNTIF(Scoresheet!$D61:H61,20)+COUNTIF(Scoresheet!$D61:H61,30)","v":0},{"$f":"COUNTIF(Scoresheet!$D61:I61,20)+COUNTIF(Scoresheet!$D61:I61,30)","v":0},{"$f":"COUNTIF(Scoresheet!$D61:J61,20)+COUNTIF(Scoresheet!$D61:J61,30)","v":0},{"$f":"COUNTIF(Scoresheet!$D61:K61,20)+COUNTIF(Scoresheet!$D61:K61,30)","v":0},{"$f":"COUNTIF(Scoresheet!$D61:L61,20)+COUNTIF(Scoresheet!$D61:L61,30)","v":0},{"$f":"COUNTIF(Scoresheet!$D61:M61,20)+COUNTIF(Scoresheet!$D61:M61,30)","v":0},{"$f":"COUNTIF(Scoresheet!$D61:N61,20)+COUNTIF(Scoresheet!$D61:N61,30)","v":0},{"$f":"COUNTIF(Scoresheet!$D61:O61,20)+COUNTIF(Scoresheet!$D61:O61,30)","v":0},{"$f":"COUNTIF(Scoresheet!$D61:P61,20)+COUNTIF(Scoresheet!$D61:P61,30)","v":0},{"$f":"COUNTIF(Scoresheet!$D61:Q61,20)+COUNTIF(Scoresheet!$D61:Q61,30)","v":0},{"$f":"COUNTIF(Scoresheet!$D61:R61,20)+COUNTIF(Scoresheet!$D61:R61,30)","v":0},{"$f":"COUNTIF(Scoresheet!$D61:S61,20)+COUNTIF(Scoresheet!$D61:S61,30)","v":0},{"$f":"COUNTIF(Scoresheet!$D61:T61,20)+COUNTIF(Scoresheet!$D61:T61,30)","v":0},{"$f":"COUNTIF(Scoresheet!$D61:U61,20)+COUNTIF(Scoresheet!$D61:U61,30)","v":0},{"$f":"COUNTIF(Scoresheet!$D61:V61,20)+COUNTIF(Scoresheet!$D61:V61,30)","v":0},{"$f":"COUNTIF(Scoresheet!$D61:W61,20)+COUNTIF(Scoresheet!$D61:W61,30)","v":0},{"$f":"COUNTIF(Scoresheet!$D61:X61,20)+COUNTIF(Scoresheet!$D61:X61,30)","v":0},{"$f":"COUNTIF(Scoresheet!$D61:Y61,20)+COUNTIF(Scoresheet!$D61:Y61,30)","v":0},{"$f":"COUNTIF(Scoresheet!$D61:Z61,20)+COUNTIF(Scoresheet!$D61:Z61,30)","v":0},{"$f":"COUNTIF(Scoresheet!$D61:AA61,20)+COUNTIF(Scoresheet!$D61:AA61,30)","v":0},{"$f":"COUNTIF(Scoresheet!$D61:AB61,20)+COUNTIF(Scoresheet!$D61:AB61,30)","v":0},{"$f":"COUNTIF(Scoresheet!$D61:AC61,20)+COUNTIF(Scoresheet!$D61:AC61,30)","v":0},{"$f":"COUNTIF(Scoresheet!$D61:AD61,20)+COUNTIF(Scoresheet!$D61:AD61,30)","v":0},{"$f":"COUNTIF(Scoresheet!$D61:AE61,20)+COUNTIF(Scoresheet!$D61:AE61,30)","v":0},{"$f":"COUNTIF(Scoresheet!$D61:AF61,20)+COUNTIF(Scoresheet!$D61:AF61,30)","v":0},{"$f":"COUNTIF(Scoresheet!$D61:AG61,20)+COUNTIF(Scoresheet!$D61:AG61,30)","v":0},{"$f":"COUNTIF(Scoresheet!$D61:AH61,20)+COUNTIF(Scoresheet!$D61:AH61,30)","v":0},{"$f":"COUNTIF(Scoresheet!$D61:AI61,20)+COUNTIF(Scoresheet!$D61:AI61,30)","v":0},{"$f":"COUNTIF(Scoresheet!$D61:AJ61,20)+COUNTIF(Scoresheet!$D61:AJ61,30)","v":0},{"$f":"COUNTIF(Scoresheet!$D61:AK61,20)+COUNTIF(Scoresheet!$D61:AK61,30)","v":0},{"$f":"COUNTIF(Scoresheet!$D61:AL61,20)+COUNTIF(Scoresheet!$D61:AL61,30)","v":0},{"$f":"COUNTIF(Scoresheet!$D61:AM61,20)+COUNTIF(Scoresheet!$D61:AM61,30)","v":0},{"$f":"COUNTIF(Scoresheet!$D61:AN61,20)+COUNTIF(Scoresheet!$D61:AN61,30)","v":0},{"$f":"COUNTIF(Scoresheet!$D61:AO61,20)+COUNTIF(Scoresheet!$D61:AO61,30)","v":0},{"$f":"COUNTIF(Scoresheet!$D61:AP61,20)+COUNTIF(Scoresheet!$D61:AP61,30)","v":0},{"$f":"COUNTIF(Scoresheet!$D61:AQ61,20)+COUNTIF(Scoresheet!$D61:AQ61,30)","v":0},{"$f":"COUNTIF(Scoresheet!$D61:AR61,20)+COUNTIF(Scoresheet!$D61:AR61,30)","v":0},{"$f":"COUNTIF(Scoresheet!$D61:AS61,20)+COUNTIF(Scoresheet!$D61:AS61,30)","v":0},{"$f":"COUNTIF(Scoresheet!$D61:AT61,20)+COUNTIF(Scoresheet!$D61:AT61,30)","v":0},{"$f":"COUNTIF(Scoresheet!$D61:AU61,20)+COUNTIF(Scoresheet!$D61:AU61,30)","v":0},{"$f":"COUNTIF(Scoresheet!$D61:AV61,20)+COUNTIF(Scoresheet!$D61:AV61,30)","v":0},{"$f":"COUNTIF(Scoresheet!$D61:AW61,20)+COUNTIF(Scoresheet!$D61:AW61,30)","v":0},{"$f":"COUNTIF(Scoresheet!$D61:AX61,20)+COUNTIF(Scoresheet!$D61:AX61,30)","v":0},{"$f":"COUNTIF(Scoresheet!$D61:AY61,20)+COUNTIF(Scoresheet!$D61:AY61,30)","v":0},{"$f":"COUNTIF(Scoresheet!$D61:AZ61,20)+COUNTIF(Scoresheet!$D61:AZ61,30)","v":0},{"$f":"COUNTIF(Scoresheet!$D61:BA61,20)+COUNTIF(Scoresheet!$D61:BA61,30)","v":0},{"$f":"COUNTIF(Scoresheet!$D61:BB61,20)+COUNTIF(Scoresheet!$D61:BB61,30)","v":0}]
[null,null,{"$f":"CONCATENATE(\"#20's \",C62)","v":"#20's Substitute"},{"$f":"COUNTIF(Scoresheet!$D62:D62,20)+COUNTIF(Scoresheet!$D62:D62,30)","v":0},{"$f":"COUNTIF(Scoresheet!$D62:E62,20)+COUNTIF(Scoresheet!$D62:E62,30)","v":0},{"$f":"COUNTIF(Scoresheet!$D62:F62,20)+COUNTIF(Scoresheet!$D62:F62,30)","v":0},{"$f":"COUNTIF(Scoresheet!$D62:G62,20)+COUNTIF(Scoresheet!$D62:G62,30)","v":0},{"$f":"COUNTIF(Scoresheet!$D62:H62,20)+COUNTIF(Scoresheet!$D62:H62,30)","v":0},{"$f":"COUNTIF(Scoresheet!$D62:I62,20)+COUNTIF(Scoresheet!$D62:I62,30)","v":0},{"$f":"COUNTIF(Scoresheet!$D62:J62,20)+COUNTIF(Scoresheet!$D62:J62,30)","v":0},{"$f":"COUNTIF(Scoresheet!$D62:K62,20)+COUNTIF(Scoresheet!$D62:K62,30)","v":0},{"$f":"COUNTIF(Scoresheet!$D62:L62,20)+COUNTIF(Scoresheet!$D62:L62,30)","v":0},{"$f":"COUNTIF(Scoresheet!$D62:M62,20)+COUNTIF(Scoresheet!$D62:M62,30)","v":0},{"$f":"COUNTIF(Scoresheet!$D62:N62,20)+COUNTIF(Scoresheet!$D62:N62,30)","v":0},{"$f":"COUNTIF(Scoresheet!$D62:O62,20)+COUNTIF(Scoresheet!$D62:O62,30)","v":0},{"$f":"COUNTIF(Scoresheet!$D62:P62,20)+COUNTIF(Scoresheet!$D62:P62,30)","v":0},{"$f":"COUNTIF(Scoresheet!$D62:Q62,20)+COUNTIF(Scoresheet!$D62:Q62,30)","v":0},{"$f":"COUNTIF(Scoresheet!$D62:R62,20)+COUNTIF(Scoresheet!$D62:R62,30)","v":0},{"$f":"COUNTIF(Scoresheet!$D62:S62,20)+COUNTIF(Scoresheet!$D62:S62,30)","v":0},{"$f":"COUNTIF(Scoresheet!$D62:T62,20)+COUNTIF(Scoresheet!$D62:T62,30)","v":0},{"$f":"COUNTIF(Scoresheet!$D62:U62,20)+COUNTIF(Scoresheet!$D62:U62,30)","v":0},{"$f":"COUNTIF(Scoresheet!$D62:V62,20)+COUNTIF(Scoresheet!$D62:V62,30)","v":0},{"$f":"COUNTIF(Scoresheet!$D62:W62,20)+COUNTIF(Scoresheet!$D62:W62,30)","v":0},{"$f":"COUNTIF(Scoresheet!$D62:X62,20)+COUNTIF(Scoresheet!$D62:X62,30)","v":0},{"$f":"COUNTIF(Scoresheet!$D62:Y62,20)+COUNTIF(Scoresheet!$D62:Y62,30)","v":0},{"$f":"COUNTIF(Scoresheet!$D62:Z62,20)+COUNTIF(Scoresheet!$D62:Z62,30)","v":0},{"$f":"COUNTIF(Scoresheet!$D62:AA62,20)+COUNTIF(Scoresheet!$D62:AA62,30)","v":0},{"$f":"COUNTIF(Scoresheet!$D62:AB62,20)+COUNTIF(Scoresheet!$D62:AB62,30)","v":0},{"$f":"COUNTIF(Scoresheet!$D62:AC62,20)+COUNTIF(Scoresheet!$D62:AC62,30)","v":0},{"$f":"COUNTIF(Scoresheet!$D62:AD62,20)+COUNTIF(Scoresheet!$D62:AD62,30)","v":0},{"$f":"COUNTIF(Scoresheet!$D62:AE62,20)+COUNTIF(Scoresheet!$D62:AE62,30)","v":0},{"$f":"COUNTIF(Scoresheet!$D62:AF62,20)+COUNTIF(Scoresheet!$D62:AF62,30)","v":0},{"$f":"COUNTIF(Scoresheet!$D62:AG62,20)+COUNTIF(Scoresheet!$D62:AG62,30)","v":0},{"$f":"COUNTIF(Scoresheet!$D62:AH62,20)+COUNTIF(Scoresheet!$D62:AH62,30)","v":0},{"$f":"COUNTIF(Scoresheet!$D62:AI62,20)+COUNTIF(Scoresheet!$D62:AI62,30)","v":0},{"$f":"COUNTIF(Scoresheet!$D62:AJ62,20)+COUNTIF(Scoresheet!$D62:AJ62,30)","v":0},{"$f":"COUNTIF(Scoresheet!$D62:AK62,20)+COUNTIF(Scoresheet!$D62:AK62,30)","v":0},{"$f":"COUNTIF(Scoresheet!$D62:AL62,20)+COUNTIF(Scoresheet!$D62:AL62,30)","v":0},{"$f":"COUNTIF(Scoresheet!$D62:AM62,20)+COUNTIF(Scoresheet!$D62:AM62,30)","v":0},{"$f":"COUNTIF(Scoresheet!$D62:AN62,20)+COUNTIF(Scoresheet!$D62:AN62,30)","v":0},{"$f":"COUNTIF(Scoresheet!$D62:AO62,20)+COUNTIF(Scoresheet!$D62:AO62,30)","v":0},{"$f":"COUNTIF(Scoresheet!$D62:AP62,20)+COUNTIF(Scoresheet!$D62:AP62,30)","v":0},{"$f":"COUNTIF(Scoresheet!$D62:AQ62,20)+COUNTIF(Scoresheet!$D62:AQ62,30)","v":0},{"$f":"COUNTIF(Scoresheet!$D62:AR62,20)+COUNTIF(Scoresheet!$D62:AR62,30)","v":0},{"$f":"COUNTIF(Scoresheet!$D62:AS62,20)+COUNTIF(Scoresheet!$D62:AS62,30)","v":0},{"$f":"COUNTIF(Scoresheet!$D62:AT62,20)+COUNTIF(Scoresheet!$D62:AT62,30)","v":0},{"$f":"COUNTIF(Scoresheet!$D62:AU62,20)+COUNTIF(Scoresheet!$D62:AU62,30)","v":0},{"$f":"COUNTIF(Scoresheet!$D62:AV62,20)+COUNTIF(Scoresheet!$D62:AV62,30)","v":0},{"$f":"COUNTIF(Scoresheet!$D62:AW62,20)+COUNTIF(Scoresheet!$D62:AW62,30)","v":0},{"$f":"COUNTIF(Scoresheet!$D62:AX62,20)+COUNTIF(Scoresheet!$D62:AX62,30)","v":0},{"$f":"COUNTIF(Scoresheet!$D62:AY62,20)+COUNTIF(Scoresheet!$D62:AY62,30)","v":0},{"$f":"COUNTIF(Scoresheet!$D62:AZ62,20)+COUNTIF(Scoresheet!$D62:AZ62,30)","v":0},{"$f":"COUNTIF(Scoresheet!$D62:BA62,20)+COUNTIF(Scoresheet!$D62:BA62,30)","v":0},{"$f":"COUNTIF(Scoresheet!$D62:BB62,20)+COUNTIF(Scoresheet!$D62:BB62,30)","v":0}]
[]
[]
[]
[]
[]
[]
[null,null,"Timeout = T, Foul = F ------------>",{"$f":"Scoresheet!D22","v":0},{"$f":"Scoresheet!E22","v":0},{"$f":"Scoresheet!F22","v":0},{"$f":"Scoresheet!G22","v":0},{"$f":"Scoresheet!H22","v":0},{"$f":"Scoresheet!I22","v":0},{"$f":"Scoresheet!J22","v":0},{"$f":"Scoresheet!K22","v":0},{"$f":"Scoresheet!L22","v":0},{"$f":"Scoresheet!M22","v":0},{"$f":"Scoresheet!N22","v":0},{"$f":"Scoresheet!O22","v":0},{"$f":"Scoresheet!P22","v":0},{"$f":"Scoresheet!Q22","v":0},{"$f":"Scoresheet!R22","v":0},{"$f":"Scoresheet!S22","v":0},{"$f":"Scoresheet!T22","v":0},{"$f":"Scoresheet!U22","v":0},{"$f":"Scoresheet!V22","v":0},{"$f":"Scoresheet!W22","v":0},{"$f":"Scoresheet!X22","v":0},{"$f":"Scoresheet!Y22","v":0},{"$f":"Scoresheet!Z22","v":0},{"$f":"Scoresheet!AA22","v":0},{"$f":"Scoresheet!AB22","v":0},{"$f":"Scoresheet!AC22","v":0},{"$f":"Scoresheet!AD22","v":0},{"$f":"Scoresheet!AE22","v":0},{"$f":"Scoresheet!AF22","v":0},{"$f":"Scoresheet!AG22","v":0},{"$f":"Scoresheet!AH22","v":0},{"$f":"Scoresheet!AI22","v":0},{"$f":"Scoresheet!AJ22","v":0},{"$f":"Scoresheet!AK22","v":0},{"$f":"Scoresheet!AL22","v":0},{"$f":"Scoresheet!AM22","v":0},{"$f":"Scoresheet!AN22","v":0},{"$f":"Scoresheet!AO22","v":0},{"$f":"Scoresheet!AP22","v":0},{"$f":"Scoresheet!AQ22","v":0},{"$f":"Scoresheet!AR22","v":0},{"$f":"Scoresheet!AS22","v":0},{"$f":"Scoresheet!AT22","v":0},{"$f":"Scoresheet!AU22","v":0},{"$f":"Scoresheet!AV22","v":0},{"$f":"Scoresheet!AW22","v":0},{"$f":"Scoresheet!AX22","v":0},{"$f":"Scoresheet!AY22","v":0},{"$f":"Scoresheet!AZ22","v":0},{"$f":"Scoresheet!BA22","v":0},{"$f":"Scoresheet!BB22","v":0}]
[null,null,{"$f":"CONCATENATE(\"Timeout = T (\",B91,\"), Foul = F ---------->\")","v":"Timeout = T (0), Foul = F ---------->"},{"$f":"LEFT(D79)","v":"0"},{"$f":"LEFT(E79)","v":"0"},"0","0","0","0","0","0","0","0","0","0","0","0","0","0","0","0","0","0","0","0","0","0","0","0","0","0","0","0","0","0","0","0","0","0","0","0","0","0","0","0","0","0","0","0","0","0","0","0","0"]
[null,null,{"$f":"CONCATENATE(\"Timeout = T (\",B91,\"), Foul = F (\",B90,\") --->\")","v":"Timeout = T (0), Foul = F (0) --->"},{"$f":"LEFT(RIGHT(D79,LEN(D79)-1))","v":""},{"$f":"LEFT(RIGHT(E79,LEN(E79)-1))","v":""},"","","","","","","","","","","","","","","","","","","","","","","","","","","","","","","","","","","","","","","","","","","","","","","","",""]
[null,null,{"$f":"CONCATENATE(\"Timeout = T, Foul = F (\",B90,\") ---------->\")","v":"Timeout = T, Foul = F (0) ---------->"},{"$f":"LEFT(RIGHT(D79,LEN(D79)-2))","v":{"$error":"#VALUE!"}},{"$f":"LEFT(RIGHT(E79,LEN(E79)-2))","v":{"$error":"#VALUE!"}},{"$error":"#VALUE!"},{"$error":"#VALUE!"},{"$error":"#VALUE!"},{"$error":"#VALUE!"},{"$error":"#VALUE!"},{"$error":"#VALUE!"},{"$error":"#VALUE!"},{"$error":"#VALUE!"},{"$error":"#VALUE!"},{"$error":"#VALUE!"},{"$error":"#VALUE!"},{"$error":"#VALUE!"},{"$error":"#VALUE!"},{"$error":"#VALUE!"},{"$error":"#VALUE!"},{"$error":"#VALUE!"},{"$error":"#VALUE!"},{"$error":"#VALUE!"},{"$error":"#VALUE!"},{"$error":"#VALUE!"},{"$error":"#VALUE!"},{"$error":"#VALUE!"},{"$error":"#VALUE!"},{"$error":"#VALUE!"},{"$error":"#VALUE!"},{"$error":"#VALUE!"},{"$error":"#VALUE!"},{"$error":"#VALUE!"},{"$error":"#VALUE!"},{"$error":"#VALUE!"},{"$error":"#VALUE!"},{"$error":"#VALUE!"},{"$error":"#VALUE!"},{"$error":"#VALUE!"},{"$error":"#VALUE!"},{"$error":"#VALUE!"},{"$error":"#VALUE!"},{"$error":"#VALUE!"},{"$error":"#VALUE!"},{"$error":"#VALUE!"},{"$error":"#VALUE!"},{"$error":"#VALUE!"},{"$error":"#VALUE!"},{"$error":"#VALUE!"},{"$error":"#VALUE!"},{"$error":"#VALUE!"},{"$error":"#VALUE!"},{"$error":"#VALUE!"},{"$error":"#VALUE!"}]
[null,null,null,{"$f":"LEFT(RIGHT(D79,LEN(D79)-3))","v":{"$error":"#VALUE!"}},{"$f":"LEFT(RIGHT(E79,LEN(E79)-3))","v":{"$error":"#VALUE!"}},{"$error":"#VALUE!"},{"$error":"#VALUE!"},{"$error":"#VALUE!"},{"$error":"#VALUE!"},{"$error":"#VALUE!"},{"$error":"#VALUE!"},{"$error":"#VALUE!"},{"$error":"#VALUE!"},{"$error":"#VALUE!"},{"$error":"#VALUE!"},{"$error":"#VALUE!"},{"$error":"#VALUE!"},{"$error":"#VALUE!"},{"$error":"#VALUE!"},{"$error":"#VALUE!"},{"$error":"#VALUE!"},{"$error":"#VALUE!"},{"$error":"#VALUE!"},{"$error":"#VALUE!"},{"$error":"#VALUE!"},{"$error":"#VALUE!"},{"$error":"#VALUE!"},{"$error":"#VALUE!"},{"$error":"#VALUE!"},{"$error":"#VALUE!"},{"$error":"#VALUE!"},{"$error":"#VALUE!"},{"$error":"#VALUE!"},{"$error":"#VALUE!"},{"$error":"#VALUE!"},{"$error":"#VALUE!"},{"$error":"#VALUE!"},{"$error":"#VALUE!"},{"$error":"#VALUE!"},{"$error":"#VALUE!"},{"$error":"#VALUE!"},{"$error":"#VALUE!"},{"$error":"#VALUE!"},{"$error":"#VALUE!"},{"$error":"#VALUE!"},{"$error":"#VALUE!"},{"$error":"#VALUE!"},{"$error":"#VALUE!"},{"$error":"#VALUE!"},{"$error":"#VALUE!"},{"$error":"#VALUE!"},{"$error":"#VALUE!"},{"$error":"#VALUE!"},{"$error":"#VALUE!"}]
[null,null,null,{"$f":"LEFT(RIGHT(D79,LEN(D79)-4))","v":{"$error":"#VALUE!"}},{"$f":"LEFT(RIGHT(E79,LEN(E79)-4))","v":{"$error":"#VALUE!"}},{"$error":"#VALUE!"},{"$error":"#VALUE!"},{"$error":"#VALUE!"},{"$error":"#VALUE!"},{"$error":"#VALUE!"},{"$error":"#VALUE!"},{"$error":"#VALUE!"},{"$error":"#VALUE!"},{"$error":"#VALUE!"},{"$error":"#VALUE!"},{"$error":"#VALUE!"},{"$error":"#VALUE!"},{"$error":"#VALUE!"},{"$error":"#VALUE!"},{"$error":"#VALUE!"},{"$error":"#VALUE!"},{"$error":"#VALUE!"},{"$error":"#VALUE!"},{"$error":"#VALUE!"},{"$error":"#VALUE!"},{"$error":"#VALUE!"},{"$error":"#VALUE!"},{"$error":"#VALUE!"},{"$error":"#VALUE!"},{"$error":"#VALUE!"},{"$error":"#VALUE!"},{"$error":"#VALUE!"},{"$error":"#VALUE!"},{"$error":"#VALUE!"},{"$error":"#VALUE!"},{"$error":"#VALUE!"},{"$error":"#VALUE!"},{"$error":"#VALUE!"},{"$error":"#VALUE!"},{"$error":"#VALUE!"},{"$error":"#VALUE!"},{"$error":"#VALUE!"},{"$error":"#VALUE!"},{"$error":"#VALUE!"},{"$error":"#VALUE!"},{"$error":"#VALUE!"},{"$error":"#VALUE!"},{"$error":"#VALUE!"},{"$error":"#VALUE!"},{"$error":"#VALUE!"},{"$error":"#VALUE!"},{"$error":"#VALUE!"},{"$error":"#VALUE!"},{"$error":"#VALUE!"}]
[null,null,null,{"$f":"LEFT(RIGHT(D79,LEN(D79)-5))","v":{"$error":"#VALUE!"}},{"$f":"LEFT(RIGHT(E79,LEN(E79)-5))","v":{"$error":"#VALUE!"}},{"$error":"#VALUE!"},{"$error":"#VALUE!"},{"$error":"#VALUE!"},{"$error":"#VALUE!"},{"$error":"#VALUE!"},{"$error":"#VALUE!"},{"$error":"#VALUE!"},{"$error":"#VALUE!"},{"$error":"#VALUE!"},{"$error":"#VALUE!"},{"$error":"#VALUE!"},{"$error":"#VALUE!"},{"$error":"#VALUE!"},{"$error":"#VALUE!"},{"$error":"#VALUE!"},{"$error":"#VALUE!"},{"$error":"#VALUE!"},{"$error":"#VALUE!"},{"$error":"#VALUE!"},{"$error":"#VALUE!"},{"$error":"#VALUE!"},{"$error":"#VALUE!"},{"$error":"#VALUE!"},{"$error":"#VALUE!"},{"$error":"#VALUE!"},{"$error":"#VALUE!"},{"$error":"#VALUE!"},{"$error":"#VALUE!"},{"$error":"#VALUE!"},{"$error":"#VALUE!"},{"$error":"#VALUE!"},{"$error":"#VALUE!"},{"$error":"#VALUE!"},{"$error":"#VALUE!"},{"$error":"#VALUE!"},{"$error":"#VALUE!"},{"$error":"#VALUE!"},{"$error":"#VALUE!"},{"$error":"#VALUE!"},{"$error":"#VALUE!"},{"$error":"#VALUE!"},{"$error":"#VALUE!"},{"$error":"#VALUE!"},{"$error":"#VALUE!"},{"$error":"#VALUE!"},{"$error":"#VALUE!"},{"$error":"#VALUE!"},{"$error":"#VALUE!"},{"$error":"#VALUE!"}]
[null,null,null,{"$f":"LEFT(RIGHT(D79,LEN(D79)-6))","v":{"$error":"#VALUE!"}},{"$f":"LEFT(RIGHT(E79,LEN(E79)-6))","v":{"$error":"#VALUE!"}},{"$error":"#VALUE!"},{"$error":"#VALUE!"},{"$error":"#VALUE!"},{"$error":"#VALUE!"},{"$error":"#VALUE!"},{"$error":"#VALUE!"},{"$error":"#VALUE!"},{"$error":"#VALUE!"},{"$error":"#VALUE!"},{"$error":"#VALUE!"},{"$error":"#VALUE!"},{"$error":"#VALUE!"},{"$error":"#VALUE!"},{"$error":"#VALUE!"},{"$error":"#VALUE!"},{"$error":"#VALUE!"},{"$error":"#VALUE!"},{"$error":"#VALUE!"},{"$error":"#VALUE!"},{"$error":"#VALUE!"},{"$error":"#VALUE!"},{"$error":"#VALUE!"},{"$error":"#VALUE!"},{"$error":"#VALUE!"},{"$error":"#VALUE!"},{"$error":"#VALUE!"},{"$error":"#VALUE!"},{"$error":"#VALUE!"},{"$error":"#VALUE!"},{"$error":"#VALUE!"},{"$error":"#VALUE!"},{"$error":"#VALUE!"},{"$error":"#VALUE!"},{"$error":"#VALUE!"},{"$error":"#VALUE!"},{"$error":"#VALUE!"},{"$error":"#VALUE!"},{"$error":"#VALUE!"},{"$error":"#VALUE!"},{"$error":"#VALUE!"},{"$error":"#VALUE!"},{"$error":"#VALUE!"},{"$error":"#VALUE!"},{"$error":"#VALUE!"},{"$error":"#VALUE!"},{"$error":"#VALUE!"},{"$error":"#VALUE!"},{"$error":"#VALUE!"},{"$error":"#VALUE!"}]
[null,null,null,{"$f":"LEFT(RIGHT(D79,LEN(D79)-7))","v":{"$error":"#VALUE!"}},{"$f":"LEFT(RIGHT(E79,LEN(E79)-7))","v":{"$error":"#VALUE!"}},{"$error":"#VALUE!"},{"$error":"#VALUE!"},{"$error":"#VALUE!"},{"$error":"#VALUE!"},{"$error":"#VALUE!"},{"$error":"#VALUE!"},{"$error":"#VALUE!"},{"$error":"#VALUE!"},{"$error":"#VALUE!"},{"$error":"#VALUE!"},{"$error":"#VALUE!"},{"$error":"#VALUE!"},{"$error":"#VALUE!"},{"$error":"#VALUE!"},{"$error":"#VALUE!"},{"$error":"#VALUE!"},{"$error":"#VALUE!"},{"$error":"#VALUE!"},{"$error":"#VALUE!"},{"$error":"#VALUE!"},{"$error":"#VALUE!"},{"$error":"#VALUE!"},{"$error":"#VALUE!"},{"$error":"#VALUE!"},{"$error":"#VALUE!"},{"$error":"#VALUE!"},{"$error":"#VALUE!"},{"$error":"#VALUE!"},{"$error":"#VALUE!"},{"$error":"#VALUE!"},{"$error":"#VALUE!"},{"$error":"#VALUE!"},{"$error":"#VALUE!"},{"$error":"#VALUE!"},{"$error":"#VALUE!"},{"$error":"#VALUE!"},{"$error":"#VALUE!"},{"$error":"#VALUE!"},{"$error":"#VALUE!"},{"$error":"#VALUE!"},{"$error":"#VALUE!"},{"$error":"#VALUE!"},{"$error":"#VALUE!"},{"$error":"#VALUE!"},{"$error":"#VALUE!"},{"$error":"#VALUE!"},{"$error":"#VALUE!"},{"$error":"#VALUE!"},{"$error":"#VALUE!"}]
[null,null,null,{"$f":"LEFT(RIGHT(D79,LEN(D79)-8))","v":{"$error":"#VALUE!"}},{"$f":"LEFT(RIGHT(E79,LEN(E79)-8))","v":{"$error":"#VALUE!"}},{"$error":"#VALUE!"},{"$error":"#VALUE!"},{"$error":"#VALUE!"},{"$error":"#VALUE!"},{"$error":"#VALUE!"},{"$error":"#VALUE!"},{"$error":"#VALUE!"},{"$error":"#VALUE!"},{"$error":"#VALUE!"},{"$error":"#VALUE!"},{"$error":"#VALUE!"},{"$error":"#VALUE!"},{"$error":"#VALUE!"},{"$error":"#VALUE!"},{"$error":"#VALUE!"},{"$error":"#VALUE!"},{"$error":"#VALUE!"},{"$error":"#VALUE!"},{"$error":"#VALUE!"},{"$error":"#VALUE!"},{"$error":"#VALUE!"},{"$error":"#VALUE!"},{"$error":"#VALUE!"},{"$error":"#VALUE!"},{"$error":"#VALUE!"},{"$error":"#VALUE!"},{"$error":"#VALUE!"},{"$error":"#VALUE!"},{"$error":"#VALUE!"},{"$error":"#VALUE!"},{"$error":"#VALUE!"},{"$error":"#VALUE!"},{"$error":"#VALUE!"},{"$error":"#VALUE!"},{"$error":"#VALUE!"},{"$error":"#VALUE!"},{"$error":"#VALUE!"},{"$error":"#VALUE!"},{"$error":"#VALUE!"},{"$error":"#VALUE!"},{"$error":"#VALUE!"},{"$error":"#VALUE!"},{"$error":"#VALUE!"},{"$error":"#VALUE!"},{"$error":"#VALUE!"},{"$error":"#VALUE!"},{"$error":"#VALUE!"},{"$error":"#VALUE!"},{"$error":"#VALUE!"}]
[null,null,null,{"$f":"LEFT(RIGHT(D79,LEN(D79)-9))","v":{"$error":"#VALUE!"}},{"$f":"LEFT(RIGHT(E79,LEN(E79)-9))","v":{"$error":"#VALUE!"}},{"$error":"#VALUE!"},{"$error":"#VALUE!"},{"$error":"#VALUE!"},{"$error":"#VALUE!"},{"$error":"#VALUE!"},{"$error":"#VALUE!"},{"$error":"#VALUE!"},{"$error":"#VALUE!"},{"$error":"#VALUE!"},{"$error":"#VALUE!"},{"$error":"#VALUE!"},{"$error":"#VALUE!"},{"$error":"#VALUE!"},{"$error":"#VALUE!"},{"$error":"#VALUE!"},{"$error":"#VALUE!"},{"$error":"#VALUE!"},{"$error":"#VALUE!"},{"$error":"#VALUE!"},{"$error":"#VALUE!"},{"$error":"#VALUE!"},{"$error":"#VALUE!"},{"$error":"#VALUE!"},{"$error":"#VALUE!"},{"$error":"#VALUE!"},{"$error":"#VALUE!"},{"$error":"#VALUE!"},{"$error":"#VALUE!"},{"$error":"#VALUE!"},{"$error":"#VALUE!"},{"$error":"#VALUE!"},{"$error":"#VALUE!"},{"$error":"#VALUE!"},{"$error":"#VALUE!"},{"$error":"#VALUE!"},{"$error":"#VALUE!"},{"$error":"#VALUE!"},{"$error":"#VALUE!"},{"$error":"#VALUE!"},{"$error":"#VALUE!"},{"$error":"#VALUE!"},{"$error":"#VALUE!"},{"$error":"#VALUE!"},{"$error":"#VALUE!"},{"$error":"#VALUE!"},{"$error":"#VALUE!"},{"$error":"#VALUE!"},{"$error":"#VALUE!"},{"$error":"#VALUE!"}]
[null,{"$f":"SUM(D90:BB90)","v":0},"# F's",{"$f":"COUNTIF(D80:D89,\"F\")","v":0},{"$f":"COUNTIF(E80:E89,\"F\")","v":0},0,0,0,0,0,0,0,0,0,0,0,0,0,0,0,0,0,0,0,0,0,0,0,0,0,0,0,0,0,0,0,0,0,0,0,0,0,0,0,0,0,0,0,0,0,0,0,0,0]
[null,{"$f":"SUM(D91:BB91)","v":0},"# T's",{"$f":"COUNTIF(D80:D89,\"T\")","v":0},{"$f":"COUNTIF(E80:E89,\"T\")","v":0},0,0,0,0,0,0,0,0,0,0,0,0,0,0,0,0,0,0,0,0,0,0,0,0,0,0,0,0,0,0,0,0,0,0,0,0,0,0,0,0,0,0,0,0,0,0,0,0,0]
[null,null,"foul points",{"$f":"IF(D90=0,0,D90*-10+10)","v":0},{"$f":"IF(E90=0,0,IF(D90=0,E90*-10+10,E90*-10))","v":0},{"$f":"IF(F90=0,0,IF(SUM($D90:E90)=0,F90*-10+10,F90*-10))","v":0},{"$f":"IF(G90=0,0,IF(SUM($D90:F90)=0,G90*-10+10,G90*-10))","v":0},{"$f":"IF(H90=0,0,IF(SUM($D90:G90)=0,H90*-10+10,H90*-10))","v":0},{"$f":"IF(I90=0,0,IF(SUM($D90:H90)=0,I90*-10+10,I90*-10))","v":0},{"$f":"IF(J90=0,0,IF(SUM($D90:I90)=0,J90*-10+10,J90*-10))","v":0},{"$f":"IF(K90=0,0,IF(SUM($D90:J90)=0,K90*-10+10,K90*-10))","v":0},{"$f":"IF(L90=0,0,IF(SUM($D90:K90)=0,L90*-10+10,L90*-10))","v":0},{"$f":"IF(M90=0,0,IF(SUM($D90:L90)=0,M90*-10+10,M90*-10))","v":0},{"$f":"IF(N90=0,0,IF(SUM($D90:M90)=0,N90*-10+10,N90*-10))","v":0},{"$f":"IF(O90=0,0,IF(SUM($D90:N90)=0,O90*-10+10,O90*-10))","v":0},{"$f":"IF(P90=0,0,IF(SUM($D90:O90)=0,P90*-10+10,P90*-10))","v":0},{"$f":"IF(Q90=0,0,IF(SUM($D90:P90)=0,Q90*-10+10,Q90*-10))","v":0},{"$f":"IF(R90=0,0,IF(SUM($D90:Q90)=0,R90*-10+10,R90*-10))","v":0},{"$f":"IF(S90=0,0,IF(SUM($D90:R90)=0,S90*-10+10,S90*-10))","v":0},{"$f":"IF(T90=0,0,IF(SUM($D90:S90)=0,T90*-10+10,T90*-10))","v":0},{"$f":"IF(U90=0,0,IF(SUM($D90:T90)=0,U90*-10+10,U90*-10))","v":0},{"$f":"IF(V90=0,0,IF(SUM($D90:U90)=0,V90*-10+10,V90*-10))","v":0},{"$f":"IF(W90=0,0,IF(SUM($D90:V90)=0,W90*-10+10,W90*-10))","v":0},{"$f":"IF(X90=0,0,IF(SUM($D90:W90)=0,X90*-10+10,X90*-10))","v":0},{"$f":"IF(Y90=0,0,IF(SUM($D90:X90)=0,Y90*-10+10,Y90*-10))","v":0},{"$f":"IF(Z90=0,0,IF(SUM($D90:Y90)=0,Z90*-10+10,Z90*-10))","v":0},{"$f":"IF(AA90=0,0,IF(SUM($D90:Z90)=0,AA90*-10+10,AA90*-10))","v":0},{"$f":"IF(AB90=0,0,IF(SUM($D90:AA90)=0,AB90*-10+10,AB90*-10))","v":0},{"$f":"IF(AC90=0,0,IF(SUM($D90:AB90)=0,AC90*-10+10,AC90*-10))","v":0},{"$f":"IF(AD90=0,0,IF(SUM($D90:AC90)=0,AD90*-10+10,AD90*-10))","v":0},{"$f":"IF(AE90=0,0,IF(SUM($D90:AD90)=0,AE90*-10+10,AE90*-10))","v":0},{"$f":"IF(AF90=0,0,IF(SUM($D90:AE90)=0,AF90*-10+10,AF90*-10))","v":0},{"$f":"IF(AG90=0,0,IF(SUM($D90:AF90)=0,AG90*-10+10,AG90*-10))","v":0},{"$f":"IF(AH90=0,0,IF(SUM($D90:AG90)=0,AH90*-10+10,AH90*-10))","v":0},{"$f":"IF(AI90=0,0,IF(SUM($D90:AH90)=0,AI90*-10+10,AI90*-10))","v":0},{"$f":"IF(AJ90=0,0,IF(SUM($D90:AI90)=0,AJ90*-10+10,AJ90*-10))","v":0},{"$f":"IF(AK90=0,0,IF(SUM($D90:AJ90)=0,AK90*-10+10,AK90*-10))","v":0},{"$f":"IF(AL90=0,0,IF(SUM($D90:AK90)=0,AL90*-10+10,AL90*-10))","v":0},{"$f":"IF(AM90=0,0,IF(SUM($D90:AL90)=0,AM90*-10+10,AM90*-10))","v":0},{"$f":"IF(AN90=0,0,IF(SUM($D90:AM90)=0,AN90*-10+10,AN90*-10))","v":0},{"$f":"IF(AO90=0,0,IF(SUM($D90:AN90)=0,AO90*-10+10,AO90*-10))","v":0},{"$f":"IF(AP90=0,0,IF(SUM($D90:AO90)=0,AP90*-10+10,AP90*-10))","v":0},{"$f":"IF(AQ90=0,0,IF(SUM($D90:AP90)=0,AQ90*-10+10,AQ90*-10))","v":0},{"$f":"IF(AR90=0,0,IF(SUM($D90:AQ90)=0,AR90*-10+10,AR90*-10))","v":0},{"$f":"IF(AS90=0,0,IF(SUM($D90:AR90)=0,AS90*-10+10,AS90*-10))","v":0},{"$f":"IF(AT90=0,0,IF(SUM($D90:AS90)=0,AT90*-10+10,AT90*-10))","v":0},{"$f":"IF(AU90=0,0,IF(SUM($D90:AT90)=0,AU90*-10+10,AU90*-10))","v":0},{"$f":"IF(AV90=0,0,IF(SUM($D90:AU90)=0,AV90*-10+10,AV90*-10))","v":0},{"$f":"IF(AW90=0,0,IF(SUM($D90:AV90)=0,AW90*-10+10,AW90*-10))","v":0},{"$f":"IF(AX90=0,0,IF(SUM($D90:AW90)=0,AX90*-10+10,AX90*-10))","v":0},{"$f":"IF(AY90=0,0,IF(SUM($D90:AX90)=0,AY90*-10+10,AY90*-10))","v":0},{"$f":"IF(AZ90=0,0,IF(SUM($D90:AY90)=0,AZ90*-10+10,AZ90*-10))","v":0},{"$f":"IF(BA90=0,0,IF(SUM($D90:AZ90)=0,BA90*-10+10,BA90*-10))","v":0},{"$f":"IF(BB90=0,0,IF(SUM($D90:BA90)=0,BB90*-10+10,BB90*-10))","v":0}]
[]
[]
[]
[]
[]
[]
[]
[null,null,"Timeout = T, Foul = F ------------>",{"$f":"Scoresheet!D43","v":0},{"$f":"Scoresheet!E43","v":0},{"$f":"Scoresheet!F43","v":0},{"$f":"Scoresheet!G43","v":0},{"$f":"Scoresheet!H43","v":0},{"$f":"Scoresheet!I43","v":0},{"$f":"Scoresheet!J43","v":0},{"$f":"Scoresheet!K43","v":0},{"$f":"Scoresheet!L43","v":0},{"$f":"Scoresheet!M43","v":0},{"$f":"Scoresheet!N43","v":0},{"$f":"Scoresheet!O43","v":0},{"$f":"Scoresheet!P43","v":0},{"$f":"Scoresheet!Q43","v":0},{"$f":"Scoresheet!R43","v":0},{"$f":"Scoresheet!S43","v":0},{"$f":"Scoresheet!T43","v":0},{"$f":"Scoresheet!U43","v":0},{"$f":"Scoresheet!V43","v":0},{"$f":"Scoresheet!W43","v":0},{"$f":"Scoresheet!X43","v":0},{"$f":"Scoresheet!Y43","v":0},{"$f":"Scoresheet!Z43","v":0},{"$f":"Scoresheet!AA43","v":0},{"$f":"Scoresheet!AB43","v":0},{"$f":"Scoresheet!AC43","v":0},{"$f":"Scoresheet!AD43","v":0},{"$f":"Scoresheet!AE43","v":0},{"$f":"Scoresheet!AF43","v":0},{"$f":"Scoresheet!AG43","v":0},{"$f":"Scoresheet!AH43","v":0},{"$f":"Scoresheet!AI43","v":0},{"$f":"Scoresheet!AJ43","v":0},{"$f":"Scoresheet!AK43","v":0},{"$f":"Scoresheet!AL43","v":0},{"$f":"Scoresheet!AM43","v":0},{"$f":"Scoresheet!AN43","v":0},{"$f":"Scoresheet!AO43","v":0},{"$f":"Scoresheet!AP43","v":0},{"$f":"Scoresheet!AQ43","v":0},{"$f":"Scoresheet!AR43","v":0},{"$f":"Scoresheet!AS43","v":0},{"$f":"Scoresheet!AT43","v":0},{"$f":"Scoresheet!AU43","v":0},{"$f":"Scoresheet!AV43","v":0},{"$f":"Scoresheet!AW43","v":0},{"$f":"Scoresheet!AX43","v":0},{"$f":"Scoresheet!AY43","v":0},{"$f":"Scoresheet!AZ43","v":0},{"$f":"Scoresheet!BA43","v":0},{"$f":"Scoresheet!BB43","v":0}]
[null,null,{"$f":"CONCATENATE(\"Timeout = T (\",B112,\"), Foul = F ---------->\")","v":"Timeout = T (0), Foul = F ---------->"},{"$f":"LEFT(D100)","v":"0"},{"$f":"LEFT(E100)","v":"0"},{"$f":"LEFT(F100)","v":"0"},{"$f":"LEFT(G100)","v":"0"},{"$f":"LEFT(H100)","v":"0"},{"$f":"LEFT(I100)","v":"0"},{"$f":"LEFT(J100)","v":"0"},{"$f":"LEFT(K100)","v":"0"},{"$f":"LEFT(L100)","v":"0"},{"$f":"LEFT(M100)","v":"0"},{"$f":"LEFT(N100)","v":"0"},{"$f":"LEFT(O100)","v":"0"},{"$f":"LEFT(P100)","v":"0"},{"$f":"LEFT(Q100)","v":"0"},{"$f":"LEFT(R100)","v":"0"},{"$f":"LEFT(S100)","v":"0"},{"$f":"LEFT(T100)","v":"0"},{"$f":"LEFT(U100)","v":"0"},{"$f":"LEFT(V100)","v":"0"},{"$f":"LEFT(W100)","v":"0"},{"$f":"LEFT(X100)","v":"0"},{"$f":"LEFT(Y100)","v":"0"},{"$f":"LEFT(Z100)","v":"0"},{"$f":"LEFT(AA100)","v":"0"},{"$f":"LEFT(AB100)","v":"0"},{"$f":"LEFT(AC100)","v":"0"},{"$f":"LEFT(AD100)","v":"0"},{"$f":"LEFT(AE100)","v":"0"},{"$f":"LEFT(AF100)","v":"0"},{"$f":"LEFT(AG100)","v":"0"},{"$f":"LEFT(AH100)","v":"0"},{"$f":"LEFT(AI100)","v":"0"},{"$f":"LEFT(AJ100)","v":"0"},{"$f":"LEFT(AK100)","v":"0"},{"$f":"LEFT(AL100)","v":"0"},{"$f":"LEFT(AM100)","v":"0"},{"$f":"LEFT(AN100)","v":"0"},{"$f":"LEFT(AO100)","v":"0"},{"$f":"LEFT(AP100)","v":"0"},{"$f":"LEFT(AQ100)","v":"0"},{"$f":"LEFT(AR100)","v":"0"},{"$f":"LEFT(AS100)","v":"0"},{"$f":"LEFT(AT100)","v":"0"},{"$f":"LEFT(AU100)","v":"0"},{"$f":"LEFT(AV100)","v":"0"},{"$f":"LEFT(AW100)","v":"0"},{"$f":"LEFT(AX100)","v":"0"},{"$f":"LEFT(AY100)","v":"0"},{"$f":"LEFT(AZ100)","v":"0"},{"$f":"LEFT(BA100)","v":"0"},{"$f":"LEFT(BB100)","v":"0"}]
[null,null,{"$f":"CONCATENATE(\"Timeout = T (\",B112,\"), Foul = F (\",B111,\") --->\")","v":"Timeout = T (0), Foul = F (0) --->"},{"$f":"LEFT(RIGHT(D100,LEN(D100)-1))","v":""},{"$f":"LEFT(RIGHT(E100,LEN(E100)-1))","v":""},"","","","","","","","","","","","","","","","","","","","","","","","","","","","","","","","","","","","","","","","","","","","","","","","",""]
[null,null,{"$f":"CONCATENATE(\"Timeout = T, Foul = F (\",B111,\") ---------->\")","v":"Timeout = T, Foul = F (0) ---------->"},{"$f":"LEFT(RIGHT(D100,LEN(D100)-2))","v":{"$error":"#VALUE!"}},{"$f":"LEFT(RIGHT(E100,LEN(E100)-2))","v":{"$error":"#VALUE!"}},{"$error":"#VALUE!"},{"$error":"#VALUE!"},{"$error":"#VALUE!"},{"$error":"#VALUE!"},{"$error":"#VALUE!"},{"$error":"#VALUE!"},{"$error":"#VALUE!"},{"$error":"#VALUE!"},{"$error":"#VALUE!"},{"$error":"#VALUE!"},{"$error":"#VALUE!"},{"$error":"#VALUE!"},{"$error":"#VALUE!"},{"$error":"#VALUE!"},{"$error":"#VALUE!"},{"$error":"#VALUE!"},{"$error":"#VALUE!"},{"$error":"#VALUE!"},{"$error":"#VALUE!"},{"$error":"#VALUE!"},{"$error":"#VALUE!"},{"$error":"#VALUE!"},{"$error":"#VALUE!"},{"$error":"#VALUE!"},{"$error":"#VALUE!"},{"$error":"#VALUE!"},{"$error":"#VALUE!"},{"$error":"#VALUE!"},{"$error":"#VALUE!"},{"$error":"#VALUE!"},{"$error":"#VALUE!"},{"$error":"#VALUE!"},{"$error":"#VALUE!"},{"$error":"#VALUE!"},{"$error":"#VALUE!"},{"$error":"#VALUE!"},{"$error":"#VALUE!"},{"$error":"#VALUE!"},{"$error":"#VALUE!"},{"$error":"#VALUE!"},{"$error":"#VALUE!"},{"$error":"#VALUE!"},{"$error":"#VALUE!"},{"$error":"#VALUE!"},{"$error":"#VALUE!"},{"$error":"#VALUE!"},{"$error":"#VALUE!"},{"$error":"#VALUE!"},{"$error":"#VALUE!"}]
[null,null,null,{"$f":"LEFT(RIGHT(D100,LEN(D100)-3))","v":{"$error":"#VALUE!"}},{"$f":"LEFT(RIGHT(E100,LEN(E100)-3))","v":{"$error":"#VALUE!"}},{"$error":"#VALUE!"},{"$error":"#VALUE!"},{"$error":"#VALUE!"},{"$error":"#VALUE!"},{"$error":"#VALUE!"},{"$error":"#VALUE!"},{"$error":"#VALUE!"},{"$error":"#VALUE!"},{"$error":"#VALUE!"},{"$error":"#VALUE!"},{"$error":"#VALUE!"},{"$error":"#VALUE!"},{"$error":"#VALUE!"},{"$error":"#VALUE!"},{"$error":"#VALUE!"},{"$error":"#VALUE!"},{"$error":"#VALUE!"},{"$error":"#VALUE!"},{"$error":"#VALUE!"},{"$error":"#VALUE!"},{"$error":"#VALUE!"},{"$error":"#VALUE!"},{"$error":"#VALUE!"},{"$error":"#VALUE!"},{"$error":"#VALUE!"},{"$error":"#VALUE!"},{"$error":"#VALUE!"},{"$error":"#VALUE!"},{"$error":"#VALUE!"},{"$error":"#VALUE!"},{"$error":"#VALUE!"},{"$error":"#VALUE!"},{"$error":"#VALUE!"},{"$error":"#VALUE!"},{"$error":"#VALUE!"},{"$error":"#VALUE!"},{"$error":"#VALUE!"},{"$error":"#VALUE!"},{"$error":"#VALUE!"},{"$error":"#VALUE!"},{"$error":"#VALUE!"},{"$error":"#VALUE!"},{"$error":"#VALUE!"},{"$error":"#VALUE!"},{"$error":"#VALUE!"},{"$error":"#VALUE!"},{"$error":"#VALUE!"},{"$error":"#VALUE!"},{"$error":"#VALUE!"}]
[null,null,null,{"$f":"LEFT(RIGHT(D100,LEN(D100)-4))","v":{"$error":"#VALUE!"}},{"$f":"LEFT(RIGHT(E100,LEN(E100)-4))","v":{"$error":"#VALUE!"}},{"$error":"#VALUE!"},{"$error":"#VALUE!"},{"$error":"#VALUE!"},{"$error":"#VALUE!"},{"$error":"#VALUE!"},{"$error":"#VALUE!"},{"$error":"#VALUE!"},{"$error":"#VALUE!"},{"$error":"#VALUE!"},{"$error":"#VALUE!"},{"$error":"#VALUE!"},{"$error":"#VALUE!"},{"$error":"#VALUE!"},{"$error":"#VALUE!"},{"$error":"#VALUE!"},{"$error":"#VALUE!"},{"$error":"#VALUE!"},{"$error":"#VALUE!"},{"$error":"#VALUE!"},{"$error":"#VALUE!"},{"$error":"#VALUE!"},{"$error":"#VALUE!"},{"$error":"#VALUE!"},{"$error":"#VALUE!"},{"$error":"#VALUE!"},{"$error":"#VALUE!"},{"$error":"#VALUE!"},{"$error":"#VALUE!"},{"$error":"#VALUE!"},{"$error":"#VALUE!"},{"$error":"#VALUE!"},{"$error":"#VALUE!"},{"$error":"#VALUE!"},{"$error":"#VALUE!"},{"$error":"#VALUE!"},{"$error":"#VALUE!"},{"$error":"#VALUE!"},{"$error":"#VALUE!"},{"$error":"#VALUE!"},{"$error":"#VALUE!"},{"$error":"#VALUE!"},{"$error":"#VALUE!"},{"$error":"#VALUE!"},{"$error":"#VALUE!"},{"$error":"#VALUE!"},{"$error":"#VALUE!"},{"$error":"#VALUE!"},{"$error":"#VALUE!"},{"$error":"#VALUE!"}]
[null,null,null,{"$f":"LEFT(RIGHT(D100,LEN(D100)-5))","v":{"$error":"#VALUE!"}},{"$f":"LEFT(RIGHT(E100,LEN(E100)-5))","v":{"$error":"#VALUE!"}},{"$error":"#VALUE!"},{"$error":"#VALUE!"},{"$error":"#VALUE!"},{"$error":"#VALUE!"},{"$error":"#VALUE!"},{"$error":"#VALUE!"},{"$error":"#VALUE!"},{"$error":"#VALUE!"},{"$error":"#VALUE!"},{"$error":"#VALUE!"},{"$error":"#VALUE!"},{"$error":"#VALUE!"},{"$error":"#VALUE!"},{"$error":"#VALUE!"},{"$error":"#VALUE!"},{"$error":"#VALUE!"},{"$error":"#VALUE!"},{"$error":"#VALUE!"},{"$error":"#VALUE!"},{"$error":"#VALUE!"},{"$error":"#VALUE!"},{"$error":"#VALUE!"},{"$error":"#VALUE!"},{"$error":"#VALUE!"},{"$error":"#VALUE!"},{"$error":"#VALUE!"},{"$error":"#VALUE!"},{"$error":"#VALUE!"},{"$error":"#VALUE!"},{"$error":"#VALUE!"},{"$error":"#VALUE!"},{"$error":"#VALUE!"},{"$error":"#VALUE!"},{"$error":"#VALUE!"},{"$error":"#VALUE!"},{"$error":"#VALUE!"},{"$error":"#VALUE!"},{"$error":"#VALUE!"},{"$error":"#VALUE!"},{"$error":"#VALUE!"},{"$error":"#VALUE!"},{"$error":"#VALUE!"},{"$error":"#VALUE!"},{"$error":"#VALUE!"},{"$error":"#VALUE!"},{"$error":"#VALUE!"},{"$error":"#VALUE!"},{"$error":"#VALUE!"},{"$error":"#VALUE!"}]
[null,null,null,{"$f":"LEFT(RIGHT(D100,LEN(D100)-6))","v":{"$error":"#VALUE!"}},{"$f":"LEFT(RIGHT(E100,LEN(E100)-6))","v":{"$error":"#VALUE!"}},{"$error":"#VALUE!"},{"$error":"#VALUE!"},{"$error":"#VALUE!"},{"$error":"#VALUE!"},{"$error":"#VALUE!"},{"$error":"#VALUE!"},{"$error":"#VALUE!"},{"$error":"#VALUE!"},{"$error":"#VALUE!"},{"$error":"#VALUE!"},{"$error":"#VALUE!"},{"$error":"#VALUE!"},{"$error":"#VALUE!"},{"$error":"#VALUE!"},{"$error":"#VALUE!"},{"$error":"#VALUE!"},{"$error":"#VALUE!"},{"$error":"#VALUE!"},{"$error":"#VALUE!"},{"$error":"#VALUE!"},{"$error":"#VALUE!"},{"$error":"#VALUE!"},{"$error":"#VALUE!"},{"$error":"#VALUE!"},{"$error":"#VALUE!"},{"$error":"#VALUE!"},{"$error":"#VALUE!"},{"$error":"#VALUE!"},{"$error":"#VALUE!"},{"$error":"#VALUE!"},{"$error":"#VALUE!"},{"$error":"#VALUE!"},{"$error":"#VALUE!"},{"$error":"#VALUE!"},{"$error":"#VALUE!"},{"$error":"#VALUE!"},{"$error":"#VALUE!"},{"$error":"#VALUE!"},{"$error":"#VALUE!"},{"$error":"#VALUE!"},{"$error":"#VALUE!"},{"$error":"#VALUE!"},{"$error":"#VALUE!"},{"$error":"#VALUE!"},{"$error":"#VALUE!"},{"$error":"#VALUE!"},{"$error":"#VALUE!"},{"$error":"#VALUE!"},{"$error":"#VALUE!"}]
[null,null,null,{"$f":"LEFT(RIGHT(D100,LEN(D100)-7))","v":{"$error":"#VALUE!"}},{"$f":"LEFT(RIGHT(E100,LEN(E100)-7))","v":{"$error":"#VALUE!"}},{"$error":"#VALUE!"},{"$error":"#VALUE!"},{"$error":"#VALUE!"},{"$error":"#VALUE!"},{"$error":"#VALUE!"},{"$error":"#VALUE!"},{"$error":"#VALUE!"},{"$error":"#VALUE!"},{"$error":"#VALUE!"},{"$error":"#VALUE!"},{"$error":"#VALUE!"},{"$error":"#VALUE!"},{"$error":"#VALUE!"},{"$error":"#VALUE!"},{"$error":"#VALUE!"},{"$error":"#VALUE!"},{"$error":"#VALUE!"},{"$error":"#VALUE!"},{"$error":"#VALUE!"},{"$error":"#VALUE!"},{"$error":"#VALUE!"},{"$error":"#VALUE!"},{"$error":"#VALUE!"},{"$error":"#VALUE!"},{"$error":"#VALUE!"},{"$error":"#VALUE!"},{"$error":"#VALUE!"},{"$error":"#VALUE!"},{"$error":"#VALUE!"},{"$error":"#VALUE!"},{"$error":"#VALUE!"},{"$error":"#VALUE!"},{"$error":"#VALUE!"},{"$error":"#VALUE!"},{"$error":"#VALUE!"},{"$error":"#VALUE!"},{"$error":"#VALUE!"},{"$error":"#VALUE!"},{"$error":"#VALUE!"},{"$error":"#VALUE!"},{"$error":"#VALUE!"},{"$error":"#VALUE!"},{"$error":"#VALUE!"},{"$error":"#VALUE!"},{"$error":"#VALUE!"},{"$error":"#VALUE!"},{"$error":"#VALUE!"},{"$error":"#VALUE!"},{"$error":"#VALUE!"}]
[null,null,null,{"$f":"LEFT(RIGHT(D100,LEN(D100)-8))","v":{"$error":"#VALUE!"}},{"$f":"LEFT(RIGHT(E100,LEN(E100)-8))","v":{"$error":"#VALUE!"}},{"$error":"#VALUE!"},{"$error":"#VALUE!"},{"$error":"#VALUE!"},{"$error":"#VALUE!"},{"$error":"#VALUE!"},{"$error":"#VALUE!"},{"$error":"#VALUE!"},{"$error":"#VALUE!"},{"$error":"#VALUE!"},{"$error":"#VALUE!"},{"$error":"#VALUE!"},{"$error":"#VALUE!"},{"$error":"#VALUE!"},{"$error":"#VALUE!"},{"$error":"#VALUE!"},{"$error":"#VALUE!"},{"$error":"#VALUE!"},{"$error":"#VALUE!"},{"$error":"#VALUE!"},{"$error":"#VALUE!"},{"$error":"#VALUE!"},{"$error":"#VALUE!"},{"$error":"#VALUE!"},{"$error":"#VALUE!"},{"$error":"#VALUE!"},{"$error":"#VALUE!"},{"$error":"#VALUE!"},{"$error":"#VALUE!"},{"$error":"#VALUE!"},{"$error":"#VALUE!"},{"$error":"#VALUE!"},{"$error":"#VALUE!"},{"$error":"#VALUE!"},{"$error":"#VALUE!"},{"$error":"#VALUE!"},{"$error":"#VALUE!"},{"$error":"#VALUE!"},{"$error":"#VALUE!"},{"$error":"#VALUE!"},{"$error":"#VALUE!"},{"$error":"#VALUE!"},{"$error":"#VALUE!"},{"$error":"#VALUE!"},{"$error":"#VALUE!"},{"$error":"#VALUE!"},{"$error":"#VALUE!"},{"$error":"#VALUE!"},{"$error":"#VALUE!"},{"$error":"#VALUE!"}]
[null,null,null,{"$f":"LEFT(RIGHT(D100,LEN(D100)-9))","v":{"$error":"#VALUE!"}},{"$f":"LEFT(RIGHT(E100,LEN(E100)-9))","v":{"$error":"#VALUE!"}},{"$error":"#VALUE!"},{"$error":"#VALUE!"},{"$error":"#VALUE!"},{"$error":"#VALUE!"},{"$error":"#VALUE!"},{"$error":"#VALUE!"},{"$error":"#VALUE!"},{"$error":"#VALUE!"},{"$error":"#VALUE!"},{"$error":"#VALUE!"},{"$error":"#VALUE!"},{"$error":"#VALUE!"},{"$error":"#VALUE!"},{"$error":"#VALUE!"},{"$error":"#VALUE!"},{"$error":"#VALUE!"},{"$error":"#VALUE!"},{"$error":"#VALUE!"},{"$error":"#VALUE!"},{"$error":"#VALUE!"},{"$error":"#VALUE!"},{"$error":"#VALUE!"},{"$error":"#VALUE!"},{"$error":"#VALUE!"},{"$error":"#VALUE!"},{"$error":"#VALUE!"},{"$error":"#VALUE!"},{"$error":"#VALUE!"},{"$error":"#VALUE!"},{"$error":"#VALUE!"},{"$error":"#VALUE!"},{"$error":"#VALUE!"},{"$error":"#VALUE!"},{"$error":"#VALUE!"},{"$error":"#VALUE!"},{"$error":"#VALUE!"},{"$error":"#VALUE!"},{"$error":"#VALUE!"},{"$error":"#VALUE!"},{"$error":"#VALUE!"},{"$error":"#VALUE!"},{"$error":"#VALUE!"},{"$error":"#VALUE!"},{"$error":"#VALUE!"},{"$error":"#VALUE!"},{"$error":"#VALUE!"},{"$error":"#VALUE!"},{"$error":"#VALUE!"},{"$error":"#VALUE!"}]
[null,{"$f":"SUM(D111:BB111)","v":0},"# F's",{"$f":"COUNTIF(D101:D110,\"F\")","v":0},{"$f":"COUNTIF(E101:E110,\"F\")","v":0},{"$f":"COUNTIF(F101:F110,\"F\")","v":0},{"$f":"COUNTIF(G101:G110,\"F\")","v":0},{"$f":"COUNTIF(H101:H110,\"F\")","v":0},{"$f":"COUNTIF(I101:I110,\"F\")","v":0},{"$f":"COUNTIF(J101:J110,\"F\")","v":0},{"$f":"COUNTIF(K101:K110,\"F\")","v":0},{"$f":"COUNTIF(L101:L110,\"F\")","v":0},{"$f":"COUNTIF(M101:M110,\"F\")","v":0},{"$f":"COUNTIF(N101:N110,\"F\")","v":0},{"$f":"COUNTIF(O101:O110,\"F\")","v":0},{"$f":"COUNTIF(P101:P110,\"F\")","v":0},{"$f":"COUNTIF(Q101:Q110,\"F\")","v":0},{"$f":"COUNTIF(R101:R110,\"F\")","v":0},{"$f":"COUNTIF(S101:S110,\"F\")","v":0},{"$f":"COUNTIF(T101:T110,\"F\")","v":0},{"$f":"COUNTIF(U101:U110,\"F\")","v":0},{"$f":"COUNTIF(V101:V110,\"F\")","v":0},{"$f":"COUNTIF(W101:W110,\"F\")","v":0},{"$f":"COUNTIF(X101:X110,\"F\")","v":0},{"$f":"COUNTIF(Y101:Y110,\"F\")","v":0},{"$f":"COUNTIF(Z101:Z110,\"F\")","v":0},{"$f":"COUNTIF(AA101:AA110,\"F\")","v":0},{"$f":"COUNTIF(AB101:AB110,\"F\")","v":0},{"$f":"COUNTIF(AC101:AC110,\"F\")","v":0},{"$f":"COUNTIF(AD101:AD110,\"F\")","v":0},{"$f":"COUNTIF(AE101:AE110,\"F\")","v":0},{"$f":"COUNTIF(AF101:AF110,\"F\")","v":0},{"$f":"COUNTIF(AG101:AG110,\"F\")","v":0},{"$f":"COUNTIF(AH101:AH110,\"F\")","v":0},{"$f":"COUNTIF(AI101:AI110,\"F\")","v":0},{"$f":"COUNTIF(AJ101:AJ110,\"F\")","v":0},{"$f":"COUNTIF(AK101:AK110,\"F\")","v":0},{"$f":"COUNTIF(AL101:AL110,\"F\")","v":0},{"$f":"COUNTIF(AM101:AM110,\"F\")","v":0},{"$f":"COUNTIF(AN101:AN110,\"F\")","v":0},{"$f":"COUNTIF(AO101:AO110,\"F\")","v":0},{"$f":"COUNTIF(AP101:AP110,\"F\")","v":0},{"$f":"COUNTIF(AQ101:AQ110,\"F\")","v":0},{"$f":"COUNTIF(AR101:AR110,\"F\")","v":0},{"$f":"COUNTIF(AS101:AS110,\"F\")","v":0},{"$f":"COUNTIF(AT101:AT110,\"F\")","v":0},{"$f":"COUNTIF(AU101:AU110,\"F\")","v":0},{"$f":"COUNTIF(AV101:AV110,\"F\")","v":0},{"$f":"COUNTIF(AW101:AW110,\"F\")","v":0},{"$f":"COUNTIF(AX101:AX110,\"F\")","v":0},{"$f":"COUNTIF(AY101:AY110,\"F\")","v":0},{"$f":"COUNTIF(AZ101:AZ110,\"F\")","v":0},{"$f":"COUNTIF(BA101:BA110,\"F\")","v":0},{"$f":"COUNTIF(BB101:BB110,\"F\")","v":0}]
[null,{"$f":"SUM(D112:BB112)","v":0},"# T's",{"$f":"COUNTIF(D101:D110,\"T\")","v":0},{"$f":"COUNTIF(E101:E110,\"T\")","v":0},0,0,0,0,0,0,0,0,0,0,0,0,0,0,0,0,0,0,0,0,0,0,0,0,0,0,0,0,0,0,0,0,0,0,0,0,0,0,0,0,0,0,0,0,0,0,0,0,0]
[null,null,"foul points",{"$f":"IF(D111=0,0,D111*-10+10)","v":0},{"$f":"IF(E111=0,0,IF(D111=0,E111*-10+10,E111*-10))","v":0},{"$f":"IF(F111=0,0,IF(D111+E111=0,F111*-10+10,F111*-10))","v":0},{"$f":"IF(G111=0,0,IF(SUM($D111:F111)=0,G111*-10+10,G111*-10))","v":0},{"$f":"IF(H111=0,0,IF(SUM($D111:G111)=0,H111*-10+10,H111*-10))","v":0},{"$f":"IF(I111=0,0,IF(SUM($D111:H111)=0,I111*-10+10,I111*-10))","v":0},{"$f":"IF(J111=0,0,IF(SUM($D111:I111)=0,J111*-10+10,J111*-10))","v":0},{"$f":"IF(K111=0,0,IF(SUM($D111:J111)=0,K111*-10+10,K111*-10))","v":0},{"$f":"IF(L111=0,0,IF(SUM($D111:K111)=0,L111*-10+10,L111*-10))","v":0},{"$f":"IF(M111=0,0,IF(SUM($D111:L111)=0,M111*-10+10,M111*-10))","v":0},{"$f":"IF(N111=0,0,IF(SUM($D111:M111)=0,N111*-10+10,N111*-10))","v":0},{"$f":"IF(O111=0,0,IF(SUM($D111:N111)=0,O111*-10+10,O111*-10))","v":0},{"$f":"IF(P111=0,0,IF(SUM($D111:O111)=0,P111*-10+10,P111*-10))","v":0},{"$f":"IF(Q111=0,0,IF(SUM($D111:P111)=0,Q111*-10+10,Q111*-10))","v":0},{"$f":"IF(R111=0,0,IF(SUM($D111:Q111)=0,R111*-10+10,R111*-10))","v":0},{"$f":"IF(S111=0,0,IF(SUM($D111:R111)=0,S111*-10+10,S111*-10))","v":0},{"$f":"IF(T111=0,0,IF(SUM($D111:S111)=0,T111*-10+10,T111*-10))","v":0},{"$f":"IF(U111=0,0,IF(SUM($D111:T111)=0,U111*-10+10,U111*-10))","v":0},{"$f":"IF(V111=0,0,IF(SUM($D111:U111)=0,V111*-10+10,V111*-10))","v":0},{"$f":"IF(W111=0,0,IF(SUM($D111:V111)=0,W111*-10+10,W111*-10))","v":0},{"$f":"IF(X111=0,0,IF(SUM($D111:W111)=0,X111*-10+10,X111*-10))","v":0},{"$f":"IF(Y111=0,0,IF(SUM($D111:X111)=0,Y111*-10+10,Y111*-10))","v":0},{"$f":"IF(Z111=0,0,IF(SUM($D111:Y111)=0,Z111*-10+10,Z111*-10))","v":0},{"$f":"IF(AA111=0,0,IF(SUM($D111:Z111)=0,AA111*-10+10,AA111*-10))","v":0},{"$f":"IF(AB111=0,0,IF(SUM($D111:AA111)=0,AB111*-10+10,AB111*-10))","v":0},{"$f":"IF(AC111=0,0,IF(SUM($D111:AB111)=0,AC111*-10+10,AC111*-10))","v":0},{"$f":"IF(AD111=0,0,IF(SUM($D111:AC111)=0,AD111*-10+10,AD111*-10))","v":0},{"$f":"IF(AE111=0,0,IF(SUM($D111:AD111)=0,AE111*-10+10,AE111*-10))","v":0},{"$f":"IF(AF111=0,0,IF(SUM($D111:AE111)=0,AF111*-10+10,AF111*-10))","v":0},{"$f":"IF(AG111=0,0,IF(SUM($D111:AF111)=0,AG111*-10+10,AG111*-10))","v":0},{"$f":"IF(AH111=0,0,IF(SUM($D111:AG111)=0,AH111*-10+10,AH111*-10))","v":0},{"$f":"IF(AI111=0,0,IF(SUM($D111:AH111)=0,AI111*-10+10,AI111*-10))","v":0},{"$f":"IF(AJ111=0,0,IF(SUM($D111:AI111)=0,AJ111*-10+10,AJ111*-10))","v":0},{"$f":"IF(AK111=0,0,IF(SUM($D111:AJ111)=0,AK111*-10+10,AK111*-10))","v":0},{"$f":"IF(AL111=0,0,IF(SUM($D111:AK111)=0,AL111*-10+10,AL111*-10))","v":0},{"$f":"IF(AM111=0,0,IF(SUM($D111:AL111)=0,AM111*-10+10,AM111*-10))","v":0},{"$f":"IF(AN111=0,0,IF(SUM($D111:AM111)=0,AN111*-10+10,AN111*-10))","v":0},{"$f":"IF(AO111=0,0,IF(SUM($D111:AN111)=0,AO111*-10+10,AO111*-10))","v":0},{"$f":"IF(AP111=0,0,IF(SUM($D111:AO111)=0,AP111*-10+10,AP111*-10))","v":0},{"$f":"IF(AQ111=0,0,IF(SUM($D111:AP111)=0,AQ111*-10+10,AQ111*-10))","v":0},{"$f":"IF(AR111=0,0,IF(SUM($D111:AQ111)=0,AR111*-10+10,AR111*-10))","v":0},{"$f":"IF(AS111=0,0,IF(SUM($D111:AR111)=0,AS111*-10+10,AS111*-10))","v":0},{"$f":"IF(AT111=0,0,IF(SUM($D111:AS111)=0,AT111*-10+10,AT111*-10))","v":0},{"$f":"IF(AU111=0,0,IF(SUM($D111:AT111)=0,AU111*-10+10,AU111*-10))","v":0},{"$f":"IF(AV111=0,0,IF(SUM($D111:AU111)=0,AV111*-10+10,AV111*-10))","v":0},{"$f":"IF(AW111=0,0,IF(SUM($D111:AV111)=0,AW111*-10+10,AW111*-10))","v":0},{"$f":"IF(AX111=0,0,IF(SUM($D111:AW111)=0,AX111*-10+10,AX111*-10))","v":0},{"$f":"IF(AY111=0,0,IF(SUM($D111:AX111)=0,AY111*-10+10,AY111*-10))","v":0},{"$f":"IF(AZ111=0,0,IF(SUM($D111:AY111)=0,AZ111*-10+10,AZ111*-10))","v":0},{"$f":"IF(BA111=0,0,IF(SUM($D111:AZ111)=0,BA111*-10+10,BA111*-10))","v":0},{"$f":"IF(BB111=0,0,IF(SUM($D111:BA111)=0,BB111*-10+10,BB111*-10))","v":0}]
[]
[]
[]
[]
[]
[]
[]
[null,null,"Timeout = T, Foul = F ------------>",{"$f":"Scoresheet!D64","v":0},{"$f":"Scoresheet!E64","v":0},{"$f":"Scoresheet!F64","v":0},{"$f":"Scoresheet!G64","v":0},{"$f":"Scoresheet!H64","v":0},{"$f":"Scoresheet!I64","v":0},{"$f":"Scoresheet!J64","v":0},{"$f":"Scoresheet!K64","v":0},{"$f":"Scoresheet!L64","v":0},{"$f":"Scoresheet!M64","v":0},{"$f":"Scoresheet!N64","v":0},{"$f":"Scoresheet!O64","v":0},{"$f":"Scoresheet!P64","v":0},{"$f":"Scoresheet!Q64","v":0},{"$f":"Scoresheet!R64","v":0},{"$f":"Scoresheet!S64","v":0},{"$f":"Scoresheet!T64","v":0},{"$f":"Scoresheet!U64","v":0},{"$f":"Scoresheet!V64","v":0},{"$f":"Scoresheet!W64","v":0},{"$f":"Scoresheet!X64","v":0},{"$f":"Scoresheet!Y64","v":0},{"$f":"Scoresheet!Z64","v":0},{"$f":"Scoresheet!AA64","v":0},{"$f":"Scoresheet!AB64","v":0},{"$f":"Scoresheet!AC64","v":0},{"$f":"Scoresheet!AD64","v":0},{"$f":"Scoresheet!AE64","v":0},{"$f":"Scoresheet!AF64","v":0},{"$f":"Scoresheet!AG64","v":0},{"$f":"Scoresheet!AH64","v":0},{"$f":"Scoresheet!AI64","v":0},{"$f":"Scoresheet!AJ64","v":0},{"$f":"Scoresheet!AK64","v":0},{"$f":"Scoresheet!AL64","v":0},{"$f":"Scoresheet!AM64","v":0},{"$f":"Scoresheet!AN64","v":0},{"$f":"Scoresheet!AO64","v":0},{"$f":"Scoresheet!AP64","v":0},{"$f":"Scoresheet!AQ64","v":0},{"$f":"Scoresheet!AR64","v":0},{"$f":"Scoresheet!AS64","v":0},{"$f":"Scoresheet!AT64","v":0},{"$f":"Scoresheet!AU64","v":0},{"$f":"Scoresheet!AV64","v":0},{"$f":"Scoresheet!AW64","v":0},{"$f":"Scoresheet!AX64","v":0},{"$f":"Scoresheet!AY64","v":0},{"$f":"Scoresheet!AZ64","v":0},{"$f":"Scoresheet!BA64","v":0},{"$f":"Scoresheet!BB64","v":0}]
[null,null,{"$f":"CONCATENATE(\"Timeout = T (\",B133,\"), Foul = F ---------->\")","v":"Timeout = T (0), Foul = F ---------->"},{"$f":"LEFT(D121)","v":"0"},{"$f":"LEFT(E121)","v":"0"},{"$f":"LEFT(F121)","v":"0"},{"$f":"LEFT(G121)","v":"0"},{"$f":"LEFT(H121)","v":"0"},{"$f":"LEFT(I121)","v":"0"},{"$f":"LEFT(J121)","v":"0"},{"$f":"LEFT(K121)","v":"0"},{"$f":"LEFT(L121)","v":"0"},{"$f":"LEFT(M121)","v":"0"},{"$f":"LEFT(N121)","v":"0"},{"$f":"LEFT(O121)","v":"0"},{"$f":"LEFT(P121)","v":"0"},{"$f":"LEFT(Q121)","v":"0"},{"$f":"LEFT(R121)","v":"0"},{"$f":"LEFT(S121)","v":"0"},{"$f":"LEFT(T121)","v":"0"},{"$f":"LEFT(U121)","v":"0"},{"$f":"LEFT(V121)","v":"0"},{"$f":"LEFT(W121)","v":"0"},{"$f":"LEFT(X121)","v":"0"},{"$f":"LEFT(Y121)","v":"0"},{"$f":"LEFT(Z121)","v":"0"},{"$f":"LEFT(AA121)","v":"0"},{"$f":"LEFT(AB121)","v":"0"},{"$f":"LEFT(AC121)","v":"0"},{"$f":"LEFT(AD121)","v":"0"},{"$f":"LEFT(AE121)","v":"0"},{"$f":"LEFT(AF121)","v":"0"},{"$f":"LEFT(AG121)","v":"0"},{"$f":"LEFT(AH121)","v":"0"},{"$f":"LEFT(AI121)","v":"0"},{"$f":"LEFT(AJ121)","v":"0"},{"$f":"LEFT(AK121)","v":"0"},{"$f":"LEFT(AL121)","v":"0"},{"$f":"LEFT(AM121)","v":"0"},{"$f":"LEFT(AN121)","v":"0"},{"$f":"LEFT(AO121)","v":"0"},{"$f":"LEFT(AP121)","v":"0"},{"$f":"LEFT(AQ121)","v":"0"},{"$f":"LEFT(AR121)","v":"0"},{"$f":"LEFT(AS121)","v":"0"},{"$f":"LEFT(AT121)","v":"0"},{"$f":"LEFT(AU121)","v":"0"},{"$f":"LEFT(AV121)","v":"0"},{"$f":"LEFT(AW121)","v":"0"},{"$f":"LEFT(AX121)","v":"0"},{"$f":"LEFT(AY121)","v":"0"},{"$f":"LEFT(AZ121)","v":"0"},{"$f":"LEFT(BA121)","v":"0"},{"$f":"LEFT(BB121)","v":"0"}]
[null,null,{"$f":"CONCATENATE(\"Timeout = T (\",B133,\"), Foul = F (\",B132,\") --->\")","v":"Timeout = T (0), Foul = F (0) --->"},{"$f":"LEFT(RIGHT(D121,LEN(D121)-1))","v":""},{"$f":"LEFT(RIGHT(E121,LEN(E121)-1))","v":""},"","","","","","","","","","","","","","","","","","","","","","","","","","","","","","","","","","","","","","","","","","","","","","","","",""]
[null,null,{"$f":"CONCATENATE(\"Timeout = T, Foul = F (\",B132,\") ---------->\")","v":"Timeout = T, Foul = F (0) ---------->"},{"$f":"LEFT(RIGHT(D121,LEN(D121)-2))","v":{"$error":"#VALUE!"}},{"$f":"LEFT(RIGHT(E121,LEN(E121)-2))","v":{"$error":"#VALUE!"}},{"$error":"#VALUE!"},{"$error":"#VALUE!"},{"$error":"#VALUE!"},{"$error":"#VALUE!"},{"$error":"#VALUE!"},{"$error":"#VALUE!"},{"$error":"#VALUE!"},{"$error":"#VALUE!"},{"$error":"#VALUE!"},{"$error":"#VALUE!"},{"$error":"#VALUE!"},{"$error":"#VALUE!"},{"$error":"#VALUE!"},{"$error":"#VALUE!"},{"$error":"#VALUE!"},{"$error":"#VALUE!"},{"$error":"#VALUE!"},{"$error":"#VALUE!"},{"$error":"#VALUE!"},{"$error":"#VALUE!"},{"$error":"#VALUE!"},{"$error":"#VALUE!"},{"$error":"#VALUE!"},{"$error":"#VALUE!"},{"$error":"#VALUE!"},{"$error":"#VALUE!"},{"$error":"#VALUE!"},{"$error":"#VALUE!"},{"$error":"#VALUE!"},{"$error":"#VALUE!"},{"$error":"#VALUE!"},{"$error":"#VALUE!"},{"$error":"#VALUE!"},{"$error":"#VALUE!"},{"$error":"#VALUE!"},{"$error":"#VALUE!"},{"$error":"#VALUE!"},{"$error":"#VALUE!"},{"$error":"#VALUE!"},{"$error":"#VALUE!"},{"$error":"#VALUE!"},{"$error":"#VALUE!"},{"$error":"#VALUE!"},{"$error":"#VALUE!"},{"$error":"#VALUE!"},{"$error":"#VALUE!"},{"$error":"#VALUE!"},{"$error":"#VALUE!"},{"$error":"#VALUE!"}]
[null,null,null,{"$f":"LEFT(RIGHT(D121,LEN(D121)-3))","v":{"$error":"#VALUE!"}},{"$f":"LEFT(RIGHT(E121,LEN(E121)-3))","v":{"$error":"#VALUE!"}},{"$error":"#VALUE!"},{"$error":"#VALUE!"},{"$error":"#VALUE!"},{"$error":"#VALUE!"},{"$error":"#VALUE!"},{"$error":"#VALUE!"},{"$error":"#VALUE!"},{"$error":"#VALUE!"},{"$error":"#VALUE!"},{"$error":"#VALUE!"},{"$error":"#VALUE!"},{"$error":"#VALUE!"},{"$error":"#VALUE!"},{"$error":"#VALUE!"},{"$error":"#VALUE!"},{"$error":"#VALUE!"},{"$error":"#VALUE!"},{"$error":"#VALUE!"},{"$error":"#VALUE!"},{"$error":"#VALUE!"},{"$error":"#VALUE!"},{"$error":"#VALUE!"},{"$error":"#VALUE!"},{"$error":"#VALUE!"},{"$error":"#VALUE!"},{"$error":"#VALUE!"},{"$error":"#VALUE!"},{"$error":"#VALUE!"},{"$error":"#VALUE!"},{"$error":"#VALUE!"},{"$error":"#VALUE!"},{"$error":"#VALUE!"},{"$error":"#VALUE!"},{"$error":"#VALUE!"},{"$error":"#VALUE!"},{"$error":"#VALUE!"},{"$error":"#VALUE!"},{"$error":"#VALUE!"},{"$error":"#VALUE!"},{"$error":"#VALUE!"},{"$error":"#VALUE!"},{"$error":"#VALUE!"},{"$error":"#VALUE!"},{"$error":"#VALUE!"},{"$error":"#VALUE!"},{"$error":"#VALUE!"},{"$error":"#VALUE!"},{"$error":"#VALUE!"},{"$error":"#VALUE!"}]
[null,null,null,{"$f":"LEFT(RIGHT(D121,LEN(D121)-4))","v":{"$error":"#VALUE!"}},{"$f":"LEFT(RIGHT(E121,LEN(E121)-4))","v":{"$error":"#VALUE!"}},{"$error":"#VALUE!"},{"$error":"#VALUE!"},{"$error":"#VALUE!"},{"$error":"#VALUE!"},{"$error":"#VALUE!"},{"$error":"#VALUE!"},{"$error":"#VALUE!"},{"$error":"#VALUE!"},{"$error":"#VALUE!"},{"$error":"#VALUE!"},{"$error":"#VALUE!"},{"$error":"#VALUE!"},{"$error":"#VALUE!"},{"$error":"#VALUE!"},{"$error":"#VALUE!"},{"$error":"#VALUE!"},{"$error":"#VALUE!"},{"$error":"#VALUE!"},{"$error":"#VALUE!"},{"$error":"#VALUE!"},{"$error":"#VALUE!"},{"$error":"#VALUE!"},{"$error":"#VALUE!"},{"$error":"#VALUE!"},{"$error":"#VALUE!"},{"$error":"#VALUE!"},{"$error":"#VALUE!"},{"$error":"#VALUE!"},{"$error":"#VALUE!"},{"$error":"#VALUE!"},{"$error":"#VALUE!"},{"$error":"#VALUE!"},{"$error":"#VALUE!"},{"$error":"#VALUE!"},{"$error":"#VALUE!"},{"$error":"#VALUE!"},{"$error":"#VALUE!"},{"$error":"#VALUE!"},{"$error":"#VALUE!"},{"$error":"#VALUE!"},{"$error":"#VALUE!"},{"$error":"#VALUE!"},{"$error":"#VALUE!"},{"$error":"#VALUE!"},{"$error":"#VALUE!"},{"$error":"#VALUE!"},{"$error":"#VALUE!"},{"$error":"#VALUE!"},{"$error":"#VALUE!"}]
[null,null,null,{"$f":"LEFT(RIGHT(D121,LEN(D121)-5))","v":{"$error":"#VALUE!"}},{"$f":"LEFT(RIGHT(E121,LEN(E121)-5))","v":{"$error":"#VALUE!"}},{"$error":"#VALUE!"},{"$error":"#VALUE!"},{"$error":"#VALUE!"},{"$error":"#VALUE!"},{"$error":"#VALUE!"},{"$error":"#VALUE!"},{"$error":"#VALUE!"},{"$error":"#VALUE!"},{"$error":"#VALUE!"},{"$error":"#VALUE!"},{"$error":"#VALUE!"},{"$error":"#VALUE!"},{"$error":"#VALUE!"},{"$error":"#VALUE!"},{"$error":"#VALUE!"},{"$error":"#VALUE!"},{"$error":"#VALUE!"},{"$error":"#VALUE!"},{"$error":"#VALUE!"},{"$error":"#VALUE!"},{"$error":"#VALUE!"},{"$error":"#VALUE!"},{"$error":"#VALUE!"},{"$error":"#VALUE!"},{"$error":"#VALUE!"},{"$error":"#VALUE!"},{"$error":"#VALUE!"},{"$error":"#VALUE!"},{"$error":"#VALUE!"},{"$error":"#VALUE!"},{"$error":"#VALUE!"},{"$error":"#VALUE!"},{"$error":"#VALUE!"},{"$error":"#VALUE!"},{"$error":"#VALUE!"},{"$error":"#VALUE!"},{"$error":"#VALUE!"},{"$error":"#VALUE!"},{"$error":"#VALUE!"},{"$error":"#VALUE!"},{"$error":"#VALUE!"},{"$error":"#VALUE!"},{"$error":"#VALUE!"},{"$error":"#VALUE!"},{"$error":"#VALUE!"},{"$error":"#VALUE!"},{"$error":"#VALUE!"},{"$error":"#VALUE!"},{"$error":"#VALUE!"}]
[null,null,null,{"$f":"LEFT(RIGHT(D121,LEN(D121)-6))","v":{"$error":"#VALUE!"}},{"$f":"LEFT(RIGHT(E121,LEN(E121)-6))","v":{"$error":"#VALUE!"}},{"$error":"#VALUE!"},{"$error":"#VALUE!"},{"$error":"#VALUE!"},{"$error":"#VALUE!"},{"$error":"#VALUE!"},{"$error":"#VALUE!"},{"$error":"#VALUE!"},{"$error":"#VALUE!"},{"$error":"#VALUE!"},{"$error":"#VALUE!"},{"$error":"#VALUE!"},{"$error":"#VALUE!"},{"$error":"#VALUE!"},{"$error":"#VALUE!"},{"$error":"#VALUE!"},{"$error":"#VALUE!"},{"$error":"#VALUE!"},{"$error":"#VALUE!"},{"$error":"#VALUE!"},{"$error":"#VALUE!"},{"$error":"#VALUE!"},{"$error":"#VALUE!"},{"$error":"#VALUE!"},{"$error":"#VALUE!"},{"$error":"#VALUE!"},{"$error":"#VALUE!"},{"$error":"#VALUE!"},{"$error":"#VALUE!"},{"$error":"#VALUE!"},{"$error":"#VALUE!"},{"$error":"#VALUE!"},{"$error":"#VALUE!"},{"$error":"#VALUE!"},{"$error":"#VALUE!"},{"$error":"#VALUE!"},{"$error":"#VALUE!"},{"$error":"#VALUE!"},{"$error":"#VALUE!"},{"$error":"#VALUE!"},{"$error":"#VALUE!"},{"$error":"#VALUE!"},{"$error":"#VALUE!"},{"$error":"#VALUE!"},{"$error":"#VALUE!"},{"$error":"#VALUE!"},{"$error":"#VALUE!"},{"$error":"#VALUE!"},{"$error":"#VALUE!"},{"$error":"#VALUE!"}]
[null,null,null,{"$f":"LEFT(RIGHT(D121,LEN(D121)-7))","v":{"$error":"#VALUE!"}},{"$f":"LEFT(RIGHT(E121,LEN(E121)-7))","v":{"$error":"#VALUE!"}},{"$error":"#VALUE!"},{"$error":"#VALUE!"},{"$error":"#VALUE!"},{"$error":"#VALUE!"},{"$error":"#VALUE!"},{"$error":"#VALUE!"},{"$error":"#VALUE!"},{"$error":"#VALUE!"},{"$error":"#VALUE!"},{"$error":"#VALUE!"},{"$error":"#VALUE!"},{"$error":"#VALUE!"},{"$error":"#VALUE!"},{"$error":"#VALUE!"},{"$error":"#VALUE!"},{"$error":"#VALUE!"},{"$error":"#VALUE!"},{"$error":"#VALUE!"},{"$error":"#VALUE!"},{"$error":"#VALUE!"},{"$error":"#VALUE!"},{"$error":"#VALUE!"},{"$error":"#VALUE!"},{"$error":"#VALUE!"},{"$error":"#VALUE!"},{"$error":"#VALUE!"},{"$error":"#VALUE!"},{"$error":"#VALUE!"},{"$error":"#VALUE!"},{"$error":"#VALUE!"},{"$error":"#VALUE!"},{"$error":"#VALUE!"},{"$error":"#VALUE!"},{"$error":"#VALUE!"},{"$error":"#VALUE!"},{"$error":"#VALUE!"},{"$error":"#VALUE!"},{"$error":"#VALUE!"},{"$error":"#VALUE!"},{"$error":"#VALUE!"},{"$error":"#VALUE!"},{"$error":"#VALUE!"},{"$error":"#VALUE!"},{"$error":"#VALUE!"},{"$error":"#VALUE!"},{"$error":"#VALUE!"},{"$error":"#VALUE!"},{"$error":"#VALUE!"},{"$error":"#VALUE!"}]
[null,null,null,{"$f":"LEFT(RIGHT(D121,LEN(D121)-8))","v":{"$error":"#VALUE!"}},{"$f":"LEFT(RIGHT(E121,LEN(E121)-8))","v":{"$error":"#VALUE!"}},{"$error":"#VALUE!"},{"$error":"#VALUE!"},{"$error":"#VALUE!"},{"$error":"#VALUE!"},{"$error":"#VALUE!"},{"$error":"#VALUE!"},{"$error":"#VALUE!"},{"$error":"#VALUE!"},{"$error":"#VALUE!"},{"$error":"#VALUE!"},{"$error":"#VALUE!"},{"$error":"#VALUE!"},{"$error":"#VALUE!"},{"$error":"#VALUE!"},{"$error":"#VALUE!"},{"$error":"#VALUE!"},{"$error":"#VALUE!"},{"$error":"#VALUE!"},{"$error":"#VALUE!"},{"$error":"#VALUE!"},{"$error":"#VALUE!"},{"$error":"#VALUE!"},{"$error":"#VALUE!"},{"$error":"#VALUE!"},{"$error":"#VALUE!"},{"$error":"#VALUE!"},{"$error":"#VALUE!"},{"$error":"#VALUE!"},{"$error":"#VALUE!"},{"$error":"#VALUE!"},{"$error":"#VALUE!"},{"$error":"#VALUE!"},{"$error":"#VALUE!"},{"$error":"#VALUE!"},{"$error":"#VALUE!"},{"$error":"#VALUE!"},{"$error":"#VALUE!"},{"$error":"#VALUE!"},{"$error":"#VALUE!"},{"$error":"#VALUE!"},{"$error":"#VALUE!"},{"$error":"#VALUE!"},{"$error":"#VALUE!"},{"$error":"#VALUE!"},{"$error":"#VALUE!"},{"$error":"#VALUE!"},{"$error":"#VALUE!"},{"$error":"#VALUE!"},{"$error":"#VALUE!"}]
[null,null,null,{"$f":"LEFT(RIGHT(D121,LEN(D121)-9))","v":{"$error":"#VALUE!"}},{"$f":"LEFT(RIGHT(E121,LEN(E121)-9))","v":{"$error":"#VALUE!"}},{"$error":"#VALUE!"},{"$error":"#VALUE!"},{"$error":"#VALUE!"},{"$error":"#VALUE!"},{"$error":"#VALUE!"},{"$error":"#VALUE!"},{"$error":"#VALUE!"},{"$error":"#VALUE!"},{"$error":"#VALUE!"},{"$error":"#VALUE!"},{"$error":"#VALUE!"},{"$error":"#VALUE!"},{"$error":"#VALUE!"},{"$error":"#VALUE!"},{"$error":"#VALUE!"},{"$error":"#VALUE!"},{"$error":"#VALUE!"},{"$error":"#VALUE!"},{"$error":"#VALUE!"},{"$error":"#VALUE!"},{"$error":"#VALUE!"},{"$error":"#VALUE!"},{"$error":"#VALUE!"},{"$error":"#VALUE!"},{"$error":"#VALUE!"},{"$error":"#VALUE!"},{"$error":"#VALUE!"},{"$error":"#VALUE!"},{"$error":"#VALUE!"},{"$error":"#VALUE!"},{"$error":"#VALUE!"},{"$error":"#VALUE!"},{"$error":"#VALUE!"},{"$error":"#VALUE!"},{"$error":"#VALUE!"},{"$error":"#VALUE!"},{"$error":"#VALUE!"},{"$error":"#VALUE!"},{"$error":"#VALUE!"},{"$error":"#VALUE!"},{"$error":"#VALUE!"},{"$error":"#VALUE!"},{"$error":"#VALUE!"},{"$error":"#VALUE!"},{"$error":"#VALUE!"},{"$error":"#VALUE!"},{"$error":"#VALUE!"},{"$error":"#VALUE!"},{"$error":"#VALUE!"}]
[null,{"$f":"SUM(D132:BB132)","v":0},"# F's",{"$f":"COUNTIF(D122:D131,\"F\")","v":0},{"$f":"COUNTIF(E122:E131,\"F\")","v":0},{"$f":"COUNTIF(F122:F131,\"F\")","v":0},{"$f":"COUNTIF(G122:G131,\"F\")","v":0},{"$f":"COUNTIF(H122:H131,\"F\")","v":0},{"$f":"COUNTIF(I122:I131,\"F\")","v":0},{"$f":"COUNTIF(J122:J131,\"F\")","v":0},{"$f":"COUNTIF(K122:K131,\"F\")","v":0},{"$f":"COUNTIF(L122:L131,\"F\")","v":0},{"$f":"COUNTIF(M122:M131,\"F\")","v":0},{"$f":"COUNTIF(N122:N131,\"F\")","v":0},{"$f":"COUNTIF(O122:O131,\"F\")","v":0},{"$f":"COUNTIF(P122:P131,\"F\")","v":0},{"$f":"COUNTIF(Q122:Q131,\"F\")","v":0},{"$f":"COUNTIF(R122:R131,\"F\")","v":0},{"$f":"COUNTIF(S122:S131,\"F\")","v":0},{"$f":"COUNTIF(T122:T131,\"F\")","v":0},{"$f":"COUNTIF(U122:U131,\"F\")","v":0},{"$f":"COUNTIF(V122:V131,\"F\")","v":0},{"$f":"COUNTIF(W122:W131,\"F\")","v":0},{"$f":"COUNTIF(X122:X131,\"F\")","v":0},{"$f":"COUNTIF(Y122:Y131,\"F\")","v":0},{"$f":"COUNTIF(Z122:Z131,\"F\")","v":0},{"$f":"COUNTIF(AA122:AA131,\"F\")","v":0},{"$f":"COUNTIF(AB122:AB131,\"F\")","v":0},{"$f":"COUNTIF(AC122:AC131,\"F\")","v":0},{"$f":"COUNTIF(AD122:AD131,\"F\")","v":0},{"$f":"COUNTIF(AE122:AE131,\"F\")","v":0},{"$f":"COUNTIF(AF122:AF131,\"F\")","v":0},{"$f":"COUNTIF(AG122:AG131,\"F\")","v":0},{"$f":"COUNTIF(AH122:AH131,\"F\")","v":0},{"$f":"COUNTIF(AI122:AI131,\"F\")","v":0},{"$f":"COUNTIF(AJ122:AJ131,\"F\")","v":0},{"$f":"COUNTIF(AK122:AK131,\"F\")","v":0},{"$f":"COUNTIF(AL122:AL131,\"F\")","v":0},{"$f":"COUNTIF(AM122:AM131,\"F\")","v":0},{"$f":"COUNTIF(AN122:AN131,\"F\")","v":0},{"$f":"COUNTIF(AO122:AO131,\"F\")","v":0},{"$f":"COUNTIF(AP122:AP131,\"F\")","v":0},{"$f":"COUNTIF(AQ122:AQ131,\"F\")","v":0},{"$f":"COUNTIF(AR122:AR131,\"F\")","v":0},{"$f":"COUNTIF(AS122:AS131,\"F\")","v":0},{"$f":"COUNTIF(AT122:AT131,\"F\")","v":0},{"$f":"COUNTIF(AU122:AU131,\"F\")","v":0},{"$f":"COUNTIF(AV122:AV131,\"F\")","v":0},{"$f":"COUNTIF(AW122:AW131,\"F\")","v":0},{"$f":"COUNTIF(AX122:AX131,\"F\")","v":0},{"$f":"COUNTIF(AY122:AY131,\"F\")","v":0},{"$f":"COUNTIF(AZ122:AZ131,\"F\")","v":0},{"$f":"COUNTIF(BA122:BA131,\"F\")","v":0},{"$f":"COUNTIF(BB122:BB131,\"F\")","v":0}]
[null,{"$f":"SUM(D133:BB133)","v":0},"# T's",{"$f":"COUNTIF(D122:D131,\"T\")","v":0},{"$f":"COUNTIF(E122:E131,\"T\")","v":0},0,0,0,0,0,0,0,0,0,0,0,0,0,0,0,0,0,0,0,0,0,0,0,0,0,0,0,0,0,0,0,0,0,0,0,0,0,0,0,0,0,0,0,0,0,0,0,0,0]
[null,null,"foul points",{"$f":"IF(D132=0,0,D132*-10+10)","v":0},{"$f":"IF(E132=0,0,IF(D132=0,E132*-10+10,E132*-10))","v":0},{"$f":"IF(F132=0,0,IF(SUM($D132:E132)=0,F132*-10+10,F132*-10))","v":0},{"$f":"IF(G132=0,0,IF(SUM($D132:F132)=0,G132*-10+10,G132*-10))","v":0},{"$f":"IF(H132=0,0,IF(SUM($D132:G132)=0,H132*-10+10,H132*-10))","v":0},{"$f":"IF(I132=0,0,IF(SUM($D132:H132)=0,I132*-10+10,I132*-10))","v":0},{"$f":"IF(J132=0,0,IF(SUM($D132:I132)=0,J132*-10+10,J132*-10))","v":0},{"$f":"IF(K132=0,0,IF(SUM($D132:J132)=0,K132*-10+10,K132*-10))","v":0},{"$f":"IF(L132=0,0,IF(SUM($D132:K132)=0,L132*-10+10,L132*-10))","v":0},{"$f":"IF(M132=0,0,IF(SUM($D132:L132)=0,M132*-10+10,M132*-10))","v":0},{"$f":"IF(N132=0,0,IF(SUM($D132:M132)=0,N132*-10+10,N132*-10))","v":0},{"$f":"IF(O132=0,0,IF(SUM($D132:N132)=0,O132*-10+10,O132*-10))","v":0},{"$f":"IF(P132=0,0,IF(SUM($D132:O132)=0,P132*-10+10,P132*-10))","v":0},{"$f":"IF(Q132=0,0,IF(SUM($D132:P132)=0,Q132*-10+10,Q132*-10))","v":0},{"$f":"IF(R132=0,0,IF(SUM($D132:Q132)=0,R132*-10+10,R132*-10))","v":0},{"$f":"IF(S132=0,0,IF(SUM($D132:R132)=0,S132*-10+10,S132*-10))","v":0},{"$f":"IF(T132=0,0,IF(SUM($D132:S132)=0,T132*-10+10,T132*-10))","v":0},{"$f":"IF(U132=0,0,IF(SUM($D132:T132)=0,U132*-10+10,U132*-10))","v":0},{"$f":"IF(V132=0,0,IF(SUM($D132:U132)=0,V132*-10+10,V132*-10))","v":0},{"$f":"IF(W132=0,0,IF(SUM($D132:V132)=0,W132*-10+10,W132*-10))","v":0},{"$f":"IF(X132=0,0,IF(SUM($D132:W132)=0,X132*-10+10,X132*-10))","v":0},{"$f":"IF(Y132=0,0,IF(SUM($D132:X132)=0,Y132*-10+10,Y132*-10))","v":0},{"$f":"IF(Z132=0,0,IF(SUM($D132:Y132)=0,Z132*-10+10,Z132*-10))","v":0},{"$f":"IF(AA132=0,0,IF(SUM($D132:Z132)=0,AA132*-10+10,AA132*-10))","v":0},{"$f":"IF(AB132=0,0,IF(SUM($D132:AA132)=0,AB132*-10+10,AB132*-10))","v":0},{"$f":"IF(AC132=0,0,IF(SUM($D132:AB132)=0,AC132*-10+10,AC132*-10))","v":0},{"$f":"IF(AD132=0,0,IF(SUM($D132:AC132)=0,AD132*-10+10,AD132*-10))","v":0},{"$f":"IF(AE132=0,0,IF(SUM($D132:AD132)=0,AE132*-10+10,AE132*-10))","v":0},{"$f":"IF(AF132=0,0,IF(SUM($D132:AE132)=0,AF132*-10+10,AF132*-10))","v":0},{"$f":"IF(AG132=0,0,IF(SUM($D132:AF132)=0,AG132*-10+10,AG132*-10))","v":0},{"$f":"IF(AH132=0,0,IF(SUM($D132:AG132)=0,AH132*-10+10,AH132*-10))","v":0},{"$f":"IF(AI132=0,0,IF(SUM($D132:AH132)=0,AI132*-10+10,AI132*-10))","v":0},{"$f":"IF(AJ132=0,0,IF(SUM($D132:AI132)=0,AJ132*-10+10,AJ132*-10))","v":0},{"$f":"IF(AK132=0,0,IF(SUM($D132:AJ132)=0,AK132*-10+10,AK132*-10))","v":0},{"$f":"IF(AL132=0,0,IF(SUM($D132:AK132)=0,AL132*-10+10,AL132*-10))","v":0},{"$f":"IF(AM132=0,0,IF(SUM($D132:AL132)=0,AM132*-10+10,AM132*-10))","v":0},{"$f":"IF(AN132=0,0,IF(SUM($D132:AM132)=0,AN132*-10+10,AN132*-10))","v":0},{"$f":"IF(AO132=0,0,IF(SUM($D132:AN132)=0,AO132*-10+10,AO132*-10))","v":0},{"$f":"IF(AP132=0,0,IF(SUM($D132:AO132)=0,AP132*-10+10,AP132*-10))","v":0},{"$f":"IF(AQ132=0,0,IF(SUM($D132:AP132)=0,AQ132*-10+10,AQ132*-10))","v":0},{"$f":"IF(AR132=0,0,IF(SUM($D132:AQ132)=0,AR132*-10+10,AR132*-10))","v":0},{"$f":"IF(AS132=0,0,IF(SUM($D132:AR132)=0,AS132*-10+10,AS132*-10))","v":0},{"$f":"IF(AT132=0,0,IF(SUM($D132:AS132)=0,AT132*-10+10,AT132*-10))","v":0},{"$f":"IF(AU132=0,0,IF(SUM($D132:AT132)=0,AU132*-10+10,AU132*-10))","v":0},{"$f":"IF(AV132=0,0,IF(SUM($D132:AU132)=0,AV132*-10+10,AV132*-10))","v":0},{"$f":"IF(AW132=0,0,IF(SUM($D132:AV132)=0,AW132*-10+10,AW132*-10))","v":0},{"$f":"IF(AX132=0,0,IF(SUM($D132:AW132)=0,AX132*-10+10,AX132*-10))","v":0},{"$f":"IF(AY132=0,0,IF(SUM($D132:AX132)=0,AY132*-10+10,AY132*-10))","v":0},{"$f":"IF(AZ132=0,0,IF(SUM($D132:AY132)=0,AZ132*-10+10,AZ132*-10))","v":0},{"$f":"IF(BA132=0,0,IF(SUM($D132:AZ132)=0,BA132*-10+10,BA132*-10))","v":0},{"$f":"IF(BB132=0,0,IF(SUM($D132:BA132)=0,BB132*-10+10,BB132*-10))","v":0}]

{"sheet":"Sheet4","index":3,"n_rows":134,"n_cols":54,"rows_kept":134,"cut":false,"hidden":true,"merged":[]}
[null,null,null,1,2,3,4,5,6,7,8,9,10,11,12,"a","b",13,"a","b",14,"a","b",15]
[null,null,null,"R",{"$f":"IF(SUM('2-way Quiz'!E23,'2-way Quiz'!E65,'2-way Quiz'!E44)=0,\"R\",\"T\")","v":"R"},{"$f":"IF(SUM('2-way Quiz'!F24,'2-way Quiz'!F66,'2-way Quiz'!F45)=0,\"R\",IF(E2=\"R\",\"T\",\"F\"))","v":"R"},{"$f":"IF(SUM('2-way Quiz'!G24,'2-way Quiz'!G66,'2-way Quiz'!G45)=0,\"R\",IF(F2=\"R\",\"T\",\"F\"))","v":"T"},{"$f":"IF(SUM('2-way Quiz'!H24,'2-way Quiz'!H66,'2-way Quiz'!H45)=0,\"T\",IF(G2=\"T\",\"F\",\"F\"))","v":"T"},{"$f":"IF(SUM('2-way Quiz'!I24,'2-way Quiz'!I66,'2-way Quiz'!I45)=0,\"T\",IF(H2=\"T\",\"F\",\"F\"))","v":"T"},{"$f":"IF(SUM('2-way Quiz'!J24,'2-way Quiz'!J66,'2-way Quiz'!J45)=0,\"T\",IF(I2=\"T\",\"F\",\"F\"))","v":"T"},{"$f":"IF(SUM('2-way Quiz'!K24,'2-way Quiz'!K66,'2-way Quiz'!K45)=0,\"T\",IF(J2=\"T\",\"F\",\"F\"))","v":"T"},{"$f":"IF(SUM('2-way Quiz'!L24,'2-way Quiz'!L66,'2-way Quiz'!L45)=0,\"T\",IF(K2=\"T\",\"F\",\"F\"))","v":"T"},{"$f":"IF(SUM('2-way Quiz'!M24,'2-way Quiz'!M66,'2-way Quiz'!M45)=0,\"T\",IF(L2=\"T\",\"F\",\"F\"))","v":"T"},{"$f":"IF(SUM('2-way Quiz'!N24,'2-way Quiz'!N66,'2-way Quiz'!N45)=0,\"T\",IF(M2=\"T\",\"F\",\"F\"))","v":"T"},{"$f":"IF(SUM('2-way Quiz'!O24,'2-way Quiz'!O66,'2-way Quiz'!O45)=0,\"T\",IF(N2=\"T\",\"F\",\"F\"))","v":"T"},{"$f":"IF(SUM('2-way Quiz'!P24,'2-way Quiz'!P66,'2-way Quiz'!P45)=0,\"T\",IF(O2=\"T\",\"F\",\"F\"))","v":"T"},"F","T","F","F","T","F","F","T",{"$f":"IF('2-way Quiz'!X97=1,\"T\",IF('2-way Quiz'!X98=1,\"F\",IF('2-way Quiz'!X99=1,\"F\",0)))","v":0},{"$f":"IF('2-way Quiz'!Y97=1,\"T\",IF('2-way Quiz'!Y98=1,\"F\",IF('2-way Quiz'!Y99=1,\"F\",0)))","v":0},{"$f":"IF('2-way Quiz'!Z97=1,\"T\",IF('2-way Quiz'!Z98=1,\"F\",IF('2-way Quiz'!Z99=1,\"F\",0)))","v":0},{"$f":"IF('2-way Quiz'!AA97=1,\"T\",IF('2-way Quiz'!AA98=1,\"F\",IF('2-way Quiz'!AA99=1,\"F\",0)))","v":0},{"$f":"IF('2-way Quiz'!AB97=1,\"T\",IF('2-way Quiz'!AB98=1,\"F\",IF('2-way Quiz'!AB99=1,\"F\",0)))","v":0},{"$f":"IF('2-way Quiz'!AC97=1,\"T\",IF('2-way Quiz'!AC98=1,\"F\",IF('2-way Quiz'!AC99=1,\"F\",0)))","v":0},{"$f":"IF('2-way Quiz'!AD97=1,\"T\",IF('2-way Quiz'!AD98=1,\"F\",IF('2-way Quiz'!AD99=1,\"F\",0)))","v":0},{"$f":"IF('2-way Quiz'!AE97=1,\"T\",IF('2-way Quiz'!AE98=1,\"F\",IF('2-way Quiz'!AE99=1,\"F\",0)))","v":0},{"$f":"IF('2-way Quiz'!AF97=1,\"T\",IF('2-way Quiz'!AF98=1,\"F\",IF('2-way Quiz'!AF99=1,\"F\",0)))","v":0},{"$f":"IF('2-way Quiz'!AG97=1,\"T\",IF('2-way Quiz'!AG98=1,\"F\",IF('2-way Quiz'!AG99=1,\"F\",0)))","v":0},{"$f":"IF('2-way Quiz'!AH97=1,\"T\",IF('2-way Quiz'!AH98=1,\"F\",IF('2-way Quiz'!AH99=1,\"F\",0)))","v":0},{"$f":"IF('2-way Quiz'!AI97=1,\"T\",IF('2-way Quiz'!AI98=1,\"F\",IF('2-way Quiz'!AI99=1,\"F\",0)))","v":0},{"$f":"IF('2-way Quiz'!AJ97=1,\"T\",IF('2-way Quiz'!AJ98=1,\"F\",IF('2-way Quiz'!AJ99=1,\"F\",0)))","v":0},{"$f":"IF('2-way Quiz'!AK97=1,\"T\",IF('2-way Quiz'!AK98=1,\"F\",IF('2-way Quiz'!AK99=1,\"F\",0)))","v":0},{"$f":"IF('2-way Quiz'!AL97=1,\"T\",IF('2-way Quiz'!AL98=1,\"F\",IF('2-way Quiz'!AL99=1,\"F\",0)))","v":0},{"$f":"IF('2-way Quiz'!AM97=1,\"T\",IF('2-way Quiz'!AM98=1,\"F\",IF('2-way Quiz'!AM99=1,\"F\",0)))","v":0},{"$f":"IF('2-way Quiz'!AN97=1,\"T\",IF('2-way Quiz'!AN98=1,\"F\",IF('2-way Quiz'!AN99=1,\"F\",0)))","v":0},{"$f":"IF('2-way Quiz'!AO97=1,\"T\",IF('2-way Quiz'!AO98=1,\"F\",IF('2-way Quiz'!AO99=1,\"F\",0)))","v":0},{"$f":"IF('2-way Quiz'!AP97=1,\"T\",IF('2-way Quiz'!AP98=1,\"F\",IF('2-way Quiz'!AP99=1,\"F\",0)))","v":0},{"$f":"IF('2-way Quiz'!AQ97=1,\"T\",IF('2-way Quiz'!AQ98=1,\"F\",IF('2-way Quiz'!AQ99=1,\"F\",0)))","v":0},{"$f":"IF('2-way Quiz'!AR97=1,\"T\",IF('2-way Quiz'!AR98=1,\"F\",IF('2-way Quiz'!AR99=1,\"F\",0)))","v":0},{"$f":"IF('2-way Quiz'!AS97=1,\"T\",IF('2-way Quiz'!AS98=1,\"F\",IF('2-way Quiz'!AS99=1,\"F\",0)))","v":0},{"$f":"IF('2-way Quiz'!AT97=1,\"T\",IF('2-way Quiz'!AT98=1,\"F\",IF('2-way Quiz'!AT99=1,\"F\",0)))","v":0},{"$f":"IF('2-way Quiz'!AU97=1,\"T\",IF('2-way Quiz'!AU98=1,\"F\",IF('2-way Quiz'!AU99=1,\"F\",0)))","v":0},{"$f":"IF('2-way Quiz'!AV97=1,\"T\",IF('2-way Quiz'!AV98=1,\"F\",IF('2-way Quiz'!AV99=1,\"F\",0)))","v":0},{"$f":"IF('2-way Quiz'!AW97=1,\"T\",IF('2-way Quiz'!AW98=1,\"F\",IF('2-way Quiz'!AW99=1,\"F\",0)))","v":0},{"$f":"IF('2-way Quiz'!AX97=1,\"T\",IF('2-way Quiz'!AX98=1,\"F\",IF('2-way Quiz'!AX99=1,\"F\",0)))","v":0},{"$f":"IF('2-way Quiz'!AY97=1,\"T\",IF('2-way Quiz'!AY98=1,\"F\",IF('2-way Quiz'!AY99=1,\"F\",0)))","v":0},{"$f":"IF('2-way Quiz'!AZ97=1,\"T\",IF('2-way Quiz'!AZ98=1,\"F\",IF('2-way Quiz'!AZ99=1,\"F\",0)))","v":0},{"$f":"IF('2-way Quiz'!BA97=1,\"T\",IF('2-way Quiz'!BA98=1,\"F\",IF('2-way Quiz'!BA99=1,\"F\",0)))","v":0}]
[]
[]
[]
[]
[]
[]
[]
[]
[]
[]
[]
[]
[]
[null,null,{"$f":"'2-way Quiz'!C16","v":"Team Name"}]
[null,null,{"$f":"'2-way Quiz'!C17","v":"Quizzer #1"},20,{"$f":"IF(D22>2,\".\",IF(D27=2,IF(D22=0,IF('2-way Quiz'!E25=20,30,'2-way Quiz'!E25),'2-way Quiz'!E25),IF(E27>2,IF(E$2=\"R\",\".\",'2-way Quiz'!E25),'2-way Quiz'!E25)))","v":20},{"$f":"IF(E22>2,\".\",IF(E27=2,IF(E22=0,IF('2-way Quiz'!F25=20,30,'2-way Quiz'!F25),'2-way Quiz'!F25),IF(F27>2,IF(F$2=\"R\",\".\",'2-way Quiz'!F25),'2-way Quiz'!F25)))","v":20},{"$f":"IF(F22>2,\".\",IF(F27=2,IF(F22=0,IF('2-way Quiz'!G25=20,30,'2-way Quiz'!G25),'2-way Quiz'!G25),IF(G27>2,IF(G$2=\"R\",\".\",'2-way Quiz'!G25),'2-way Quiz'!G25)))","v":20},{"$f":"IF(G22>2,\".\",IF(G27=2,IF(G22=0,IF('2-way Quiz'!H25=20,30,'2-way Quiz'!H25),'2-way Quiz'!H25),IF(H27>2,IF(H$2=\"R\",\".\",'2-way Quiz'!H25),'2-way Quiz'!H25)))","v":20},{"$f":"IF(H22>2,\".\",IF(H27=2,IF(H22=0,IF('2-way Quiz'!I25=20,30,'2-way Quiz'!I25),'2-way Quiz'!I25),IF(I27>2,IF(I$2=\"R\",\".\",'2-way Quiz'!I25),'2-way Quiz'!I25)))","v":20},{"$f":"IF(I22>2,\".\",IF(I27=2,IF(I22=0,IF('2-way Quiz'!J25=20,30,'2-way Quiz'!J25),'2-way Quiz'!J25),IF(J27>2,IF(J$2=\"R\",\".\",'2-way Quiz'!J25),'2-way Quiz'!J25)))","v":20},{"$f":"IF(J22>2,\".\",IF(J27=2,IF(J22=0,IF('2-way Quiz'!K25=20,30,'2-way Quiz'!K25),'2-way Quiz'!K25),IF(K27>2,IF(K$2=\"R\",\".\",'2-way Quiz'!K25),'2-way Quiz'!K25)))","v":20},{"$f":"IF(K22>2,\".\",IF(K27=2,IF(K22=0,IF('2-way Quiz'!L25=20,30,'2-way Quiz'!L25),'2-way Quiz'!L25),IF(L27>2,IF(L$2=\"R\",\".\",'2-way Quiz'!L25),'2-way Quiz'!L25)))","v":20},{"$f":"IF(L22>2,\".\",IF(L27=2,IF(L22=0,IF('2-way Quiz'!M25=20,30,'2-way Quiz'!M25),'2-way Quiz'!M25),IF(M27>2,IF(M$2=\"R\",\".\",'2-way Quiz'!M25),'2-way Quiz'!M25)))","v":20},{"$f":"IF(M22>2,\".\",IF(M27=2,IF(M22=0,IF('2-way Quiz'!N25=20,30,'2-way Quiz'!N25),'2-way Quiz'!N25),IF(N27>2,IF(N$2=\"R\",\".\",'2-way Quiz'!N25),'2-way Quiz'!N25)))","v":20},{"$f":"IF(N22>2,\".\",IF(N27=2,IF(N22=0,IF('2-way Quiz'!O25=20,30,'2-way Quiz'!O25),'2-way Quiz'!O25),IF(O27>2,IF(O$2=\"R\",\".\",'2-way Quiz'!O25),'2-way Quiz'!O25)))","v":20},{"$f":"IF(O22>2,\".\",IF(O27=2,IF(O22=0,IF('2-way Quiz'!P25=20,30,'2-way Quiz'!P25),'2-way Quiz'!P25),IF(P27>2,IF(P$2=\"R\",\".\",'2-way Quiz'!P25),'2-way Quiz'!P25)))","v":20},{"$f":"IF(P22>2,\".\",IF(P27=2,IF(P22=0,IF('2-way Quiz'!Q25=20,30,'2-way Quiz'!Q25),'2-way Quiz'!Q25),IF(Q27>2,IF(Q$2=\"R\",\".\",'2-way Quiz'!Q25),'2-way Quiz'!Q25)))","v":"."},{"$f":"IF(Q22>2,\".\",IF(Q27=2,IF(Q22=0,IF('2-way Quiz'!R25=20,30,'2-way Quiz'!R25),'2-way Quiz'!R25),IF(R27>2,IF(R$2=\"R\",\".\",'2-way Quiz'!R25),'2-way Quiz'!R25)))","v":20},{"$f":"IF(R22>2,\".\",IF(R27=2,IF(R22=0,IF('2-way Quiz'!S25=20,30,'2-way Quiz'!S25),'2-way Quiz'!S25),IF(S27>2,IF(S$2=\"R\",\".\",'2-way Quiz'!S25),'2-way Quiz'!S25)))","v":10},{"$f":"IF(S22>2,\".\",IF(S27=2,IF(S22=0,IF('2-way Quiz'!T25=20,30,'2-way Quiz'!T25),'2-way Quiz'!T25),IF(T27>2,IF(T$2=\"R\",\".\",'2-way Quiz'!T25),'2-way Quiz'!T25)))","v":"."},{"$f":"IF(T22>2,\".\",IF(T27=2,IF(T22=0,IF('2-way Quiz'!U25=20,30,'2-way Quiz'!U25),'2-way Quiz'!U25),IF(U27>2,IF(U$2=\"R\",\".\",'2-way Quiz'!U25),'2-way Quiz'!U25)))","v":20},{"$f":"IF(U22>2,\".\",IF(U27=2,IF(U22=0,IF('2-way Quiz'!V25=20,30,'2-way Quiz'!V25),'2-way Quiz'!V25),IF(V27>2,IF(V$2=\"R\",\".\",'2-way Quiz'!V25),'2-way Quiz'!V25)))","v":10},{"$f":"IF(V22>2,\".\",IF(V27=2,IF(V22=0,IF('2-way Quiz'!W25=20,30,'2-way Quiz'!W25),'2-way Quiz'!W25),IF(W27>2,IF(W$2=\"R\",\".\",'2-way Quiz'!W25),'2-way Quiz'!W25)))","v":"."},{"$f":"IF(W22>2,\".\",IF(W27=2,IF(W22=0,IF('2-way Quiz'!X25=20,30,'2-way Quiz'!X25),'2-way Quiz'!X25),IF(X27>2,IF(X$2=\"R\",\".\",'2-way Quiz'!X25),'2-way Quiz'!X25)))","v":20},{"$f":"IF(X22>2,\".\",IF(X27=2,IF(X22=0,IF('2-way Quiz'!Y25=20,30,'2-way Quiz'!Y25),'2-way Quiz'!Y25),IF(Y27>2,IF(Y$2=\"R\",\".\",'2-way Quiz'!Y25),'2-way Quiz'!Y25)))","v":10},{"$f":"IF(Y22>2,\".\",IF(Y27=2,IF(Y22=0,IF('2-way Quiz'!Z25=20,30,'2-way Quiz'!Z25),'2-way Quiz'!Z25),IF(Z27>2,IF(Z$2=\"R\",\".\",'2-way Quiz'!Z25),'2-way Quiz'!Z25)))","v":10},{"$f":"IF(Z22>2,\".\",IF(Z27=2,IF(Z22=0,IF('2-way Quiz'!AA25=20,30,'2-way Quiz'!AA25),'2-way Quiz'!AA25),IF(AA27>2,IF(AA$2=\"R\",\".\",'2-way Quiz'!AA25),'2-way Quiz'!AA25)))","v":10},{"$f":"IF(AA22>2,\".\",IF(AA27=2,IF(AA22=0,IF('2-way Quiz'!AB25=20,30,'2-way Quiz'!AB25),'2-way Quiz'!AB25),IF(AB27>2,IF(AB$2=\"R\",\".\",'2-way Quiz'!AB25),'2-way Quiz'!AB25)))","v":10},{"$f":"IF(AB22>2,\".\",IF(AB27=2,IF(AB22=0,IF('2-way Quiz'!AC25=20,30,'2-way Quiz'!AC25),'2-way Quiz'!AC25),IF(AC27>2,IF(AC$2=\"R\",\".\",'2-way Quiz'!AC25),'2-way Quiz'!AC25)))","v":10},{"$f":"IF(AC22>2,\".\",IF(AC27=2,IF(AC22=0,IF('2-way Quiz'!AD25=20,30,'2-way Quiz'!AD25),'2-way Quiz'!AD25),IF(AD27>2,IF(AD$2=\"R\",\".\",'2-way Quiz'!AD25),'2-way Quiz'!AD25)))","v":10},{"$f":"IF(AD22>2,\".\",IF(AD27=2,IF(AD22=0,IF('2-way Quiz'!AE25=20,30,'2-way Quiz'!AE25),'2-way Quiz'!AE25),IF(AE27>2,IF(AE$2=\"R\",\".\",'2-way Quiz'!AE25),'2-way Quiz'!AE25)))","v":10},{"$f":"IF(AE22>2,\".\",IF(AE27=2,IF(AE22=0,IF('2-way Quiz'!AF25=20,30,'2-way Quiz'!AF25),'2-way Quiz'!AF25),IF(AF27>2,IF(AF$2=\"R\",\".\",'2-way Quiz'!AF25),'2-way Quiz'!AF25)))","v":10},{"$f":"IF(AF22>2,\".\",IF(AF27=2,IF(AF22=0,IF('2-way Quiz'!AG25=20,30,'2-way Quiz'!AG25),'2-way Quiz'!AG25),IF(AG27>2,IF(AG$2=\"R\",\".\",'2-way Quiz'!AG25),'2-way Quiz'!AG25)))","v":10},{"$f":"IF(AG22>2,\".\",IF(AG27=2,IF(AG22=0,IF('2-way Quiz'!AH25=20,30,'2-way Quiz'!AH25),'2-way Quiz'!AH25),IF(AH27>2,IF(AH$2=\"R\",\".\",'2-way Quiz'!AH25),'2-way Quiz'!AH25)))","v":10},{"$f":"IF(AH22>2,\".\",IF(AH27=2,IF(AH22=0,IF('2-way Quiz'!AI25=20,30,'2-way Quiz'!AI25),'2-way Quiz'!AI25),IF(AI27>2,IF(AI$2=\"R\",\".\",'2-way Quiz'!AI25),'2-way Quiz'!AI25)))","v":10},{"$f":"IF(AI22>2,\".\",IF(AI27=2,IF(AI22=0,IF('2-way Quiz'!AJ25=20,30,'2-way Quiz'!AJ25),'2-way Quiz'!AJ25),IF(AJ27>2,IF(AJ$2=\"R\",\".\",'2-way Quiz'!AJ25),'2-way Quiz'!AJ25)))","v":10},{"$f":"IF(AJ22>2,\".\",IF(AJ27=2,IF(AJ22=0,IF('2-way Quiz'!AK25=20,30,'2-way Quiz'!AK25),'2-way Quiz'!AK25),IF(AK27>2,IF(AK$2=\"R\",\".\",'2-way Quiz'!AK25),'2-way Quiz'!AK25)))","v":10},{"$f":"IF(AK22>2,\".\",IF(AK27=2,IF(AK22=0,IF('2-way Quiz'!AL25=20,30,'2-way Quiz'!AL25),'2-way Quiz'!AL25),IF(AL27>2,IF(AL$2=\"R\",\".\",'2-way Quiz'!AL25),'2-way Quiz'!AL25)))","v":10},{"$f":"IF(AL22>2,\".\",IF(AL27=2,IF(AL22=0,IF('2-way Quiz'!AM25=20,30,'2-way Quiz'!AM25),'2-way Quiz'!AM25),IF(AM27>2,IF(AM$2=\"R\",\".\",'2-way Quiz'!AM25),'2-way Quiz'!AM25)))","v":10},{"$f":"IF(AM22>2,\".\",IF(AM27=2,IF(AM22=0,IF('2-way Quiz'!AN25=20,30,'2-way Quiz'!AN25),'2-way Quiz'!AN25),IF(AN27>2,IF(AN$2=\"R\",\".\",'2-way Quiz'!AN25),'2-way Quiz'!AN25)))","v":10},{"$f":"IF(AN22>2,\".\",IF(AN27=2,IF(AN22=0,IF('2-way Quiz'!AO25=20,30,'2-way Quiz'!AO25),'2-way Quiz'!AO25),IF(AO27>2,IF(AO$2=\"R\",\".\",'2-way Quiz'!AO25),'2-way Quiz'!AO25)))","v":10},{"$f":"IF(AO22>2,\".\",IF(AO27=2,IF(AO22=0,IF('2-way Quiz'!AP25=20,30,'2-way Quiz'!AP25),'2-way Quiz'!AP25),IF(AP27>2,IF(AP$2=\"R\",\".\",'2-way Quiz'!AP25),'2-way Quiz'!AP25)))","v":10},{"$f":"IF(AP22>2,\".\",IF(AP27=2,IF(AP22=0,IF('2-way Quiz'!AQ25=20,30,'2-way Quiz'!AQ25),'2-way Quiz'!AQ25),IF(AQ27>2,IF(AQ$2=\"R\",\".\",'2-way Quiz'!AQ25),'2-way Quiz'!AQ25)))","v":10},{"$f":"IF(AQ22>2,\".\",IF(AQ27=2,IF(AQ22=0,IF('2-way Quiz'!AR25=20,30,'2-way Quiz'!AR25),'2-way Quiz'!AR25),IF(AR27>2,IF(AR$2=\"R\",\".\",'2-way Quiz'!AR25),'2-way Quiz'!AR25)))","v":10},{"$f":"IF(AR22>2,\".\",IF(AR27=2,IF(AR22=0,IF('2-way Quiz'!AS25=20,30,'2-way Quiz'!AS25),'2-way Quiz'!AS25),IF(AS27>2,IF(AS$2=\"R\",\".\",'2-way Quiz'!AS25),'2-way Quiz'!AS25)))","v":10},{"$f":"IF(AS22>2,\".\",IF(AS27=2,IF(AS22=0,IF('2-way Quiz'!AT25=20,30,'2-way Quiz'!AT25),'2-way Quiz'!AT25),IF(AT27>2,IF(AT$2=\"R\",\".\",'2-way Quiz'!AT25),'2-way Quiz'!AT25)))","v":10},{"$f":"IF(AT22>2,\".\",IF(AT27=2,IF(AT22=0,IF('2-way Quiz'!AU25=20,30,'2-way Quiz'!AU25),'2-way Quiz'!AU25),IF(AU27>2,IF(AU$2=\"R\",\".\",'2-way Quiz'!AU25),'2-way Quiz'!AU25)))","v":10},{"$f":"IF(AU22>2,\".\",IF(AU27=2,IF(AU22=0,IF('2-way Quiz'!AV25=20,30,'2-way Quiz'!AV25),'2-way Quiz'!AV25),IF(AV27>2,IF(AV$2=\"R\",\".\",'2-way Quiz'!AV25),'2-way Quiz'!AV25)))","v":10},{"$f":"IF(AV22>2,\".\",IF(AV27=2,IF(AV22=0,IF('2-way Quiz'!AW25=20,30,'2-way Quiz'!AW25),'2-way Quiz'!AW25),IF(AW27>2,IF(AW$2=\"R\",\".\",'2-way Quiz'!AW25),'2-way Quiz'!AW25)))","v":10},{"$f":"IF(AW22>2,\".\",IF(AW27=2,IF(AW22=0,IF('2-way Quiz'!AX25=20,30,'2-way Quiz'!AX25),'2-way Quiz'!AX25),IF(AX27>2,IF(AX$2=\"R\",\".\",'2-way Quiz'!AX25),'2-way Quiz'!AX25)))","v":10},{"$f":"IF(AX22>2,\".\",IF(AX27=2,IF(AX22=0,IF('2-way Quiz'!AY25=20,30,'2-way Quiz'!AY25),'2-way Quiz'!AY25),IF(AY27>2,IF(AY$2=\"R\",\".\",'2-way Quiz'!AY25),'2-way Quiz'!AY25)))","v":10},{"$f":"IF(AY22>2,\".\",IF(AY27=2,IF(AY22=0,IF('2-way Quiz'!AZ25=20,30,'2-way Quiz'!AZ25),'2-way Quiz'!AZ25),IF(AZ27>2,IF(AZ$2=\"R\",\".\",'2-way Quiz'!AZ25),'2-way Quiz'!AZ25)))","v":10},{"$f":"IF(AZ22>2,\".\",IF(AZ27=2,IF(AZ22=0,IF('2-way Quiz'!BA25=20,30,'2-way Quiz'!BA25),'2-way Quiz'!BA25),IF(BA27>2,IF(BA$2=\"R\",\".\",'2-way Quiz'!BA25),'2-way Quiz'!BA25)))","v":10},{"$f":"IF(BA22>2,\".\",IF(BA27=2,IF(BA22=0,IF('2-way Quiz'!BB25=20,30,'2-way Quiz'!BB25),'2-way Quiz'!BB25),IF(BB27>2,IF(BB$2=\"R\",\".\",'2-way Quiz'!BB25),'2-way Quiz'!BB25)))","v":10}]
[null,null,{"$f":"'2-way Quiz'!C18","v":"Quizzer #2"},20,{"$f":"IF(D23>2,\".\",IF(D28=2,IF(D23=0,IF('2-way Quiz'!E25=20,30,'2-way Quiz'!E25),'2-way Quiz'!E25),IF(E28>2,IF(E$2=\"R\",\".\",'2-way Quiz'!E25),'2-way Quiz'!E25)))","v":20},{"$f":"IF(E23>2,\".\",IF(E28=2,IF(E23=0,IF('2-way Quiz'!F25=20,30,'2-way Quiz'!F25),'2-way Quiz'!F25),IF(F28>2,IF(F$2=\"R\",\".\",'2-way Quiz'!F25),'2-way Quiz'!F25)))","v":20},{"$f":"IF(F23>2,\".\",IF(F28=2,IF(F23=0,IF('2-way Quiz'!G25=20,30,'2-way Quiz'!G25),'2-way Quiz'!G25),IF(G28>2,IF(G$2=\"R\",\".\",'2-way Quiz'!G25),'2-way Quiz'!G25)))","v":20},{"$f":"IF(G23>2,\".\",IF(G28=2,IF(G23=0,IF('2-way Quiz'!H25=20,30,'2-way Quiz'!H25),'2-way Quiz'!H25),IF(H28>2,IF(H$2=\"R\",\".\",'2-way Quiz'!H25),'2-way Quiz'!H25)))","v":20},{"$f":"IF(H23>2,\".\",IF(H28=2,IF(H23=0,IF('2-way Quiz'!I25=20,30,'2-way Quiz'!I25),'2-way Quiz'!I25),IF(I28>2,IF(I$2=\"R\",\".\",'2-way Quiz'!I25),'2-way Quiz'!I25)))","v":20},{"$f":"IF(I23>2,\".\",IF(I28=2,IF(I23=0,IF('2-way Quiz'!J25=20,30,'2-way Quiz'!J25),'2-way Quiz'!J25),IF(J28>2,IF(J$2=\"R\",\".\",'2-way Quiz'!J25),'2-way Quiz'!J25)))","v":20},{"$f":"IF(J23>2,\".\",IF(J28=2,IF(J23=0,IF('2-way Quiz'!K25=20,30,'2-way Quiz'!K25),'2-way Quiz'!K25),IF(K28>2,IF(K$2=\"R\",\".\",'2-way Quiz'!K25),'2-way Quiz'!K25)))","v":20},{"$f":"IF(K23>2,\".\",IF(K28=2,IF(K23=0,IF('2-way Quiz'!L25=20,30,'2-way Quiz'!L25),'2-way Quiz'!L25),IF(L28>2,IF(L$2=\"R\",\".\",'2-way Quiz'!L25),'2-way Quiz'!L25)))","v":20},{"$f":"IF(L23>2,\".\",IF(L28=2,IF(L23=0,IF('2-way Quiz'!M25=20,30,'2-way Quiz'!M25),'2-way Quiz'!M25),IF(M28>2,IF(M$2=\"R\",\".\",'2-way Quiz'!M25),'2-way Quiz'!M25)))","v":20},{"$f":"IF(M23>2,\".\",IF(M28=2,IF(M23=0,IF('2-way Quiz'!N25=20,30,'2-way Quiz'!N25),'2-way Quiz'!N25),IF(N28>2,IF(N$2=\"R\",\".\",'2-way Quiz'!N25),'2-way Quiz'!N25)))","v":20},{"$f":"IF(N23>2,\".\",IF(N28=2,IF(N23=0,IF('2-way Quiz'!O25=20,30,'2-way Quiz'!O25),'2-way Quiz'!O25),IF(O28>2,IF(O$2=\"R\",\".\",'2-way Quiz'!O25),'2-way Quiz'!O25)))","v":20},{"$f":"IF(O23>2,\".\",IF(O28=2,IF(O23=0,IF('2-way Quiz'!P25=20,30,'2-way Quiz'!P25),'2-way Quiz'!P25),IF(P28>2,IF(P$2=\"R\",\".\",'2-way Quiz'!P25),'2-way Quiz'!P25)))","v":20},{"$f":"IF(P23>2,\".\",IF(P28=2,IF(P23=0,IF('2-way Quiz'!Q25=20,30,'2-way Quiz'!Q25),'2-way Quiz'!Q25),IF(Q28>2,IF(Q$2=\"R\",\".\",'2-way Quiz'!Q25),'2-way Quiz'!Q25)))","v":"."},{"$f":"IF(Q23>2,\".\",IF(Q28=2,IF(Q23=0,IF('2-way Quiz'!R25=20,30,'2-way Quiz'!R25),'2-way Quiz'!R25),IF(R28>2,IF(R$2=\"R\",\".\",'2-way Quiz'!R25),'2-way Quiz'!R25)))","v":20},{"$f":"IF(R23>2,\".\",IF(R28=2,IF(R23=0,IF('2-way Quiz'!S25=20,30,'2-way Quiz'!S25),'2-way Quiz'!S25),IF(S28>2,IF(S$2=\"R\",\".\",'2-way Quiz'!S25),'2-way Quiz'!S25)))","v":10},{"$f":"IF(S23>2,\".\",IF(S28=2,IF(S23=0,IF('2-way Quiz'!T25=20,30,'2-way Quiz'!T25),'2-way Quiz'!T25),IF(T28>2,IF(T$2=\"R\",\".\",'2-way Quiz'!T25),'2-way Quiz'!T25)))","v":"."},{"$f":"IF(T23>2,\".\",IF(T28=2,IF(T23=0,IF('2-way Quiz'!U25=20,30,'2-way Quiz'!U25),'2-way Quiz'!U25),IF(U28>2,IF(U$2=\"R\",\".\",'2-way Quiz'!U25),'2-way Quiz'!U25)))","v":20},{"$f":"IF(U23>2,\".\",IF(U28=2,IF(U23=0,IF('2-way Quiz'!V25=20,30,'2-way Quiz'!V25),'2-way Quiz'!V25),IF(V28>2,IF(V$2=\"R\",\".\",'2-way Quiz'!V25),'2-way Quiz'!V25)))","v":10},{"$f":"IF(V23>2,\".\",IF(V28=2,IF(V23=0,IF('2-way Quiz'!W25=20,30,'2-way Quiz'!W25),'2-way Quiz'!W25),IF(W28>2,IF(W$2=\"R\",\".\",'2-way Quiz'!W25),'2-way Quiz'!W25)))","v":"."},{"$f":"IF(W23>2,\".\",IF(W28=2,IF(W23=0,IF('2-way Quiz'!X25=20,30,'2-way Quiz'!X25),'2-way Quiz'!X25),IF(X28>2,IF(X$2=\"R\",\".\",'2-way Quiz'!X25),'2-way Quiz'!X25)))","v":20},{"$f":"IF(X23>2,\".\",IF(X28=2,IF(X23=0,IF('2-way Quiz'!Y25=20,30,'2-way Quiz'!Y25),'2-way Quiz'!Y25),IF(Y28>2,IF(Y$2=\"R\",\".\",'2-way Quiz'!Y25),'2-way Quiz'!Y25)))","v":10},{"$f":"IF(Y23>2,\".\",IF(Y28=2,IF(Y23=0,IF('2-way Quiz'!Z25=20,30,'2-way Quiz'!Z25),'2-way Quiz'!Z25),IF(Z28>2,IF(Z$2=\"R\",\".\",'2-way Quiz'!Z25),'2-way Quiz'!Z25)))","v":10},{"$f":"IF(Z23>2,\".\",IF(Z28=2,IF(Z23=0,IF('2-way Quiz'!AA25=20,30,'2-way Quiz'!AA25),'2-way Quiz'!AA25),IF(AA28>2,IF(AA$2=\"R\",\".\",'2-way Quiz'!AA25),'2-way Quiz'!AA25)))","v":10},{"$f":"IF(AA23>2,\".\",IF(AA28=2,IF(AA23=0,IF('2-way Quiz'!AB25=20,30,'2-way Quiz'!AB25),'2-way Quiz'!AB25),IF(AB28>2,IF(AB$2=\"R\",\".\",'2-way Quiz'!AB25),'2-way Quiz'!AB25)))","v":10},{"$f":"IF(AB23>2,\".\",IF(AB28=2,IF(AB23=0,IF('2-way Quiz'!AC25=20,30,'2-way Quiz'!AC25),'2-way Quiz'!AC25),IF(AC28>2,IF(AC$2=\"R\",\".\",'2-way Quiz'!AC25),'2-way Quiz'!AC25)))","v":10},{"$f":"IF(AC23>2,\".\",IF(AC28=2,IF(AC23=0,IF('2-way Quiz'!AD25=20,30,'2-way Quiz'!AD25),'2-way Quiz'!AD25),IF(AD28>2,IF(AD$2=\"R\",\".\",'2-way Quiz'!AD25),'2-way Quiz'!AD25)))","v":10},{"$f":"IF(AD23>2,\".\",IF(AD28=2,IF(AD23=0,IF('2-way Quiz'!AE25=20,30,'2-way Quiz'!AE25),'2-way Quiz'!AE25),IF(AE28>2,IF(AE$2=\"R\",\".\",'2-way Quiz'!AE25),'2-way Quiz'!AE25)))","v":10},{"$f":"IF(AE23>2,\".\",IF(AE28=2,IF(AE23=0,IF('2-way Quiz'!AF25=20,30,'2-way Quiz'!AF25),'2-way Quiz'!AF25),IF(AF28>2,IF(AF$2=\"R\",\".\",'2-way Quiz'!AF25),'2-way Quiz'!AF25)))","v":10},{"$f":"IF(AF23>2,\".\",IF(AF28=2,IF(AF23=0,IF('2-way Quiz'!AG25=20,30,'2-way Quiz'!AG25),'2-way Quiz'!AG25),IF(AG28>2,IF(AG$2=\"R\",\".\",'2-way Quiz'!AG25),'2-way Quiz'!AG25)))","v":10},{"$f":"IF(AG23>2,\".\",IF(AG28=2,IF(AG23=0,IF('2-way Quiz'!AH25=20,30,'2-way Quiz'!AH25),'2-way Quiz'!AH25),IF(AH28>2,IF(AH$2=\"R\",\".\",'2-way Quiz'!AH25),'2-way Quiz'!AH25)))","v":10},{"$f":"IF(AH23>2,\".\",IF(AH28=2,IF(AH23=0,IF('2-way Quiz'!AI25=20,30,'2-way Quiz'!AI25),'2-way Quiz'!AI25),IF(AI28>2,IF(AI$2=\"R\",\".\",'2-way Quiz'!AI25),'2-way Quiz'!AI25)))","v":10},{"$f":"IF(AI23>2,\".\",IF(AI28=2,IF(AI23=0,IF('2-way Quiz'!AJ25=20,30,'2-way Quiz'!AJ25),'2-way Quiz'!AJ25),IF(AJ28>2,IF(AJ$2=\"R\",\".\",'2-way Quiz'!AJ25),'2-way Quiz'!AJ25)))","v":10},{"$f":"IF(AJ23>2,\".\",IF(AJ28=2,IF(AJ23=0,IF('2-way Quiz'!AK25=20,30,'2-way Quiz'!AK25),'2-way Quiz'!AK25),IF(AK28>2,IF(AK$2=\"R\",\".\",'2-way Quiz'!AK25),'2-way Quiz'!AK25)))","v":10},{"$f":"IF(AK23>2,\".\",IF(AK28=2,IF(AK23=0,IF('2-way Quiz'!AL25=20,30,'2-way Quiz'!AL25),'2-way Quiz'!AL25),IF(AL28>2,IF(AL$2=\"R\",\".\",'2-way Quiz'!AL25),'2-way Quiz'!AL25)))","v":10},{"$f":"IF(AL23>2,\".\",IF(AL28=2,IF(AL23=0,IF('2-way Quiz'!AM25=20,30,'2-way Quiz'!AM25),'2-way Quiz'!AM25),IF(AM28>2,IF(AM$2=\"R\",\".\",'2-way Quiz'!AM25),'2-way Quiz'!AM25)))","v":10},{"$f":"IF(AM23>2,\".\",IF(AM28=2,IF(AM23=0,IF('2-way Quiz'!AN25=20,30,'2-way Quiz'!AN25),'2-way Quiz'!AN25),IF(AN28>2,IF(AN$2=\"R\",\".\",'2-way Quiz'!AN25),'2-way Quiz'!AN25)))","v":10},{"$f":"IF(AN23>2,\".\",IF(AN28=2,IF(AN23=0,IF('2-way Quiz'!AO25=20,30,'2-way Quiz'!AO25),'2-way Quiz'!AO25),IF(AO28>2,IF(AO$2=\"R\",\".\",'2-way Quiz'!AO25),'2-way Quiz'!AO25)))","v":10},{"$f":"IF(AO23>2,\".\",IF(AO28=2,IF(AO23=0,IF('2-way Quiz'!AP25=20,30,'2-way Quiz'!AP25),'2-way Quiz'!AP25),IF(AP28>2,IF(AP$2=\"R\",\".\",'2-way Quiz'!AP25),'2-way Quiz'!AP25)))","v":10},{"$f":"IF(AP23>2,\".\",IF(AP28=2,IF(AP23=0,IF('2-way Quiz'!AQ25=20,30,'2-way Quiz'!AQ25),'2-way Quiz'!AQ25),IF(AQ28>2,IF(AQ$2=\"R\",\".\",'2-way Quiz'!AQ25),'2-way Quiz'!AQ25)))","v":10},{"$f":"IF(AQ23>2,\".\",IF(AQ28=2,IF(AQ23=0,IF('2-way Quiz'!AR25=20,30,'2-way Quiz'!AR25),'2-way Quiz'!AR25),IF(AR28>2,IF(AR$2=\"R\",\".\",'2-way Quiz'!AR25),'2-way Quiz'!AR25)))","v":10},{"$f":"IF(AR23>2,\".\",IF(AR28=2,IF(AR23=0,IF('2-way Quiz'!AS25=20,30,'2-way Quiz'!AS25),'2-way Quiz'!AS25),IF(AS28>2,IF(AS$2=\"R\",\".\",'2-way Quiz'!AS25),'2-way Quiz'!AS25)))","v":10},{"$f":"IF(AS23>2,\".\",IF(AS28=2,IF(AS23=0,IF('2-way Quiz'!AT25=20,30,'2-way Quiz'!AT25),'2-way Quiz'!AT25),IF(AT28>2,IF(AT$2=\"R\",\".\",'2-way Quiz'!AT25),'2-way Quiz'!AT25)))","v":10},{"$f":"IF(AT23>2,\".\",IF(AT28=2,IF(AT23=0,IF('2-way Quiz'!AU25=20,30,'2-way Quiz'!AU25),'2-way Quiz'!AU25),IF(AU28>2,IF(AU$2=\"R\",\".\",'2-way Quiz'!AU25),'2-way Quiz'!AU25)))","v":10},{"$f":"IF(AU23>2,\".\",IF(AU28=2,IF(AU23=0,IF('2-way Quiz'!AV25=20,30,'2-way Quiz'!AV25),'2-way Quiz'!AV25),IF(AV28>2,IF(AV$2=\"R\",\".\",'2-way Quiz'!AV25),'2-way Quiz'!AV25)))","v":10},{"$f":"IF(AV23>2,\".\",IF(AV28=2,IF(AV23=0,IF('2-way Quiz'!AW25=20,30,'2-way Quiz'!AW25),'2-way Quiz'!AW25),IF(AW28>2,IF(AW$2=\"R\",\".\",'2-way Quiz'!AW25),'2-way Quiz'!AW25)))","v":10},{"$f":"IF(AW23>2,\".\",IF(AW28=2,IF(AW23=0,IF('2-way Quiz'!AX25=20,30,'2-way Quiz'!AX25),'2-way Quiz'!AX25),IF(AX28>2,IF(AX$2=\"R\",\".\",'2-way Quiz'!AX25),'2-way Quiz'!AX25)))","v":10},{"$f":"IF(AX23>2,\".\",IF(AX28=2,IF(AX23=0,IF('2-way Quiz'!AY25=20,30,'2-way Quiz'!AY25),'2-way Quiz'!AY25),IF(AY28>2,IF(AY$2=\"R\",\".\",'2-way Quiz'!AY25),'2-way Quiz'!AY25)))","v":10},{"$f":"IF(AY23>2,\".\",IF(AY28=2,IF(AY23=0,IF('2-way Quiz'!AZ25=20,30,'2-way Quiz'!AZ25),'2-way Quiz'!AZ25),IF(AZ28>2,IF(AZ$2=\"R\",\".\",'2-way Quiz'!AZ25),'2-way Quiz'!AZ25)))","v":10},{"$f":"IF(AZ23>2,\".\",IF(AZ28=2,IF(AZ23=0,IF('2-way Quiz'!BA25=20,30,'2-way Quiz'!BA25),'2-way Quiz'!BA25),IF(BA28>2,IF(BA$2=\"R\",\".\",'2-way Quiz'!BA25),'2-way Quiz'!BA25)))","v":10},{"$f":"IF(BA23>2,\".\",IF(BA28=2,IF(BA23=0,IF('2-way Quiz'!BB25=20,30,'2-way Quiz'!BB25),'2-way Quiz'!BB25),IF(BB28>2,IF(BB$2=\"R\",\".\",'2-way Quiz'!BB25),'2-way Quiz'!BB25)))","v":10}]
[null,null,{"$f":"'2-way Quiz'!C19","v":"Quizzer #3"},20,{"$f":"IF(D24>2,\".\",IF(D29=2,IF(D24=0,IF('2-way Quiz'!E25=20,30,'2-way Quiz'!E25),'2-way Quiz'!E25),IF(E29>2,IF(E$2=\"R\",\".\",'2-way Quiz'!E25),'2-way Quiz'!E25)))","v":20},{"$f":"IF(E24>2,\".\",IF(E29=2,IF(E24=0,IF('2-way Quiz'!F25=20,30,'2-way Quiz'!F25),'2-way Quiz'!F25),IF(F29>2,IF(F$2=\"R\",\".\",'2-way Quiz'!F25),'2-way Quiz'!F25)))","v":20},{"$f":"IF(F24>2,\".\",IF(F29=2,IF(F24=0,IF('2-way Quiz'!G25=20,30,'2-way Quiz'!G25),'2-way Quiz'!G25),IF(G29>2,IF(G$2=\"R\",\".\",'2-way Quiz'!G25),'2-way Quiz'!G25)))","v":20},{"$f":"IF(G24>2,\".\",IF(G29=2,IF(G24=0,IF('2-way Quiz'!H25=20,30,'2-way Quiz'!H25),'2-way Quiz'!H25),IF(H29>2,IF(H$2=\"R\",\".\",'2-way Quiz'!H25),'2-way Quiz'!H25)))","v":20},{"$f":"IF(H24>2,\".\",IF(H29=2,IF(H24=0,IF('2-way Quiz'!I25=20,30,'2-way Quiz'!I25),'2-way Quiz'!I25),IF(I29>2,IF(I$2=\"R\",\".\",'2-way Quiz'!I25),'2-way Quiz'!I25)))","v":20},{"$f":"IF(I24>2,\".\",IF(I29=2,IF(I24=0,IF('2-way Quiz'!J25=20,30,'2-way Quiz'!J25),'2-way Quiz'!J25),IF(J29>2,IF(J$2=\"R\",\".\",'2-way Quiz'!J25),'2-way Quiz'!J25)))","v":20},{"$f":"IF(J24>2,\".\",IF(J29=2,IF(J24=0,IF('2-way Quiz'!K25=20,30,'2-way Quiz'!K25),'2-way Quiz'!K25),IF(K29>2,IF(K$2=\"R\",\".\",'2-way Quiz'!K25),'2-way Quiz'!K25)))","v":20},{"$f":"IF(K24>2,\".\",IF(K29=2,IF(K24=0,IF('2-way Quiz'!L25=20,30,'2-way Quiz'!L25),'2-way Quiz'!L25),IF(L29>2,IF(L$2=\"R\",\".\",'2-way Quiz'!L25),'2-way Quiz'!L25)))","v":20},{"$f":"IF(L24>2,\".\",IF(L29=2,IF(L24=0,IF('2-way Quiz'!M25=20,30,'2-way Quiz'!M25),'2-way Quiz'!M25),IF(M29>2,IF(M$2=\"R\",\".\",'2-way Quiz'!M25),'2-way Quiz'!M25)))","v":20},{"$f":"IF(M24>2,\".\",IF(M29=2,IF(M24=0,IF('2-way Quiz'!N25=20,30,'2-way Quiz'!N25),'2-way Quiz'!N25),IF(N29>2,IF(N$2=\"R\",\".\",'2-way Quiz'!N25),'2-way Quiz'!N25)))","v":20},{"$f":"IF(N24>2,\".\",IF(N29=2,IF(N24=0,IF('2-way Quiz'!O25=20,30,'2-way Quiz'!O25),'2-way Quiz'!O25),IF(O29>2,IF(O$2=\"R\",\".\",'2-way Quiz'!O25),'2-way Quiz'!O25)))","v":20},{"$f":"IF(O24>2,\".\",IF(O29=2,IF(O24=0,IF('2-way Quiz'!P25=20,30,'2-way Quiz'!P25),'2-way Quiz'!P25),IF(P29>2,IF(P$2=\"R\",\".\",'2-way Quiz'!P25),'2-way Quiz'!P25)))","v":20},{"$f":"IF(P24>2,\".\",IF(P29=2,IF(P24=0,IF('2-way Quiz'!Q25=20,30,'2-way Quiz'!Q25),'2-way Quiz'!Q25),IF(Q29>2,IF(Q$2=\"R\",\".\",'2-way Quiz'!Q25),'2-way Quiz'!Q25)))","v":"."},{"$f":"IF(Q24>2,\".\",IF(Q29=2,IF(Q24=0,IF('2-way Quiz'!R25=20,30,'2-way Quiz'!R25),'2-way Quiz'!R25),IF(R29>2,IF(R$2=\"R\",\".\",'2-way Quiz'!R25),'2-way Quiz'!R25)))","v":20},{"$f":"IF(R24>2,\".\",IF(R29=2,IF(R24=0,IF('2-way Quiz'!S25=20,30,'2-way Quiz'!S25),'2-way Quiz'!S25),IF(S29>2,IF(S$2=\"R\",\".\",'2-way Quiz'!S25),'2-way Quiz'!S25)))","v":10},{"$f":"IF(S24>2,\".\",IF(S29=2,IF(S24=0,IF('2-way Quiz'!T25=20,30,'2-way Quiz'!T25),'2-way Quiz'!T25),IF(T29>2,IF(T$2=\"R\",\".\",'2-way Quiz'!T25),'2-way Quiz'!T25)))","v":"."},{"$f":"IF(T24>2,\".\",IF(T29=2,IF(T24=0,IF('2-way Quiz'!U25=20,30,'2-way Quiz'!U25),'2-way Quiz'!U25),IF(U29>2,IF(U$2=\"R\",\".\",'2-way Quiz'!U25),'2-way Quiz'!U25)))","v":20},{"$f":"IF(U24>2,\".\",IF(U29=2,IF(U24=0,IF('2-way Quiz'!V25=20,30,'2-way Quiz'!V25),'2-way Quiz'!V25),IF(V29>2,IF(V$2=\"R\",\".\",'2-way Quiz'!V25),'2-way Quiz'!V25)))","v":10},{"$f":"IF(V24>2,\".\",IF(V29=2,IF(V24=0,IF('2-way Quiz'!W25=20,30,'2-way Quiz'!W25),'2-way Quiz'!W25),IF(W29>2,IF(W$2=\"R\",\".\",'2-way Quiz'!W25),'2-way Quiz'!W25)))","v":"."},{"$f":"IF(W24>2,\".\",IF(W29=2,IF(W24=0,IF('2-way Quiz'!X25=20,30,'2-way Quiz'!X25),'2-way Quiz'!X25),IF(X29>2,IF(X$2=\"R\",\".\",'2-way Quiz'!X25),'2-way Quiz'!X25)))","v":20},{"$f":"IF(X24>2,\".\",IF(X29=2,IF(X24=0,IF('2-way Quiz'!Y25=20,30,'2-way Quiz'!Y25),'2-way Quiz'!Y25),IF(Y29>2,IF(Y$2=\"R\",\".\",'2-way Quiz'!Y25),'2-way Quiz'!Y25)))","v":10},{"$f":"IF(Y24>2,\".\",IF(Y29=2,IF(Y24=0,IF('2-way Quiz'!Z25=20,30,'2-way Quiz'!Z25),'2-way Quiz'!Z25),IF(Z29>2,IF(Z$2=\"R\",\".\",'2-way Quiz'!Z25),'2-way Quiz'!Z25)))","v":10},{"$f":"IF(Z24>2,\".\",IF(Z29=2,IF(Z24=0,IF('2-way Quiz'!AA25=20,30,'2-way Quiz'!AA25),'2-way Quiz'!AA25),IF(AA29>2,IF(AA$2=\"R\",\".\",'2-way Quiz'!AA25),'2-way Quiz'!AA25)))","v":10},{"$f":"IF(AA24>2,\".\",IF(AA29=2,IF(AA24=0,IF('2-way Quiz'!AB25=20,30,'2-way Quiz'!AB25),'2-way Quiz'!AB25),IF(AB29>2,IF(AB$2=\"R\",\".\",'2-way Quiz'!AB25),'2-way Quiz'!AB25)))","v":10},{"$f":"IF(AB24>2,\".\",IF(AB29=2,IF(AB24=0,IF('2-way Quiz'!AC25=20,30,'2-way Quiz'!AC25),'2-way Quiz'!AC25),IF(AC29>2,IF(AC$2=\"R\",\".\",'2-way Quiz'!AC25),'2-way Quiz'!AC25)))","v":10},{"$f":"IF(AC24>2,\".\",IF(AC29=2,IF(AC24=0,IF('2-way Quiz'!AD25=20,30,'2-way Quiz'!AD25),'2-way Quiz'!AD25),IF(AD29>2,IF(AD$2=\"R\",\".\",'2-way Quiz'!AD25),'2-way Quiz'!AD25)))","v":10},{"$f":"IF(AD24>2,\".\",IF(AD29=2,IF(AD24=0,IF('2-way Quiz'!AE25=20,30,'2-way Quiz'!AE25),'2-way Quiz'!AE25),IF(AE29>2,IF(AE$2=\"R\",\".\",'2-way Quiz'!AE25),'2-way Quiz'!AE25)))","v":10},{"$f":"IF(AE24>2,\".\",IF(AE29=2,IF(AE24=0,IF('2-way Quiz'!AF25=20,30,'2-way Quiz'!AF25),'2-way Quiz'!AF25),IF(AF29>2,IF(AF$2=\"R\",\".\",'2-way Quiz'!AF25),'2-way Quiz'!AF25)))","v":10},{"$f":"IF(AF24>2,\".\",IF(AF29=2,IF(AF24=0,IF('2-way Quiz'!AG25=20,30,'2-way Quiz'!AG25),'2-way Quiz'!AG25),IF(AG29>2,IF(AG$2=\"R\",\".\",'2-way Quiz'!AG25),'2-way Quiz'!AG25)))","v":10},{"$f":"IF(AG24>2,\".\",IF(AG29=2,IF(AG24=0,IF('2-way Quiz'!AH25=20,30,'2-way Quiz'!AH25),'2-way Quiz'!AH25),IF(AH29>2,IF(AH$2=\"R\",\".\",'2-way Quiz'!AH25),'2-way Quiz'!AH25)))","v":10},{"$f":"IF(AH24>2,\".\",IF(AH29=2,IF(AH24=0,IF('2-way Quiz'!AI25=20,30,'2-way Quiz'!AI25),'2-way Quiz'!AI25),IF(AI29>2,IF(AI$2=\"R\",\".\",'2-way Quiz'!AI25),'2-way Quiz'!AI25)))","v":10},{"$f":"IF(AI24>2,\".\",IF(AI29=2,IF(AI24=0,IF('2-way Quiz'!AJ25=20,30,'2-way Quiz'!AJ25),'2-way Quiz'!AJ25),IF(AJ29>2,IF(AJ$2=\"R\",\".\",'2-way Quiz'!AJ25),'2-way Quiz'!AJ25)))","v":10},{"$f":"IF(AJ24>2,\".\",IF(AJ29=2,IF(AJ24=0,IF('2-way Quiz'!AK25=20,30,'2-way Quiz'!AK25),'2-way Quiz'!AK25),IF(AK29>2,IF(AK$2=\"R\",\".\",'2-way Quiz'!AK25),'2-way Quiz'!AK25)))","v":10},{"$f":"IF(AK24>2,\".\",IF(AK29=2,IF(AK24=0,IF('2-way Quiz'!AL25=20,30,'2-way Quiz'!AL25),'2-way Quiz'!AL25),IF(AL29>2,IF(AL$2=\"R\",\".\",'2-way Quiz'!AL25),'2-way Quiz'!AL25)))","v":10},{"$f":"IF(AL24>2,\".\",IF(AL29=2,IF(AL24=0,IF('2-way Quiz'!AM25=20,30,'2-way Quiz'!AM25),'2-way Quiz'!AM25),IF(AM29>2,IF(AM$2=\"R\",\".\",'2-way Quiz'!AM25),'2-way Quiz'!AM25)))","v":10},{"$f":"IF(AM24>2,\".\",IF(AM29=2,IF(AM24=0,IF('2-way Quiz'!AN25=20,30,'2-way Quiz'!AN25),'2-way Quiz'!AN25),IF(AN29>2,IF(AN$2=\"R\",\".\",'2-way Quiz'!AN25),'2-way Quiz'!AN25)))","v":10},{"$f":"IF(AN24>2,\".\",IF(AN29=2,IF(AN24=0,IF('2-way Quiz'!AO25=20,30,'2-way Quiz'!AO25),'2-way Quiz'!AO25),IF(AO29>2,IF(AO$2=\"R\",\".\",'2-way Quiz'!AO25),'2-way Quiz'!AO25)))","v":10},{"$f":"IF(AO24>2,\".\",IF(AO29=2,IF(AO24=0,IF('2-way Quiz'!AP25=20,30,'2-way Quiz'!AP25),'2-way Quiz'!AP25),IF(AP29>2,IF(AP$2=\"R\",\".\",'2-way Quiz'!AP25),'2-way Quiz'!AP25)))","v":10},{"$f":"IF(AP24>2,\".\",IF(AP29=2,IF(AP24=0,IF('2-way Quiz'!AQ25=20,30,'2-way Quiz'!AQ25),'2-way Quiz'!AQ25),IF(AQ29>2,IF(AQ$2=\"R\",\".\",'2-way Quiz'!AQ25),'2-way Quiz'!AQ25)))","v":10},{"$f":"IF(AQ24>2,\".\",IF(AQ29=2,IF(AQ24=0,IF('2-way Quiz'!AR25=20,30,'2-way Quiz'!AR25),'2-way Quiz'!AR25),IF(AR29>2,IF(AR$2=\"R\",\".\",'2-way Quiz'!AR25),'2-way Quiz'!AR25)))","v":10},{"$f":"IF(AR24>2,\".\",IF(AR29=2,IF(AR24=0,IF('2-way Quiz'!AS25=20,30,'2-way Quiz'!AS25),'2-way Quiz'!AS25),IF(AS29>2,IF(AS$2=\"R\",\".\",'2-way Quiz'!AS25),'2-way Quiz'!AS25)))","v":10},{"$f":"IF(AS24>2,\".\",IF(AS29=2,IF(AS24=0,IF('2-way Quiz'!AT25=20,30,'2-way Quiz'!AT25),'2-way Quiz'!AT25),IF(AT29>2,IF(AT$2=\"R\",\".\",'2-way Quiz'!AT25),'2-way Quiz'!AT25)))","v":10},{"$f":"IF(AT24>2,\".\",IF(AT29=2,IF(AT24=0,IF('2-way Quiz'!AU25=20,30,'2-way Quiz'!AU25),'2-way Quiz'!AU25),IF(AU29>2,IF(AU$2=\"R\",\".\",'2-way Quiz'!AU25),'2-way Quiz'!AU25)))","v":10},{"$f":"IF(AU24>2,\".\",IF(AU29=2,IF(AU24=0,IF('2-way Quiz'!AV25=20,30,'2-way Quiz'!AV25),'2-way Quiz'!AV25),IF(AV29>2,IF(AV$2=\"R\",\".\",'2-way Quiz'!AV25),'2-way Quiz'!AV25)))","v":10},{"$f":"IF(AV24>2,\".\",IF(AV29=2,IF(AV24=0,IF('2-way Quiz'!AW25=20,30,'2-way Quiz'!AW25),'2-way Quiz'!AW25),IF(AW29>2,IF(AW$2=\"R\",\".\",'2-way Quiz'!AW25),'2-way Quiz'!AW25)))","v":10},{"$f":"IF(AW24>2,\".\",IF(AW29=2,IF(AW24=0,IF('2-way Quiz'!AX25=20,30,'2-way Quiz'!AX25),'2-way Quiz'!AX25),IF(AX29>2,IF(AX$2=\"R\",\".\",'2-way Quiz'!AX25),'2-way Quiz'!AX25)))","v":10},{"$f":"IF(AX24>2,\".\",IF(AX29=2,IF(AX24=0,IF('2-way Quiz'!AY25=20,30,'2-way Quiz'!AY25),'2-way Quiz'!AY25),IF(AY29>2,IF(AY$2=\"R\",\".\",'2-way Quiz'!AY25),'2-way Quiz'!AY25)))","v":10},{"$f":"IF(AY24>2,\".\",IF(AY29=2,IF(AY24=0,IF('2-way Quiz'!AZ25=20,30,'2-way Quiz'!AZ25),'2-way Quiz'!AZ25),IF(AZ29>2,IF(AZ$2=\"R\",\".\",'2-way Quiz'!AZ25),'2-way Quiz'!AZ25)))","v":10},{"$f":"IF(AZ24>2,\".\",IF(AZ29=2,IF(AZ24=0,IF('2-way Quiz'!BA25=20,30,'2-way Quiz'!BA25),'2-way Quiz'!BA25),IF(BA29>2,IF(BA$2=\"R\",\".\",'2-way Quiz'!BA25),'2-way Quiz'!BA25)))","v":10},{"$f":"IF(BA24>2,\".\",IF(BA29=2,IF(BA24=0,IF('2-way Quiz'!BB25=20,30,'2-way Quiz'!BB25),'2-way Quiz'!BB25),IF(BB29>2,IF(BB$2=\"R\",\".\",'2-way Quiz'!BB25),'2-way Quiz'!BB25)))","v":10}]
[null,null,{"$f":"'2-way Quiz'!C20","v":"Substitute"},".",{"$f":"IF(D25>2,\".\",IF(D30=2,IF(D25=0,IF('2-way Quiz'!E25=20,30,'2-way Quiz'!E25),'2-way Quiz'!E25),IF(E30>2,IF(E$2=\"R\",\".\",'2-way Quiz'!E25),'2-way Quiz'!E25)))","v":20},{"$f":"IF(E25>2,\".\",IF(E30=2,IF(E25=0,IF('2-way Quiz'!F25=20,30,'2-way Quiz'!F25),'2-way Quiz'!F25),IF(F30>2,IF(F$2=\"R\",\".\",'2-way Quiz'!F25),'2-way Quiz'!F25)))","v":20},{"$f":"IF(F25>2,\".\",IF(F30=2,IF(F25=0,IF('2-way Quiz'!G25=20,30,'2-way Quiz'!G25),'2-way Quiz'!G25),IF(G30>2,IF(G$2=\"R\",\".\",'2-way Quiz'!G25),'2-way Quiz'!G25)))","v":20},{"$f":"IF(G25>2,\".\",IF(G30=2,IF(G25=0,IF('2-way Quiz'!H25=20,30,'2-way Quiz'!H25),'2-way Quiz'!H25),IF(H30>2,IF(H$2=\"R\",\".\",'2-way Quiz'!H25),'2-way Quiz'!H25)))","v":20},{"$f":"IF(H25>2,\".\",IF(H30=2,IF(H25=0,IF('2-way Quiz'!I25=20,30,'2-way Quiz'!I25),'2-way Quiz'!I25),IF(I30>2,IF(I$2=\"R\",\".\",'2-way Quiz'!I25),'2-way Quiz'!I25)))","v":20},{"$f":"IF(I25>2,\".\",IF(I30=2,IF(I25=0,IF('2-way Quiz'!J25=20,30,'2-way Quiz'!J25),'2-way Quiz'!J25),IF(J30>2,IF(J$2=\"R\",\".\",'2-way Quiz'!J25),'2-way Quiz'!J25)))","v":20},{"$f":"IF(J25>2,\".\",IF(J30=2,IF(J25=0,IF('2-way Quiz'!K25=20,30,'2-way Quiz'!K25),'2-way Quiz'!K25),IF(K30>2,IF(K$2=\"R\",\".\",'2-way Quiz'!K25),'2-way Quiz'!K25)))","v":20},{"$f":"IF(K25>2,\".\",IF(K30=2,IF(K25=0,IF('2-way Quiz'!L25=20,30,'2-way Quiz'!L25),'2-way Quiz'!L25),IF(L30>2,IF(L$2=\"R\",\".\",'2-way Quiz'!L25),'2-way Quiz'!L25)))","v":20},{"$f":"IF(L25>2,\".\",IF(L30=2,IF(L25=0,IF('2-way Quiz'!M25=20,30,'2-way Quiz'!M25),'2-way Quiz'!M25),IF(M30>2,IF(M$2=\"R\",\".\",'2-way Quiz'!M25),'2-way Quiz'!M25)))","v":20},{"$f":"IF(M25>2,\".\",IF(M30=2,IF(M25=0,IF('2-way Quiz'!N25=20,30,'2-way Quiz'!N25),'2-way Quiz'!N25),IF(N30>2,IF(N$2=\"R\",\".\",'2-way Quiz'!N25),'2-way Quiz'!N25)))","v":20},{"$f":"IF(N25>2,\".\",IF(N30=2,IF(N25=0,IF('2-way Quiz'!O25=20,30,'2-way Quiz'!O25),'2-way Quiz'!O25),IF(O30>2,IF(O$2=\"R\",\".\",'2-way Quiz'!O25),'2-way Quiz'!O25)))","v":20},{"$f":"IF(O25>2,\".\",IF(O30=2,IF(O25=0,IF('2-way Quiz'!P25=20,30,'2-way Quiz'!P25),'2-way Quiz'!P25),IF(P30>2,IF(P$2=\"R\",\".\",'2-way Quiz'!P25),'2-way Quiz'!P25)))","v":20},{"$f":"IF(P25>2,\".\",IF(P30=2,IF(P25=0,IF('2-way Quiz'!Q25=20,30,'2-way Quiz'!Q25),'2-way Quiz'!Q25),IF(Q30>2,IF(Q$2=\"R\",\".\",'2-way Quiz'!Q25),'2-way Quiz'!Q25)))","v":"."},{"$f":"IF(Q25>2,\".\",IF(Q30=2,IF(Q25=0,IF('2-way Quiz'!R25=20,30,'2-way Quiz'!R25),'2-way Quiz'!R25),IF(R30>2,IF(R$2=\"R\",\".\",'2-way Quiz'!R25),'2-way Quiz'!R25)))","v":20},{"$f":"IF(R25>2,\".\",IF(R30=2,IF(R25=0,IF('2-way Quiz'!S25=20,30,'2-way Quiz'!S25),'2-way Quiz'!S25),IF(S30>2,IF(S$2=\"R\",\".\",'2-way Quiz'!S25),'2-way Quiz'!S25)))","v":10},{"$f":"IF(S25>2,\".\",IF(S30=2,IF(S25=0,IF('2-way Quiz'!T25=20,30,'2-way Quiz'!T25),'2-way Quiz'!T25),IF(T30>2,IF(T$2=\"R\",\".\",'2-way Quiz'!T25),'2-way Quiz'!T25)))","v":"."},{"$f":"IF(T25>2,\".\",IF(T30=2,IF(T25=0,IF('2-way Quiz'!U25=20,30,'2-way Quiz'!U25),'2-way Quiz'!U25),IF(U30>2,IF(U$2=\"R\",\".\",'2-way Quiz'!U25),'2-way Quiz'!U25)))","v":20},{"$f":"IF(U25>2,\".\",IF(U30=2,IF(U25=0,IF('2-way Quiz'!V25=20,30,'2-way Quiz'!V25),'2-way Quiz'!V25),IF(V30>2,IF(V$2=\"R\",\".\",'2-way Quiz'!V25),'2-way Quiz'!V25)))","v":10},{"$f":"IF(V25>2,\".\",IF(V30=2,IF(V25=0,IF('2-way Quiz'!W25=20,30,'2-way Quiz'!W25),'2-way Quiz'!W25),IF(W30>2,IF(W$2=\"R\",\".\",'2-way Quiz'!W25),'2-way Quiz'!W25)))","v":"."},{"$f":"IF(W25>2,\".\",IF(W30=2,IF(W25=0,IF('2-way Quiz'!X25=20,30,'2-way Quiz'!X25),'2-way Quiz'!X25),IF(X30>2,IF(X$2=\"R\",\".\",'2-way Quiz'!X25),'2-way Quiz'!X25)))","v":20},{"$f":"IF(X25>2,\".\",IF(X30=2,IF(X25=0,IF('2-way Quiz'!Y25=20,30,'2-way Quiz'!Y25),'2-way Quiz'!Y25),IF(Y30>2,IF(Y$2=\"R\",\".\",'2-way Quiz'!Y25),'2-way Quiz'!Y25)))","v":10},{"$f":"IF(Y25>2,\".\",IF(Y30=2,IF(Y25=0,IF('2-way Quiz'!Z25=20,30,'2-way Quiz'!Z25),'2-way Quiz'!Z25),IF(Z30>2,IF(Z$2=\"R\",\".\",'2-way Quiz'!Z25),'2-way Quiz'!Z25)))","v":10},{"$f":"IF(Z25>2,\".\",IF(Z30=2,IF(Z25=0,IF('2-way Quiz'!AA25=20,30,'2-way Quiz'!AA25),'2-way Quiz'!AA25),IF(AA30>2,IF(AA$2=\"R\",\".\",'2-way Quiz'!AA25),'2-way Quiz'!AA25)))","v":10},{"$f":"IF(AA25>2,\".\",IF(AA30=2,IF(AA25=0,IF('2-way Quiz'!AB25=20,30,'2-way Quiz'!AB25),'2-way Quiz'!AB25),IF(AB30>2,IF(AB$2=\"R\",\".\",'2-way Quiz'!AB25),'2-way Quiz'!AB25)))","v":10},{"$f":"IF(AB25>2,\".\",IF(AB30=2,IF(AB25=0,IF('2-way Quiz'!AC25=20,30,'2-way Quiz'!AC25),'2-way Quiz'!AC25),IF(AC30>2,IF(AC$2=\"R\",\".\",'2-way Quiz'!AC25),'2-way Quiz'!AC25)))","v":10},{"$f":"IF(AC25>2,\".\",IF(AC30=2,IF(AC25=0,IF('2-way Quiz'!AD25=20,30,'2-way Quiz'!AD25),'2-way Quiz'!AD25),IF(AD30>2,IF(AD$2=\"R\",\".\",'2-way Quiz'!AD25),'2-way Quiz'!AD25)))","v":10},{"$f":"IF(AD25>2,\".\",IF(AD30=2,IF(AD25=0,IF('2-way Quiz'!AE25=20,30,'2-way Quiz'!AE25),'2-way Quiz'!AE25),IF(AE30>2,IF(AE$2=\"R\",\".\",'2-way Quiz'!AE25),'2-way Quiz'!AE25)))","v":10},{"$f":"IF(AE25>2,\".\",IF(AE30=2,IF(AE25=0,IF('2-way Quiz'!AF25=20,30,'2-way Quiz'!AF25),'2-way Quiz'!AF25),IF(AF30>2,IF(AF$2=\"R\",\".\",'2-way Quiz'!AF25),'2-way Quiz'!AF25)))","v":10},{"$f":"IF(AF25>2,\".\",IF(AF30=2,IF(AF25=0,IF('2-way Quiz'!AG25=20,30,'2-way Quiz'!AG25),'2-way Quiz'!AG25),IF(AG30>2,IF(AG$2=\"R\",\".\",'2-way Quiz'!AG25),'2-way Quiz'!AG25)))","v":10},{"$f":"IF(AG25>2,\".\",IF(AG30=2,IF(AG25=0,IF('2-way Quiz'!AH25=20,30,'2-way Quiz'!AH25),'2-way Quiz'!AH25),IF(AH30>2,IF(AH$2=\"R\",\".\",'2-way Quiz'!AH25),'2-way Quiz'!AH25)))","v":10},{"$f":"IF(AH25>2,\".\",IF(AH30=2,IF(AH25=0,IF('2-way Quiz'!AI25=20,30,'2-way Quiz'!AI25),'2-way Quiz'!AI25),IF(AI30>2,IF(AI$2=\"R\",\".\",'2-way Quiz'!AI25),'2-way Quiz'!AI25)))","v":10},{"$f":"IF(AI25>2,\".\",IF(AI30=2,IF(AI25=0,IF('2-way Quiz'!AJ25=20,30,'2-way Quiz'!AJ25),'2-way Quiz'!AJ25),IF(AJ30>2,IF(AJ$2=\"R\",\".\",'2-way Quiz'!AJ25),'2-way Quiz'!AJ25)))","v":10},{"$f":"IF(AJ25>2,\".\",IF(AJ30=2,IF(AJ25=0,IF('2-way Quiz'!AK25=20,30,'2-way Quiz'!AK25),'2-way Quiz'!AK25),IF(AK30>2,IF(AK$2=\"R\",\".\",'2-way Quiz'!AK25),'2-way Quiz'!AK25)))","v":10},{"$f":"IF(AK25>2,\".\",IF(AK30=2,IF(AK25=0,IF('2-way Quiz'!AL25=20,30,'2-way Quiz'!AL25),'2-way Quiz'!AL25),IF(AL30>2,IF(AL$2=\"R\",\".\",'2-way Quiz'!AL25),'2-way Quiz'!AL25)))","v":10},{"$f":"IF(AL25>2,\".\",IF(AL30=2,IF(AL25=0,IF('2-way Quiz'!AM25=20,30,'2-way Quiz'!AM25),'2-way Quiz'!AM25),IF(AM30>2,IF(AM$2=\"R\",\".\",'2-way Quiz'!AM25),'2-way Quiz'!AM25)))","v":10},{"$f":"IF(AM25>2,\".\",IF(AM30=2,IF(AM25=0,IF('2-way Quiz'!AN25=20,30,'2-way Quiz'!AN25),'2-way Quiz'!AN25),IF(AN30>2,IF(AN$2=\"R\",\".\",'2-way Quiz'!AN25),'2-way Quiz'!AN25)))","v":10},{"$f":"IF(AN25>2,\".\",IF(AN30=2,IF(AN25=0,IF('2-way Quiz'!AO25=20,30,'2-way Quiz'!AO25),'2-way Quiz'!AO25),IF(AO30>2,IF(AO$2=\"R\",\".\",'2-way Quiz'!AO25),'2-way Quiz'!AO25)))","v":10},{"$f":"IF(AO25>2,\".\",IF(AO30=2,IF(AO25=0,IF('2-way Quiz'!AP25=20,30,'2-way Quiz'!AP25),'2-way Quiz'!AP25),IF(AP30>2,IF(AP$2=\"R\",\".\",'2-way Quiz'!AP25),'2-way Quiz'!AP25)))","v":10},{"$f":"IF(AP25>2,\".\",IF(AP30=2,IF(AP25=0,IF('2-way Quiz'!AQ25=20,30,'2-way Quiz'!AQ25),'2-way Quiz'!AQ25),IF(AQ30>2,IF(AQ$2=\"R\",\".\",'2-way Quiz'!AQ25),'2-way Quiz'!AQ25)))","v":10},{"$f":"IF(AQ25>2,\".\",IF(AQ30=2,IF(AQ25=0,IF('2-way Quiz'!AR25=20,30,'2-way Quiz'!AR25),'2-way Quiz'!AR25),IF(AR30>2,IF(AR$2=\"R\",\".\",'2-way Quiz'!AR25),'2-way Quiz'!AR25)))","v":10},{"$f":"IF(AR25>2,\".\",IF(AR30=2,IF(AR25=0,IF('2-way Quiz'!AS25=20,30,'2-way Quiz'!AS25),'2-way Quiz'!AS25),IF(AS30>2,IF(AS$2=\"R\",\".\",'2-way Quiz'!AS25),'2-way Quiz'!AS25)))","v":10},{"$f":"IF(AS25>2,\".\",IF(AS30=2,IF(AS25=0,IF('2-way Quiz'!AT25=20,30,'2-way Quiz'!AT25),'2-way Quiz'!AT25),IF(AT30>2,IF(AT$2=\"R\",\".\",'2-way Quiz'!AT25),'2-way Quiz'!AT25)))","v":10},{"$f":"IF(AT25>2,\".\",IF(AT30=2,IF(AT25=0,IF('2-way Quiz'!AU25=20,30,'2-way Quiz'!AU25),'2-way Quiz'!AU25),IF(AU30>2,IF(AU$2=\"R\",\".\",'2-way Quiz'!AU25),'2-way Quiz'!AU25)))","v":10},{"$f":"IF(AU25>2,\".\",IF(AU30=2,IF(AU25=0,IF('2-way Quiz'!AV25=20,30,'2-way Quiz'!AV25),'2-way Quiz'!AV25),IF(AV30>2,IF(AV$2=\"R\",\".\",'2-way Quiz'!AV25),'2-way Quiz'!AV25)))","v":10},{"$f":"IF(AV25>2,\".\",IF(AV30=2,IF(AV25=0,IF('2-way Quiz'!AW25=20,30,'2-way Quiz'!AW25),'2-way Quiz'!AW25),IF(AW30>2,IF(AW$2=\"R\",\".\",'2-way Quiz'!AW25),'2-way Quiz'!AW25)))","v":10},{"$f":"IF(AW25>2,\".\",IF(AW30=2,IF(AW25=0,IF('2-way Quiz'!AX25=20,30,'2-way Quiz'!AX25),'2-way Quiz'!AX25),IF(AX30>2,IF(AX$2=\"R\",\".\",'2-way Quiz'!AX25),'2-way Quiz'!AX25)))","v":10},{"$f":"IF(AX25>2,\".\",IF(AX30=2,IF(AX25=0,IF('2-way Quiz'!AY25=20,30,'2-way Quiz'!AY25),'2-way Quiz'!AY25),IF(AY30>2,IF(AY$2=\"R\",\".\",'2-way Quiz'!AY25),'2-way Quiz'!AY25)))","v":10},{"$f":"IF(AY25>2,\".\",IF(AY30=2,IF(AY25=0,IF('2-way Quiz'!AZ25=20,30,'2-way Quiz'!AZ25),'2-way Quiz'!AZ25),IF(AZ30>2,IF(AZ$2=\"R\",\".\",'2-way Quiz'!AZ25),'2-way Quiz'!AZ25)))","v":10},{"$f":"IF(AZ25>2,\".\",IF(AZ30=2,IF(AZ25=0,IF('2-way Quiz'!BA25=20,30,'2-way Quiz'!BA25),'2-way Quiz'!BA25),IF(BA30>2,IF(BA$2=\"R\",\".\",'2-way Quiz'!BA25),'2-way Quiz'!BA25)))","v":10},{"$f":"IF(BA25>2,\".\",IF(BA30=2,IF(BA25=0,IF('2-way Quiz'!BB25=20,30,'2-way Quiz'!BB25),'2-way Quiz'!BB25),IF(BB30>2,IF(BB$2=\"R\",\".\",'2-way Quiz'!BB25),'2-way Quiz'!BB25)))","v":10}]
[]
[null,null,{"$f":"CONCATENATE(\"# of errors \",C17)","v":"# of errors Quizzer #1"},{"$f":"IF('2-way Quiz'!D17=\"E\",1,0)","v":0},{"$f":"IF('2-way Quiz'!E17=\"E\",D22+1,D22)","v":0},{"$f":"IF('2-way Quiz'!F17=\"E\",E22+1,E22)","v":0},{"$f":"IF('2-way Quiz'!G17=\"E\",F22+1,F22)","v":0},{"$f":"IF('2-way Quiz'!H17=\"E\",G22+1,G22)","v":0},{"$f":"IF('2-way Quiz'!I17=\"E\",H22+1,H22)","v":0},{"$f":"IF('2-way Quiz'!J17=\"E\",I22+1,I22)","v":0},{"$f":"IF('2-way Quiz'!K17=\"E\",J22+1,J22)","v":0},{"$f":"IF('2-way Quiz'!L17=\"E\",K22+1,K22)","v":0},{"$f":"IF('2-way Quiz'!M17=\"E\",L22+1,L22)","v":0},{"$f":"IF('2-way Quiz'!N17=\"E\",M22+1,M22)","v":0},{"$f":"IF('2-way Quiz'!O17=\"E\",N22+1,N22)","v":0},{"$f":"IF('2-way Quiz'!P17=\"E\",O22+1,O22)","v":0},{"$f":"IF('2-way Quiz'!Q17=\"E\",P22+1,P22)","v":0},{"$f":"IF('2-way Quiz'!R17=\"E\",Q22+1,Q22)","v":0},{"$f":"IF('2-way Quiz'!S17=\"E\",R22+1,R22)","v":0},{"$f":"IF('2-way Quiz'!T17=\"E\",S22+1,S22)","v":0},{"$f":"IF('2-way Quiz'!U17=\"E\",T22+1,T22)","v":0},{"$f":"IF('2-way Quiz'!V17=\"E\",U22+1,U22)","v":0},{"$f":"IF('2-way Quiz'!W17=\"E\",V22+1,V22)","v":0},{"$f":"IF('2-way Quiz'!X17=\"E\",W22+1,W22)","v":0},{"$f":"IF('2-way Quiz'!Y17=\"E\",X22+1,X22)","v":0},{"$f":"IF('2-way Quiz'!Z17=\"E\",Y22+1,Y22)","v":0},{"$f":"IF('2-way Quiz'!AA17=\"E\",Z22+1,Z22)","v":0},{"$f":"IF('2-way Quiz'!AB17=\"E\",AA22+1,AA22)","v":0},{"$f":"IF('2-way Quiz'!AC17=\"E\",AB22+1,AB22)","v":0},{"$f":"IF('2-way Quiz'!AD17=\"E\",AC22+1,AC22)","v":0},{"$f":"IF('2-way Quiz'!AE17=\"E\",AD22+1,AD22)","v":0},{"$f":"IF('2-way Quiz'!AF17=\"E\",AE22+1,AE22)","v":0},{"$f":"IF('2-way Quiz'!AG17=\"E\",AF22+1,AF22)","v":0},{"$f":"IF('2-way Quiz'!AH17=\"E\",AG22+1,AG22)","v":0},{"$f":"IF('2-way Quiz'!AI17=\"E\",AH22+1,AH22)","v":0},{"$f":"IF('2-way Quiz'!AJ17=\"E\",AI22+1,AI22)","v":0},{"$f":"IF('2-way Quiz'!AK17=\"E\",AJ22+1,AJ22)","v":0},{"$f":"IF('2-way Quiz'!AL17=\"E\",AK22+1,AK22)","v":0},{"$f":"IF('2-way Quiz'!AM17=\"E\",AL22+1,AL22)","v":0},{"$f":"IF('2-way Quiz'!AN17=\"E\",AM22+1,AM22)","v":0},{"$f":"IF('2-way Quiz'!AO17=\"E\",AN22+1,AN22)","v":0},{"$f":"IF('2-way Quiz'!AP17=\"E\",AO22+1,AO22)","v":0},{"$f":"IF('2-way Quiz'!AQ17=\"E\",AP22+1,AP22)","v":0},{"$f":"IF('2-way Quiz'!AR17=\"E\",AQ22+1,AQ22)","v":0},{"$f":"IF('2-way Quiz'!AS17=\"E\",AR22+1,AR22)","v":0},{"$f":"IF('2-way Quiz'!AT17=\"E\",AS22+1,AS22)","v":0},{"$f":"IF('2-way Quiz'!AU17=\"E\",AT22+1,AT22)","v":0},{"$f":"IF('2-way Quiz'!AV17=\"E\",AU22+1,AU22)","v":0},{"$f":"IF('2-way Quiz'!AW17=\"E\",AV22+1,AV22)","v":0},{"$f":"IF('2-way Quiz'!AX17=\"E\",AW22+1,AW22)","v":0},{"$f":"IF('2-way Quiz'!AY17=\"E\",AX22+1,AX22)","v":0},{"$f":"IF('2-way Quiz'!AZ17=\"E\",AY22+1,AY22)","v":0},{"$f":"IF('2-way Quiz'!BA17=\"E\",AZ22+1,AZ22)","v":0},{"$f":"IF('2-way Quiz'!BB17=\"E\",BA22+1,BA22)","v":0}]
[null,null,{"$f":"CONCATENATE(\"# of errors \",C18)","v":"# of errors Quizzer #2"},{"$f":"IF('2-way Quiz'!D18=\"E\",1,0)","v":0},{"$f":"IF('2-way Quiz'!E18=\"E\",D23+1,D23)","v":0},{"$f":"IF('2-way Quiz'!F18=\"E\",E23+1,E23)","v":0},{"$f":"IF('2-way Quiz'!G18=\"E\",F23+1,F23)","v":0},{"$f":"IF('2-way Quiz'!H18=\"E\",G23+1,G23)","v":0},{"$f":"IF('2-way Quiz'!I18=\"E\",H23+1,H23)","v":0},{"$f":"IF('2-way Quiz'!J18=\"E\",I23+1,I23)","v":0},{"$f":"IF('2-way Quiz'!K18=\"E\",J23+1,J23)","v":0},{"$f":"IF('2-way Quiz'!L18=\"E\",K23+1,K23)","v":0},{"$f":"IF('2-way Quiz'!M18=\"E\",L23+1,L23)","v":0},{"$f":"IF('2-way Quiz'!N18=\"E\",M23+1,M23)","v":0},{"$f":"IF('2-way Quiz'!O18=\"E\",N23+1,N23)","v":0},{"$f":"IF('2-way Quiz'!P18=\"E\",O23+1,O23)","v":0},{"$f":"IF('2-way Quiz'!Q18=\"E\",P23+1,P23)","v":0},{"$f":"IF('2-way Quiz'!R18=\"E\",Q23+1,Q23)","v":0},{"$f":"IF('2-way Quiz'!S18=\"E\",R23+1,R23)","v":0},{"$f":"IF('2-way Quiz'!T18=\"E\",S23+1,S23)","v":0},{"$f":"IF('2-way Quiz'!U18=\"E\",T23+1,T23)","v":0},{"$f":"IF('2-way Quiz'!V18=\"E\",U23+1,U23)","v":0},{"$f":"IF('2-way Quiz'!W18=\"E\",V23+1,V23)","v":0},{"$f":"IF('2-way Quiz'!X18=\"E\",W23+1,W23)","v":0},{"$f":"IF('2-way Quiz'!Y18=\"E\",X23+1,X23)","v":0},{"$f":"IF('2-way Quiz'!Z18=\"E\",Y23+1,Y23)","v":0},{"$f":"IF('2-way Quiz'!AA18=\"E\",Z23+1,Z23)","v":0},{"$f":"IF('2-way Quiz'!AB18=\"E\",AA23+1,AA23)","v":0},{"$f":"IF('2-way Quiz'!AC18=\"E\",AB23+1,AB23)","v":0},{"$f":"IF('2-way Quiz'!AD18=\"E\",AC23+1,AC23)","v":0},{"$f":"IF('2-way Quiz'!AE18=\"E\",AD23+1,AD23)","v":0},{"$f":"IF('2-way Quiz'!AF18=\"E\",AE23+1,AE23)","v":0},{"$f":"IF('2-way Quiz'!AG18=\"E\",AF23+1,AF23)","v":0},{"$f":"IF('2-way Quiz'!AH18=\"E\",AG23+1,AG23)","v":0},{"$f":"IF('2-way Quiz'!AI18=\"E\",AH23+1,AH23)","v":0},{"$f":"IF('2-way Quiz'!AJ18=\"E\",AI23+1,AI23)","v":0},{"$f":"IF('2-way Quiz'!AK18=\"E\",AJ23+1,AJ23)","v":0},{"$f":"IF('2-way Quiz'!AL18=\"E\",AK23+1,AK23)","v":0},{"$f":"IF('2-way Quiz'!AM18=\"E\",AL23+1,AL23)","v":0},{"$f":"IF('2-way Quiz'!AN18=\"E\",AM23+1,AM23)","v":0},{"$f":"IF('2-way Quiz'!AO18=\"E\",AN23+1,AN23)","v":0},{"$f":"IF('2-way Quiz'!AP18=\"E\",AO23+1,AO23)","v":0},{"$f":"IF('2-way Quiz'!AQ18=\"E\",AP23+1,AP23)","v":0},{"$f":"IF('2-way Quiz'!AR18=\"E\",AQ23+1,AQ23)","v":0},{"$f":"IF('2-way Quiz'!AS18=\"E\",AR23+1,AR23)","v":0},{"$f":"IF('2-way Quiz'!AT18=\"E\",AS23+1,AS23)","v":0},{"$f":"IF('2-way Quiz'!AU18=\"E\",AT23+1,AT23)","v":0},{"$f":"IF('2-way Quiz'!AV18=\"E\",AU23+1,AU23)","v":0},{"$f":"IF('2-way Quiz'!AW18=\"E\",AV23+1,AV23)","v":0},{"$f":"IF('2-way Quiz'!AX18=\"E\",AW23+1,AW23)","v":0},{"$f":"IF('2-way Quiz'!AY18=\"E\",AX23+1,AX23)","v":0},{"$f":"IF('2-way Quiz'!AZ18=\"E\",AY23+1,AY23)","v":0},{"$f":"IF('2-way Quiz'!BA18=\"E\",AZ23+1,AZ23)","v":0},{"$f":"IF('2-way Quiz'!BB18=\"E\",BA23+1,BA23)","v":0}]
[null,null,{"$f":"CONCATENATE(\"# of errors \",C19)","v":"# of errors Quizzer #3"},{"$f":"IF('2-way Quiz'!D19=\"E\",1,0)","v":0},{"$f":"IF('2-way Quiz'!E19=\"E\",D24+1,D24)","v":0},{"$f":"IF('2-way Quiz'!F19=\"E\",E24+1,E24)","v":0},{"$f":"IF('2-way Quiz'!G19=\"E\",F24+1,F24)","v":0},{"$f":"IF('2-way Quiz'!H19=\"E\",G24+1,G24)","v":0},{"$f":"IF('2-way Quiz'!I19=\"E\",H24+1,H24)","v":0},{"$f":"IF('2-way Quiz'!J19=\"E\",I24+1,I24)","v":0},{"$f":"IF('2-way Quiz'!K19=\"E\",J24+1,J24)","v":0},{"$f":"IF('2-way Quiz'!L19=\"E\",K24+1,K24)","v":0},{"$f":"IF('2-way Quiz'!M19=\"E\",L24+1,L24)","v":0},{"$f":"IF('2-way Quiz'!N19=\"E\",M24+1,M24)","v":0},{"$f":"IF('2-way Quiz'!O19=\"E\",N24+1,N24)","v":0},{"$f":"IF('2-way Quiz'!P19=\"E\",O24+1,O24)","v":0},{"$f":"IF('2-way Quiz'!Q19=\"E\",P24+1,P24)","v":0},{"$f":"IF('2-way Quiz'!R19=\"E\",Q24+1,Q24)","v":0},{"$f":"IF('2-way Quiz'!S19=\"E\",R24+1,R24)","v":0},{"$f":"IF('2-way Quiz'!T19=\"E\",S24+1,S24)","v":0},{"$f":"IF('2-way Quiz'!U19=\"E\",T24+1,T24)","v":0},{"$f":"IF('2-way Quiz'!V19=\"E\",U24+1,U24)","v":0},{"$f":"IF('2-way Quiz'!W19=\"E\",V24+1,V24)","v":0},{"$f":"IF('2-way Quiz'!X19=\"E\",W24+1,W24)","v":0},{"$f":"IF('2-way Quiz'!Y19=\"E\",X24+1,X24)","v":0},{"$f":"IF('2-way Quiz'!Z19=\"E\",Y24+1,Y24)","v":0},{"$f":"IF('2-way Quiz'!AA19=\"E\",Z24+1,Z24)","v":0},{"$f":"IF('2-way Quiz'!AB19=\"E\",AA24+1,AA24)","v":0},{"$f":"IF('2-way Quiz'!AC19=\"E\",AB24+1,AB24)","v":0},{"$f":"IF('2-way Quiz'!AD19=\"E\",AC24+1,AC24)","v":0},{"$f":"IF('2-way Quiz'!AE19=\"E\",AD24+1,AD24)","v":0},{"$f":"IF('2-way Quiz'!AF19=\"E\",AE24+1,AE24)","v":0},{"$f":"IF('2-way Quiz'!AG19=\"E\",AF24+1,AF24)","v":0},{"$f":"IF('2-way Quiz'!AH19=\"E\",AG24+1,AG24)","v":0},{"$f":"IF('2-way Quiz'!AI19=\"E\",AH24+1,AH24)","v":0},{"$f":"IF('2-way Quiz'!AJ19=\"E\",AI24+1,AI24)","v":0},{"$f":"IF('2-way Quiz'!AK19=\"E\",AJ24+1,AJ24)","v":0},{"$f":"IF('2-way Quiz'!AL19=\"E\",AK24+1,AK24)","v":0},{"$f":"IF('2-way Quiz'!AM19=\"E\",AL24+1,AL24)","v":0},{"$f":"IF('2-way Quiz'!AN19=\"E\",AM24+1,AM24)","v":0},{"$f":"IF('2-way Quiz'!AO19=\"E\",AN24+1,AN24)","v":0},{"$f":"IF('2-way Quiz'!AP19=\"E\",AO24+1,AO24)","v":0},{"$f":"IF('2-way Quiz'!AQ19=\"E\",AP24+1,AP24)","v":0},{"$f":"IF('2-way Quiz'!AR19=\"E\",AQ24+1,AQ24)","v":0},{"$f":"IF('2-way Quiz'!AS19=\"E\",AR24+1,AR24)","v":0},{"$f":"IF('2-way Quiz'!AT19=\"E\",AS24+1,AS24)","v":0},{"$f":"IF('2-way Quiz'!AU19=\"E\",AT24+1,AT24)","v":0},{"$f":"IF('2-way Quiz'!AV19=\"E\",AU24+1,AU24)","v":0},{"$f":"IF('2-way Quiz'!AW19=\"E\",AV24+1,AV24)","v":0},{"$f":"IF('2-way Quiz'!AX19=\"E\",AW24+1,AW24)","v":0},{"$f":"IF('2-way Quiz'!AY19=\"E\",AX24+1,AX24)","v":0},{"$f":"IF('2-way Quiz'!AZ19=\"E\",AY24+1,AY24)","v":0},{"$f":"IF('2-way Quiz'!BA19=\"E\",AZ24+1,AZ24)","v":0},{"$f":"IF('2-way Quiz'!BB19=\"E\",BA24+1,BA24)","v":0}]
[null,null,{"$f":"CONCATENATE(\"# of errors \",C20)","v":"# of errors Substitute"},{"$f":"IF('2-way Quiz'!D20=\"E\",1,0)","v":0},{"$f":"IF('2-way Quiz'!E20=\"E\",D25+1,D25)","v":0},{"$f":"IF('2-way Quiz'!F20=\"E\",E25+1,E25)","v":0},{"$f":"IF('2-way Quiz'!G20=\"E\",F25+1,F25)","v":0},{"$f":"IF('2-way Quiz'!H20=\"E\",G25+1,G25)","v":0},{"$f":"IF('2-way Quiz'!I20=\"E\",H25+1,H25)","v":0},{"$f":"IF('2-way Quiz'!J20=\"E\",I25+1,I25)","v":0},{"$f":"IF('2-way Quiz'!K20=\"E\",J25+1,J25)","v":0},{"$f":"IF('2-way Quiz'!L20=\"E\",K25+1,K25)","v":0},{"$f":"IF('2-way Quiz'!M20=\"E\",L25+1,L25)","v":0},{"$f":"IF('2-way Quiz'!N20=\"E\",M25+1,M25)","v":0},{"$f":"IF('2-way Quiz'!O20=\"E\",N25+1,N25)","v":0},{"$f":"IF('2-way Quiz'!P20=\"E\",O25+1,O25)","v":0},{"$f":"IF('2-way Quiz'!Q20=\"E\",P25+1,P25)","v":0},{"$f":"IF('2-way Quiz'!R20=\"E\",Q25+1,Q25)","v":0},{"$f":"IF('2-way Quiz'!S20=\"E\",R25+1,R25)","v":0},{"$f":"IF('2-way Quiz'!T20=\"E\",S25+1,S25)","v":0},{"$f":"IF('2-way Quiz'!U20=\"E\",T25+1,T25)","v":0},{"$f":"IF('2-way Quiz'!V20=\"E\",U25+1,U25)","v":0},{"$f":"IF('2-way Quiz'!W20=\"E\",V25+1,V25)","v":0},{"$f":"IF('2-way Quiz'!X20=\"E\",W25+1,W25)","v":0},{"$f":"IF('2-way Quiz'!Y20=\"E\",X25+1,X25)","v":0},{"$f":"IF('2-way Quiz'!Z20=\"E\",Y25+1,Y25)","v":0},{"$f":"IF('2-way Quiz'!AA20=\"E\",Z25+1,Z25)","v":0},{"$f":"IF('2-way Quiz'!AB20=\"E\",AA25+1,AA25)","v":0},{"$f":"IF('2-way Quiz'!AC20=\"E\",AB25+1,AB25)","v":0},{"$f":"IF('2-way Quiz'!AD20=\"E\",AC25+1,AC25)","v":0},{"$f":"IF('2-way Quiz'!AE20=\"E\",AD25+1,AD25)","v":0},{"$f":"IF('2-way Quiz'!AF20=\"E\",AE25+1,AE25)","v":0},{"$f":"IF('2-way Quiz'!AG20=\"E\",AF25+1,AF25)","v":0},{"$f":"IF('2-way Quiz'!AH20=\"E\",AG25+1,AG25)","v":0},{"$f":"IF('2-way Quiz'!AI20=\"E\",AH25+1,AH25)","v":0},{"$f":"IF('2-way Quiz'!AJ20=\"E\",AI25+1,AI25)","v":0},{"$f":"IF('2-way Quiz'!AK20=\"E\",AJ25+1,AJ25)","v":0},{"$f":"IF('2-way Quiz'!AL20=\"E\",AK25+1,AK25)","v":0},{"$f":"IF('2-way Quiz'!AM20=\"E\",AL25+1,AL25)","v":0},{"$f":"IF('2-way Quiz'!AN20=\"E\",AM25+1,AM25)","v":0},{"$f":"IF('2-way Quiz'!AO20=\"E\",AN25+1,AN25)","v":0},{"$f":"IF('2-way Quiz'!AP20=\"E\",AO25+1,AO25)","v":0},{"$f":"IF('2-way Quiz'!AQ20=\"E\",AP25+1,AP25)","v":0},{"$f":"IF('2-way Quiz'!AR20=\"E\",AQ25+1,AQ25)","v":0},{"$f":"IF('2-way Quiz'!AS20=\"E\",AR25+1,AR25)","v":0},{"$f":"IF('2-way Quiz'!AT20=\"E\",AS25+1,AS25)","v":0},{"$f":"IF('2-way Quiz'!AU20=\"E\",AT25+1,AT25)","v":0},{"$f":"IF('2-way Quiz'!AV20=\"E\",AU25+1,AU25)","v":0},{"$f":"IF('2-way Quiz'!AW20=\"E\",AV25+1,AV25)","v":0},{"$f":"IF('2-way Quiz'!AX20=\"E\",AW25+1,AW25)","v":0},{"$f":"IF('2-way Quiz'!AY20=\"E\",AX25+1,AX25)","v":0},{"$f":"IF('2-way Quiz'!AZ20=\"E\",AY25+1,AY25)","v":0},{"$f":"IF('2-way Quiz'!BA20=\"E\",AZ25+1,AZ25)","v":0},{"$f":"IF('2-way Quiz'!BB20=\"E\",BA25+1,BA25)","v":0}]
[]
[null,null,{"$f":"CONCATENATE(\"#20's \",C17)","v":"#20's Quizzer #1"},{"$f":"COUNTIF('2-way Quiz'!$D17:D17,20)+COUNTIF('2-way Quiz'!$D17:D17,30)","v":0},{"$f":"COUNTIF('2-way Quiz'!$D17:E17,20)+COUNTIF('2-way Quiz'!$D17:E17,30)","v":0},{"$f":"COUNTIF('2-way Quiz'!$D17:F17,20)+COUNTIF('2-way Quiz'!$D17:F17,30)","v":0},{"$f":"COUNTIF('2-way Quiz'!$D17:G17,20)+COUNTIF('2-way Quiz'!$D17:G17,30)","v":0},{"$f":"COUNTIF('2-way Quiz'!$D17:H17,20)+COUNTIF('2-way Quiz'!$D17:H17,30)","v":0},{"$f":"COUNTIF('2-way Quiz'!$D17:I17,20)+COUNTIF('2-way Quiz'!$D17:I17,30)","v":0},{"$f":"COUNTIF('2-way Quiz'!$D17:J17,20)+COUNTIF('2-way Quiz'!$D17:J17,30)","v":0},{"$f":"COUNTIF('2-way Quiz'!$D17:K17,20)+COUNTIF('2-way Quiz'!$D17:K17,30)","v":0},{"$f":"COUNTIF('2-way Quiz'!$D17:L17,20)+COUNTIF('2-way Quiz'!$D17:L17,30)","v":0},{"$f":"COUNTIF('2-way Quiz'!$D17:M17,20)+COUNTIF('2-way Quiz'!$D17:M17,30)","v":0},{"$f":"COUNTIF('2-way Quiz'!$D17:N17,20)+COUNTIF('2-way Quiz'!$D17:N17,30)","v":0},{"$f":"COUNTIF('2-way Quiz'!$D17:O17,20)+COUNTIF('2-way Quiz'!$D17:O17,30)","v":0},{"$f":"COUNTIF('2-way Quiz'!$D17:P17,20)+COUNTIF('2-way Quiz'!$D17:P17,30)","v":0},{"$f":"COUNTIF('2-way Quiz'!$D17:Q17,20)+COUNTIF('2-way Quiz'!$D17:Q17,30)","v":0},{"$f":"COUNTIF('2-way Quiz'!$D17:R17,20)+COUNTIF('2-way Quiz'!$D17:R17,30)","v":0},{"$f":"COUNTIF('2-way Quiz'!$D17:S17,20)+COUNTIF('2-way Quiz'!$D17:S17,30)","v":0},{"$f":"COUNTIF('2-way Quiz'!$D17:T17,20)+COUNTIF('2-way Quiz'!$D17:T17,30)","v":0},{"$f":"COUNTIF('2-way Quiz'!$D17:U17,20)+COUNTIF('2-way Quiz'!$D17:U17,30)","v":0},{"$f":"COUNTIF('2-way Quiz'!$D17:V17,20)+COUNTIF('2-way Quiz'!$D17:V17,30)","v":0},{"$f":"COUNTIF('2-way Quiz'!$D17:W17,20)+COUNTIF('2-way Quiz'!$D17:W17,30)","v":0},{"$f":"COUNTIF('2-way Quiz'!$D17:X17,20)+COUNTIF('2-way Quiz'!$D17:X17,30)","v":0},{"$f":"COUNTIF('2-way Quiz'!$D17:Y17,20)+COUNTIF('2-way Quiz'!$D17:Y17,30)","v":0},{"$f":"COUNTIF('2-way Quiz'!$D17:Z17,20)+COUNTIF('2-way Quiz'!$D17:Z17,30)","v":0},{"$f":"COUNTIF('2-way Quiz'!$D17:AA17,20)+COUNTIF('2-way Quiz'!$D17:AA17,30)","v":0},{"$f":"COUNTIF('2-way Quiz'!$D17:AB17,20)+COUNTIF('2-way Quiz'!$D17:AB17,30)","v":0},{"$f":"COUNTIF('2-way Quiz'!$D17:AC17,20)+COUNTIF('2-way Quiz'!$D17:AC17,30)","v":0},{"$f":"COUNTIF('2-way Quiz'!$D17:AD17,20)+COUNTIF('2-way Quiz'!$D17:AD17,30)","v":0},{"$f":"COUNTIF('2-way Quiz'!$D17:AE17,20)+COUNTIF('2-way Quiz'!$D17:AE17,30)","v":0},{"$f":"COUNTIF('2-way Quiz'!$D17:AF17,20)+COUNTIF('2-way Quiz'!$D17:AF17,30)","v":0},{"$f":"COUNTIF('2-way Quiz'!$D17:AG17,20)+COUNTIF('2-way Quiz'!$D17:AG17,30)","v":0},{"$f":"COUNTIF('2-way Quiz'!$D17:AH17,20)+COUNTIF('2-way Quiz'!$D17:AH17,30)","v":0},{"$f":"COUNTIF('2-way Quiz'!$D17:AI17,20)+COUNTIF('2-way Quiz'!$D17:AI17,30)","v":0},{"$f":"COUNTIF('2-way Quiz'!$D17:AJ17,20)+COUNTIF('2-way Quiz'!$D17:AJ17,30)","v":0},{"$f":"COUNTIF('2-way Quiz'!$D17:AK17,20)+COUNTIF('2-way Quiz'!$D17:AK17,30)","v":0},{"$f":"COUNTIF('2-way Quiz'!$D17:AL17,20)+COUNTIF('2-way Quiz'!$D17:AL17,30)","v":0},{"$f":"COUNTIF('2-way Quiz'!$D17:AM17,20)+COUNTIF('2-way Quiz'!$D17:AM17,30)","v":0},{"$f":"COUNTIF('2-way Quiz'!$D17:AN17,20)+COUNTIF('2-way Quiz'!$D17:AN17,30)","v":0},{"$f":"COUNTIF('2-way Quiz'!$D17:AO17,20)+COUNTIF('2-way Quiz'!$D17:AO17,30)","v":0},{"$f":"COUNTIF('2-way Quiz'!$D17:AP17,20)+COUNTIF('2-way Quiz'!$D17:AP17,30)","v":0},{"$f":"COUNTIF('2-way Quiz'!$D17:AQ17,20)+COUNTIF('2-way Quiz'!$D17:AQ17,30)","v":0},{"$f":"COUNTIF('2-way Quiz'!$D17:AR17,20)+COUNTIF('2-way Quiz'!$D17:AR17,30)","v":0},{"$f":"COUNTIF('2-way Quiz'!$D17:AS17,20)+COUNTIF('2-way Quiz'!$D17:AS17,30)","v":0},{"$f":"COUNTIF('2-way Quiz'!$D17:AT17,20)+COUNTIF('2-way Quiz'!$D17:AT17,30)","v":0},{"$f":"COUNTIF('2-way Quiz'!$D17:AU17,20)+COUNTIF('2-way Quiz'!$D17:AU17,30)","v":0},{"$f":"COUNTIF('2-way Quiz'!$D17:AV17,20)+COUNTIF('2-way Quiz'!$D17:AV17,30)","v":0},{"$f":"COUNTIF('2-way Quiz'!$D17:AW17,20)+COUNTIF('2-way Quiz'!$D17:AW17,30)","v":0},{"$f":"COUNTIF('2-way Quiz'!$D17:AX17,20)+COUNTIF('2-way Quiz'!$D17:AX17,30)","v":0},{"$f":"COUNTIF('2-way Quiz'!$D17:AY17,20)+COUNTIF('2-way Quiz'!$D17:AY17,30)","v":0},{"$f":"COUNTIF('2-way Quiz'!$D17:AZ17,20)+COUNTIF('2-way Quiz'!$D17:AZ17,30)","v":0},{"$f":"COUNTIF('2-way Quiz'!$D17:BA17,20)+COUNTIF('2-way Quiz'!$D17:BA17,30)","v":0},{"$f":"COUNTIF('2-way Quiz'!$D17:BB17,20)+COUNTIF('2-way Quiz'!$D17:BB17,30)","v":0}]
[null,null,{"$f":"CONCATENATE(\"#20's \",C18)","v":"#20's Quizzer #2"},{"$f":"COUNTIF('2-way Quiz'!$D18:D18,20)+COUNTIF('2-way Quiz'!$D18:D18,30)","v":0},{"$f":"COUNTIF('2-way Quiz'!$D18:E18,20)+COUNTIF('2-way Quiz'!$D18:E18,30)","v":0},{"$f":"COUNTIF('2-way Quiz'!$D18:F18,20)+COUNTIF('2-way Quiz'!$D18:F18,30)","v":0},{"$f":"COUNTIF('2-way Quiz'!$D18:G18,20)+COUNTIF('2-way Quiz'!$D18:G18,30)","v":0},{"$f":"COUNTIF('2-way Quiz'!$D18:H18,20)+COUNTIF('2-way Quiz'!$D18:H18,30)","v":0},{"$f":"COUNTIF('2-way Quiz'!$D18:I18,20)+COUNTIF('2-way Quiz'!$D18:I18,30)","v":0},{"$f":"COUNTIF('2-way Quiz'!$D18:J18,20)+COUNTIF('2-way Quiz'!$D18:J18,30)","v":0},{"$f":"COUNTIF('2-way Quiz'!$D18:K18,20)+COUNTIF('2-way Quiz'!$D18:K18,30)","v":0},{"$f":"COUNTIF('2-way Quiz'!$D18:L18,20)+COUNTIF('2-way Quiz'!$D18:L18,30)","v":0},{"$f":"COUNTIF('2-way Quiz'!$D18:M18,20)+COUNTIF('2-way Quiz'!$D18:M18,30)","v":0},{"$f":"COUNTIF('2-way Quiz'!$D18:N18,20)+COUNTIF('2-way Quiz'!$D18:N18,30)","v":0},{"$f":"COUNTIF('2-way Quiz'!$D18:O18,20)+COUNTIF('2-way Quiz'!$D18:O18,30)","v":0},{"$f":"COUNTIF('2-way Quiz'!$D18:P18,20)+COUNTIF('2-way Quiz'!$D18:P18,30)","v":0},{"$f":"COUNTIF('2-way Quiz'!$D18:Q18,20)+COUNTIF('2-way Quiz'!$D18:Q18,30)","v":0},{"$f":"COUNTIF('2-way Quiz'!$D18:R18,20)+COUNTIF('2-way Quiz'!$D18:R18,30)","v":0},{"$f":"COUNTIF('2-way Quiz'!$D18:S18,20)+COUNTIF('2-way Quiz'!$D18:S18,30)","v":0},{"$f":"COUNTIF('2-way Quiz'!$D18:T18,20)+COUNTIF('2-way Quiz'!$D18:T18,30)","v":0},{"$f":"COUNTIF('2-way Quiz'!$D18:U18,20)+COUNTIF('2-way Quiz'!$D18:U18,30)","v":0},{"$f":"COUNTIF('2-way Quiz'!$D18:V18,20)+COUNTIF('2-way Quiz'!$D18:V18,30)","v":0},{"$f":"COUNTIF('2-way Quiz'!$D18:W18,20)+COUNTIF('2-way Quiz'!$D18:W18,30)","v":0},{"$f":"COUNTIF('2-way Quiz'!$D18:X18,20)+COUNTIF('2-way Quiz'!$D18:X18,30)","v":0},{"$f":"COUNTIF('2-way Quiz'!$D18:Y18,20)+COUNTIF('2-way Quiz'!$D18:Y18,30)","v":0},{"$f":"COUNTIF('2-way Quiz'!$D18:Z18,20)+COUNTIF('2-way Quiz'!$D18:Z18,30)","v":0},{"$f":"COUNTIF('2-way Quiz'!$D18:AA18,20)+COUNTIF('2-way Quiz'!$D18:AA18,30)","v":0},{"$f":"COUNTIF('2-way Quiz'!$D18:AB18,20)+COUNTIF('2-way Quiz'!$D18:AB18,30)","v":0},{"$f":"COUNTIF('2-way Quiz'!$D18:AC18,20)+COUNTIF('2-way Quiz'!$D18:AC18,30)","v":0},{"$f":"COUNTIF('2-way Quiz'!$D18:AD18,20)+COUNTIF('2-way Quiz'!$D18:AD18,30)","v":0},{"$f":"COUNTIF('2-way Quiz'!$D18:AE18,20)+COUNTIF('2-way Quiz'!$D18:AE18,30)","v":0},{"$f":"COUNTIF('2-way Quiz'!$D18:AF18,20)+COUNTIF('2-way Quiz'!$D18:AF18,30)","v":0},{"$f":"COUNTIF('2-way Quiz'!$D18:AG18,20)+COUNTIF('2-way Quiz'!$D18:AG18,30)","v":0},{"$f":"COUNTIF('2-way Quiz'!$D18:AH18,20)+COUNTIF('2-way Quiz'!$D18:AH18,30)","v":0},{"$f":"COUNTIF('2-way Quiz'!$D18:AI18,20)+COUNTIF('2-way Quiz'!$D18:AI18,30)","v":0},{"$f":"COUNTIF('2-way Quiz'!$D18:AJ18,20)+COUNTIF('2-way Quiz'!$D18:AJ18,30)","v":0},{"$f":"COUNTIF('2-way Quiz'!$D18:AK18,20)+COUNTIF('2-way Quiz'!$D18:AK18,30)","v":0},{"$f":"COUNTIF('2-way Quiz'!$D18:AL18,20)+COUNTIF('2-way Quiz'!$D18:AL18,30)","v":0},{"$f":"COUNTIF('2-way Quiz'!$D18:AM18,20)+COUNTIF('2-way Quiz'!$D18:AM18,30)","v":0},{"$f":"COUNTIF('2-way Quiz'!$D18:AN18,20)+COUNTIF('2-way Quiz'!$D18:AN18,30)","v":0},{"$f":"COUNTIF('2-way Quiz'!$D18:AO18,20)+COUNTIF('2-way Quiz'!$D18:AO18,30)","v":0},{"$f":"COUNTIF('2-way Quiz'!$D18:AP18,20)+COUNTIF('2-way Quiz'!$D18:AP18,30)","v":0},{"$f":"COUNTIF('2-way Quiz'!$D18:AQ18,20)+COUNTIF('2-way Quiz'!$D18:AQ18,30)","v":0},{"$f":"COUNTIF('2-way Quiz'!$D18:AR18,20)+COUNTIF('2-way Quiz'!$D18:AR18,30)","v":0},{"$f":"COUNTIF('2-way Quiz'!$D18:AS18,20)+COUNTIF('2-way Quiz'!$D18:AS18,30)","v":0},{"$f":"COUNTIF('2-way Quiz'!$D18:AT18,20)+COUNTIF('2-way Quiz'!$D18:AT18,30)","v":0},{"$f":"COUNTIF('2-way Quiz'!$D18:AU18,20)+COUNTIF('2-way Quiz'!$D18:AU18,30)","v":0},{"$f":"COUNTIF('2-way Quiz'!$D18:AV18,20)+COUNTIF('2-way Quiz'!$D18:AV18,30)","v":0},{"$f":"COUNTIF('2-way Quiz'!$D18:AW18,20)+COUNTIF('2-way Quiz'!$D18:AW18,30)","v":0},{"$f":"COUNTIF('2-way Quiz'!$D18:AX18,20)+COUNTIF('2-way Quiz'!$D18:AX18,30)","v":0},{"$f":"COUNTIF('2-way Quiz'!$D18:AY18,20)+COUNTIF('2-way Quiz'!$D18:AY18,30)","v":0},{"$f":"COUNTIF('2-way Quiz'!$D18:AZ18,20)+COUNTIF('2-way Quiz'!$D18:AZ18,30)","v":0},{"$f":"COUNTIF('2-way Quiz'!$D18:BA18,20)+COUNTIF('2-way Quiz'!$D18:BA18,30)","v":0},{"$f":"COUNTIF('2-way Quiz'!$D18:BB18,20)+COUNTIF('2-way Quiz'!$D18:BB18,30)","v":0}]
[null,null,{"$f":"CONCATENATE(\"#20's \",C19)","v":"#20's Quizzer #3"},{"$f":"COUNTIF('2-way Quiz'!$D19:D19,20)+COUNTIF('2-way Quiz'!$D19:D19,30)","v":0},{"$f":"COUNTIF('2-way Quiz'!$D19:E19,20)+COUNTIF('2-way Quiz'!$D19:E19,30)","v":0},{"$f":"COUNTIF('2-way Quiz'!$D19:F19,20)+COUNTIF('2-way Quiz'!$D19:F19,30)","v":0},{"$f":"COUNTIF('2-way Quiz'!$D19:G19,20)+COUNTIF('2-way Quiz'!$D19:G19,30)","v":0},{"$f":"COUNTIF('2-way Quiz'!$D19:H19,20)+COUNTIF('2-way Quiz'!$D19:H19,30)","v":0},{"$f":"COUNTIF('2-way Quiz'!$D19:I19,20)+COUNTIF('2-way Quiz'!$D19:I19,30)","v":0},{"$f":"COUNTIF('2-way Quiz'!$D19:J19,20)+COUNTIF('2-way Quiz'!$D19:J19,30)","v":0},{"$f":"COUNTIF('2-way Quiz'!$D19:K19,20)+COUNTIF('2-way Quiz'!$D19:K19,30)","v":0},{"$f":"COUNTIF('2-way Quiz'!$D19:L19,20)+COUNTIF('2-way Quiz'!$D19:L19,30)","v":0},{"$f":"COUNTIF('2-way Quiz'!$D19:M19,20)+COUNTIF('2-way Quiz'!$D19:M19,30)","v":0},{"$f":"COUNTIF('2-way Quiz'!$D19:N19,20)+COUNTIF('2-way Quiz'!$D19:N19,30)","v":0},{"$f":"COUNTIF('2-way Quiz'!$D19:O19,20)+COUNTIF('2-way Quiz'!$D19:O19,30)","v":0},{"$f":"COUNTIF('2-way Quiz'!$D19:P19,20)+COUNTIF('2-way Quiz'!$D19:P19,30)","v":0},{"$f":"COUNTIF('2-way Quiz'!$D19:Q19,20)+COUNTIF('2-way Quiz'!$D19:Q19,30)","v":0},{"$f":"COUNTIF('2-way Quiz'!$D19:R19,20)+COUNTIF('2-way Quiz'!$D19:R19,30)","v":0},{"$f":"COUNTIF('2-way Quiz'!$D19:S19,20)+COUNTIF('2-way Quiz'!$D19:S19,30)","v":0},{"$f":"COUNTIF('2-way Quiz'!$D19:T19,20)+COUNTIF('2-way Quiz'!$D19:T19,30)","v":0},{"$f":"COUNTIF('2-way Quiz'!$D19:U19,20)+COUNTIF('2-way Quiz'!$D19:U19,30)","v":0},{"$f":"COUNTIF('2-way Quiz'!$D19:V19,20)+COUNTIF('2-way Quiz'!$D19:V19,30)","v":0},{"$f":"COUNTIF('2-way Quiz'!$D19:W19,20)+COUNTIF('2-way Quiz'!$D19:W19,30)","v":0},{"$f":"COUNTIF('2-way Quiz'!$D19:X19,20)+COUNTIF('2-way Quiz'!$D19:X19,30)","v":0},{"$f":"COUNTIF('2-way Quiz'!$D19:Y19,20)+COUNTIF('2-way Quiz'!$D19:Y19,30)","v":0},{"$f":"COUNTIF('2-way Quiz'!$D19:Z19,20)+COUNTIF('2-way Quiz'!$D19:Z19,30)","v":0},{"$f":"COUNTIF('2-way Quiz'!$D19:AA19,20)+COUNTIF('2-way Quiz'!$D19:AA19,30)","v":0},{"$f":"COUNTIF('2-way Quiz'!$D19:AB19,20)+COUNTIF('2-way Quiz'!$D19:AB19,30)","v":0},{"$f":"COUNTIF('2-way Quiz'!$D19:AC19,20)+COUNTIF('2-way Quiz'!$D19:AC19,30)","v":0},{"$f":"COUNTIF('2-way Quiz'!$D19:AD19,20)+COUNTIF('2-way Quiz'!$D19:AD19,30)","v":0},{"$f":"COUNTIF('2-way Quiz'!$D19:AE19,20)+COUNTIF('2-way Quiz'!$D19:AE19,30)","v":0},{"$f":"COUNTIF('2-way Quiz'!$D19:AF19,20)+COUNTIF('2-way Quiz'!$D19:AF19,30)","v":0},{"$f":"COUNTIF('2-way Quiz'!$D19:AG19,20)+COUNTIF('2-way Quiz'!$D19:AG19,30)","v":0},{"$f":"COUNTIF('2-way Quiz'!$D19:AH19,20)+COUNTIF('2-way Quiz'!$D19:AH19,30)","v":0},{"$f":"COUNTIF('2-way Quiz'!$D19:AI19,20)+COUNTIF('2-way Quiz'!$D19:AI19,30)","v":0},{"$f":"COUNTIF('2-way Quiz'!$D19:AJ19,20)+COUNTIF('2-way Quiz'!$D19:AJ19,30)","v":0},{"$f":"COUNTIF('2-way Quiz'!$D19:AK19,20)+COUNTIF('2-way Quiz'!$D19:AK19,30)","v":0},{"$f":"COUNTIF('2-way Quiz'!$D19:AL19,20)+COUNTIF('2-way Quiz'!$D19:AL19,30)","v":0},{"$f":"COUNTIF('2-way Quiz'!$D19:AM19,20)+COUNTIF('2-way Quiz'!$D19:AM19,30)","v":0},{"$f":"COUNTIF('2-way Quiz'!$D19:AN19,20)+COUNTIF('2-way Quiz'!$D19:AN19,30)","v":0},{"$f":"COUNTIF('2-way Quiz'!$D19:AO19,20)+COUNTIF('2-way Quiz'!$D19:AO19,30)","v":0},{"$f":"COUNTIF('2-way Quiz'!$D19:AP19,20)+COUNTIF('2-way Quiz'!$D19:AP19,30)","v":0},{"$f":"COUNTIF('2-way Quiz'!$D19:AQ19,20)+COUNTIF('2-way Quiz'!$D19:AQ19,30)","v":0},{"$f":"COUNTIF('2-way Quiz'!$D19:AR19,20)+COUNTIF('2-way Quiz'!$D19:AR19,30)","v":0},{"$f":"COUNTIF('2-way Quiz'!$D19:AS19,20)+COUNTIF('2-way Quiz'!$D19:AS19,30)","v":0},{"$f":"COUNTIF('2-way Quiz'!$D19:AT19,20)+COUNTIF('2-way Quiz'!$D19:AT19,30)","v":0},{"$f":"COUNTIF('2-way Quiz'!$D19:AU19,20)+COUNTIF('2-way Quiz'!$D19:AU19,30)","v":0},{"$f":"COUNTIF('2-way Quiz'!$D19:AV19,20)+COUNTIF('2-way Quiz'!$D19:AV19,30)","v":0},{"$f":"COUNTIF('2-way Quiz'!$D19:AW19,20)+COUNTIF('2-way Quiz'!$D19:AW19,30)","v":0},{"$f":"COUNTIF('2-way Quiz'!$D19:AX19,20)+COUNTIF('2-way Quiz'!$D19:AX19,30)","v":0},{"$f":"COUNTIF('2-way Quiz'!$D19:AY19,20)+COUNTIF('2-way Quiz'!$D19:AY19,30)","v":0},{"$f":"COUNTIF('2-way Quiz'!$D19:AZ19,20)+COUNTIF('2-way Quiz'!$D19:AZ19,30)","v":0},{"$f":"COUNTIF('2-way Quiz'!$D19:BA19,20)+COUNTIF('2-way Quiz'!$D19:BA19,30)","v":0},{"$f":"COUNTIF('2-way Quiz'!$D19:BB19,20)+COUNTIF('2-way Quiz'!$D19:BB19,30)","v":0}]
[null,null,{"$f":"CONCATENATE(\"#20's \",C20)","v":"#20's Substitute"},{"$f":"COUNTIF('2-way Quiz'!$D20:D20,20)+COUNTIF('2-way Quiz'!$D20:D20,30)","v":0},{"$f":"COUNTIF('2-way Quiz'!$D20:E20,20)+COUNTIF('2-way Quiz'!$D20:E20,30)","v":0},{"$f":"COUNTIF('2-way Quiz'!$D20:F20,20)+COUNTIF('2-way Quiz'!$D20:F20,30)","v":0},{"$f":"COUNTIF('2-way Quiz'!$D20:G20,20)+COUNTIF('2-way Quiz'!$D20:G20,30)","v":0},{"$f":"COUNTIF('2-way Quiz'!$D20:H20,20)+COUNTIF('2-way Quiz'!$D20:H20,30)","v":0},{"$f":"COUNTIF('2-way Quiz'!$D20:I20,20)+COUNTIF('2-way Quiz'!$D20:I20,30)","v":0},{"$f":"COUNTIF('2-way Quiz'!$D20:J20,20)+COUNTIF('2-way Quiz'!$D20:J20,30)","v":0},{"$f":"COUNTIF('2-way Quiz'!$D20:K20,20)+COUNTIF('2-way Quiz'!$D20:K20,30)","v":0},{"$f":"COUNTIF('2-way Quiz'!$D20:L20,20)+COUNTIF('2-way Quiz'!$D20:L20,30)","v":0},{"$f":"COUNTIF('2-way Quiz'!$D20:M20,20)+COUNTIF('2-way Quiz'!$D20:M20,30)","v":0},{"$f":"COUNTIF('2-way Quiz'!$D20:N20,20)+COUNTIF('2-way Quiz'!$D20:N20,30)","v":0},{"$f":"COUNTIF('2-way Quiz'!$D20:O20,20)+COUNTIF('2-way Quiz'!$D20:O20,30)","v":0},{"$f":"COUNTIF('2-way Quiz'!$D20:P20,20)+COUNTIF('2-way Quiz'!$D20:P20,30)","v":0},{"$f":"COUNTIF('2-way Quiz'!$D20:Q20,20)+COUNTIF('2-way Quiz'!$D20:Q20,30)","v":0},{"$f":"COUNTIF('2-way Quiz'!$D20:R20,20)+COUNTIF('2-way Quiz'!$D20:R20,30)","v":0},{"$f":"COUNTIF('2-way Quiz'!$D20:S20,20)+COUNTIF('2-way Quiz'!$D20:S20,30)","v":0},{"$f":"COUNTIF('2-way Quiz'!$D20:T20,20)+COUNTIF('2-way Quiz'!$D20:T20,30)","v":0},{"$f":"COUNTIF('2-way Quiz'!$D20:U20,20)+COUNTIF('2-way Quiz'!$D20:U20,30)","v":0},{"$f":"COUNTIF('2-way Quiz'!$D20:V20,20)+COUNTIF('2-way Quiz'!$D20:V20,30)","v":0},{"$f":"COUNTIF('2-way Quiz'!$D20:W20,20)+COUNTIF('2-way Quiz'!$D20:W20,30)","v":0},{"$f":"COUNTIF('2-way Quiz'!$D20:X20,20)+COUNTIF('2-way Quiz'!$D20:X20,30)","v":0},{"$f":"COUNTIF('2-way Quiz'!$D20:Y20,20)+COUNTIF('2-way Quiz'!$D20:Y20,30)","v":0},{"$f":"COUNTIF('2-way Quiz'!$D20:Z20,20)+COUNTIF('2-way Quiz'!$D20:Z20,30)","v":0},{"$f":"COUNTIF('2-way Quiz'!$D20:AA20,20)+COUNTIF('2-way Quiz'!$D20:AA20,30)","v":0},{"$f":"COUNTIF('2-way Quiz'!$D20:AB20,20)+COUNTIF('2-way Quiz'!$D20:AB20,30)","v":0},{"$f":"COUNTIF('2-way Quiz'!$D20:AC20,20)+COUNTIF('2-way Quiz'!$D20:AC20,30)","v":0},{"$f":"COUNTIF('2-way Quiz'!$D20:AD20,20)+COUNTIF('2-way Quiz'!$D20:AD20,30)","v":0},{"$f":"COUNTIF('2-way Quiz'!$D20:AE20,20)+COUNTIF('2-way Quiz'!$D20:AE20,30)","v":0},{"$f":"COUNTIF('2-way Quiz'!$D20:AF20,20)+COUNTIF('2-way Quiz'!$D20:AF20,30)","v":0},{"$f":"COUNTIF('2-way Quiz'!$D20:AG20,20)+COUNTIF('2-way Quiz'!$D20:AG20,30)","v":0},{"$f":"COUNTIF('2-way Quiz'!$D20:AH20,20)+COUNTIF('2-way Quiz'!$D20:AH20,30)","v":0},{"$f":"COUNTIF('2-way Quiz'!$D20:AI20,20)+COUNTIF('2-way Quiz'!$D20:AI20,30)","v":0},{"$f":"COUNTIF('2-way Quiz'!$D20:AJ20,20)+COUNTIF('2-way Quiz'!$D20:AJ20,30)","v":0},{"$f":"COUNTIF('2-way Quiz'!$D20:AK20,20)+COUNTIF('2-way Quiz'!$D20:AK20,30)","v":0},{"$f":"COUNTIF('2-way Quiz'!$D20:AL20,20)+COUNTIF('2-way Quiz'!$D20:AL20,30)","v":0},{"$f":"COUNTIF('2-way Quiz'!$D20:AM20,20)+COUNTIF('2-way Quiz'!$D20:AM20,30)","v":0},{"$f":"COUNTIF('2-way Quiz'!$D20:AN20,20)+COUNTIF('2-way Quiz'!$D20:AN20,30)","v":0},{"$f":"COUNTIF('2-way Quiz'!$D20:AO20,20)+COUNTIF('2-way Quiz'!$D20:AO20,30)","v":0},{"$f":"COUNTIF('2-way Quiz'!$D20:AP20,20)+COUNTIF('2-way Quiz'!$D20:AP20,30)","v":0},{"$f":"COUNTIF('2-way Quiz'!$D20:AQ20,20)+COUNTIF('2-way Quiz'!$D20:AQ20,30)","v":0},{"$f":"COUNTIF('2-way Quiz'!$D20:AR20,20)+COUNTIF('2-way Quiz'!$D20:AR20,30)","v":0},{"$f":"COUNTIF('2-way Quiz'!$D20:AS20,20)+COUNTIF('2-way Quiz'!$D20:AS20,30)","v":0},{"$f":"COUNTIF('2-way Quiz'!$D20:AT20,20)+COUNTIF('2-way Quiz'!$D20:AT20,30)","v":0},{"$f":"COUNTIF('2-way Quiz'!$D20:AU20,20)+COUNTIF('2-way Quiz'!$D20:AU20,30)","v":0},{"$f":"COUNTIF('2-way Quiz'!$D20:AV20,20)+COUNTIF('2-way Quiz'!$D20:AV20,30)","v":0},{"$f":"COUNTIF('2-way Quiz'!$D20:AW20,20)+COUNTIF('2-way Quiz'!$D20:AW20,30)","v":0},{"$f":"COUNTIF('2-way Quiz'!$D20:AX20,20)+COUNTIF('2-way Quiz'!$D20:AX20,30)","v":0},{"$f":"COUNTIF('2-way Quiz'!$D20:AY20,20)+COUNTIF('2-way Quiz'!$D20:AY20,30)","v":0},{"$f":"COUNTIF('2-way Quiz'!$D20:AZ20,20)+COUNTIF('2-way Quiz'!$D20:AZ20,30)","v":0},{"$f":"COUNTIF('2-way Quiz'!$D20:BA20,20)+COUNTIF('2-way Quiz'!$D20:BA20,30)","v":0},{"$f":"COUNTIF('2-way Quiz'!$D20:BB20,20)+COUNTIF('2-way Quiz'!$D20:BB20,30)","v":0}]
[]
[]
[]
[]
[]
[]
[null,null,{"$f":"'2-way Quiz'!C37","v":"Team Name"}]
[null,null,{"$f":"'2-way Quiz'!C38","v":"Quizzer #1"},20,{"$f":"IF(D43>2,\".\",IF(D48=2,IF(D43=0,IF('2-way Quiz'!E46=20,30,'2-way Quiz'!E46),'2-way Quiz'!E46),IF(E48>2,IF(E$2=\"R\",\".\",'2-way Quiz'!E46),'2-way Quiz'!E46)))","v":20},{"$f":"IF(E43>2,\".\",IF(E48=2,IF(E43=0,IF('2-way Quiz'!F46=20,30,'2-way Quiz'!F46),'2-way Quiz'!F46),IF(F48>2,IF(F$2=\"R\",\".\",'2-way Quiz'!F46),'2-way Quiz'!F46)))","v":20},{"$f":"IF(F43>2,\".\",IF(F48=2,IF(F43=0,IF('2-way Quiz'!G46=20,30,'2-way Quiz'!G46),'2-way Quiz'!G46),IF(G48>2,IF(G$2=\"R\",\".\",'2-way Quiz'!G46),'2-way Quiz'!G46)))","v":20},{"$f":"IF(G43>2,\".\",IF(G48=2,IF(G43=0,IF('2-way Quiz'!H46=20,30,'2-way Quiz'!H46),'2-way Quiz'!H46),IF(H48>2,IF(H$2=\"R\",\".\",'2-way Quiz'!H46),'2-way Quiz'!H46)))","v":20},{"$f":"IF(H43>2,\".\",IF(H48=2,IF(H43=0,IF('2-way Quiz'!I46=20,30,'2-way Quiz'!I46),'2-way Quiz'!I46),IF(I48>2,IF(I$2=\"R\",\".\",'2-way Quiz'!I46),'2-way Quiz'!I46)))","v":20},{"$f":"IF(I43>2,\".\",IF(I48=2,IF(I43=0,IF('2-way Quiz'!J46=20,30,'2-way Quiz'!J46),'2-way Quiz'!J46),IF(J48>2,IF(J$2=\"R\",\".\",'2-way Quiz'!J46),'2-way Quiz'!J46)))","v":20},{"$f":"IF(J43>2,\".\",IF(J48=2,IF(J43=0,IF('2-way Quiz'!K46=20,30,'2-way Quiz'!K46),'2-way Quiz'!K46),IF(K48>2,IF(K$2=\"R\",\".\",'2-way Quiz'!K46),'2-way Quiz'!K46)))","v":20},{"$f":"IF(K43>2,\".\",IF(K48=2,IF(K43=0,IF('2-way Quiz'!L46=20,30,'2-way Quiz'!L46),'2-way Quiz'!L46),IF(L48>2,IF(L$2=\"R\",\".\",'2-way Quiz'!L46),'2-way Quiz'!L46)))","v":20},{"$f":"IF(L43>2,\".\",IF(L48=2,IF(L43=0,IF('2-way Quiz'!M46=20,30,'2-way Quiz'!M46),'2-way Quiz'!M46),IF(M48>2,IF(M$2=\"R\",\".\",'2-way Quiz'!M46),'2-way Quiz'!M46)))","v":20},{"$f":"IF(M43>2,\".\",IF(M48=2,IF(M43=0,IF('2-way Quiz'!N46=20,30,'2-way Quiz'!N46),'2-way Quiz'!N46),IF(N48>2,IF(N$2=\"R\",\".\",'2-way Quiz'!N46),'2-way Quiz'!N46)))","v":20},{"$f":"IF(N43>2,\".\",IF(N48=2,IF(N43=0,IF('2-way Quiz'!O46=20,30,'2-way Quiz'!O46),'2-way Quiz'!O46),IF(O48>2,IF(O$2=\"R\",\".\",'2-way Quiz'!O46),'2-way Quiz'!O46)))","v":20},{"$f":"IF(O43>2,\".\",IF(O48=2,IF(O43=0,IF('2-way Quiz'!P46=20,30,'2-way Quiz'!P46),'2-way Quiz'!P46),IF(P48>2,IF(P$2=\"R\",\".\",'2-way Quiz'!P46),'2-way Quiz'!P46)))","v":20},{"$f":"IF(P43>2,\".\",IF(P48=2,IF(P43=0,IF('2-way Quiz'!Q46=20,30,'2-way Quiz'!Q46),'2-way Quiz'!Q46),IF(Q48>2,IF(Q$2=\"R\",\".\",'2-way Quiz'!Q46),'2-way Quiz'!Q46)))","v":"."},{"$f":"IF(Q43>2,\".\",IF(Q48=2,IF(Q43=0,IF('2-way Quiz'!R46=20,30,'2-way Quiz'!R46),'2-way Quiz'!R46),IF(R48>2,IF(R$2=\"R\",\".\",'2-way Quiz'!R46),'2-way Quiz'!R46)))","v":20},{"$f":"IF(R43>2,\".\",IF(R48=2,IF(R43=0,IF('2-way Quiz'!S46=20,30,'2-way Quiz'!S46),'2-way Quiz'!S46),IF(S48>2,IF(S$2=\"R\",\".\",'2-way Quiz'!S46),'2-way Quiz'!S46)))","v":10},{"$f":"IF(S43>2,\".\",IF(S48=2,IF(S43=0,IF('2-way Quiz'!T46=20,30,'2-way Quiz'!T46),'2-way Quiz'!T46),IF(T48>2,IF(T$2=\"R\",\".\",'2-way Quiz'!T46),'2-way Quiz'!T46)))","v":"."},{"$f":"IF(T43>2,\".\",IF(T48=2,IF(T43=0,IF('2-way Quiz'!U46=20,30,'2-way Quiz'!U46),'2-way Quiz'!U46),IF(U48>2,IF(U$2=\"R\",\".\",'2-way Quiz'!U46),'2-way Quiz'!U46)))","v":20},{"$f":"IF(U43>2,\".\",IF(U48=2,IF(U43=0,IF('2-way Quiz'!V46=20,30,'2-way Quiz'!V46),'2-way Quiz'!V46),IF(V48>2,IF(V$2=\"R\",\".\",'2-way Quiz'!V46),'2-way Quiz'!V46)))","v":10},{"$f":"IF(V43>2,\".\",IF(V48=2,IF(V43=0,IF('2-way Quiz'!W46=20,30,'2-way Quiz'!W46),'2-way Quiz'!W46),IF(W48>2,IF(W$2=\"R\",\".\",'2-way Quiz'!W46),'2-way Quiz'!W46)))","v":"."},{"$f":"IF(W43>2,\".\",IF(W48=2,IF(W43=0,IF('2-way Quiz'!X46=20,30,'2-way Quiz'!X46),'2-way Quiz'!X46),IF(X48>2,IF(X$2=\"R\",\".\",'2-way Quiz'!X46),'2-way Quiz'!X46)))","v":20},{"$f":"IF(X43>2,\".\",IF(X48=2,IF(X43=0,IF('2-way Quiz'!Y46=20,30,'2-way Quiz'!Y46),'2-way Quiz'!Y46),IF(Y48>2,IF(Y$2=\"R\",\".\",'2-way Quiz'!Y46),'2-way Quiz'!Y46)))","v":10},{"$f":"IF(Y43>2,\".\",IF(Y48=2,IF(Y43=0,IF('2-way Quiz'!Z46=20,30,'2-way Quiz'!Z46),'2-way Quiz'!Z46),IF(Z48>2,IF(Z$2=\"R\",\".\",'2-way Quiz'!Z46),'2-way Quiz'!Z46)))","v":10},{"$f":"IF(Z43>2,\".\",IF(Z48=2,IF(Z43=0,IF('2-way Quiz'!AA46=20,30,'2-way Quiz'!AA46),'2-way Quiz'!AA46),IF(AA48>2,IF(AA$2=\"R\",\".\",'2-way Quiz'!AA46),'2-way Quiz'!AA46)))","v":10},{"$f":"IF(AA43>2,\".\",IF(AA48=2,IF(AA43=0,IF('2-way Quiz'!AB46=20,30,'2-way Quiz'!AB46),'2-way Quiz'!AB46),IF(AB48>2,IF(AB$2=\"R\",\".\",'2-way Quiz'!AB46),'2-way Quiz'!AB46)))","v":10},{"$f":"IF(AB43>2,\".\",IF(AB48=2,IF(AB43=0,IF('2-way Quiz'!AC46=20,30,'2-way Quiz'!AC46),'2-way Quiz'!AC46),IF(AC48>2,IF(AC$2=\"R\",\".\",'2-way Quiz'!AC46),'2-way Quiz'!AC46)))","v":10},{"$f":"IF(AC43>2,\".\",IF(AC48=2,IF(AC43=0,IF('2-way Quiz'!AD46=20,30,'2-way Quiz'!AD46),'2-way Quiz'!AD46),IF(AD48>2,IF(AD$2=\"R\",\".\",'2-way Quiz'!AD46),'2-way Quiz'!AD46)))","v":10},{"$f":"IF(AD43>2,\".\",IF(AD48=2,IF(AD43=0,IF('2-way Quiz'!AE46=20,30,'2-way Quiz'!AE46),'2-way Quiz'!AE46),IF(AE48>2,IF(AE$2=\"R\",\".\",'2-way Quiz'!AE46),'2-way Quiz'!AE46)))","v":10},{"$f":"IF(AE43>2,\".\",IF(AE48=2,IF(AE43=0,IF('2-way Quiz'!AF46=20,30,'2-way Quiz'!AF46),'2-way Quiz'!AF46),IF(AF48>2,IF(AF$2=\"R\",\".\",'2-way Quiz'!AF46),'2-way Quiz'!AF46)))","v":10},{"$f":"IF(AF43>2,\".\",IF(AF48=2,IF(AF43=0,IF('2-way Quiz'!AG46=20,30,'2-way Quiz'!AG46),'2-way Quiz'!AG46),IF(AG48>2,IF(AG$2=\"R\",\".\",'2-way Quiz'!AG46),'2-way Quiz'!AG46)))","v":10},{"$f":"IF(AG43>2,\".\",IF(AG48=2,IF(AG43=0,IF('2-way Quiz'!AH46=20,30,'2-way Quiz'!AH46),'2-way Quiz'!AH46),IF(AH48>2,IF(AH$2=\"R\",\".\",'2-way Quiz'!AH46),'2-way Quiz'!AH46)))","v":10},{"$f":"IF(AH43>2,\".\",IF(AH48=2,IF(AH43=0,IF('2-way Quiz'!AI46=20,30,'2-way Quiz'!AI46),'2-way Quiz'!AI46),IF(AI48>2,IF(AI$2=\"R\",\".\",'2-way Quiz'!AI46),'2-way Quiz'!AI46)))","v":10},{"$f":"IF(AI43>2,\".\",IF(AI48=2,IF(AI43=0,IF('2-way Quiz'!AJ46=20,30,'2-way Quiz'!AJ46),'2-way Quiz'!AJ46),IF(AJ48>2,IF(AJ$2=\"R\",\".\",'2-way Quiz'!AJ46),'2-way Quiz'!AJ46)))","v":10},{"$f":"IF(AJ43>2,\".\",IF(AJ48=2,IF(AJ43=0,IF('2-way Quiz'!AK46=20,30,'2-way Quiz'!AK46),'2-way Quiz'!AK46),IF(AK48>2,IF(AK$2=\"R\",\".\",'2-way Quiz'!AK46),'2-way Quiz'!AK46)))","v":10},{"$f":"IF(AK43>2,\".\",IF(AK48=2,IF(AK43=0,IF('2-way Quiz'!AL46=20,30,'2-way Quiz'!AL46),'2-way Quiz'!AL46),IF(AL48>2,IF(AL$2=\"R\",\".\",'2-way Quiz'!AL46),'2-way Quiz'!AL46)))","v":10},{"$f":"IF(AL43>2,\".\",IF(AL48=2,IF(AL43=0,IF('2-way Quiz'!AM46=20,30,'2-way Quiz'!AM46),'2-way Quiz'!AM46),IF(AM48>2,IF(AM$2=\"R\",\".\",'2-way Quiz'!AM46),'2-way Quiz'!AM46)))","v":10},{"$f":"IF(AM43>2,\".\",IF(AM48=2,IF(AM43=0,IF('2-way Quiz'!AN46=20,30,'2-way Quiz'!AN46),'2-way Quiz'!AN46),IF(AN48>2,IF(AN$2=\"R\",\".\",'2-way Quiz'!AN46),'2-way Quiz'!AN46)))","v":10},{"$f":"IF(AN43>2,\".\",IF(AN48=2,IF(AN43=0,IF('2-way Quiz'!AO46=20,30,'2-way Quiz'!AO46),'2-way Quiz'!AO46),IF(AO48>2,IF(AO$2=\"R\",\".\",'2-way Quiz'!AO46),'2-way Quiz'!AO46)))","v":10},{"$f":"IF(AO43>2,\".\",IF(AO48=2,IF(AO43=0,IF('2-way Quiz'!AP46=20,30,'2-way Quiz'!AP46),'2-way Quiz'!AP46),IF(AP48>2,IF(AP$2=\"R\",\".\",'2-way Quiz'!AP46),'2-way Quiz'!AP46)))","v":10},{"$f":"IF(AP43>2,\".\",IF(AP48=2,IF(AP43=0,IF('2-way Quiz'!AQ46=20,30,'2-way Quiz'!AQ46),'2-way Quiz'!AQ46),IF(AQ48>2,IF(AQ$2=\"R\",\".\",'2-way Quiz'!AQ46),'2-way Quiz'!AQ46)))","v":10},{"$f":"IF(AQ43>2,\".\",IF(AQ48=2,IF(AQ43=0,IF('2-way Quiz'!AR46=20,30,'2-way Quiz'!AR46),'2-way Quiz'!AR46),IF(AR48>2,IF(AR$2=\"R\",\".\",'2-way Quiz'!AR46),'2-way Quiz'!AR46)))","v":10},{"$f":"IF(AR43>2,\".\",IF(AR48=2,IF(AR43=0,IF('2-way Quiz'!AS46=20,30,'2-way Quiz'!AS46),'2-way Quiz'!AS46),IF(AS48>2,IF(AS$2=\"R\",\".\",'2-way Quiz'!AS46),'2-way Quiz'!AS46)))","v":10},{"$f":"IF(AS43>2,\".\",IF(AS48=2,IF(AS43=0,IF('2-way Quiz'!AT46=20,30,'2-way Quiz'!AT46),'2-way Quiz'!AT46),IF(AT48>2,IF(AT$2=\"R\",\".\",'2-way Quiz'!AT46),'2-way Quiz'!AT46)))","v":10},{"$f":"IF(AT43>2,\".\",IF(AT48=2,IF(AT43=0,IF('2-way Quiz'!AU46=20,30,'2-way Quiz'!AU46),'2-way Quiz'!AU46),IF(AU48>2,IF(AU$2=\"R\",\".\",'2-way Quiz'!AU46),'2-way Quiz'!AU46)))","v":10},{"$f":"IF(AU43>2,\".\",IF(AU48=2,IF(AU43=0,IF('2-way Quiz'!AV46=20,30,'2-way Quiz'!AV46),'2-way Quiz'!AV46),IF(AV48>2,IF(AV$2=\"R\",\".\",'2-way Quiz'!AV46),'2-way Quiz'!AV46)))","v":10},{"$f":"IF(AV43>2,\".\",IF(AV48=2,IF(AV43=0,IF('2-way Quiz'!AW46=20,30,'2-way Quiz'!AW46),'2-way Quiz'!AW46),IF(AW48>2,IF(AW$2=\"R\",\".\",'2-way Quiz'!AW46),'2-way Quiz'!AW46)))","v":10},{"$f":"IF(AW43>2,\".\",IF(AW48=2,IF(AW43=0,IF('2-way Quiz'!AX46=20,30,'2-way Quiz'!AX46),'2-way Quiz'!AX46),IF(AX48>2,IF(AX$2=\"R\",\".\",'2-way Quiz'!AX46),'2-way Quiz'!AX46)))","v":10},{"$f":"IF(AX43>2,\".\",IF(AX48=2,IF(AX43=0,IF('2-way Quiz'!AY46=20,30,'2-way Quiz'!AY46),'2-way Quiz'!AY46),IF(AY48>2,IF(AY$2=\"R\",\".\",'2-way Quiz'!AY46),'2-way Quiz'!AY46)))","v":10},{"$f":"IF(AY43>2,\".\",IF(AY48=2,IF(AY43=0,IF('2-way Quiz'!AZ46=20,30,'2-way Quiz'!AZ46),'2-way Quiz'!AZ46),IF(AZ48>2,IF(AZ$2=\"R\",\".\",'2-way Quiz'!AZ46),'2-way Quiz'!AZ46)))","v":10},{"$f":"IF(AZ43>2,\".\",IF(AZ48=2,IF(AZ43=0,IF('2-way Quiz'!BA46=20,30,'2-way Quiz'!BA46),'2-way Quiz'!BA46),IF(BA48>2,IF(BA$2=\"R\",\".\",'2-way Quiz'!BA46),'2-way Quiz'!BA46)))","v":10},{"$f":"IF(BA43>2,\".\",IF(BA48=2,IF(BA43=0,IF('2-way Quiz'!BB46=20,30,'2-way Quiz'!BB46),'2-way Quiz'!BB46),IF(BB48>2,IF(BB$2=\"R\",\".\",'2-way Quiz'!BB46),'2-way Quiz'!BB46)))","v":10}]
[null,null,{"$f":"'2-way Quiz'!C39","v":"Quizzer #2"},20,{"$f":"IF(D44>2,\".\",IF(D49=2,IF(D44=0,IF('2-way Quiz'!E46=20,30,'2-way Quiz'!E46),'2-way Quiz'!E46),IF(E49>2,IF(E$2=\"R\",\".\",'2-way Quiz'!E46),'2-way Quiz'!E46)))","v":20},{"$f":"IF(E44>2,\".\",IF(E49=2,IF(E44=0,IF('2-way Quiz'!F46=20,30,'2-way Quiz'!F46),'2-way Quiz'!F46),IF(F49>2,IF(F$2=\"R\",\".\",'2-way Quiz'!F46),'2-way Quiz'!F46)))","v":20},{"$f":"IF(F44>2,\".\",IF(F49=2,IF(F44=0,IF('2-way Quiz'!G46=20,30,'2-way Quiz'!G46),'2-way Quiz'!G46),IF(G49>2,IF(G$2=\"R\",\".\",'2-way Quiz'!G46),'2-way Quiz'!G46)))","v":20},{"$f":"IF(G44>2,\".\",IF(G49=2,IF(G44=0,IF('2-way Quiz'!H46=20,30,'2-way Quiz'!H46),'2-way Quiz'!H46),IF(H49>2,IF(H$2=\"R\",\".\",'2-way Quiz'!H46),'2-way Quiz'!H46)))","v":20},{"$f":"IF(H44>2,\".\",IF(H49=2,IF(H44=0,IF('2-way Quiz'!I46=20,30,'2-way Quiz'!I46),'2-way Quiz'!I46),IF(I49>2,IF(I$2=\"R\",\".\",'2-way Quiz'!I46),'2-way Quiz'!I46)))","v":20},{"$f":"IF(I44>2,\".\",IF(I49=2,IF(I44=0,IF('2-way Quiz'!J46=20,30,'2-way Quiz'!J46),'2-way Quiz'!J46),IF(J49>2,IF(J$2=\"R\",\".\",'2-way Quiz'!J46),'2-way Quiz'!J46)))","v":20},{"$f":"IF(J44>2,\".\",IF(J49=2,IF(J44=0,IF('2-way Quiz'!K46=20,30,'2-way Quiz'!K46),'2-way Quiz'!K46),IF(K49>2,IF(K$2=\"R\",\".\",'2-way Quiz'!K46),'2-way Quiz'!K46)))","v":20},{"$f":"IF(K44>2,\".\",IF(K49=2,IF(K44=0,IF('2-way Quiz'!L46=20,30,'2-way Quiz'!L46),'2-way Quiz'!L46),IF(L49>2,IF(L$2=\"R\",\".\",'2-way Quiz'!L46),'2-way Quiz'!L46)))","v":20},{"$f":"IF(L44>2,\".\",IF(L49=2,IF(L44=0,IF('2-way Quiz'!M46=20,30,'2-way Quiz'!M46),'2-way Quiz'!M46),IF(M49>2,IF(M$2=\"R\",\".\",'2-way Quiz'!M46),'2-way Quiz'!M46)))","v":20},{"$f":"IF(M44>2,\".\",IF(M49=2,IF(M44=0,IF('2-way Quiz'!N46=20,30,'2-way Quiz'!N46),'2-way Quiz'!N46),IF(N49>2,IF(N$2=\"R\",\".\",'2-way Quiz'!N46),'2-way Quiz'!N46)))","v":20},{"$f":"IF(N44>2,\".\",IF(N49=2,IF(N44=0,IF('2-way Quiz'!O46=20,30,'2-way Quiz'!O46),'2-way Quiz'!O46),IF(O49>2,IF(O$2=\"R\",\".\",'2-way Quiz'!O46),'2-way Quiz'!O46)))","v":20},{"$f":"IF(O44>2,\".\",IF(O49=2,IF(O44=0,IF('2-way Quiz'!P46=20,30,'2-way Quiz'!P46),'2-way Quiz'!P46),IF(P49>2,IF(P$2=\"R\",\".\",'2-way Quiz'!P46),'2-way Quiz'!P46)))","v":20},{"$f":"IF(P44>2,\".\",IF(P49=2,IF(P44=0,IF('2-way Quiz'!Q46=20,30,'2-way Quiz'!Q46),'2-way Quiz'!Q46),IF(Q49>2,IF(Q$2=\"R\",\".\",'2-way Quiz'!Q46),'2-way Quiz'!Q46)))","v":"."},{"$f":"IF(Q44>2,\".\",IF(Q49=2,IF(Q44=0,IF('2-way Quiz'!R46=20,30,'2-way Quiz'!R46),'2-way Quiz'!R46),IF(R49>2,IF(R$2=\"R\",\".\",'2-way Quiz'!R46),'2-way Quiz'!R46)))","v":20},{"$f":"IF(R44>2,\".\",IF(R49=2,IF(R44=0,IF('2-way Quiz'!S46=20,30,'2-way Quiz'!S46),'2-way Quiz'!S46),IF(S49>2,IF(S$2=\"R\",\".\",'2-way Quiz'!S46),'2-way Quiz'!S46)))","v":10},{"$f":"IF(S44>2,\".\",IF(S49=2,IF(S44=0,IF('2-way Quiz'!T46=20,30,'2-way Quiz'!T46),'2-way Quiz'!T46),IF(T49>2,IF(T$2=\"R\",\".\",'2-way Quiz'!T46),'2-way Quiz'!T46)))","v":"."},{"$f":"IF(T44>2,\".\",IF(T49=2,IF(T44=0,IF('2-way Quiz'!U46=20,30,'2-way Quiz'!U46),'2-way Quiz'!U46),IF(U49>2,IF(U$2=\"R\",\".\",'2-way Quiz'!U46),'2-way Quiz'!U46)))","v":20},{"$f":"IF(U44>2,\".\",IF(U49=2,IF(U44=0,IF('2-way Quiz'!V46=20,30,'2-way Quiz'!V46),'2-way Quiz'!V46),IF(V49>2,IF(V$2=\"R\",\".\",'2-way Quiz'!V46),'2-way Quiz'!V46)))","v":10},{"$f":"IF(V44>2,\".\",IF(V49=2,IF(V44=0,IF('2-way Quiz'!W46=20,30,'2-way Quiz'!W46),'2-way Quiz'!W46),IF(W49>2,IF(W$2=\"R\",\".\",'2-way Quiz'!W46),'2-way Quiz'!W46)))","v":"."},{"$f":"IF(W44>2,\".\",IF(W49=2,IF(W44=0,IF('2-way Quiz'!X46=20,30,'2-way Quiz'!X46),'2-way Quiz'!X46),IF(X49>2,IF(X$2=\"R\",\".\",'2-way Quiz'!X46),'2-way Quiz'!X46)))","v":20},{"$f":"IF(X44>2,\".\",IF(X49=2,IF(X44=0,IF('2-way Quiz'!Y46=20,30,'2-way Quiz'!Y46),'2-way Quiz'!Y46),IF(Y49>2,IF(Y$2=\"R\",\".\",'2-way Quiz'!Y46),'2-way Quiz'!Y46)))","v":10},{"$f":"IF(Y44>2,\".\",IF(Y49=2,IF(Y44=0,IF('2-way Quiz'!Z46=20,30,'2-way Quiz'!Z46),'2-way Quiz'!Z46),IF(Z49>2,IF(Z$2=\"R\",\".\",'2-way Quiz'!Z46),'2-way Quiz'!Z46)))","v":10},{"$f":"IF(Z44>2,\".\",IF(Z49=2,IF(Z44=0,IF('2-way Quiz'!AA46=20,30,'2-way Quiz'!AA46),'2-way Quiz'!AA46),IF(AA49>2,IF(AA$2=\"R\",\".\",'2-way Quiz'!AA46),'2-way Quiz'!AA46)))","v":10},{"$f":"IF(AA44>2,\".\",IF(AA49=2,IF(AA44=0,IF('2-way Quiz'!AB46=20,30,'2-way Quiz'!AB46),'2-way Quiz'!AB46),IF(AB49>2,IF(AB$2=\"R\",\".\",'2-way Quiz'!AB46),'2-way Quiz'!AB46)))","v":10},{"$f":"IF(AB44>2,\".\",IF(AB49=2,IF(AB44=0,IF('2-way Quiz'!AC46=20,30,'2-way Quiz'!AC46),'2-way Quiz'!AC46),IF(AC49>2,IF(AC$2=\"R\",\".\",'2-way Quiz'!AC46),'2-way Quiz'!AC46)))","v":10},{"$f":"IF(AC44>2,\".\",IF(AC49=2,IF(AC44=0,IF('2-way Quiz'!AD46=20,30,'2-way Quiz'!AD46),'2-way Quiz'!AD46),IF(AD49>2,IF(AD$2=\"R\",\".\",'2-way Quiz'!AD46),'2-way Quiz'!AD46)))","v":10},{"$f":"IF(AD44>2,\".\",IF(AD49=2,IF(AD44=0,IF('2-way Quiz'!AE46=20,30,'2-way Quiz'!AE46),'2-way Quiz'!AE46),IF(AE49>2,IF(AE$2=\"R\",\".\",'2-way Quiz'!AE46),'2-way Quiz'!AE46)))","v":10},{"$f":"IF(AE44>2,\".\",IF(AE49=2,IF(AE44=0,IF('2-way Quiz'!AF46=20,30,'2-way Quiz'!AF46),'2-way Quiz'!AF46),IF(AF49>2,IF(AF$2=\"R\",\".\",'2-way Quiz'!AF46),'2-way Quiz'!AF46)))","v":10},{"$f":"IF(AF44>2,\".\",IF(AF49=2,IF(AF44=0,IF('2-way Quiz'!AG46=20,30,'2-way Quiz'!AG46),'2-way Quiz'!AG46),IF(AG49>2,IF(AG$2=\"R\",\".\",'2-way Quiz'!AG46),'2-way Quiz'!AG46)))","v":10},{"$f":"IF(AG44>2,\".\",IF(AG49=2,IF(AG44=0,IF('2-way Quiz'!AH46=20,30,'2-way Quiz'!AH46),'2-way Quiz'!AH46),IF(AH49>2,IF(AH$2=\"R\",\".\",'2-way Quiz'!AH46),'2-way Quiz'!AH46)))","v":10},{"$f":"IF(AH44>2,\".\",IF(AH49=2,IF(AH44=0,IF('2-way Quiz'!AI46=20,30,'2-way Quiz'!AI46),'2-way Quiz'!AI46),IF(AI49>2,IF(AI$2=\"R\",\".\",'2-way Quiz'!AI46),'2-way Quiz'!AI46)))","v":10},{"$f":"IF(AI44>2,\".\",IF(AI49=2,IF(AI44=0,IF('2-way Quiz'!AJ46=20,30,'2-way Quiz'!AJ46),'2-way Quiz'!AJ46),IF(AJ49>2,IF(AJ$2=\"R\",\".\",'2-way Quiz'!AJ46),'2-way Quiz'!AJ46)))","v":10},{"$f":"IF(AJ44>2,\".\",IF(AJ49=2,IF(AJ44=0,IF('2-way Quiz'!AK46=20,30,'2-way Quiz'!AK46),'2-way Quiz'!AK46),IF(AK49>2,IF(AK$2=\"R\",\".\",'2-way Quiz'!AK46),'2-way Quiz'!AK46)))","v":10},{"$f":"IF(AK44>2,\".\",IF(AK49=2,IF(AK44=0,IF('2-way Quiz'!AL46=20,30,'2-way Quiz'!AL46),'2-way Quiz'!AL46),IF(AL49>2,IF(AL$2=\"R\",\".\",'2-way Quiz'!AL46),'2-way Quiz'!AL46)))","v":10},{"$f":"IF(AL44>2,\".\",IF(AL49=2,IF(AL44=0,IF('2-way Quiz'!AM46=20,30,'2-way Quiz'!AM46),'2-way Quiz'!AM46),IF(AM49>2,IF(AM$2=\"R\",\".\",'2-way Quiz'!AM46),'2-way Quiz'!AM46)))","v":10},{"$f":"IF(AM44>2,\".\",IF(AM49=2,IF(AM44=0,IF('2-way Quiz'!AN46=20,30,'2-way Quiz'!AN46),'2-way Quiz'!AN46),IF(AN49>2,IF(AN$2=\"R\",\".\",'2-way Quiz'!AN46),'2-way Quiz'!AN46)))","v":10},{"$f":"IF(AN44>2,\".\",IF(AN49=2,IF(AN44=0,IF('2-way Quiz'!AO46=20,30,'2-way Quiz'!AO46),'2-way Quiz'!AO46),IF(AO49>2,IF(AO$2=\"R\",\".\",'2-way Quiz'!AO46),'2-way Quiz'!AO46)))","v":10},{"$f":"IF(AO44>2,\".\",IF(AO49=2,IF(AO44=0,IF('2-way Quiz'!AP46=20,30,'2-way Quiz'!AP46),'2-way Quiz'!AP46),IF(AP49>2,IF(AP$2=\"R\",\".\",'2-way Quiz'!AP46),'2-way Quiz'!AP46)))","v":10},{"$f":"IF(AP44>2,\".\",IF(AP49=2,IF(AP44=0,IF('2-way Quiz'!AQ46=20,30,'2-way Quiz'!AQ46),'2-way Quiz'!AQ46),IF(AQ49>2,IF(AQ$2=\"R\",\".\",'2-way Quiz'!AQ46),'2-way Quiz'!AQ46)))","v":10},{"$f":"IF(AQ44>2,\".\",IF(AQ49=2,IF(AQ44=0,IF('2-way Quiz'!AR46=20,30,'2-way Quiz'!AR46),'2-way Quiz'!AR46),IF(AR49>2,IF(AR$2=\"R\",\".\",'2-way Quiz'!AR46),'2-way Quiz'!AR46)))","v":10},{"$f":"IF(AR44>2,\".\",IF(AR49=2,IF(AR44=0,IF('2-way Quiz'!AS46=20,30,'2-way Quiz'!AS46),'2-way Quiz'!AS46),IF(AS49>2,IF(AS$2=\"R\",\".\",'2-way Quiz'!AS46),'2-way Quiz'!AS46)))","v":10},{"$f":"IF(AS44>2,\".\",IF(AS49=2,IF(AS44=0,IF('2-way Quiz'!AT46=20,30,'2-way Quiz'!AT46),'2-way Quiz'!AT46),IF(AT49>2,IF(AT$2=\"R\",\".\",'2-way Quiz'!AT46),'2-way Quiz'!AT46)))","v":10},{"$f":"IF(AT44>2,\".\",IF(AT49=2,IF(AT44=0,IF('2-way Quiz'!AU46=20,30,'2-way Quiz'!AU46),'2-way Quiz'!AU46),IF(AU49>2,IF(AU$2=\"R\",\".\",'2-way Quiz'!AU46),'2-way Quiz'!AU46)))","v":10},{"$f":"IF(AU44>2,\".\",IF(AU49=2,IF(AU44=0,IF('2-way Quiz'!AV46=20,30,'2-way Quiz'!AV46),'2-way Quiz'!AV46),IF(AV49>2,IF(AV$2=\"R\",\".\",'2-way Quiz'!AV46),'2-way Quiz'!AV46)))","v":10},{"$f":"IF(AV44>2,\".\",IF(AV49=2,IF(AV44=0,IF('2-way Quiz'!AW46=20,30,'2-way Quiz'!AW46),'2-way Quiz'!AW46),IF(AW49>2,IF(AW$2=\"R\",\".\",'2-way Quiz'!AW46),'2-way Quiz'!AW46)))","v":10},{"$f":"IF(AW44>2,\".\",IF(AW49=2,IF(AW44=0,IF('2-way Quiz'!AX46=20,30,'2-way Quiz'!AX46),'2-way Quiz'!AX46),IF(AX49>2,IF(AX$2=\"R\",\".\",'2-way Quiz'!AX46),'2-way Quiz'!AX46)))","v":10},{"$f":"IF(AX44>2,\".\",IF(AX49=2,IF(AX44=0,IF('2-way Quiz'!AY46=20,30,'2-way Quiz'!AY46),'2-way Quiz'!AY46),IF(AY49>2,IF(AY$2=\"R\",\".\",'2-way Quiz'!AY46),'2-way Quiz'!AY46)))","v":10},{"$f":"IF(AY44>2,\".\",IF(AY49=2,IF(AY44=0,IF('2-way Quiz'!AZ46=20,30,'2-way Quiz'!AZ46),'2-way Quiz'!AZ46),IF(AZ49>2,IF(AZ$2=\"R\",\".\",'2-way Quiz'!AZ46),'2-way Quiz'!AZ46)))","v":10},{"$f":"IF(AZ44>2,\".\",IF(AZ49=2,IF(AZ44=0,IF('2-way Quiz'!BA46=20,30,'2-way Quiz'!BA46),'2-way Quiz'!BA46),IF(BA49>2,IF(BA$2=\"R\",\".\",'2-way Quiz'!BA46),'2-way Quiz'!BA46)))","v":10},{"$f":"IF(BA44>2,\".\",IF(BA49=2,IF(BA44=0,IF('2-way Quiz'!BB46=20,30,'2-way Quiz'!BB46),'2-way Quiz'!BB46),IF(BB49>2,IF(BB$2=\"R\",\".\",'2-way Quiz'!BB46),'2-way Quiz'!BB46)))","v":10}]
[null,null,{"$f":"'2-way Quiz'!C40","v":"Quizzer #3"},20,{"$f":"IF(D45>2,\".\",IF(D50=2,IF(D45=0,IF('2-way Quiz'!E46=20,30,'2-way Quiz'!E46),'2-way Quiz'!E46),IF(E50>2,IF(E$2=\"R\",\".\",'2-way Quiz'!E46),'2-way Quiz'!E46)))","v":20},{"$f":"IF(E45>2,\".\",IF(E50=2,IF(E45=0,IF('2-way Quiz'!F46=20,30,'2-way Quiz'!F46),'2-way Quiz'!F46),IF(F50>2,IF(F$2=\"R\",\".\",'2-way Quiz'!F46),'2-way Quiz'!F46)))","v":20},{"$f":"IF(F45>2,\".\",IF(F50=2,IF(F45=0,IF('2-way Quiz'!G46=20,30,'2-way Quiz'!G46),'2-way Quiz'!G46),IF(G50>2,IF(G$2=\"R\",\".\",'2-way Quiz'!G46),'2-way Quiz'!G46)))","v":20},{"$f":"IF(G45>2,\".\",IF(G50=2,IF(G45=0,IF('2-way Quiz'!H46=20,30,'2-way Quiz'!H46),'2-way Quiz'!H46),IF(H50>2,IF(H$2=\"R\",\".\",'2-way Quiz'!H46),'2-way Quiz'!H46)))","v":20},{"$f":"IF(H45>2,\".\",IF(H50=2,IF(H45=0,IF('2-way Quiz'!I46=20,30,'2-way Quiz'!I46),'2-way Quiz'!I46),IF(I50>2,IF(I$2=\"R\",\".\",'2-way Quiz'!I46),'2-way Quiz'!I46)))","v":20},{"$f":"IF(I45>2,\".\",IF(I50=2,IF(I45=0,IF('2-way Quiz'!J46=20,30,'2-way Quiz'!J46),'2-way Quiz'!J46),IF(J50>2,IF(J$2=\"R\",\".\",'2-way Quiz'!J46),'2-way Quiz'!J46)))","v":20},{"$f":"IF(J45>2,\".\",IF(J50=2,IF(J45=0,IF('2-way Quiz'!K46=20,30,'2-way Quiz'!K46),'2-way Quiz'!K46),IF(K50>2,IF(K$2=\"R\",\".\",'2-way Quiz'!K46),'2-way Quiz'!K46)))","v":20},{"$f":"IF(K45>2,\".\",IF(K50=2,IF(K45=0,IF('2-way Quiz'!L46=20,30,'2-way Quiz'!L46),'2-way Quiz'!L46),IF(L50>2,IF(L$2=\"R\",\".\",'2-way Quiz'!L46),'2-way Quiz'!L46)))","v":20},{"$f":"IF(L45>2,\".\",IF(L50=2,IF(L45=0,IF('2-way Quiz'!M46=20,30,'2-way Quiz'!M46),'2-way Quiz'!M46),IF(M50>2,IF(M$2=\"R\",\".\",'2-way Quiz'!M46),'2-way Quiz'!M46)))","v":20},{"$f":"IF(M45>2,\".\",IF(M50=2,IF(M45=0,IF('2-way Quiz'!N46=20,30,'2-way Quiz'!N46),'2-way Quiz'!N46),IF(N50>2,IF(N$2=\"R\",\".\",'2-way Quiz'!N46),'2-way Quiz'!N46)))","v":20},{"$f":"IF(N45>2,\".\",IF(N50=2,IF(N45=0,IF('2-way Quiz'!O46=20,30,'2-way Quiz'!O46),'2-way Quiz'!O46),IF(O50>2,IF(O$2=\"R\",\".\",'2-way Quiz'!O46),'2-way Quiz'!O46)))","v":20},{"$f":"IF(O45>2,\".\",IF(O50=2,IF(O45=0,IF('2-way Quiz'!P46=20,30,'2-way Quiz'!P46),'2-way Quiz'!P46),IF(P50>2,IF(P$2=\"R\",\".\",'2-way Quiz'!P46),'2-way Quiz'!P46)))","v":20},{"$f":"IF(P45>2,\".\",IF(P50=2,IF(P45=0,IF('2-way Quiz'!Q46=20,30,'2-way Quiz'!Q46),'2-way Quiz'!Q46),IF(Q50>2,IF(Q$2=\"R\",\".\",'2-way Quiz'!Q46),'2-way Quiz'!Q46)))","v":"."},{"$f":"IF(Q45>2,\".\",IF(Q50=2,IF(Q45=0,IF('2-way Quiz'!R46=20,30,'2-way Quiz'!R46),'2-way Quiz'!R46),IF(R50>2,IF(R$2=\"R\",\".\",'2-way Quiz'!R46),'2-way Quiz'!R46)))","v":20},{"$f":"IF(R45>2,\".\",IF(R50=2,IF(R45=0,IF('2-way Quiz'!S46=20,30,'2-way Quiz'!S46),'2-way Quiz'!S46),IF(S50>2,IF(S$2=\"R\",\".\",'2-way Quiz'!S46),'2-way Quiz'!S46)))","v":10},{"$f":"IF(S45>2,\".\",IF(S50=2,IF(S45=0,IF('2-way Quiz'!T46=20,30,'2-way Quiz'!T46),'2-way Quiz'!T46),IF(T50>2,IF(T$2=\"R\",\".\",'2-way Quiz'!T46),'2-way Quiz'!T46)))","v":"."},{"$f":"IF(T45>2,\".\",IF(T50=2,IF(T45=0,IF('2-way Quiz'!U46=20,30,'2-way Quiz'!U46),'2-way Quiz'!U46),IF(U50>2,IF(U$2=\"R\",\".\",'2-way Quiz'!U46),'2-way Quiz'!U46)))","v":20},{"$f":"IF(U45>2,\".\",IF(U50=2,IF(U45=0,IF('2-way Quiz'!V46=20,30,'2-way Quiz'!V46),'2-way Quiz'!V46),IF(V50>2,IF(V$2=\"R\",\".\",'2-way Quiz'!V46),'2-way Quiz'!V46)))","v":10},{"$f":"IF(V45>2,\".\",IF(V50=2,IF(V45=0,IF('2-way Quiz'!W46=20,30,'2-way Quiz'!W46),'2-way Quiz'!W46),IF(W50>2,IF(W$2=\"R\",\".\",'2-way Quiz'!W46),'2-way Quiz'!W46)))","v":"."},{"$f":"IF(W45>2,\".\",IF(W50=2,IF(W45=0,IF('2-way Quiz'!X46=20,30,'2-way Quiz'!X46),'2-way Quiz'!X46),IF(X50>2,IF(X$2=\"R\",\".\",'2-way Quiz'!X46),'2-way Quiz'!X46)))","v":20},{"$f":"IF(X45>2,\".\",IF(X50=2,IF(X45=0,IF('2-way Quiz'!Y46=20,30,'2-way Quiz'!Y46),'2-way Quiz'!Y46),IF(Y50>2,IF(Y$2=\"R\",\".\",'2-way Quiz'!Y46),'2-way Quiz'!Y46)))","v":10},{"$f":"IF(Y45>2,\".\",IF(Y50=2,IF(Y45=0,IF('2-way Quiz'!Z46=20,30,'2-way Quiz'!Z46),'2-way Quiz'!Z46),IF(Z50>2,IF(Z$2=\"R\",\".\",'2-way Quiz'!Z46),'2-way Quiz'!Z46)))","v":10},{"$f":"IF(Z45>2,\".\",IF(Z50=2,IF(Z45=0,IF('2-way Quiz'!AA46=20,30,'2-way Quiz'!AA46),'2-way Quiz'!AA46),IF(AA50>2,IF(AA$2=\"R\",\".\",'2-way Quiz'!AA46),'2-way Quiz'!AA46)))","v":10},{"$f":"IF(AA45>2,\".\",IF(AA50=2,IF(AA45=0,IF('2-way Quiz'!AB46=20,30,'2-way Quiz'!AB46),'2-way Quiz'!AB46),IF(AB50>2,IF(AB$2=\"R\",\".\",'2-way Quiz'!AB46),'2-way Quiz'!AB46)))","v":10},{"$f":"IF(AB45>2,\".\",IF(AB50=2,IF(AB45=0,IF('2-way Quiz'!AC46=20,30,'2-way Quiz'!AC46),'2-way Quiz'!AC46),IF(AC50>2,IF(AC$2=\"R\",\".\",'2-way Quiz'!AC46),'2-way Quiz'!AC46)))","v":10},{"$f":"IF(AC45>2,\".\",IF(AC50=2,IF(AC45=0,IF('2-way Quiz'!AD46=20,30,'2-way Quiz'!AD46),'2-way Quiz'!AD46),IF(AD50>2,IF(AD$2=\"R\",\".\",'2-way Quiz'!AD46),'2-way Quiz'!AD46)))","v":10},{"$f":"IF(AD45>2,\".\",IF(AD50=2,IF(AD45=0,IF('2-way Quiz'!AE46=20,30,'2-way Quiz'!AE46),'2-way Quiz'!AE46),IF(AE50>2,IF(AE$2=\"R\",\".\",'2-way Quiz'!AE46),'2-way Quiz'!AE46)))","v":10},{"$f":"IF(AE45>2,\".\",IF(AE50=2,IF(AE45=0,IF('2-way Quiz'!AF46=20,30,'2-way Quiz'!AF46),'2-way Quiz'!AF46),IF(AF50>2,IF(AF$2=\"R\",\".\",'2-way Quiz'!AF46),'2-way Quiz'!AF46)))","v":10},{"$f":"IF(AF45>2,\".\",IF(AF50=2,IF(AF45=0,IF('2-way Quiz'!AG46=20,30,'2-way Quiz'!AG46),'2-way Quiz'!AG46),IF(AG50>2,IF(AG$2=\"R\",\".\",'2-way Quiz'!AG46),'2-way Quiz'!AG46)))","v":10},{"$f":"IF(AG45>2,\".\",IF(AG50=2,IF(AG45=0,IF('2-way Quiz'!AH46=20,30,'2-way Quiz'!AH46),'2-way Quiz'!AH46),IF(AH50>2,IF(AH$2=\"R\",\".\",'2-way Quiz'!AH46),'2-way Quiz'!AH46)))","v":10},{"$f":"IF(AH45>2,\".\",IF(AH50=2,IF(AH45=0,IF('2-way Quiz'!AI46=20,30,'2-way Quiz'!AI46),'2-way Quiz'!AI46),IF(AI50>2,IF(AI$2=\"R\",\".\",'2-way Quiz'!AI46),'2-way Quiz'!AI46)))","v":10},{"$f":"IF(AI45>2,\".\",IF(AI50=2,IF(AI45=0,IF('2-way Quiz'!AJ46=20,30,'2-way Quiz'!AJ46),'2-way Quiz'!AJ46),IF(AJ50>2,IF(AJ$2=\"R\",\".\",'2-way Quiz'!AJ46),'2-way Quiz'!AJ46)))","v":10},{"$f":"IF(AJ45>2,\".\",IF(AJ50=2,IF(AJ45=0,IF('2-way Quiz'!AK46=20,30,'2-way Quiz'!AK46),'2-way Quiz'!AK46),IF(AK50>2,IF(AK$2=\"R\",\".\",'2-way Quiz'!AK46),'2-way Quiz'!AK46)))","v":10},{"$f":"IF(AK45>2,\".\",IF(AK50=2,IF(AK45=0,IF('2-way Quiz'!AL46=20,30,'2-way Quiz'!AL46),'2-way Quiz'!AL46),IF(AL50>2,IF(AL$2=\"R\",\".\",'2-way Quiz'!AL46),'2-way Quiz'!AL46)))","v":10},{"$f":"IF(AL45>2,\".\",IF(AL50=2,IF(AL45=0,IF('2-way Quiz'!AM46=20,30,'2-way Quiz'!AM46),'2-way Quiz'!AM46),IF(AM50>2,IF(AM$2=\"R\",\".\",'2-way Quiz'!AM46),'2-way Quiz'!AM46)))","v":10},{"$f":"IF(AM45>2,\".\",IF(AM50=2,IF(AM45=0,IF('2-way Quiz'!AN46=20,30,'2-way Quiz'!AN46),'2-way Quiz'!AN46),IF(AN50>2,IF(AN$2=\"R\",\".\",'2-way Quiz'!AN46),'2-way Quiz'!AN46)))","v":10},{"$f":"IF(AN45>2,\".\",IF(AN50=2,IF(AN45=0,IF('2-way Quiz'!AO46=20,30,'2-way Quiz'!AO46),'2-way Quiz'!AO46),IF(AO50>2,IF(AO$2=\"R\",\".\",'2-way Quiz'!AO46),'2-way Quiz'!AO46)))","v":10},{"$f":"IF(AO45>2,\".\",IF(AO50=2,IF(AO45=0,IF('2-way Quiz'!AP46=20,30,'2-way Quiz'!AP46),'2-way Quiz'!AP46),IF(AP50>2,IF(AP$2=\"R\",\".\",'2-way Quiz'!AP46),'2-way Quiz'!AP46)))","v":10},{"$f":"IF(AP45>2,\".\",IF(AP50=2,IF(AP45=0,IF('2-way Quiz'!AQ46=20,30,'2-way Quiz'!AQ46),'2-way Quiz'!AQ46),IF(AQ50>2,IF(AQ$2=\"R\",\".\",'2-way Quiz'!AQ46),'2-way Quiz'!AQ46)))","v":10},{"$f":"IF(AQ45>2,\".\",IF(AQ50=2,IF(AQ45=0,IF('2-way Quiz'!AR46=20,30,'2-way Quiz'!AR46),'2-way Quiz'!AR46),IF(AR50>2,IF(AR$2=\"R\",\".\",'2-way Quiz'!AR46),'2-way Quiz'!AR46)))","v":10},{"$f":"IF(AR45>2,\".\",IF(AR50=2,IF(AR45=0,IF('2-way Quiz'!AS46=20,30,'2-way Quiz'!AS46),'2-way Quiz'!AS46),IF(AS50>2,IF(AS$2=\"R\",\".\",'2-way Quiz'!AS46),'2-way Quiz'!AS46)))","v":10},{"$f":"IF(AS45>2,\".\",IF(AS50=2,IF(AS45=0,IF('2-way Quiz'!AT46=20,30,'2-way Quiz'!AT46),'2-way Quiz'!AT46),IF(AT50>2,IF(AT$2=\"R\",\".\",'2-way Quiz'!AT46),'2-way Quiz'!AT46)))","v":10},{"$f":"IF(AT45>2,\".\",IF(AT50=2,IF(AT45=0,IF('2-way Quiz'!AU46=20,30,'2-way Quiz'!AU46),'2-way Quiz'!AU46),IF(AU50>2,IF(AU$2=\"R\",\".\",'2-way Quiz'!AU46),'2-way Quiz'!AU46)))","v":10},{"$f":"IF(AU45>2,\".\",IF(AU50=2,IF(AU45=0,IF('2-way Quiz'!AV46=20,30,'2-way Quiz'!AV46),'2-way Quiz'!AV46),IF(AV50>2,IF(AV$2=\"R\",\".\",'2-way Quiz'!AV46),'2-way Quiz'!AV46)))","v":10},{"$f":"IF(AV45>2,\".\",IF(AV50=2,IF(AV45=0,IF('2-way Quiz'!AW46=20,30,'2-way Quiz'!AW46),'2-way Quiz'!AW46),IF(AW50>2,IF(AW$2=\"R\",\".\",'2-way Quiz'!AW46),'2-way Quiz'!AW46)))","v":10},{"$f":"IF(AW45>2,\".\",IF(AW50=2,IF(AW45=0,IF('2-way Quiz'!AX46=20,30,'2-way Quiz'!AX46),'2-way Quiz'!AX46),IF(AX50>2,IF(AX$2=\"R\",\".\",'2-way Quiz'!AX46),'2-way Quiz'!AX46)))","v":10},{"$f":"IF(AX45>2,\".\",IF(AX50=2,IF(AX45=0,IF('2-way Quiz'!AY46=20,30,'2-way Quiz'!AY46),'2-way Quiz'!AY46),IF(AY50>2,IF(AY$2=\"R\",\".\",'2-way Quiz'!AY46),'2-way Quiz'!AY46)))","v":10},{"$f":"IF(AY45>2,\".\",IF(AY50=2,IF(AY45=0,IF('2-way Quiz'!AZ46=20,30,'2-way Quiz'!AZ46),'2-way Quiz'!AZ46),IF(AZ50>2,IF(AZ$2=\"R\",\".\",'2-way Quiz'!AZ46),'2-way Quiz'!AZ46)))","v":10},{"$f":"IF(AZ45>2,\".\",IF(AZ50=2,IF(AZ45=0,IF('2-way Quiz'!BA46=20,30,'2-way Quiz'!BA46),'2-way Quiz'!BA46),IF(BA50>2,IF(BA$2=\"R\",\".\",'2-way Quiz'!BA46),'2-way Quiz'!BA46)))","v":10},{"$f":"IF(BA45>2,\".\",IF(BA50=2,IF(BA45=0,IF('2-way Quiz'!BB46=20,30,'2-way Quiz'!BB46),'2-way Quiz'!BB46),IF(BB50>2,IF(BB$2=\"R\",\".\",'2-way Quiz'!BB46),'2-way Quiz'!BB46)))","v":10}]
[null,null,{"$f":"'2-way Quiz'!C41","v":"Substitute"},".",{"$f":"IF(D46>2,\".\",IF(D51=2,IF(D46=0,IF('2-way Quiz'!E46=20,30,'2-way Quiz'!E46),'2-way Quiz'!E46),IF(E51>2,IF(E$2=\"R\",\".\",'2-way Quiz'!E46),'2-way Quiz'!E46)))","v":20},{"$f":"IF(E46>2,\".\",IF(E51=2,IF(E46=0,IF('2-way Quiz'!F46=20,30,'2-way Quiz'!F46),'2-way Quiz'!F46),IF(F51>2,IF(F$2=\"R\",\".\",'2-way Quiz'!F46),'2-way Quiz'!F46)))","v":20},{"$f":"IF(F46>2,\".\",IF(F51=2,IF(F46=0,IF('2-way Quiz'!G46=20,30,'2-way Quiz'!G46),'2-way Quiz'!G46),IF(G51>2,IF(G$2=\"R\",\".\",'2-way Quiz'!G46),'2-way Quiz'!G46)))","v":20},{"$f":"IF(G46>2,\".\",IF(G51=2,IF(G46=0,IF('2-way Quiz'!H46=20,30,'2-way Quiz'!H46),'2-way Quiz'!H46),IF(H51>2,IF(H$2=\"R\",\".\",'2-way Quiz'!H46),'2-way Quiz'!H46)))","v":20},{"$f":"IF(H46>2,\".\",IF(H51=2,IF(H46=0,IF('2-way Quiz'!I46=20,30,'2-way Quiz'!I46),'2-way Quiz'!I46),IF(I51>2,IF(I$2=\"R\",\".\",'2-way Quiz'!I46),'2-way Quiz'!I46)))","v":20},{"$f":"IF(I46>2,\".\",IF(I51=2,IF(I46=0,IF('2-way Quiz'!J46=20,30,'2-way Quiz'!J46),'2-way Quiz'!J46),IF(J51>2,IF(J$2=\"R\",\".\",'2-way Quiz'!J46),'2-way Quiz'!J46)))","v":20},{"$f":"IF(J46>2,\".\",IF(J51=2,IF(J46=0,IF('2-way Quiz'!K46=20,30,'2-way Quiz'!K46),'2-way Quiz'!K46),IF(K51>2,IF(K$2=\"R\",\".\",'2-way Quiz'!K46),'2-way Quiz'!K46)))","v":20},{"$f":"IF(K46>2,\".\",IF(K51=2,IF(K46=0,IF('2-way Quiz'!L46=20,30,'2-way Quiz'!L46),'2-way Quiz'!L46),IF(L51>2,IF(L$2=\"R\",\".\",'2-way Quiz'!L46),'2-way Quiz'!L46)))","v":20},{"$f":"IF(L46>2,\".\",IF(L51=2,IF(L46=0,IF('2-way Quiz'!M46=20,30,'2-way Quiz'!M46),'2-way Quiz'!M46),IF(M51>2,IF(M$2=\"R\",\".\",'2-way Quiz'!M46),'2-way Quiz'!M46)))","v":20},{"$f":"IF(M46>2,\".\",IF(M51=2,IF(M46=0,IF('2-way Quiz'!N46=20,30,'2-way Quiz'!N46),'2-way Quiz'!N46),IF(N51>2,IF(N$2=\"R\",\".\",'2-way Quiz'!N46),'2-way Quiz'!N46)))","v":20},{"$f":"IF(N46>2,\".\",IF(N51=2,IF(N46=0,IF('2-way Quiz'!O46=20,30,'2-way Quiz'!O46),'2-way Quiz'!O46),IF(O51>2,IF(O$2=\"R\",\".\",'2-way Quiz'!O46),'2-way Quiz'!O46)))","v":20},{"$f":"IF(O46>2,\".\",IF(O51=2,IF(O46=0,IF('2-way Quiz'!P46=20,30,'2-way Quiz'!P46),'2-way Quiz'!P46),IF(P51>2,IF(P$2=\"R\",\".\",'2-way Quiz'!P46),'2-way Quiz'!P46)))","v":20},{"$f":"IF(P46>2,\".\",IF(P51=2,IF(P46=0,IF('2-way Quiz'!Q46=20,30,'2-way Quiz'!Q46),'2-way Quiz'!Q46),IF(Q51>2,IF(Q$2=\"R\",\".\",'2-way Quiz'!Q46),'2-way Quiz'!Q46)))","v":"."},{"$f":"IF(Q46>2,\".\",IF(Q51=2,IF(Q46=0,IF('2-way Quiz'!R46=20,30,'2-way Quiz'!R46),'2-way Quiz'!R46),IF(R51>2,IF(R$2=\"R\",\".\",'2-way Quiz'!R46),'2-way Quiz'!R46)))","v":20},{"$f":"IF(R46>2,\".\",IF(R51=2,IF(R46=0,IF('2-way Quiz'!S46=20,30,'2-way Quiz'!S46),'2-way Quiz'!S46),IF(S51>2,IF(S$2=\"R\",\".\",'2-way Quiz'!S46),'2-way Quiz'!S46)))","v":10},{"$f":"IF(S46>2,\".\",IF(S51=2,IF(S46=0,IF('2-way Quiz'!T46=20,30,'2-way Quiz'!T46),'2-way Quiz'!T46),IF(T51>2,IF(T$2=\"R\",\".\",'2-way Quiz'!T46),'2-way Quiz'!T46)))","v":"."},{"$f":"IF(T46>2,\".\",IF(T51=2,IF(T46=0,IF('2-way Quiz'!U46=20,30,'2-way Quiz'!U46),'2-way Quiz'!U46),IF(U51>2,IF(U$2=\"R\",\".\",'2-way Quiz'!U46),'2-way Quiz'!U46)))","v":20},{"$f":"IF(U46>2,\".\",IF(U51=2,IF(U46=0,IF('2-way Quiz'!V46=20,30,'2-way Quiz'!V46),'2-way Quiz'!V46),IF(V51>2,IF(V$2=\"R\",\".\",'2-way Quiz'!V46),'2-way Quiz'!V46)))","v":10},{"$f":"IF(V46>2,\".\",IF(V51=2,IF(V46=0,IF('2-way Quiz'!W46=20,30,'2-way Quiz'!W46),'2-way Quiz'!W46),IF(W51>2,IF(W$2=\"R\",\".\",'2-way Quiz'!W46),'2-way Quiz'!W46)))","v":"."},{"$f":"IF(W46>2,\".\",IF(W51=2,IF(W46=0,IF('2-way Quiz'!X46=20,30,'2-way Quiz'!X46),'2-way Quiz'!X46),IF(X51>2,IF(X$2=\"R\",\".\",'2-way Quiz'!X46),'2-way Quiz'!X46)))","v":20},{"$f":"IF(X46>2,\".\",IF(X51=2,IF(X46=0,IF('2-way Quiz'!Y46=20,30,'2-way Quiz'!Y46),'2-way Quiz'!Y46),IF(Y51>2,IF(Y$2=\"R\",\".\",'2-way Quiz'!Y46),'2-way Quiz'!Y46)))","v":10},{"$f":"IF(Y46>2,\".\",IF(Y51=2,IF(Y46=0,IF('2-way Quiz'!Z46=20,30,'2-way Quiz'!Z46),'2-way Quiz'!Z46),IF(Z51>2,IF(Z$2=\"R\",\".\",'2-way Quiz'!Z46),'2-way Quiz'!Z46)))","v":10},{"$f":"IF(Z46>2,\".\",IF(Z51=2,IF(Z46=0,IF('2-way Quiz'!AA46=20,30,'2-way Quiz'!AA46),'2-way Quiz'!AA46),IF(AA51>2,IF(AA$2=\"R\",\".\",'2-way Quiz'!AA46),'2-way Quiz'!AA46)))","v":10},{"$f":"IF(AA46>2,\".\",IF(AA51=2,IF(AA46=0,IF('2-way Quiz'!AB46=20,30,'2-way Quiz'!AB46),'2-way Quiz'!AB46),IF(AB51>2,IF(AB$2=\"R\",\".\",'2-way Quiz'!AB46),'2-way Quiz'!AB46)))","v":10},{"$f":"IF(AB46>2,\".\",IF(AB51=2,IF(AB46=0,IF('2-way Quiz'!AC46=20,30,'2-way Quiz'!AC46),'2-way Quiz'!AC46),IF(AC51>2,IF(AC$2=\"R\",\".\",'2-way Quiz'!AC46),'2-way Quiz'!AC46)))","v":10},{"$f":"IF(AC46>2,\".\",IF(AC51=2,IF(AC46=0,IF('2-way Quiz'!AD46=20,30,'2-way Quiz'!AD46),'2-way Quiz'!AD46),IF(AD51>2,IF(AD$2=\"R\",\".\",'2-way Quiz'!AD46),'2-way Quiz'!AD46)))","v":10},{"$f":"IF(AD46>2,\".\",IF(AD51=2,IF(AD46=0,IF('2-way Quiz'!AE46=20,30,'2-way Quiz'!AE46),'2-way Quiz'!AE46),IF(AE51>2,IF(AE$2=\"R\",\".\",'2-way Quiz'!AE46),'2-way Quiz'!AE46)))","v":10},{"$f":"IF(AE46>2,\".\",IF(AE51=2,IF(AE46=0,IF('2-way Quiz'!AF46=20,30,'2-way Quiz'!AF46),'2-way Quiz'!AF46),IF(AF51>2,IF(AF$2=\"R\",\".\",'2-way Quiz'!AF46),'2-way Quiz'!AF46)))","v":10},{"$f":"IF(AF46>2,\".\",IF(AF51=2,IF(AF46=0,IF('2-way Quiz'!AG46=20,30,'2-way Quiz'!AG46),'2-way Quiz'!AG46),IF(AG51>2,IF(AG$2=\"R\",\".\",'2-way Quiz'!AG46),'2-way Quiz'!AG46)))","v":10},{"$f":"IF(AG46>2,\".\",IF(AG51=2,IF(AG46=0,IF('2-way Quiz'!AH46=20,30,'2-way Quiz'!AH46),'2-way Quiz'!AH46),IF(AH51>2,IF(AH$2=\"R\",\".\",'2-way Quiz'!AH46),'2-way Quiz'!AH46)))","v":10},{"$f":"IF(AH46>2,\".\",IF(AH51=2,IF(AH46=0,IF('2-way Quiz'!AI46=20,30,'2-way Quiz'!AI46),'2-way Quiz'!AI46),IF(AI51>2,IF(AI$2=\"R\",\".\",'2-way Quiz'!AI46),'2-way Quiz'!AI46)))","v":10},{"$f":"IF(AI46>2,\".\",IF(AI51=2,IF(AI46=0,IF('2-way Quiz'!AJ46=20,30,'2-way Quiz'!AJ46),'2-way Quiz'!AJ46),IF(AJ51>2,IF(AJ$2=\"R\",\".\",'2-way Quiz'!AJ46),'2-way Quiz'!AJ46)))","v":10},{"$f":"IF(AJ46>2,\".\",IF(AJ51=2,IF(AJ46=0,IF('2-way Quiz'!AK46=20,30,'2-way Quiz'!AK46),'2-way Quiz'!AK46),IF(AK51>2,IF(AK$2=\"R\",\".\",'2-way Quiz'!AK46),'2-way Quiz'!AK46)))","v":10},{"$f":"IF(AK46>2,\".\",IF(AK51=2,IF(AK46=0,IF('2-way Quiz'!AL46=20,30,'2-way Quiz'!AL46),'2-way Quiz'!AL46),IF(AL51>2,IF(AL$2=\"R\",\".\",'2-way Quiz'!AL46),'2-way Quiz'!AL46)))","v":10},{"$f":"IF(AL46>2,\".\",IF(AL51=2,IF(AL46=0,IF('2-way Quiz'!AM46=20,30,'2-way Quiz'!AM46),'2-way Quiz'!AM46),IF(AM51>2,IF(AM$2=\"R\",\".\",'2-way Quiz'!AM46),'2-way Quiz'!AM46)))","v":10},{"$f":"IF(AM46>2,\".\",IF(AM51=2,IF(AM46=0,IF('2-way Quiz'!AN46=20,30,'2-way Quiz'!AN46),'2-way Quiz'!AN46),IF(AN51>2,IF(AN$2=\"R\",\".\",'2-way Quiz'!AN46),'2-way Quiz'!AN46)))","v":10},{"$f":"IF(AN46>2,\".\",IF(AN51=2,IF(AN46=0,IF('2-way Quiz'!AO46=20,30,'2-way Quiz'!AO46),'2-way Quiz'!AO46),IF(AO51>2,IF(AO$2=\"R\",\".\",'2-way Quiz'!AO46),'2-way Quiz'!AO46)))","v":10},{"$f":"IF(AO46>2,\".\",IF(AO51=2,IF(AO46=0,IF('2-way Quiz'!AP46=20,30,'2-way Quiz'!AP46),'2-way Quiz'!AP46),IF(AP51>2,IF(AP$2=\"R\",\".\",'2-way Quiz'!AP46),'2-way Quiz'!AP46)))","v":10},{"$f":"IF(AP46>2,\".\",IF(AP51=2,IF(AP46=0,IF('2-way Quiz'!AQ46=20,30,'2-way Quiz'!AQ46),'2-way Quiz'!AQ46),IF(AQ51>2,IF(AQ$2=\"R\",\".\",'2-way Quiz'!AQ46),'2-way Quiz'!AQ46)))","v":10},{"$f":"IF(AQ46>2,\".\",IF(AQ51=2,IF(AQ46=0,IF('2-way Quiz'!AR46=20,30,'2-way Quiz'!AR46),'2-way Quiz'!AR46),IF(AR51>2,IF(AR$2=\"R\",\".\",'2-way Quiz'!AR46),'2-way Quiz'!AR46)))","v":10},{"$f":"IF(AR46>2,\".\",IF(AR51=2,IF(AR46=0,IF('2-way Quiz'!AS46=20,30,'2-way Quiz'!AS46),'2-way Quiz'!AS46),IF(AS51>2,IF(AS$2=\"R\",\".\",'2-way Quiz'!AS46),'2-way Quiz'!AS46)))","v":10},{"$f":"IF(AS46>2,\".\",IF(AS51=2,IF(AS46=0,IF('2-way Quiz'!AT46=20,30,'2-way Quiz'!AT46),'2-way Quiz'!AT46),IF(AT51>2,IF(AT$2=\"R\",\".\",'2-way Quiz'!AT46),'2-way Quiz'!AT46)))","v":10},{"$f":"IF(AT46>2,\".\",IF(AT51=2,IF(AT46=0,IF('2-way Quiz'!AU46=20,30,'2-way Quiz'!AU46),'2-way Quiz'!AU46),IF(AU51>2,IF(AU$2=\"R\",\".\",'2-way Quiz'!AU46),'2-way Quiz'!AU46)))","v":10},{"$f":"IF(AU46>2,\".\",IF(AU51=2,IF(AU46=0,IF('2-way Quiz'!AV46=20,30,'2-way Quiz'!AV46),'2-way Quiz'!AV46),IF(AV51>2,IF(AV$2=\"R\",\".\",'2-way Quiz'!AV46),'2-way Quiz'!AV46)))","v":10},{"$f":"IF(AV46>2,\".\",IF(AV51=2,IF(AV46=0,IF('2-way Quiz'!AW46=20,30,'2-way Quiz'!AW46),'2-way Quiz'!AW46),IF(AW51>2,IF(AW$2=\"R\",\".\",'2-way Quiz'!AW46),'2-way Quiz'!AW46)))","v":10},{"$f":"IF(AW46>2,\".\",IF(AW51=2,IF(AW46=0,IF('2-way Quiz'!AX46=20,30,'2-way Quiz'!AX46),'2-way Quiz'!AX46),IF(AX51>2,IF(AX$2=\"R\",\".\",'2-way Quiz'!AX46),'2-way Quiz'!AX46)))","v":10},{"$f":"IF(AX46>2,\".\",IF(AX51=2,IF(AX46=0,IF('2-way Quiz'!AY46=20,30,'2-way Quiz'!AY46),'2-way Quiz'!AY46),IF(AY51>2,IF(AY$2=\"R\",\".\",'2-way Quiz'!AY46),'2-way Quiz'!AY46)))","v":10},{"$f":"IF(AY46>2,\".\",IF(AY51=2,IF(AY46=0,IF('2-way Quiz'!AZ46=20,30,'2-way Quiz'!AZ46),'2-way Quiz'!AZ46),IF(AZ51>2,IF(AZ$2=\"R\",\".\",'2-way Quiz'!AZ46),'2-way Quiz'!AZ46)))","v":10},{"$f":"IF(AZ46>2,\".\",IF(AZ51=2,IF(AZ46=0,IF('2-way Quiz'!BA46=20,30,'2-way Quiz'!BA46),'2-way Quiz'!BA46),IF(BA51>2,IF(BA$2=\"R\",\".\",'2-way Quiz'!BA46),'2-way Quiz'!BA46)))","v":10},{"$f":"IF(BA46>2,\".\",IF(BA51=2,IF(BA46=0,IF('2-way Quiz'!BB46=20,30,'2-way Quiz'!BB46),'2-way Quiz'!BB46),IF(BB51>2,IF(BB$2=\"R\",\".\",'2-way Quiz'!BB46),'2-way Quiz'!BB46)))","v":10}]
[]
[null,null,{"$f":"CONCATENATE(\"# of errors \",C38)","v":"# of errors Quizzer #1"},{"$f":"IF('2-way Quiz'!D38=\"E\",1,0)","v":0},{"$f":"IF('2-way Quiz'!E38=\"E\",D43+1,D43)","v":0},{"$f":"IF('2-way Quiz'!F38=\"E\",E43+1,E43)","v":0},{"$f":"IF('2-way Quiz'!G38=\"E\",F43+1,F43)","v":0},{"$f":"IF('2-way Quiz'!H38=\"E\",G43+1,G43)","v":0},{"$f":"IF('2-way Quiz'!I38=\"E\",H43+1,H43)","v":0},{"$f":"IF('2-way Quiz'!J38=\"E\",I43+1,I43)","v":0},{"$f":"IF('2-way Quiz'!K38=\"E\",J43+1,J43)","v":0},{"$f":"IF('2-way Quiz'!L38=\"E\",K43+1,K43)","v":0},{"$f":"IF('2-way Quiz'!M38=\"E\",L43+1,L43)","v":0},{"$f":"IF('2-way Quiz'!N38=\"E\",M43+1,M43)","v":0},{"$f":"IF('2-way Quiz'!O38=\"E\",N43+1,N43)","v":0},{"$f":"IF('2-way Quiz'!P38=\"E\",O43+1,O43)","v":0},{"$f":"IF('2-way Quiz'!Q38=\"E\",P43+1,P43)","v":0},{"$f":"IF('2-way Quiz'!R38=\"E\",Q43+1,Q43)","v":0},{"$f":"IF('2-way Quiz'!S38=\"E\",R43+1,R43)","v":0},{"$f":"IF('2-way Quiz'!T38=\"E\",S43+1,S43)","v":0},{"$f":"IF('2-way Quiz'!U38=\"E\",T43+1,T43)","v":0},{"$f":"IF('2-way Quiz'!V38=\"E\",U43+1,U43)","v":0},{"$f":"IF('2-way Quiz'!W38=\"E\",V43+1,V43)","v":0},{"$f":"IF('2-way Quiz'!X38=\"E\",W43+1,W43)","v":0},{"$f":"IF('2-way Quiz'!Y38=\"E\",X43+1,X43)","v":0},{"$f":"IF('2-way Quiz'!Z38=\"E\",Y43+1,Y43)","v":0},{"$f":"IF('2-way Quiz'!AA38=\"E\",Z43+1,Z43)","v":0},{"$f":"IF('2-way Quiz'!AB38=\"E\",AA43+1,AA43)","v":0},{"$f":"IF('2-way Quiz'!AC38=\"E\",AB43+1,AB43)","v":0},{"$f":"IF('2-way Quiz'!AD38=\"E\",AC43+1,AC43)","v":0},{"$f":"IF('2-way Quiz'!AE38=\"E\",AD43+1,AD43)","v":0},{"$f":"IF('2-way Quiz'!AF38=\"E\",AE43+1,AE43)","v":0},{"$f":"IF('2-way Quiz'!AG38=\"E\",AF43+1,AF43)","v":0},{"$f":"IF('2-way Quiz'!AH38=\"E\",AG43+1,AG43)","v":0},{"$f":"IF('2-way Quiz'!AI38=\"E\",AH43+1,AH43)","v":0},{"$f":"IF('2-way Quiz'!AJ38=\"E\",AI43+1,AI43)","v":0},{"$f":"IF('2-way Quiz'!AK38=\"E\",AJ43+1,AJ43)","v":0},{"$f":"IF('2-way Quiz'!AL38=\"E\",AK43+1,AK43)","v":0},{"$f":"IF('2-way Quiz'!AM38=\"E\",AL43+1,AL43)","v":0},{"$f":"IF('2-way Quiz'!AN38=\"E\",AM43+1,AM43)","v":0},{"$f":"IF('2-way Quiz'!AO38=\"E\",AN43+1,AN43)","v":0},{"$f":"IF('2-way Quiz'!AP38=\"E\",AO43+1,AO43)","v":0},{"$f":"IF('2-way Quiz'!AQ38=\"E\",AP43+1,AP43)","v":0},{"$f":"IF('2-way Quiz'!AR38=\"E\",AQ43+1,AQ43)","v":0},{"$f":"IF('2-way Quiz'!AS38=\"E\",AR43+1,AR43)","v":0},{"$f":"IF('2-way Quiz'!AT38=\"E\",AS43+1,AS43)","v":0},{"$f":"IF('2-way Quiz'!AU38=\"E\",AT43+1,AT43)","v":0},{"$f":"IF('2-way Quiz'!AV38=\"E\",AU43+1,AU43)","v":0},{"$f":"IF('2-way Quiz'!AW38=\"E\",AV43+1,AV43)","v":0},{"$f":"IF('2-way Quiz'!AX38=\"E\",AW43+1,AW43)","v":0},{"$f":"IF('2-way Quiz'!AY38=\"E\",AX43+1,AX43)","v":0},{"$f":"IF('2-way Quiz'!AZ38=\"E\",AY43+1,AY43)","v":0},{"$f":"IF('2-way Quiz'!BA38=\"E\",AZ43+1,AZ43)","v":0},{"$f":"IF('2-way Quiz'!BB38=\"E\",BA43+1,BA43)","v":0}]
[null,null,{"$f":"CONCATENATE(\"# of errors \",C39)","v":"# of errors Quizzer #2"},{"$f":"IF('2-way Quiz'!D39=\"E\",1,0)","v":0},{"$f":"IF('2-way Quiz'!E39=\"E\",D44+1,D44)","v":0},{"$f":"IF('2-way Quiz'!F39=\"E\",E44+1,E44)","v":0},{"$f":"IF('2-way Quiz'!G39=\"E\",F44+1,F44)","v":0},{"$f":"IF('2-way Quiz'!H39=\"E\",G44+1,G44)","v":0},{"$f":"IF('2-way Quiz'!I39=\"E\",H44+1,H44)","v":0},{"$f":"IF('2-way Quiz'!J39=\"E\",I44+1,I44)","v":0},{"$f":"IF('2-way Quiz'!K39=\"E\",J44+1,J44)","v":0},{"$f":"IF('2-way Quiz'!L39=\"E\",K44+1,K44)","v":0},{"$f":"IF('2-way Quiz'!M39=\"E\",L44+1,L44)","v":0},{"$f":"IF('2-way Quiz'!N39=\"E\",M44+1,M44)","v":0},{"$f":"IF('2-way Quiz'!O39=\"E\",N44+1,N44)","v":0},{"$f":"IF('2-way Quiz'!P39=\"E\",O44+1,O44)","v":0},{"$f":"IF('2-way Quiz'!Q39=\"E\",P44+1,P44)","v":0},{"$f":"IF('2-way Quiz'!R39=\"E\",Q44+1,Q44)","v":0},{"$f":"IF('2-way Quiz'!S39=\"E\",R44+1,R44)","v":0},{"$f":"IF('2-way Quiz'!T39=\"E\",S44+1,S44)","v":0},{"$f":"IF('2-way Quiz'!U39=\"E\",T44+1,T44)","v":0},{"$f":"IF('2-way Quiz'!V39=\"E\",U44+1,U44)","v":0},{"$f":"IF('2-way Quiz'!W39=\"E\",V44+1,V44)","v":0},{"$f":"IF('2-way Quiz'!X39=\"E\",W44+1,W44)","v":0},{"$f":"IF('2-way Quiz'!Y39=\"E\",X44+1,X44)","v":0},{"$f":"IF('2-way Quiz'!Z39=\"E\",Y44+1,Y44)","v":0},{"$f":"IF('2-way Quiz'!AA39=\"E\",Z44+1,Z44)","v":0},{"$f":"IF('2-way Quiz'!AB39=\"E\",AA44+1,AA44)","v":0},{"$f":"IF('2-way Quiz'!AC39=\"E\",AB44+1,AB44)","v":0},{"$f":"IF('2-way Quiz'!AD39=\"E\",AC44+1,AC44)","v":0},{"$f":"IF('2-way Quiz'!AE39=\"E\",AD44+1,AD44)","v":0},{"$f":"IF('2-way Quiz'!AF39=\"E\",AE44+1,AE44)","v":0},{"$f":"IF('2-way Quiz'!AG39=\"E\",AF44+1,AF44)","v":0},{"$f":"IF('2-way Quiz'!AH39=\"E\",AG44+1,AG44)","v":0},{"$f":"IF('2-way Quiz'!AI39=\"E\",AH44+1,AH44)","v":0},{"$f":"IF('2-way Quiz'!AJ39=\"E\",AI44+1,AI44)","v":0},{"$f":"IF('2-way Quiz'!AK39=\"E\",AJ44+1,AJ44)","v":0},{"$f":"IF('2-way Quiz'!AL39=\"E\",AK44+1,AK44)","v":0},{"$f":"IF('2-way Quiz'!AM39=\"E\",AL44+1,AL44)","v":0},{"$f":"IF('2-way Quiz'!AN39=\"E\",AM44+1,AM44)","v":0},{"$f":"IF('2-way Quiz'!AO39=\"E\",AN44+1,AN44)","v":0},{"$f":"IF('2-way Quiz'!AP39=\"E\",AO44+1,AO44)","v":0},{"$f":"IF('2-way Quiz'!AQ39=\"E\",AP44+1,AP44)","v":0},{"$f":"IF('2-way Quiz'!AR39=\"E\",AQ44+1,AQ44)","v":0},{"$f":"IF('2-way Quiz'!AS39=\"E\",AR44+1,AR44)","v":0},{"$f":"IF('2-way Quiz'!AT39=\"E\",AS44+1,AS44)","v":0},{"$f":"IF('2-way Quiz'!AU39=\"E\",AT44+1,AT44)","v":0},{"$f":"IF('2-way Quiz'!AV39=\"E\",AU44+1,AU44)","v":0},{"$f":"IF('2-way Quiz'!AW39=\"E\",AV44+1,AV44)","v":0},{"$f":"IF('2-way Quiz'!AX39=\"E\",AW44+1,AW44)","v":0},{"$f":"IF('2-way Quiz'!AY39=\"E\",AX44+1,AX44)","v":0},{"$f":"IF('2-way Quiz'!AZ39=\"E\",AY44+1,AY44)","v":0},{"$f":"IF('2-way Quiz'!BA39=\"E\",AZ44+1,AZ44)","v":0},{"$f":"IF('2-way Quiz'!BB39=\"E\",BA44+1,BA44)","v":0}]
[null,null,{"$f":"CONCATENATE(\"# of errors \",C40)","v":"# of errors Quizzer #3"},{"$f":"IF('2-way Quiz'!D40=\"E\",1,0)","v":0},{"$f":"IF('2-way Quiz'!E40=\"E\",D45+1,D45)","v":0},{"$f":"IF('2-way Quiz'!F40=\"E\",E45+1,E45)","v":0},{"$f":"IF('2-way Quiz'!G40=\"E\",F45+1,F45)","v":0},{"$f":"IF('2-way Quiz'!H40=\"E\",G45+1,G45)","v":0},{"$f":"IF('2-way Quiz'!I40=\"E\",H45+1,H45)","v":0},{"$f":"IF('2-way Quiz'!J40=\"E\",I45+1,I45)","v":0},{"$f":"IF('2-way Quiz'!K40=\"E\",J45+1,J45)","v":0},{"$f":"IF('2-way Quiz'!L40=\"E\",K45+1,K45)","v":0},{"$f":"IF('2-way Quiz'!M40=\"E\",L45+1,L45)","v":0},{"$f":"IF('2-way Quiz'!N40=\"E\",M45+1,M45)","v":0},{"$f":"IF('2-way Quiz'!O40=\"E\",N45+1,N45)","v":0},{"$f":"IF('2-way Quiz'!P40=\"E\",O45+1,O45)","v":0},{"$f":"IF('2-way Quiz'!Q40=\"E\",P45+1,P45)","v":0},{"$f":"IF('2-way Quiz'!R40=\"E\",Q45+1,Q45)","v":0},{"$f":"IF('2-way Quiz'!S40=\"E\",R45+1,R45)","v":0},{"$f":"IF('2-way Quiz'!T40=\"E\",S45+1,S45)","v":0},{"$f":"IF('2-way Quiz'!U40=\"E\",T45+1,T45)","v":0},{"$f":"IF('2-way Quiz'!V40=\"E\",U45+1,U45)","v":0},{"$f":"IF('2-way Quiz'!W40=\"E\",V45+1,V45)","v":0},{"$f":"IF('2-way Quiz'!X40=\"E\",W45+1,W45)","v":0},{"$f":"IF('2-way Quiz'!Y40=\"E\",X45+1,X45)","v":0},{"$f":"IF('2-way Quiz'!Z40=\"E\",Y45+1,Y45)","v":0},{"$f":"IF('2-way Quiz'!AA40=\"E\",Z45+1,Z45)","v":0},{"$f":"IF('2-way Quiz'!AB40=\"E\",AA45+1,AA45)","v":0},{"$f":"IF('2-way Quiz'!AC40=\"E\",AB45+1,AB45)","v":0},{"$f":"IF('2-way Quiz'!AD40=\"E\",AC45+1,AC45)","v":0},{"$f":"IF('2-way Quiz'!AE40=\"E\",AD45+1,AD45)","v":0},{"$f":"IF('2-way Quiz'!AF40=\"E\",AE45+1,AE45)","v":0},{"$f":"IF('2-way Quiz'!AG40=\"E\",AF45+1,AF45)","v":0},{"$f":"IF('2-way Quiz'!AH40=\"E\",AG45+1,AG45)","v":0},{"$f":"IF('2-way Quiz'!AI40=\"E\",AH45+1,AH45)","v":0},{"$f":"IF('2-way Quiz'!AJ40=\"E\",AI45+1,AI45)","v":0},{"$f":"IF('2-way Quiz'!AK40=\"E\",AJ45+1,AJ45)","v":0},{"$f":"IF('2-way Quiz'!AL40=\"E\",AK45+1,AK45)","v":0},{"$f":"IF('2-way Quiz'!AM40=\"E\",AL45+1,AL45)","v":0},{"$f":"IF('2-way Quiz'!AN40=\"E\",AM45+1,AM45)","v":0},{"$f":"IF('2-way Quiz'!AO40=\"E\",AN45+1,AN45)","v":0},{"$f":"IF('2-way Quiz'!AP40=\"E\",AO45+1,AO45)","v":0},{"$f":"IF('2-way Quiz'!AQ40=\"E\",AP45+1,AP45)","v":0},{"$f":"IF('2-way Quiz'!AR40=\"E\",AQ45+1,AQ45)","v":0},{"$f":"IF('2-way Quiz'!AS40=\"E\",AR45+1,AR45)","v":0},{"$f":"IF('2-way Quiz'!AT40=\"E\",AS45+1,AS45)","v":0},{"$f":"IF('2-way Quiz'!AU40=\"E\",AT45+1,AT45)","v":0},{"$f":"IF('2-way Quiz'!AV40=\"E\",AU45+1,AU45)","v":0},{"$f":"IF('2-way Quiz'!AW40=\"E\",AV45+1,AV45)","v":0},{"$f":"IF('2-way Quiz'!AX40=\"E\",AW45+1,AW45)","v":0},{"$f":"IF('2-way Quiz'!AY40=\"E\",AX45+1,AX45)","v":0},{"$f":"IF('2-way Quiz'!AZ40=\"E\",AY45+1,AY45)","v":0},{"$f":"IF('2-way Quiz'!BA40=\"E\",AZ45+1,AZ45)","v":0},{"$f":"IF('2-way Quiz'!BB40=\"E\",BA45+1,BA45)","v":0}]
[null,null,{"$f":"CONCATENATE(\"# of errors \",C41)","v":"# of errors Substitute"},{"$f":"IF('2-way Quiz'!D41=\"E\",1,0)","v":0},{"$f":"IF('2-way Quiz'!E41=\"E\",D46+1,D46)","v":0},{"$f":"IF('2-way Quiz'!F41=\"E\",E46+1,E46)","v":0},{"$f":"IF('2-way Quiz'!G41=\"E\",F46+1,F46)","v":0},{"$f":"IF('2-way Quiz'!H41=\"E\",G46+1,G46)","v":0},{"$f":"IF('2-way Quiz'!I41=\"E\",H46+1,H46)","v":0},{"$f":"IF('2-way Quiz'!J41=\"E\",I46+1,I46)","v":0},{"$f":"IF('2-way Quiz'!K41=\"E\",J46+1,J46)","v":0},{"$f":"IF('2-way Quiz'!L41=\"E\",K46+1,K46)","v":0},{"$f":"IF('2-way Quiz'!M41=\"E\",L46+1,L46)","v":0},{"$f":"IF('2-way Quiz'!N41=\"E\",M46+1,M46)","v":0},{"$f":"IF('2-way Quiz'!O41=\"E\",N46+1,N46)","v":0},{"$f":"IF('2-way Quiz'!P41=\"E\",O46+1,O46)","v":0},{"$f":"IF('2-way Quiz'!Q41=\"E\",P46+1,P46)","v":0},{"$f":"IF('2-way Quiz'!R41=\"E\",Q46+1,Q46)","v":0},{"$f":"IF('2-way Quiz'!S41=\"E\",R46+1,R46)","v":0},{"$f":"IF('2-way Quiz'!T41=\"E\",S46+1,S46)","v":0},{"$f":"IF('2-way Quiz'!U41=\"E\",T46+1,T46)","v":0},{"$f":"IF('2-way Quiz'!V41=\"E\",U46+1,U46)","v":0},{"$f":"IF('2-way Quiz'!W41=\"E\",V46+1,V46)","v":0},{"$f":"IF('2-way Quiz'!X41=\"E\",W46+1,W46)","v":0},{"$f":"IF('2-way Quiz'!Y41=\"E\",X46+1,X46)","v":0},{"$f":"IF('2-way Quiz'!Z41=\"E\",Y46+1,Y46)","v":0},{"$f":"IF('2-way Quiz'!AA41=\"E\",Z46+1,Z46)","v":0},{"$f":"IF('2-way Quiz'!AB41=\"E\",AA46+1,AA46)","v":0},{"$f":"IF('2-way Quiz'!AC41=\"E\",AB46+1,AB46)","v":0},{"$f":"IF('2-way Quiz'!AD41=\"E\",AC46+1,AC46)","v":0},{"$f":"IF('2-way Quiz'!AE41=\"E\",AD46+1,AD46)","v":0},{"$f":"IF('2-way Quiz'!AF41=\"E\",AE46+1,AE46)","v":0},{"$f":"IF('2-way Quiz'!AG41=\"E\",AF46+1,AF46)","v":0},{"$f":"IF('2-way Quiz'!AH41=\"E\",AG46+1,AG46)","v":0},{"$f":"IF('2-way Quiz'!AI41=\"E\",AH46+1,AH46)","v":0},{"$f":"IF('2-way Quiz'!AJ41=\"E\",AI46+1,AI46)","v":0},{"$f":"IF('2-way Quiz'!AK41=\"E\",AJ46+1,AJ46)","v":0},{"$f":"IF('2-way Quiz'!AL41=\"E\",AK46+1,AK46)","v":0},{"$f":"IF('2-way Quiz'!AM41=\"E\",AL46+1,AL46)","v":0},{"$f":"IF('2-way Quiz'!AN41=\"E\",AM46+1,AM46)","v":0},{"$f":"IF('2-way Quiz'!AO41=\"E\",AN46+1,AN46)","v":0},{"$f":"IF('2-way Quiz'!AP41=\"E\",AO46+1,AO46)","v":0},{"$f":"IF('2-way Quiz'!AQ41=\"E\",AP46+1,AP46)","v":0},{"$f":"IF('2-way Quiz'!AR41=\"E\",AQ46+1,AQ46)","v":0},{"$f":"IF('2-way Quiz'!AS41=\"E\",AR46+1,AR46)","v":0},{"$f":"IF('2-way Quiz'!AT41=\"E\",AS46+1,AS46)","v":0},{"$f":"IF('2-way Quiz'!AU41=\"E\",AT46+1,AT46)","v":0},{"$f":"IF('2-way Quiz'!AV41=\"E\",AU46+1,AU46)","v":0},{"$f":"IF('2-way Quiz'!AW41=\"E\",AV46+1,AV46)","v":0},{"$f":"IF('2-way Quiz'!AX41=\"E\",AW46+1,AW46)","v":0},{"$f":"IF('2-way Quiz'!AY41=\"E\",AX46+1,AX46)","v":0},{"$f":"IF('2-way Quiz'!AZ41=\"E\",AY46+1,AY46)","v":0},{"$f":"IF('2-way Quiz'!BA41=\"E\",AZ46+1,AZ46)","v":0},{"$f":"IF('2-way Quiz'!BB41=\"E\",BA46+1,BA46)","v":0}]
[]
[null,null,{"$f":"CONCATENATE(\"#20's \",C38)","v":"#20's Quizzer #1"},{"$f":"COUNTIF('2-way Quiz'!$D38:D38,20)+COUNTIF('2-way Quiz'!$D38:D38,30)","v":0},{"$f":"COUNTIF('2-way Quiz'!$D38:E38,20)+COUNTIF('2-way Quiz'!$D38:E38,30)","v":0},{"$f":"COUNTIF('2-way Quiz'!$D38:F38,20)+COUNTIF('2-way Quiz'!$D38:F38,30)","v":0},{"$f":"COUNTIF('2-way Quiz'!$D38:G38,20)+COUNTIF('2-way Quiz'!$D38:G38,30)","v":0},{"$f":"COUNTIF('2-way Quiz'!$D38:H38,20)+COUNTIF('2-way Quiz'!$D38:H38,30)","v":0},{"$f":"COUNTIF('2-way Quiz'!$D38:I38,20)+COUNTIF('2-way Quiz'!$D38:I38,30)","v":0},{"$f":"COUNTIF('2-way Quiz'!$D38:J38,20)+COUNTIF('2-way Quiz'!$D38:J38,30)","v":0},{"$f":"COUNTIF('2-way Quiz'!$D38:K38,20)+COUNTIF('2-way Quiz'!$D38:K38,30)","v":0},{"$f":"COUNTIF('2-way Quiz'!$D38:L38,20)+COUNTIF('2-way Quiz'!$D38:L38,30)","v":0},{"$f":"COUNTIF('2-way Quiz'!$D38:M38,20)+COUNTIF('2-way Quiz'!$D38:M38,30)","v":0},{"$f":"COUNTIF('2-way Quiz'!$D38:N38,20)+COUNTIF('2-way Quiz'!$D38:N38,30)","v":0},{"$f":"COUNTIF('2-way Quiz'!$D38:O38,20)+COUNTIF('2-way Quiz'!$D38:O38,30)","v":0},{"$f":"COUNTIF('2-way Quiz'!$D38:P38,20)+COUNTIF('2-way Quiz'!$D38:P38,30)","v":0},{"$f":"COUNTIF('2-way Quiz'!$D38:Q38,20)+COUNTIF('2-way Quiz'!$D38:Q38,30)","v":0},{"$f":"COUNTIF('2-way Quiz'!$D38:R38,20)+COUNTIF('2-way Quiz'!$D38:R38,30)","v":0},{"$f":"COUNTIF('2-way Quiz'!$D38:S38,20)+COUNTIF('2-way Quiz'!$D38:S38,30)","v":0},{"$f":"COUNTIF('2-way Quiz'!$D38:T38,20)+COUNTIF('2-way Quiz'!$D38:T38,30)","v":0},{"$f":"COUNTIF('2-way Quiz'!$D38:U38,20)+COUNTIF('2-way Quiz'!$D38:U38,30)","v":0},{"$f":"COUNTIF('2-way Quiz'!$D38:V38,20)+COUNTIF('2-way Quiz'!$D38:V38,30)","v":0},{"$f":"COUNTIF('2-way Quiz'!$D38:W38,20)+COUNTIF('2-way Quiz'!$D38:W38,30)","v":0},{"$f":"COUNTIF('2-way Quiz'!$D38:X38,20)+COUNTIF('2-way Quiz'!$D38:X38,30)","v":0},{"$f":"COUNTIF('2-way Quiz'!$D38:Y38,20)+COUNTIF('2-way Quiz'!$D38:Y38,30)","v":0},{"$f":"COUNTIF('2-way Quiz'!$D38:Z38,20)+COUNTIF('2-way Quiz'!$D38:Z38,30)","v":0},{"$f":"COUNTIF('2-way Quiz'!$D38:AA38,20)+COUNTIF('2-way Quiz'!$D38:AA38,30)","v":0},{"$f":"COUNTIF('2-way Quiz'!$D38:AB38,20)+COUNTIF('2-way Quiz'!$D38:AB38,30)","v":0},{"$f":"COUNTIF('2-way Quiz'!$D38:AC38,20)+COUNTIF('2-way Quiz'!$D38:AC38,30)","v":0},{"$f":"COUNTIF('2-way Quiz'!$D38:AD38,20)+COUNTIF('2-way Quiz'!$D38:AD38,30)","v":0},{"$f":"COUNTIF('2-way Quiz'!$D38:AE38,20)+COUNTIF('2-way Quiz'!$D38:AE38,30)","v":0},{"$f":"COUNTIF('2-way Quiz'!$D38:AF38,20)+COUNTIF('2-way Quiz'!$D38:AF38,30)","v":0},{"$f":"COUNTIF('2-way Quiz'!$D38:AG38,20)+COUNTIF('2-way Quiz'!$D38:AG38,30)","v":0},{"$f":"COUNTIF('2-way Quiz'!$D38:AH38,20)+COUNTIF('2-way Quiz'!$D38:AH38,30)","v":0},{"$f":"COUNTIF('2-way Quiz'!$D38:AI38,20)+COUNTIF('2-way Quiz'!$D38:AI38,30)","v":0},{"$f":"COUNTIF('2-way Quiz'!$D38:AJ38,20)+COUNTIF('2-way Quiz'!$D38:AJ38,30)","v":0},{"$f":"COUNTIF('2-way Quiz'!$D38:AK38,20)+COUNTIF('2-way Quiz'!$D38:AK38,30)","v":0},{"$f":"COUNTIF('2-way Quiz'!$D38:AL38,20)+COUNTIF('2-way Quiz'!$D38:AL38,30)","v":0},{"$f":"COUNTIF('2-way Quiz'!$D38:AM38,20)+COUNTIF('2-way Quiz'!$D38:AM38,30)","v":0},{"$f":"COUNTIF('2-way Quiz'!$D38:AN38,20)+COUNTIF('2-way Quiz'!$D38:AN38,30)","v":0},{"$f":"COUNTIF('2-way Quiz'!$D38:AO38,20)+COUNTIF('2-way Quiz'!$D38:AO38,30)","v":0},{"$f":"COUNTIF('2-way Quiz'!$D38:AP38,20)+COUNTIF('2-way Quiz'!$D38:AP38,30)","v":0},{"$f":"COUNTIF('2-way Quiz'!$D38:AQ38,20)+COUNTIF('2-way Quiz'!$D38:AQ38,30)","v":0},{"$f":"COUNTIF('2-way Quiz'!$D38:AR38,20)+COUNTIF('2-way Quiz'!$D38:AR38,30)","v":0},{"$f":"COUNTIF('2-way Quiz'!$D38:AS38,20)+COUNTIF('2-way Quiz'!$D38:AS38,30)","v":0},{"$f":"COUNTIF('2-way Quiz'!$D38:AT38,20)+COUNTIF('2-way Quiz'!$D38:AT38,30)","v":0},{"$f":"COUNTIF('2-way Quiz'!$D38:AU38,20)+COUNTIF('2-way Quiz'!$D38:AU38,30)","v":0},{"$f":"COUNTIF('2-way Quiz'!$D38:AV38,20)+COUNTIF('2-way Quiz'!$D38:AV38,30)","v":0},{"$f":"COUNTIF('2-way Quiz'!$D38:AW38,20)+COUNTIF('2-way Quiz'!$D38:AW38,30)","v":0},{"$f":"COUNTIF('2-way Quiz'!$D38:AX38,20)+COUNTIF('2-way Quiz'!$D38:AX38,30)","v":0},{"$f":"COUNTIF('2-way Quiz'!$D38:AY38,20)+COUNTIF('2-way Quiz'!$D38:AY38,30)","v":0},{"$f":"COUNTIF('2-way Quiz'!$D38:AZ38,20)+COUNTIF('2-way Quiz'!$D38:AZ38,30)","v":0},{"$f":"COUNTIF('2-way Quiz'!$D38:BA38,20)+COUNTIF('2-way Quiz'!$D38:BA38,30)","v":0},{"$f":"COUNTIF('2-way Quiz'!$D38:BB38,20)+COUNTIF('2-way Quiz'!$D38:BB38,30)","v":0}]
[null,null,{"$f":"CONCATENATE(\"#20's \",C39)","v":"#20's Quizzer #2"},{"$f":"COUNTIF('2-way Quiz'!$D39:D39,20)+COUNTIF('2-way Quiz'!$D39:D39,30)","v":0},{"$f":"COUNTIF('2-way Quiz'!$D39:E39,20)+COUNTIF('2-way Quiz'!$D39:E39,30)","v":0},{"$f":"COUNTIF('2-way Quiz'!$D39:F39,20)+COUNTIF('2-way Quiz'!$D39:F39,30)","v":0},{"$f":"COUNTIF('2-way Quiz'!$D39:G39,20)+COUNTIF('2-way Quiz'!$D39:G39,30)","v":0},{"$f":"COUNTIF('2-way Quiz'!$D39:H39,20)+COUNTIF('2-way Quiz'!$D39:H39,30)","v":0},{"$f":"COUNTIF('2-way Quiz'!$D39:I39,20)+COUNTIF('2-way Quiz'!$D39:I39,30)","v":0},{"$f":"COUNTIF('2-way Quiz'!$D39:J39,20)+COUNTIF('2-way Quiz'!$D39:J39,30)","v":0},{"$f":"COUNTIF('2-way Quiz'!$D39:K39,20)+COUNTIF('2-way Quiz'!$D39:K39,30)","v":0},{"$f":"COUNTIF('2-way Quiz'!$D39:L39,20)+COUNTIF('2-way Quiz'!$D39:L39,30)","v":0},{"$f":"COUNTIF('2-way Quiz'!$D39:M39,20)+COUNTIF('2-way Quiz'!$D39:M39,30)","v":0},{"$f":"COUNTIF('2-way Quiz'!$D39:N39,20)+COUNTIF('2-way Quiz'!$D39:N39,30)","v":0},{"$f":"COUNTIF('2-way Quiz'!$D39:O39,20)+COUNTIF('2-way Quiz'!$D39:O39,30)","v":0},{"$f":"COUNTIF('2-way Quiz'!$D39:P39,20)+COUNTIF('2-way Quiz'!$D39:P39,30)","v":0},{"$f":"COUNTIF('2-way Quiz'!$D39:Q39,20)+COUNTIF('2-way Quiz'!$D39:Q39,30)","v":0},{"$f":"COUNTIF('2-way Quiz'!$D39:R39,20)+COUNTIF('2-way Quiz'!$D39:R39,30)","v":0},{"$f":"COUNTIF('2-way Quiz'!$D39:S39,20)+COUNTIF('2-way Quiz'!$D39:S39,30)","v":0},{"$f":"COUNTIF('2-way Quiz'!$D39:T39,20)+COUNTIF('2-way Quiz'!$D39:T39,30)","v":0},{"$f":"COUNTIF('2-way Quiz'!$D39:U39,20)+COUNTIF('2-way Quiz'!$D39:U39,30)","v":0},{"$f":"COUNTIF('2-way Quiz'!$D39:V39,20)+COUNTIF('2-way Quiz'!$D39:V39,30)","v":0},{"$f":"COUNTIF('2-way Quiz'!$D39:W39,20)+COUNTIF('2-way Quiz'!$D39:W39,30)","v":0},{"$f":"COUNTIF('2-way Quiz'!$D39:X39,20)+COUNTIF('2-way Quiz'!$D39:X39,30)","v":0},{"$f":"COUNTIF('2-way Quiz'!$D39:Y39,20)+COUNTIF('2-way Quiz'!$D39:Y39,30)","v":0},{"$f":"COUNTIF('2-way Quiz'!$D39:Z39,20)+COUNTIF('2-way Quiz'!$D39:Z39,30)","v":0},{"$f":"COUNTIF('2-way Quiz'!$D39:AA39,20)+COUNTIF('2-way Quiz'!$D39:AA39,30)","v":0},{"$f":"COUNTIF('2-way Quiz'!$D39:AB39,20)+COUNTIF('2-way Quiz'!$D39:AB39,30)","v":0},{"$f":"COUNTIF('2-way Quiz'!$D39:AC39,20)+COUNTIF('2-way Quiz'!$D39:AC39,30)","v":0},{"$f":"COUNTIF('2-way Quiz'!$D39:AD39,20)+COUNTIF('2-way Quiz'!$D39:AD39,30)","v":0},{"$f":"COUNTIF('2-way Quiz'!$D39:AE39,20)+COUNTIF('2-way Quiz'!$D39:AE39,30)","v":0},{"$f":"COUNTIF('2-way Quiz'!$D39:AF39,20)+COUNTIF('2-way Quiz'!$D39:AF39,30)","v":0},{"$f":"COUNTIF('2-way Quiz'!$D39:AG39,20)+COUNTIF('2-way Quiz'!$D39:AG39,30)","v":0},{"$f":"COUNTIF('2-way Quiz'!$D39:AH39,20)+COUNTIF('2-way Quiz'!$D39:AH39,30)","v":0},{"$f":"COUNTIF('2-way Quiz'!$D39:AI39,20)+COUNTIF('2-way Quiz'!$D39:AI39,30)","v":0},{"$f":"COUNTIF('2-way Quiz'!$D39:AJ39,20)+COUNTIF('2-way Quiz'!$D39:AJ39,30)","v":0},{"$f":"COUNTIF('2-way Quiz'!$D39:AK39,20)+COUNTIF('2-way Quiz'!$D39:AK39,30)","v":0},{"$f":"COUNTIF('2-way Quiz'!$D39:AL39,20)+COUNTIF('2-way Quiz'!$D39:AL39,30)","v":0},{"$f":"COUNTIF('2-way Quiz'!$D39:AM39,20)+COUNTIF('2-way Quiz'!$D39:AM39,30)","v":0},{"$f":"COUNTIF('2-way Quiz'!$D39:AN39,20)+COUNTIF('2-way Quiz'!$D39:AN39,30)","v":0},{"$f":"COUNTIF('2-way Quiz'!$D39:AO39,20)+COUNTIF('2-way Quiz'!$D39:AO39,30)","v":0},{"$f":"COUNTIF('2-way Quiz'!$D39:AP39,20)+COUNTIF('2-way Quiz'!$D39:AP39,30)","v":0},{"$f":"COUNTIF('2-way Quiz'!$D39:AQ39,20)+COUNTIF('2-way Quiz'!$D39:AQ39,30)","v":0},{"$f":"COUNTIF('2-way Quiz'!$D39:AR39,20)+COUNTIF('2-way Quiz'!$D39:AR39,30)","v":0},{"$f":"COUNTIF('2-way Quiz'!$D39:AS39,20)+COUNTIF('2-way Quiz'!$D39:AS39,30)","v":0},{"$f":"COUNTIF('2-way Quiz'!$D39:AT39,20)+COUNTIF('2-way Quiz'!$D39:AT39,30)","v":0},{"$f":"COUNTIF('2-way Quiz'!$D39:AU39,20)+COUNTIF('2-way Quiz'!$D39:AU39,30)","v":0},{"$f":"COUNTIF('2-way Quiz'!$D39:AV39,20)+COUNTIF('2-way Quiz'!$D39:AV39,30)","v":0},{"$f":"COUNTIF('2-way Quiz'!$D39:AW39,20)+COUNTIF('2-way Quiz'!$D39:AW39,30)","v":0},{"$f":"COUNTIF('2-way Quiz'!$D39:AX39,20)+COUNTIF('2-way Quiz'!$D39:AX39,30)","v":0},{"$f":"COUNTIF('2-way Quiz'!$D39:AY39,20)+COUNTIF('2-way Quiz'!$D39:AY39,30)","v":0},{"$f":"COUNTIF('2-way Quiz'!$D39:AZ39,20)+COUNTIF('2-way Quiz'!$D39:AZ39,30)","v":0},{"$f":"COUNTIF('2-way Quiz'!$D39:BA39,20)+COUNTIF('2-way Quiz'!$D39:BA39,30)","v":0},{"$f":"COUNTIF('2-way Quiz'!$D39:BB39,20)+COUNTIF('2-way Quiz'!$D39:BB39,30)","v":0}]
[null,null,{"$f":"CONCATENATE(\"#20's \",C40)","v":"#20's Quizzer #3"},{"$f":"COUNTIF('2-way Quiz'!$D40:D40,20)+COUNTIF('2-way Quiz'!$D40:D40,30)","v":0},{"$f":"COUNTIF('2-way Quiz'!$D40:E40,20)+COUNTIF('2-way Quiz'!$D40:E40,30)","v":0},{"$f":"COUNTIF('2-way Quiz'!$D40:F40,20)+COUNTIF('2-way Quiz'!$D40:F40,30)","v":0},{"$f":"COUNTIF('2-way Quiz'!$D40:G40,20)+COUNTIF('2-way Quiz'!$D40:G40,30)","v":0},{"$f":"COUNTIF('2-way Quiz'!$D40:H40,20)+COUNTIF('2-way Quiz'!$D40:H40,30)","v":0},{"$f":"COUNTIF('2-way Quiz'!$D40:I40,20)+COUNTIF('2-way Quiz'!$D40:I40,30)","v":0},{"$f":"COUNTIF('2-way Quiz'!$D40:J40,20)+COUNTIF('2-way Quiz'!$D40:J40,30)","v":0},{"$f":"COUNTIF('2-way Quiz'!$D40:K40,20)+COUNTIF('2-way Quiz'!$D40:K40,30)","v":0},{"$f":"COUNTIF('2-way Quiz'!$D40:L40,20)+COUNTIF('2-way Quiz'!$D40:L40,30)","v":0},{"$f":"COUNTIF('2-way Quiz'!$D40:M40,20)+COUNTIF('2-way Quiz'!$D40:M40,30)","v":0},{"$f":"COUNTIF('2-way Quiz'!$D40:N40,20)+COUNTIF('2-way Quiz'!$D40:N40,30)","v":0},{"$f":"COUNTIF('2-way Quiz'!$D40:O40,20)+COUNTIF('2-way Quiz'!$D40:O40,30)","v":0},{"$f":"COUNTIF('2-way Quiz'!$D40:P40,20)+COUNTIF('2-way Quiz'!$D40:P40,30)","v":0},{"$f":"COUNTIF('2-way Quiz'!$D40:Q40,20)+COUNTIF('2-way Quiz'!$D40:Q40,30)","v":0},{"$f":"COUNTIF('2-way Quiz'!$D40:R40,20)+COUNTIF('2-way Quiz'!$D40:R40,30)","v":0},{"$f":"COUNTIF('2-way Quiz'!$D40:S40,20)+COUNTIF('2-way Quiz'!$D40:S40,30)","v":0},{"$f":"COUNTIF('2-way Quiz'!$D40:T40,20)+COUNTIF('2-way Quiz'!$D40:T40,30)","v":0},{"$f":"COUNTIF('2-way Quiz'!$D40:U40,20)+COUNTIF('2-way Quiz'!$D40:U40,30)","v":0},{"$f":"COUNTIF('2-way Quiz'!$D40:V40,20)+COUNTIF('2-way Quiz'!$D40:V40,30)","v":0},{"$f":"COUNTIF('2-way Quiz'!$D40:W40,20)+COUNTIF('2-way Quiz'!$D40:W40,30)","v":0},{"$f":"COUNTIF('2-way Quiz'!$D40:X40,20)+COUNTIF('2-way Quiz'!$D40:X40,30)","v":0},{"$f":"COUNTIF('2-way Quiz'!$D40:Y40,20)+COUNTIF('2-way Quiz'!$D40:Y40,30)","v":0},{"$f":"COUNTIF('2-way Quiz'!$D40:Z40,20)+COUNTIF('2-way Quiz'!$D40:Z40,30)","v":0},{"$f":"COUNTIF('2-way Quiz'!$D40:AA40,20)+COUNTIF('2-way Quiz'!$D40:AA40,30)","v":0},{"$f":"COUNTIF('2-way Quiz'!$D40:AB40,20)+COUNTIF('2-way Quiz'!$D40:AB40,30)","v":0},{"$f":"COUNTIF('2-way Quiz'!$D40:AC40,20)+COUNTIF('2-way Quiz'!$D40:AC40,30)","v":0},{"$f":"COUNTIF('2-way Quiz'!$D40:AD40,20)+COUNTIF('2-way Quiz'!$D40:AD40,30)","v":0},{"$f":"COUNTIF('2-way Quiz'!$D40:AE40,20)+COUNTIF('2-way Quiz'!$D40:AE40,30)","v":0},{"$f":"COUNTIF('2-way Quiz'!$D40:AF40,20)+COUNTIF('2-way Quiz'!$D40:AF40,30)","v":0},{"$f":"COUNTIF('2-way Quiz'!$D40:AG40,20)+COUNTIF('2-way Quiz'!$D40:AG40,30)","v":0},{"$f":"COUNTIF('2-way Quiz'!$D40:AH40,20)+COUNTIF('2-way Quiz'!$D40:AH40,30)","v":0},{"$f":"COUNTIF('2-way Quiz'!$D40:AI40,20)+COUNTIF('2-way Quiz'!$D40:AI40,30)","v":0},{"$f":"COUNTIF('2-way Quiz'!$D40:AJ40,20)+COUNTIF('2-way Quiz'!$D40:AJ40,30)","v":0},{"$f":"COUNTIF('2-way Quiz'!$D40:AK40,20)+COUNTIF('2-way Quiz'!$D40:AK40,30)","v":0},{"$f":"COUNTIF('2-way Quiz'!$D40:AL40,20)+COUNTIF('2-way Quiz'!$D40:AL40,30)","v":0},{"$f":"COUNTIF('2-way Quiz'!$D40:AM40,20)+COUNTIF('2-way Quiz'!$D40:AM40,30)","v":0},{"$f":"COUNTIF('2-way Quiz'!$D40:AN40,20)+COUNTIF('2-way Quiz'!$D40:AN40,30)","v":0},{"$f":"COUNTIF('2-way Quiz'!$D40:AO40,20)+COUNTIF('2-way Quiz'!$D40:AO40,30)","v":0},{"$f":"COUNTIF('2-way Quiz'!$D40:AP40,20)+COUNTIF('2-way Quiz'!$D40:AP40,30)","v":0},{"$f":"COUNTIF('2-way Quiz'!$D40:AQ40,20)+COUNTIF('2-way Quiz'!$D40:AQ40,30)","v":0},{"$f":"COUNTIF('2-way Quiz'!$D40:AR40,20)+COUNTIF('2-way Quiz'!$D40:AR40,30)","v":0},{"$f":"COUNTIF('2-way Quiz'!$D40:AS40,20)+COUNTIF('2-way Quiz'!$D40:AS40,30)","v":0},{"$f":"COUNTIF('2-way Quiz'!$D40:AT40,20)+COUNTIF('2-way Quiz'!$D40:AT40,30)","v":0},{"$f":"COUNTIF('2-way Quiz'!$D40:AU40,20)+COUNTIF('2-way Quiz'!$D40:AU40,30)","v":0},{"$f":"COUNTIF('2-way Quiz'!$D40:AV40,20)+COUNTIF('2-way Quiz'!$D40:AV40,30)","v":0},{"$f":"COUNTIF('2-way Quiz'!$D40:AW40,20)+COUNTIF('2-way Quiz'!$D40:AW40,30)","v":0},{"$f":"COUNTIF('2-way Quiz'!$D40:AX40,20)+COUNTIF('2-way Quiz'!$D40:AX40,30)","v":0},{"$f":"COUNTIF('2-way Quiz'!$D40:AY40,20)+COUNTIF('2-way Quiz'!$D40:AY40,30)","v":0},{"$f":"COUNTIF('2-way Quiz'!$D40:AZ40,20)+COUNTIF('2-way Quiz'!$D40:AZ40,30)","v":0},{"$f":"COUNTIF('2-way Quiz'!$D40:BA40,20)+COUNTIF('2-way Quiz'!$D40:BA40,30)","v":0},{"$f":"COUNTIF('2-way Quiz'!$D40:BB40,20)+COUNTIF('2-way Quiz'!$D40:BB40,30)","v":0}]
[null,null,{"$f":"CONCATENATE(\"#20's \",C41)","v":"#20's Substitute"},{"$f":"COUNTIF('2-way Quiz'!$D41:D41,20)+COUNTIF('2-way Quiz'!$D41:D41,30)","v":0},{"$f":"COUNTIF('2-way Quiz'!$D41:E41,20)+COUNTIF('2-way Quiz'!$D41:E41,30)","v":0},{"$f":"COUNTIF('2-way Quiz'!$D41:F41,20)+COUNTIF('2-way Quiz'!$D41:F41,30)","v":0},{"$f":"COUNTIF('2-way Quiz'!$D41:G41,20)+COUNTIF('2-way Quiz'!$D41:G41,30)","v":0},{"$f":"COUNTIF('2-way Quiz'!$D41:H41,20)+COUNTIF('2-way Quiz'!$D41:H41,30)","v":0},{"$f":"COUNTIF('2-way Quiz'!$D41:I41,20)+COUNTIF('2-way Quiz'!$D41:I41,30)","v":0},{"$f":"COUNTIF('2-way Quiz'!$D41:J41,20)+COUNTIF('2-way Quiz'!$D41:J41,30)","v":0},{"$f":"COUNTIF('2-way Quiz'!$D41:K41,20)+COUNTIF('2-way Quiz'!$D41:K41,30)","v":0},{"$f":"COUNTIF('2-way Quiz'!$D41:L41,20)+COUNTIF('2-way Quiz'!$D41:L41,30)","v":0},{"$f":"COUNTIF('2-way Quiz'!$D41:M41,20)+COUNTIF('2-way Quiz'!$D41:M41,30)","v":0},{"$f":"COUNTIF('2-way Quiz'!$D41:N41,20)+COUNTIF('2-way Quiz'!$D41:N41,30)","v":0},{"$f":"COUNTIF('2-way Quiz'!$D41:O41,20)+COUNTIF('2-way Quiz'!$D41:O41,30)","v":0},{"$f":"COUNTIF('2-way Quiz'!$D41:P41,20)+COUNTIF('2-way Quiz'!$D41:P41,30)","v":0},{"$f":"COUNTIF('2-way Quiz'!$D41:Q41,20)+COUNTIF('2-way Quiz'!$D41:Q41,30)","v":0},{"$f":"COUNTIF('2-way Quiz'!$D41:R41,20)+COUNTIF('2-way Quiz'!$D41:R41,30)","v":0},{"$f":"COUNTIF('2-way Quiz'!$D41:S41,20)+COUNTIF('2-way Quiz'!$D41:S41,30)","v":0},{"$f":"COUNTIF('2-way Quiz'!$D41:T41,20)+COUNTIF('2-way Quiz'!$D41:T41,30)","v":0},{"$f":"COUNTIF('2-way Quiz'!$D41:U41,20)+COUNTIF('2-way Quiz'!$D41:U41,30)","v":0},{"$f":"COUNTIF('2-way Quiz'!$D41:V41,20)+COUNTIF('2-way Quiz'!$D41:V41,30)","v":0},{"$f":"COUNTIF('2-way Quiz'!$D41:W41,20)+COUNTIF('2-way Quiz'!$D41:W41,30)","v":0},{"$f":"COUNTIF('2-way Quiz'!$D41:X41,20)+COUNTIF('2-way Quiz'!$D41:X41,30)","v":0},{"$f":"COUNTIF('2-way Quiz'!$D41:Y41,20)+COUNTIF('2-way Quiz'!$D41:Y41,30)","v":0},{"$f":"COUNTIF('2-way Quiz'!$D41:Z41,20)+COUNTIF('2-way Quiz'!$D41:Z41,30)","v":0},{"$f":"COUNTIF('2-way Quiz'!$D41:AA41,20)+COUNTIF('2-way Quiz'!$D41:AA41,30)","v":0},{"$f":"COUNTIF('2-way Quiz'!$D41:AB41,20)+COUNTIF('2-way Quiz'!$D41:AB41,30)","v":0},{"$f":"COUNTIF('2-way Quiz'!$D41:AC41,20)+COUNTIF('2-way Quiz'!$D41:AC41,30)","v":0},{"$f":"COUNTIF('2-way Quiz'!$D41:AD41,20)+COUNTIF('2-way Quiz'!$D41:AD41,30)","v":0},{"$f":"COUNTIF('2-way Quiz'!$D41:AE41,20)+COUNTIF('2-way Quiz'!$D41:AE41,30)","v":0},{"$f":"COUNTIF('2-way Quiz'!$D41:AF41,20)+COUNTIF('2-way Quiz'!$D41:AF41,30)","v":0},{"$f":"COUNTIF('2-way Quiz'!$D41:AG41,20)+COUNTIF('2-way Quiz'!$D41:AG41,30)","v":0},{"$f":"COUNTIF('2-way Quiz'!$D41:AH41,20)+COUNTIF('2-way Quiz'!$D41:AH41,30)","v":0},{"$f":"COUNTIF('2-way Quiz'!$D41:AI41,20)+COUNTIF('2-way Quiz'!$D41:AI41,30)","v":0},{"$f":"COUNTIF('2-way Quiz'!$D41:AJ41,20)+COUNTIF('2-way Quiz'!$D41:AJ41,30)","v":0},{"$f":"COUNTIF('2-way Quiz'!$D41:AK41,20)+COUNTIF('2-way Quiz'!$D41:AK41,30)","v":0},{"$f":"COUNTIF('2-way Quiz'!$D41:AL41,20)+COUNTIF('2-way Quiz'!$D41:AL41,30)","v":0},{"$f":"COUNTIF('2-way Quiz'!$D41:AM41,20)+COUNTIF('2-way Quiz'!$D41:AM41,30)","v":0},{"$f":"COUNTIF('2-way Quiz'!$D41:AN41,20)+COUNTIF('2-way Quiz'!$D41:AN41,30)","v":0},{"$f":"COUNTIF('2-way Quiz'!$D41:AO41,20)+COUNTIF('2-way Quiz'!$D41:AO41,30)","v":0},{"$f":"COUNTIF('2-way Quiz'!$D41:AP41,20)+COUNTIF('2-way Quiz'!$D41:AP41,30)","v":0},{"$f":"COUNTIF('2-way Quiz'!$D41:AQ41,20)+COUNTIF('2-way Quiz'!$D41:AQ41,30)","v":0},{"$f":"COUNTIF('2-way Quiz'!$D41:AR41,20)+COUNTIF('2-way Quiz'!$D41:AR41,30)","v":0},{"$f":"COUNTIF('2-way Quiz'!$D41:AS41,20)+COUNTIF('2-way Quiz'!$D41:AS41,30)","v":0},{"$f":"COUNTIF('2-way Quiz'!$D41:AT41,20)+COUNTIF('2-way Quiz'!$D41:AT41,30)","v":0},{"$f":"COUNTIF('2-way Quiz'!$D41:AU41,20)+COUNTIF('2-way Quiz'!$D41:AU41,30)","v":0},{"$f":"COUNTIF('2-way Quiz'!$D41:AV41,20)+COUNTIF('2-way Quiz'!$D41:AV41,30)","v":0},{"$f":"COUNTIF('2-way Quiz'!$D41:AW41,20)+COUNTIF('2-way Quiz'!$D41:AW41,30)","v":0},{"$f":"COUNTIF('2-way Quiz'!$D41:AX41,20)+COUNTIF('2-way Quiz'!$D41:AX41,30)","v":0},{"$f":"COUNTIF('2-way Quiz'!$D41:AY41,20)+COUNTIF('2-way Quiz'!$D41:AY41,30)","v":0},{"$f":"COUNTIF('2-way Quiz'!$D41:AZ41,20)+COUNTIF('2-way Quiz'!$D41:AZ41,30)","v":0},{"$f":"COUNTIF('2-way Quiz'!$D41:BA41,20)+COUNTIF('2-way Quiz'!$D41:BA41,30)","v":0},{"$f":"COUNTIF('2-way Quiz'!$D41:BB41,20)+COUNTIF('2-way Quiz'!$D41:BB41,30)","v":0}]
[]
[]
[]
[]
[]
[]
[null,null,{"$f":"'2-way Quiz'!C58","v":"Team Name"}]
[null,null,{"$f":"'2-way Quiz'!C59","v":"Quizzer #1"},20,{"$f":"IF(D64>2,\".\",IF(D69=2,IF(D64=0,IF('2-way Quiz'!E67=20,30,'2-way Quiz'!E67),'2-way Quiz'!E67),IF(E69>2,IF(E$2=\"R\",\".\",'2-way Quiz'!E67),'2-way Quiz'!E67)))","v":20},{"$f":"IF(E64>2,\".\",IF(E69=2,IF(E64=0,IF('2-way Quiz'!F67=20,30,'2-way Quiz'!F67),'2-way Quiz'!F67),IF(F69>2,IF(F$2=\"R\",\".\",'2-way Quiz'!F67),'2-way Quiz'!F67)))","v":20},{"$f":"IF(F64>2,\".\",IF(F69=2,IF(F64=0,IF('2-way Quiz'!G67=20,30,'2-way Quiz'!G67),'2-way Quiz'!G67),IF(G69>2,IF(G$2=\"R\",\".\",'2-way Quiz'!G67),'2-way Quiz'!G67)))","v":"."},{"$f":"IF(G64>2,\".\",IF(G69=2,IF(G64=0,IF('2-way Quiz'!H67=20,30,'2-way Quiz'!H67),'2-way Quiz'!H67),IF(H69>2,IF(H$2=\"R\",\".\",'2-way Quiz'!H67),'2-way Quiz'!H67)))","v":20},{"$f":"IF(H64>2,\".\",IF(H69=2,IF(H64=0,IF('2-way Quiz'!I67=20,30,'2-way Quiz'!I67),'2-way Quiz'!I67),IF(I69>2,IF(I$2=\"R\",\".\",'2-way Quiz'!I67),'2-way Quiz'!I67)))","v":20},{"$f":"IF(I64>2,\".\",IF(I69=2,IF(I64=0,IF('2-way Quiz'!J67=20,30,'2-way Quiz'!J67),'2-way Quiz'!J67),IF(J69>2,IF(J$2=\"R\",\".\",'2-way Quiz'!J67),'2-way Quiz'!J67)))","v":20},{"$f":"IF(J64>2,\".\",IF(J69=2,IF(J64=0,IF('2-way Quiz'!K67=20,30,'2-way Quiz'!K67),'2-way Quiz'!K67),IF(K69>2,IF(K$2=\"R\",\".\",'2-way Quiz'!K67),'2-way Quiz'!K67)))","v":20},{"$f":"IF(K64>2,\".\",IF(K69=2,IF(K64=0,IF('2-way Quiz'!L67=20,30,'2-way Quiz'!L67),'2-way Quiz'!L67),IF(L69>2,IF(L$2=\"R\",\".\",'2-way Quiz'!L67),'2-way Quiz'!L67)))","v":20},{"$f":"IF(L64>2,\".\",IF(L69=2,IF(L64=0,IF('2-way Quiz'!M67=20,30,'2-way Quiz'!M67),'2-way Quiz'!M67),IF(M69>2,IF(M$2=\"R\",\".\",'2-way Quiz'!M67),'2-way Quiz'!M67)))","v":20},{"$f":"IF(M64>2,\".\",IF(M69=2,IF(M64=0,IF('2-way Quiz'!N67=20,30,'2-way Quiz'!N67),'2-way Quiz'!N67),IF(N69>2,IF(N$2=\"R\",\".\",'2-way Quiz'!N67),'2-way Quiz'!N67)))","v":20},{"$f":"IF(N64>2,\".\",IF(N69=2,IF(N64=0,IF('2-way Quiz'!O67=20,30,'2-way Quiz'!O67),'2-way Quiz'!O67),IF(O69>2,IF(O$2=\"R\",\".\",'2-way Quiz'!O67),'2-way Quiz'!O67)))","v":20},{"$f":"IF(O64>2,\".\",IF(O69=2,IF(O64=0,IF('2-way Quiz'!P67=20,30,'2-way Quiz'!P67),'2-way Quiz'!P67),IF(P69>2,IF(P$2=\"R\",\".\",'2-way Quiz'!P67),'2-way Quiz'!P67)))","v":20},{"$f":"IF(P64>2,\".\",IF(P69=2,IF(P64=0,IF('2-way Quiz'!Q67=20,30,'2-way Quiz'!Q67),'2-way Quiz'!Q67),IF(Q69>2,IF(Q$2=\"R\",\".\",'2-way Quiz'!Q67),'2-way Quiz'!Q67)))","v":10},{"$f":"IF(Q64>2,\".\",IF(Q69=2,IF(Q64=0,IF('2-way Quiz'!R67=20,30,'2-way Quiz'!R67),'2-way Quiz'!R67),IF(R69>2,IF(R$2=\"R\",\".\",'2-way Quiz'!R67),'2-way Quiz'!R67)))","v":20},{"$f":"IF(R64>2,\".\",IF(R69=2,IF(R64=0,IF('2-way Quiz'!S67=20,30,'2-way Quiz'!S67),'2-way Quiz'!S67),IF(S69>2,IF(S$2=\"R\",\".\",'2-way Quiz'!S67),'2-way Quiz'!S67)))","v":20},{"$f":"IF(S64>2,\".\",IF(S69=2,IF(S64=0,IF('2-way Quiz'!T67=20,30,'2-way Quiz'!T67),'2-way Quiz'!T67),IF(T69>2,IF(T$2=\"R\",\".\",'2-way Quiz'!T67),'2-way Quiz'!T67)))","v":10},{"$f":"IF(T64>2,\".\",IF(T69=2,IF(T64=0,IF('2-way Quiz'!U67=20,30,'2-way Quiz'!U67),'2-way Quiz'!U67),IF(U69>2,IF(U$2=\"R\",\".\",'2-way Quiz'!U67),'2-way Quiz'!U67)))","v":20},{"$f":"IF(U64>2,\".\",IF(U69=2,IF(U64=0,IF('2-way Quiz'!V67=20,30,'2-way Quiz'!V67),'2-way Quiz'!V67),IF(V69>2,IF(V$2=\"R\",\".\",'2-way Quiz'!V67),'2-way Quiz'!V67)))","v":20},{"$f":"IF(V64>2,\".\",IF(V69=2,IF(V64=0,IF('2-way Quiz'!W67=20,30,'2-way Quiz'!W67),'2-way Quiz'!W67),IF(W69>2,IF(W$2=\"R\",\".\",'2-way Quiz'!W67),'2-way Quiz'!W67)))","v":10},{"$f":"IF(W64>2,\".\",IF(W69=2,IF(W64=0,IF('2-way Quiz'!X67=20,30,'2-way Quiz'!X67),'2-way Quiz'!X67),IF(X69>2,IF(X$2=\"R\",\".\",'2-way Quiz'!X67),'2-way Quiz'!X67)))","v":20},{"$f":"IF(X64>2,\".\",IF(X69=2,IF(X64=0,IF('2-way Quiz'!Y67=20,30,'2-way Quiz'!Y67),'2-way Quiz'!Y67),IF(Y69>2,IF(Y$2=\"R\",\".\",'2-way Quiz'!Y67),'2-way Quiz'!Y67)))","v":"."},{"$f":"IF(Y64>2,\".\",IF(Y69=2,IF(Y64=0,IF('2-way Quiz'!Z67=20,30,'2-way Quiz'!Z67),'2-way Quiz'!Z67),IF(Z69>2,IF(Z$2=\"R\",\".\",'2-way Quiz'!Z67),'2-way Quiz'!Z67)))","v":"."},{"$f":"IF(Z64>2,\".\",IF(Z69=2,IF(Z64=0,IF('2-way Quiz'!AA67=20,30,'2-way Quiz'!AA67),'2-way Quiz'!AA67),IF(AA69>2,IF(AA$2=\"R\",\".\",'2-way Quiz'!AA67),'2-way Quiz'!AA67)))","v":"."},{"$f":"IF(AA64>2,\".\",IF(AA69=2,IF(AA64=0,IF('2-way Quiz'!AB67=20,30,'2-way Quiz'!AB67),'2-way Quiz'!AB67),IF(AB69>2,IF(AB$2=\"R\",\".\",'2-way Quiz'!AB67),'2-way Quiz'!AB67)))","v":"."},{"$f":"IF(AB64>2,\".\",IF(AB69=2,IF(AB64=0,IF('2-way Quiz'!AC67=20,30,'2-way Quiz'!AC67),'2-way Quiz'!AC67),IF(AC69>2,IF(AC$2=\"R\",\".\",'2-way Quiz'!AC67),'2-way Quiz'!AC67)))","v":"."},{"$f":"IF(AC64>2,\".\",IF(AC69=2,IF(AC64=0,IF('2-way Quiz'!AD67=20,30,'2-way Quiz'!AD67),'2-way Quiz'!AD67),IF(AD69>2,IF(AD$2=\"R\",\".\",'2-way Quiz'!AD67),'2-way Quiz'!AD67)))","v":"."},{"$f":"IF(AD64>2,\".\",IF(AD69=2,IF(AD64=0,IF('2-way Quiz'!AE67=20,30,'2-way Quiz'!AE67),'2-way Quiz'!AE67),IF(AE69>2,IF(AE$2=\"R\",\".\",'2-way Quiz'!AE67),'2-way Quiz'!AE67)))","v":"."},{"$f":"IF(AE64>2,\".\",IF(AE69=2,IF(AE64=0,IF('2-way Quiz'!AF67=20,30,'2-way Quiz'!AF67),'2-way Quiz'!AF67),IF(AF69>2,IF(AF$2=\"R\",\".\",'2-way Quiz'!AF67),'2-way Quiz'!AF67)))","v":"."},{"$f":"IF(AF64>2,\".\",IF(AF69=2,IF(AF64=0,IF('2-way Quiz'!AG67=20,30,'2-way Quiz'!AG67),'2-way Quiz'!AG67),IF(AG69>2,IF(AG$2=\"R\",\".\",'2-way Quiz'!AG67),'2-way Quiz'!AG67)))","v":"."},{"$f":"IF(AG64>2,\".\",IF(AG69=2,IF(AG64=0,IF('2-way Quiz'!AH67=20,30,'2-way Quiz'!AH67),'2-way Quiz'!AH67),IF(AH69>2,IF(AH$2=\"R\",\".\",'2-way Quiz'!AH67),'2-way Quiz'!AH67)))","v":"."},{"$f":"IF(AH64>2,\".\",IF(AH69=2,IF(AH64=0,IF('2-way Quiz'!AI67=20,30,'2-way Quiz'!AI67),'2-way Quiz'!AI67),IF(AI69>2,IF(AI$2=\"R\",\".\",'2-way Quiz'!AI67),'2-way Quiz'!AI67)))","v":"."},{"$f":"IF(AI64>2,\".\",IF(AI69=2,IF(AI64=0,IF('2-way Quiz'!AJ67=20,30,'2-way Quiz'!AJ67),'2-way Quiz'!AJ67),IF(AJ69>2,IF(AJ$2=\"R\",\".\",'2-way Quiz'!AJ67),'2-way Quiz'!AJ67)))","v":"."},{"$f":"IF(AJ64>2,\".\",IF(AJ69=2,IF(AJ64=0,IF('2-way Quiz'!AK67=20,30,'2-way Quiz'!AK67),'2-way Quiz'!AK67),IF(AK69>2,IF(AK$2=\"R\",\".\",'2-way Quiz'!AK67),'2-way Quiz'!AK67)))","v":"."},{"$f":"IF(AK64>2,\".\",IF(AK69=2,IF(AK64=0,IF('2-way Quiz'!AL67=20,30,'2-way Quiz'!AL67),'2-way Quiz'!AL67),IF(AL69>2,IF(AL$2=\"R\",\".\",'2-way Quiz'!AL67),'2-way Quiz'!AL67)))","v":"."},{"$f":"IF(AL64>2,\".\",IF(AL69=2,IF(AL64=0,IF('2-way Quiz'!AM67=20,30,'2-way Quiz'!AM67),'2-way Quiz'!AM67),IF(AM69>2,IF(AM$2=\"R\",\".\",'2-way Quiz'!AM67),'2-way Quiz'!AM67)))","v":"."},{"$f":"IF(AM64>2,\".\",IF(AM69=2,IF(AM64=0,IF('2-way Quiz'!AN67=20,30,'2-way Quiz'!AN67),'2-way Quiz'!AN67),IF(AN69>2,IF(AN$2=\"R\",\".\",'2-way Quiz'!AN67),'2-way Quiz'!AN67)))","v":"."},{"$f":"IF(AN64>2,\".\",IF(AN69=2,IF(AN64=0,IF('2-way Quiz'!AO67=20,30,'2-way Quiz'!AO67),'2-way Quiz'!AO67),IF(AO69>2,IF(AO$2=\"R\",\".\",'2-way Quiz'!AO67),'2-way Quiz'!AO67)))","v":"."},{"$f":"IF(AO64>2,\".\",IF(AO69=2,IF(AO64=0,IF('2-way Quiz'!AP67=20,30,'2-way Quiz'!AP67),'2-way Quiz'!AP67),IF(AP69>2,IF(AP$2=\"R\",\".\",'2-way Quiz'!AP67),'2-way Quiz'!AP67)))","v":"."},{"$f":"IF(AP64>2,\".\",IF(AP69=2,IF(AP64=0,IF('2-way Quiz'!AQ67=20,30,'2-way Quiz'!AQ67),'2-way Quiz'!AQ67),IF(AQ69>2,IF(AQ$2=\"R\",\".\",'2-way Quiz'!AQ67),'2-way Quiz'!AQ67)))","v":"."},{"$f":"IF(AQ64>2,\".\",IF(AQ69=2,IF(AQ64=0,IF('2-way Quiz'!AR67=20,30,'2-way Quiz'!AR67),'2-way Quiz'!AR67),IF(AR69>2,IF(AR$2=\"R\",\".\",'2-way Quiz'!AR67),'2-way Quiz'!AR67)))","v":"."},{"$f":"IF(AR64>2,\".\",IF(AR69=2,IF(AR64=0,IF('2-way Quiz'!AS67=20,30,'2-way Quiz'!AS67),'2-way Quiz'!AS67),IF(AS69>2,IF(AS$2=\"R\",\".\",'2-way Quiz'!AS67),'2-way Quiz'!AS67)))","v":"."},{"$f":"IF(AS64>2,\".\",IF(AS69=2,IF(AS64=0,IF('2-way Quiz'!AT67=20,30,'2-way Quiz'!AT67),'2-way Quiz'!AT67),IF(AT69>2,IF(AT$2=\"R\",\".\",'2-way Quiz'!AT67),'2-way Quiz'!AT67)))","v":"."},{"$f":"IF(AT64>2,\".\",IF(AT69=2,IF(AT64=0,IF('2-way Quiz'!AU67=20,30,'2-way Quiz'!AU67),'2-way Quiz'!AU67),IF(AU69>2,IF(AU$2=\"R\",\".\",'2-way Quiz'!AU67),'2-way Quiz'!AU67)))","v":"."},{"$f":"IF(AU64>2,\".\",IF(AU69=2,IF(AU64=0,IF('2-way Quiz'!AV67=20,30,'2-way Quiz'!AV67),'2-way Quiz'!AV67),IF(AV69>2,IF(AV$2=\"R\",\".\",'2-way Quiz'!AV67),'2-way Quiz'!AV67)))","v":"."},{"$f":"IF(AV64>2,\".\",IF(AV69=2,IF(AV64=0,IF('2-way Quiz'!AW67=20,30,'2-way Quiz'!AW67),'2-way Quiz'!AW67),IF(AW69>2,IF(AW$2=\"R\",\".\",'2-way Quiz'!AW67),'2-way Quiz'!AW67)))","v":"."},{"$f":"IF(AW64>2,\".\",IF(AW69=2,IF(AW64=0,IF('2-way Quiz'!AX67=20,30,'2-way Quiz'!AX67),'2-way Quiz'!AX67),IF(AX69>2,IF(AX$2=\"R\",\".\",'2-way Quiz'!AX67),'2-way Quiz'!AX67)))","v":"."},{"$f":"IF(AX64>2,\".\",IF(AX69=2,IF(AX64=0,IF('2-way Quiz'!AY67=20,30,'2-way Quiz'!AY67),'2-way Quiz'!AY67),IF(AY69>2,IF(AY$2=\"R\",\".\",'2-way Quiz'!AY67),'2-way Quiz'!AY67)))","v":"."},{"$f":"IF(AY64>2,\".\",IF(AY69=2,IF(AY64=0,IF('2-way Quiz'!AZ67=20,30,'2-way Quiz'!AZ67),'2-way Quiz'!AZ67),IF(AZ69>2,IF(AZ$2=\"R\",\".\",'2-way Quiz'!AZ67),'2-way Quiz'!AZ67)))","v":"."},{"$f":"IF(AZ64>2,\".\",IF(AZ69=2,IF(AZ64=0,IF('2-way Quiz'!BA67=20,30,'2-way Quiz'!BA67),'2-way Quiz'!BA67),IF(BA69>2,IF(BA$2=\"R\",\".\",'2-way Quiz'!BA67),'2-way Quiz'!BA67)))","v":"."},{"$f":"IF(BA64>2,\".\",IF(BA69=2,IF(BA64=0,IF('2-way Quiz'!BB67=20,30,'2-way Quiz'!BB67),'2-way Quiz'!BB67),IF(BB69>2,IF(BB$2=\"R\",\".\",'2-way Quiz'!BB67),'2-way Quiz'!BB67)))","v":"."}]
[null,null,{"$f":"'2-way Quiz'!C60","v":"Quizzer #2"},20,{"$f":"IF(D65>2,\".\",IF(D70=2,IF(D65=0,IF('2-way Quiz'!E67=20,30,'2-way Quiz'!E67),'2-way Quiz'!E67),IF(E70>2,IF(E$2=\"R\",\".\",'2-way Quiz'!E67),'2-way Quiz'!E67)))","v":20},{"$f":"IF(E65>2,\".\",IF(E70=2,IF(E65=0,IF('2-way Quiz'!F67=20,30,'2-way Quiz'!F67),'2-way Quiz'!F67),IF(F70>2,IF(F$2=\"R\",\".\",'2-way Quiz'!F67),'2-way Quiz'!F67)))","v":20},{"$f":"IF(F65>2,\".\",IF(F70=2,IF(F65=0,IF('2-way Quiz'!G67=20,30,'2-way Quiz'!G67),'2-way Quiz'!G67),IF(G70>2,IF(G$2=\"R\",\".\",'2-way Quiz'!G67),'2-way Quiz'!G67)))","v":"."},{"$f":"IF(G65>2,\".\",IF(G70=2,IF(G65=0,IF('2-way Quiz'!H67=20,30,'2-way Quiz'!H67),'2-way Quiz'!H67),IF(H70>2,IF(H$2=\"R\",\".\",'2-way Quiz'!H67),'2-way Quiz'!H67)))","v":20},{"$f":"IF(H65>2,\".\",IF(H70=2,IF(H65=0,IF('2-way Quiz'!I67=20,30,'2-way Quiz'!I67),'2-way Quiz'!I67),IF(I70>2,IF(I$2=\"R\",\".\",'2-way Quiz'!I67),'2-way Quiz'!I67)))","v":20},{"$f":"IF(I65>2,\".\",IF(I70=2,IF(I65=0,IF('2-way Quiz'!J67=20,30,'2-way Quiz'!J67),'2-way Quiz'!J67),IF(J70>2,IF(J$2=\"R\",\".\",'2-way Quiz'!J67),'2-way Quiz'!J67)))","v":20},{"$f":"IF(J65>2,\".\",IF(J70=2,IF(J65=0,IF('2-way Quiz'!K67=20,30,'2-way Quiz'!K67),'2-way Quiz'!K67),IF(K70>2,IF(K$2=\"R\",\".\",'2-way Quiz'!K67),'2-way Quiz'!K67)))","v":20},{"$f":"IF(K65>2,\".\",IF(K70=2,IF(K65=0,IF('2-way Quiz'!L67=20,30,'2-way Quiz'!L67),'2-way Quiz'!L67),IF(L70>2,IF(L$2=\"R\",\".\",'2-way Quiz'!L67),'2-way Quiz'!L67)))","v":20},{"$f":"IF(L65>2,\".\",IF(L70=2,IF(L65=0,IF('2-way Quiz'!M67=20,30,'2-way Quiz'!M67),'2-way Quiz'!M67),IF(M70>2,IF(M$2=\"R\",\".\",'2-way Quiz'!M67),'2-way Quiz'!M67)))","v":20},{"$f":"IF(M65>2,\".\",IF(M70=2,IF(M65=0,IF('2-way Quiz'!N67=20,30,'2-way Quiz'!N67),'2-way Quiz'!N67),IF(N70>2,IF(N$2=\"R\",\".\",'2-way Quiz'!N67),'2-way Quiz'!N67)))","v":20},{"$f":"IF(N65>2,\".\",IF(N70=2,IF(N65=0,IF('2-way Quiz'!O67=20,30,'2-way Quiz'!O67),'2-way Quiz'!O67),IF(O70>2,IF(O$2=\"R\",\".\",'2-way Quiz'!O67),'2-way Quiz'!O67)))","v":20},{"$f":"IF(O65>2,\".\",IF(O70=2,IF(O65=0,IF('2-way Quiz'!P67=20,30,'2-way Quiz'!P67),'2-way Quiz'!P67),IF(P70>2,IF(P$2=\"R\",\".\",'2-way Quiz'!P67),'2-way Quiz'!P67)))","v":20},{"$f":"IF(P65>2,\".\",IF(P70=2,IF(P65=0,IF('2-way Quiz'!Q67=20,30,'2-way Quiz'!Q67),'2-way Quiz'!Q67),IF(Q70>2,IF(Q$2=\"R\",\".\",'2-way Quiz'!Q67),'2-way Quiz'!Q67)))","v":10},{"$f":"IF(Q65>2,\".\",IF(Q70=2,IF(Q65=0,IF('2-way Quiz'!R67=20,30,'2-way Quiz'!R67),'2-way Quiz'!R67),IF(R70>2,IF(R$2=\"R\",\".\",'2-way Quiz'!R67),'2-way Quiz'!R67)))","v":20},{"$f":"IF(R65>2,\".\",IF(R70=2,IF(R65=0,IF('2-way Quiz'!S67=20,30,'2-way Quiz'!S67),'2-way Quiz'!S67),IF(S70>2,IF(S$2=\"R\",\".\",'2-way Quiz'!S67),'2-way Quiz'!S67)))","v":20},{"$f":"IF(S65>2,\".\",IF(S70=2,IF(S65=0,IF('2-way Quiz'!T67=20,30,'2-way Quiz'!T67),'2-way Quiz'!T67),IF(T70>2,IF(T$2=\"R\",\".\",'2-way Quiz'!T67),'2-way Quiz'!T67)))","v":10},{"$f":"IF(T65>2,\".\",IF(T70=2,IF(T65=0,IF('2-way Quiz'!U67=20,30,'2-way Quiz'!U67),'2-way Quiz'!U67),IF(U70>2,IF(U$2=\"R\",\".\",'2-way Quiz'!U67),'2-way Quiz'!U67)))","v":20},{"$f":"IF(U65>2,\".\",IF(U70=2,IF(U65=0,IF('2-way Quiz'!V67=20,30,'2-way Quiz'!V67),'2-way Quiz'!V67),IF(V70>2,IF(V$2=\"R\",\".\",'2-way Quiz'!V67),'2-way Quiz'!V67)))","v":20},{"$f":"IF(V65>2,\".\",IF(V70=2,IF(V65=0,IF('2-way Quiz'!W67=20,30,'2-way Quiz'!W67),'2-way Quiz'!W67),IF(W70>2,IF(W$2=\"R\",\".\",'2-way Quiz'!W67),'2-way Quiz'!W67)))","v":10},{"$f":"IF(W65>2,\".\",IF(W70=2,IF(W65=0,IF('2-way Quiz'!X67=20,30,'2-way Quiz'!X67),'2-way Quiz'!X67),IF(X70>2,IF(X$2=\"R\",\".\",'2-way Quiz'!X67),'2-way Quiz'!X67)))","v":20},{"$f":"IF(X65>2,\".\",IF(X70=2,IF(X65=0,IF('2-way Quiz'!Y67=20,30,'2-way Quiz'!Y67),'2-way Quiz'!Y67),IF(Y70>2,IF(Y$2=\"R\",\".\",'2-way Quiz'!Y67),'2-way Quiz'!Y67)))","v":"."},{"$f":"IF(Y65>2,\".\",IF(Y70=2,IF(Y65=0,IF('2-way Quiz'!Z67=20,30,'2-way Quiz'!Z67),'2-way Quiz'!Z67),IF(Z70>2,IF(Z$2=\"R\",\".\",'2-way Quiz'!Z67),'2-way Quiz'!Z67)))","v":"."},{"$f":"IF(Z65>2,\".\",IF(Z70=2,IF(Z65=0,IF('2-way Quiz'!AA67=20,30,'2-way Quiz'!AA67),'2-way Quiz'!AA67),IF(AA70>2,IF(AA$2=\"R\",\".\",'2-way Quiz'!AA67),'2-way Quiz'!AA67)))","v":"."},{"$f":"IF(AA65>2,\".\",IF(AA70=2,IF(AA65=0,IF('2-way Quiz'!AB67=20,30,'2-way Quiz'!AB67),'2-way Quiz'!AB67),IF(AB70>2,IF(AB$2=\"R\",\".\",'2-way Quiz'!AB67),'2-way Quiz'!AB67)))","v":"."},{"$f":"IF(AB65>2,\".\",IF(AB70=2,IF(AB65=0,IF('2-way Quiz'!AC67=20,30,'2-way Quiz'!AC67),'2-way Quiz'!AC67),IF(AC70>2,IF(AC$2=\"R\",\".\",'2-way Quiz'!AC67),'2-way Quiz'!AC67)))","v":"."},{"$f":"IF(AC65>2,\".\",IF(AC70=2,IF(AC65=0,IF('2-way Quiz'!AD67=20,30,'2-way Quiz'!AD67),'2-way Quiz'!AD67),IF(AD70>2,IF(AD$2=\"R\",\".\",'2-way Quiz'!AD67),'2-way Quiz'!AD67)))","v":"."},{"$f":"IF(AD65>2,\".\",IF(AD70=2,IF(AD65=0,IF('2-way Quiz'!AE67=20,30,'2-way Quiz'!AE67),'2-way Quiz'!AE67),IF(AE70>2,IF(AE$2=\"R\",\".\",'2-way Quiz'!AE67),'2-way Quiz'!AE67)))","v":"."},{"$f":"IF(AE65>2,\".\",IF(AE70=2,IF(AE65=0,IF('2-way Quiz'!AF67=20,30,'2-way Quiz'!AF67),'2-way Quiz'!AF67),IF(AF70>2,IF(AF$2=\"R\",\".\",'2-way Quiz'!AF67),'2-way Quiz'!AF67)))","v":"."},{"$f":"IF(AF65>2,\".\",IF(AF70=2,IF(AF65=0,IF('2-way Quiz'!AG67=20,30,'2-way Quiz'!AG67),'2-way Quiz'!AG67),IF(AG70>2,IF(AG$2=\"R\",\".\",'2-way Quiz'!AG67),'2-way Quiz'!AG67)))","v":"."},{"$f":"IF(AG65>2,\".\",IF(AG70=2,IF(AG65=0,IF('2-way Quiz'!AH67=20,30,'2-way Quiz'!AH67),'2-way Quiz'!AH67),IF(AH70>2,IF(AH$2=\"R\",\".\",'2-way Quiz'!AH67),'2-way Quiz'!AH67)))","v":"."},{"$f":"IF(AH65>2,\".\",IF(AH70=2,IF(AH65=0,IF('2-way Quiz'!AI67=20,30,'2-way Quiz'!AI67),'2-way Quiz'!AI67),IF(AI70>2,IF(AI$2=\"R\",\".\",'2-way Quiz'!AI67),'2-way Quiz'!AI67)))","v":"."},{"$f":"IF(AI65>2,\".\",IF(AI70=2,IF(AI65=0,IF('2-way Quiz'!AJ67=20,30,'2-way Quiz'!AJ67),'2-way Quiz'!AJ67),IF(AJ70>2,IF(AJ$2=\"R\",\".\",'2-way Quiz'!AJ67),'2-way Quiz'!AJ67)))","v":"."},{"$f":"IF(AJ65>2,\".\",IF(AJ70=2,IF(AJ65=0,IF('2-way Quiz'!AK67=20,30,'2-way Quiz'!AK67),'2-way Quiz'!AK67),IF(AK70>2,IF(AK$2=\"R\",\".\",'2-way Quiz'!AK67),'2-way Quiz'!AK67)))","v":"."},{"$f":"IF(AK65>2,\".\",IF(AK70=2,IF(AK65=0,IF('2-way Quiz'!AL67=20,30,'2-way Quiz'!AL67),'2-way Quiz'!AL67),IF(AL70>2,IF(AL$2=\"R\",\".\",'2-way Quiz'!AL67),'2-way Quiz'!AL67)))","v":"."},{"$f":"IF(AL65>2,\".\",IF(AL70=2,IF(AL65=0,IF('2-way Quiz'!AM67=20,30,'2-way Quiz'!AM67),'2-way Quiz'!AM67),IF(AM70>2,IF(AM$2=\"R\",\".\",'2-way Quiz'!AM67),'2-way Quiz'!AM67)))","v":"."},{"$f":"IF(AM65>2,\".\",IF(AM70=2,IF(AM65=0,IF('2-way Quiz'!AN67=20,30,'2-way Quiz'!AN67),'2-way Quiz'!AN67),IF(AN70>2,IF(AN$2=\"R\",\".\",'2-way Quiz'!AN67),'2-way Quiz'!AN67)))","v":"."},{"$f":"IF(AN65>2,\".\",IF(AN70=2,IF(AN65=0,IF('2-way Quiz'!AO67=20,30,'2-way Quiz'!AO67),'2-way Quiz'!AO67),IF(AO70>2,IF(AO$2=\"R\",\".\",'2-way Quiz'!AO67),'2-way Quiz'!AO67)))","v":"."},{"$f":"IF(AO65>2,\".\",IF(AO70=2,IF(AO65=0,IF('2-way Quiz'!AP67=20,30,'2-way Quiz'!AP67),'2-way Quiz'!AP67),IF(AP70>2,IF(AP$2=\"R\",\".\",'2-way Quiz'!AP67),'2-way Quiz'!AP67)))","v":"."},{"$f":"IF(AP65>2,\".\",IF(AP70=2,IF(AP65=0,IF('2-way Quiz'!AQ67=20,30,'2-way Quiz'!AQ67),'2-way Quiz'!AQ67),IF(AQ70>2,IF(AQ$2=\"R\",\".\",'2-way Quiz'!AQ67),'2-way Quiz'!AQ67)))","v":"."},{"$f":"IF(AQ65>2,\".\",IF(AQ70=2,IF(AQ65=0,IF('2-way Quiz'!AR67=20,30,'2-way Quiz'!AR67),'2-way Quiz'!AR67),IF(AR70>2,IF(AR$2=\"R\",\".\",'2-way Quiz'!AR67),'2-way Quiz'!AR67)))","v":"."},{"$f":"IF(AR65>2,\".\",IF(AR70=2,IF(AR65=0,IF('2-way Quiz'!AS67=20,30,'2-way Quiz'!AS67),'2-way Quiz'!AS67),IF(AS70>2,IF(AS$2=\"R\",\".\",'2-way Quiz'!AS67),'2-way Quiz'!AS67)))","v":"."},{"$f":"IF(AS65>2,\".\",IF(AS70=2,IF(AS65=0,IF('2-way Quiz'!AT67=20,30,'2-way Quiz'!AT67),'2-way Quiz'!AT67),IF(AT70>2,IF(AT$2=\"R\",\".\",'2-way Quiz'!AT67),'2-way Quiz'!AT67)))","v":"."},{"$f":"IF(AT65>2,\".\",IF(AT70=2,IF(AT65=0,IF('2-way Quiz'!AU67=20,30,'2-way Quiz'!AU67),'2-way Quiz'!AU67),IF(AU70>2,IF(AU$2=\"R\",\".\",'2-way Quiz'!AU67),'2-way Quiz'!AU67)))","v":"."},{"$f":"IF(AU65>2,\".\",IF(AU70=2,IF(AU65=0,IF('2-way Quiz'!AV67=20,30,'2-way Quiz'!AV67),'2-way Quiz'!AV67),IF(AV70>2,IF(AV$2=\"R\",\".\",'2-way Quiz'!AV67),'2-way Quiz'!AV67)))","v":"."},{"$f":"IF(AV65>2,\".\",IF(AV70=2,IF(AV65=0,IF('2-way Quiz'!AW67=20,30,'2-way Quiz'!AW67),'2-way Quiz'!AW67),IF(AW70>2,IF(AW$2=\"R\",\".\",'2-way Quiz'!AW67),'2-way Quiz'!AW67)))","v":"."},{"$f":"IF(AW65>2,\".\",IF(AW70=2,IF(AW65=0,IF('2-way Quiz'!AX67=20,30,'2-way Quiz'!AX67),'2-way Quiz'!AX67),IF(AX70>2,IF(AX$2=\"R\",\".\",'2-way Quiz'!AX67),'2-way Quiz'!AX67)))","v":"."},{"$f":"IF(AX65>2,\".\",IF(AX70=2,IF(AX65=0,IF('2-way Quiz'!AY67=20,30,'2-way Quiz'!AY67),'2-way Quiz'!AY67),IF(AY70>2,IF(AY$2=\"R\",\".\",'2-way Quiz'!AY67),'2-way Quiz'!AY67)))","v":"."},{"$f":"IF(AY65>2,\".\",IF(AY70=2,IF(AY65=0,IF('2-way Quiz'!AZ67=20,30,'2-way Quiz'!AZ67),'2-way Quiz'!AZ67),IF(AZ70>2,IF(AZ$2=\"R\",\".\",'2-way Quiz'!AZ67),'2-way Quiz'!AZ67)))","v":"."},{"$f":"IF(AZ65>2,\".\",IF(AZ70=2,IF(AZ65=0,IF('2-way Quiz'!BA67=20,30,'2-way Quiz'!BA67),'2-way Quiz'!BA67),IF(BA70>2,IF(BA$2=\"R\",\".\",'2-way Quiz'!BA67),'2-way Quiz'!BA67)))","v":"."},{"$f":"IF(BA65>2,\".\",IF(BA70=2,IF(BA65=0,IF('2-way Quiz'!BB67=20,30,'2-way Quiz'!BB67),'2-way Quiz'!BB67),IF(BB70>2,IF(BB$2=\"R\",\".\",'2-way Quiz'!BB67),'2-way Quiz'!BB67)))","v":"."}]
[null,null,{"$f":"'2-way Quiz'!C61","v":"Quizzer #3"},20,{"$f":"IF(D66>2,\".\",IF(D71=2,IF(D66=0,IF('2-way Quiz'!E67=20,30,'2-way Quiz'!E67),'2-way Quiz'!E67),IF(E71>2,IF(E$2=\"R\",\".\",'2-way Quiz'!E67),'2-way Quiz'!E67)))","v":20},{"$f":"IF(E66>2,\".\",IF(E71=2,IF(E66=0,IF('2-way Quiz'!F67=20,30,'2-way Quiz'!F67),'2-way Quiz'!F67),IF(F71>2,IF(F$2=\"R\",\".\",'2-way Quiz'!F67),'2-way Quiz'!F67)))","v":20},{"$f":"IF(F66>2,\".\",IF(F71=2,IF(F66=0,IF('2-way Quiz'!G67=20,30,'2-way Quiz'!G67),'2-way Quiz'!G67),IF(G71>2,IF(G$2=\"R\",\".\",'2-way Quiz'!G67),'2-way Quiz'!G67)))","v":"."},{"$f":"IF(G66>2,\".\",IF(G71=2,IF(G66=0,IF('2-way Quiz'!H67=20,30,'2-way Quiz'!H67),'2-way Quiz'!H67),IF(H71>2,IF(H$2=\"R\",\".\",'2-way Quiz'!H67),'2-way Quiz'!H67)))","v":20},{"$f":"IF(H66>2,\".\",IF(H71=2,IF(H66=0,IF('2-way Quiz'!I67=20,30,'2-way Quiz'!I67),'2-way Quiz'!I67),IF(I71>2,IF(I$2=\"R\",\".\",'2-way Quiz'!I67),'2-way Quiz'!I67)))","v":20},{"$f":"IF(I66>2,\".\",IF(I71=2,IF(I66=0,IF('2-way Quiz'!J67=20,30,'2-way Quiz'!J67),'2-way Quiz'!J67),IF(J71>2,IF(J$2=\"R\",\".\",'2-way Quiz'!J67),'2-way Quiz'!J67)))","v":20},{"$f":"IF(J66>2,\".\",IF(J71=2,IF(J66=0,IF('2-way Quiz'!K67=20,30,'2-way Quiz'!K67),'2-way Quiz'!K67),IF(K71>2,IF(K$2=\"R\",\".\",'2-way Quiz'!K67),'2-way Quiz'!K67)))","v":20},{"$f":"IF(K66>2,\".\",IF(K71=2,IF(K66=0,IF('2-way Quiz'!L67=20,30,'2-way Quiz'!L67),'2-way Quiz'!L67),IF(L71>2,IF(L$2=\"R\",\".\",'2-way Quiz'!L67),'2-way Quiz'!L67)))","v":20},{"$f":"IF(L66>2,\".\",IF(L71=2,IF(L66=0,IF('2-way Quiz'!M67=20,30,'2-way Quiz'!M67),'2-way Quiz'!M67),IF(M71>2,IF(M$2=\"R\",\".\",'2-way Quiz'!M67),'2-way Quiz'!M67)))","v":20},{"$f":"IF(M66>2,\".\",IF(M71=2,IF(M66=0,IF('2-way Quiz'!N67=20,30,'2-way Quiz'!N67),'2-way Quiz'!N67),IF(N71>2,IF(N$2=\"R\",\".\",'2-way Quiz'!N67),'2-way Quiz'!N67)))","v":20},{"$f":"IF(N66>2,\".\",IF(N71=2,IF(N66=0,IF('2-way Quiz'!O67=20,30,'2-way Quiz'!O67),'2-way Quiz'!O67),IF(O71>2,IF(O$2=\"R\",\".\",'2-way Quiz'!O67),'2-way Quiz'!O67)))","v":20},{"$f":"IF(O66>2,\".\",IF(O71=2,IF(O66=0,IF('2-way Quiz'!P67=20,30,'2-way Quiz'!P67),'2-way Quiz'!P67),IF(P71>2,IF(P$2=\"R\",\".\",'2-way Quiz'!P67),'2-way Quiz'!P67)))","v":20},{"$f":"IF(P66>2,\".\",IF(P71=2,IF(P66=0,IF('2-way Quiz'!Q67=20,30,'2-way Quiz'!Q67),'2-way Quiz'!Q67),IF(Q71>2,IF(Q$2=\"R\",\".\",'2-way Quiz'!Q67),'2-way Quiz'!Q67)))","v":10},{"$f":"IF(Q66>2,\".\",IF(Q71=2,IF(Q66=0,IF('2-way Quiz'!R67=20,30,'2-way Quiz'!R67),'2-way Quiz'!R67),IF(R71>2,IF(R$2=\"R\",\".\",'2-way Quiz'!R67),'2-way Quiz'!R67)))","v":20},{"$f":"IF(R66>2,\".\",IF(R71=2,IF(R66=0,IF('2-way Quiz'!S67=20,30,'2-way Quiz'!S67),'2-way Quiz'!S67),IF(S71>2,IF(S$2=\"R\",\".\",'2-way Quiz'!S67),'2-way Quiz'!S67)))","v":20},{"$f":"IF(S66>2,\".\",IF(S71=2,IF(S66=0,IF('2-way Quiz'!T67=20,30,'2-way Quiz'!T67),'2-way Quiz'!T67),IF(T71>2,IF(T$2=\"R\",\".\",'2-way Quiz'!T67),'2-way Quiz'!T67)))","v":10},{"$f":"IF(T66>2,\".\",IF(T71=2,IF(T66=0,IF('2-way Quiz'!U67=20,30,'2-way Quiz'!U67),'2-way Quiz'!U67),IF(U71>2,IF(U$2=\"R\",\".\",'2-way Quiz'!U67),'2-way Quiz'!U67)))","v":20},{"$f":"IF(U66>2,\".\",IF(U71=2,IF(U66=0,IF('2-way Quiz'!V67=20,30,'2-way Quiz'!V67),'2-way Quiz'!V67),IF(V71>2,IF(V$2=\"R\",\".\",'2-way Quiz'!V67),'2-way Quiz'!V67)))","v":20},{"$f":"IF(V66>2,\".\",IF(V71=2,IF(V66=0,IF('2-way Quiz'!W67=20,30,'2-way Quiz'!W67),'2-way Quiz'!W67),IF(W71>2,IF(W$2=\"R\",\".\",'2-way Quiz'!W67),'2-way Quiz'!W67)))","v":10},{"$f":"IF(W66>2,\".\",IF(W71=2,IF(W66=0,IF('2-way Quiz'!X67=20,30,'2-way Quiz'!X67),'2-way Quiz'!X67),IF(X71>2,IF(X$2=\"R\",\".\",'2-way Quiz'!X67),'2-way Quiz'!X67)))","v":20},{"$f":"IF(X66>2,\".\",IF(X71=2,IF(X66=0,IF('2-way Quiz'!Y67=20,30,'2-way Quiz'!Y67),'2-way Quiz'!Y67),IF(Y71>2,IF(Y$2=\"R\",\".\",'2-way Quiz'!Y67),'2-way Quiz'!Y67)))","v":"."},{"$f":"IF(Y66>2,\".\",IF(Y71=2,IF(Y66=0,IF('2-way Quiz'!Z67=20,30,'2-way Quiz'!Z67),'2-way Quiz'!Z67),IF(Z71>2,IF(Z$2=\"R\",\".\",'2-way Quiz'!Z67),'2-way Quiz'!Z67)))","v":"."},{"$f":"IF(Z66>2,\".\",IF(Z71=2,IF(Z66=0,IF('2-way Quiz'!AA67=20,30,'2-way Quiz'!AA67),'2-way Quiz'!AA67),IF(AA71>2,IF(AA$2=\"R\",\".\",'2-way Quiz'!AA67),'2-way Quiz'!AA67)))","v":"."},{"$f":"IF(AA66>2,\".\",IF(AA71=2,IF(AA66=0,IF('2-way Quiz'!AB67=20,30,'2-way Quiz'!AB67),'2-way Quiz'!AB67),IF(AB71>2,IF(AB$2=\"R\",\".\",'2-way Quiz'!AB67),'2-way Quiz'!AB67)))","v":"."},{"$f":"IF(AB66>2,\".\",IF(AB71=2,IF(AB66=0,IF('2-way Quiz'!AC67=20,30,'2-way Quiz'!AC67),'2-way Quiz'!AC67),IF(AC71>2,IF(AC$2=\"R\",\".\",'2-way Quiz'!AC67),'2-way Quiz'!AC67)))","v":"."},{"$f":"IF(AC66>2,\".\",IF(AC71=2,IF(AC66=0,IF('2-way Quiz'!AD67=20,30,'2-way Quiz'!AD67),'2-way Quiz'!AD67),IF(AD71>2,IF(AD$2=\"R\",\".\",'2-way Quiz'!AD67),'2-way Quiz'!AD67)))","v":"."},{"$f":"IF(AD66>2,\".\",IF(AD71=2,IF(AD66=0,IF('2-way Quiz'!AE67=20,30,'2-way Quiz'!AE67),'2-way Quiz'!AE67),IF(AE71>2,IF(AE$2=\"R\",\".\",'2-way Quiz'!AE67),'2-way Quiz'!AE67)))","v":"."},{"$f":"IF(AE66>2,\".\",IF(AE71=2,IF(AE66=0,IF('2-way Quiz'!AF67=20,30,'2-way Quiz'!AF67),'2-way Quiz'!AF67),IF(AF71>2,IF(AF$2=\"R\",\".\",'2-way Quiz'!AF67),'2-way Quiz'!AF67)))","v":"."},{"$f":"IF(AF66>2,\".\",IF(AF71=2,IF(AF66=0,IF('2-way Quiz'!AG67=20,30,'2-way Quiz'!AG67),'2-way Quiz'!AG67),IF(AG71>2,IF(AG$2=\"R\",\".\",'2-way Quiz'!AG67),'2-way Quiz'!AG67)))","v":"."},{"$f":"IF(AG66>2,\".\",IF(AG71=2,IF(AG66=0,IF('2-way Quiz'!AH67=20,30,'2-way Quiz'!AH67),'2-way Quiz'!AH67),IF(AH71>2,IF(AH$2=\"R\",\".\",'2-way Quiz'!AH67),'2-way Quiz'!AH67)))","v":"."},{"$f":"IF(AH66>2,\".\",IF(AH71=2,IF(AH66=0,IF('2-way Quiz'!AI67=20,30,'2-way Quiz'!AI67),'2-way Quiz'!AI67),IF(AI71>2,IF(AI$2=\"R\",\".\",'2-way Quiz'!AI67),'2-way Quiz'!AI67)))","v":"."},{"$f":"IF(AI66>2,\".\",IF(AI71=2,IF(AI66=0,IF('2-way Quiz'!AJ67=20,30,'2-way Quiz'!AJ67),'2-way Quiz'!AJ67),IF(AJ71>2,IF(AJ$2=\"R\",\".\",'2-way Quiz'!AJ67),'2-way Quiz'!AJ67)))","v":"."},{"$f":"IF(AJ66>2,\".\",IF(AJ71=2,IF(AJ66=0,IF('2-way Quiz'!AK67=20,30,'2-way Quiz'!AK67),'2-way Quiz'!AK67),IF(AK71>2,IF(AK$2=\"R\",\".\",'2-way Quiz'!AK67),'2-way Quiz'!AK67)))","v":"."},{"$f":"IF(AK66>2,\".\",IF(AK71=2,IF(AK66=0,IF('2-way Quiz'!AL67=20,30,'2-way Quiz'!AL67),'2-way Quiz'!AL67),IF(AL71>2,IF(AL$2=\"R\",\".\",'2-way Quiz'!AL67),'2-way Quiz'!AL67)))","v":"."},{"$f":"IF(AL66>2,\".\",IF(AL71=2,IF(AL66=0,IF('2-way Quiz'!AM67=20,30,'2-way Quiz'!AM67),'2-way Quiz'!AM67),IF(AM71>2,IF(AM$2=\"R\",\".\",'2-way Quiz'!AM67),'2-way Quiz'!AM67)))","v":"."},{"$f":"IF(AM66>2,\".\",IF(AM71=2,IF(AM66=0,IF('2-way Quiz'!AN67=20,30,'2-way Quiz'!AN67),'2-way Quiz'!AN67),IF(AN71>2,IF(AN$2=\"R\",\".\",'2-way Quiz'!AN67),'2-way Quiz'!AN67)))","v":"."},{"$f":"IF(AN66>2,\".\",IF(AN71=2,IF(AN66=0,IF('2-way Quiz'!AO67=20,30,'2-way Quiz'!AO67),'2-way Quiz'!AO67),IF(AO71>2,IF(AO$2=\"R\",\".\",'2-way Quiz'!AO67),'2-way Quiz'!AO67)))","v":"."},{"$f":"IF(AO66>2,\".\",IF(AO71=2,IF(AO66=0,IF('2-way Quiz'!AP67=20,30,'2-way Quiz'!AP67),'2-way Quiz'!AP67),IF(AP71>2,IF(AP$2=\"R\",\".\",'2-way Quiz'!AP67),'2-way Quiz'!AP67)))","v":"."},{"$f":"IF(AP66>2,\".\",IF(AP71=2,IF(AP66=0,IF('2-way Quiz'!AQ67=20,30,'2-way Quiz'!AQ67),'2-way Quiz'!AQ67),IF(AQ71>2,IF(AQ$2=\"R\",\".\",'2-way Quiz'!AQ67),'2-way Quiz'!AQ67)))","v":"."},{"$f":"IF(AQ66>2,\".\",IF(AQ71=2,IF(AQ66=0,IF('2-way Quiz'!AR67=20,30,'2-way Quiz'!AR67),'2-way Quiz'!AR67),IF(AR71>2,IF(AR$2=\"R\",\".\",'2-way Quiz'!AR67),'2-way Quiz'!AR67)))","v":"."},{"$f":"IF(AR66>2,\".\",IF(AR71=2,IF(AR66=0,IF('2-way Quiz'!AS67=20,30,'2-way Quiz'!AS67),'2-way Quiz'!AS67),IF(AS71>2,IF(AS$2=\"R\",\".\",'2-way Quiz'!AS67),'2-way Quiz'!AS67)))","v":"."},{"$f":"IF(AS66>2,\".\",IF(AS71=2,IF(AS66=0,IF('2-way Quiz'!AT67=20,30,'2-way Quiz'!AT67),'2-way Quiz'!AT67),IF(AT71>2,IF(AT$2=\"R\",\".\",'2-way Quiz'!AT67),'2-way Quiz'!AT67)))","v":"."},{"$f":"IF(AT66>2,\".\",IF(AT71=2,IF(AT66=0,IF('2-way Quiz'!AU67=20,30,'2-way Quiz'!AU67),'2-way Quiz'!AU67),IF(AU71>2,IF(AU$2=\"R\",\".\",'2-way Quiz'!AU67),'2-way Quiz'!AU67)))","v":"."},{"$f":"IF(AU66>2,\".\",IF(AU71=2,IF(AU66=0,IF('2-way Quiz'!AV67=20,30,'2-way Quiz'!AV67),'2-way Quiz'!AV67),IF(AV71>2,IF(AV$2=\"R\",\".\",'2-way Quiz'!AV67),'2-way Quiz'!AV67)))","v":"."},{"$f":"IF(AV66>2,\".\",IF(AV71=2,IF(AV66=0,IF('2-way Quiz'!AW67=20,30,'2-way Quiz'!AW67),'2-way Quiz'!AW67),IF(AW71>2,IF(AW$2=\"R\",\".\",'2-way Quiz'!AW67),'2-way Quiz'!AW67)))","v":"."},{"$f":"IF(AW66>2,\".\",IF(AW71=2,IF(AW66=0,IF('2-way Quiz'!AX67=20,30,'2-way Quiz'!AX67),'2-way Quiz'!AX67),IF(AX71>2,IF(AX$2=\"R\",\".\",'2-way Quiz'!AX67),'2-way Quiz'!AX67)))","v":"."},{"$f":"IF(AX66>2,\".\",IF(AX71=2,IF(AX66=0,IF('2-way Quiz'!AY67=20,30,'2-way Quiz'!AY67),'2-way Quiz'!AY67),IF(AY71>2,IF(AY$2=\"R\",\".\",'2-way Quiz'!AY67),'2-way Quiz'!AY67)))","v":"."},{"$f":"IF(AY66>2,\".\",IF(AY71=2,IF(AY66=0,IF('2-way Quiz'!AZ67=20,30,'2-way Quiz'!AZ67),'2-way Quiz'!AZ67),IF(AZ71>2,IF(AZ$2=\"R\",\".\",'2-way Quiz'!AZ67),'2-way Quiz'!AZ67)))","v":"."},{"$f":"IF(AZ66>2,\".\",IF(AZ71=2,IF(AZ66=0,IF('2-way Quiz'!BA67=20,30,'2-way Quiz'!BA67),'2-way Quiz'!BA67),IF(BA71>2,IF(BA$2=\"R\",\".\",'2-way Quiz'!BA67),'2-way Quiz'!BA67)))","v":"."},{"$f":"IF(BA66>2,\".\",IF(BA71=2,IF(BA66=0,IF('2-way Quiz'!BB67=20,30,'2-way Quiz'!BB67),'2-way Quiz'!BB67),IF(BB71>2,IF(BB$2=\"R\",\".\",'2-way Quiz'!BB67),'2-way Quiz'!BB67)))","v":"."}]
[null,null,{"$f":"'2-way Quiz'!C62","v":"Substitute"},".",{"$f":"IF(D67>2,\".\",IF(D72=2,IF(D67=0,IF('2-way Quiz'!E67=20,30,'2-way Quiz'!E67),'2-way Quiz'!E67),IF(E72>2,IF(E$2=\"R\",\".\",'2-way Quiz'!E67),'2-way Quiz'!E67)))","v":20},{"$f":"IF(E67>2,\".\",IF(E72=2,IF(E67=0,IF('2-way Quiz'!F67=20,30,'2-way Quiz'!F67),'2-way Quiz'!F67),IF(F72>2,IF(F$2=\"R\",\".\",'2-way Quiz'!F67),'2-way Quiz'!F67)))","v":20},{"$f":"IF(F67>2,\".\",IF(F72=2,IF(F67=0,IF('2-way Quiz'!G67=20,30,'2-way Quiz'!G67),'2-way Quiz'!G67),IF(G72>2,IF(G$2=\"R\",\".\",'2-way Quiz'!G67),'2-way Quiz'!G67)))","v":"."},{"$f":"IF(G67>2,\".\",IF(G72=2,IF(G67=0,IF('2-way Quiz'!H67=20,30,'2-way Quiz'!H67),'2-way Quiz'!H67),IF(H72>2,IF(H$2=\"R\",\".\",'2-way Quiz'!H67),'2-way Quiz'!H67)))","v":20},{"$f":"IF(H67>2,\".\",IF(H72=2,IF(H67=0,IF('2-way Quiz'!I67=20,30,'2-way Quiz'!I67),'2-way Quiz'!I67),IF(I72>2,IF(I$2=\"R\",\".\",'2-way Quiz'!I67),'2-way Quiz'!I67)))","v":20},{"$f":"IF(I67>2,\".\",IF(I72=2,IF(I67=0,IF('2-way Quiz'!J67=20,30,'2-way Quiz'!J67),'2-way Quiz'!J67),IF(J72>2,IF(J$2=\"R\",\".\",'2-way Quiz'!J67),'2-way Quiz'!J67)))","v":20},{"$f":"IF(J67>2,\".\",IF(J72=2,IF(J67=0,IF('2-way Quiz'!K67=20,30,'2-way Quiz'!K67),'2-way Quiz'!K67),IF(K72>2,IF(K$2=\"R\",\".\",'2-way Quiz'!K67),'2-way Quiz'!K67)))","v":20},{"$f":"IF(K67>2,\".\",IF(K72=2,IF(K67=0,IF('2-way Quiz'!L67=20,30,'2-way Quiz'!L67),'2-way Quiz'!L67),IF(L72>2,IF(L$2=\"R\",\".\",'2-way Quiz'!L67),'2-way Quiz'!L67)))","v":20},{"$f":"IF(L67>2,\".\",IF(L72=2,IF(L67=0,IF('2-way Quiz'!M67=20,30,'2-way Quiz'!M67),'2-way Quiz'!M67),IF(M72>2,IF(M$2=\"R\",\".\",'2-way Quiz'!M67),'2-way Quiz'!M67)))","v":20},{"$f":"IF(M67>2,\".\",IF(M72=2,IF(M67=0,IF('2-way Quiz'!N67=20,30,'2-way Quiz'!N67),'2-way Quiz'!N67),IF(N72>2,IF(N$2=\"R\",\".\",'2-way Quiz'!N67),'2-way Quiz'!N67)))","v":20},{"$f":"IF(N67>2,\".\",IF(N72=2,IF(N67=0,IF('2-way Quiz'!O67=20,30,'2-way Quiz'!O67),'2-way Quiz'!O67),IF(O72>2,IF(O$2=\"R\",\".\",'2-way Quiz'!O67),'2-way Quiz'!O67)))","v":20},{"$f":"IF(O67>2,\".\",IF(O72=2,IF(O67=0,IF('2-way Quiz'!P67=20,30,'2-way Quiz'!P67),'2-way Quiz'!P67),IF(P72>2,IF(P$2=\"R\",\".\",'2-way Quiz'!P67),'2-way Quiz'!P67)))","v":20},{"$f":"IF(P67>2,\".\",IF(P72=2,IF(P67=0,IF('2-way Quiz'!Q67=20,30,'2-way Quiz'!Q67),'2-way Quiz'!Q67),IF(Q72>2,IF(Q$2=\"R\",\".\",'2-way Quiz'!Q67),'2-way Quiz'!Q67)))","v":10},{"$f":"IF(Q67>2,\".\",IF(Q72=2,IF(Q67=0,IF('2-way Quiz'!R67=20,30,'2-way Quiz'!R67),'2-way Quiz'!R67),IF(R72>2,IF(R$2=\"R\",\".\",'2-way Quiz'!R67),'2-way Quiz'!R67)))","v":20},{"$f":"IF(R67>2,\".\",IF(R72=2,IF(R67=0,IF('2-way Quiz'!S67=20,30,'2-way Quiz'!S67),'2-way Quiz'!S67),IF(S72>2,IF(S$2=\"R\",\".\",'2-way Quiz'!S67),'2-way Quiz'!S67)))","v":20},{"$f":"IF(S67>2,\".\",IF(S72=2,IF(S67=0,IF('2-way Quiz'!T67=20,30,'2-way Quiz'!T67),'2-way Quiz'!T67),IF(T72>2,IF(T$2=\"R\",\".\",'2-way Quiz'!T67),'2-way Quiz'!T67)))","v":10},{"$f":"IF(T67>2,\".\",IF(T72=2,IF(T67=0,IF('2-way Quiz'!U67=20,30,'2-way Quiz'!U67),'2-way Quiz'!U67),IF(U72>2,IF(U$2=\"R\",\".\",'2-way Quiz'!U67),'2-way Quiz'!U67)))","v":20},{"$f":"IF(U67>2,\".\",IF(U72=2,IF(U67=0,IF('2-way Quiz'!V67=20,30,'2-way Quiz'!V67),'2-way Quiz'!V67),IF(V72>2,IF(V$2=\"R\",\".\",'2-way Quiz'!V67),'2-way Quiz'!V67)))","v":20},{"$f":"IF(V67>2,\".\",IF(V72=2,IF(V67=0,IF('2-way Quiz'!W67=20,30,'2-way Quiz'!W67),'2-way Quiz'!W67),IF(W72>2,IF(W$2=\"R\",\".\",'2-way Quiz'!W67),'2-way Quiz'!W67)))","v":10},{"$f":"IF(W67>2,\".\",IF(W72=2,IF(W67=0,IF('2-way Quiz'!X67=20,30,'2-way Quiz'!X67),'2-way Quiz'!X67),IF(X72>2,IF(X$2=\"R\",\".\",'2-way Quiz'!X67),'2-way Quiz'!X67)))","v":20},{"$f":"IF(X67>2,\".\",IF(X72=2,IF(X67=0,IF('2-way Quiz'!Y67=20,30,'2-way Quiz'!Y67),'2-way Quiz'!Y67),IF(Y72>2,IF(Y$2=\"R\",\".\",'2-way Quiz'!Y67),'2-way Quiz'!Y67)))","v":"."},{"$f":"IF(Y67>2,\".\",IF(Y72=2,IF(Y67=0,IF('2-way Quiz'!Z67=20,30,'2-way Quiz'!Z67),'2-way Quiz'!Z67),IF(Z72>2,IF(Z$2=\"R\",\".\",'2-way Quiz'!Z67),'2-way Quiz'!Z67)))","v":"."},{"$f":"IF(Z67>2,\".\",IF(Z72=2,IF(Z67=0,IF('2-way Quiz'!AA67=20,30,'2-way Quiz'!AA67),'2-way Quiz'!AA67),IF(AA72>2,IF(AA$2=\"R\",\".\",'2-way Quiz'!AA67),'2-way Quiz'!AA67)))","v":"."},{"$f":"IF(AA67>2,\".\",IF(AA72=2,IF(AA67=0,IF('2-way Quiz'!AB67=20,30,'2-way Quiz'!AB67),'2-way Quiz'!AB67),IF(AB72>2,IF(AB$2=\"R\",\".\",'2-way Quiz'!AB67),'2-way Quiz'!AB67)))","v":"."},{"$f":"IF(AB67>2,\".\",IF(AB72=2,IF(AB67=0,IF('2-way Quiz'!AC67=20,30,'2-way Quiz'!AC67),'2-way Quiz'!AC67),IF(AC72>2,IF(AC$2=\"R\",\".\",'2-way Quiz'!AC67),'2-way Quiz'!AC67)))","v":"."},{"$f":"IF(AC67>2,\".\",IF(AC72=2,IF(AC67=0,IF('2-way Quiz'!AD67=20,30,'2-way Quiz'!AD67),'2-way Quiz'!AD67),IF(AD72>2,IF(AD$2=\"R\",\".\",'2-way Quiz'!AD67),'2-way Quiz'!AD67)))","v":"."},{"$f":"IF(AD67>2,\".\",IF(AD72=2,IF(AD67=0,IF('2-way Quiz'!AE67=20,30,'2-way Quiz'!AE67),'2-way Quiz'!AE67),IF(AE72>2,IF(AE$2=\"R\",\".\",'2-way Quiz'!AE67),'2-way Quiz'!AE67)))","v":"."},{"$f":"IF(AE67>2,\".\",IF(AE72=2,IF(AE67=0,IF('2-way Quiz'!AF67=20,30,'2-way Quiz'!AF67),'2-way Quiz'!AF67),IF(AF72>2,IF(AF$2=\"R\",\".\",'2-way Quiz'!AF67),'2-way Quiz'!AF67)))","v":"."},{"$f":"IF(AF67>2,\".\",IF(AF72=2,IF(AF67=0,IF('2-way Quiz'!AG67=20,30,'2-way Quiz'!AG67),'2-way Quiz'!AG67),IF(AG72>2,IF(AG$2=\"R\",\".\",'2-way Quiz'!AG67),'2-way Quiz'!AG67)))","v":"."},{"$f":"IF(AG67>2,\".\",IF(AG72=2,IF(AG67=0,IF('2-way Quiz'!AH67=20,30,'2-way Quiz'!AH67),'2-way Quiz'!AH67),IF(AH72>2,IF(AH$2=\"R\",\".\",'2-way Quiz'!AH67),'2-way Quiz'!AH67)))","v":"."},{"$f":"IF(AH67>2,\".\",IF(AH72=2,IF(AH67=0,IF('2-way Quiz'!AI67=20,30,'2-way Quiz'!AI67),'2-way Quiz'!AI67),IF(AI72>2,IF(AI$2=\"R\",\".\",'2-way Quiz'!AI67),'2-way Quiz'!AI67)))","v":"."},{"$f":"IF(AI67>2,\".\",IF(AI72=2,IF(AI67=0,IF('2-way Quiz'!AJ67=20,30,'2-way Quiz'!AJ67),'2-way Quiz'!AJ67),IF(AJ72>2,IF(AJ$2=\"R\",\".\",'2-way Quiz'!AJ67),'2-way Quiz'!AJ67)))","v":"."},{"$f":"IF(AJ67>2,\".\",IF(AJ72=2,IF(AJ67=0,IF('2-way Quiz'!AK67=20,30,'2-way Quiz'!AK67),'2-way Quiz'!AK67),IF(AK72>2,IF(AK$2=\"R\",\".\",'2-way Quiz'!AK67),'2-way Quiz'!AK67)))","v":"."},{"$f":"IF(AK67>2,\".\",IF(AK72=2,IF(AK67=0,IF('2-way Quiz'!AL67=20,30,'2-way Quiz'!AL67),'2-way Quiz'!AL67),IF(AL72>2,IF(AL$2=\"R\",\".\",'2-way Quiz'!AL67),'2-way Quiz'!AL67)))","v":"."},{"$f":"IF(AL67>2,\".\",IF(AL72=2,IF(AL67=0,IF('2-way Quiz'!AM67=20,30,'2-way Quiz'!AM67),'2-way Quiz'!AM67),IF(AM72>2,IF(AM$2=\"R\",\".\",'2-way Quiz'!AM67),'2-way Quiz'!AM67)))","v":"."},{"$f":"IF(AM67>2,\".\",IF(AM72=2,IF(AM67=0,IF('2-way Quiz'!AN67=20,30,'2-way Quiz'!AN67),'2-way Quiz'!AN67),IF(AN72>2,IF(AN$2=\"R\",\".\",'2-way Quiz'!AN67),'2-way Quiz'!AN67)))","v":"."},{"$f":"IF(AN67>2,\".\",IF(AN72=2,IF(AN67=0,IF('2-way Quiz'!AO67=20,30,'2-way Quiz'!AO67),'2-way Quiz'!AO67),IF(AO72>2,IF(AO$2=\"R\",\".\",'2-way Quiz'!AO67),'2-way Quiz'!AO67)))","v":"."},{"$f":"IF(AO67>2,\".\",IF(AO72=2,IF(AO67=0,IF('2-way Quiz'!AP67=20,30,'2-way Quiz'!AP67),'2-way Quiz'!AP67),IF(AP72>2,IF(AP$2=\"R\",\".\",'2-way Quiz'!AP67),'2-way Quiz'!AP67)))","v":"."},{"$f":"IF(AP67>2,\".\",IF(AP72=2,IF(AP67=0,IF('2-way Quiz'!AQ67=20,30,'2-way Quiz'!AQ67),'2-way Quiz'!AQ67),IF(AQ72>2,IF(AQ$2=\"R\",\".\",'2-way Quiz'!AQ67),'2-way Quiz'!AQ67)))","v":"."},{"$f":"IF(AQ67>2,\".\",IF(AQ72=2,IF(AQ67=0,IF('2-way Quiz'!AR67=20,30,'2-way Quiz'!AR67),'2-way Quiz'!AR67),IF(AR72>2,IF(AR$2=\"R\",\".\",'2-way Quiz'!AR67),'2-way Quiz'!AR67)))","v":"."},{"$f":"IF(AR67>2,\".\",IF(AR72=2,IF(AR67=0,IF('2-way Quiz'!AS67=20,30,'2-way Quiz'!AS67),'2-way Quiz'!AS67),IF(AS72>2,IF(AS$2=\"R\",\".\",'2-way Quiz'!AS67),'2-way Quiz'!AS67)))","v":"."},{"$f":"IF(AS67>2,\".\",IF(AS72=2,IF(AS67=0,IF('2-way Quiz'!AT67=20,30,'2-way Quiz'!AT67),'2-way Quiz'!AT67),IF(AT72>2,IF(AT$2=\"R\",\".\",'2-way Quiz'!AT67),'2-way Quiz'!AT67)))","v":"."},{"$f":"IF(AT67>2,\".\",IF(AT72=2,IF(AT67=0,IF('2-way Quiz'!AU67=20,30,'2-way Quiz'!AU67),'2-way Quiz'!AU67),IF(AU72>2,IF(AU$2=\"R\",\".\",'2-way Quiz'!AU67),'2-way Quiz'!AU67)))","v":"."},{"$f":"IF(AU67>2,\".\",IF(AU72=2,IF(AU67=0,IF('2-way Quiz'!AV67=20,30,'2-way Quiz'!AV67),'2-way Quiz'!AV67),IF(AV72>2,IF(AV$2=\"R\",\".\",'2-way Quiz'!AV67),'2-way Quiz'!AV67)))","v":"."},{"$f":"IF(AV67>2,\".\",IF(AV72=2,IF(AV67=0,IF('2-way Quiz'!AW67=20,30,'2-way Quiz'!AW67),'2-way Quiz'!AW67),IF(AW72>2,IF(AW$2=\"R\",\".\",'2-way Quiz'!AW67),'2-way Quiz'!AW67)))","v":"."},{"$f":"IF(AW67>2,\".\",IF(AW72=2,IF(AW67=0,IF('2-way Quiz'!AX67=20,30,'2-way Quiz'!AX67),'2-way Quiz'!AX67),IF(AX72>2,IF(AX$2=\"R\",\".\",'2-way Quiz'!AX67),'2-way Quiz'!AX67)))","v":"."},{"$f":"IF(AX67>2,\".\",IF(AX72=2,IF(AX67=0,IF('2-way Quiz'!AY67=20,30,'2-way Quiz'!AY67),'2-way Quiz'!AY67),IF(AY72>2,IF(AY$2=\"R\",\".\",'2-way Quiz'!AY67),'2-way Quiz'!AY67)))","v":"."},{"$f":"IF(AY67>2,\".\",IF(AY72=2,IF(AY67=0,IF('2-way Quiz'!AZ67=20,30,'2-way Quiz'!AZ67),'2-way Quiz'!AZ67),IF(AZ72>2,IF(AZ$2=\"R\",\".\",'2-way Quiz'!AZ67),'2-way Quiz'!AZ67)))","v":"."},{"$f":"IF(AZ67>2,\".\",IF(AZ72=2,IF(AZ67=0,IF('2-way Quiz'!BA67=20,30,'2-way Quiz'!BA67),'2-way Quiz'!BA67),IF(BA72>2,IF(BA$2=\"R\",\".\",'2-way Quiz'!BA67),'2-way Quiz'!BA67)))","v":"."},{"$f":"IF(BA67>2,\".\",IF(BA72=2,IF(BA67=0,IF('2-way Quiz'!BB67=20,30,'2-way Quiz'!BB67),'2-way Quiz'!BB67),IF(BB72>2,IF(BB$2=\"R\",\".\",'2-way Quiz'!BB67),'2-way Quiz'!BB67)))","v":"."}]
[]
[null,null,{"$f":"CONCATENATE(\"# of errors \",C59)","v":"# of errors Quizzer #1"},{"$f":"IF('2-way Quiz'!D59=\"E\",1,0)","v":0},{"$f":"IF('2-way Quiz'!E59=\"E\",D64+1,D64)","v":0},{"$f":"IF('2-way Quiz'!F59=\"E\",E64+1,E64)","v":0},{"$f":"IF('2-way Quiz'!G59=\"E\",F64+1,F64)","v":0},{"$f":"IF('2-way Quiz'!H59=\"E\",G64+1,G64)","v":0},{"$f":"IF('2-way Quiz'!I59=\"E\",H64+1,H64)","v":0},{"$f":"IF('2-way Quiz'!J59=\"E\",I64+1,I64)","v":0},{"$f":"IF('2-way Quiz'!K59=\"E\",J64+1,J64)","v":0},{"$f":"IF('2-way Quiz'!L59=\"E\",K64+1,K64)","v":0},{"$f":"IF('2-way Quiz'!M59=\"E\",L64+1,L64)","v":0},{"$f":"IF('2-way Quiz'!N59=\"E\",M64+1,M64)","v":0},{"$f":"IF('2-way Quiz'!O59=\"E\",N64+1,N64)","v":0},{"$f":"IF('2-way Quiz'!P59=\"E\",O64+1,O64)","v":0},{"$f":"IF('2-way Quiz'!Q59=\"E\",P64+1,P64)","v":0},{"$f":"IF('2-way Quiz'!R59=\"E\",Q64+1,Q64)","v":0},{"$f":"IF('2-way Quiz'!S59=\"E\",R64+1,R64)","v":0},{"$f":"IF('2-way Quiz'!T59=\"E\",S64+1,S64)","v":0},{"$f":"IF('2-way Quiz'!U59=\"E\",T64+1,T64)","v":0},{"$f":"IF('2-way Quiz'!V59=\"E\",U64+1,U64)","v":0},{"$f":"IF('2-way Quiz'!W59=\"E\",V64+1,V64)","v":0},{"$f":"IF('2-way Quiz'!X59=\"E\",W64+1,W64)","v":0},{"$f":"IF('2-way Quiz'!Y59=\"E\",X64+1,X64)","v":0},{"$f":"IF('2-way Quiz'!Z59=\"E\",Y64+1,Y64)","v":0},{"$f":"IF('2-way Quiz'!AA59=\"E\",Z64+1,Z64)","v":0},{"$f":"IF('2-way Quiz'!AB59=\"E\",AA64+1,AA64)","v":0},{"$f":"IF('2-way Quiz'!AC59=\"E\",AB64+1,AB64)","v":0},{"$f":"IF('2-way Quiz'!AD59=\"E\",AC64+1,AC64)","v":0},{"$f":"IF('2-way Quiz'!AE59=\"E\",AD64+1,AD64)","v":0},{"$f":"IF('2-way Quiz'!AF59=\"E\",AE64+1,AE64)","v":0},{"$f":"IF('2-way Quiz'!AG59=\"E\",AF64+1,AF64)","v":0},{"$f":"IF('2-way Quiz'!AH59=\"E\",AG64+1,AG64)","v":0},{"$f":"IF('2-way Quiz'!AI59=\"E\",AH64+1,AH64)","v":0},{"$f":"IF('2-way Quiz'!AJ59=\"E\",AI64+1,AI64)","v":0},{"$f":"IF('2-way Quiz'!AK59=\"E\",AJ64+1,AJ64)","v":0},{"$f":"IF('2-way Quiz'!AL59=\"E\",AK64+1,AK64)","v":0},{"$f":"IF('2-way Quiz'!AM59=\"E\",AL64+1,AL64)","v":0},{"$f":"IF('2-way Quiz'!AN59=\"E\",AM64+1,AM64)","v":0},{"$f":"IF('2-way Quiz'!AO59=\"E\",AN64+1,AN64)","v":0},{"$f":"IF('2-way Quiz'!AP59=\"E\",AO64+1,AO64)","v":0},{"$f":"IF('2-way Quiz'!AQ59=\"E\",AP64+1,AP64)","v":0},{"$f":"IF('2-way Quiz'!AR59=\"E\",AQ64+1,AQ64)","v":0},{"$f":"IF('2-way Quiz'!AS59=\"E\",AR64+1,AR64)","v":0},{"$f":"IF('2-way Quiz'!AT59=\"E\",AS64+1,AS64)","v":0},{"$f":"IF('2-way Quiz'!AU59=\"E\",AT64+1,AT64)","v":0},{"$f":"IF('2-way Quiz'!AV59=\"E\",AU64+1,AU64)","v":0},{"$f":"IF('2-way Quiz'!AW59=\"E\",AV64+1,AV64)","v":0},{"$f":"IF('2-way Quiz'!AX59=\"E\",AW64+1,AW64)","v":0},{"$f":"IF('2-way Quiz'!AY59=\"E\",AX64+1,AX64)","v":0},{"$f":"IF('2-way Quiz'!AZ59=\"E\",AY64+1,AY64)","v":0},{"$f":"IF('2-way Quiz'!BA59=\"E\",AZ64+1,AZ64)","v":0},{"$f":"IF('2-way Quiz'!BB59=\"E\",BA64+1,BA64)","v":0}]
[null,null,{"$f":"CONCATENATE(\"# of errors \",C60)","v":"# of errors Quizzer #2"},{"$f":"IF('2-way Quiz'!D60=\"E\",1,0)","v":0},{"$f":"IF('2-way Quiz'!E60=\"E\",D65+1,D65)","v":0},{"$f":"IF('2-way Quiz'!F60=\"E\",E65+1,E65)","v":0},{"$f":"IF('2-way Quiz'!G60=\"E\",F65+1,F65)","v":0},{"$f":"IF('2-way Quiz'!H60=\"E\",G65+1,G65)","v":0},{"$f":"IF('2-way Quiz'!I60=\"E\",H65+1,H65)","v":0},{"$f":"IF('2-way Quiz'!J60=\"E\",I65+1,I65)","v":0},{"$f":"IF('2-way Quiz'!K60=\"E\",J65+1,J65)","v":0},{"$f":"IF('2-way Quiz'!L60=\"E\",K65+1,K65)","v":0},{"$f":"IF('2-way Quiz'!M60=\"E\",L65+1,L65)","v":0},{"$f":"IF('2-way Quiz'!N60=\"E\",M65+1,M65)","v":0},{"$f":"IF('2-way Quiz'!O60=\"E\",N65+1,N65)","v":0},{"$f":"IF('2-way Quiz'!P60=\"E\",O65+1,O65)","v":0},{"$f":"IF('2-way Quiz'!Q60=\"E\",P65+1,P65)","v":0},{"$f":"IF('2-way Quiz'!R60=\"E\",Q65+1,Q65)","v":0},{"$f":"IF('2-way Quiz'!S60=\"E\",R65+1,R65)","v":0},{"$f":"IF('2-way Quiz'!T60=\"E\",S65+1,S65)","v":0},{"$f":"IF('2-way Quiz'!U60=\"E\",T65+1,T65)","v":0},{"$f":"IF('2-way Quiz'!V60=\"E\",U65+1,U65)","v":0},{"$f":"IF('2-way Quiz'!W60=\"E\",V65+1,V65)","v":0},{"$f":"IF('2-way Quiz'!X60=\"E\",W65+1,W65)","v":0},{"$f":"IF('2-way Quiz'!Y60=\"E\",X65+1,X65)","v":0},{"$f":"IF('2-way Quiz'!Z60=\"E\",Y65+1,Y65)","v":0},{"$f":"IF('2-way Quiz'!AA60=\"E\",Z65+1,Z65)","v":0},{"$f":"IF('2-way Quiz'!AB60=\"E\",AA65+1,AA65)","v":0},{"$f":"IF('2-way Quiz'!AC60=\"E\",AB65+1,AB65)","v":0},{"$f":"IF('2-way Quiz'!AD60=\"E\",AC65+1,AC65)","v":0},{"$f":"IF('2-way Quiz'!AE60=\"E\",AD65+1,AD65)","v":0},{"$f":"IF('2-way Quiz'!AF60=\"E\",AE65+1,AE65)","v":0},{"$f":"IF('2-way Quiz'!AG60=\"E\",AF65+1,AF65)","v":0},{"$f":"IF('2-way Quiz'!AH60=\"E\",AG65+1,AG65)","v":0},{"$f":"IF('2-way Quiz'!AI60=\"E\",AH65+1,AH65)","v":0},{"$f":"IF('2-way Quiz'!AJ60=\"E\",AI65+1,AI65)","v":0},{"$f":"IF('2-way Quiz'!AK60=\"E\",AJ65+1,AJ65)","v":0},{"$f":"IF('2-way Quiz'!AL60=\"E\",AK65+1,AK65)","v":0},{"$f":"IF('2-way Quiz'!AM60=\"E\",AL65+1,AL65)","v":0},{"$f":"IF('2-way Quiz'!AN60=\"E\",AM65+1,AM65)","v":0},{"$f":"IF('2-way Quiz'!AO60=\"E\",AN65+1,AN65)","v":0},{"$f":"IF('2-way Quiz'!AP60=\"E\",AO65+1,AO65)","v":0},{"$f":"IF('2-way Quiz'!AQ60=\"E\",AP65+1,AP65)","v":0},{"$f":"IF('2-way Quiz'!AR60=\"E\",AQ65+1,AQ65)","v":0},{"$f":"IF('2-way Quiz'!AS60=\"E\",AR65+1,AR65)","v":0},{"$f":"IF('2-way Quiz'!AT60=\"E\",AS65+1,AS65)","v":0},{"$f":"IF('2-way Quiz'!AU60=\"E\",AT65+1,AT65)","v":0},{"$f":"IF('2-way Quiz'!AV60=\"E\",AU65+1,AU65)","v":0},{"$f":"IF('2-way Quiz'!AW60=\"E\",AV65+1,AV65)","v":0},{"$f":"IF('2-way Quiz'!AX60=\"E\",AW65+1,AW65)","v":0},{"$f":"IF('2-way Quiz'!AY60=\"E\",AX65+1,AX65)","v":0},{"$f":"IF('2-way Quiz'!AZ60=\"E\",AY65+1,AY65)","v":0},{"$f":"IF('2-way Quiz'!BA60=\"E\",AZ65+1,AZ65)","v":0},{"$f":"IF('2-way Quiz'!BB60=\"E\",BA65+1,BA65)","v":0}]
[null,null,{"$f":"CONCATENATE(\"# of errors \",C61)","v":"# of errors Quizzer #3"},{"$f":"IF('2-way Quiz'!D61=\"E\",1,0)","v":0},{"$f":"IF('2-way Quiz'!E61=\"E\",D66+1,D66)","v":0},{"$f":"IF('2-way Quiz'!F61=\"E\",E66+1,E66)","v":1},{"$f":"IF('2-way Quiz'!G61=\"E\",F66+1,F66)","v":1},{"$f":"IF('2-way Quiz'!H61=\"E\",G66+1,G66)","v":1},{"$f":"IF('2-way Quiz'!I61=\"E\",H66+1,H66)","v":1},{"$f":"IF('2-way Quiz'!J61=\"E\",I66+1,I66)","v":1},{"$f":"IF('2-way Quiz'!K61=\"E\",J66+1,J66)","v":1},{"$f":"IF('2-way Quiz'!L61=\"E\",K66+1,K66)","v":1},{"$f":"IF('2-way Quiz'!M61=\"E\",L66+1,L66)","v":1},{"$f":"IF('2-way Quiz'!N61=\"E\",M66+1,M66)","v":1},{"$f":"IF('2-way Quiz'!O61=\"E\",N66+1,N66)","v":1},{"$f":"IF('2-way Quiz'!P61=\"E\",O66+1,O66)","v":1},{"$f":"IF('2-way Quiz'!Q61=\"E\",P66+1,P66)","v":1},{"$f":"IF('2-way Quiz'!R61=\"E\",Q66+1,Q66)","v":1},{"$f":"IF('2-way Quiz'!S61=\"E\",R66+1,R66)","v":1},{"$f":"IF('2-way Quiz'!T61=\"E\",S66+1,S66)","v":1},{"$f":"IF('2-way Quiz'!U61=\"E\",T66+1,T66)","v":1},{"$f":"IF('2-way Quiz'!V61=\"E\",U66+1,U66)","v":1},{"$f":"IF('2-way Quiz'!W61=\"E\",V66+1,V66)","v":1},{"$f":"IF('2-way Quiz'!X61=\"E\",W66+1,W66)","v":1},{"$f":"IF('2-way Quiz'!Y61=\"E\",X66+1,X66)","v":1},{"$f":"IF('2-way Quiz'!Z61=\"E\",Y66+1,Y66)","v":1},{"$f":"IF('2-way Quiz'!AA61=\"E\",Z66+1,Z66)","v":1},{"$f":"IF('2-way Quiz'!AB61=\"E\",AA66+1,AA66)","v":1},{"$f":"IF('2-way Quiz'!AC61=\"E\",AB66+1,AB66)","v":1},{"$f":"IF('2-way Quiz'!AD61=\"E\",AC66+1,AC66)","v":1},{"$f":"IF('2-way Quiz'!AE61=\"E\",AD66+1,AD66)","v":1},{"$f":"IF('2-way Quiz'!AF61=\"E\",AE66+1,AE66)","v":1},{"$f":"IF('2-way Quiz'!AG61=\"E\",AF66+1,AF66)","v":1},{"$f":"IF('2-way Quiz'!AH61=\"E\",AG66+1,AG66)","v":1},{"$f":"IF('2-way Quiz'!AI61=\"E\",AH66+1,AH66)","v":1},{"$f":"IF('2-way Quiz'!AJ61=\"E\",AI66+1,AI66)","v":1},{"$f":"IF('2-way Quiz'!AK61=\"E\",AJ66+1,AJ66)","v":1},{"$f":"IF('2-way Quiz'!AL61=\"E\",AK66+1,AK66)","v":1},{"$f":"IF('2-way Quiz'!AM61=\"E\",AL66+1,AL66)","v":1},{"$f":"IF('2-way Quiz'!AN61=\"E\",AM66+1,AM66)","v":1},{"$f":"IF('2-way Quiz'!AO61=\"E\",AN66+1,AN66)","v":1},{"$f":"IF('2-way Quiz'!AP61=\"E\",AO66+1,AO66)","v":1},{"$f":"IF('2-way Quiz'!AQ61=\"E\",AP66+1,AP66)","v":1},{"$f":"IF('2-way Quiz'!AR61=\"E\",AQ66+1,AQ66)","v":1},{"$f":"IF('2-way Quiz'!AS61=\"E\",AR66+1,AR66)","v":1},{"$f":"IF('2-way Quiz'!AT61=\"E\",AS66+1,AS66)","v":1},{"$f":"IF('2-way Quiz'!AU61=\"E\",AT66+1,AT66)","v":1},{"$f":"IF('2-way Quiz'!AV61=\"E\",AU66+1,AU66)","v":1},{"$f":"IF('2-way Quiz'!AW61=\"E\",AV66+1,AV66)","v":1},{"$f":"IF('2-way Quiz'!AX61=\"E\",AW66+1,AW66)","v":1},{"$f":"IF('2-way Quiz'!AY61=\"E\",AX66+1,AX66)","v":1},{"$f":"IF('2-way Quiz'!AZ61=\"E\",AY66+1,AY66)","v":1},{"$f":"IF('2-way Quiz'!BA61=\"E\",AZ66+1,AZ66)","v":1},{"$f":"IF('2-way Quiz'!BB61=\"E\",BA66+1,BA66)","v":1}]
[null,null,{"$f":"CONCATENATE(\"# of errors \",C62)","v":"# of errors Substitute"},{"$f":"IF('2-way Quiz'!D62=\"E\",1,0)","v":0},{"$f":"IF('2-way Quiz'!E62=\"E\",D67+1,D67)","v":0},{"$f":"IF('2-way Quiz'!F62=\"E\",E67+1,E67)","v":0},{"$f":"IF('2-way Quiz'!G62=\"E\",F67+1,F67)","v":0},{"$f":"IF('2-way Quiz'!H62=\"E\",G67+1,G67)","v":0},{"$f":"IF('2-way Quiz'!I62=\"E\",H67+1,H67)","v":0},{"$f":"IF('2-way Quiz'!J62=\"E\",I67+1,I67)","v":0},{"$f":"IF('2-way Quiz'!K62=\"E\",J67+1,J67)","v":0},{"$f":"IF('2-way Quiz'!L62=\"E\",K67+1,K67)","v":0},{"$f":"IF('2-way Quiz'!M62=\"E\",L67+1,L67)","v":0},{"$f":"IF('2-way Quiz'!N62=\"E\",M67+1,M67)","v":0},{"$f":"IF('2-way Quiz'!O62=\"E\",N67+1,N67)","v":0},{"$f":"IF('2-way Quiz'!P62=\"E\",O67+1,O67)","v":0},{"$f":"IF('2-way Quiz'!Q62=\"E\",P67+1,P67)","v":0},{"$f":"IF('2-way Quiz'!R62=\"E\",Q67+1,Q67)","v":0},{"$f":"IF('2-way Quiz'!S62=\"E\",R67+1,R67)","v":0},{"$f":"IF('2-way Quiz'!T62=\"E\",S67+1,S67)","v":0},{"$f":"IF('2-way Quiz'!U62=\"E\",T67+1,T67)","v":0},{"$f":"IF('2-way Quiz'!V62=\"E\",U67+1,U67)","v":0},{"$f":"IF('2-way Quiz'!W62=\"E\",V67+1,V67)","v":0},{"$f":"IF('2-way Quiz'!X62=\"E\",W67+1,W67)","v":0},{"$f":"IF('2-way Quiz'!Y62=\"E\",X67+1,X67)","v":0},{"$f":"IF('2-way Quiz'!Z62=\"E\",Y67+1,Y67)","v":0},{"$f":"IF('2-way Quiz'!AA62=\"E\",Z67+1,Z67)","v":0},{"$f":"IF('2-way Quiz'!AB62=\"E\",AA67+1,AA67)","v":0},{"$f":"IF('2-way Quiz'!AC62=\"E\",AB67+1,AB67)","v":0},{"$f":"IF('2-way Quiz'!AD62=\"E\",AC67+1,AC67)","v":0},{"$f":"IF('2-way Quiz'!AE62=\"E\",AD67+1,AD67)","v":0},{"$f":"IF('2-way Quiz'!AF62=\"E\",AE67+1,AE67)","v":0},{"$f":"IF('2-way Quiz'!AG62=\"E\",AF67+1,AF67)","v":0},{"$f":"IF('2-way Quiz'!AH62=\"E\",AG67+1,AG67)","v":0},{"$f":"IF('2-way Quiz'!AI62=\"E\",AH67+1,AH67)","v":0},{"$f":"IF('2-way Quiz'!AJ62=\"E\",AI67+1,AI67)","v":0},{"$f":"IF('2-way Quiz'!AK62=\"E\",AJ67+1,AJ67)","v":0},{"$f":"IF('2-way Quiz'!AL62=\"E\",AK67+1,AK67)","v":0},{"$f":"IF('2-way Quiz'!AM62=\"E\",AL67+1,AL67)","v":0},{"$f":"IF('2-way Quiz'!AN62=\"E\",AM67+1,AM67)","v":0},{"$f":"IF('2-way Quiz'!AO62=\"E\",AN67+1,AN67)","v":0},{"$f":"IF('2-way Quiz'!AP62=\"E\",AO67+1,AO67)","v":0},{"$f":"IF('2-way Quiz'!AQ62=\"E\",AP67+1,AP67)","v":0},{"$f":"IF('2-way Quiz'!AR62=\"E\",AQ67+1,AQ67)","v":0},{"$f":"IF('2-way Quiz'!AS62=\"E\",AR67+1,AR67)","v":0},{"$f":"IF('2-way Quiz'!AT62=\"E\",AS67+1,AS67)","v":0},{"$f":"IF('2-way Quiz'!AU62=\"E\",AT67+1,AT67)","v":0},{"$f":"IF('2-way Quiz'!AV62=\"E\",AU67+1,AU67)","v":0},{"$f":"IF('2-way Quiz'!AW62=\"E\",AV67+1,AV67)","v":0},{"$f":"IF('2-way Quiz'!AX62=\"E\",AW67+1,AW67)","v":0},{"$f":"IF('2-way Quiz'!AY62=\"E\",AX67+1,AX67)","v":0},{"$f":"IF('2-way Quiz'!AZ62=\"E\",AY67+1,AY67)","v":0},{"$f":"IF('2-way Quiz'!BA62=\"E\",AZ67+1,AZ67)","v":0},{"$f":"IF('2-way Quiz'!BB62=\"E\",BA67+1,BA67)","v":0}]
[]
[null,null,{"$f":"CONCATENATE(\"#20's \",C59)","v":"#20's Quizzer #1"},{"$f":"COUNTIF('2-way Quiz'!$D59:D59,20)+COUNTIF('2-way Quiz'!$D59:D59,30)","v":0},{"$f":"COUNTIF('2-way Quiz'!$D59:E59,20)+COUNTIF('2-way Quiz'!$D59:E59,30)","v":0},{"$f":"COUNTIF('2-way Quiz'!$D59:F59,20)+COUNTIF('2-way Quiz'!$D59:F59,30)","v":0},{"$f":"COUNTIF('2-way Quiz'!$D59:G59,20)+COUNTIF('2-way Quiz'!$D59:G59,30)","v":0},{"$f":"COUNTIF('2-way Quiz'!$D59:H59,20)+COUNTIF('2-way Quiz'!$D59:H59,30)","v":0},{"$f":"COUNTIF('2-way Quiz'!$D59:I59,20)+COUNTIF('2-way Quiz'!$D59:I59,30)","v":0},{"$f":"COUNTIF('2-way Quiz'!$D59:J59,20)+COUNTIF('2-way Quiz'!$D59:J59,30)","v":0},{"$f":"COUNTIF('2-way Quiz'!$D59:K59,20)+COUNTIF('2-way Quiz'!$D59:K59,30)","v":0},{"$f":"COUNTIF('2-way Quiz'!$D59:L59,20)+COUNTIF('2-way Quiz'!$D59:L59,30)","v":0},{"$f":"COUNTIF('2-way Quiz'!$D59:M59,20)+COUNTIF('2-way Quiz'!$D59:M59,30)","v":0},{"$f":"COUNTIF('2-way Quiz'!$D59:N59,20)+COUNTIF('2-way Quiz'!$D59:N59,30)","v":0},{"$f":"COUNTIF('2-way Quiz'!$D59:O59,20)+COUNTIF('2-way Quiz'!$D59:O59,30)","v":0},{"$f":"COUNTIF('2-way Quiz'!$D59:P59,20)+COUNTIF('2-way Quiz'!$D59:P59,30)","v":0},{"$f":"COUNTIF('2-way Quiz'!$D59:Q59,20)+COUNTIF('2-way Quiz'!$D59:Q59,30)","v":0},{"$f":"COUNTIF('2-way Quiz'!$D59:R59,20)+COUNTIF('2-way Quiz'!$D59:R59,30)","v":0},{"$f":"COUNTIF('2-way Quiz'!$D59:S59,20)+COUNTIF('2-way Quiz'!$D59:S59,30)","v":0},{"$f":"COUNTIF('2-way Quiz'!$D59:T59,20)+COUNTIF('2-way Quiz'!$D59:T59,30)","v":0},{"$f":"COUNTIF('2-way Quiz'!$D59:U59,20)+COUNTIF('2-way Quiz'!$D59:U59,30)","v":0},{"$f":"COUNTIF('2-way Quiz'!$D59:V59,20)+COUNTIF('2-way Quiz'!$D59:V59,30)","v":0},{"$f":"COUNTIF('2-way Quiz'!$D59:W59,20)+COUNTIF('2-way Quiz'!$D59:W59,30)","v":0},{"$f":"COUNTIF('2-way Quiz'!$D59:X59,20)+COUNTIF('2-way Quiz'!$D59:X59,30)","v":0},{"$f":"COUNTIF('2-way Quiz'!$D59:Y59,20)+COUNTIF('2-way Quiz'!$D59:Y59,30)","v":0},{"$f":"COUNTIF('2-way Quiz'!$D59:Z59,20)+COUNTIF('2-way Quiz'!$D59:Z59,30)","v":0},{"$f":"COUNTIF('2-way Quiz'!$D59:AA59,20)+COUNTIF('2-way Quiz'!$D59:AA59,30)","v":0},{"$f":"COUNTIF('2-way Quiz'!$D59:AB59,20)+COUNTIF('2-way Quiz'!$D59:AB59,30)","v":0},{"$f":"COUNTIF('2-way Quiz'!$D59:AC59,20)+COUNTIF('2-way Quiz'!$D59:AC59,30)","v":0},{"$f":"COUNTIF('2-way Quiz'!$D59:AD59,20)+COUNTIF('2-way Quiz'!$D59:AD59,30)","v":0},{"$f":"COUNTIF('2-way Quiz'!$D59:AE59,20)+COUNTIF('2-way Quiz'!$D59:AE59,30)","v":0},{"$f":"COUNTIF('2-way Quiz'!$D59:AF59,20)+COUNTIF('2-way Quiz'!$D59:AF59,30)","v":0},{"$f":"COUNTIF('2-way Quiz'!$D59:AG59,20)+COUNTIF('2-way Quiz'!$D59:AG59,30)","v":0},{"$f":"COUNTIF('2-way Quiz'!$D59:AH59,20)+COUNTIF('2-way Quiz'!$D59:AH59,30)","v":0},{"$f":"COUNTIF('2-way Quiz'!$D59:AI59,20)+COUNTIF('2-way Quiz'!$D59:AI59,30)","v":0},{"$f":"COUNTIF('2-way Quiz'!$D59:AJ59,20)+COUNTIF('2-way Quiz'!$D59:AJ59,30)","v":0},{"$f":"COUNTIF('2-way Quiz'!$D59:AK59,20)+COUNTIF('2-way Quiz'!$D59:AK59,30)","v":0},{"$f":"COUNTIF('2-way Quiz'!$D59:AL59,20)+COUNTIF('2-way Quiz'!$D59:AL59,30)","v":0},{"$f":"COUNTIF('2-way Quiz'!$D59:AM59,20)+COUNTIF('2-way Quiz'!$D59:AM59,30)","v":0},{"$f":"COUNTIF('2-way Quiz'!$D59:AN59,20)+COUNTIF('2-way Quiz'!$D59:AN59,30)","v":0},{"$f":"COUNTIF('2-way Quiz'!$D59:AO59,20)+COUNTIF('2-way Quiz'!$D59:AO59,30)","v":0},{"$f":"COUNTIF('2-way Quiz'!$D59:AP59,20)+COUNTIF('2-way Quiz'!$D59:AP59,30)","v":0},{"$f":"COUNTIF('2-way Quiz'!$D59:AQ59,20)+COUNTIF('2-way Quiz'!$D59:AQ59,30)","v":0},{"$f":"COUNTIF('2-way Quiz'!$D59:AR59,20)+COUNTIF('2-way Quiz'!$D59:AR59,30)","v":0},{"$f":"COUNTIF('2-way Quiz'!$D59:AS59,20)+COUNTIF('2-way Quiz'!$D59:AS59,30)","v":0},{"$f":"COUNTIF('2-way Quiz'!$D59:AT59,20)+COUNTIF('2-way Quiz'!$D59:AT59,30)","v":0},{"$f":"COUNTIF('2-way Quiz'!$D59:AU59,20)+COUNTIF('2-way Quiz'!$D59:AU59,30)","v":0},{"$f":"COUNTIF('2-way Quiz'!$D59:AV59,20)+COUNTIF('2-way Quiz'!$D59:AV59,30)","v":0},{"$f":"COUNTIF('2-way Quiz'!$D59:AW59,20)+COUNTIF('2-way Quiz'!$D59:AW59,30)","v":0},{"$f":"COUNTIF('2-way Quiz'!$D59:AX59,20)+COUNTIF('2-way Quiz'!$D59:AX59,30)","v":0},{"$f":"COUNTIF('2-way Quiz'!$D59:AY59,20)+COUNTIF('2-way Quiz'!$D59:AY59,30)","v":0},{"$f":"COUNTIF('2-way Quiz'!$D59:AZ59,20)+COUNTIF('2-way Quiz'!$D59:AZ59,30)","v":0},{"$f":"COUNTIF('2-way Quiz'!$D59:BA59,20)+COUNTIF('2-way Quiz'!$D59:BA59,30)","v":0},{"$f":"COUNTIF('2-way Quiz'!$D59:BB59,20)+COUNTIF('2-way Quiz'!$D59:BB59,30)","v":0}]
[null,null,{"$f":"CONCATENATE(\"#20's \",C60)","v":"#20's Quizzer #2"},{"$f":"COUNTIF('2-way Quiz'!$D60:D60,20)+COUNTIF('2-way Quiz'!$D60:D60,30)","v":0},{"$f":"COUNTIF('2-way Quiz'!$D60:E60,20)+COUNTIF('2-way Quiz'!$D60:E60,30)","v":0},{"$f":"COUNTIF('2-way Quiz'!$D60:F60,20)+COUNTIF('2-way Quiz'!$D60:F60,30)","v":0},{"$f":"COUNTIF('2-way Quiz'!$D60:G60,20)+COUNTIF('2-way Quiz'!$D60:G60,30)","v":0},{"$f":"COUNTIF('2-way Quiz'!$D60:H60,20)+COUNTIF('2-way Quiz'!$D60:H60,30)","v":0},{"$f":"COUNTIF('2-way Quiz'!$D60:I60,20)+COUNTIF('2-way Quiz'!$D60:I60,30)","v":0},{"$f":"COUNTIF('2-way Quiz'!$D60:J60,20)+COUNTIF('2-way Quiz'!$D60:J60,30)","v":0},{"$f":"COUNTIF('2-way Quiz'!$D60:K60,20)+COUNTIF('2-way Quiz'!$D60:K60,30)","v":0},{"$f":"COUNTIF('2-way Quiz'!$D60:L60,20)+COUNTIF('2-way Quiz'!$D60:L60,30)","v":0},{"$f":"COUNTIF('2-way Quiz'!$D60:M60,20)+COUNTIF('2-way Quiz'!$D60:M60,30)","v":0},{"$f":"COUNTIF('2-way Quiz'!$D60:N60,20)+COUNTIF('2-way Quiz'!$D60:N60,30)","v":0},{"$f":"COUNTIF('2-way Quiz'!$D60:O60,20)+COUNTIF('2-way Quiz'!$D60:O60,30)","v":0},{"$f":"COUNTIF('2-way Quiz'!$D60:P60,20)+COUNTIF('2-way Quiz'!$D60:P60,30)","v":0},{"$f":"COUNTIF('2-way Quiz'!$D60:Q60,20)+COUNTIF('2-way Quiz'!$D60:Q60,30)","v":0},{"$f":"COUNTIF('2-way Quiz'!$D60:R60,20)+COUNTIF('2-way Quiz'!$D60:R60,30)","v":0},{"$f":"COUNTIF('2-way Quiz'!$D60:S60,20)+COUNTIF('2-way Quiz'!$D60:S60,30)","v":0},{"$f":"COUNTIF('2-way Quiz'!$D60:T60,20)+COUNTIF('2-way Quiz'!$D60:T60,30)","v":0},{"$f":"COUNTIF('2-way Quiz'!$D60:U60,20)+COUNTIF('2-way Quiz'!$D60:U60,30)","v":0},{"$f":"COUNTIF('2-way Quiz'!$D60:V60,20)+COUNTIF('2-way Quiz'!$D60:V60,30)","v":0},{"$f":"COUNTIF('2-way Quiz'!$D60:W60,20)+COUNTIF('2-way Quiz'!$D60:W60,30)","v":0},{"$f":"COUNTIF('2-way Quiz'!$D60:X60,20)+COUNTIF('2-way Quiz'!$D60:X60,30)","v":0},{"$f":"COUNTIF('2-way Quiz'!$D60:Y60,20)+COUNTIF('2-way Quiz'!$D60:Y60,30)","v":0},{"$f":"COUNTIF('2-way Quiz'!$D60:Z60,20)+COUNTIF('2-way Quiz'!$D60:Z60,30)","v":0},{"$f":"COUNTIF('2-way Quiz'!$D60:AA60,20)+COUNTIF('2-way Quiz'!$D60:AA60,30)","v":0},{"$f":"COUNTIF('2-way Quiz'!$D60:AB60,20)+COUNTIF('2-way Quiz'!$D60:AB60,30)","v":0},{"$f":"COUNTIF('2-way Quiz'!$D60:AC60,20)+COUNTIF('2-way Quiz'!$D60:AC60,30)","v":0},{"$f":"COUNTIF('2-way Quiz'!$D60:AD60,20)+COUNTIF('2-way Quiz'!$D60:AD60,30)","v":0},{"$f":"COUNTIF('2-way Quiz'!$D60:AE60,20)+COUNTIF('2-way Quiz'!$D60:AE60,30)","v":0},{"$f":"COUNTIF('2-way Quiz'!$D60:AF60,20)+COUNTIF('2-way Quiz'!$D60:AF60,30)","v":0},{"$f":"COUNTIF('2-way Quiz'!$D60:AG60,20)+COUNTIF('2-way Quiz'!$D60:AG60,30)","v":0},{"$f":"COUNTIF('2-way Quiz'!$D60:AH60,20)+COUNTIF('2-way Quiz'!$D60:AH60,30)","v":0},{"$f":"COUNTIF('2-way Quiz'!$D60:AI60,20)+COUNTIF('2-way Quiz'!$D60:AI60,30)","v":0},{"$f":"COUNTIF('2-way Quiz'!$D60:AJ60,20)+COUNTIF('2-way Quiz'!$D60:AJ60,30)","v":0},{"$f":"COUNTIF('2-way Quiz'!$D60:AK60,20)+COUNTIF('2-way Quiz'!$D60:AK60,30)","v":0},{"$f":"COUNTIF('2-way Quiz'!$D60:AL60,20)+COUNTIF('2-way Quiz'!$D60:AL60,30)","v":0},{"$f":"COUNTIF('2-way Quiz'!$D60:AM60,20)+COUNTIF('2-way Quiz'!$D60:AM60,30)","v":0},{"$f":"COUNTIF('2-way Quiz'!$D60:AN60,20)+COUNTIF('2-way Quiz'!$D60:AN60,30)","v":0},{"$f":"COUNTIF('2-way Quiz'!$D60:AO60,20)+COUNTIF('2-way Quiz'!$D60:AO60,30)","v":0},{"$f":"COUNTIF('2-way Quiz'!$D60:AP60,20)+COUNTIF('2-way Quiz'!$D60:AP60,30)","v":0},{"$f":"COUNTIF('2-way Quiz'!$D60:AQ60,20)+COUNTIF('2-way Quiz'!$D60:AQ60,30)","v":0},{"$f":"COUNTIF('2-way Quiz'!$D60:AR60,20)+COUNTIF('2-way Quiz'!$D60:AR60,30)","v":0},{"$f":"COUNTIF('2-way Quiz'!$D60:AS60,20)+COUNTIF('2-way Quiz'!$D60:AS60,30)","v":0},{"$f":"COUNTIF('2-way Quiz'!$D60:AT60,20)+COUNTIF('2-way Quiz'!$D60:AT60,30)","v":0},{"$f":"COUNTIF('2-way Quiz'!$D60:AU60,20)+COUNTIF('2-way Quiz'!$D60:AU60,30)","v":0},{"$f":"COUNTIF('2-way Quiz'!$D60:AV60,20)+COUNTIF('2-way Quiz'!$D60:AV60,30)","v":0},{"$f":"COUNTIF('2-way Quiz'!$D60:AW60,20)+COUNTIF('2-way Quiz'!$D60:AW60,30)","v":0},{"$f":"COUNTIF('2-way Quiz'!$D60:AX60,20)+COUNTIF('2-way Quiz'!$D60:AX60,30)","v":0},{"$f":"COUNTIF('2-way Quiz'!$D60:AY60,20)+COUNTIF('2-way Quiz'!$D60:AY60,30)","v":0},{"$f":"COUNTIF('2-way Quiz'!$D60:AZ60,20)+COUNTIF('2-way Quiz'!$D60:AZ60,30)","v":0},{"$f":"COUNTIF('2-way Quiz'!$D60:BA60,20)+COUNTIF('2-way Quiz'!$D60:BA60,30)","v":0},{"$f":"COUNTIF('2-way Quiz'!$D60:BB60,20)+COUNTIF('2-way Quiz'!$D60:BB60,30)","v":0}]
[null,null,{"$f":"CONCATENATE(\"#20's \",C61)","v":"#20's Quizzer #3"},{"$f":"COUNTIF('2-way Quiz'!$D61:D61,20)+COUNTIF('2-way Quiz'!$D61:D61,30)","v":0},{"$f":"COUNTIF('2-way Quiz'!$D61:E61,20)+COUNTIF('2-way Quiz'!$D61:E61,30)","v":0},{"$f":"COUNTIF('2-way Quiz'!$D61:F61,20)+COUNTIF('2-way Quiz'!$D61:F61,30)","v":0},{"$f":"COUNTIF('2-way Quiz'!$D61:G61,20)+COUNTIF('2-way Quiz'!$D61:G61,30)","v":0},{"$f":"COUNTIF('2-way Quiz'!$D61:H61,20)+COUNTIF('2-way Quiz'!$D61:H61,30)","v":0},{"$f":"COUNTIF('2-way Quiz'!$D61:I61,20)+COUNTIF('2-way Quiz'!$D61:I61,30)","v":0},{"$f":"COUNTIF('2-way Quiz'!$D61:J61,20)+COUNTIF('2-way Quiz'!$D61:J61,30)","v":0},{"$f":"COUNTIF('2-way Quiz'!$D61:K61,20)+COUNTIF('2-way Quiz'!$D61:K61,30)","v":0},{"$f":"COUNTIF('2-way Quiz'!$D61:L61,20)+COUNTIF('2-way Quiz'!$D61:L61,30)","v":0},{"$f":"COUNTIF('2-way Quiz'!$D61:M61,20)+COUNTIF('2-way Quiz'!$D61:M61,30)","v":0},{"$f":"COUNTIF('2-way Quiz'!$D61:N61,20)+COUNTIF('2-way Quiz'!$D61:N61,30)","v":0},{"$f":"COUNTIF('2-way Quiz'!$D61:O61,20)+COUNTIF('2-way Quiz'!$D61:O61,30)","v":0},{"$f":"COUNTIF('2-way Quiz'!$D61:P61,20)+COUNTIF('2-way Quiz'!$D61:P61,30)","v":0},{"$f":"COUNTIF('2-way Quiz'!$D61:Q61,20)+COUNTIF('2-way Quiz'!$D61:Q61,30)","v":0},{"$f":"COUNTIF('2-way Quiz'!$D61:R61,20)+COUNTIF('2-way Quiz'!$D61:R61,30)","v":0},{"$f":"COUNTIF('2-way Quiz'!$D61:S61,20)+COUNTIF('2-way Quiz'!$D61:S61,30)","v":0},{"$f":"COUNTIF('2-way Quiz'!$D61:T61,20)+COUNTIF('2-way Quiz'!$D61:T61,30)","v":0},{"$f":"COUNTIF('2-way Quiz'!$D61:U61,20)+COUNTIF('2-way Quiz'!$D61:U61,30)","v":0},{"$f":"COUNTIF('2-way Quiz'!$D61:V61,20)+COUNTIF('2-way Quiz'!$D61:V61,30)","v":0},{"$f":"COUNTIF('2-way Quiz'!$D61:W61,20)+COUNTIF('2-way Quiz'!$D61:W61,30)","v":0},{"$f":"COUNTIF('2-way Quiz'!$D61:X61,20)+COUNTIF('2-way Quiz'!$D61:X61,30)","v":0},{"$f":"COUNTIF('2-way Quiz'!$D61:Y61,20)+COUNTIF('2-way Quiz'!$D61:Y61,30)","v":0},{"$f":"COUNTIF('2-way Quiz'!$D61:Z61,20)+COUNTIF('2-way Quiz'!$D61:Z61,30)","v":0},{"$f":"COUNTIF('2-way Quiz'!$D61:AA61,20)+COUNTIF('2-way Quiz'!$D61:AA61,30)","v":0},{"$f":"COUNTIF('2-way Quiz'!$D61:AB61,20)+COUNTIF('2-way Quiz'!$D61:AB61,30)","v":0},{"$f":"COUNTIF('2-way Quiz'!$D61:AC61,20)+COUNTIF('2-way Quiz'!$D61:AC61,30)","v":0},{"$f":"COUNTIF('2-way Quiz'!$D61:AD61,20)+COUNTIF('2-way Quiz'!$D61:AD61,30)","v":0},{"$f":"COUNTIF('2-way Quiz'!$D61:AE61,20)+COUNTIF('2-way Quiz'!$D61:AE61,30)","v":0},{"$f":"COUNTIF('2-way Quiz'!$D61:AF61,20)+COUNTIF('2-way Quiz'!$D61:AF61,30)","v":0},{"$f":"COUNTIF('2-way Quiz'!$D61:AG61,20)+COUNTIF('2-way Quiz'!$D61:AG61,30)","v":0},{"$f":"COUNTIF('2-way Quiz'!$D61:AH61,20)+COUNTIF('2-way Quiz'!$D61:AH61,30)","v":0},{"$f":"COUNTIF('2-way Quiz'!$D61:AI61,20)+COUNTIF('2-way Quiz'!$D61:AI61,30)","v":0},{"$f":"COUNTIF('2-way Quiz'!$D61:AJ61,20)+COUNTIF('2-way Quiz'!$D61:AJ61,30)","v":0},{"$f":"COUNTIF('2-way Quiz'!$D61:AK61,20)+COUNTIF('2-way Quiz'!$D61:AK61,30)","v":0},{"$f":"COUNTIF('2-way Quiz'!$D61:AL61,20)+COUNTIF('2-way Quiz'!$D61:AL61,30)","v":0},{"$f":"COUNTIF('2-way Quiz'!$D61:AM61,20)+COUNTIF('2-way Quiz'!$D61:AM61,30)","v":0},{"$f":"COUNTIF('2-way Quiz'!$D61:AN61,20)+COUNTIF('2-way Quiz'!$D61:AN61,30)","v":0},{"$f":"COUNTIF('2-way Quiz'!$D61:AO61,20)+COUNTIF('2-way Quiz'!$D61:AO61,30)","v":0},{"$f":"COUNTIF('2-way Quiz'!$D61:AP61,20)+COUNTIF('2-way Quiz'!$D61:AP61,30)","v":0},{"$f":"COUNTIF('2-way Quiz'!$D61:AQ61,20)+COUNTIF('2-way Quiz'!$D61:AQ61,30)","v":0},{"$f":"COUNTIF('2-way Quiz'!$D61:AR61,20)+COUNTIF('2-way Quiz'!$D61:AR61,30)","v":0},{"$f":"COUNTIF('2-way Quiz'!$D61:AS61,20)+COUNTIF('2-way Quiz'!$D61:AS61,30)","v":0},{"$f":"COUNTIF('2-way Quiz'!$D61:AT61,20)+COUNTIF('2-way Quiz'!$D61:AT61,30)","v":0},{"$f":"COUNTIF('2-way Quiz'!$D61:AU61,20)+COUNTIF('2-way Quiz'!$D61:AU61,30)","v":0},{"$f":"COUNTIF('2-way Quiz'!$D61:AV61,20)+COUNTIF('2-way Quiz'!$D61:AV61,30)","v":0},{"$f":"COUNTIF('2-way Quiz'!$D61:AW61,20)+COUNTIF('2-way Quiz'!$D61:AW61,30)","v":0},{"$f":"COUNTIF('2-way Quiz'!$D61:AX61,20)+COUNTIF('2-way Quiz'!$D61:AX61,30)","v":0},{"$f":"COUNTIF('2-way Quiz'!$D61:AY61,20)+COUNTIF('2-way Quiz'!$D61:AY61,30)","v":0},{"$f":"COUNTIF('2-way Quiz'!$D61:AZ61,20)+COUNTIF('2-way Quiz'!$D61:AZ61,30)","v":0},{"$f":"COUNTIF('2-way Quiz'!$D61:BA61,20)+COUNTIF('2-way Quiz'!$D61:BA61,30)","v":0},{"$f":"COUNTIF('2-way Quiz'!$D61:BB61,20)+COUNTIF('2-way Quiz'!$D61:BB61,30)","v":0}]
[null,null,{"$f":"CONCATENATE(\"#20's \",C62)","v":"#20's Substitute"},{"$f":"COUNTIF('2-way Quiz'!$D62:D62,20)+COUNTIF('2-way Quiz'!$D62:D62,30)","v":0},{"$f":"COUNTIF('2-way Quiz'!$D62:E62,20)+COUNTIF('2-way Quiz'!$D62:E62,30)","v":0},{"$f":"COUNTIF('2-way Quiz'!$D62:F62,20)+COUNTIF('2-way Quiz'!$D62:F62,30)","v":0},{"$f":"COUNTIF('2-way Quiz'!$D62:G62,20)+COUNTIF('2-way Quiz'!$D62:G62,30)","v":0},{"$f":"COUNTIF('2-way Quiz'!$D62:H62,20)+COUNTIF('2-way Quiz'!$D62:H62,30)","v":0},{"$f":"COUNTIF('2-way Quiz'!$D62:I62,20)+COUNTIF('2-way Quiz'!$D62:I62,30)","v":0},{"$f":"COUNTIF('2-way Quiz'!$D62:J62,20)+COUNTIF('2-way Quiz'!$D62:J62,30)","v":0},{"$f":"COUNTIF('2-way Quiz'!$D62:K62,20)+COUNTIF('2-way Quiz'!$D62:K62,30)","v":0},{"$f":"COUNTIF('2-way Quiz'!$D62:L62,20)+COUNTIF('2-way Quiz'!$D62:L62,30)","v":0},{"$f":"COUNTIF('2-way Quiz'!$D62:M62,20)+COUNTIF('2-way Quiz'!$D62:M62,30)","v":0},{"$f":"COUNTIF('2-way Quiz'!$D62:N62,20)+COUNTIF('2-way Quiz'!$D62:N62,30)","v":0},{"$f":"COUNTIF('2-way Quiz'!$D62:O62,20)+COUNTIF('2-way Quiz'!$D62:O62,30)","v":0},{"$f":"COUNTIF('2-way Quiz'!$D62:P62,20)+COUNTIF('2-way Quiz'!$D62:P62,30)","v":0},{"$f":"COUNTIF('2-way Quiz'!$D62:Q62,20)+COUNTIF('2-way Quiz'!$D62:Q62,30)","v":0},{"$f":"COUNTIF('2-way Quiz'!$D62:R62,20)+COUNTIF('2-way Quiz'!$D62:R62,30)","v":0},{"$f":"COUNTIF('2-way Quiz'!$D62:S62,20)+COUNTIF('2-way Quiz'!$D62:S62,30)","v":0},{"$f":"COUNTIF('2-way Quiz'!$D62:T62,20)+COUNTIF('2-way Quiz'!$D62:T62,30)","v":0},{"$f":"COUNTIF('2-way Quiz'!$D62:U62,20)+COUNTIF('2-way Quiz'!$D62:U62,30)","v":0},{"$f":"COUNTIF('2-way Quiz'!$D62:V62,20)+COUNTIF('2-way Quiz'!$D62:V62,30)","v":0},{"$f":"COUNTIF('2-way Quiz'!$D62:W62,20)+COUNTIF('2-way Quiz'!$D62:W62,30)","v":0},{"$f":"COUNTIF('2-way Quiz'!$D62:X62,20)+COUNTIF('2-way Quiz'!$D62:X62,30)","v":0},{"$f":"COUNTIF('2-way Quiz'!$D62:Y62,20)+COUNTIF('2-way Quiz'!$D62:Y62,30)","v":0},{"$f":"COUNTIF('2-way Quiz'!$D62:Z62,20)+COUNTIF('2-way Quiz'!$D62:Z62,30)","v":0},{"$f":"COUNTIF('2-way Quiz'!$D62:AA62,20)+COUNTIF('2-way Quiz'!$D62:AA62,30)","v":0},{"$f":"COUNTIF('2-way Quiz'!$D62:AB62,20)+COUNTIF('2-way Quiz'!$D62:AB62,30)","v":0},{"$f":"COUNTIF('2-way Quiz'!$D62:AC62,20)+COUNTIF('2-way Quiz'!$D62:AC62,30)","v":0},{"$f":"COUNTIF('2-way Quiz'!$D62:AD62,20)+COUNTIF('2-way Quiz'!$D62:AD62,30)","v":0},{"$f":"COUNTIF('2-way Quiz'!$D62:AE62,20)+COUNTIF('2-way Quiz'!$D62:AE62,30)","v":0},{"$f":"COUNTIF('2-way Quiz'!$D62:AF62,20)+COUNTIF('2-way Quiz'!$D62:AF62,30)","v":0},{"$f":"COUNTIF('2-way Quiz'!$D62:AG62,20)+COUNTIF('2-way Quiz'!$D62:AG62,30)","v":0},{"$f":"COUNTIF('2-way Quiz'!$D62:AH62,20)+COUNTIF('2-way Quiz'!$D62:AH62,30)","v":0},{"$f":"COUNTIF('2-way Quiz'!$D62:AI62,20)+COUNTIF('2-way Quiz'!$D62:AI62,30)","v":0},{"$f":"COUNTIF('2-way Quiz'!$D62:AJ62,20)+COUNTIF('2-way Quiz'!$D62:AJ62,30)","v":0},{"$f":"COUNTIF('2-way Quiz'!$D62:AK62,20)+COUNTIF('2-way Quiz'!$D62:AK62,30)","v":0},{"$f":"COUNTIF('2-way Quiz'!$D62:AL62,20)+COUNTIF('2-way Quiz'!$D62:AL62,30)","v":0},{"$f":"COUNTIF('2-way Quiz'!$D62:AM62,20)+COUNTIF('2-way Quiz'!$D62:AM62,30)","v":0},{"$f":"COUNTIF('2-way Quiz'!$D62:AN62,20)+COUNTIF('2-way Quiz'!$D62:AN62,30)","v":0},{"$f":"COUNTIF('2-way Quiz'!$D62:AO62,20)+COUNTIF('2-way Quiz'!$D62:AO62,30)","v":0},{"$f":"COUNTIF('2-way Quiz'!$D62:AP62,20)+COUNTIF('2-way Quiz'!$D62:AP62,30)","v":0},{"$f":"COUNTIF('2-way Quiz'!$D62:AQ62,20)+COUNTIF('2-way Quiz'!$D62:AQ62,30)","v":0},{"$f":"COUNTIF('2-way Quiz'!$D62:AR62,20)+COUNTIF('2-way Quiz'!$D62:AR62,30)","v":0},{"$f":"COUNTIF('2-way Quiz'!$D62:AS62,20)+COUNTIF('2-way Quiz'!$D62:AS62,30)","v":0},{"$f":"COUNTIF('2-way Quiz'!$D62:AT62,20)+COUNTIF('2-way Quiz'!$D62:AT62,30)","v":0},{"$f":"COUNTIF('2-way Quiz'!$D62:AU62,20)+COUNTIF('2-way Quiz'!$D62:AU62,30)","v":0},{"$f":"COUNTIF('2-way Quiz'!$D62:AV62,20)+COUNTIF('2-way Quiz'!$D62:AV62,30)","v":0},{"$f":"COUNTIF('2-way Quiz'!$D62:AW62,20)+COUNTIF('2-way Quiz'!$D62:AW62,30)","v":0},{"$f":"COUNTIF('2-way Quiz'!$D62:AX62,20)+COUNTIF('2-way Quiz'!$D62:AX62,30)","v":0},{"$f":"COUNTIF('2-way Quiz'!$D62:AY62,20)+COUNTIF('2-way Quiz'!$D62:AY62,30)","v":0},{"$f":"COUNTIF('2-way Quiz'!$D62:AZ62,20)+COUNTIF('2-way Quiz'!$D62:AZ62,30)","v":0},{"$f":"COUNTIF('2-way Quiz'!$D62:BA62,20)+COUNTIF('2-way Quiz'!$D62:BA62,30)","v":0},{"$f":"COUNTIF('2-way Quiz'!$D62:BB62,20)+COUNTIF('2-way Quiz'!$D62:BB62,30)","v":0}]
[]
[]
[]
[]
[]
[]
[null,null,"Timeout = T, Foul = F ------------>",{"$f":"'2-way Quiz'!D22","v":0},{"$f":"'2-way Quiz'!E22","v":0},{"$f":"'2-way Quiz'!F22","v":0},{"$f":"'2-way Quiz'!G22","v":0},{"$f":"'2-way Quiz'!H22","v":0},{"$f":"'2-way Quiz'!I22","v":0},{"$f":"'2-way Quiz'!J22","v":0},{"$f":"'2-way Quiz'!K22","v":0},{"$f":"'2-way Quiz'!L22","v":0},{"$f":"'2-way Quiz'!M22","v":0},{"$f":"'2-way Quiz'!N22","v":0},{"$f":"'2-way Quiz'!O22","v":0},{"$f":"'2-way Quiz'!P22","v":0},{"$f":"'2-way Quiz'!Q22","v":0},{"$f":"'2-way Quiz'!R22","v":0},{"$f":"'2-way Quiz'!S22","v":0},{"$f":"'2-way Quiz'!T22","v":0},{"$f":"'2-way Quiz'!U22","v":0},{"$f":"'2-way Quiz'!V22","v":0},{"$f":"'2-way Quiz'!W22","v":0},{"$f":"'2-way Quiz'!X22","v":0},{"$f":"'2-way Quiz'!Y22","v":0},{"$f":"'2-way Quiz'!Z22","v":0},{"$f":"'2-way Quiz'!AA22","v":0},{"$f":"'2-way Quiz'!AB22","v":0},{"$f":"'2-way Quiz'!AC22","v":0},{"$f":"'2-way Quiz'!AD22","v":0},{"$f":"'2-way Quiz'!AE22","v":0},{"$f":"'2-way Quiz'!AF22","v":0},{"$f":"'2-way Quiz'!AG22","v":0},{"$f":"'2-way Quiz'!AH22","v":0},{"$f":"'2-way Quiz'!AI22","v":0},{"$f":"'2-way Quiz'!AJ22","v":0},{"$f":"'2-way Quiz'!AK22","v":0},{"$f":"'2-way Quiz'!AL22","v":0},{"$f":"'2-way Quiz'!AM22","v":0},{"$f":"'2-way Quiz'!AN22","v":0},{"$f":"'2-way Quiz'!AO22","v":0},{"$f":"'2-way Quiz'!AP22","v":0},{"$f":"'2-way Quiz'!AQ22","v":0},{"$f":"'2-way Quiz'!AR22","v":0},{"$f":"'2-way Quiz'!AS22","v":0},{"$f":"'2-way Quiz'!AT22","v":0},{"$f":"'2-way Quiz'!AU22","v":0},{"$f":"'2-way Quiz'!AV22","v":0},{"$f":"'2-way Quiz'!AW22","v":0},{"$f":"'2-way Quiz'!AX22","v":0},{"$f":"'2-way Quiz'!AY22","v":0},{"$f":"'2-way Quiz'!AZ22","v":0},{"$f":"'2-way Quiz'!BA22","v":0},{"$f":"'2-way Quiz'!BB22","v":0}]
[null,null,{"$f":"CONCATENATE(\"Timeout = T (\",B91,\"), Foul = F ---------->\")","v":"Timeout = T (0), Foul = F ---------->"},{"$f":"LEFT(D79)","v":"0"},{"$f":"LEFT(E79)","v":"0"},"0","0","0","0","0","0","0","0","0","0","0","0","0","0","0","0","0","0","0","0","0","0","0","0","0","0","0","0","0","0","0","0","0","0","0","0","0","0","0","0","0","0","0","0","0","0","0","0","0"]
[null,null,{"$f":"CONCATENATE(\"Timeout = T (\",B91,\"), Foul = F (\",B90,\") --->\")","v":"Timeout = T (0), Foul = F (0) --->"},{"$f":"LEFT(RIGHT(D79,LEN(D79)-1))","v":""},{"$f":"LEFT(RIGHT(E79,LEN(E79)-1))","v":""},"","","","","","","","","","","","","","","","","","","","","","","","","","","","","","","","","","","","","","","","","","","","","","","","",""]
[null,null,{"$f":"CONCATENATE(\"Timeout = T, Foul = F (\",B90,\") ---------->\")","v":"Timeout = T, Foul = F (0) ---------->"},{"$f":"LEFT(RIGHT(D79,LEN(D79)-2))","v":{"$error":"#VALUE!"}},{"$f":"LEFT(RIGHT(E79,LEN(E79)-2))","v":{"$error":"#VALUE!"}},{"$error":"#VALUE!"},{"$error":"#VALUE!"},{"$error":"#VALUE!"},{"$error":"#VALUE!"},{"$error":"#VALUE!"},{"$error":"#VALUE!"},{"$error":"#VALUE!"},{"$error":"#VALUE!"},{"$error":"#VALUE!"},{"$error":"#VALUE!"},{"$error":"#VALUE!"},{"$error":"#VALUE!"},{"$error":"#VALUE!"},{"$error":"#VALUE!"},{"$error":"#VALUE!"},{"$error":"#VALUE!"},{"$error":"#VALUE!"},{"$error":"#VALUE!"},{"$error":"#VALUE!"},{"$error":"#VALUE!"},{"$error":"#VALUE!"},{"$error":"#VALUE!"},{"$error":"#VALUE!"},{"$error":"#VALUE!"},{"$error":"#VALUE!"},{"$error":"#VALUE!"},{"$error":"#VALUE!"},{"$error":"#VALUE!"},{"$error":"#VALUE!"},{"$error":"#VALUE!"},{"$error":"#VALUE!"},{"$error":"#VALUE!"},{"$error":"#VALUE!"},{"$error":"#VALUE!"},{"$error":"#VALUE!"},{"$error":"#VALUE!"},{"$error":"#VALUE!"},{"$error":"#VALUE!"},{"$error":"#VALUE!"},{"$error":"#VALUE!"},{"$error":"#VALUE!"},{"$error":"#VALUE!"},{"$error":"#VALUE!"},{"$error":"#VALUE!"},{"$error":"#VALUE!"},{"$error":"#VALUE!"},{"$error":"#VALUE!"},{"$error":"#VALUE!"},{"$error":"#VALUE!"}]
[null,null,null,{"$f":"LEFT(RIGHT(D79,LEN(D79)-3))","v":{"$error":"#VALUE!"}},{"$f":"LEFT(RIGHT(E79,LEN(E79)-3))","v":{"$error":"#VALUE!"}},{"$error":"#VALUE!"},{"$error":"#VALUE!"},{"$error":"#VALUE!"},{"$error":"#VALUE!"},{"$error":"#VALUE!"},{"$error":"#VALUE!"},{"$error":"#VALUE!"},{"$error":"#VALUE!"},{"$error":"#VALUE!"},{"$error":"#VALUE!"},{"$error":"#VALUE!"},{"$error":"#VALUE!"},{"$error":"#VALUE!"},{"$error":"#VALUE!"},{"$error":"#VALUE!"},{"$error":"#VALUE!"},{"$error":"#VALUE!"},{"$error":"#VALUE!"},{"$error":"#VALUE!"},{"$error":"#VALUE!"},{"$error":"#VALUE!"},{"$error":"#VALUE!"},{"$error":"#VALUE!"},{"$error":"#VALUE!"},{"$error":"#VALUE!"},{"$error":"#VALUE!"},{"$error":"#VALUE!"},{"$error":"#VALUE!"},{"$error":"#VALUE!"},{"$error":"#VALUE!"},{"$error":"#VALUE!"},{"$error":"#VALUE!"},{"$error":"#VALUE!"},{"$error":"#VALUE!"},{"$error":"#VALUE!"},{"$error":"#VALUE!"},{"$error":"#VALUE!"},{"$error":"#VALUE!"},{"$error":"#VALUE!"},{"$error":"#VALUE!"},{"$error":"#VALUE!"},{"$error":"#VALUE!"},{"$error":"#VALUE!"},{"$error":"#VALUE!"},{"$error":"#VALUE!"},{"$error":"#VALUE!"},{"$error":"#VALUE!"},{"$error":"#VALUE!"},{"$error":"#VALUE!"}]
[null,null,null,{"$f":"LEFT(RIGHT(D79,LEN(D79)-4))","v":{"$error":"#VALUE!"}},{"$f":"LEFT(RIGHT(E79,LEN(E79)-4))","v":{"$error":"#VALUE!"}},{"$error":"#VALUE!"},{"$error":"#VALUE!"},{"$error":"#VALUE!"},{"$error":"#VALUE!"},{"$error":"#VALUE!"},{"$error":"#VALUE!"},{"$error":"#VALUE!"},{"$error":"#VALUE!"},{"$error":"#VALUE!"},{"$error":"#VALUE!"},{"$error":"#VALUE!"},{"$error":"#VALUE!"},{"$error":"#VALUE!"},{"$error":"#VALUE!"},{"$error":"#VALUE!"},{"$error":"#VALUE!"},{"$error":"#VALUE!"},{"$error":"#VALUE!"},{"$error":"#VALUE!"},{"$error":"#VALUE!"},{"$error":"#VALUE!"},{"$error":"#VALUE!"},{"$error":"#VALUE!"},{"$error":"#VALUE!"},{"$error":"#VALUE!"},{"$error":"#VALUE!"},{"$error":"#VALUE!"},{"$error":"#VALUE!"},{"$error":"#VALUE!"},{"$error":"#VALUE!"},{"$error":"#VALUE!"},{"$error":"#VALUE!"},{"$error":"#VALUE!"},{"$error":"#VALUE!"},{"$error":"#VALUE!"},{"$error":"#VALUE!"},{"$error":"#VALUE!"},{"$error":"#VALUE!"},{"$error":"#VALUE!"},{"$error":"#VALUE!"},{"$error":"#VALUE!"},{"$error":"#VALUE!"},{"$error":"#VALUE!"},{"$error":"#VALUE!"},{"$error":"#VALUE!"},{"$error":"#VALUE!"},{"$error":"#VALUE!"},{"$error":"#VALUE!"},{"$error":"#VALUE!"}]
[null,null,null,{"$f":"LEFT(RIGHT(D79,LEN(D79)-5))","v":{"$error":"#VALUE!"}},{"$f":"LEFT(RIGHT(E79,LEN(E79)-5))","v":{"$error":"#VALUE!"}},{"$error":"#VALUE!"},{"$error":"#VALUE!"},{"$error":"#VALUE!"},{"$error":"#VALUE!"},{"$error":"#VALUE!"},{"$error":"#VALUE!"},{"$error":"#VALUE!"},{"$error":"#VALUE!"},{"$error":"#VALUE!"},{"$error":"#VALUE!"},{"$error":"#VALUE!"},{"$error":"#VALUE!"},{"$error":"#VALUE!"},{"$error":"#VALUE!"},{"$error":"#VALUE!"},{"$error":"#VALUE!"},{"$error":"#VALUE!"},{"$error":"#VALUE!"},{"$error":"#VALUE!"},{"$error":"#VALUE!"},{"$error":"#VALUE!"},{"$error":"#VALUE!"},{"$error":"#VALUE!"},{"$error":"#VALUE!"},{"$error":"#VALUE!"},{"$error":"#VALUE!"},{"$error":"#VALUE!"},{"$error":"#VALUE!"},{"$error":"#VALUE!"},{"$error":"#VALUE!"},{"$error":"#VALUE!"},{"$error":"#VALUE!"},{"$error":"#VALUE!"},{"$error":"#VALUE!"},{"$error":"#VALUE!"},{"$error":"#VALUE!"},{"$error":"#VALUE!"},{"$error":"#VALUE!"},{"$error":"#VALUE!"},{"$error":"#VALUE!"},{"$error":"#VALUE!"},{"$error":"#VALUE!"},{"$error":"#VALUE!"},{"$error":"#VALUE!"},{"$error":"#VALUE!"},{"$error":"#VALUE!"},{"$error":"#VALUE!"},{"$error":"#VALUE!"},{"$error":"#VALUE!"}]
[null,null,null,{"$f":"LEFT(RIGHT(D79,LEN(D79)-6))","v":{"$error":"#VALUE!"}},{"$f":"LEFT(RIGHT(E79,LEN(E79)-6))","v":{"$error":"#VALUE!"}},{"$error":"#VALUE!"},{"$error":"#VALUE!"},{"$error":"#VALUE!"},{"$error":"#VALUE!"},{"$error":"#VALUE!"},{"$error":"#VALUE!"},{"$error":"#VALUE!"},{"$error":"#VALUE!"},{"$error":"#VALUE!"},{"$error":"#VALUE!"},{"$error":"#VALUE!"},{"$error":"#VALUE!"},{"$error":"#VALUE!"},{"$error":"#VALUE!"},{"$error":"#VALUE!"},{"$error":"#VALUE!"},{"$error":"#VALUE!"},{"$error":"#VALUE!"},{"$error":"#VALUE!"},{"$error":"#VALUE!"},{"$error":"#VALUE!"},{"$error":"#VALUE!"},{"$error":"#VALUE!"},{"$error":"#VALUE!"},{"$error":"#VALUE!"},{"$error":"#VALUE!"},{"$error":"#VALUE!"},{"$error":"#VALUE!"},{"$error":"#VALUE!"},{"$error":"#VALUE!"},{"$error":"#VALUE!"},{"$error":"#VALUE!"},{"$error":"#VALUE!"},{"$error":"#VALUE!"},{"$error":"#VALUE!"},{"$error":"#VALUE!"},{"$error":"#VALUE!"},{"$error":"#VALUE!"},{"$error":"#VALUE!"},{"$error":"#VALUE!"},{"$error":"#VALUE!"},{"$error":"#VALUE!"},{"$error":"#VALUE!"},{"$error":"#VALUE!"},{"$error":"#VALUE!"},{"$error":"#VALUE!"},{"$error":"#VALUE!"},{"$error":"#VALUE!"},{"$error":"#VALUE!"}]
[null,null,null,{"$f":"LEFT(RIGHT(D79,LEN(D79)-7))","v":{"$error":"#VALUE!"}},{"$f":"LEFT(RIGHT(E79,LEN(E79)-7))","v":{"$error":"#VALUE!"}},{"$error":"#VALUE!"},{"$error":"#VALUE!"},{"$error":"#VALUE!"},{"$error":"#VALUE!"},{"$error":"#VALUE!"},{"$error":"#VALUE!"},{"$error":"#VALUE!"},{"$error":"#VALUE!"},{"$error":"#VALUE!"},{"$error":"#VALUE!"},{"$error":"#VALUE!"},{"$error":"#VALUE!"},{"$error":"#VALUE!"},{"$error":"#VALUE!"},{"$error":"#VALUE!"},{"$error":"#VALUE!"},{"$error":"#VALUE!"},{"$error":"#VALUE!"},{"$error":"#VALUE!"},{"$error":"#VALUE!"},{"$error":"#VALUE!"},{"$error":"#VALUE!"},{"$error":"#VALUE!"},{"$error":"#VALUE!"},{"$error":"#VALUE!"},{"$error":"#VALUE!"},{"$error":"#VALUE!"},{"$error":"#VALUE!"},{"$error":"#VALUE!"},{"$error":"#VALUE!"},{"$error":"#VALUE!"},{"$error":"#VALUE!"},{"$error":"#VALUE!"},{"$error":"#VALUE!"},{"$error":"#VALUE!"},{"$error":"#VALUE!"},{"$error":"#VALUE!"},{"$error":"#VALUE!"},{"$error":"#VALUE!"},{"$error":"#VALUE!"},{"$error":"#VALUE!"},{"$error":"#VALUE!"},{"$error":"#VALUE!"},{"$error":"#VALUE!"},{"$error":"#VALUE!"},{"$error":"#VALUE!"},{"$error":"#VALUE!"},{"$error":"#VALUE!"},{"$error":"#VALUE!"}]
[null,null,null,{"$f":"LEFT(RIGHT(D79,LEN(D79)-8))","v":{"$error":"#VALUE!"}},{"$f":"LEFT(RIGHT(E79,LEN(E79)-8))","v":{"$error":"#VALUE!"}},{"$error":"#VALUE!"},{"$error":"#VALUE!"},{"$error":"#VALUE!"},{"$error":"#VALUE!"},{"$error":"#VALUE!"},{"$error":"#VALUE!"},{"$error":"#VALUE!"},{"$error":"#VALUE!"},{"$error":"#VALUE!"},{"$error":"#VALUE!"},{"$error":"#VALUE!"},{"$error":"#VALUE!"},{"$error":"#VALUE!"},{"$error":"#VALUE!"},{"$error":"#VALUE!"},{"$error":"#VALUE!"},{"$error":"#VALUE!"},{"$error":"#VALUE!"},{"$error":"#VALUE!"},{"$error":"#VALUE!"},{"$error":"#VALUE!"},{"$error":"#VALUE!"},{"$error":"#VALUE!"},{"$error":"#VALUE!"},{"$error":"#VALUE!"},{"$error":"#VALUE!"},{"$error":"#VALUE!"},{"$error":"#VALUE!"},{"$error":"#VALUE!"},{"$error":"#VALUE!"},{"$error":"#VALUE!"},{"$error":"#VALUE!"},{"$error":"#VALUE!"},{"$error":"#VALUE!"},{"$error":"#VALUE!"},{"$error":"#VALUE!"},{"$error":"#VALUE!"},{"$error":"#VALUE!"},{"$error":"#VALUE!"},{"$error":"#VALUE!"},{"$error":"#VALUE!"},{"$error":"#VALUE!"},{"$error":"#VALUE!"},{"$error":"#VALUE!"},{"$error":"#VALUE!"},{"$error":"#VALUE!"},{"$error":"#VALUE!"},{"$error":"#VALUE!"},{"$error":"#VALUE!"}]
[null,null,null,{"$f":"LEFT(RIGHT(D79,LEN(D79)-9))","v":{"$error":"#VALUE!"}},{"$f":"LEFT(RIGHT(E79,LEN(E79)-9))","v":{"$error":"#VALUE!"}},{"$error":"#VALUE!"},{"$error":"#VALUE!"},{"$error":"#VALUE!"},{"$error":"#VALUE!"},{"$error":"#VALUE!"},{"$error":"#VALUE!"},{"$error":"#VALUE!"},{"$error":"#VALUE!"},{"$error":"#VALUE!"},{"$error":"#VALUE!"},{"$error":"#VALUE!"},{"$error":"#VALUE!"},{"$error":"#VALUE!"},{"$error":"#VALUE!"},{"$error":"#VALUE!"},{"$error":"#VALUE!"},{"$error":"#VALUE!"},{"$error":"#VALUE!"},{"$error":"#VALUE!"},{"$error":"#VALUE!"},{"$error":"#VALUE!"},{"$error":"#VALUE!"},{"$error":"#VALUE!"},{"$error":"#VALUE!"},{"$error":"#VALUE!"},{"$error":"#VALUE!"},{"$error":"#VALUE!"},{"$error":"#VALUE!"},{"$error":"#VALUE!"},{"$error":"#VALUE!"},{"$error":"#VALUE!"},{"$error":"#VALUE!"},{"$error":"#VALUE!"},{"$error":"#VALUE!"},{"$error":"#VALUE!"},{"$error":"#VALUE!"},{"$error":"#VALUE!"},{"$error":"#VALUE!"},{"$error":"#VALUE!"},{"$error":"#VALUE!"},{"$error":"#VALUE!"},{"$error":"#VALUE!"},{"$error":"#VALUE!"},{"$error":"#VALUE!"},{"$error":"#VALUE!"},{"$error":"#VALUE!"},{"$error":"#VALUE!"},{"$error":"#VALUE!"},{"$error":"#VALUE!"}]
[null,{"$f":"SUM(D90:BB90)","v":0},"# F's",{"$f":"COUNTIF(D80:D89,\"F\")","v":0},{"$f":"COUNTIF(E80:E89,\"F\")","v":0},0,0,0,0,0,0,0,0,0,0,0,0,0,0,0,0,0,0,0,0,0,0,0,0,0,0,0,0,0,0,0,0,0,0,0,0,0,0,0,0,0,0,0,0,0,0,0,0,0]
[null,{"$f":"SUM(D91:BB91)","v":0},"# T's",{"$f":"COUNTIF(D80:D89,\"T\")","v":0},{"$f":"COUNTIF(E80:E89,\"T\")","v":0},0,0,0,0,0,0,0,0,0,0,0,0,0,0,0,0,0,0,0,0,0,0,0,0,0,0,0,0,0,0,0,0,0,0,0,0,0,0,0,0,0,0,0,0,0,0,0,0,0]
[null,null,"foul points",{"$f":"IF(D90=0,0,D90*-10+10)","v":0},{"$f":"IF(E90=0,0,IF(D90=0,E90*-10+10,E90*-10))","v":0},{"$f":"IF(F90=0,0,IF(SUM($D90:E90)=0,F90*-10+10,F90*-10))","v":0},{"$f":"IF(G90=0,0,IF(SUM($D90:F90)=0,G90*-10+10,G90*-10))","v":0},{"$f":"IF(H90=0,0,IF(SUM($D90:G90)=0,H90*-10+10,H90*-10))","v":0},{"$f":"IF(I90=0,0,IF(SUM($D90:H90)=0,I90*-10+10,I90*-10))","v":0},{"$f":"IF(J90=0,0,IF(SUM($D90:I90)=0,J90*-10+10,J90*-10))","v":0},{"$f":"IF(K90=0,0,IF(SUM($D90:J90)=0,K90*-10+10,K90*-10))","v":0},{"$f":"IF(L90=0,0,IF(SUM($D90:K90)=0,L90*-10+10,L90*-10))","v":0},{"$f":"IF(M90=0,0,IF(SUM($D90:L90)=0,M90*-10+10,M90*-10))","v":0},{"$f":"IF(N90=0,0,IF(SUM($D90:M90)=0,N90*-10+10,N90*-10))","v":0},{"$f":"IF(O90=0,0,IF(SUM($D90:N90)=0,O90*-10+10,O90*-10))","v":0},{"$f":"IF(P90=0,0,IF(SUM($D90:O90)=0,P90*-10+10,P90*-10))","v":0},{"$f":"IF(Q90=0,0,IF(SUM($D90:P90)=0,Q90*-10+10,Q90*-10))","v":0},{"$f":"IF(R90=0,0,IF(SUM($D90:Q90)=0,R90*-10+10,R90*-10))","v":0},{"$f":"IF(S90=0,0,IF(SUM($D90:R90)=0,S90*-10+10,S90*-10))","v":0},{"$f":"IF(T90=0,0,IF(SUM($D90:S90)=0,T90*-10+10,T90*-10))","v":0},{"$f":"IF(U90=0,0,IF(SUM($D90:T90)=0,U90*-10+10,U90*-10))","v":0},{"$f":"IF(V90=0,0,IF(SUM($D90:U90)=0,V90*-10+10,V90*-10))","v":0},{"$f":"IF(W90=0,0,IF(SUM($D90:V90)=0,W90*-10+10,W90*-10))","v":0},{"$f":"IF(X90=0,0,IF(SUM($D90:W90)=0,X90*-10+10,X90*-10))","v":0},{"$f":"IF(Y90=0,0,IF(SUM($D90:X90)=0,Y90*-10+10,Y90*-10))","v":0},{"$f":"IF(Z90=0,0,IF(SUM($D90:Y90)=0,Z90*-10+10,Z90*-10))","v":0},{"$f":"IF(AA90=0,0,IF(SUM($D90:Z90)=0,AA90*-10+10,AA90*-10))","v":0},{"$f":"IF(AB90=0,0,IF(SUM($D90:AA90)=0,AB90*-10+10,AB90*-10))","v":0},{"$f":"IF(AC90=0,0,IF(SUM($D90:AB90)=0,AC90*-10+10,AC90*-10))","v":0},{"$f":"IF(AD90=0,0,IF(SUM($D90:AC90)=0,AD90*-10+10,AD90*-10))","v":0},{"$f":"IF(AE90=0,0,IF(SUM($D90:AD90)=0,AE90*-10+10,AE90*-10))","v":0},{"$f":"IF(AF90=0,0,IF(SUM($D90:AE90)=0,AF90*-10+10,AF90*-10))","v":0},{"$f":"IF(AG90=0,0,IF(SUM($D90:AF90)=0,AG90*-10+10,AG90*-10))","v":0},{"$f":"IF(AH90=0,0,IF(SUM($D90:AG90)=0,AH90*-10+10,AH90*-10))","v":0},{"$f":"IF(AI90=0,0,IF(SUM($D90:AH90)=0,AI90*-10+10,AI90*-10))","v":0},{"$f":"IF(AJ90=0,0,IF(SUM($D90:AI90)=0,AJ90*-10+10,AJ90*-10))","v":0},{"$f":"IF(AK90=0,0,IF(SUM($D90:AJ90)=0,AK90*-10+10,AK90*-10))","v":0},{"$f":"IF(AL90=0,0,IF(SUM($D90:AK90)=0,AL90*-10+10,AL90*-10))","v":0},{"$f":"IF(AM90=0,0,IF(SUM($D90:AL90)=0,AM90*-10+10,AM90*-10))","v":0},{"$f":"IF(AN90=0,0,IF(SUM($D90:AM90)=0,AN90*-10+10,AN90*-10))","v":0},{"$f":"IF(AO90=0,0,IF(SUM($D90:AN90)=0,AO90*-10+10,AO90*-10))","v":0},{"$f":"IF(AP90=0,0,IF(SUM($D90:AO90)=0,AP90*-10+10,AP90*-10))","v":0},{"$f":"IF(AQ90=0,0,IF(SUM($D90:AP90)=0,AQ90*-10+10,AQ90*-10))","v":0},{"$f":"IF(AR90=0,0,IF(SUM($D90:AQ90)=0,AR90*-10+10,AR90*-10))","v":0},{"$f":"IF(AS90=0,0,IF(SUM($D90:AR90)=0,AS90*-10+10,AS90*-10))","v":0},{"$f":"IF(AT90=0,0,IF(SUM($D90:AS90)=0,AT90*-10+10,AT90*-10))","v":0},{"$f":"IF(AU90=0,0,IF(SUM($D90:AT90)=0,AU90*-10+10,AU90*-10))","v":0},{"$f":"IF(AV90=0,0,IF(SUM($D90:AU90)=0,AV90*-10+10,AV90*-10))","v":0},{"$f":"IF(AW90=0,0,IF(SUM($D90:AV90)=0,AW90*-10+10,AW90*-10))","v":0},{"$f":"IF(AX90=0,0,IF(SUM($D90:AW90)=0,AX90*-10+10,AX90*-10))","v":0},{"$f":"IF(AY90=0,0,IF(SUM($D90:AX90)=0,AY90*-10+10,AY90*-10))","v":0},{"$f":"IF(AZ90=0,0,IF(SUM($D90:AY90)=0,AZ90*-10+10,AZ90*-10))","v":0},{"$f":"IF(BA90=0,0,IF(SUM($D90:AZ90)=0,BA90*-10+10,BA90*-10))","v":0},{"$f":"IF(BB90=0,0,IF(SUM($D90:BA90)=0,BB90*-10+10,BB90*-10))","v":0}]
[]
[]
[]
[]
[]
[]
[]
[null,null,"Timeout = T, Foul = F ------------>",{"$f":"'2-way Quiz'!D43","v":0},{"$f":"'2-way Quiz'!E43","v":0},{"$f":"'2-way Quiz'!F43","v":0},{"$f":"'2-way Quiz'!G43","v":0},{"$f":"'2-way Quiz'!H43","v":0},{"$f":"'2-way Quiz'!I43","v":0},{"$f":"'2-way Quiz'!J43","v":0},{"$f":"'2-way Quiz'!K43","v":0},{"$f":"'2-way Quiz'!L43","v":0},{"$f":"'2-way Quiz'!M43","v":0},{"$f":"'2-way Quiz'!N43","v":0},{"$f":"'2-way Quiz'!O43","v":0},{"$f":"'2-way Quiz'!P43","v":0},{"$f":"'2-way Quiz'!Q43","v":0},{"$f":"'2-way Quiz'!R43","v":0},{"$f":"'2-way Quiz'!S43","v":0},{"$f":"'2-way Quiz'!T43","v":0},{"$f":"'2-way Quiz'!U43","v":0},{"$f":"'2-way Quiz'!V43","v":0},{"$f":"'2-way Quiz'!W43","v":0},{"$f":"'2-way Quiz'!X43","v":0},{"$f":"'2-way Quiz'!Y43","v":0},{"$f":"'2-way Quiz'!Z43","v":0},{"$f":"'2-way Quiz'!AA43","v":0},{"$f":"'2-way Quiz'!AB43","v":0},{"$f":"'2-way Quiz'!AC43","v":0},{"$f":"'2-way Quiz'!AD43","v":0},{"$f":"'2-way Quiz'!AE43","v":0},{"$f":"'2-way Quiz'!AF43","v":0},{"$f":"'2-way Quiz'!AG43","v":0},{"$f":"'2-way Quiz'!AH43","v":0},{"$f":"'2-way Quiz'!AI43","v":0},{"$f":"'2-way Quiz'!AJ43","v":0},{"$f":"'2-way Quiz'!AK43","v":0},{"$f":"'2-way Quiz'!AL43","v":0},{"$f":"'2-way Quiz'!AM43","v":0},{"$f":"'2-way Quiz'!AN43","v":0},{"$f":"'2-way Quiz'!AO43","v":0},{"$f":"'2-way Quiz'!AP43","v":0},{"$f":"'2-way Quiz'!AQ43","v":0},{"$f":"'2-way Quiz'!AR43","v":0},{"$f":"'2-way Quiz'!AS43","v":0},{"$f":"'2-way Quiz'!AT43","v":0},{"$f":"'2-way Quiz'!AU43","v":0},{"$f":"'2-way Quiz'!AV43","v":0},{"$f":"'2-way Quiz'!AW43","v":0},{"$f":"'2-way Quiz'!AX43","v":0},{"$f":"'2-way Quiz'!AY43","v":0},{"$f":"'2-way Quiz'!AZ43","v":0},{"$f":"'2-way Quiz'!BA43","v":0},{"$f":"'2-way Quiz'!BB43","v":0}]
[null,null,{"$f":"CONCATENATE(\"Timeout = T (\",B112,\"), Foul = F ---------->\")","v":"Timeout = T (0), Foul = F ---------->"},{"$f":"LEFT(D100)","v":"0"},{"$f":"LEFT(E100)","v":"0"},"0","0","0","0","0","0","0","0","0","0","0","0","0","0","0","0","0","0","0","0","0","0","0","0","0","0","0","0","0","0","0","0","0","0","0","0","0","0","0","0","0","0","0","0","0","0","0","0","0"]
[null,null,{"$f":"CONCATENATE(\"Timeout = T (\",B112,\"), Foul = F (\",B111,\") --->\")","v":"Timeout = T (0), Foul = F (0) --->"},{"$f":"LEFT(RIGHT(D100,LEN(D100)-1))","v":""},{"$f":"LEFT(RIGHT(E100,LEN(E100)-1))","v":""},"","","","","","","","","","","","","","","","","","","","","","","","","","","","","","","","","","","","","","","","","","","","","","","","",""]
[null,null,{"$f":"CONCATENATE(\"Timeout = T, Foul = F (\",B111,\") ---------->\")","v":"Timeout = T, Foul = F (0) ---------->"},{"$f":"LEFT(RIGHT(D100,LEN(D100)-2))","v":{"$error":"#VALUE!"}},{"$f":"LEFT(RIGHT(E100,LEN(E100)-2))","v":{"$error":"#VALUE!"}},{"$error":"#VALUE!"},{"$error":"#VALUE!"},{"$error":"#VALUE!"},{"$error":"#VALUE!"},{"$error":"#VALUE!"},{"$error":"#VALUE!"},{"$error":"#VALUE!"},{"$error":"#VALUE!"},{"$error":"#VALUE!"},{"$error":"#VALUE!"},{"$error":"#VALUE!"},{"$error":"#VALUE!"},{"$error":"#VALUE!"},{"$error":"#VALUE!"},{"$error":"#VALUE!"},{"$error":"#VALUE!"},{"$error":"#VALUE!"},{"$error":"#VALUE!"},{"$error":"#VALUE!"},{"$error":"#VALUE!"},{"$error":"#VALUE!"},{"$error":"#VALUE!"},{"$error":"#VALUE!"},{"$error":"#VALUE!"},{"$error":"#VALUE!"},{"$error":"#VALUE!"},{"$error":"#VALUE!"},{"$error":"#VALUE!"},{"$error":"#VALUE!"},{"$error":"#VALUE!"},{"$error":"#VALUE!"},{"$error":"#VALUE!"},{"$error":"#VALUE!"},{"$error":"#VALUE!"},{"$error":"#VALUE!"},{"$error":"#VALUE!"},{"$error":"#VALUE!"},{"$error":"#VALUE!"},{"$error":"#VALUE!"},{"$error":"#VALUE!"},{"$error":"#VALUE!"},{"$error":"#VALUE!"},{"$error":"#VALUE!"},{"$error":"#VALUE!"},{"$error":"#VALUE!"},{"$error":"#VALUE!"},{"$error":"#VALUE!"},{"$error":"#VALUE!"},{"$error":"#VALUE!"}]
[null,null,null,{"$f":"LEFT(RIGHT(D100,LEN(D100)-3))","v":{"$error":"#VALUE!"}},{"$f":"LEFT(RIGHT(E100,LEN(E100)-3))","v":{"$error":"#VALUE!"}},{"$error":"#VALUE!"},{"$error":"#VALUE!"},{"$error":"#VALUE!"},{"$error":"#VALUE!"},{"$error":"#VALUE!"},{"$error":"#VALUE!"},{"$error":"#VALUE!"},{"$error":"#VALUE!"},{"$error":"#VALUE!"},{"$error":"#VALUE!"},{"$error":"#VALUE!"},{"$error":"#VALUE!"},{"$error":"#VALUE!"},{"$error":"#VALUE!"},{"$error":"#VALUE!"},{"$error":"#VALUE!"},{"$error":"#VALUE!"},{"$error":"#VALUE!"},{"$error":"#VALUE!"},{"$error":"#VALUE!"},{"$error":"#VALUE!"},{"$error":"#VALUE!"},{"$error":"#VALUE!"},{"$error":"#VALUE!"},{"$error":"#VALUE!"},{"$error":"#VALUE!"},{"$error":"#VALUE!"},{"$error":"#VALUE!"},{"$error":"#VALUE!"},{"$error":"#VALUE!"},{"$error":"#VALUE!"},{"$error":"#VALUE!"},{"$error":"#VALUE!"},{"$error":"#VALUE!"},{"$error":"#VALUE!"},{"$error":"#VALUE!"},{"$error":"#VALUE!"},{"$error":"#VALUE!"},{"$error":"#VALUE!"},{"$error":"#VALUE!"},{"$error":"#VALUE!"},{"$error":"#VALUE!"},{"$error":"#VALUE!"},{"$error":"#VALUE!"},{"$error":"#VALUE!"},{"$error":"#VALUE!"},{"$error":"#VALUE!"},{"$error":"#VALUE!"},{"$error":"#VALUE!"}]
[null,null,null,{"$f":"LEFT(RIGHT(D100,LEN(D100)-4))","v":{"$error":"#VALUE!"}},{"$f":"LEFT(RIGHT(E100,LEN(E100)-4))","v":{"$error":"#VALUE!"}},{"$error":"#VALUE!"},{"$error":"#VALUE!"},{"$error":"#VALUE!"},{"$error":"#VALUE!"},{"$error":"#VALUE!"},{"$error":"#VALUE!"},{"$error":"#VALUE!"},{"$error":"#VALUE!"},{"$error":"#VALUE!"},{"$error":"#VALUE!"},{"$error":"#VALUE!"},{"$error":"#VALUE!"},{"$error":"#VALUE!"},{"$error":"#VALUE!"},{"$error":"#VALUE!"},{"$error":"#VALUE!"},{"$error":"#VALUE!"},{"$error":"#VALUE!"},{"$error":"#VALUE!"},{"$error":"#VALUE!"},{"$error":"#VALUE!"},{"$error":"#VALUE!"},{"$error":"#VALUE!"},{"$error":"#VALUE!"},{"$error":"#VALUE!"},{"$error":"#VALUE!"},{"$error":"#VALUE!"},{"$error":"#VALUE!"},{"$error":"#VALUE!"},{"$error":"#VALUE!"},{"$error":"#VALUE!"},{"$error":"#VALUE!"},{"$error":"#VALUE!"},{"$error":"#VALUE!"},{"$error":"#VALUE!"},{"$error":"#VALUE!"},{"$error":"#VALUE!"},{"$error":"#VALUE!"},{"$error":"#VALUE!"},{"$error":"#VALUE!"},{"$error":"#VALUE!"},{"$error":"#VALUE!"},{"$error":"#VALUE!"},{"$error":"#VALUE!"},{"$error":"#VALUE!"},{"$error":"#VALUE!"},{"$error":"#VALUE!"},{"$error":"#VALUE!"},{"$error":"#VALUE!"}]
[null,null,null,{"$f":"LEFT(RIGHT(D100,LEN(D100)-5))","v":{"$error":"#VALUE!"}},{"$f":"LEFT(RIGHT(E100,LEN(E100)-5))","v":{"$error":"#VALUE!"}},{"$error":"#VALUE!"},{"$error":"#VALUE!"},{"$error":"#VALUE!"},{"$error":"#VALUE!"},{"$error":"#VALUE!"},{"$error":"#VALUE!"},{"$error":"#VALUE!"},{"$error":"#VALUE!"},{"$error":"#VALUE!"},{"$error":"#VALUE!"},{"$error":"#VALUE!"},{"$error":"#VALUE!"},{"$error":"#VALUE!"},{"$error":"#VALUE!"},{"$error":"#VALUE!"},{"$error":"#VALUE!"},{"$error":"#VALUE!"},{"$error":"#VALUE!"},{"$error":"#VALUE!"},{"$error":"#VALUE!"},{"$error":"#VALUE!"},{"$error":"#VALUE!"},{"$error":"#VALUE!"},{"$error":"#VALUE!"},{"$error":"#VALUE!"},{"$error":"#VALUE!"},{"$error":"#VALUE!"},{"$error":"#VALUE!"},{"$error":"#VALUE!"},{"$error":"#VALUE!"},{"$error":"#VALUE!"},{"$error":"#VALUE!"},{"$error":"#VALUE!"},{"$error":"#VALUE!"},{"$error":"#VALUE!"},{"$error":"#VALUE!"},{"$error":"#VALUE!"},{"$error":"#VALUE!"},{"$error":"#VALUE!"},{"$error":"#VALUE!"},{"$error":"#VALUE!"},{"$error":"#VALUE!"},{"$error":"#VALUE!"},{"$error":"#VALUE!"},{"$error":"#VALUE!"},{"$error":"#VALUE!"},{"$error":"#VALUE!"},{"$error":"#VALUE!"},{"$error":"#VALUE!"}]
[null,null,null,{"$f":"LEFT(RIGHT(D100,LEN(D100)-6))","v":{"$error":"#VALUE!"}},{"$f":"LEFT(RIGHT(E100,LEN(E100)-6))","v":{"$error":"#VALUE!"}},{"$error":"#VALUE!"},{"$error":"#VALUE!"},{"$error":"#VALUE!"},{"$error":"#VALUE!"},{"$error":"#VALUE!"},{"$error":"#VALUE!"},{"$error":"#VALUE!"},{"$error":"#VALUE!"},{"$error":"#VALUE!"},{"$error":"#VALUE!"},{"$error":"#VALUE!"},{"$error":"#VALUE!"},{"$error":"#VALUE!"},{"$error":"#VALUE!"},{"$error":"#VALUE!"},{"$error":"#VALUE!"},{"$error":"#VALUE!"},{"$error":"#VALUE!"},{"$error":"#VALUE!"},{"$error":"#VALUE!"},{"$error":"#VALUE!"},{"$error":"#VALUE!"},{"$error":"#VALUE!"},{"$error":"#VALUE!"},{"$error":"#VALUE!"},{"$error":"#VALUE!"},{"$error":"#VALUE!"},{"$error":"#VALUE!"},{"$error":"#VALUE!"},{"$error":"#VALUE!"},{"$error":"#VALUE!"},{"$error":"#VALUE!"},{"$error":"#VALUE!"},{"$error":"#VALUE!"},{"$error":"#VALUE!"},{"$error":"#VALUE!"},{"$error":"#VALUE!"},{"$error":"#VALUE!"},{"$error":"#VALUE!"},{"$error":"#VALUE!"},{"$error":"#VALUE!"},{"$error":"#VALUE!"},{"$error":"#VALUE!"},{"$error":"#VALUE!"},{"$error":"#VALUE!"},{"$error":"#VALUE!"},{"$error":"#VALUE!"},{"$error":"#VALUE!"},{"$error":"#VALUE!"}]
[null,null,null,{"$f":"LEFT(RIGHT(D100,LEN(D100)-7))","v":{"$error":"#VALUE!"}},{"$f":"LEFT(RIGHT(E100,LEN(E100)-7))","v":{"$error":"#VALUE!"}},{"$error":"#VALUE!"},{"$error":"#VALUE!"},{"$error":"#VALUE!"},{"$error":"#VALUE!"},{"$error":"#VALUE!"},{"$error":"#VALUE!"},{"$error":"#VALUE!"},{"$error":"#VALUE!"},{"$error":"#VALUE!"},{"$error":"#VALUE!"},{"$error":"#VALUE!"},{"$error":"#VALUE!"},{"$error":"#VALUE!"},{"$error":"#VALUE!"},{"$error":"#VALUE!"},{"$error":"#VALUE!"},{"$error":"#VALUE!"},{"$error":"#VALUE!"},{"$error":"#VALUE!"},{"$error":"#VALUE!"},{"$error":"#VALUE!"},{"$error":"#VALUE!"},{"$error":"#VALUE!"},{"$error":"#VALUE!"},{"$error":"#VALUE!"},{"$error":"#VALUE!"},{"$error":"#VALUE!"},{"$error":"#VALUE!"},{"$error":"#VALUE!"},{"$error":"#VALUE!"},{"$error":"#VALUE!"},{"$error":"#VALUE!"},{"$error":"#VALUE!"},{"$error":"#VALUE!"},{"$error":"#VALUE!"},{"$error":"#VALUE!"},{"$error":"#VALUE!"},{"$error":"#VALUE!"},{"$error":"#VALUE!"},{"$error":"#VALUE!"},{"$error":"#VALUE!"},{"$error":"#VALUE!"},{"$error":"#VALUE!"},{"$error":"#VALUE!"},{"$error":"#VALUE!"},{"$error":"#VALUE!"},{"$error":"#VALUE!"},{"$error":"#VALUE!"},{"$error":"#VALUE!"}]
[null,null,null,{"$f":"LEFT(RIGHT(D100,LEN(D100)-8))","v":{"$error":"#VALUE!"}},{"$f":"LEFT(RIGHT(E100,LEN(E100)-8))","v":{"$error":"#VALUE!"}},{"$error":"#VALUE!"},{"$error":"#VALUE!"},{"$error":"#VALUE!"},{"$error":"#VALUE!"},{"$error":"#VALUE!"},{"$error":"#VALUE!"},{"$error":"#VALUE!"},{"$error":"#VALUE!"},{"$error":"#VALUE!"},{"$error":"#VALUE!"},{"$error":"#VALUE!"},{"$error":"#VALUE!"},{"$error":"#VALUE!"},{"$error":"#VALUE!"},{"$error":"#VALUE!"},{"$error":"#VALUE!"},{"$error":"#VALUE!"},{"$error":"#VALUE!"},{"$error":"#VALUE!"},{"$error":"#VALUE!"},{"$error":"#VALUE!"},{"$error":"#VALUE!"},{"$error":"#VALUE!"},{"$error":"#VALUE!"},{"$error":"#VALUE!"},{"$error":"#VALUE!"},{"$error":"#VALUE!"},{"$error":"#VALUE!"},{"$error":"#VALUE!"},{"$error":"#VALUE!"},{"$error":"#VALUE!"},{"$error":"#VALUE!"},{"$error":"#VALUE!"},{"$error":"#VALUE!"},{"$error":"#VALUE!"},{"$error":"#VALUE!"},{"$error":"#VALUE!"},{"$error":"#VALUE!"},{"$error":"#VALUE!"},{"$error":"#VALUE!"},{"$error":"#VALUE!"},{"$error":"#VALUE!"},{"$error":"#VALUE!"},{"$error":"#VALUE!"},{"$error":"#VALUE!"},{"$error":"#VALUE!"},{"$error":"#VALUE!"},{"$error":"#VALUE!"},{"$error":"#VALUE!"}]
[null,null,null,{"$f":"LEFT(RIGHT(D100,LEN(D100)-9))","v":{"$error":"#VALUE!"}},{"$f":"LEFT(RIGHT(E100,LEN(E100)-9))","v":{"$error":"#VALUE!"}},{"$error":"#VALUE!"},{"$error":"#VALUE!"},{"$error":"#VALUE!"},{"$error":"#VALUE!"},{"$error":"#VALUE!"},{"$error":"#VALUE!"},{"$error":"#VALUE!"},{"$error":"#VALUE!"},{"$error":"#VALUE!"},{"$error":"#VALUE!"},{"$error":"#VALUE!"},{"$error":"#VALUE!"},{"$error":"#VALUE!"},{"$error":"#VALUE!"},{"$error":"#VALUE!"},{"$error":"#VALUE!"},{"$error":"#VALUE!"},{"$error":"#VALUE!"},{"$error":"#VALUE!"},{"$error":"#VALUE!"},{"$error":"#VALUE!"},{"$error":"#VALUE!"},{"$error":"#VALUE!"},{"$error":"#VALUE!"},{"$error":"#VALUE!"},{"$error":"#VALUE!"},{"$error":"#VALUE!"},{"$error":"#VALUE!"},{"$error":"#VALUE!"},{"$error":"#VALUE!"},{"$error":"#VALUE!"},{"$error":"#VALUE!"},{"$error":"#VALUE!"},{"$error":"#VALUE!"},{"$error":"#VALUE!"},{"$error":"#VALUE!"},{"$error":"#VALUE!"},{"$error":"#VALUE!"},{"$error":"#VALUE!"},{"$error":"#VALUE!"},{"$error":"#VALUE!"},{"$error":"#VALUE!"},{"$error":"#VALUE!"},{"$error":"#VALUE!"},{"$error":"#VALUE!"},{"$error":"#VALUE!"},{"$error":"#VALUE!"},{"$error":"#VALUE!"},{"$error":"#VALUE!"}]
[null,{"$f":"SUM(D111:BB111)","v":0},"# F's",{"$f":"COUNTIF(D101:D110,\"F\")","v":0},{"$f":"COUNTIF(E101:E110,\"F\")","v":0},0,0,0,0,0,0,0,0,0,0,0,0,0,0,0,0,0,0,0,0,0,0,0,0,0,0,0,0,0,0,0,0,0,0,0,0,0,0,0,0,0,0,0,0,0,0,0,0,0]
[null,{"$f":"SUM(D112:BB112)","v":0},"# T's",{"$f":"COUNTIF(D101:D110,\"T\")","v":0},{"$f":"COUNTIF(E101:E110,\"T\")","v":0},0,0,0,0,0,0,0,0,0,0,0,0,0,0,0,0,0,0,0,0,0,0,0,0,0,0,0,0,0,0,0,0,0,0,0,0,0,0,0,0,0,0,0,0,0,0,0,0,0]
[null,null,"foul points",{"$f":"IF(D111=0,0,D111*-10+10)","v":0},{"$f":"IF(E111=0,0,IF(D111=0,E111*-10+10,E111*-10))","v":0},{"$f":"IF(F111=0,0,IF(D111+E111=0,F111*-10+10,F111*-10))","v":0},{"$f":"IF(G111=0,0,IF(SUM($D111:F111)=0,G111*-10+10,G111*-10))","v":0},{"$f":"IF(H111=0,0,IF(SUM($D111:G111)=0,H111*-10+10,H111*-10))","v":0},{"$f":"IF(I111=0,0,IF(SUM($D111:H111)=0,I111*-10+10,I111*-10))","v":0},{"$f":"IF(J111=0,0,IF(SUM($D111:I111)=0,J111*-10+10,J111*-10))","v":0},{"$f":"IF(K111=0,0,IF(SUM($D111:J111)=0,K111*-10+10,K111*-10))","v":0},{"$f":"IF(L111=0,0,IF(SUM($D111:K111)=0,L111*-10+10,L111*-10))","v":0},{"$f":"IF(M111=0,0,IF(SUM($D111:L111)=0,M111*-10+10,M111*-10))","v":0},{"$f":"IF(N111=0,0,IF(SUM($D111:M111)=0,N111*-10+10,N111*-10))","v":0},{"$f":"IF(O111=0,0,IF(SUM($D111:N111)=0,O111*-10+10,O111*-10))","v":0},{"$f":"IF(P111=0,0,IF(SUM($D111:O111)=0,P111*-10+10,P111*-10))","v":0},{"$f":"IF(Q111=0,0,IF(SUM($D111:P111)=0,Q111*-10+10,Q111*-10))","v":0},{"$f":"IF(R111=0,0,IF(SUM($D111:Q111)=0,R111*-10+10,R111*-10))","v":0},{"$f":"IF(S111=0,0,IF(SUM($D111:R111)=0,S111*-10+10,S111*-10))","v":0},{"$f":"IF(T111=0,0,IF(SUM($D111:S111)=0,T111*-10+10,T111*-10))","v":0},{"$f":"IF(U111=0,0,IF(SUM($D111:T111)=0,U111*-10+10,U111*-10))","v":0},{"$f":"IF(V111=0,0,IF(SUM($D111:U111)=0,V111*-10+10,V111*-10))","v":0},{"$f":"IF(W111=0,0,IF(SUM($D111:V111)=0,W111*-10+10,W111*-10))","v":0},{"$f":"IF(X111=0,0,IF(SUM($D111:W111)=0,X111*-10+10,X111*-10))","v":0},{"$f":"IF(Y111=0,0,IF(SUM($D111:X111)=0,Y111*-10+10,Y111*-10))","v":0},{"$f":"IF(Z111=0,0,IF(SUM($D111:Y111)=0,Z111*-10+10,Z111*-10))","v":0},{"$f":"IF(AA111=0,0,IF(SUM($D111:Z111)=0,AA111*-10+10,AA111*-10))","v":0},{"$f":"IF(AB111=0,0,IF(SUM($D111:AA111)=0,AB111*-10+10,AB111*-10))","v":0},{"$f":"IF(AC111=0,0,IF(SUM($D111:AB111)=0,AC111*-10+10,AC111*-10))","v":0},{"$f":"IF(AD111=0,0,IF(SUM($D111:AC111)=0,AD111*-10+10,AD111*-10))","v":0},{"$f":"IF(AE111=0,0,IF(SUM($D111:AD111)=0,AE111*-10+10,AE111*-10))","v":0},{"$f":"IF(AF111=0,0,IF(SUM($D111:AE111)=0,AF111*-10+10,AF111*-10))","v":0},{"$f":"IF(AG111=0,0,IF(SUM($D111:AF111)=0,AG111*-10+10,AG111*-10))","v":0},{"$f":"IF(AH111=0,0,IF(SUM($D111:AG111)=0,AH111*-10+10,AH111*-10))","v":0},{"$f":"IF(AI111=0,0,IF(SUM($D111:AH111)=0,AI111*-10+10,AI111*-10))","v":0},{"$f":"IF(AJ111=0,0,IF(SUM($D111:AI111)=0,AJ111*-10+10,AJ111*-10))","v":0},{"$f":"IF(AK111=0,0,IF(SUM($D111:AJ111)=0,AK111*-10+10,AK111*-10))","v":0},{"$f":"IF(AL111=0,0,IF(SUM($D111:AK111)=0,AL111*-10+10,AL111*-10))","v":0},{"$f":"IF(AM111=0,0,IF(SUM($D111:AL111)=0,AM111*-10+10,AM111*-10))","v":0},{"$f":"IF(AN111=0,0,IF(SUM($D111:AM111)=0,AN111*-10+10,AN111*-10))","v":0},{"$f":"IF(AO111=0,0,IF(SUM($D111:AN111)=0,AO111*-10+10,AO111*-10))","v":0},{"$f":"IF(AP111=0,0,IF(SUM($D111:AO111)=0,AP111*-10+10,AP111*-10))","v":0},{"$f":"IF(AQ111=0,0,IF(SUM($D111:AP111)=0,AQ111*-10+10,AQ111*-10))","v":0},{"$f":"IF(AR111=0,0,IF(SUM($D111:AQ111)=0,AR111*-10+10,AR111*-10))","v":0},{"$f":"IF(AS111=0,0,IF(SUM($D111:AR111)=0,AS111*-10+10,AS111*-10))","v":0},{"$f":"IF(AT111=0,0,IF(SUM($D111:AS111)=0,AT111*-10+10,AT111*-10))","v":0},{"$f":"IF(AU111=0,0,IF(SUM($D111:AT111)=0,AU111*-10+10,AU111*-10))","v":0},{"$f":"IF(AV111=0,0,IF(SUM($D111:AU111)=0,AV111*-10+10,AV111*-10))","v":0},{"$f":"IF(AW111=0,0,IF(SUM($D111:AV111)=0,AW111*-10+10,AW111*-10))","v":0},{"$f":"IF(AX111=0,0,IF(SUM($D111:AW111)=0,AX111*-10+10,AX111*-10))","v":0},{"$f":"IF(AY111=0,0,IF(SUM($D111:AX111)=0,AY111*-10+10,AY111*-10))","v":0},{"$f":"IF(AZ111=0,0,IF(SUM($D111:AY111)=0,AZ111*-10+10,AZ111*-10))","v":0},{"$f":"IF(BA111=0,0,IF(SUM($D111:AZ111)=0,BA111*-10+10,BA111*-10))","v":0},{"$f":"IF(BB111=0,0,IF(SUM($D111:BA111)=0,BB111*-10+10,BB111*-10))","v":0}]
[]
[]
[]
[]
[]
[]
[]
[null,null,"Timeout = T, Foul = F ------------>",{"$f":"'2-way Quiz'!D64","v":0},{"$f":"'2-way Quiz'!E64","v":0},{"$f":"'2-way Quiz'!F64","v":0},{"$f":"'2-way Quiz'!G64","v":0},{"$f":"'2-way Quiz'!H64","v":0},{"$f":"'2-way Quiz'!I64","v":0},{"$f":"'2-way Quiz'!J64","v":0},{"$f":"'2-way Quiz'!K64","v":0},{"$f":"'2-way Quiz'!L64","v":0},{"$f":"'2-way Quiz'!M64","v":0},{"$f":"'2-way Quiz'!N64","v":0},{"$f":"'2-way Quiz'!O64","v":0},{"$f":"'2-way Quiz'!P64","v":0},{"$f":"'2-way Quiz'!Q64","v":0},{"$f":"'2-way Quiz'!R64","v":0},{"$f":"'2-way Quiz'!S64","v":0},{"$f":"'2-way Quiz'!T64","v":0},{"$f":"'2-way Quiz'!U64","v":0},{"$f":"'2-way Quiz'!V64","v":0},{"$f":"'2-way Quiz'!W64","v":0},{"$f":"'2-way Quiz'!X64","v":0},{"$f":"'2-way Quiz'!Y64","v":0},{"$f":"'2-way Quiz'!Z64","v":0},{"$f":"'2-way Quiz'!AA64","v":0},{"$f":"'2-way Quiz'!AB64","v":0},{"$f":"'2-way Quiz'!AC64","v":0},{"$f":"'2-way Quiz'!AD64","v":0},{"$f":"'2-way Quiz'!AE64","v":0},{"$f":"'2-way Quiz'!AF64","v":0},{"$f":"'2-way Quiz'!AG64","v":0},{"$f":"'2-way Quiz'!AH64","v":0},{"$f":"'2-way Quiz'!AI64","v":0},{"$f":"'2-way Quiz'!AJ64","v":0},{"$f":"'2-way Quiz'!AK64","v":0},{"$f":"'2-way Quiz'!AL64","v":0},{"$f":"'2-way Quiz'!AM64","v":0},{"$f":"'2-way Quiz'!AN64","v":0},{"$f":"'2-way Quiz'!AO64","v":0},{"$f":"'2-way Quiz'!AP64","v":0},{"$f":"'2-way Quiz'!AQ64","v":0},{"$f":"'2-way Quiz'!AR64","v":0},{"$f":"'2-way Quiz'!AS64","v":0},{"$f":"'2-way Quiz'!AT64","v":0},{"$f":"'2-way Quiz'!AU64","v":0},{"$f":"'2-way Quiz'!AV64","v":0},{"$f":"'2-way Quiz'!AW64","v":0},{"$f":"'2-way Quiz'!AX64","v":0},{"$f":"'2-way Quiz'!AY64","v":0},{"$f":"'2-way Quiz'!AZ64","v":0},{"$f":"'2-way Quiz'!BA64","v":0},{"$f":"'2-way Quiz'!BB64","v":0}]
[null,null,{"$f":"CONCATENATE(\"Timeout = T (\",B133,\"), Foul = F ---------->\")","v":"Timeout = T (0), Foul = F ---------->"},{"$f":"LEFT(D121)","v":"0"},{"$f":"LEFT(E121)","v":"0"},"0","0","0","0","0","0","0","0","0","0","0","0","0","0","0","0","0","0","0","0","0","0","0","0","0","0","0","0","0","0","0","0","0","0","0","0","0","0","0","0","0","0","0","0","0","0","0","0","0"]
[null,null,{"$f":"CONCATENATE(\"Timeout = T (\",B133,\"), Foul = F (\",B132,\") --->\")","v":"Timeout = T (0), Foul = F (0) --->"},{"$f":"LEFT(RIGHT(D121,LEN(D121)-1))","v":""},{"$f":"LEFT(RIGHT(E121,LEN(E121)-1))","v":""},"","","","","","","","","","","","","","","","","","","","","","","","","","","","","","","","","","","","","","","","","","","","","","","","",""]
[null,null,{"$f":"CONCATENATE(\"Timeout = T, Foul = F (\",B132,\") ---------->\")","v":"Timeout = T, Foul = F (0) ---------->"},{"$f":"LEFT(RIGHT(D121,LEN(D121)-2))","v":{"$error":"#VALUE!"}},{"$f":"LEFT(RIGHT(E121,LEN(E121)-2))","v":{"$error":"#VALUE!"}},{"$error":"#VALUE!"},{"$error":"#VALUE!"},{"$error":"#VALUE!"},{"$error":"#VALUE!"},{"$error":"#VALUE!"},{"$error":"#VALUE!"},{"$error":"#VALUE!"},{"$error":"#VALUE!"},{"$error":"#VALUE!"},{"$error":"#VALUE!"},{"$error":"#VALUE!"},{"$error":"#VALUE!"},{"$error":"#VALUE!"},{"$error":"#VALUE!"},{"$error":"#VALUE!"},{"$error":"#VALUE!"},{"$error":"#VALUE!"},{"$error":"#VALUE!"},{"$error":"#VALUE!"},{"$error":"#VALUE!"},{"$error":"#VALUE!"},{"$error":"#VALUE!"},{"$error":"#VALUE!"},{"$error":"#VALUE!"},{"$error":"#VALUE!"},{"$error":"#VALUE!"},{"$error":"#VALUE!"},{"$error":"#VALUE!"},{"$error":"#VALUE!"},{"$error":"#VALUE!"},{"$error":"#VALUE!"},{"$error":"#VALUE!"},{"$error":"#VALUE!"},{"$error":"#VALUE!"},{"$error":"#VALUE!"},{"$error":"#VALUE!"},{"$error":"#VALUE!"},{"$error":"#VALUE!"},{"$error":"#VALUE!"},{"$error":"#VALUE!"},{"$error":"#VALUE!"},{"$error":"#VALUE!"},{"$error":"#VALUE!"},{"$error":"#VALUE!"},{"$error":"#VALUE!"},{"$error":"#VALUE!"},{"$error":"#VALUE!"},{"$error":"#VALUE!"},{"$error":"#VALUE!"}]
[null,null,null,{"$f":"LEFT(RIGHT(D121,LEN(D121)-3))","v":{"$error":"#VALUE!"}},{"$f":"LEFT(RIGHT(E121,LEN(E121)-3))","v":{"$error":"#VALUE!"}},{"$error":"#VALUE!"},{"$error":"#VALUE!"},{"$error":"#VALUE!"},{"$error":"#VALUE!"},{"$error":"#VALUE!"},{"$error":"#VALUE!"},{"$error":"#VALUE!"},{"$error":"#VALUE!"},{"$error":"#VALUE!"},{"$error":"#VALUE!"},{"$error":"#VALUE!"},{"$error":"#VALUE!"},{"$error":"#VALUE!"},{"$error":"#VALUE!"},{"$error":"#VALUE!"},{"$error":"#VALUE!"},{"$error":"#VALUE!"},{"$error":"#VALUE!"},{"$error":"#VALUE!"},{"$error":"#VALUE!"},{"$error":"#VALUE!"},{"$error":"#VALUE!"},{"$error":"#VALUE!"},{"$error":"#VALUE!"},{"$error":"#VALUE!"},{"$error":"#VALUE!"},{"$error":"#VALUE!"},{"$error":"#VALUE!"},{"$error":"#VALUE!"},{"$error":"#VALUE!"},{"$error":"#VALUE!"},{"$error":"#VALUE!"},{"$error":"#VALUE!"},{"$error":"#VALUE!"},{"$error":"#VALUE!"},{"$error":"#VALUE!"},{"$error":"#VALUE!"},{"$error":"#VALUE!"},{"$error":"#VALUE!"},{"$error":"#VALUE!"},{"$error":"#VALUE!"},{"$error":"#VALUE!"},{"$error":"#VALUE!"},{"$error":"#VALUE!"},{"$error":"#VALUE!"},{"$error":"#VALUE!"},{"$error":"#VALUE!"},{"$error":"#VALUE!"},{"$error":"#VALUE!"}]
[null,null,null,{"$f":"LEFT(RIGHT(D121,LEN(D121)-4))","v":{"$error":"#VALUE!"}},{"$f":"LEFT(RIGHT(E121,LEN(E121)-4))","v":{"$error":"#VALUE!"}},{"$error":"#VALUE!"},{"$error":"#VALUE!"},{"$error":"#VALUE!"},{"$error":"#VALUE!"},{"$error":"#VALUE!"},{"$error":"#VALUE!"},{"$error":"#VALUE!"},{"$error":"#VALUE!"},{"$error":"#VALUE!"},{"$error":"#VALUE!"},{"$error":"#VALUE!"},{"$error":"#VALUE!"},{"$error":"#VALUE!"},{"$error":"#VALUE!"},{"$error":"#VALUE!"},{"$error":"#VALUE!"},{"$error":"#VALUE!"},{"$error":"#VALUE!"},{"$error":"#VALUE!"},{"$error":"#VALUE!"},{"$error":"#VALUE!"},{"$error":"#VALUE!"},{"$error":"#VALUE!"},{"$error":"#VALUE!"},{"$error":"#VALUE!"},{"$error":"#VALUE!"},{"$error":"#VALUE!"},{"$error":"#VALUE!"},{"$error":"#VALUE!"},{"$error":"#VALUE!"},{"$error":"#VALUE!"},{"$error":"#VALUE!"},{"$error":"#VALUE!"},{"$error":"#VALUE!"},{"$error":"#VALUE!"},{"$error":"#VALUE!"},{"$error":"#VALUE!"},{"$error":"#VALUE!"},{"$error":"#VALUE!"},{"$error":"#VALUE!"},{"$error":"#VALUE!"},{"$error":"#VALUE!"},{"$error":"#VALUE!"},{"$error":"#VALUE!"},{"$error":"#VALUE!"},{"$error":"#VALUE!"},{"$error":"#VALUE!"},{"$error":"#VALUE!"},{"$error":"#VALUE!"}]
[null,null,null,{"$f":"LEFT(RIGHT(D121,LEN(D121)-5))","v":{"$error":"#VALUE!"}},{"$f":"LEFT(RIGHT(E121,LEN(E121)-5))","v":{"$error":"#VALUE!"}},{"$error":"#VALUE!"},{"$error":"#VALUE!"},{"$error":"#VALUE!"},{"$error":"#VALUE!"},{"$error":"#VALUE!"},{"$error":"#VALUE!"},{"$error":"#VALUE!"},{"$error":"#VALUE!"},{"$error":"#VALUE!"},{"$error":"#VALUE!"},{"$error":"#VALUE!"},{"$error":"#VALUE!"},{"$error":"#VALUE!"},{"$error":"#VALUE!"},{"$error":"#VALUE!"},{"$error":"#VALUE!"},{"$error":"#VALUE!"},{"$error":"#VALUE!"},{"$error":"#VALUE!"},{"$error":"#VALUE!"},{"$error":"#VALUE!"},{"$error":"#VALUE!"},{"$error":"#VALUE!"},{"$error":"#VALUE!"},{"$error":"#VALUE!"},{"$error":"#VALUE!"},{"$error":"#VALUE!"},{"$error":"#VALUE!"},{"$error":"#VALUE!"},{"$error":"#VALUE!"},{"$error":"#VALUE!"},{"$error":"#VALUE!"},{"$error":"#VALUE!"},{"$error":"#VALUE!"},{"$error":"#VALUE!"},{"$error":"#VALUE!"},{"$error":"#VALUE!"},{"$error":"#VALUE!"},{"$error":"#VALUE!"},{"$error":"#VALUE!"},{"$error":"#VALUE!"},{"$error":"#VALUE!"},{"$error":"#VALUE!"},{"$error":"#VALUE!"},{"$error":"#VALUE!"},{"$error":"#VALUE!"},{"$error":"#VALUE!"},{"$error":"#VALUE!"},{"$error":"#VALUE!"}]
[null,null,null,{"$f":"LEFT(RIGHT(D121,LEN(D121)-6))","v":{"$error":"#VALUE!"}},{"$f":"LEFT(RIGHT(E121,LEN(E121)-6))","v":{"$error":"#VALUE!"}},{"$error":"#VALUE!"},{"$error":"#VALUE!"},{"$error":"#VALUE!"},{"$error":"#VALUE!"},{"$error":"#VALUE!"},{"$error":"#VALUE!"},{"$error":"#VALUE!"},{"$error":"#VALUE!"},{"$error":"#VALUE!"},{"$error":"#VALUE!"},{"$error":"#VALUE!"},{"$error":"#VALUE!"},{"$error":"#VALUE!"},{"$error":"#VALUE!"},{"$error":"#VALUE!"},{"$error":"#VALUE!"},{"$error":"#VALUE!"},{"$error":"#VALUE!"},{"$error":"#VALUE!"},{"$error":"#VALUE!"},{"$error":"#VALUE!"},{"$error":"#VALUE!"},{"$error":"#VALUE!"},{"$error":"#VALUE!"},{"$error":"#VALUE!"},{"$error":"#VALUE!"},{"$error":"#VALUE!"},{"$error":"#VALUE!"},{"$error":"#VALUE!"},{"$error":"#VALUE!"},{"$error":"#VALUE!"},{"$error":"#VALUE!"},{"$error":"#VALUE!"},{"$error":"#VALUE!"},{"$error":"#VALUE!"},{"$error":"#VALUE!"},{"$error":"#VALUE!"},{"$error":"#VALUE!"},{"$error":"#VALUE!"},{"$error":"#VALUE!"},{"$error":"#VALUE!"},{"$error":"#VALUE!"},{"$error":"#VALUE!"},{"$error":"#VALUE!"},{"$error":"#VALUE!"},{"$error":"#VALUE!"},{"$error":"#VALUE!"},{"$error":"#VALUE!"},{"$error":"#VALUE!"}]
[null,null,null,{"$f":"LEFT(RIGHT(D121,LEN(D121)-7))","v":{"$error":"#VALUE!"}},{"$f":"LEFT(RIGHT(E121,LEN(E121)-7))","v":{"$error":"#VALUE!"}},{"$error":"#VALUE!"},{"$error":"#VALUE!"},{"$error":"#VALUE!"},{"$error":"#VALUE!"},{"$error":"#VALUE!"},{"$error":"#VALUE!"},{"$error":"#VALUE!"},{"$error":"#VALUE!"},{"$error":"#VALUE!"},{"$error":"#VALUE!"},{"$error":"#VALUE!"},{"$error":"#VALUE!"},{"$error":"#VALUE!"},{"$error":"#VALUE!"},{"$error":"#VALUE!"},{"$error":"#VALUE!"},{"$error":"#VALUE!"},{"$error":"#VALUE!"},{"$error":"#VALUE!"},{"$error":"#VALUE!"},{"$error":"#VALUE!"},{"$error":"#VALUE!"},{"$error":"#VALUE!"},{"$error":"#VALUE!"},{"$error":"#VALUE!"},{"$error":"#VALUE!"},{"$error":"#VALUE!"},{"$error":"#VALUE!"},{"$error":"#VALUE!"},{"$error":"#VALUE!"},{"$error":"#VALUE!"},{"$error":"#VALUE!"},{"$error":"#VALUE!"},{"$error":"#VALUE!"},{"$error":"#VALUE!"},{"$error":"#VALUE!"},{"$error":"#VALUE!"},{"$error":"#VALUE!"},{"$error":"#VALUE!"},{"$error":"#VALUE!"},{"$error":"#VALUE!"},{"$error":"#VALUE!"},{"$error":"#VALUE!"},{"$error":"#VALUE!"},{"$error":"#VALUE!"},{"$error":"#VALUE!"},{"$error":"#VALUE!"},{"$error":"#VALUE!"},{"$error":"#VALUE!"}]
[null,null,null,{"$f":"LEFT(RIGHT(D121,LEN(D121)-8))","v":{"$error":"#VALUE!"}},{"$f":"LEFT(RIGHT(E121,LEN(E121)-8))","v":{"$error":"#VALUE!"}},{"$error":"#VALUE!"},{"$error":"#VALUE!"},{"$error":"#VALUE!"},{"$error":"#VALUE!"},{"$error":"#VALUE!"},{"$error":"#VALUE!"},{"$error":"#VALUE!"},{"$error":"#VALUE!"},{"$error":"#VALUE!"},{"$error":"#VALUE!"},{"$error":"#VALUE!"},{"$error":"#VALUE!"},{"$error":"#VALUE!"},{"$error":"#VALUE!"},{"$error":"#VALUE!"},{"$error":"#VALUE!"},{"$error":"#VALUE!"},{"$error":"#VALUE!"},{"$error":"#VALUE!"},{"$error":"#VALUE!"},{"$error":"#VALUE!"},{"$error":"#VALUE!"},{"$error":"#VALUE!"},{"$error":"#VALUE!"},{"$error":"#VALUE!"},{"$error":"#VALUE!"},{"$error":"#VALUE!"},{"$error":"#VALUE!"},{"$error":"#VALUE!"},{"$error":"#VALUE!"},{"$error":"#VALUE!"},{"$error":"#VALUE!"},{"$error":"#VALUE!"},{"$error":"#VALUE!"},{"$error":"#VALUE!"},{"$error":"#VALUE!"},{"$error":"#VALUE!"},{"$error":"#VALUE!"},{"$error":"#VALUE!"},{"$error":"#VALUE!"},{"$error":"#VALUE!"},{"$error":"#VALUE!"},{"$error":"#VALUE!"},{"$error":"#VALUE!"},{"$error":"#VALUE!"},{"$error":"#VALUE!"},{"$error":"#VALUE!"},{"$error":"#VALUE!"},{"$error":"#VALUE!"}]
[null,null,null,{"$f":"LEFT(RIGHT(D121,LEN(D121)-9))","v":{"$error":"#VALUE!"}},{"$f":"LEFT(RIGHT(E121,LEN(E121)-9))","v":{"$error":"#VALUE!"}},{"$error":"#VALUE!"},{"$error":"#VALUE!"},{"$error":"#VALUE!"},{"$error":"#VALUE!"},{"$error":"#VALUE!"},{"$error":"#VALUE!"},{"$error":"#VALUE!"},{"$error":"#VALUE!"},{"$error":"#VALUE!"},{"$error":"#VALUE!"},{"$error":"#VALUE!"},{"$error":"#VALUE!"},{"$error":"#VALUE!"},{"$error":"#VALUE!"},{"$error":"#VALUE!"},{"$error":"#VALUE!"},{"$error":"#VALUE!"},{"$error":"#VALUE!"},{"$error":"#VALUE!"},{"$error":"#VALUE!"},{"$error":"#VALUE!"},{"$error":"#VALUE!"},{"$error":"#VALUE!"},{"$error":"#VALUE!"},{"$error":"#VALUE!"},{"$error":"#VALUE!"},{"$error":"#VALUE!"},{"$error":"#VALUE!"},{"$error":"#VALUE!"},{"$error":"#VALUE!"},{"$error":"#VALUE!"},{"$error":"#VALUE!"},{"$error":"#VALUE!"},{"$error":"#VALUE!"},{"$error":"#VALUE!"},{"$error":"#VALUE!"},{"$error":"#VALUE!"},{"$error":"#VALUE!"},{"$error":"#VALUE!"},{"$error":"#VALUE!"},{"$error":"#VALUE!"},{"$error":"#VALUE!"},{"$error":"#VALUE!"},{"$error":"#VALUE!"},{"$error":"#VALUE!"},{"$error":"#VALUE!"},{"$error":"#VALUE!"},{"$error":"#VALUE!"},{"$error":"#VALUE!"}]
[null,{"$f":"SUM(D132:BB132)","v":0},"# F's",{"$f":"COUNTIF(D122:D131,\"F\")","v":0},{"$f":"COUNTIF(E122:E131,\"F\")","v":0},0,0,0,0,0,0,0,0,0,0,0,0,0,0,0,0,0,0,0,0,0,0,0,0,0,0,0,0,0,0,0,0,0,0,0,0,0,0,0,0,0,0,0,0,0,0,0,0,0]
[null,{"$f":"SUM(D133:BB133)","v":0},"# T's",{"$f":"COUNTIF(D122:D131,\"T\")","v":0},{"$f":"COUNTIF(E122:E131,\"T\")","v":0},0,0,0,0,0,0,0,0,0,0,0,0,0,0,0,0,0,0,0,0,0,0,0,0,0,0,0,0,0,0,0,0,0,0,0,0,0,0,0,0,0,0,0,0,0,0,0,0,0]
[null,null,"foul points",{"$f":"IF(D132=0,0,D132*-10+10)","v":0},{"$f":"IF(E132=0,0,IF(D132=0,E132*-10+10,E132*-10))","v":0},{"$f":"IF(F132=0,0,IF(SUM($D132:E132)=0,F132*-10+10,F132*-10))","v":0},{"$f":"IF(G132=0,0,IF(SUM($D132:F132)=0,G132*-10+10,G132*-10))","v":0},{"$f":"IF(H132=0,0,IF(SUM($D132:G132)=0,H132*-10+10,H132*-10))","v":0},{"$f":"IF(I132=0,0,IF(SUM($D132:H132)=0,I132*-10+10,I132*-10))","v":0},{"$f":"IF(J132=0,0,IF(SUM($D132:I132)=0,J132*-10+10,J132*-10))","v":0},{"$f":"IF(K132=0,0,IF(SUM($D132:J132)=0,K132*-10+10,K132*-10))","v":0},{"$f":"IF(L132=0,0,IF(SUM($D132:K132)=0,L132*-10+10,L132*-10))","v":0},{"$f":"IF(M132=0,0,IF(SUM($D132:L132)=0,M132*-10+10,M132*-10))","v":0},{"$f":"IF(N132=0,0,IF(SUM($D132:M132)=0,N132*-10+10,N132*-10))","v":0},{"$f":"IF(O132=0,0,IF(SUM($D132:N132)=0,O132*-10+10,O132*-10))","v":0},{"$f":"IF(P132=0,0,IF(SUM($D132:O132)=0,P132*-10+10,P132*-10))","v":0},{"$f":"IF(Q132=0,0,IF(SUM($D132:P132)=0,Q132*-10+10,Q132*-10))","v":0},{"$f":"IF(R132=0,0,IF(SUM($D132:Q132)=0,R132*-10+10,R132*-10))","v":0},{"$f":"IF(S132=0,0,IF(SUM($D132:R132)=0,S132*-10+10,S132*-10))","v":0},{"$f":"IF(T132=0,0,IF(SUM($D132:S132)=0,T132*-10+10,T132*-10))","v":0},{"$f":"IF(U132=0,0,IF(SUM($D132:T132)=0,U132*-10+10,U132*-10))","v":0},{"$f":"IF(V132=0,0,IF(SUM($D132:U132)=0,V132*-10+10,V132*-10))","v":0},{"$f":"IF(W132=0,0,IF(SUM($D132:V132)=0,W132*-10+10,W132*-10))","v":0},{"$f":"IF(X132=0,0,IF(SUM($D132:W132)=0,X132*-10+10,X132*-10))","v":0},{"$f":"IF(Y132=0,0,IF(SUM($D132:X132)=0,Y132*-10+10,Y132*-10))","v":0},{"$f":"IF(Z132=0,0,IF(SUM($D132:Y132)=0,Z132*-10+10,Z132*-10))","v":0},{"$f":"IF(AA132=0,0,IF(SUM($D132:Z132)=0,AA132*-10+10,AA132*-10))","v":0},{"$f":"IF(AB132=0,0,IF(SUM($D132:AA132)=0,AB132*-10+10,AB132*-10))","v":0},{"$f":"IF(AC132=0,0,IF(SUM($D132:AB132)=0,AC132*-10+10,AC132*-10))","v":0},{"$f":"IF(AD132=0,0,IF(SUM($D132:AC132)=0,AD132*-10+10,AD132*-10))","v":0},{"$f":"IF(AE132=0,0,IF(SUM($D132:AD132)=0,AE132*-10+10,AE132*-10))","v":0},{"$f":"IF(AF132=0,0,IF(SUM($D132:AE132)=0,AF132*-10+10,AF132*-10))","v":0},{"$f":"IF(AG132=0,0,IF(SUM($D132:AF132)=0,AG132*-10+10,AG132*-10))","v":0},{"$f":"IF(AH132=0,0,IF(SUM($D132:AG132)=0,AH132*-10+10,AH132*-10))","v":0},{"$f":"IF(AI132=0,0,IF(SUM($D132:AH132)=0,AI132*-10+10,AI132*-10))","v":0},{"$f":"IF(AJ132=0,0,IF(SUM($D132:AI132)=0,AJ132*-10+10,AJ132*-10))","v":0},{"$f":"IF(AK132=0,0,IF(SUM($D132:AJ132)=0,AK132*-10+10,AK132*-10))","v":0},{"$f":"IF(AL132=0,0,IF(SUM($D132:AK132)=0,AL132*-10+10,AL132*-10))","v":0},{"$f":"IF(AM132=0,0,IF(SUM($D132:AL132)=0,AM132*-10+10,AM132*-10))","v":0},{"$f":"IF(AN132=0,0,IF(SUM($D132:AM132)=0,AN132*-10+10,AN132*-10))","v":0},{"$f":"IF(AO132=0,0,IF(SUM($D132:AN132)=0,AO132*-10+10,AO132*-10))","v":0},{"$f":"IF(AP132=0,0,IF(SUM($D132:AO132)=0,AP132*-10+10,AP132*-10))","v":0},{"$f":"IF(AQ132=0,0,IF(SUM($D132:AP132)=0,AQ132*-10+10,AQ132*-10))","v":0},{"$f":"IF(AR132=0,0,IF(SUM($D132:AQ132)=0,AR132*-10+10,AR132*-10))","v":0},{"$f":"IF(AS132=0,0,IF(SUM($D132:AR132)=0,AS132*-10+10,AS132*-10))","v":0},{"$f":"IF(AT132=0,0,IF(SUM($D132:AS132)=0,AT132*-10+10,AT132*-10))","v":0},{"$f":"IF(AU132=0,0,IF(SUM($D132:AT132)=0,AU132*-10+10,AU132*-10))","v":0},{"$f":"IF(AV132=0,0,IF(SUM($D132:AU132)=0,AV132*-10+10,AV132*-10))","v":0},{"$f":"IF(AW132=0,0,IF(SUM($D132:AV132)=0,AW132*-10+10,AW132*-10))","v":0},{"$f":"IF(AX132=0,0,IF(SUM($D132:AW132)=0,AX132*-10+10,AX132*-10))","v":0},{"$f":"IF(AY132=0,0,IF(SUM($D132:AX132)=0,AY132*-10+10,AY132*-10))","v":0},{"$f":"IF(AZ132=0,0,IF(SUM($D132:AY132)=0,AZ132*-10+10,AZ132*-10))","v":0},{"$f":"IF(BA132=0,0,IF(SUM($D132:AZ132)=0,BA132*-10+10,BA132*-10))","v":0},{"$f":"IF(BB132=0,0,IF(SUM($D132:BA132)=0,BB132*-10+10,BB132*-10))","v":0}]

{"sheet":"2-way Quiz","index":4,"n_rows":120,"n_cols":158,"rows_kept":120,"cut":false,"hidden":false,"merged":[[11,3,12,25],[80,6,85,23]]}
[null,null,"Seth Leidy"]
[null,null,"Cindy Hatfield"]
[null,null,"Mike Miller"]
[null,null,"Joe Greff"]
[null,null,"Courtney Terry"]
[null,null,"Josh Leidy"]
[null,null,"Jason Jewell"]
[null,null,"Kelly Hile"]
[null,null,"John Hile"]
[null,null,"Matt Gutowsky"]
[null,"Quizmaster:"," "]
[null,"Sched. Start Time:",null,"Official DBQ Electronic Scoresheet"]
[null,"Date:",{"$f":"TODAY()","v":"2015-07-07"}]
[null," Room #"]
[null,null,null,{"$f":"IF(COUNTIF(D17:D20,\"\")+COUNTIF(D38:D41,\"\")+COUNTIF(D59:D62,\"\")=12,IF(E15<12,8,12),COUNTIF(D17:D20,\"\")+COUNTIF(D38:D41,\"\")+COUNTIF(D59:D62,\"\"))","v":8},8,11,12,12,12,12,12,12,12,12,12,12,{"$f":"COUNTIF(Q17:Q20,\"\")+COUNTIF(Q38:Q41,\"\")+COUNTIF(Q59:Q62,\"\")","v":12},12,12,12,12,12,12,12,12,12,12,12,12,12,12,12,12,12,12,12,12,12,12,12,12,12,12,12,12,12,12,12,12,12,12,12,12,12]
["Individual","Errors","Team Name",1,2,3,4,5,6,7,8,9,10,11,12,{"$f":"IF(O21+O42+O63<N42+N63+N21,\"12A\",\"\")","v":""},{"$f":"IF(P21+P42+P63<O42+O63+O21,\"12B\",\"\")","v":""},13,{"$f":"IF(R21+R42+R63<Q42+Q63+Q21,\"13A\",\"\")","v":""},{"$f":"IF(S21+S42+S63<R42+R63+R21,\"13B\",\"\")","v":""},14,{"$f":"IF(U21+U42+U63<T42+T63+T21,\"14A\",\"\")","v":""},{"$f":"IF(V21+V42+V63<U42+U63+U21,\"14B\",\"\")","v":""},15,{"$f":"IF(X101=\"\",\"\",X101)","v":""},{"$f":"IF(Y101=\"\",\"\",Y101)","v":""},"","","","","","","","","","","","","","","","","","","","","","","","","","","",""]
[{"$f":"SUM(D17:BB17)","v":0},{"$f":"COUNTIF(D17:BB17,\"E\")","v":0},"Quizzer #1",null,null,null,null,null,null,null,null,null,null,null,null,null,null,null,null,null,null,null,null,null,null,null,null,null,null,null,null,null,null,null,null,null,null,null,null,null,null,null,null,null,null,null,null,null,null,null,null,null,null,null,null,{"$f":"Sheet4!D17","v":20},{"$f":"Sheet4!E17","v":20},{"$f":"Sheet4!F17","v":20},{"$f":"Sheet4!G17","v":20},{"$f":"Sheet4!H17","v":20},{"$f":"Sheet4!I17","v":20},{"$f":"Sheet4!J17","v":20},{"$f":"Sheet4!K17","v":20},{"$f":"Sheet4!L17","v":20},{"$f":"Sheet4!M17","v":20},{"$f":"Sheet4!N17","v":20},{"$f":"Sheet4!O17","v":20},{"$f":"Sheet4!P17","v":20},{"$f":"Sheet4!Q17","v":"."},{"$f":"Sheet4!R17","v":20},{"$f":"Sheet4!S17","v":10},{"$f":"Sheet4!T17","v":"."},{"$f":"Sheet4!U17","v":20},{"$f":"Sheet4!V17","v":10},{"$f":"Sheet4!W17","v":"."},{"$f":"Sheet4!X17","v":20},{"$f":"Sheet4!Y17","v":10},{"$f":"Sheet4!Z17","v":10},{"$f":"Sheet4!AA17","v":10},{"$f":"Sheet4!AB17","v":10},{"$f":"Sheet4!AC17","v":10},{"$f":"Sheet4!AD17","v":10},{"$f":"Sheet4!AE17","v":10},{"$f":"Sheet4!AF17","v":10},{"$f":"Sheet4!AG17","v":10},{"$f":"Sheet4!AH17","v":10},{"$f":"Sheet4!AI17","v":10},{"$f":"Sheet4!AJ17","v":10},{"$f":"Sheet4!AK17","v":10},{"$f":"Sheet4!AL17","v":10},{"$f":"Sheet4!AM17","v":10},{"$f":"Sheet4!AN17","v":10},{"$f":"Sheet4!AO17","v":10},{"$f":"Sheet4!AP17","v":10},{"$f":"Sheet4!AQ17","v":10},{"$f":"Sheet4!AR17","v":10},{"$f":"Sheet4!AS17","v":10},{"$f":"Sheet4!AT17","v":10},{"$f":"Sheet4!AU17","v":10},{"$f":"Sheet4!AV17","v":10},{"$f":"Sheet4!AW17","v":10},{"$f":"Sheet4!AX17","v":10},{"$f":"Sheet4!AY17","v":10},{"$f":"Sheet4!AZ17","v":10},{"$f":"Sheet4!BA17","v":10},{"$f":"Sheet4!BB17","v":10},null,{"$f":"IF(BD17=\".\",\".\",D26)","v":"E"},{"$f":"IF(BE17=\".\",\".\",E26)","v":"E"},"E","E","E","E","E","E","E","E","E","E","E",".","E",".",".","E",".",".","E","A","A","A","A","A","A","A","A","A","A","A","A","A","A","A","A","A","A","A","A","A","A","A","A","A","A","A","A","A","A"]
[{"$f":"SUM(D18:BB18)","v":0},{"$f":"COUNTIF(D18:BB18,\"E\")","v":0},"Quizzer #2",{"$f":"IF(D$17=\"\",\"\",IF(D$17=0,0,\"\"))","v":""},"","","","","","","","","","","","","","","",{"$f":"IF(T$17=\"\",\"\",IF(T$17=0,0,\"\"))","v":""},"","","","","","","","","","","","","","","",{"$f":"IF(AJ$17=\"\",\"\",IF(AJ$17=0,0,\"\"))","v":""},"","","","","","","","","","","","","","","",{"$f":"IF(AZ$17=\"\",\"\",IF(AZ$17=0,0,\"\"))","v":""},"","",null,{"$f":"Sheet4!D18","v":20},{"$f":"Sheet4!E18","v":20},{"$f":"Sheet4!F18","v":20},{"$f":"Sheet4!G18","v":20},{"$f":"Sheet4!H18","v":20},{"$f":"Sheet4!I18","v":20},{"$f":"Sheet4!J18","v":20},{"$f":"Sheet4!K18","v":20},{"$f":"Sheet4!L18","v":20},{"$f":"Sheet4!M18","v":20},{"$f":"Sheet4!N18","v":20},{"$f":"Sheet4!O18","v":20},{"$f":"Sheet4!P18","v":20},{"$f":"Sheet4!Q18","v":"."},{"$f":"Sheet4!R18","v":20},{"$f":"Sheet4!S18","v":10},{"$f":"Sheet4!T18","v":"."},{"$f":"Sheet4!U18","v":20},{"$f":"Sheet4!V18","v":10},{"$f":"Sheet4!W18","v":"."},{"$f":"Sheet4!X18","v":20},{"$f":"Sheet4!Y18","v":10},{"$f":"Sheet4!Z18","v":10},{"$f":"Sheet4!AA18","v":10},{"$f":"Sheet4!AB18","v":10},{"$f":"Sheet4!AC18","v":10},{"$f":"Sheet4!AD18","v":10},{"$f":"Sheet4!AE18","v":10},{"$f":"Sheet4!AF18","v":10},{"$f":"Sheet4!AG18","v":10},{"$f":"Sheet4!AH18","v":10},{"$f":"Sheet4!AI18","v":10},{"$f":"Sheet4!AJ18","v":10},{"$f":"Sheet4!AK18","v":10},{"$f":"Sheet4!AL18","v":10},{"$f":"Sheet4!AM18","v":10},{"$f":"Sheet4!AN18","v":10},{"$f":"Sheet4!AO18","v":10},{"$f":"Sheet4!AP18","v":10},{"$f":"Sheet4!AQ18","v":10},{"$f":"Sheet4!AR18","v":10},{"$f":"Sheet4!AS18","v":10},{"$f":"Sheet4!AT18","v":10},{"$f":"Sheet4!AU18","v":10},{"$f":"Sheet4!AV18","v":10},{"$f":"Sheet4!AW18","v":10},{"$f":"Sheet4!AX18","v":10},{"$f":"Sheet4!AY18","v":10},{"$f":"Sheet4!AZ18","v":10},{"$f":"Sheet4!BA18","v":10},{"$f":"Sheet4!BB18","v":10},null,{"$f":"IF(BD18=\".\",\".\",D26)","v":"E"},{"$f":"IF(BE18=\".\",\".\",E26)","v":"E"},"E","E","E","E","E","E","E","E","E","E","E",".","E",".",".","E",".",".","E","A","A","A","A","A","A","A","A","A","A","A","A","A","A","A","A","A","A","A","A","A","A","A","A","A","A","A","A","A","A"]
[{"$f":"SUM(D19:BB19)","v":0},{"$f":"COUNTIF(D19:BB19,\"E\")","v":0},"Quizzer #3","","","","","","","","","","","","","","","","","","","","","","","","","","","","","","","","","","","","","","","","","","","","","","","","","","","",null,{"$f":"Sheet4!D19","v":20},{"$f":"Sheet4!E19","v":20},{"$f":"Sheet4!F19","v":20},{"$f":"Sheet4!G19","v":20},{"$f":"Sheet4!H19","v":20},{"$f":"Sheet4!I19","v":20},{"$f":"Sheet4!J19","v":20},{"$f":"Sheet4!K19","v":20},{"$f":"Sheet4!L19","v":20},{"$f":"Sheet4!M19","v":20},{"$f":"Sheet4!N19","v":20},{"$f":"Sheet4!O19","v":20},{"$f":"Sheet4!P19","v":20},{"$f":"Sheet4!Q19","v":"."},{"$f":"Sheet4!R19","v":20},{"$f":"Sheet4!S19","v":10},{"$f":"Sheet4!T19","v":"."},{"$f":"Sheet4!U19","v":20},{"$f":"Sheet4!V19","v":10},{"$f":"Sheet4!W19","v":"."},{"$f":"Sheet4!X19","v":20},{"$f":"Sheet4!Y19","v":10},{"$f":"Sheet4!Z19","v":10},{"$f":"Sheet4!AA19","v":10},{"$f":"Sheet4!AB19","v":10},{"$f":"Sheet4!AC19","v":10},{"$f":"Sheet4!AD19","v":10},{"$f":"Sheet4!AE19","v":10},{"$f":"Sheet4!AF19","v":10},{"$f":"Sheet4!AG19","v":10},{"$f":"Sheet4!AH19","v":10},{"$f":"Sheet4!AI19","v":10},{"$f":"Sheet4!AJ19","v":10},{"$f":"Sheet4!AK19","v":10},{"$f":"Sheet4!AL19","v":10},{"$f":"Sheet4!AM19","v":10},{"$f":"Sheet4!AN19","v":10},{"$f":"Sheet4!AO19","v":10},{"$f":"Sheet4!AP19","v":10},{"$f":"Sheet4!AQ19","v":10},{"$f":"Sheet4!AR19","v":10},{"$f":"Sheet4!AS19","v":10},{"$f":"Sheet4!AT19","v":10},{"$f":"Sheet4!AU19","v":10},{"$f":"Sheet4!AV19","v":10},{"$f":"Sheet4!AW19","v":10},{"$f":"Sheet4!AX19","v":10},{"$f":"Sheet4!AY19","v":10},{"$f":"Sheet4!AZ19","v":10},{"$f":"Sheet4!BA19","v":10},{"$f":"Sheet4!BB19","v":10},null,{"$f":"IF(BD19=\".\",\".\",D26)","v":"E"},{"$f":"IF(BE19=\".\",\".\",E26)","v":"E"},"E","E","E","E","E","E","E","E","E","E","E",".","E",".",".","E",".",".","E","A","A","A","A","A","A","A","A","A","A","A","A","A","A","A","A","A","A","A","A","A","A","A","A","A","A","A","A","A","A"]
[{"$f":"SUM(D20:BB20)","v":0},{"$f":"COUNTIF(D20:BB20,\"E\")","v":0},"Substitute","","","","","","","","","","","","","","","","","","","","","","","","","","","","","","","","","","","","","","","","","","","","","","","","","","","",null,{"$f":"Sheet4!D20","v":"."},{"$f":"Sheet4!E20","v":20},{"$f":"Sheet4!F20","v":20},{"$f":"Sheet4!G20","v":20},{"$f":"Sheet4!H20","v":20},{"$f":"Sheet4!I20","v":20},{"$f":"Sheet4!J20","v":20},{"$f":"Sheet4!K20","v":20},{"$f":"Sheet4!L20","v":20},{"$f":"Sheet4!M20","v":20},{"$f":"Sheet4!N20","v":20},{"$f":"Sheet4!O20","v":20},{"$f":"Sheet4!P20","v":20},{"$f":"Sheet4!Q20","v":"."},{"$f":"Sheet4!R20","v":20},{"$f":"Sheet4!S20","v":10},{"$f":"Sheet4!T20","v":"."},{"$f":"Sheet4!U20","v":20},{"$f":"Sheet4!V20","v":10},{"$f":"Sheet4!W20","v":"."},{"$f":"Sheet4!X20","v":20},{"$f":"Sheet4!Y20","v":10},{"$f":"Sheet4!Z20","v":10},{"$f":"Sheet4!AA20","v":10},{"$f":"Sheet4!AB20","v":10},{"$f":"Sheet4!AC20","v":10},{"$f":"Sheet4!AD20","v":10},{"$f":"Sheet4!AE20","v":10},{"$f":"Sheet4!AF20","v":10},{"$f":"Sheet4!AG20","v":10},{"$f":"Sheet4!AH20","v":10},{"$f":"Sheet4!AI20","v":10},{"$f":"Sheet4!AJ20","v":10},{"$f":"Sheet4!AK20","v":10},{"$f":"Sheet4!AL20","v":10},{"$f":"Sheet4!AM20","v":10},{"$f":"Sheet4!AN20","v":10},{"$f":"Sheet4!AO20","v":10},{"$f":"Sheet4!AP20","v":10},{"$f":"Sheet4!AQ20","v":10},{"$f":"Sheet4!AR20","v":10},{"$f":"Sheet4!AS20","v":10},{"$f":"Sheet4!AT20","v":10},{"$f":"Sheet4!AU20","v":10},{"$f":"Sheet4!AV20","v":10},{"$f":"Sheet4!AW20","v":10},{"$f":"Sheet4!AX20","v":10},{"$f":"Sheet4!AY20","v":10},{"$f":"Sheet4!AZ20","v":10},{"$f":"Sheet4!BA20","v":10},{"$f":"Sheet4!BB20","v":10},null,{"$f":"IF(BD20=\".\",\".\",D26)","v":"."},{"$f":"IF(BE20=\".\",\".\",E26)","v":"E"},"E","E","E","E","E","E","E","E","E","E","E",".","E",".",".","E",".",".","E","A","A","A","A","A","A","A","A","A","A","A","A","A","A","A","A","A","A","A","A","A","A","A","A","A","A","A","A","A","A"]
[{"$f":"ROUND(BB21,0)","v":0},{"$f":"SUM(B23:B26)","v":0},0.25,{"$f":"SUM(D17:D20)+D28+0.25+Sheet4!D92","v":0.25},{"$f":"D21+SUM(E17:E20)+E28+Sheet4!E92","v":0.25},{"$f":"E21+SUM(F17:F20)+F28+F34+Sheet4!F92","v":0.25},{"$f":"F21+SUM(G17:G20)+G28+G34+Sheet4!G92","v":0.25},{"$f":"G21+SUM(H17:H20)+H28+H34+Sheet4!H92","v":0.25},{"$f":"H21+SUM(I17:I20)+I28+I34+Sheet4!I92","v":0.25},{"$f":"IF(I21+J28<0,0.24,I21+SUM(J17:J20)+J28+J34)+Sheet4!J92","v":0.25},{"$f":"IF(J21+K28<0,0.23,J21+SUM(K17:K20)+K28+K34)+Sheet4!K92","v":0.25},{"$f":"IF(K21+L28<0,0.22,K21+SUM(L17:L20)+L28+L34)+Sheet4!L92","v":0.25},{"$f":"IF(L21+M28<0,0.21,L21+SUM(M17:M20)+M28+M34)+Sheet4!M92","v":0.25},{"$f":"IF(M21+N28<0,0.2,M21+SUM(N17:N20)+N28+N34)+Sheet4!N92","v":0.25},{"$f":"IF(N21+O28<0,0.19,N21+SUM(O17:O20)+O28+O34)+Sheet4!O92","v":0.25},{"$f":"IF(O21+P28<0,0.18,O21+SUM(P17:P20)+P28+P34)+Sheet4!P92","v":0.25},{"$f":"IF(P21+Q28<0,0.17,P21+SUM(Q17:Q20)+Q28+Q34)+Sheet4!Q92","v":0.25},{"$f":"IF(Q21+R28<0,0.16,Q21+SUM(R17:R20)+R28+R34)+Sheet4!R92","v":0.25},{"$f":"IF(R21+S28<0,0.15,R21+SUM(S17:S20)+S28+S34)+Sheet4!S92","v":0.25},{"$f":"IF(S21+T28<0,0.14,S21+SUM(T17:T20)+T28+T34)+Sheet4!T92","v":0.25},{"$f":"IF(T21+U28<0,0.13,T21+SUM(U17:U20)+U28+U34)+Sheet4!U92","v":0.25},{"$f":"IF(U21+V28<0,0.12,U21+SUM(V17:V20)+V28+V34)+Sheet4!V92","v":0.25},{"$f":"IF(V21+W28<0,0.11,V21+SUM(W17:W20)+W28+W34)+Sheet4!W92","v":0.25},{"$f":"IF(W21+X28<0,0.1,W21+SUM(X17:X20)+X28+X34)+Sheet4!X92","v":0.25},{"$f":"IF(X21+Y28<0,0.09,X21+SUM(Y17:Y20)+Y28+Y34)+Sheet4!Y92","v":0.25},{"$f":"IF(Y21+Z28<0,0.08,Y21+SUM(Z17:Z20)+Z28+Z34)+Sheet4!Z92","v":0.25},{"$f":"IF(Z21+AA28<0,0.07,Z21+SUM(AA17:AA20)+AA28+AA34)+Sheet4!AA92","v":0.25},{"$f":"IF(AA21+AB28<0,0.06,AA21+SUM(AB17:AB20)+AB28+AB34)+Sheet4!AB92","v":0.25},{"$f":"IF(AB21+AC28<0,0.05,AB21+SUM(AC17:AC20)+AC28+AC34)+Sheet4!AC92","v":0.25},{"$f":"IF(AC21+AD28<0,0.04,AC21+SUM(AD17:AD20)+AD28+AD34)+Sheet4!AD92","v":0.25},{"$f":"IF(AD21+AE28<0,0.03,AD21+SUM(AE17:AE20)+AE28+AE34)+Sheet4!AE92","v":0.25},{"$f":"IF(AE21+AF28<0,0.02,AE21+SUM(AF17:AF20)+AF28+AF34)+Sheet4!AF92","v":0.25},{"$f":"IF(AF21+AG28<0,0.01,AF21+SUM(AG17:AG20)+AG28+AG34)+Sheet4!AG92","v":0.25},{"$f":"IF(AG21+AH28<0,0,AG21+SUM(AH17:AH20)+AH28+AH34)+Sheet4!AH92","v":0.25},{"$f":"IF(AH21+AI28<0,0,AH21+SUM(AI17:AI20)+AI28+AI34)+Sheet4!AI92","v":0.25},{"$f":"IF(AI21+AJ28<0,0,AI21+SUM(AJ17:AJ20)+AJ28+AJ34)+Sheet4!AJ92","v":0.25},{"$f":"IF(AJ21+AK28<0,0,AJ21+SUM(AK17:AK20)+AK28+AK34)+Sheet4!AK92","v":0.25},{"$f":"IF(AK21+AL28<0,0,AK21+SUM(AL17:AL20)+AL28+AL34)+Sheet4!AL92","v":0.25},{"$f":"IF(AL21+AM28<0,0,AL21+SUM(AM17:AM20)+AM28+AM34)+Sheet4!AM92","v":0.25},{"$f":"IF(AM21+AN28<0,0,AM21+SUM(AN17:AN20)+AN28+AN34)+Sheet4!AN92","v":0.25},{"$f":"IF(AN21+AO28<0,0,AN21+SUM(AO17:AO20)+AO28+AO34)+Sheet4!AO92","v":0.25},{"$f":"IF(AO21+AP28<0,0,AO21+SUM(AP17:AP20)+AP28+AP34)+Sheet4!AP92","v":0.25},{"$f":"IF(AP21+AQ28<0,0,AP21+SUM(AQ17:AQ20)+AQ28+AQ34)+Sheet4!AQ92","v":0.25},{"$f":"IF(AQ21+AR28<0,0,AQ21+SUM(AR17:AR20)+AR28+AR34)+Sheet4!AR92","v":0.25},{"$f":"IF(AR21+AS28<0,0,AR21+SUM(AS17:AS20)+AS28+AS34)+Sheet4!AS92","v":0.25},{"$f":"IF(AS21+AT28<0,0,AS21+SUM(AT17:AT20)+AT28+AT34)+Sheet4!AT92","v":0.25},{"$f":"IF(AT21+AU28<0,0,AT21+SUM(AU17:AU20)+AU28+AU34)+Sheet4!AU92","v":0.25},{"$f":"IF(AU21+AV28<0,0,AU21+SUM(AV17:AV20)+AV28+AV34)+Sheet4!AV92","v":0.25},{"$f":"IF(AV21+AW28<0,0,AV21+SUM(AW17:AW20)+AW28+AW34)+Sheet4!AW92","v":0.25},{"$f":"IF(AW21+AX28<0,0,AW21+SUM(AX17:AX20)+AX28+AX34)+Sheet4!AX92","v":0.25},{"$f":"IF(AX21+AY28<0,0,AX21+SUM(AY17:AY20)+AY28+AY34)+Sheet4!AY92","v":0.25},{"$f":"IF(AY21+AZ28<0,0,AY21+SUM(AZ17:AZ20)+AZ28+AZ34)+Sheet4!AZ92","v":0.25},{"$f":"IF(AZ21+BA28<0,0,AZ21+SUM(BA17:BA20)+BA28+BA34)+Sheet4!BA92","v":0.25},{"$f":"IF(BA21+BB28<0,0,BA21+SUM(BB17:BB20)+BB28+BB34)+Sheet4!BB92","v":0.25}]
["Team Total","Olympic Pts.",{"$f":"IF(Sheet4!B90=0,IF(Sheet4!B91=0,Sheet4!C79,Sheet4!C80),IF(Sheet4!B91=0,Sheet4!C82,Sheet4!C81))","v":"Timeout = T, Foul = F ------------>"},null,null,null,null,null,null,null,null,null,null,null,null,null,null,null,null,null,null,null,null,null,null,null,null,null,null,null,null,null,null,null,null,null,null,null,null,null,null,null,null,null,null,null,null,null,null,null,null,null,null,null,null,{"$f":"BD17","v":20},{"$f":"BE17","v":20},20,20,20,20,20,20,20,20,20,20,20,".",20,10,".",20,10,".",20,10,10,10,10,10,10,10,10,10,10,10,10,10,10,10,10,10,10,10,10,10,10,10,10,10,10,10,10,10,10]
[null,{"$f":"W118","v":0},"CEPC Greatly Annoyed",null,{"$f":"COUNTIF(D17:D20,\"E\")","v":0},{"$f":"COUNTIF(D17:E20,\"E\")","v":0},{"$f":"COUNTIF(E17:F20,\"E\")-1","v":-1},{"$f":"COUNTIF(F17:G20,\"E\")-1","v":-1},-1,-1,-1,-1,-1,-1,-1,-1,-1,-1,-1,-1,-1,-1,-1,-1,-1,-1,-1,-1,-1,-1,-1,-1,-1,-1,-1,-1,-1,-1,-1,-1,-1,-1,-1,-1,-1,-1,-1,-1,-1,-1,-1,-1,-1,-1,null,{"$f":"DD17","v":"E"},{"$f":"DE17","v":"E"},"E","E","E","E","E","E","E","E","E","E","E",".","E",".",".","E",".",".","E","A","A","A","A","A","A","A","A","A","A","A","A","A","A","A","A","A","A","A","A","A","A","A","A","A","A","A","A","A","A"]
[null,0,"CMC Gushed Out",null,{"$f":"COUNTIF(D17:D20,\"E\")","v":0},{"$f":"COUNTIF(E17:E20,\"E\")","v":0},0,0,0,0,0,0,0,0,0,0,0,0,0,0,0,0,0,0,0,0,0,0,0,0,0,0,0,0,0,0,0,0,0,0,0,0,0,0,0,0,0,0,0,0,0,0,0,0,null,0,0,0,0,0,0,0,0,0,0,0,0,0,0,0,0,0,0,0,0,0,0,0,0,0,0,0,0,0,0,0,0,0,0,0,0,0,0,0,0,0,0,0,0,0,0,0,0,0,0,0]
[null,{"$f":"IF(BB33>=3,2,0)","v":0},"CMC Understand the Utterances",20,{"$f":"IF(E24=1,\".\",20)","v":20},{"$f":"IF(F47=\"A\",\".\",IF(F68=\"A\",\".\",IF(F24=1,\".\",IF(SUM(F44,F65)<2,20,10))))","v":20},20,{"$f":"IF(H47=\"A\",\".\",IF(H68=\"A\",\".\",IF(H24=1,\".\",IF(H45=0,20,10))))","v":20},20,20,20,20,20,20,20,20,".",20,{"$f":"IF(COUNTIF(Q17:R20,\"\")<8,\">\",10)","v":10},".",20,{"$f":"IF(COUNTIF(T17:U20,\"\")<8,\">\",10)","v":10},".",20,{"$f":"Y104","v":10},10,10,10,10,10,10,10,10,10,10,10,10,10,10,10,10,10,10,10,10,10,10,10,10,10,10,10,10,10,null,{"$f":"BD18","v":20},{"$f":"BE18","v":20},20,20,20,20,20,20,20,20,20,20,20,".",20,10,".",20,10,".",20,10,10,10,10,10,10,10,10,10,10,10,10,10,10,10,10,10,10,10,10,10,10,10,10,10,10,10,10,10,10]
[null,{"$f":"IF(B25=2,0,IF(B23+B24=10,IF(A21>=130,1,0),IF(B23+B24=5,IF(A21>=100,1,0),IF(A21>=70,1,0))))","v":0},"True Worship Church 1","E",{"$f":"IF(E24=1,\".\",\"E\")","v":"E"},{"$f":"IF(F25=\".\",\".\",IF(SUM(F44,F65)<2,\"E\",\"A\"))","v":"E"},"E",{"$f":"IF(H25=\".\",\".\",IF(H45=0,\"E\",\"A\"))","v":"E"},{"$f":"IF(I25=\".\",\".\",IF(I45=0,\"E\",\"A\"))","v":"E"},"E","E","E","E","E","E","E",".","E",{"$f":"IF(S25=20,\"E\",\".\")","v":"."},{"$f":"IF(T25=10,\"A\",\".\")","v":"."},"E",{"$f":"IF(V25=20,\"E\",\".\")","v":"."},{"$f":"IF(W25=10,\"A\",\".\")","v":"."},"E","A","A","A","A","A","A","A","A","A","A","A","A","A","A","A","A","A","A","A","A","A","A","A","A","A","A","A","A","A","A",null,{"$f":"DD18","v":"E"},{"$f":"DE18","v":"E"},"E","E","E","E","E","E","E","E","E","E","E",".","E",".",".","E",".",".","E","A","A","A","A","A","A","A","A","A","A","A","A","A","A","A","A","A","A","A","A","A","A","A","A","A","A","A","A","A","A"]
[null,null,"True Worship Church 2",{"$f":"IF(D15=12,\".\",IF(D15=0,0,\"\"))","v":""},{"$f":"IF(E15=12,\".\",IF(E15=0,0,\"\"))","v":""},"",".",".",".",".",".",".",".",".",".",{"$f":"IF(P15=0,0,IF(P$78=0,\".\",\"\"))","v":"."},{"$f":"IF(Q15=0,0,IF(Q$78=0,\".\",\"\"))","v":"."},".",{"$f":"IF(S15=0,0,IF(S$78=0,\".\",\"\"))","v":"."},{"$f":"IF(T15=0,0,IF(T$78=0,\".\",\"\"))","v":"."},".",{"$f":"IF(V15=0,0,IF(V$78=0,\".\",\"\"))","v":"."},{"$f":"IF(W15=0,0,IF(W$78=0,\".\",\"\"))","v":"."},".",".",".",".",".",".",".",".",".",".",".",".",".",".",".",".",".",".",".",".",".",".",".",".",".",".",".",".",".",".","."]
[null,null,"Heart Pangs of Death",{"$f":"IF(E24=0,0,IF(SUM($D24:E24)>=4,-10,-0.01))","v":0},{"$f":"IF(F24=0,0,IF(SUM($D24:F24)>=4,-10,-0.01))","v":0},{"$f":"IF(G24=0,0,IF(SUM($D24:G24)>=4,-10,-0.01))","v":0},{"$f":"IF(H24=0,0,IF(SUM($D24:H24)>=4,-10,-0.01))","v":0},{"$f":"IF(I24=0,0,IF(SUM($D24:I24)>=4,-10,-0.01))","v":0},{"$f":"IF(J24=0,0,IF(SUM($D24:J24)>=4,-10,-0.01))","v":0},{"$f":"IF(K24=0,0,IF(SUM($D24:K24)>=4,-10,-0.01))","v":0},{"$f":"IF(L24=0,0,IF(SUM($D24:L24)>=4,-10,-0.01))","v":0},{"$f":"IF(M24=0,0,IF(SUM($D24:M24)>=4,-10,-0.01))","v":0},{"$f":"IF(N24=0,0,IF(SUM($D24:N24)>=4,-10,-0.01))","v":0},{"$f":"IF(O24=0,0,IF(SUM($D24:O24)>=4,-10,-0.01))","v":0},{"$f":"IF(P24=0,0,IF(SUM($D24:P24)>=4,-10,-0.01))","v":0},{"$f":"IF(Q24=0,0,IF(SUM($D24:Q24)>=4,-10,-0.01))","v":0},{"$f":"IF(R24=0,0,IF(SUM($D24:R24)>=4,-10,-0.01))","v":0},{"$f":"IF(S24=0,0,IF(SUM($D24:S24)>=4,-10,-0.01))","v":0},{"$f":"IF(T24=0,0,IF(SUM($D24:T24)>=4,-10,-0.01))","v":0},{"$f":"IF(U24=0,0,IF(SUM($D24:U24)>=4,-10,-0.01))","v":0},{"$f":"IF(V24=0,0,IF(SUM($D24:V24)>=4,-10,-0.01))","v":0},{"$f":"IF(W24=0,0,IF(SUM($D24:W24)>=4,-10,-0.01))","v":0},0,{"$f":"IF(Y24=1,-10,0)","v":0},{"$f":"IF(Z24=1,-10,0)","v":0},{"$f":"IF(AA24=1,-10,0)","v":0},{"$f":"IF(AB24=1,-10,0)","v":0},0,0,0,0,0,0,0,0,0,0,0,0,0,0,0,0,0,0,0,0,0,0,0,0,0,0,0,null,{"$f":"BD19","v":20},{"$f":"BE19","v":20},20,20,20,20,20,20,20,20,20,20,20,".",20,10,".",20,10,".",20,10,10,10,10,10,10,10,10,10,10,10,10,10,10,10,10,10,10,10,10,10,10,10,10,10,10,10,10,10,10]
[null,null,"Cut to the Heart",null,null,{"$f":"IF(COUNTIF($D17:F17,20)>=1,1,0)","v":0},{"$f":"IF(COUNTIF($D17:G17,20)>=1,1,0)","v":0},{"$f":"IF(COUNTIF($D17:H17,20)>=1,1,0)","v":0},{"$f":"IF(COUNTIF($D17:I17,20)>=1,1,0)","v":0},{"$f":"IF(COUNTIF($D17:J17,20)>=1,1,0)","v":0},{"$f":"IF(COUNTIF($D17:K17,20)>=1,1,0)","v":0},{"$f":"IF(COUNTIF($D17:L17,20)>=1,1,0)","v":0},{"$f":"IF(COUNTIF($D17:M17,20)>=1,1,0)","v":0},{"$f":"IF(COUNTIF($D17:N17,20)>=1,1,0)","v":0},{"$f":"IF(COUNTIF($D17:O17,20)>=1,1,0)","v":0},{"$f":"IF(COUNTIF($D17:P17,20)>=1,1,0)","v":0},{"$f":"IF(COUNTIF($D17:Q17,20)>=1,1,0)","v":0},{"$f":"IF(COUNTIF($D17:R17,20)>=1,1,0)","v":0},{"$f":"IF(COUNTIF($D17:S17,20)>=1,1,0)","v":0},{"$f":"IF(COUNTIF($D17:T17,20)>=1,1,0)","v":0},{"$f":"IF(COUNTIF($D17:U17,20)>=1,1,0)","v":0},{"$f":"IF(COUNTIF($D17:V17,20)>=1,1,0)","v":0},{"$f":"IF(COUNTIF($D17:W17,20)>=1,1,0)","v":0},{"$f":"IF(COUNTIF($D17:X17,20)>=1,1,0)","v":0},{"$f":"IF(COUNTIF($D17:Y17,20)>=1,1,0)","v":0},{"$f":"IF(COUNTIF($D17:Z17,20)>=1,1,0)","v":0},{"$f":"IF(COUNTIF($D17:AA17,20)>=1,1,0)","v":0},{"$f":"IF(COUNTIF($D17:AB17,20)>=1,1,0)","v":0},{"$f":"IF(COUNTIF($D17:AC17,20)>=1,1,0)","v":0},{"$f":"IF(COUNTIF($D17:AD17,20)>=1,1,0)","v":0},{"$f":"IF(COUNTIF($D17:AE17,20)>=1,1,0)","v":0},{"$f":"IF(COUNTIF($D17:AF17,20)>=1,1,0)","v":0},{"$f":"IF(COUNTIF($D17:AG17,20)>=1,1,0)","v":0},{"$f":"IF(COUNTIF($D17:AH17,20)>=1,1,0)","v":0},{"$f":"IF(COUNTIF($D17:AI17,20)>=1,1,0)","v":0},{"$f":"IF(COUNTIF($D17:AJ17,20)>=1,1,0)","v":0},{"$f":"IF(COUNTIF($D17:AK17,20)>=1,1,0)","v":0},{"$f":"IF(COUNTIF($D17:AL17,20)>=1,1,0)","v":0},{"$f":"IF(COUNTIF($D17:AM17,20)>=1,1,0)","v":0},{"$f":"IF(COUNTIF($D17:AN17,20)>=1,1,0)","v":0},{"$f":"IF(COUNTIF($D17:AO17,20)>=1,1,0)","v":0},{"$f":"IF(COUNTIF($D17:AP17,20)>=1,1,0)","v":0},{"$f":"IF(COUNTIF($D17:AQ17,20)>=1,1,0)","v":0},{"$f":"IF(COUNTIF($D17:AR17,20)>=1,1,0)","v":0},{"$f":"IF(COUNTIF($D17:AS17,20)>=1,1,0)","v":0},{"$f":"IF(COUNTIF($D17:AT17,20)>=1,1,0)","v":0},{"$f":"IF(COUNTIF($D17:AU17,20)>=1,1,0)","v":0},{"$f":"IF(COUNTIF($D17:AV17,20)>=1,1,0)","v":0},{"$f":"IF(COUNTIF($D17:AW17,20)>=1,1,0)","v":0},{"$f":"IF(COUNTIF($D17:AX17,20)>=1,1,0)","v":0},{"$f":"IF(COUNTIF($D17:AY17,20)>=1,1,0)","v":0},{"$f":"IF(COUNTIF($D17:AZ17,20)>=1,1,0)","v":0},{"$f":"IF(COUNTIF($D17:BA17,20)>=1,1,0)","v":0},{"$f":"IF(COUNTIF($D17:BB17,20)>=1,1,0)","v":0},null,{"$f":"DD19","v":"E"},{"$f":"DE19","v":"E"},"E","E","E","E","E","E","E","E","E","E","E",".","E",".",".","E",".",".","E","A","A","A","A","A","A","A","A","A","A","A","A","A","A","A","A","A","A","A","A","A","A","A","A","A","A","A","A","A","A"]
[null,null,"LP No Other Name",null,null,{"$f":"IF(COUNTIF($D18:F18,20)>=1,1,0)","v":0},{"$f":"IF(COUNTIF($D18:G18,20)>=1,1,0)","v":0},{"$f":"IF(COUNTIF($D18:H18,20)>=1,1,0)","v":0},{"$f":"IF(COUNTIF($D18:I18,20)>=1,1,0)","v":0},{"$f":"IF(COUNTIF($D18:J18,20)>=1,1,0)","v":0},{"$f":"IF(COUNTIF($D18:K18,20)>=1,1,0)","v":0},{"$f":"IF(COUNTIF($D18:L18,20)>=1,1,0)","v":0},{"$f":"IF(COUNTIF($D18:M18,20)>=1,1,0)","v":0},{"$f":"IF(COUNTIF($D18:N18,20)>=1,1,0)","v":0},{"$f":"IF(COUNTIF($D18:O18,20)>=1,1,0)","v":0},{"$f":"IF(COUNTIF($D18:P18,20)>=1,1,0)","v":0},{"$f":"IF(COUNTIF($D18:Q18,20)>=1,1,0)","v":0},{"$f":"IF(COUNTIF($D18:R18,20)>=1,1,0)","v":0},{"$f":"IF(COUNTIF($D18:S18,20)>=1,1,0)","v":0},{"$f":"IF(COUNTIF($D18:T18,20)>=1,1,0)","v":0},{"$f":"IF(COUNTIF($D18:U18,20)>=1,1,0)","v":0},{"$f":"IF(COUNTIF($D18:V18,20)>=1,1,0)","v":0},{"$f":"IF(COUNTIF($D18:W18,20)>=1,1,0)","v":0},{"$f":"IF(COUNTIF($D18:X18,20)>=1,1,0)","v":0},{"$f":"IF(COUNTIF($D18:Y18,20)>=1,1,0)","v":0},{"$f":"IF(COUNTIF($D18:Z18,20)>=1,1,0)","v":0},{"$f":"IF(COUNTIF($D18:AA18,20)>=1,1,0)","v":0},{"$f":"IF(COUNTIF($D18:AB18,20)>=1,1,0)","v":0},{"$f":"IF(COUNTIF($D18:AC18,20)>=1,1,0)","v":0},{"$f":"IF(COUNTIF($D18:AD18,20)>=1,1,0)","v":0},{"$f":"IF(COUNTIF($D18:AE18,20)>=1,1,0)","v":0},{"$f":"IF(COUNTIF($D18:AF18,20)>=1,1,0)","v":0},{"$f":"IF(COUNTIF($D18:AG18,20)>=1,1,0)","v":0},{"$f":"IF(COUNTIF($D18:AH18,20)>=1,1,0)","v":0},{"$f":"IF(COUNTIF($D18:AI18,20)>=1,1,0)","v":0},{"$f":"IF(COUNTIF($D18:AJ18,20)>=1,1,0)","v":0},{"$f":"IF(COUNTIF($D18:AK18,20)>=1,1,0)","v":0},{"$f":"IF(COUNTIF($D18:AL18,20)>=1,1,0)","v":0},{"$f":"IF(COUNTIF($D18:AM18,20)>=1,1,0)","v":0},{"$f":"IF(COUNTIF($D18:AN18,20)>=1,1,0)","v":0},{"$f":"IF(COUNTIF($D18:AO18,20)>=1,1,0)","v":0},{"$f":"IF(COUNTIF($D18:AP18,20)>=1,1,0)","v":0},{"$f":"IF(COUNTIF($D18:AQ18,20)>=1,1,0)","v":0},{"$f":"IF(COUNTIF($D18:AR18,20)>=1,1,0)","v":0},{"$f":"IF(COUNTIF($D18:AS18,20)>=1,1,0)","v":0},{"$f":"IF(COUNTIF($D18:AT18,20)>=1,1,0)","v":0},{"$f":"IF(COUNTIF($D18:AU18,20)>=1,1,0)","v":0},{"$f":"IF(COUNTIF($D18:AV18,20)>=1,1,0)","v":0},{"$f":"IF(COUNTIF($D18:AW18,20)>=1,1,0)","v":0},{"$f":"IF(COUNTIF($D18:AX18,20)>=1,1,0)","v":0},{"$f":"IF(COUNTIF($D18:AY18,20)>=1,1,0)","v":0},{"$f":"IF(COUNTIF($D18:AZ18,20)>=1,1,0)","v":0},{"$f":"IF(COUNTIF($D18:BA18,20)>=1,1,0)","v":0},{"$f":"IF(COUNTIF($D18:BB18,20)>=1,1,0)","v":0}]
[null,null,"LP Get Up Quickly",null,null,{"$f":"IF(COUNTIF($D19:F19,20)>=1,1,0)","v":0},{"$f":"IF(COUNTIF($D19:G19,20)>=1,1,0)","v":0},{"$f":"IF(COUNTIF($D19:H19,20)>=1,1,0)","v":0},{"$f":"IF(COUNTIF($D19:I19,20)>=1,1,0)","v":0},{"$f":"IF(COUNTIF($D19:J19,20)>=1,1,0)","v":0},{"$f":"IF(COUNTIF($D19:K19,20)>=1,1,0)","v":0},{"$f":"IF(COUNTIF($D19:L19,20)>=1,1,0)","v":0},{"$f":"IF(COUNTIF($D19:M19,20)>=1,1,0)","v":0},{"$f":"IF(COUNTIF($D19:N19,20)>=1,1,0)","v":0},{"$f":"IF(COUNTIF($D19:O19,20)>=1,1,0)","v":0},{"$f":"IF(COUNTIF($D19:P19,20)>=1,1,0)","v":0},{"$f":"IF(COUNTIF($D19:Q19,20)>=1,1,0)","v":0},{"$f":"IF(COUNTIF($D19:R19,20)>=1,1,0)","v":0},{"$f":"IF(COUNTIF($D19:S19,20)>=1,1,0)","v":0},{"$f":"IF(COUNTIF($D19:T19,20)>=1,1,0)","v":0},{"$f":"IF(COUNTIF($D19:U19,20)>=1,1,0)","v":0},{"$f":"IF(COUNTIF($D19:V19,20)>=1,1,0)","v":0},{"$f":"IF(COUNTIF($D19:W19,20)>=1,1,0)","v":0},{"$f":"IF(COUNTIF($D19:X19,20)>=1,1,0)","v":0},{"$f":"IF(COUNTIF($D19:Y19,20)>=1,1,0)","v":0},{"$f":"IF(COUNTIF($D19:Z19,20)>=1,1,0)","v":0},{"$f":"IF(COUNTIF($D19:AA19,20)>=1,1,0)","v":0},{"$f":"IF(COUNTIF($D19:AB19,20)>=1,1,0)","v":0},{"$f":"IF(COUNTIF($D19:AC19,20)>=1,1,0)","v":0},{"$f":"IF(COUNTIF($D19:AD19,20)>=1,1,0)","v":0},{"$f":"IF(COUNTIF($D19:AE19,20)>=1,1,0)","v":0},{"$f":"IF(COUNTIF($D19:AF19,20)>=1,1,0)","v":0},{"$f":"IF(COUNTIF($D19:AG19,20)>=1,1,0)","v":0},{"$f":"IF(COUNTIF($D19:AH19,20)>=1,1,0)","v":0},{"$f":"IF(COUNTIF($D19:AI19,20)>=1,1,0)","v":0},{"$f":"IF(COUNTIF($D19:AJ19,20)>=1,1,0)","v":0},{"$f":"IF(COUNTIF($D19:AK19,20)>=1,1,0)","v":0},{"$f":"IF(COUNTIF($D19:AL19,20)>=1,1,0)","v":0},{"$f":"IF(COUNTIF($D19:AM19,20)>=1,1,0)","v":0},{"$f":"IF(COUNTIF($D19:AN19,20)>=1,1,0)","v":0},{"$f":"IF(COUNTIF($D19:AO19,20)>=1,1,0)","v":0},{"$f":"IF(COUNTIF($D19:AP19,20)>=1,1,0)","v":0},{"$f":"IF(COUNTIF($D19:AQ19,20)>=1,1,0)","v":0},{"$f":"IF(COUNTIF($D19:AR19,20)>=1,1,0)","v":0},{"$f":"IF(COUNTIF($D19:AS19,20)>=1,1,0)","v":0},{"$f":"IF(COUNTIF($D19:AT19,20)>=1,1,0)","v":0},{"$f":"IF(COUNTIF($D19:AU19,20)>=1,1,0)","v":0},{"$f":"IF(COUNTIF($D19:AV19,20)>=1,1,0)","v":0},{"$f":"IF(COUNTIF($D19:AW19,20)>=1,1,0)","v":0},{"$f":"IF(COUNTIF($D19:AX19,20)>=1,1,0)","v":0},{"$f":"IF(COUNTIF($D19:AY19,20)>=1,1,0)","v":0},{"$f":"IF(COUNTIF($D19:AZ19,20)>=1,1,0)","v":0},{"$f":"IF(COUNTIF($D19:BA19,20)>=1,1,0)","v":0},{"$f":"IF(COUNTIF($D19:BB19,20)>=1,1,0)","v":0},null,{"$f":"BD20","v":"."},{"$f":"BE20","v":20},20,20,20,20,20,20,20,20,20,20,20,".",20,10,".",20,10,".",20,10,10,10,10,10,10,10,10,10,10,10,10,10,10,10,10,10,10,10,10,10,10,10,10,10,10,10,10,10,10]
[null,null,"LP O The Awful Us",null,null,{"$f":"IF(COUNTIF($D20:F20,20)>=1,1,0)","v":0},{"$f":"IF(COUNTIF($D20:G20,20)>=1,1,0)","v":0},{"$f":"IF(COUNTIF($D20:H20,20)>=1,1,0)","v":0},{"$f":"IF(COUNTIF($D20:I20,20)>=1,1,0)","v":0},{"$f":"IF(COUNTIF($D20:J20,20)>=1,1,0)","v":0},{"$f":"IF(COUNTIF($D20:K20,20)>=1,1,0)","v":0},{"$f":"IF(COUNTIF($D20:L20,20)>=1,1,0)","v":0},{"$f":"IF(COUNTIF($D20:M20,20)>=1,1,0)","v":0},{"$f":"IF(COUNTIF($D20:N20,20)>=1,1,0)","v":0},{"$f":"IF(COUNTIF($D20:O20,20)>=1,1,0)","v":0},{"$f":"IF(COUNTIF($D20:P20,20)>=1,1,0)","v":0},{"$f":"IF(COUNTIF($D20:Q20,20)>=1,1,0)","v":0},{"$f":"IF(COUNTIF($D20:R20,20)>=1,1,0)","v":0},{"$f":"IF(COUNTIF($D20:S20,20)>=1,1,0)","v":0},{"$f":"IF(COUNTIF($D20:T20,20)>=1,1,0)","v":0},{"$f":"IF(COUNTIF($D20:U20,20)>=1,1,0)","v":0},{"$f":"IF(COUNTIF($D20:V20,20)>=1,1,0)","v":0},{"$f":"IF(COUNTIF($D20:W20,20)>=1,1,0)","v":0},{"$f":"IF(COUNTIF($D20:X20,20)>=1,1,0)","v":0},{"$f":"IF(COUNTIF($D20:Y20,20)>=1,1,0)","v":0},{"$f":"IF(COUNTIF($D20:Z20,20)>=1,1,0)","v":0},{"$f":"IF(COUNTIF($D20:AA20,20)>=1,1,0)","v":0},{"$f":"IF(COUNTIF($D20:AB20,20)>=1,1,0)","v":0},{"$f":"IF(COUNTIF($D20:AC20,20)>=1,1,0)","v":0},{"$f":"IF(COUNTIF($D20:AD20,20)>=1,1,0)","v":0},{"$f":"IF(COUNTIF($D20:AE20,20)>=1,1,0)","v":0},{"$f":"IF(COUNTIF($D20:AF20,20)>=1,1,0)","v":0},{"$f":"IF(COUNTIF($D20:AG20,20)>=1,1,0)","v":0},{"$f":"IF(COUNTIF($D20:AH20,20)>=1,1,0)","v":0},{"$f":"IF(COUNTIF($D20:AI20,20)>=1,1,0)","v":0},{"$f":"IF(COUNTIF($D20:AJ20,20)>=1,1,0)","v":0},{"$f":"IF(COUNTIF($D20:AK20,20)>=1,1,0)","v":0},{"$f":"IF(COUNTIF($D20:AL20,20)>=1,1,0)","v":0},{"$f":"IF(COUNTIF($D20:AM20,20)>=1,1,0)","v":0},{"$f":"IF(COUNTIF($D20:AN20,20)>=1,1,0)","v":0},{"$f":"IF(COUNTIF($D20:AO20,20)>=1,1,0)","v":0},{"$f":"IF(COUNTIF($D20:AP20,20)>=1,1,0)","v":0},{"$f":"IF(COUNTIF($D20:AQ20,20)>=1,1,0)","v":0},{"$f":"IF(COUNTIF($D20:AR20,20)>=1,1,0)","v":0},{"$f":"IF(COUNTIF($D20:AS20,20)>=1,1,0)","v":0},{"$f":"IF(COUNTIF($D20:AT20,20)>=1,1,0)","v":0},{"$f":"IF(COUNTIF($D20:AU20,20)>=1,1,0)","v":0},{"$f":"IF(COUNTIF($D20:AV20,20)>=1,1,0)","v":0},{"$f":"IF(COUNTIF($D20:AW20,20)>=1,1,0)","v":0},{"$f":"IF(COUNTIF($D20:AX20,20)>=1,1,0)","v":0},{"$f":"IF(COUNTIF($D20:AY20,20)>=1,1,0)","v":0},{"$f":"IF(COUNTIF($D20:AZ20,20)>=1,1,0)","v":0},{"$f":"IF(COUNTIF($D20:BA20,20)>=1,1,0)","v":0},{"$f":"IF(COUNTIF($D20:BB20,20)>=1,1,0)","v":0},null,{"$f":"DD20","v":"."},{"$f":"DE20","v":"E"},"E","E","E","E","E","E","E","E","E","E","E",".","E",".",".","E",".",".","E","A","A","A","A","A","A","A","A","A","A","A","A","A","A","A","A","A","A","A","A","A","A","A","A","A","A","A","A","A","A"]
[null,null,"MCC Bloody Moon",null,null,{"$f":"SUM(F29:F32)","v":0},{"$f":"SUM(G29:G32)","v":0},0,0,0,0,0,0,0,0,0,0,0,0,0,0,0,0,0,0,0,0,0,0,0,0,0,0,0,0,0,0,0,0,0,0,0,0,0,0,0,0,0,0,0,0,0,0,0]
[null,null,"Blood, Fire and Vapor",null,null,{"$f":"IF(F26=\"A\",0.01,IF(F33>=3,IF(F33>E33,10,0),0))","v":0},{"$f":"IF(G26=\"A\",0.01,IF(G33>=3,IF(G33>F33,10,0),0))","v":0},0,0,0,0,0,0,0,0,{"$f":"IF(P20=\"A\",0.01,IF(P19=\"A\",0.01,IF(P18=\"A\",0.01,IF(P17=\"A\",0.01,IF(P33>=3,IF(P33>O33,10,0),0)))))","v":0},{"$f":"IF(Q17=\"A\",0.01,IF(Q18=\"A\",0.01,IF(Q19=\"A\",0.01,IF(Q20=\"A\",0.01,0))))","v":0},{"$f":"IF(R26=\"A\",0.01,IF(R33>=3,IF(R33>Q33,10,0),0))","v":0},{"$f":"IF(S26=\"A\",0.01,IF(S33>=3,IF(S33>R33,10,0),0))","v":0},{"$f":"IF(T17=\"A\",0.01,IF(T18=\"A\",0.01,IF(T19=\"A\",0.01,IF(T20=\"A\",0.01,0))))","v":0},{"$f":"IF(U26=\"A\",0.01,IF(U33>=3,IF(U33>T33,10,0),0))","v":0},{"$f":"IF(V26=\"A\",0.01,IF(V33>=3,IF(V33>U33,10,0),0))","v":0},{"$f":"IF(W17=\"A\",0.01,IF(W18=\"A\",0.01,IF(W19=\"A\",0.01,IF(W20=\"A\",0.01,0))))","v":0},{"$f":"IF(X26=\"A\",0.01,IF(X33>=3,IF(X33>W33,10,0),0))","v":0},{"$f":"IF(X101=\"\",0,IF(Y26=\"A\",0.01,IF(Y33>=3,IF(Y33>X33,10,0),0)))","v":0},0,0,0,0,0,0,0,0,0,0,0,0,0,0,0,0,0,0,0,0,0,0,0,0,0,0,0,0,0]
[null,null," "]
[null,null," ",{"$f":"D15","v":8},{"$f":"E15","v":8},11,12,12,12,12,12,12,12,12,12,12,12,12,12,12,12,12,12,12,12,12,12,12,12,12,12,12,12,12,12,12,12,12,12,12,12,12,12,12,12,12,12,12,12,12,12,12,12,12]
["Individual","Errors","Team Name",1,2,3,4,5,6,7,8,9,10,11,12,{"$f":"IF(P16=\"\",\"\",P16)","v":""},{"$f":"IF(Q16=\"\",\"\",Q16)","v":""},13,{"$f":"IF(S16=\"\",\"\",S16)","v":""},{"$f":"IF(T16=\"\",\"\",T16)","v":""},14,{"$f":"IF(V16=\"\",\"\",V16)","v":""},{"$f":"IF(W16=\"\",\"\",W16)","v":""},15,{"$f":"IF(Y16=\"\",\"\",Y16)","v":""},{"$f":"IF(Z16=\"\",\"\",Z16)","v":""},"","","","","","","","","","","","","","","","","","","","","","","","","","","",""]
[{"$f":"SUM(D38:BB38)","v":0},{"$f":"COUNTIF(D38:BB38,\"E\")","v":0},"Quizzer #1",{"$f":"IF(D$17=\"\",\"\",IF(D$17=0,0,\"\"))","v":""},{"$f":"IF(E$17=\"\",\"\",IF(E$17=0,0,\"\"))","v":""},"","","","","","","","","","","","","","","",{"$f":"IF(U$17=\"\",\"\",IF(U$17=0,0,\"\"))","v":""},"","","","","","","","","","","","","","","",{"$f":"IF(AK$17=\"\",\"\",IF(AK$17=0,0,\"\"))","v":""},"","","","","","","","","","","","","","","",{"$f":"IF(BA$17=\"\",\"\",IF(BA$17=0,0,\"\"))","v":""},"",null,{"$f":"Sheet4!D38","v":20},{"$f":"Sheet4!E38","v":20},{"$f":"Sheet4!F38","v":20},{"$f":"Sheet4!G38","v":20},{"$f":"Sheet4!H38","v":20},{"$f":"Sheet4!I38","v":20},{"$f":"Sheet4!J38","v":20},{"$f":"Sheet4!K38","v":20},{"$f":"Sheet4!L38","v":20},{"$f":"Sheet4!M38","v":20},{"$f":"Sheet4!N38","v":20},{"$f":"Sheet4!O38","v":20},{"$f":"Sheet4!P38","v":20},{"$f":"Sheet4!Q38","v":"."},{"$f":"Sheet4!R38","v":20},{"$f":"Sheet4!S38","v":10},{"$f":"Sheet4!T38","v":"."},{"$f":"Sheet4!U38","v":20},{"$f":"Sheet4!V38","v":10},{"$f":"Sheet4!W38","v":"."},{"$f":"Sheet4!X38","v":20},{"$f":"Sheet4!Y38","v":10},{"$f":"Sheet4!Z38","v":10},{"$f":"Sheet4!AA38","v":10},{"$f":"Sheet4!AB38","v":10},{"$f":"Sheet4!AC38","v":10},{"$f":"Sheet4!AD38","v":10},{"$f":"Sheet4!AE38","v":10},{"$f":"Sheet4!AF38","v":10},{"$f":"Sheet4!AG38","v":10},{"$f":"Sheet4!AH38","v":10},{"$f":"Sheet4!AI38","v":10},{"$f":"Sheet4!AJ38","v":10},{"$f":"Sheet4!AK38","v":10},{"$f":"Sheet4!AL38","v":10},{"$f":"Sheet4!AM38","v":10},{"$f":"Sheet4!AN38","v":10},{"$f":"Sheet4!AO38","v":10},{"$f":"Sheet4!AP38","v":10},{"$f":"Sheet4!AQ38","v":10},{"$f":"Sheet4!AR38","v":10},{"$f":"Sheet4!AS38","v":10},{"$f":"Sheet4!AT38","v":10},{"$f":"Sheet4!AU38","v":10},{"$f":"Sheet4!AV38","v":10},{"$f":"Sheet4!AW38","v":10},{"$f":"Sheet4!AX38","v":10},{"$f":"Sheet4!AY38","v":10},{"$f":"Sheet4!AZ38","v":10},{"$f":"Sheet4!BA38","v":10},{"$f":"Sheet4!BB38","v":10},null,{"$f":"IF(BD38=\".\",\".\",D47)","v":"E"},{"$f":"IF(BE38=\".\",\".\",E47)","v":"E"},"E","E","E","E","E","E","E","E","E","E","E",".","E",".",".","E",".",".","E","A","A","A","A","A","A","A","A","A","A","A","A","A","A","A","A","A","A","A","A","A","A","A","A","A","A","A","A","A","A"]
[{"$f":"SUM(D39:BB39)","v":0},{"$f":"COUNTIF(D39:BB39,\"E\")","v":0},"Quizzer #2",{"$f":"IF(D$17=\"\",\"\",IF(D$17=0,0,\"\"))","v":""},"","","","","","","","","","","","","","","","","","","","","","","","","","","","","","","","","","","","","","","","","","","","","","","","","","",null,{"$f":"Sheet4!D39","v":20},{"$f":"Sheet4!E39","v":20},{"$f":"Sheet4!F39","v":20},{"$f":"Sheet4!G39","v":20},{"$f":"Sheet4!H39","v":20},{"$f":"Sheet4!I39","v":20},{"$f":"Sheet4!J39","v":20},{"$f":"Sheet4!K39","v":20},{"$f":"Sheet4!L39","v":20},{"$f":"Sheet4!M39","v":20},{"$f":"Sheet4!N39","v":20},{"$f":"Sheet4!O39","v":20},{"$f":"Sheet4!P39","v":20},{"$f":"Sheet4!Q39","v":"."},{"$f":"Sheet4!R39","v":20},{"$f":"Sheet4!S39","v":10},{"$f":"Sheet4!T39","v":"."},{"$f":"Sheet4!U39","v":20},{"$f":"Sheet4!V39","v":10},{"$f":"Sheet4!W39","v":"."},{"$f":"Sheet4!X39","v":20},{"$f":"Sheet4!Y39","v":10},{"$f":"Sheet4!Z39","v":10},{"$f":"Sheet4!AA39","v":10},{"$f":"Sheet4!AB39","v":10},{"$f":"Sheet4!AC39","v":10},{"$f":"Sheet4!AD39","v":10},{"$f":"Sheet4!AE39","v":10},{"$f":"Sheet4!AF39","v":10},{"$f":"Sheet4!AG39","v":10},{"$f":"Sheet4!AH39","v":10},{"$f":"Sheet4!AI39","v":10},{"$f":"Sheet4!AJ39","v":10},{"$f":"Sheet4!AK39","v":10},{"$f":"Sheet4!AL39","v":10},{"$f":"Sheet4!AM39","v":10},{"$f":"Sheet4!AN39","v":10},{"$f":"Sheet4!AO39","v":10},{"$f":"Sheet4!AP39","v":10},{"$f":"Sheet4!AQ39","v":10},{"$f":"Sheet4!AR39","v":10},{"$f":"Sheet4!AS39","v":10},{"$f":"Sheet4!AT39","v":10},{"$f":"Sheet4!AU39","v":10},{"$f":"Sheet4!AV39","v":10},{"$f":"Sheet4!AW39","v":10},{"$f":"Sheet4!AX39","v":10},{"$f":"Sheet4!AY39","v":10},{"$f":"Sheet4!AZ39","v":10},{"$f":"Sheet4!BA39","v":10},{"$f":"Sheet4!BB39","v":10},null,{"$f":"IF(BD39=\".\",\".\",D47)","v":"E"},{"$f":"IF(BE39=\".\",\".\",E47)","v":"E"},"E","E","E","E","E","E","E","E","E","E","E",".","E",".",".","E",".",".","E","A","A","A","A","A","A","A","A","A","A","A","A","A","A","A","A","A","A","A","A","A","A","A","A","A","A","A","A","A","A"]
[{"$f":"SUM(D40:BB40)","v":0},{"$f":"COUNTIF(D40:BB40,\"E\")","v":0},"Quizzer #3","","","","","","","","","","","","","","","","","","","","","","","","","","","","","","","","","","","","","","","","","","","","","","","","","","","",null,{"$f":"Sheet4!D40","v":20},{"$f":"Sheet4!E40","v":20},{"$f":"Sheet4!F40","v":20},{"$f":"Sheet4!G40","v":20},{"$f":"Sheet4!H40","v":20},{"$f":"Sheet4!I40","v":20},{"$f":"Sheet4!J40","v":20},{"$f":"Sheet4!K40","v":20},{"$f":"Sheet4!L40","v":20},{"$f":"Sheet4!M40","v":20},{"$f":"Sheet4!N40","v":20},{"$f":"Sheet4!O40","v":20},{"$f":"Sheet4!P40","v":20},{"$f":"Sheet4!Q40","v":"."},{"$f":"Sheet4!R40","v":20},{"$f":"Sheet4!S40","v":10},{"$f":"Sheet4!T40","v":"."},{"$f":"Sheet4!U40","v":20},{"$f":"Sheet4!V40","v":10},{"$f":"Sheet4!W40","v":"."},{"$f":"Sheet4!X40","v":20},{"$f":"Sheet4!Y40","v":10},{"$f":"Sheet4!Z40","v":10},{"$f":"Sheet4!AA40","v":10},{"$f":"Sheet4!AB40","v":10},{"$f":"Sheet4!AC40","v":10},{"$f":"Sheet4!AD40","v":10},{"$f":"Sheet4!AE40","v":10},{"$f":"Sheet4!AF40","v":10},{"$f":"Sheet4!AG40","v":10},{"$f":"Sheet4!AH40","v":10},{"$f":"Sheet4!AI40","v":10},{"$f":"Sheet4!AJ40","v":10},{"$f":"Sheet4!AK40","v":10},{"$f":"Sheet4!AL40","v":10},{"$f":"Sheet4!AM40","v":10},{"$f":"Sheet4!AN40","v":10},{"$f":"Sheet4!AO40","v":10},{"$f":"Sheet4!AP40","v":10},{"$f":"Sheet4!AQ40","v":10},{"$f":"Sheet4!AR40","v":10},{"$f":"Sheet4!AS40","v":10},{"$f":"Sheet4!AT40","v":10},{"$f":"Sheet4!AU40","v":10},{"$f":"Sheet4!AV40","v":10},{"$f":"Sheet4!AW40","v":10},{"$f":"Sheet4!AX40","v":10},{"$f":"Sheet4!AY40","v":10},{"$f":"Sheet4!AZ40","v":10},{"$f":"Sheet4!BA40","v":10},{"$f":"Sheet4!BB40","v":10},null,{"$f":"IF(BD40=\".\",\".\",D47)","v":"E"},{"$f":"IF(BE40=\".\",\".\",E47)","v":"E"},"E","E","E","E","E","E","E","E","E","E","E",".","E",".",".","E",".",".","E","A","A","A","A","A","A","A","A","A","A","A","A","A","A","A","A","A","A","A","A","A","A","A","A","A","A","A","A","A","A"]
[{"$f":"SUM(D41:BB41)","v":0},{"$f":"COUNTIF(D41:BB41,\"E\")","v":0},"Substitute","","","","","","","","","","","","","","","","","","","","","","","","","","","","","","","","","","","","","","","","","","","","","","","","","","","",null,{"$f":"Sheet4!D41","v":"."},{"$f":"Sheet4!E41","v":20},{"$f":"Sheet4!F41","v":20},{"$f":"Sheet4!G41","v":20},{"$f":"Sheet4!H41","v":20},{"$f":"Sheet4!I41","v":20},{"$f":"Sheet4!J41","v":20},{"$f":"Sheet4!K41","v":20},{"$f":"Sheet4!L41","v":20},{"$f":"Sheet4!M41","v":20},{"$f":"Sheet4!N41","v":20},{"$f":"Sheet4!O41","v":20},{"$f":"Sheet4!P41","v":20},{"$f":"Sheet4!Q41","v":"."},{"$f":"Sheet4!R41","v":20},{"$f":"Sheet4!S41","v":10},{"$f":"Sheet4!T41","v":"."},{"$f":"Sheet4!U41","v":20},{"$f":"Sheet4!V41","v":10},{"$f":"Sheet4!W41","v":"."},{"$f":"Sheet4!X41","v":20},{"$f":"Sheet4!Y41","v":10},{"$f":"Sheet4!Z41","v":10},{"$f":"Sheet4!AA41","v":10},{"$f":"Sheet4!AB41","v":10},{"$f":"Sheet4!AC41","v":10},{"$f":"Sheet4!AD41","v":10},{"$f":"Sheet4!AE41","v":10},{"$f":"Sheet4!AF41","v":10},{"$f":"Sheet4!AG41","v":10},{"$f":"Sheet4!AH41","v":10},{"$f":"Sheet4!AI41","v":10},{"$f":"Sheet4!AJ41","v":10},{"$f":"Sheet4!AK41","v":10},{"$f":"Sheet4!AL41","v":10},{"$f":"Sheet4!AM41","v":10},{"$f":"Sheet4!AN41","v":10},{"$f":"Sheet4!AO41","v":10},{"$f":"Sheet4!AP41","v":10},{"$f":"Sheet4!AQ41","v":10},{"$f":"Sheet4!AR41","v":10},{"$f":"Sheet4!AS41","v":10},{"$f":"Sheet4!AT41","v":10},{"$f":"Sheet4!AU41","v":10},{"$f":"Sheet4!AV41","v":10},{"$f":"Sheet4!AW41","v":10},{"$f":"Sheet4!AX41","v":10},{"$f":"Sheet4!AY41","v":10},{"$f":"Sheet4!AZ41","v":10},{"$f":"Sheet4!BA41","v":10},{"$f":"Sheet4!BB41","v":10},null,{"$f":"IF(BD41=\".\",\".\",D47)","v":"."},{"$f":"IF(BE41=\".\",\".\",E47)","v":"E"},"E","E","E","E","E","E","E","E","E","E","E",".","E",".",".","E",".",".","E","A","A","A","A","A","A","A","A","A","A","A","A","A","A","A","A","A","A","A","A","A","A","A","A","A","A","A","A","A","A"]
[{"$f":"ROUND(BB42,0)","v":0},{"$f":"SUM(B44:B47)","v":0},0.25,{"$f":"SUM(D38:D41)+D49+0.25+Sheet4!D113","v":0.25},{"$f":"D42+SUM(E38:E41)+E49+Sheet4!E113","v":0.25},{"$f":"E42+SUM(F38:F41)+F49+F55+Sheet4!F113","v":0.25},{"$f":"F42+SUM(G38:G41)+G49+G55+Sheet4!G113","v":0.25},{"$f":"G42+SUM(H38:H41)+H49+H55+Sheet4!H113","v":0.25},{"$f":"H42+SUM(I38:I41)+I49+I55+Sheet4!I113","v":0.25},{"$f":"IF(I42+J49<0,0.24,I42+SUM(J38:J41)+J49+J55)+Sheet4!J113","v":0.25},{"$f":"IF(J42+K49<0,0.23,J42+SUM(K38:K41)+K49+K55)+Sheet4!K113","v":0.25},{"$f":"IF(K42+L49<0,0.22,K42+SUM(L38:L41)+L49+L55)+Sheet4!L113","v":0.25},{"$f":"IF(L42+M49<0,0.21,L42+SUM(M38:M41)+M49+M55)+Sheet4!M113","v":0.25},{"$f":"IF(M42+N49<0,0.2,M42+SUM(N38:N41)+N49+N55)+Sheet4!N113","v":0.25},{"$f":"IF(N42+O49<0,0.19,N42+SUM(O38:O41)+O49+O55)+Sheet4!O113","v":0.25},{"$f":"IF(O42+P49<0,0.18,O42+SUM(P38:P41)+P49+P55)+Sheet4!P113","v":0.25},{"$f":"IF(P42+Q49<0,0.17,P42+SUM(Q38:Q41)+Q49+Q55)+Sheet4!Q113","v":0.25},{"$f":"IF(Q42+R49<0,0.16,Q42+SUM(R38:R41)+R49+R55)+Sheet4!R113","v":0.25},{"$f":"IF(R42+S49<0,0.15,R42+SUM(S38:S41)+S49+S55)+Sheet4!S113","v":0.25},{"$f":"IF(S42+T49<0,0.14,S42+SUM(T38:T41)+T49+T55)+Sheet4!T113","v":0.25},{"$f":"IF(T42+U49<0,0.13,T42+SUM(U38:U41)+U49+U55)+Sheet4!U113","v":0.25},{"$f":"IF(U42+V49<0,0.12,U42+SUM(V38:V41)+V49+V55)+Sheet4!V113","v":0.25},{"$f":"IF(V42+W49<0,0.11,V42+SUM(W38:W41)+W49+W55)+Sheet4!W113","v":0.25},{"$f":"IF(W42+X49<0,0.1,W42+SUM(X38:X41)+X49+X55)+Sheet4!X113","v":0.25},{"$f":"IF(X42+Y49<0,0.09,X42+SUM(Y38:Y41)+Y49+Y55)+Sheet4!Y113","v":0.25},{"$f":"IF(Y42+Z49<0,0.08,Y42+SUM(Z38:Z41)+Z49+Z55)+Sheet4!Z113","v":0.25},{"$f":"IF(Z42+AA49<0,0.07,Z42+SUM(AA38:AA41)+AA49+AA55)+Sheet4!AA113","v":0.25},{"$f":"IF(AA42+AB49<0,0.06,AA42+SUM(AB38:AB41)+AB49+AB55)+Sheet4!AB113","v":0.25},{"$f":"IF(AB42+AC49<0,0.05,AB42+SUM(AC38:AC41)+AC49+AC55)+Sheet4!AC113","v":0.25},{"$f":"IF(AC42+AD49<0,0.04,AC42+SUM(AD38:AD41)+AD49+AD55)+Sheet4!AD113","v":0.25},{"$f":"IF(AD42+AE49<0,0.03,AD42+SUM(AE38:AE41)+AE49+AE55)+Sheet4!AE113","v":0.25},{"$f":"IF(AE42+AF49<0,0.02,AE42+SUM(AF38:AF41)+AF49+AF55)+Sheet4!AF113","v":0.25},{"$f":"IF(AF42+AG49<0,0.01,AF42+SUM(AG38:AG41)+AG49+AG55)+Sheet4!AG113","v":0.25},{"$f":"IF(AG42+AH49<0,0,AG42+SUM(AH38:AH41)+AH49+AH55)+Sheet4!AH113","v":0.25},{"$f":"IF(AH42+AI49<0,0,AH42+SUM(AI38:AI41)+AI49+AI55)+Sheet4!AI113","v":0.25},{"$f":"IF(AI42+AJ49<0,0,AI42+SUM(AJ38:AJ41)+AJ49+AJ55)+Sheet4!AJ113","v":0.25},{"$f":"IF(AJ42+AK49<0,0,AJ42+SUM(AK38:AK41)+AK49+AK55)+Sheet4!AK113","v":0.25},{"$f":"IF(AK42+AL49<0,0,AK42+SUM(AL38:AL41)+AL49+AL55)+Sheet4!AL113","v":0.25},{"$f":"IF(AL42+AM49<0,0,AL42+SUM(AM38:AM41)+AM49+AM55)+Sheet4!AM113","v":0.25},{"$f":"IF(AM42+AN49<0,0,AM42+SUM(AN38:AN41)+AN49+AN55)+Sheet4!AN113","v":0.25},{"$f":"IF(AN42+AO49<0,0,AN42+SUM(AO38:AO41)+AO49+AO55)+Sheet4!AO113","v":0.25},{"$f":"IF(AO42+AP49<0,0,AO42+SUM(AP38:AP41)+AP49+AP55)+Sheet4!AP113","v":0.25},{"$f":"IF(AP42+AQ49<0,0,AP42+SUM(AQ38:AQ41)+AQ49+AQ55)+Sheet4!AQ113","v":0.25},{"$f":"IF(AQ42+AR49<0,0,AQ42+SUM(AR38:AR41)+AR49+AR55)+Sheet4!AR113","v":0.25},{"$f":"IF(AR42+AS49<0,0,AR42+SUM(AS38:AS41)+AS49+AS55)+Sheet4!AS113","v":0.25},{"$f":"IF(AS42+AT49<0,0,AS42+SUM(AT38:AT41)+AT49+AT55)+Sheet4!AT113","v":0.25},{"$f":"IF(AT42+AU49<0,0,AT42+SUM(AU38:AU41)+AU49+AU55)+Sheet4!AU113","v":0.25},{"$f":"IF(AU42+AV49<0,0,AU42+SUM(AV38:AV41)+AV49+AV55)+Sheet4!AV113","v":0.25},{"$f":"IF(AV42+AW49<0,0,AV42+SUM(AW38:AW41)+AW49+AW55)+Sheet4!AW113","v":0.25},{"$f":"IF(AW42+AX49<0,0,AW42+SUM(AX38:AX41)+AX49+AX55)+Sheet4!AX113","v":0.25},{"$f":"IF(AX42+AY49<0,0,AX42+SUM(AY38:AY41)+AY49+AY55)+Sheet4!AY113","v":0.25},{"$f":"IF(AY42+AZ49<0,0,AY42+SUM(AZ38:AZ41)+AZ49+AZ55)+Sheet4!AZ113","v":0.25},{"$f":"IF(AZ42+BA49<0,0,AZ42+SUM(BA38:BA41)+BA49+BA55)+Sheet4!BA113","v":0.25},{"$f":"IF(BA42+BB49<0,0,BA42+SUM(BB38:BB41)+BB49+BB55)+Sheet4!BB113","v":0.25}]
["Team Total","Olympic Pts.",{"$f":"IF(Sheet4!B111=0,IF(Sheet4!B112=0,Sheet4!C100,Sheet4!C101),IF(Sheet4!B112=0,Sheet4!C103,Sheet4!C102))","v":"Timeout = T, Foul = F ------------>"},null,null,null,null,null,null,null,null,null,null,null,null,null,null,null,null,null,null,null,null,null,null,null,null,null,null,null,null,null,null,null,null,null,null,null,null,null,null,null,null,null,null,null,null,null,null,null,null,null,null,null,null,{"$f":"BD38","v":20},{"$f":"BE38","v":20},20,20,20,20,20,20,20,20,20,20,20,".",20,10,".",20,10,".",20,10,10,10,10,10,10,10,10,10,10,10,10,10,10,10,10,10,10,10,10,10,10,10,10,10,10,10,10,10,10]
[null,{"$f":"W119","v":0},"CMC Silver & Gold",null,{"$f":"COUNTIF(D38:D41,\"E\")","v":0},{"$f":"COUNTIF(D38:E41,\"E\")","v":0},{"$f":"COUNTIF(E38:F41,\"E\")-1","v":-1},{"$f":"COUNTIF(F38:G41,\"E\")-1","v":-1},-1,-1,-1,-1,-1,-1,-1,-1,-1,-1,-1,-1,-1,-1,-1,-1,-1,-1,-1,-1,-1,-1,-1,-1,-1,-1,-1,-1,-1,-1,-1,-1,-1,-1,-1,-1,-1,-1,-1,-1,-1,-1,-1,-1,-1,-1,null,{"$f":"DD38","v":"E"},{"$f":"DE38","v":"E"},"E","E","E","E","E","E","E","E","E","E","E",".","E",".",".","E",".",".","E","A","A","A","A","A","A","A","A","A","A","A","A","A","A","A","A","A","A","A","A","A","A","A","A","A","A","A","A","A","A"]
[null,0,"LP Kingdom of God",null,{"$f":"COUNTIF(D38:D41,\"E\")","v":0},{"$f":"COUNTIF(E38:E41,\"E\")","v":0},0,0,0,0,0,0,0,0,0,0,0,0,0,0,0,0,0,0,0,0,0,0,0,0,0,0,0,0,0,0,0,0,0,0,0,0,0,0,0,0,0,0,0,0,0,0,0,0]
[null,{"$f":"IF(BB54>=3,2,0)","v":0},"MCC Dark Sun",20,{"$f":"IF(E45=1,\".\",20)","v":20},{"$f":"IF(F68=\"A\",\".\",IF(F56=1,\".\",IF(F45=1,\".\",IF(SUM(F65,F23)<2,20,10))))","v":20},20,{"$f":"IF(H68=\"A\",\".\",IF(H56=1,\".\",IF(H45=1,\".\",IF(H24=0,20,10))))","v":20},20,20,20,20,20,20,20,20,".",20,{"$f":"IF(COUNTIF(Q38:R41,\"\")<8,\">\",10)","v":10},".",20,{"$f":"IF(COUNTIF(T38:U41,\"\")<8,\">\",10)","v":10},".",20,{"$f":"Y109","v":10},{"$f":"Z109","v":10},10,10,10,10,10,10,10,10,10,10,10,10,10,10,10,10,10,10,10,10,10,10,10,10,10,10,10,10,null,{"$f":"BD39","v":20},{"$f":"BE39","v":20},20,20,20,20,20,20,20,20,20,20,20,".",20,10,".",20,10,".",20,10,10,10,10,10,10,10,10,10,10,10,10,10,10,10,10,10,10,10,10,10,10,10,10,10,10,10,10,10,10]
[null,{"$f":"IF(B46=2,0,IF(B44+B45=10,IF(A42>=130,1,0),IF(B44+B45=5,IF(A42>=100,1,0),IF(A42>=70,1,0))))","v":0},"Andrew Hubbard","E",{"$f":"IF(E45=1,\".\",\"E\")","v":"E"},{"$f":"IF(F46=\".\",\".\",IF(SUM(F65,F23)<2,\"E\",\"A\"))","v":"E"},"E",{"$f":"IF(H46=\".\",\".\",IF(H24=0,\"E\",\"A\"))","v":"E"},{"$f":"IF(I46=\".\",\".\",IF(I24=0,\"E\",\"A\"))","v":"E"},"E","E","E","E","E","E","E",{"$f":"IF(Q46=10,\"A\",\".\")","v":"."},"E",{"$f":"IF(S46=20,\"E\",\".\")","v":"."},{"$f":"IF(T46=10,\"A\",\".\")","v":"."},"E",{"$f":"IF(V46=20,\"E\",\".\")","v":"."},{"$f":"IF(W46=10,\"A\",\".\")","v":"."},"E",{"$f":"Y110","v":"A"},"A","A","A","A","A","A","A","A","A","A","A","A","A","A","A","A","A","A","A","A","A","A","A","A","A","A","A","A","A",null,{"$f":"DD39","v":"E"},{"$f":"DE39","v":"E"},"E","E","E","E","E","E","E","E","E","E","E",".","E",".",".","E",".",".","E","A","A","A","A","A","A","A","A","A","A","A","A","A","A","A","A","A","A","A","A","A","A","A","A","A","A","A","A","A","A"]
[null,null,"Joseph Glenn*",{"$f":"IF(D36=12,\".\",IF(D36=0,0,\"\"))","v":""},{"$f":"IF(E36=12,\".\",IF(E36=0,0,\"\"))","v":""},"",".",".",".",".",".",".",".",".",".",{"$f":"IF(P36=0,0,IF(P$78=0,\".\",\"\"))","v":"."},{"$f":"IF(Q36=0,0,IF(Q$78=0,\".\",\"\"))","v":"."},".",{"$f":"IF(S36=0,0,IF(S$78=0,\".\",\"\"))","v":"."},{"$f":"IF(T36=0,0,IF(T$78=0,\".\",\"\"))","v":"."},".",{"$f":"IF(V36=0,0,IF(V$78=0,\".\",\"\"))","v":"."},{"$f":"IF(W36=0,0,IF(W$78=0,\".\",\"\"))","v":"."},".",".",".",".",".",".",".",".",".",".",".",".",".",".",".",".",".",".",".",".",".",".",".",".",".",".",".",".",".",".","."]
[null,null,"Danielle Leidy",{"$f":"IF(E45=0,0,IF(SUM($D45:E45)>=4,-10,-0.01))","v":0},{"$f":"IF(F45=0,0,IF(SUM($D45:F45)>=4,-10,-0.01))","v":0},{"$f":"IF(G45=0,0,IF(SUM($D45:G45)>=4,-10,-0.01))","v":0},{"$f":"IF(H45=0,0,IF(SUM($D45:H45)>=4,-10,-0.01))","v":0},{"$f":"IF(I45=0,0,IF(SUM($D45:I45)>=4,-10,-0.01))","v":0},{"$f":"IF(J45=0,0,IF(SUM($D45:J45)>=4,-10,-0.01))","v":0},{"$f":"IF(K45=0,0,IF(SUM($D45:K45)>=4,-10,-0.01))","v":0},{"$f":"IF(L45=0,0,IF(SUM($D45:L45)>=4,-10,-0.01))","v":0},{"$f":"IF(M45=0,0,IF(SUM($D45:M45)>=4,-10,-0.01))","v":0},{"$f":"IF(N45=0,0,IF(SUM($D45:N45)>=4,-10,-0.01))","v":0},{"$f":"IF(O45=0,0,IF(SUM($D45:O45)>=4,-10,-0.01))","v":0},{"$f":"IF(P45=0,0,IF(SUM($D45:P45)>=4,-10,-0.01))","v":0},{"$f":"IF(Q45=0,0,IF(SUM($D45:Q45)>=4,-10,-0.01))","v":0},{"$f":"IF(R45=0,0,IF(SUM($D45:R45)>=4,-10,-0.01))","v":0},{"$f":"IF(S45=0,0,IF(SUM($D45:S45)>=4,-10,-0.01))","v":0},{"$f":"IF(T45=0,0,IF(SUM($D45:T45)>=4,-10,-0.01))","v":0},{"$f":"IF(U45=0,0,IF(SUM($D45:U45)>=4,-10,-0.01))","v":0},{"$f":"IF(V45=0,0,IF(SUM($D45:V45)>=4,-10,-0.01))","v":0},{"$f":"IF(W45=0,0,IF(SUM($D45:W45)>=4,-10,-0.01))","v":0},0,{"$f":"IF(Y45=1,-10,0)","v":0},{"$f":"IF(Z45=1,-10,0)","v":0},{"$f":"IF(AA45=1,-10,0)","v":0},{"$f":"IF(AB45=1,-10,0)","v":0},0,0,0,0,0,0,0,0,0,0,0,0,0,0,0,0,0,0,0,0,0,0,0,0,0,0,0,null,{"$f":"BD40","v":20},{"$f":"BE40","v":20},20,20,20,20,20,20,20,20,20,20,20,".",20,10,".",20,10,".",20,10,10,10,10,10,10,10,10,10,10,10,10,10,10,10,10,10,10,10,10,10,10,10,10,10,10,10,10,10,10]
[null,null,"Sylesse Sutton*",null,null,{"$f":"IF(COUNTIF($D38:F38,20)>=1,1,0)","v":0},{"$f":"IF(COUNTIF($D38:G38,20)>=1,1,0)","v":0},{"$f":"IF(COUNTIF($D38:H38,20)>=1,1,0)","v":0},{"$f":"IF(COUNTIF($D38:I38,20)>=1,1,0)","v":0},{"$f":"IF(COUNTIF($D38:J38,20)>=1,1,0)","v":0},{"$f":"IF(COUNTIF($D38:K38,20)>=1,1,0)","v":0},{"$f":"IF(COUNTIF($D38:L38,20)>=1,1,0)","v":0},{"$f":"IF(COUNTIF($D38:M38,20)>=1,1,0)","v":0},{"$f":"IF(COUNTIF($D38:N38,20)>=1,1,0)","v":0},{"$f":"IF(COUNTIF($D38:O38,20)>=1,1,0)","v":0},{"$f":"IF(COUNTIF($D38:P38,20)>=1,1,0)","v":0},{"$f":"IF(COUNTIF($D38:Q38,20)>=1,1,0)","v":0},{"$f":"IF(COUNTIF($D38:R38,20)>=1,1,0)","v":0},{"$f":"IF(COUNTIF($D38:S38,20)>=1,1,0)","v":0},{"$f":"IF(COUNTIF($D38:T38,20)>=1,1,0)","v":0},{"$f":"IF(COUNTIF($D38:U38,20)>=1,1,0)","v":0},{"$f":"IF(COUNTIF($D38:V38,20)>=1,1,0)","v":0},{"$f":"IF(COUNTIF($D38:W38,20)>=1,1,0)","v":0},{"$f":"IF(COUNTIF($D38:X38,20)>=1,1,0)","v":0},{"$f":"IF(COUNTIF($D38:Y38,20)>=1,1,0)","v":0},{"$f":"IF(COUNTIF($D38:Z38,20)>=1,1,0)","v":0},{"$f":"IF(COUNTIF($D38:AA38,20)>=1,1,0)","v":0},{"$f":"IF(COUNTIF($D38:AB38,20)>=1,1,0)","v":0},{"$f":"IF(COUNTIF($D38:AC38,20)>=1,1,0)","v":0},{"$f":"IF(COUNTIF($D38:AD38,20)>=1,1,0)","v":0},{"$f":"IF(COUNTIF($D38:AE38,20)>=1,1,0)","v":0},{"$f":"IF(COUNTIF($D38:AF38,20)>=1,1,0)","v":0},{"$f":"IF(COUNTIF($D38:AG38,20)>=1,1,0)","v":0},{"$f":"IF(COUNTIF($D38:AH38,20)>=1,1,0)","v":0},{"$f":"IF(COUNTIF($D38:AI38,20)>=1,1,0)","v":0},{"$f":"IF(COUNTIF($D38:AJ38,20)>=1,1,0)","v":0},{"$f":"IF(COUNTIF($D38:AK38,20)>=1,1,0)","v":0},{"$f":"IF(COUNTIF($D38:AL38,20)>=1,1,0)","v":0},{"$f":"IF(COUNTIF($D38:AM38,20)>=1,1,0)","v":0},{"$f":"IF(COUNTIF($D38:AN38,20)>=1,1,0)","v":0},{"$f":"IF(COUNTIF($D38:AO38,20)>=1,1,0)","v":0},{"$f":"IF(COUNTIF($D38:AP38,20)>=1,1,0)","v":0},{"$f":"IF(COUNTIF($D38:AQ38,20)>=1,1,0)","v":0},{"$f":"IF(COUNTIF($D38:AR38,20)>=1,1,0)","v":0},{"$f":"IF(COUNTIF($D38:AS38,20)>=1,1,0)","v":0},{"$f":"IF(COUNTIF($D38:AT38,20)>=1,1,0)","v":0},{"$f":"IF(COUNTIF($D38:AU38,20)>=1,1,0)","v":0},{"$f":"IF(COUNTIF($D38:AV38,20)>=1,1,0)","v":0},{"$f":"IF(COUNTIF($D38:AW38,20)>=1,1,0)","v":0},{"$f":"IF(COUNTIF($D38:AX38,20)>=1,1,0)","v":0},{"$f":"IF(COUNTIF($D38:AY38,20)>=1,1,0)","v":0},{"$f":"IF(COUNTIF($D38:AZ38,20)>=1,1,0)","v":0},{"$f":"IF(COUNTIF($D38:BA38,20)>=1,1,0)","v":0},{"$f":"IF(COUNTIF($D38:BB38,20)>=1,1,0)","v":0},null,{"$f":"DD40","v":"E"},{"$f":"DE40","v":"E"},"E","E","E","E","E","E","E","E","E","E","E",".","E",".",".","E",".",".","E","A","A","A","A","A","A","A","A","A","A","A","A","A","A","A","A","A","A","A","A","A","A","A","A","A","A","A","A","A","A"]
[null,null,"Sha'Kira Wheeler*",null,null,{"$f":"IF(COUNTIF($D39:F39,20)>=1,1,0)","v":0},{"$f":"IF(COUNTIF($D39:G39,20)>=1,1,0)","v":0},{"$f":"IF(COUNTIF($D39:H39,20)>=1,1,0)","v":0},{"$f":"IF(COUNTIF($D39:I39,20)>=1,1,0)","v":0},{"$f":"IF(COUNTIF($D39:J39,20)>=1,1,0)","v":0},{"$f":"IF(COUNTIF($D39:K39,20)>=1,1,0)","v":0},{"$f":"IF(COUNTIF($D39:L39,20)>=1,1,0)","v":0},{"$f":"IF(COUNTIF($D39:M39,20)>=1,1,0)","v":0},{"$f":"IF(COUNTIF($D39:N39,20)>=1,1,0)","v":0},{"$f":"IF(COUNTIF($D39:O39,20)>=1,1,0)","v":0},{"$f":"IF(COUNTIF($D39:P39,20)>=1,1,0)","v":0},{"$f":"IF(COUNTIF($D39:Q39,20)>=1,1,0)","v":0},{"$f":"IF(COUNTIF($D39:R39,20)>=1,1,0)","v":0},{"$f":"IF(COUNTIF($D39:S39,20)>=1,1,0)","v":0},{"$f":"IF(COUNTIF($D39:T39,20)>=1,1,0)","v":0},{"$f":"IF(COUNTIF($D39:U39,20)>=1,1,0)","v":0},{"$f":"IF(COUNTIF($D39:V39,20)>=1,1,0)","v":0},{"$f":"IF(COUNTIF($D39:W39,20)>=1,1,0)","v":0},{"$f":"IF(COUNTIF($D39:X39,20)>=1,1,0)","v":0},{"$f":"IF(COUNTIF($D39:Y39,20)>=1,1,0)","v":0},{"$f":"IF(COUNTIF($D39:Z39,20)>=1,1,0)","v":0},{"$f":"IF(COUNTIF($D39:AA39,20)>=1,1,0)","v":0},{"$f":"IF(COUNTIF($D39:AB39,20)>=1,1,0)","v":0},{"$f":"IF(COUNTIF($D39:AC39,20)>=1,1,0)","v":0},{"$f":"IF(COUNTIF($D39:AD39,20)>=1,1,0)","v":0},{"$f":"IF(COUNTIF($D39:AE39,20)>=1,1,0)","v":0},{"$f":"IF(COUNTIF($D39:AF39,20)>=1,1,0)","v":0},{"$f":"IF(COUNTIF($D39:AG39,20)>=1,1,0)","v":0},{"$f":"IF(COUNTIF($D39:AH39,20)>=1,1,0)","v":0},{"$f":"IF(COUNTIF($D39:AI39,20)>=1,1,0)","v":0},{"$f":"IF(COUNTIF($D39:AJ39,20)>=1,1,0)","v":0},{"$f":"IF(COUNTIF($D39:AK39,20)>=1,1,0)","v":0},{"$f":"IF(COUNTIF($D39:AL39,20)>=1,1,0)","v":0},{"$f":"IF(COUNTIF($D39:AM39,20)>=1,1,0)","v":0},{"$f":"IF(COUNTIF($D39:AN39,20)>=1,1,0)","v":0},{"$f":"IF(COUNTIF($D39:AO39,20)>=1,1,0)","v":0},{"$f":"IF(COUNTIF($D39:AP39,20)>=1,1,0)","v":0},{"$f":"IF(COUNTIF($D39:AQ39,20)>=1,1,0)","v":0},{"$f":"IF(COUNTIF($D39:AR39,20)>=1,1,0)","v":0},{"$f":"IF(COUNTIF($D39:AS39,20)>=1,1,0)","v":0},{"$f":"IF(COUNTIF($D39:AT39,20)>=1,1,0)","v":0},{"$f":"IF(COUNTIF($D39:AU39,20)>=1,1,0)","v":0},{"$f":"IF(COUNTIF($D39:AV39,20)>=1,1,0)","v":0},{"$f":"IF(COUNTIF($D39:AW39,20)>=1,1,0)","v":0},{"$f":"IF(COUNTIF($D39:AX39,20)>=1,1,0)","v":0},{"$f":"IF(COUNTIF($D39:AY39,20)>=1,1,0)","v":0},{"$f":"IF(COUNTIF($D39:AZ39,20)>=1,1,0)","v":0},{"$f":"IF(COUNTIF($D39:BA39,20)>=1,1,0)","v":0},{"$f":"IF(COUNTIF($D39:BB39,20)>=1,1,0)","v":0}]
[null,null,"Klrissa McCulloch",null,null,{"$f":"IF(COUNTIF($D40:F40,20)>=1,1,0)","v":0},{"$f":"IF(COUNTIF($D40:G40,20)>=1,1,0)","v":0},{"$f":"IF(COUNTIF($D40:H40,20)>=1,1,0)","v":0},{"$f":"IF(COUNTIF($D40:I40,20)>=1,1,0)","v":0},{"$f":"IF(COUNTIF($D40:J40,20)>=1,1,0)","v":0},{"$f":"IF(COUNTIF($D40:K40,20)>=1,1,0)","v":0},{"$f":"IF(COUNTIF($D40:L40,20)>=1,1,0)","v":0},{"$f":"IF(COUNTIF($D40:M40,20)>=1,1,0)","v":0},{"$f":"IF(COUNTIF($D40:N40,20)>=1,1,0)","v":0},{"$f":"IF(COUNTIF($D40:O40,20)>=1,1,0)","v":0},{"$f":"IF(COUNTIF($D40:P40,20)>=1,1,0)","v":0},{"$f":"IF(COUNTIF($D40:Q40,20)>=1,1,0)","v":0},{"$f":"IF(COUNTIF($D40:R40,20)>=1,1,0)","v":0},{"$f":"IF(COUNTIF($D40:S40,20)>=1,1,0)","v":0},{"$f":"IF(COUNTIF($D40:T40,20)>=1,1,0)","v":0},{"$f":"IF(COUNTIF($D40:U40,20)>=1,1,0)","v":0},{"$f":"IF(COUNTIF($D40:V40,20)>=1,1,0)","v":0},{"$f":"IF(COUNTIF($D40:W40,20)>=1,1,0)","v":0},{"$f":"IF(COUNTIF($D40:X40,20)>=1,1,0)","v":0},{"$f":"IF(COUNTIF($D40:Y40,20)>=1,1,0)","v":0},{"$f":"IF(COUNTIF($D40:Z40,20)>=1,1,0)","v":0},{"$f":"IF(COUNTIF($D40:AA40,20)>=1,1,0)","v":0},{"$f":"IF(COUNTIF($D40:AB40,20)>=1,1,0)","v":0},{"$f":"IF(COUNTIF($D40:AC40,20)>=1,1,0)","v":0},{"$f":"IF(COUNTIF($D40:AD40,20)>=1,1,0)","v":0},{"$f":"IF(COUNTIF($D40:AE40,20)>=1,1,0)","v":0},{"$f":"IF(COUNTIF($D40:AF40,20)>=1,1,0)","v":0},{"$f":"IF(COUNTIF($D40:AG40,20)>=1,1,0)","v":0},{"$f":"IF(COUNTIF($D40:AH40,20)>=1,1,0)","v":0},{"$f":"IF(COUNTIF($D40:AI40,20)>=1,1,0)","v":0},{"$f":"IF(COUNTIF($D40:AJ40,20)>=1,1,0)","v":0},{"$f":"IF(COUNTIF($D40:AK40,20)>=1,1,0)","v":0},{"$f":"IF(COUNTIF($D40:AL40,20)>=1,1,0)","v":0},{"$f":"IF(COUNTIF($D40:AM40,20)>=1,1,0)","v":0},{"$f":"IF(COUNTIF($D40:AN40,20)>=1,1,0)","v":0},{"$f":"IF(COUNTIF($D40:AO40,20)>=1,1,0)","v":0},{"$f":"IF(COUNTIF($D40:AP40,20)>=1,1,0)","v":0},{"$f":"IF(COUNTIF($D40:AQ40,20)>=1,1,0)","v":0},{"$f":"IF(COUNTIF($D40:AR40,20)>=1,1,0)","v":0},{"$f":"IF(COUNTIF($D40:AS40,20)>=1,1,0)","v":0},{"$f":"IF(COUNTIF($D40:AT40,20)>=1,1,0)","v":0},{"$f":"IF(COUNTIF($D40:AU40,20)>=1,1,0)","v":0},{"$f":"IF(COUNTIF($D40:AV40,20)>=1,1,0)","v":0},{"$f":"IF(COUNTIF($D40:AW40,20)>=1,1,0)","v":0},{"$f":"IF(COUNTIF($D40:AX40,20)>=1,1,0)","v":0},{"$f":"IF(COUNTIF($D40:AY40,20)>=1,1,0)","v":0},{"$f":"IF(COUNTIF($D40:AZ40,20)>=1,1,0)","v":0},{"$f":"IF(COUNTIF($D40:BA40,20)>=1,1,0)","v":0},{"$f":"IF(COUNTIF($D40:BB40,20)>=1,1,0)","v":0},null,{"$f":"BD41","v":"."},{"$f":"BE41","v":20},20,20,20,20,20,20,20,20,20,20,20,".",20,10,".",20,10,".",20,10,10,10,10,10,10,10,10,10,10,10,10,10,10,10,10,10,10,10,10,10,10,10,10,10,10,10,10,10,10]
[null,null,"Michael Pappas",null,null,{"$f":"IF(COUNTIF($D41:F41,20)>=1,1,0)","v":0},{"$f":"IF(COUNTIF($D41:G41,20)>=1,1,0)","v":0},{"$f":"IF(COUNTIF($D41:H41,20)>=1,1,0)","v":0},{"$f":"IF(COUNTIF($D41:I41,20)>=1,1,0)","v":0},{"$f":"IF(COUNTIF($D41:J41,20)>=1,1,0)","v":0},{"$f":"IF(COUNTIF($D41:K41,20)>=1,1,0)","v":0},{"$f":"IF(COUNTIF($D41:L41,20)>=1,1,0)","v":0},{"$f":"IF(COUNTIF($D41:M41,20)>=1,1,0)","v":0},{"$f":"IF(COUNTIF($D41:N41,20)>=1,1,0)","v":0},{"$f":"IF(COUNTIF($D41:O41,20)>=1,1,0)","v":0},{"$f":"IF(COUNTIF($D41:P41,20)>=1,1,0)","v":0},{"$f":"IF(COUNTIF($D41:Q41,20)>=1,1,0)","v":0},{"$f":"IF(COUNTIF($D41:R41,20)>=1,1,0)","v":0},{"$f":"IF(COUNTIF($D41:S41,20)>=1,1,0)","v":0},{"$f":"IF(COUNTIF($D41:T41,20)>=1,1,0)","v":0},{"$f":"IF(COUNTIF($D41:U41,20)>=1,1,0)","v":0},{"$f":"IF(COUNTIF($D41:V41,20)>=1,1,0)","v":0},{"$f":"IF(COUNTIF($D41:W41,20)>=1,1,0)","v":0},{"$f":"IF(COUNTIF($D41:X41,20)>=1,1,0)","v":0},{"$f":"IF(COUNTIF($D41:Y41,20)>=1,1,0)","v":0},{"$f":"IF(COUNTIF($D41:Z41,20)>=1,1,0)","v":0},{"$f":"IF(COUNTIF($D41:AA41,20)>=1,1,0)","v":0},{"$f":"IF(COUNTIF($D41:AB41,20)>=1,1,0)","v":0},{"$f":"IF(COUNTIF($D41:AC41,20)>=1,1,0)","v":0},{"$f":"IF(COUNTIF($D41:AD41,20)>=1,1,0)","v":0},{"$f":"IF(COUNTIF($D41:AE41,20)>=1,1,0)","v":0},{"$f":"IF(COUNTIF($D41:AF41,20)>=1,1,0)","v":0},{"$f":"IF(COUNTIF($D41:AG41,20)>=1,1,0)","v":0},{"$f":"IF(COUNTIF($D41:AH41,20)>=1,1,0)","v":0},{"$f":"IF(COUNTIF($D41:AI41,20)>=1,1,0)","v":0},{"$f":"IF(COUNTIF($D41:AJ41,20)>=1,1,0)","v":0},{"$f":"IF(COUNTIF($D41:AK41,20)>=1,1,0)","v":0},{"$f":"IF(COUNTIF($D41:AL41,20)>=1,1,0)","v":0},{"$f":"IF(COUNTIF($D41:AM41,20)>=1,1,0)","v":0},{"$f":"IF(COUNTIF($D41:AN41,20)>=1,1,0)","v":0},{"$f":"IF(COUNTIF($D41:AO41,20)>=1,1,0)","v":0},{"$f":"IF(COUNTIF($D41:AP41,20)>=1,1,0)","v":0},{"$f":"IF(COUNTIF($D41:AQ41,20)>=1,1,0)","v":0},{"$f":"IF(COUNTIF($D41:AR41,20)>=1,1,0)","v":0},{"$f":"IF(COUNTIF($D41:AS41,20)>=1,1,0)","v":0},{"$f":"IF(COUNTIF($D41:AT41,20)>=1,1,0)","v":0},{"$f":"IF(COUNTIF($D41:AU41,20)>=1,1,0)","v":0},{"$f":"IF(COUNTIF($D41:AV41,20)>=1,1,0)","v":0},{"$f":"IF(COUNTIF($D41:AW41,20)>=1,1,0)","v":0},{"$f":"IF(COUNTIF($D41:AX41,20)>=1,1,0)","v":0},{"$f":"IF(COUNTIF($D41:AY41,20)>=1,1,0)","v":0},{"$f":"IF(COUNTIF($D41:AZ41,20)>=1,1,0)","v":0},{"$f":"IF(COUNTIF($D41:BA41,20)>=1,1,0)","v":0},{"$f":"IF(COUNTIF($D41:BB41,20)>=1,1,0)","v":0},null,{"$f":"DD41","v":"."},{"$f":"DE41","v":"E"},"E","E","E","E","E","E","E","E","E","E","E",".","E",".",".","E",".",".","E","A","A","A","A","A","A","A","A","A","A","A","A","A","A","A","A","A","A","A","A","A","A","A","A","A","A","A","A","A","A"]
[null,null,"Sophia Fike",null,null,{"$f":"SUM(F50:F53)","v":0},0,0,0,0,0,0,0,0,0,0,0,0,0,0,0,0,0,0,0,0,0,0,0,0,0,0,0,0,0,0,0,{"$f":"SUM(AL50:AL53)","v":0},0,0,0,0,0,0,0,0,0,0,0,0,0,0,0,0]
[null,null,"Liam Ogden*",null,null,{"$f":"IF(F47=\"A\",0.01,IF(F54>=3,IF(F54>E54,10,0),0))","v":0},0,0,0,0,0,0,0,0,0,{"$f":"IF(P41=\"A\",0.01,IF(P40=\"A\",0.01,IF(P39=\"A\",0.01,IF(P38=\"A\",0.01,IF(P54>=3,IF(P54>O54,10,0),0)))))","v":0},{"$f":"IF(Q38=\"A\",0.01,IF(Q39=\"A\",0.01,IF(Q40=\"A\",0.01,IF(Q41=\"A\",0.01,0))))","v":0},{"$f":"IF(R47=\"A\",0.01,IF(R54>=3,IF(R54>Q54,10,0),0))","v":0},{"$f":"IF(S47=\"A\",0.01,IF(S54>=3,IF(S54>R54,10,0),0))","v":0},{"$f":"IF(T38=\"A\",0.01,IF(T39=\"A\",0.01,IF(T40=\"A\",0.01,IF(T41=\"A\",0.01,0))))","v":0},{"$f":"IF(U47=\"A\",0.01,IF(U54>=3,IF(U54>T54,10,0),0))","v":0},{"$f":"IF(V47=\"A\",0.01,IF(V54>=3,IF(V54>U54,10,0),0))","v":0},{"$f":"IF(W38=\"A\",0.01,IF(W39=\"A\",0.01,IF(W40=\"A\",0.01,IF(W41=\"A\",0.01,0))))","v":0},{"$f":"IF(X47=\"A\",0.01,IF(X54>=3,IF(X54>W54,10,0),0))","v":0},{"$f":"IF(X101=\"\",0,IF(Y47=\"A\",0.01,IF(Y54>=3,IF(Y54>X54,10,0),0)))","v":0},0,0,0,0,0,0,0,0,0,0,0,0,0,0,0,0,0,0,0,0,0,0,0,0,0,0,0,0,0]
[null,null," ",null,null,{"$f":"IF(E45=1,IF(F66=1,1,0),0)","v":0},0,0,0,0,0,0,0,0,0,0,0,0,0,0,0,0,0,0,0,0,0,0,0,0,0,0,0,0,0,0,0,0,0,0,0,0,0,0,0,0,0,0,0,0,0,0,0,0]
[null,null," ",{"$f":"D36","v":8},{"$f":"E36","v":8},11,12,12,12,12,12,12,12,12,12,12,12,12,12,12,12,12,12,12,12,12,12,12,12,12,12,12,12,12,12,12,12,12,12,12,12,12,12,12,12,12,12,12,12,12,12,12,12,12]
["Individual","Errors","Team Name",1,2,3,4,5,6,7,8,9,10,11,12,{"$f":"IF(P37=\"\",\"\",P37)","v":""},{"$f":"IF(Q37=\"\",\"\",Q37)","v":""},13,{"$f":"IF(S37=\"\",\"\",S37)","v":""},{"$f":"IF(T37=\"\",\"\",T37)","v":""},14,{"$f":"IF(V37=\"\",\"\",V37)","v":""},{"$f":"IF(W37=\"\",\"\",W37)","v":""},15,{"$f":"IF(Y37=\"\",\"\",Y37)","v":""},{"$f":"IF(Z37=\"\",\"\",Z37)","v":""},"","","","","","","","","","","","","","","","","","","","","","","","","","","",""]
[{"$f":"SUM(D59:BB59)","v":0},{"$f":"COUNTIF(D59:BB59,\"E\")","v":0},"Quizzer #1",{"$f":"IF(D$17=\"\",\"\",IF(D$17=0,0,\"\"))","v":""},"",null,"","","","","","","","","","","","","",{"$f":"IF(T$17=\"\",\"\",IF(T$17=0,0,\"\"))","v":""},"","","","","","","","","","","","","","","",{"$f":"IF(AJ$17=\"\",\"\",IF(AJ$17=0,0,\"\"))","v":""},"","","","","","","","","","","","","","","",{"$f":"IF(AZ$17=\"\",\"\",IF(AZ$17=0,0,\"\"))","v":""},"","",null,{"$f":"Sheet4!D59","v":20},{"$f":"Sheet4!E59","v":20},{"$f":"Sheet4!F59","v":20},{"$f":"Sheet4!G59","v":"."},{"$f":"Sheet4!H59","v":20},{"$f":"Sheet4!I59","v":20},{"$f":"Sheet4!J59","v":20},{"$f":"Sheet4!K59","v":20},{"$f":"Sheet4!L59","v":20},{"$f":"Sheet4!M59","v":20},{"$f":"Sheet4!N59","v":20},{"$f":"Sheet4!O59","v":20},{"$f":"Sheet4!P59","v":20},{"$f":"Sheet4!Q59","v":10},{"$f":"Sheet4!R59","v":20},{"$f":"Sheet4!S59","v":20},{"$f":"Sheet4!T59","v":10},{"$f":"Sheet4!U59","v":20},{"$f":"Sheet4!V59","v":20},{"$f":"Sheet4!W59","v":10},{"$f":"Sheet4!X59","v":20},{"$f":"Sheet4!Y59","v":"."},{"$f":"Sheet4!Z59","v":"."},{"$f":"Sheet4!AA59","v":"."},{"$f":"Sheet4!AB59","v":"."},{"$f":"Sheet4!AC59","v":"."},{"$f":"Sheet4!AD59","v":"."},{"$f":"Sheet4!AE59","v":"."},{"$f":"Sheet4!AF59","v":"."},{"$f":"Sheet4!AG59","v":"."},{"$f":"Sheet4!AH59","v":"."},{"$f":"Sheet4!AI59","v":"."},{"$f":"Sheet4!AJ59","v":"."},{"$f":"Sheet4!AK59","v":"."},{"$f":"Sheet4!AL59","v":"."},{"$f":"Sheet4!AM59","v":"."},{"$f":"Sheet4!AN59","v":"."},{"$f":"Sheet4!AO59","v":"."},{"$f":"Sheet4!AP59","v":"."},{"$f":"Sheet4!AQ59","v":"."},{"$f":"Sheet4!AR59","v":"."},{"$f":"Sheet4!AS59","v":"."},{"$f":"Sheet4!AT59","v":"."},{"$f":"Sheet4!AU59","v":"."},{"$f":"Sheet4!AV59","v":"."},{"$f":"Sheet4!AW59","v":"."},{"$f":"Sheet4!AX59","v":"."},{"$f":"Sheet4!AY59","v":"."},{"$f":"Sheet4!AZ59","v":"."},{"$f":"Sheet4!BA59","v":"."},{"$f":"Sheet4!BB59","v":"."},null,{"$f":"IF(BD59=\".\",\".\",D68)","v":"E"},"E","E",".","E","E","E","E","E","E","E","E","E","A","E","E","A","E","E","A","E",".",".",".",".",".",".",".",".",".",".",".",".",".",".",".",".",".",".",".",".",".",".",".",".",".",".",".",".",".","."]
[{"$f":"SUM(D60:BB60)","v":0},{"$f":"COUNTIF(D60:BB60,\"E\")","v":0},"Quizzer #2","","",null,"","","","","","","","","","","","","","","","","","","","","","","","","","","","","","","","","","","","","","","","","","","","","","","","",null,{"$f":"Sheet4!D60","v":20},{"$f":"Sheet4!E60","v":20},{"$f":"Sheet4!F60","v":20},{"$f":"Sheet4!G60","v":"."},{"$f":"Sheet4!H60","v":20},{"$f":"Sheet4!I60","v":20},{"$f":"Sheet4!J60","v":20},{"$f":"Sheet4!K60","v":20},{"$f":"Sheet4!L60","v":20},{"$f":"Sheet4!M60","v":20},{"$f":"Sheet4!N60","v":20},{"$f":"Sheet4!O60","v":20},{"$f":"Sheet4!P60","v":20},{"$f":"Sheet4!Q60","v":10},{"$f":"Sheet4!R60","v":20},{"$f":"Sheet4!S60","v":20},{"$f":"Sheet4!T60","v":10},{"$f":"Sheet4!U60","v":20},{"$f":"Sheet4!V60","v":20},{"$f":"Sheet4!W60","v":10},{"$f":"Sheet4!X60","v":20},{"$f":"Sheet4!Y60","v":"."},{"$f":"Sheet4!Z60","v":"."},{"$f":"Sheet4!AA60","v":"."},{"$f":"Sheet4!AB60","v":"."},{"$f":"Sheet4!AC60","v":"."},{"$f":"Sheet4!AD60","v":"."},{"$f":"Sheet4!AE60","v":"."},{"$f":"Sheet4!AF60","v":"."},{"$f":"Sheet4!AG60","v":"."},{"$f":"Sheet4!AH60","v":"."},{"$f":"Sheet4!AI60","v":"."},{"$f":"Sheet4!AJ60","v":"."},{"$f":"Sheet4!AK60","v":"."},{"$f":"Sheet4!AL60","v":"."},{"$f":"Sheet4!AM60","v":"."},{"$f":"Sheet4!AN60","v":"."},{"$f":"Sheet4!AO60","v":"."},{"$f":"Sheet4!AP60","v":"."},{"$f":"Sheet4!AQ60","v":"."},{"$f":"Sheet4!AR60","v":"."},{"$f":"Sheet4!AS60","v":"."},{"$f":"Sheet4!AT60","v":"."},{"$f":"Sheet4!AU60","v":"."},{"$f":"Sheet4!AV60","v":"."},{"$f":"Sheet4!AW60","v":"."},{"$f":"Sheet4!AX60","v":"."},{"$f":"Sheet4!AY60","v":"."},{"$f":"Sheet4!AZ60","v":"."},{"$f":"Sheet4!BA60","v":"."},{"$f":"Sheet4!BB60","v":"."},null,{"$f":"IF(BD60=\".\",\".\",D68)","v":"E"},"E","E",".","E","E","E","E","E","E","E","E","E","A","E","E","A","E","E","A","E",".",".",".",".",".",".",".",".",".",".",".",".",".",".",".",".",".",".",".",".",".",".",".",".",".",".",".",".",".","."]
[{"$f":"SUM(D61:BB61)","v":0},{"$f":"COUNTIF(D61:BB61,\"E\")","v":1},"Quizzer #3","","","e","","","","","","","","","","","","","","","","","","","","","","","","","","","","","","","","","","","","","","","","","","","","","","","","",null,{"$f":"Sheet4!D61","v":20},{"$f":"Sheet4!E61","v":20},{"$f":"Sheet4!F61","v":20},{"$f":"Sheet4!G61","v":"."},{"$f":"Sheet4!H61","v":20},{"$f":"Sheet4!I61","v":20},{"$f":"Sheet4!J61","v":20},{"$f":"Sheet4!K61","v":20},{"$f":"Sheet4!L61","v":20},{"$f":"Sheet4!M61","v":20},{"$f":"Sheet4!N61","v":20},{"$f":"Sheet4!O61","v":20},{"$f":"Sheet4!P61","v":20},{"$f":"Sheet4!Q61","v":10},{"$f":"Sheet4!R61","v":20},{"$f":"Sheet4!S61","v":20},{"$f":"Sheet4!T61","v":10},{"$f":"Sheet4!U61","v":20},{"$f":"Sheet4!V61","v":20},{"$f":"Sheet4!W61","v":10},{"$f":"Sheet4!X61","v":20},{"$f":"Sheet4!Y61","v":"."},{"$f":"Sheet4!Z61","v":"."},{"$f":"Sheet4!AA61","v":"."},{"$f":"Sheet4!AB61","v":"."},{"$f":"Sheet4!AC61","v":"."},{"$f":"Sheet4!AD61","v":"."},{"$f":"Sheet4!AE61","v":"."},{"$f":"Sheet4!AF61","v":"."},{"$f":"Sheet4!AG61","v":"."},{"$f":"Sheet4!AH61","v":"."},{"$f":"Sheet4!AI61","v":"."},{"$f":"Sheet4!AJ61","v":"."},{"$f":"Sheet4!AK61","v":"."},{"$f":"Sheet4!AL61","v":"."},{"$f":"Sheet4!AM61","v":"."},{"$f":"Sheet4!AN61","v":"."},{"$f":"Sheet4!AO61","v":"."},{"$f":"Sheet4!AP61","v":"."},{"$f":"Sheet4!AQ61","v":"."},{"$f":"Sheet4!AR61","v":"."},{"$f":"Sheet4!AS61","v":"."},{"$f":"Sheet4!AT61","v":"."},{"$f":"Sheet4!AU61","v":"."},{"$f":"Sheet4!AV61","v":"."},{"$f":"Sheet4!AW61","v":"."},{"$f":"Sheet4!AX61","v":"."},{"$f":"Sheet4!AY61","v":"."},{"$f":"Sheet4!AZ61","v":"."},{"$f":"Sheet4!BA61","v":"."},{"$f":"Sheet4!BB61","v":"."},null,{"$f":"IF(BD61=\".\",\".\",D68)","v":"E"},"E","E",".","E","E","E","E","E","E","E","E","E","A","E","E","A","E","E","A","E",".",".",".",".",".",".",".",".",".",".",".",".",".",".",".",".",".",".",".",".",".",".",".",".",".",".",".",".",".","."]
[{"$f":"SUM(D62:BB62)","v":0},{"$f":"COUNTIF(D62:BB62,\"E\")","v":0},"Substitute","","","","","","","","","","","","","","","","","","","","","","","","","","","","","","","","","","","","","","","","","","","","","","","","","","","",null,{"$f":"Sheet4!D62","v":"."},{"$f":"Sheet4!E62","v":20},{"$f":"Sheet4!F62","v":20},{"$f":"Sheet4!G62","v":"."},{"$f":"Sheet4!H62","v":20},{"$f":"Sheet4!I62","v":20},{"$f":"Sheet4!J62","v":20},{"$f":"Sheet4!K62","v":20},{"$f":"Sheet4!L62","v":20},{"$f":"Sheet4!M62","v":20},{"$f":"Sheet4!N62","v":20},{"$f":"Sheet4!O62","v":20},{"$f":"Sheet4!P62","v":20},{"$f":"Sheet4!Q62","v":10},{"$f":"Sheet4!R62","v":20},{"$f":"Sheet4!S62","v":20},{"$f":"Sheet4!T62","v":10},{"$f":"Sheet4!U62","v":20},{"$f":"Sheet4!V62","v":20},{"$f":"Sheet4!W62","v":10},{"$f":"Sheet4!X62","v":20},{"$f":"Sheet4!Y62","v":"."},{"$f":"Sheet4!Z62","v":"."},{"$f":"Sheet4!AA62","v":"."},{"$f":"Sheet4!AB62","v":"."},{"$f":"Sheet4!AC62","v":"."},{"$f":"Sheet4!AD62","v":"."},{"$f":"Sheet4!AE62","v":"."},{"$f":"Sheet4!AF62","v":"."},{"$f":"Sheet4!AG62","v":"."},{"$f":"Sheet4!AH62","v":"."},{"$f":"Sheet4!AI62","v":"."},{"$f":"Sheet4!AJ62","v":"."},{"$f":"Sheet4!AK62","v":"."},{"$f":"Sheet4!AL62","v":"."},{"$f":"Sheet4!AM62","v":"."},{"$f":"Sheet4!AN62","v":"."},{"$f":"Sheet4!AO62","v":"."},{"$f":"Sheet4!AP62","v":"."},{"$f":"Sheet4!AQ62","v":"."},{"$f":"Sheet4!AR62","v":"."},{"$f":"Sheet4!AS62","v":"."},{"$f":"Sheet4!AT62","v":"."},{"$f":"Sheet4!AU62","v":"."},{"$f":"Sheet4!AV62","v":"."},{"$f":"Sheet4!AW62","v":"."},{"$f":"Sheet4!AX62","v":"."},{"$f":"Sheet4!AY62","v":"."},{"$f":"Sheet4!AZ62","v":"."},{"$f":"Sheet4!BA62","v":"."},{"$f":"Sheet4!BB62","v":"."},null,{"$f":"IF(BD62=\".\",\".\",D68)","v":"."},"E","E",".","E","E","E","E","E","E","E","E","E","A","E","E","A","E","E","A","E",".",".",".",".",".",".",".",".",".",".",".",".",".",".",".",".",".",".",".",".",".",".",".",".",".",".",".",".",".","."]
[0,{"$f":"SUM(B65:B68)","v":0},0.25,{"$f":"SUM(D59:D62)+D70+0.25+Sheet4!D134","v":0.25},{"$f":"D63+SUM(E59:E62)+E70+Sheet4!E134","v":0.25},{"$f":"E63+SUM(F59:F62)+F70+F76+Sheet4!F134","v":0.24},{"$f":"F63+SUM(G59:G62)+G70+G76+Sheet4!G134","v":0.24},{"$f":"G63+SUM(H59:H62)+H70+H76+Sheet4!H134","v":0.24},{"$f":"H63+SUM(I59:I62)+I70+I76+Sheet4!I134","v":0.24},{"$f":"IF(I63+J70<0,0.24,I63+SUM(J59:J62)+J70+J76)+Sheet4!J134","v":0.24},{"$f":"IF(J63+K70<0,0.23,J63+SUM(K59:K62)+K70+K76)+Sheet4!K134","v":0.24},{"$f":"IF(K63+L70<0,0.22,K63+SUM(L59:L62)+L70+L76)+Sheet4!L134","v":0.24},{"$f":"IF(L63+M70<0,0.21,L63+SUM(M59:M62)+M70+M76)+Sheet4!M134","v":0.24},{"$f":"IF(M63+N70<0,0.2,M63+SUM(N59:N62)+N70+N76)+Sheet4!N134","v":0.24},{"$f":"IF(N63+O70<0,0.19,N63+SUM(O59:O62)+O70+O76)+Sheet4!O134","v":0.24},{"$f":"IF(O63+P70<0,0.18,O63+SUM(P59:P62)+P70+P76)+Sheet4!P134","v":0.24},{"$f":"IF(P63+Q70<0,0.17,P63+SUM(Q59:Q62)+Q70+Q76)+Sheet4!Q134","v":0.24},{"$f":"IF(Q63+R70<0,0.16,Q63+SUM(R59:R62)+R70+R76)+Sheet4!R134","v":0.24},{"$f":"IF(R63+S70<0,0.15,R63+SUM(S59:S62)+S70+S76)+Sheet4!S134","v":0.24},{"$f":"IF(S63+T70<0,0.14,S63+SUM(T59:T62)+T70+T76)+Sheet4!T134","v":0.24},{"$f":"IF(T63+U70<0,0.13,T63+SUM(U59:U62)+U70+U76)+Sheet4!U134","v":0.24},{"$f":"IF(U63+V70<0,0.12,U63+SUM(V59:V62)+V70+V76)+Sheet4!V134","v":0.24},{"$f":"IF(V63+W70<0,0.11,V63+SUM(W59:W62)+W70+W76)+Sheet4!W134","v":0.24},-1,{"$f":"IF(X63+Y70<0,0.09,X63+SUM(Y59:Y62)+Y70+Y76)+Sheet4!Y134","v":0.09},{"$f":"IF(Y63+Z70<0,0.08,Y63+SUM(Z59:Z62)+Z70+Z76)+Sheet4!Z134","v":0.09},{"$f":"IF(Z63+AA70<0,0.07,Z63+SUM(AA59:AA62)+AA70+AA76)+Sheet4!AA134","v":0.09},{"$f":"IF(AA63+AB70<0,0.06,AA63+SUM(AB59:AB62)+AB70+AB76)+Sheet4!AB134","v":0.09},{"$f":"IF(AB63+AC70<0,0.05,AB63+SUM(AC59:AC62)+AC70+AC76)+Sheet4!AC134","v":0.09},{"$f":"IF(AC63+AD70<0,0.04,AC63+SUM(AD59:AD62)+AD70+AD76)+Sheet4!AD134","v":0.09},{"$f":"IF(AD63+AE70<0,0.03,AD63+SUM(AE59:AE62)+AE70+AE76)+Sheet4!AE134","v":0.09},{"$f":"IF(AE63+AF70<0,0.02,AE63+SUM(AF59:AF62)+AF70+AF76)+Sheet4!AF134","v":0.09},{"$f":"IF(AF63+AG70<0,0.01,AF63+SUM(AG59:AG62)+AG70+AG76)+Sheet4!AG134","v":0.09},{"$f":"IF(AG63+AH70<0,0,AG63+SUM(AH59:AH62)+AH70+AH76)+Sheet4!AH134","v":0.09},{"$f":"IF(AH63+AI70<0,0,AH63+SUM(AI59:AI62)+AI70+AI76)+Sheet4!AI134","v":0.09},{"$f":"IF(AI63+AJ70<0,0,AI63+SUM(AJ59:AJ62)+AJ70+AJ76)+Sheet4!AJ134","v":0.09},{"$f":"IF(AJ63+AK70<0,0,AJ63+SUM(AK59:AK62)+AK70+AK76)+Sheet4!AK134","v":0.09},{"$f":"IF(AK63+AL70<0,0,AK63+SUM(AL59:AL62)+AL70+AL76)+Sheet4!AL134","v":0.09},{"$f":"IF(AL63+AM70<0,0,AL63+SUM(AM59:AM62)+AM70+AM76)+Sheet4!AM134","v":0.09},{"$f":"IF(AM63+AN70<0,0,AM63+SUM(AN59:AN62)+AN70+AN76)+Sheet4!AN134","v":0.09},{"$f":"IF(AN63+AO70<0,0,AN63+SUM(AO59:AO62)+AO70+AO76)+Sheet4!AO134","v":0.09},{"$f":"IF(AO63+AP70<0,0,AO63+SUM(AP59:AP62)+AP70+AP76)+Sheet4!AP134","v":0.09},{"$f":"IF(AP63+AQ70<0,0,AP63+SUM(AQ59:AQ62)+AQ70+AQ76)+Sheet4!AQ134","v":0.09},{"$f":"IF(AQ63+AR70<0,0,AQ63+SUM(AR59:AR62)+AR70+AR76)+Sheet4!AR134","v":0.09},{"$f":"IF(AR63+AS70<0,0,AR63+SUM(AS59:AS62)+AS70+AS76)+Sheet4!AS134","v":0.09},{"$f":"IF(AS63+AT70<0,0,AS63+SUM(AT59:AT62)+AT70+AT76)+Sheet4!AT134","v":0.09},{"$f":"IF(AT63+AU70<0,0,AT63+SUM(AU59:AU62)+AU70+AU76)+Sheet4!AU134","v":0.09},{"$f":"IF(AU63+AV70<0,0,AU63+SUM(AV59:AV62)+AV70+AV76)+Sheet4!AV134","v":0.09},{"$f":"IF(AV63+AW70<0,0,AV63+SUM(AW59:AW62)+AW70+AW76)+Sheet4!AW134","v":0.09},{"$f":"IF(AW63+AX70<0,0,AW63+SUM(AX59:AX62)+AX70+AX76)+Sheet4!AX134","v":0.09},{"$f":"IF(AX63+AY70<0,0,AX63+SUM(AY59:AY62)+AY70+AY76)+Sheet4!AY134","v":0.09},{"$f":"IF(AY63+AZ70<0,0,AY63+SUM(AZ59:AZ62)+AZ70+AZ76)+Sheet4!AZ134","v":0.09},{"$f":"IF(AZ63+BA70<0,0,AZ63+SUM(BA59:BA62)+BA70+BA76)+Sheet4!BA134","v":0.09},-1]
["Team Total","Olympic Pts.",{"$f":"IF(Sheet4!B132=0,IF(Sheet4!B133=0,Sheet4!C121,Sheet4!C122),IF(Sheet4!B133=0,Sheet4!C124,Sheet4!C123))","v":"Timeout = T, Foul = F ------------>"},null,null,null,null,null,null,null,null,null,null,null,null,null,null,null,null,null,null,null,null,null,null,null,null,null,null,null,null,null,null,null,null,null,null,null,null,null,null,null,null,null,null,null,null,null,null,null,null,null,null,null,null,{"$f":"BD59","v":20},{"$f":"BE59","v":20},20,".",20,20,20,20,20,20,20,20,20,10,20,20,10,20,20,10,20,".",".",".",".",".",".",".",".",".",".",".",".",".",".",".",".",".",".",".",".",".",".",".",".",".",".",".",".",".","."]
[null,{"$f":"W120","v":0},"Gabrielle Baut",null,{"$f":"COUNTIF(D59:D62,\"E\")","v":0},{"$f":"COUNTIF(D59:E62,\"E\")","v":0},{"$f":"COUNTIF(E59:F62,\"E\")","v":1},1,1,1,1,1,1,1,1,1,1,1,1,1,1,1,1,1,1,1,1,1,1,1,1,1,1,1,1,1,1,1,1,1,1,1,1,1,1,1,1,1,1,1,1,1,1,1,null,{"$f":"DD59","v":"E"},{"$f":"DE59","v":"E"},"E",".","E","E","E","E","E","E","E","E","E","A","E","E","A","E","E","A","E",".",".",".",".",".",".",".",".",".",".",".",".",".",".",".",".",".",".",".",".",".",".",".",".",".",".",".",".",".","."]
[null,0,"Hunter McGuire",null,{"$f":"COUNTIF(D59:D62,\"E\")","v":0},{"$f":"COUNTIF(E59:E62,\"E\")","v":0},1,0,0,0,0,0,0,0,0,0,0,0,0,0,0,0,0,0,0,0,0,0,0,0,0,0,0,0,0,0,0,0,0,0,0,0,0,0,0,0,0,0,0,0,0,0,0,0]
[null,{"$f":"IF(BB75>=3,2,0)","v":0},"Emily Mitchell",20,{"$f":"IF(E66=1,\".\",20)","v":20},{"$f":"IF(F77=1,\".\",IF(F66=1,\".\",IF(SUM(F44,F23)<2,20,10)))","v":20},{"$f":"IF(G77=1,\".\",IF(G66=1,\".\",IF(SUM(G44,G23)<2,20,10)))","v":"."},{"$f":"IF(H77=1,\".\",IF(H66=1,\".\",IF(SUM(H44,H23)<2,20,10)))","v":20},20,20,20,20,20,20,20,20,{"$f":"IF(COUNTIF(O59:P62,\"\")<8,\".\",10)","v":10},20,{"$f":"IF(COUNTIF(R59:R62,\"\")<4,\".\",20)","v":20},{"$f":"IF(COUNTIF(R59:S62,\"\")<8,\">\",10)","v":10},20,{"$f":"IF(COUNTIF(U59:U62,\"\")<4,\".\",20)","v":20},{"$f":"IF(COUNTIF(U59:V62,\"\")<8,\">\",10)","v":10},20,{"$f":"Y114","v":"."},{"$f":"Z114","v":"."},".",".",".",".",".",".",".",".",".",".",".",".",".",".",".",".",".",".",".",".",".",".",".",".",".",".",".",".",null,{"$f":"BD60","v":20},{"$f":"BE60","v":20},20,".",20,20,20,20,20,20,20,20,20,10,20,20,10,20,20,10,20,".",".",".",".",".",".",".",".",".",".",".",".",".",".",".",".",".",".",".",".",".",".",".",".",".",".",".",".",".","."]
[null,{"$f":"IF(B67=2,0,IF(B65+B66=10,IF(A63>=130,1,0),IF(B65+B66=5,IF(A63>=100,1,0),IF(A63>=70,1,0))))","v":0},"Daishawn Hughes","E",{"$f":"IF(E66=1,\".\",\"E\")","v":"E"},{"$f":"IF(F67=\".\",\".\",IF(SUM(F44,F23)<2,\"E\",\"A\"))","v":"E"},{"$f":"IF(G67=\".\",\".\",IF(SUM(G44,G23)<2,\"E\",\"A\"))","v":"."},"E","E","E","E","E","E","E","E","E",{"$f":"IF(Q67=10,\"A\",\".\")","v":"A"},"E",{"$f":"IF(S67=20,\"E\",\".\")","v":"E"},{"$f":"IF(T67=10,\"A\",\".\")","v":"A"},"E",{"$f":"IF(V67=20,\"E\",\".\")","v":"E"},{"$f":"IF(W67=10,\"A\",\".\")","v":"A"},"E",{"$f":"Y115","v":"."},".",".",".",".",".",".",".",".",".",".",".",".",".",".",".",".",".",".",".",".",".",".",".",".",".",".",".",".",".",null,{"$f":"DD60","v":"E"},{"$f":"DE60","v":"E"},"E",".","E","E","E","E","E","E","E","E","E","A","E","E","A","E","E","A","E",".",".",".",".",".",".",".",".",".",".",".",".",".",".",".",".",".",".",".",".",".",".",".",".",".",".",".",".",".","."]
[null,null,"Willona Raybon*",{"$f":"IF(D57=12,\".\",IF(D57=0,0,\"\"))","v":""},{"$f":"IF(E57=12,\".\",IF(E57=0,0,\"\"))","v":""},"",".",".",".",".",".",".",".",".",".",{"$f":"IF(P57=0,0,IF(P$78=0,\".\",\"\"))","v":"."},{"$f":"IF(Q57=0,0,IF(Q$78=0,\".\",\"\"))","v":"."},".",{"$f":"IF(S57=0,0,IF(S$78=0,\".\",\"\"))","v":"."},{"$f":"IF(T57=0,0,IF(T$78=0,\".\",\"\"))","v":"."},".",{"$f":"IF(V57=0,0,IF(V$78=0,\".\",\"\"))","v":"."},{"$f":"IF(W57=0,0,IF(W$78=0,\".\",\"\"))","v":"."},".",".",".",".",".",".",".",".",".",".",".",".",".",".",".",".",".",".",".",".",".",".",".",".",".",".",".",".",".",".","."]
[null,null,"Jessica Matthews",{"$f":"IF(E66=0,0,IF(SUM($D66:E66)>=4,-10,-0.01))","v":0},{"$f":"IF(F66=0,0,IF(SUM($D66:F66)>=4,-10,-0.01))","v":0},{"$f":"IF(G66=0,0,IF(SUM($D66:G66)>=4,-10,-0.01))","v":-0.01},{"$f":"IF(H66=0,0,IF(SUM($D66:H66)>=4,-10,-0.01))","v":0},{"$f":"IF(I66=0,0,IF(SUM($D66:I66)>=4,-10,-0.01))","v":0},{"$f":"IF(J66=0,0,IF(SUM($D66:J66)>=4,-10,-0.01))","v":0},{"$f":"IF(K66=0,0,IF(SUM($D66:K66)>=4,-10,-0.01))","v":0},{"$f":"IF(L66=0,0,IF(SUM($D66:L66)>=4,-10,-0.01))","v":0},{"$f":"IF(M66=0,0,IF(SUM($D66:M66)>=4,-10,-0.01))","v":0},{"$f":"IF(N66=0,0,IF(SUM($D66:N66)>=4,-10,-0.01))","v":0},{"$f":"IF(O66=0,0,IF(SUM($D66:O66)>=4,-10,-0.01))","v":0},{"$f":"IF(P66=0,0,IF(SUM($D66:P66)>=4,-10,-0.01))","v":0},{"$f":"IF(Q66=0,0,IF(SUM($D66:Q66)>=4,-10,-0.01))","v":0},{"$f":"IF(R66=0,0,IF(SUM($D66:R66)>=4,-10,-0.01))","v":0},{"$f":"IF(S66=0,0,IF(SUM($D66:S66)>=4,-10,-0.01))","v":0},{"$f":"IF(T66=0,0,IF(SUM($D66:T66)>=4,-10,-0.01))","v":0},{"$f":"IF(U66=0,0,IF(SUM($D66:U66)>=4,-10,-0.01))","v":0},{"$f":"IF(V66=0,0,IF(SUM($D66:V66)>=4,-10,-0.01))","v":0},{"$f":"IF(W66=0,0,IF(SUM($D66:W66)>=4,-10,-0.01))","v":0},0,{"$f":"IF(Y66=1,-10,0)","v":0},{"$f":"IF(Z66=1,-10,0)","v":0},{"$f":"IF(AA66=1,-10,0)","v":0},{"$f":"IF(AB66=1,-10,0)","v":0},0,0,0,0,0,0,0,0,0,0,0,0,0,0,0,0,0,0,0,0,0,0,0,0,0,0,0,null,{"$f":"BD61","v":20},{"$f":"BE61","v":20},20,".",20,20,20,20,20,20,20,20,20,10,20,20,10,20,20,10,20,".",".",".",".",".",".",".",".",".",".",".",".",".",".",".",".",".",".",".",".",".",".",".",".",".",".",".",".",".","."]
[null,null,"Lydia Hatfield",null,null,{"$f":"IF(COUNTIF($D59:F59,20)>=1,1,0)","v":0},{"$f":"IF(COUNTIF($D59:G59,20)>=1,1,0)","v":0},{"$f":"IF(COUNTIF($D59:H59,20)>=1,1,0)","v":0},{"$f":"IF(COUNTIF($D59:I59,20)>=1,1,0)","v":0},{"$f":"IF(COUNTIF($D59:J59,20)>=1,1,0)","v":0},{"$f":"IF(COUNTIF($D59:K59,20)>=1,1,0)","v":0},{"$f":"IF(COUNTIF($D59:L59,20)>=1,1,0)","v":0},{"$f":"IF(COUNTIF($D59:M59,20)>=1,1,0)","v":0},{"$f":"IF(COUNTIF($D59:N59,20)>=1,1,0)","v":0},{"$f":"IF(COUNTIF($D59:O59,20)>=1,1,0)","v":0},{"$f":"IF(COUNTIF($D59:P59,20)>=1,1,0)","v":0},{"$f":"IF(COUNTIF($D59:Q59,20)>=1,1,0)","v":0},{"$f":"IF(COUNTIF($D59:R59,20)>=1,1,0)","v":0},{"$f":"IF(COUNTIF($D59:S59,20)>=1,1,0)","v":0},{"$f":"IF(COUNTIF($D59:T59,20)>=1,1,0)","v":0},{"$f":"IF(COUNTIF($D59:U59,20)>=1,1,0)","v":0},{"$f":"IF(COUNTIF($D59:V59,20)>=1,1,0)","v":0},{"$f":"IF(COUNTIF($D59:W59,20)>=1,1,0)","v":0},{"$f":"IF(COUNTIF($D59:X59,20)>=1,1,0)","v":0},{"$f":"IF(COUNTIF($D59:Y59,20)>=1,1,0)","v":0},{"$f":"IF(COUNTIF($D59:Z59,20)>=1,1,0)","v":0},{"$f":"IF(COUNTIF($D59:AA59,20)>=1,1,0)","v":0},{"$f":"IF(COUNTIF($D59:AB59,20)>=1,1,0)","v":0},{"$f":"IF(COUNTIF($D59:AC59,20)>=1,1,0)","v":0},{"$f":"IF(COUNTIF($D59:AD59,20)>=1,1,0)","v":0},{"$f":"IF(COUNTIF($D59:AE59,20)>=1,1,0)","v":0},{"$f":"IF(COUNTIF($D59:AF59,20)>=1,1,0)","v":0},{"$f":"IF(COUNTIF($D59:AG59,20)>=1,1,0)","v":0},{"$f":"IF(COUNTIF($D59:AH59,20)>=1,1,0)","v":0},{"$f":"IF(COUNTIF($D59:AI59,20)>=1,1,0)","v":0},{"$f":"IF(COUNTIF($D59:AJ59,20)>=1,1,0)","v":0},{"$f":"IF(COUNTIF($D59:AK59,20)>=1,1,0)","v":0},{"$f":"IF(COUNTIF($D59:AL59,20)>=1,1,0)","v":0},{"$f":"IF(COUNTIF($D59:AM59,20)>=1,1,0)","v":0},{"$f":"IF(COUNTIF($D59:AN59,20)>=1,1,0)","v":0},{"$f":"IF(COUNTIF($D59:AO59,20)>=1,1,0)","v":0},{"$f":"IF(COUNTIF($D59:AP59,20)>=1,1,0)","v":0},{"$f":"IF(COUNTIF($D59:AQ59,20)>=1,1,0)","v":0},{"$f":"IF(COUNTIF($D59:AR59,20)>=1,1,0)","v":0},{"$f":"IF(COUNTIF($D59:AS59,20)>=1,1,0)","v":0},{"$f":"IF(COUNTIF($D59:AT59,20)>=1,1,0)","v":0},{"$f":"IF(COUNTIF($D59:AU59,20)>=1,1,0)","v":0},{"$f":"IF(COUNTIF($D59:AV59,20)>=1,1,0)","v":0},{"$f":"IF(COUNTIF($D59:AW59,20)>=1,1,0)","v":0},{"$f":"IF(COUNTIF($D59:AX59,20)>=1,1,0)","v":0},{"$f":"IF(COUNTIF($D59:AY59,20)>=1,1,0)","v":0},{"$f":"IF(COUNTIF($D59:AZ59,20)>=1,1,0)","v":0},{"$f":"IF(COUNTIF($D59:BA59,20)>=1,1,0)","v":0},{"$f":"IF(COUNTIF($D59:BB59,20)>=1,1,0)","v":0},null,{"$f":"DD61","v":"E"},{"$f":"DE61","v":"E"},"E",".","E","E","E","E","E","E","E","E","E","A","E","E","A","E","E","A","E",".",".",".",".",".",".",".",".",".",".",".",".",".",".",".",".",".",".",".",".",".",".",".",".",".",".",".",".",".","."]
[null,null,"Caleb Yonker",null,null,{"$f":"IF(COUNTIF($D60:F60,20)>=1,1,0)","v":0},{"$f":"IF(COUNTIF($D60:G60,20)>=1,1,0)","v":0},{"$f":"IF(COUNTIF($D60:H60,20)>=1,1,0)","v":0},{"$f":"IF(COUNTIF($D60:I60,20)>=1,1,0)","v":0},{"$f":"IF(COUNTIF($D60:J60,20)>=1,1,0)","v":0},{"$f":"IF(COUNTIF($D60:K60,20)>=1,1,0)","v":0},{"$f":"IF(COUNTIF($D60:L60,20)>=1,1,0)","v":0},{"$f":"IF(COUNTIF($D60:M60,20)>=1,1,0)","v":0},{"$f":"IF(COUNTIF($D60:N60,20)>=1,1,0)","v":0},{"$f":"IF(COUNTIF($D60:O60,20)>=1,1,0)","v":0},{"$f":"IF(COUNTIF($D60:P60,20)>=1,1,0)","v":0},{"$f":"IF(COUNTIF($D60:Q60,20)>=1,1,0)","v":0},{"$f":"IF(COUNTIF($D60:R60,20)>=1,1,0)","v":0},{"$f":"IF(COUNTIF($D60:S60,20)>=1,1,0)","v":0},{"$f":"IF(COUNTIF($D60:T60,20)>=1,1,0)","v":0},{"$f":"IF(COUNTIF($D60:U60,20)>=1,1,0)","v":0},{"$f":"IF(COUNTIF($D60:V60,20)>=1,1,0)","v":0},{"$f":"IF(COUNTIF($D60:W60,20)>=1,1,0)","v":0},{"$f":"IF(COUNTIF($D60:X60,20)>=1,1,0)","v":0},{"$f":"IF(COUNTIF($D60:Y60,20)>=1,1,0)","v":0},{"$f":"IF(COUNTIF($D60:Z60,20)>=1,1,0)","v":0},{"$f":"IF(COUNTIF($D60:AA60,20)>=1,1,0)","v":0},{"$f":"IF(COUNTIF($D60:AB60,20)>=1,1,0)","v":0},{"$f":"IF(COUNTIF($D60:AC60,20)>=1,1,0)","v":0},{"$f":"IF(COUNTIF($D60:AD60,20)>=1,1,0)","v":0},{"$f":"IF(COUNTIF($D60:AE60,20)>=1,1,0)","v":0},{"$f":"IF(COUNTIF($D60:AF60,20)>=1,1,0)","v":0},{"$f":"IF(COUNTIF($D60:AG60,20)>=1,1,0)","v":0},{"$f":"IF(COUNTIF($D60:AH60,20)>=1,1,0)","v":0},{"$f":"IF(COUNTIF($D60:AI60,20)>=1,1,0)","v":0},{"$f":"IF(COUNTIF($D60:AJ60,20)>=1,1,0)","v":0},{"$f":"IF(COUNTIF($D60:AK60,20)>=1,1,0)","v":0},{"$f":"IF(COUNTIF($D60:AL60,20)>=1,1,0)","v":0},{"$f":"IF(COUNTIF($D60:AM60,20)>=1,1,0)","v":0},{"$f":"IF(COUNTIF($D60:AN60,20)>=1,1,0)","v":0},{"$f":"IF(COUNTIF($D60:AO60,20)>=1,1,0)","v":0},{"$f":"IF(COUNTIF($D60:AP60,20)>=1,1,0)","v":0},{"$f":"IF(COUNTIF($D60:AQ60,20)>=1,1,0)","v":0},{"$f":"IF(COUNTIF($D60:AR60,20)>=1,1,0)","v":0},{"$f":"IF(COUNTIF($D60:AS60,20)>=1,1,0)","v":0},{"$f":"IF(COUNTIF($D60:AT60,20)>=1,1,0)","v":0},{"$f":"IF(COUNTIF($D60:AU60,20)>=1,1,0)","v":0},{"$f":"IF(COUNTIF($D60:AV60,20)>=1,1,0)","v":0},{"$f":"IF(COUNTIF($D60:AW60,20)>=1,1,0)","v":0},{"$f":"IF(COUNTIF($D60:AX60,20)>=1,1,0)","v":0},{"$f":"IF(COUNTIF($D60:AY60,20)>=1,1,0)","v":0},{"$f":"IF(COUNTIF($D60:AZ60,20)>=1,1,0)","v":0},{"$f":"IF(COUNTIF($D60:BA60,20)>=1,1,0)","v":0},{"$f":"IF(COUNTIF($D60:BB60,20)>=1,1,0)","v":0}]
[null,null,"Grant Mayer",null,null,{"$f":"IF(COUNTIF($D61:F61,20)>=1,1,0)","v":0},{"$f":"IF(COUNTIF($D61:G61,20)>=1,1,0)","v":0},{"$f":"IF(COUNTIF($D61:H61,20)>=1,1,0)","v":0},{"$f":"IF(COUNTIF($D61:I61,20)>=1,1,0)","v":0},{"$f":"IF(COUNTIF($D61:J61,20)>=1,1,0)","v":0},{"$f":"IF(COUNTIF($D61:K61,20)>=1,1,0)","v":0},{"$f":"IF(COUNTIF($D61:L61,20)>=1,1,0)","v":0},{"$f":"IF(COUNTIF($D61:M61,20)>=1,1,0)","v":0},{"$f":"IF(COUNTIF($D61:N61,20)>=1,1,0)","v":0},{"$f":"IF(COUNTIF($D61:O61,20)>=1,1,0)","v":0},{"$f":"IF(COUNTIF($D61:P61,20)>=1,1,0)","v":0},{"$f":"IF(COUNTIF($D61:Q61,20)>=1,1,0)","v":0},{"$f":"IF(COUNTIF($D61:R61,20)>=1,1,0)","v":0},{"$f":"IF(COUNTIF($D61:S61,20)>=1,1,0)","v":0},{"$f":"IF(COUNTIF($D61:T61,20)>=1,1,0)","v":0},{"$f":"IF(COUNTIF($D61:U61,20)>=1,1,0)","v":0},{"$f":"IF(COUNTIF($D61:V61,20)>=1,1,0)","v":0},{"$f":"IF(COUNTIF($D61:W61,20)>=1,1,0)","v":0},{"$f":"IF(COUNTIF($D61:X61,20)>=1,1,0)","v":0},{"$f":"IF(COUNTIF($D61:Y61,20)>=1,1,0)","v":0},{"$f":"IF(COUNTIF($D61:Z61,20)>=1,1,0)","v":0},{"$f":"IF(COUNTIF($D61:AA61,20)>=1,1,0)","v":0},{"$f":"IF(COUNTIF($D61:AB61,20)>=1,1,0)","v":0},{"$f":"IF(COUNTIF($D61:AC61,20)>=1,1,0)","v":0},{"$f":"IF(COUNTIF($D61:AD61,20)>=1,1,0)","v":0},{"$f":"IF(COUNTIF($D61:AE61,20)>=1,1,0)","v":0},{"$f":"IF(COUNTIF($D61:AF61,20)>=1,1,0)","v":0},{"$f":"IF(COUNTIF($D61:AG61,20)>=1,1,0)","v":0},{"$f":"IF(COUNTIF($D61:AH61,20)>=1,1,0)","v":0},{"$f":"IF(COUNTIF($D61:AI61,20)>=1,1,0)","v":0},{"$f":"IF(COUNTIF($D61:AJ61,20)>=1,1,0)","v":0},{"$f":"IF(COUNTIF($D61:AK61,20)>=1,1,0)","v":0},{"$f":"IF(COUNTIF($D61:AL61,20)>=1,1,0)","v":0},{"$f":"IF(COUNTIF($D61:AM61,20)>=1,1,0)","v":0},{"$f":"IF(COUNTIF($D61:AN61,20)>=1,1,0)","v":0},{"$f":"IF(COUNTIF($D61:AO61,20)>=1,1,0)","v":0},{"$f":"IF(COUNTIF($D61:AP61,20)>=1,1,0)","v":0},{"$f":"IF(COUNTIF($D61:AQ61,20)>=1,1,0)","v":0},{"$f":"IF(COUNTIF($D61:AR61,20)>=1,1,0)","v":0},{"$f":"IF(COUNTIF($D61:AS61,20)>=1,1,0)","v":0},{"$f":"IF(COUNTIF($D61:AT61,20)>=1,1,0)","v":0},{"$f":"IF(COUNTIF($D61:AU61,20)>=1,1,0)","v":0},{"$f":"IF(COUNTIF($D61:AV61,20)>=1,1,0)","v":0},{"$f":"IF(COUNTIF($D61:AW61,20)>=1,1,0)","v":0},{"$f":"IF(COUNTIF($D61:AX61,20)>=1,1,0)","v":0},{"$f":"IF(COUNTIF($D61:AY61,20)>=1,1,0)","v":0},{"$f":"IF(COUNTIF($D61:AZ61,20)>=1,1,0)","v":0},{"$f":"IF(COUNTIF($D61:BA61,20)>=1,1,0)","v":0},{"$f":"IF(COUNTIF($D61:BB61,20)>=1,1,0)","v":0},null,{"$f":"BD62","v":"."},{"$f":"BE62","v":20},20,".",20,20,20,20,20,20,20,20,20,10,20,20,10,20,20,10,20,".",".",".",".",".",".",".",".",".",".",".",".",".",".",".",".",".",".",".",".",".",".",".",".",".",".",".",".",".","."]
[null,null,"Cecil Coleman",null,null,{"$f":"IF(COUNTIF($D62:F62,20)>=1,1,0)","v":0},{"$f":"IF(COUNTIF($D62:G62,20)>=1,1,0)","v":0},{"$f":"IF(COUNTIF($D62:H62,20)>=1,1,0)","v":0},{"$f":"IF(COUNTIF($D62:I62,20)>=1,1,0)","v":0},{"$f":"IF(COUNTIF($D62:J62,20)>=1,1,0)","v":0},{"$f":"IF(COUNTIF($D62:K62,20)>=1,1,0)","v":0},{"$f":"IF(COUNTIF($D62:L62,20)>=1,1,0)","v":0},{"$f":"IF(COUNTIF($D62:M62,20)>=1,1,0)","v":0},{"$f":"IF(COUNTIF($D62:N62,20)>=1,1,0)","v":0},{"$f":"IF(COUNTIF($D62:O62,20)>=1,1,0)","v":0},{"$f":"IF(COUNTIF($D62:P62,20)>=1,1,0)","v":0},{"$f":"IF(COUNTIF($D62:Q62,20)>=1,1,0)","v":0},{"$f":"IF(COUNTIF($D62:R62,20)>=1,1,0)","v":0},{"$f":"IF(COUNTIF($D62:S62,20)>=1,1,0)","v":0},{"$f":"IF(COUNTIF($D62:T62,20)>=1,1,0)","v":0},{"$f":"IF(COUNTIF($D62:U62,20)>=1,1,0)","v":0},{"$f":"IF(COUNTIF($D62:V62,20)>=1,1,0)","v":0},{"$f":"IF(COUNTIF($D62:W62,20)>=1,1,0)","v":0},{"$f":"IF(COUNTIF($D62:X62,20)>=1,1,0)","v":0},{"$f":"IF(COUNTIF($D62:Y62,20)>=1,1,0)","v":0},{"$f":"IF(COUNTIF($D62:Z62,20)>=1,1,0)","v":0},{"$f":"IF(COUNTIF($D62:AA62,20)>=1,1,0)","v":0},{"$f":"IF(COUNTIF($D62:AB62,20)>=1,1,0)","v":0},{"$f":"IF(COUNTIF($D62:AC62,20)>=1,1,0)","v":0},{"$f":"IF(COUNTIF($D62:AD62,20)>=1,1,0)","v":0},{"$f":"IF(COUNTIF($D62:AE62,20)>=1,1,0)","v":0},{"$f":"IF(COUNTIF($D62:AF62,20)>=1,1,0)","v":0},{"$f":"IF(COUNTIF($D62:AG62,20)>=1,1,0)","v":0},{"$f":"IF(COUNTIF($D62:AH62,20)>=1,1,0)","v":0},{"$f":"IF(COUNTIF($D62:AI62,20)>=1,1,0)","v":0},{"$f":"IF(COUNTIF($D62:AJ62,20)>=1,1,0)","v":0},{"$f":"IF(COUNTIF($D62:AK62,20)>=1,1,0)","v":0},{"$f":"IF(COUNTIF($D62:AL62,20)>=1,1,0)","v":0},{"$f":"IF(COUNTIF($D62:AM62,20)>=1,1,0)","v":0},{"$f":"IF(COUNTIF($D62:AN62,20)>=1,1,0)","v":0},{"$f":"IF(COUNTIF($D62:AO62,20)>=1,1,0)","v":0},{"$f":"IF(COUNTIF($D62:AP62,20)>=1,1,0)","v":0},{"$f":"IF(COUNTIF($D62:AQ62,20)>=1,1,0)","v":0},{"$f":"IF(COUNTIF($D62:AR62,20)>=1,1,0)","v":0},{"$f":"IF(COUNTIF($D62:AS62,20)>=1,1,0)","v":0},{"$f":"IF(COUNTIF($D62:AT62,20)>=1,1,0)","v":0},{"$f":"IF(COUNTIF($D62:AU62,20)>=1,1,0)","v":0},{"$f":"IF(COUNTIF($D62:AV62,20)>=1,1,0)","v":0},{"$f":"IF(COUNTIF($D62:AW62,20)>=1,1,0)","v":0},{"$f":"IF(COUNTIF($D62:AX62,20)>=1,1,0)","v":0},{"$f":"IF(COUNTIF($D62:AY62,20)>=1,1,0)","v":0},{"$f":"IF(COUNTIF($D62:AZ62,20)>=1,1,0)","v":0},{"$f":"IF(COUNTIF($D62:BA62,20)>=1,1,0)","v":0},{"$f":"IF(COUNTIF($D62:BB62,20)>=1,1,0)","v":0},null,{"$f":"DD62","v":"."},{"$f":"DE62","v":"E"},"E",".","E","E","E","E","E","E","E","E","E","A","E","E","A","E","E","A","E",".",".",".",".",".",".",".",".",".",".",".",".",".",".",".",".",".",".",".",".",".",".",".",".",".",".",".",".",".","."]
[null,null,"Zander Cox*",null,null,{"$f":"SUM(F71:F74)","v":0},0,0,0,0,0,0,0,0,0,0,0,0,0,0,0,0,0,0,0,0,0,0,0,0,0,0,0,0,0,0,0,{"$f":"SUM(AL71:AL74)","v":0},0,0,0,0,0,0,0,0,0,0,0,0,0,0,0,0]
[null,null,"Sam Hatfield",null,null,{"$f":"IF(F68=\"A\",0.01,IF(F75>=3,IF(F75>E75,10,0),0))","v":0},0,0,0,0,0,0,0,0,0,{"$f":"IF(P62=\"A\",0.01,IF(P61=\"A\",0.01,IF(P60=\"A\",0.01,IF(P59=\"A\",0.01,IF(P75>=3,IF(P75>O75,10,0),0)))))","v":0},{"$f":"IF(Q59=\"A\",0.01,IF(Q60=\"A\",0.01,IF(Q61=\"A\",0.01,IF(Q62=\"A\",0.01,0))))","v":0},{"$f":"IF(R68=\"A\",0.01,IF(R75>=3,IF(R75>Q75,10,0),0))","v":0},{"$f":"IF(S68=\"A\",0.01,IF(S75>=3,IF(S75>R75,10,0),0))","v":0},{"$f":"IF(T59=\"A\",0.01,IF(T60=\"A\",0.01,IF(T61=\"A\",0.01,IF(T62=\"A\",0.01,0))))","v":0},{"$f":"IF(U68=\"A\",0.01,IF(U75>=3,IF(U75>T75,10,0),0))","v":0},{"$f":"IF(V68=\"A\",0.01,IF(V75>=3,IF(V75>U75,10,0),0))","v":0},{"$f":"IF(W59=\"A\",0.01,IF(W60=\"A\",0.01,IF(W61=\"A\",0.01,IF(W62=\"A\",0.01,0))))","v":0},{"$f":"IF(X68=\"A\",0.01,IF(X75>=3,IF(X75>W75,10,0),0))","v":0},{"$f":"IF(X101=\"\",0,IF(Y68=\"A\",0.01,IF(Y75>=3,IF(Y75>X75,10,0),0)))","v":0},{"$f":"IF(Y101=\"\",0,IF(Z68=\"A\",0.01,IF(Z75>=3,IF(Z75>Y75,10,0),0)))","v":0},0,0,0,0,0,0,0,0,0,0,0,0,0,0,0,0,0,0,0,0,0,0,0,0,0,0,0,0]
[null,null,"Patrick King*",null,null,{"$f":"IF(E66=1,IF(F45+F24=1, 1,0),0)","v":0},{"$f":"IF(F66=1,IF(G45+G24=1, 1,0),0)","v":0},0,0,0,0,0,0,0,0,0,0,0,0,0,0,0,0,0,0,0,0,0,0,0,0,0,0,0,0,0,0,0,0,0,0,0,0,0,0,0,0,0,0,0,0,0,0,0]
[null,null,"Carmen Yonker",{"$f":"IF(D57=12,0,1)","v":1},{"$f":"IF(E57=12,0,1)","v":1},1,0,0,0,0,0,0,0,0,0,{"$f":"IF(O78=0,0,IF(P57<12,1,IF(P66+P45+P24=1,0,1)))","v":0},{"$f":"IF(P78=0,0,IF(Q57<12,1,IF(Q66+Q45+Q24=1,0,1)))","v":0},0,{"$f":"IF(R78=0,0,IF(S57<12,1,IF(S66+S45+S24=1,0,1)))","v":0},{"$f":"IF(S78=0,0,IF(T57<12,1,IF(T66+T45+T24=1,0,1)))","v":0},0,{"$f":"IF(U78=0,0,IF(V57<12,1,IF(V66+V45+V24=1,0,1)))","v":0},{"$f":"IF(V78=0,0,IF(W57<12,1,IF(W66+W45+W24=1,0,1)))","v":0},0,0,0,0,0,0,0,0,0,0,0,0,0,0,0,0,0,0,0,0,0,0,0,0,0,0,0,0,0,0,0]
[null,null,"Curtis Parker*",1,2,3,4,5,6,7,8,9,10,11,12,13,14,15,16,17,18,19,20,21,22,23,24,25,26,27,28,29,30,31,32,33,34,35,36,37,38,39,40,41,42,43,44,45,46,47,48,49,50,51]
[null,null,"Ron Mahan*",1,2,3,4,5,6,7,8,9,10,11,12,"12A","12B",13,"13A","13B",14,"14A","14B",15,{"$f":"Y58","v":""},{"$f":"Z58","v":""},"","","","","","","","","","","","","","","","","","","","","","","","","","","",""]
["Question\nNumber","Score"," ",null,null,"Instructions:","* For a 2-way quiz, use the top two areas of the sheet (red & yellow).  Do not use the green area.  Start on Question #4.\n* If an incorrect value is entered into a cell, it will remain red.\n* Spreadsheet will automatically calculate team bonus, error points, and olympic points.\n* Mark fouls with \"F\" and timeouts with \"T\" under the appropriate question on the indicated line for each team.\n* Foul points are calculated automatically.  If this causes a negative score you must overwrite the running score to \"0.\"\n* If nobody jumps on a question, mark \"0\" in the box for quizzer #1 on team #1.  This will proliferate zeros for\n   all quizzers on that question."]
[{"$f":"HLOOKUP(SUM($D$78:$BB$78)+1,$D$79:$BB$80,2)","v":4},{"$f":"$A21","v":0},{"$f":"C16","v":"Team Name"}]
[null,{"$f":"$A42","v":0},{"$f":"C37","v":"Team Name"}]
[null,{"$f":"$A63","v":0},{"$f":"C58","v":"Team Name"}]
[null,null," "]
[null,null," "]
[null,null,"Gloria Mkumbwa*",null,null,null,null,null,null,null,null,null,null,null,null,null,null,null,null,null,null,null,"Q#",{"$f":"X16","v":15},"","","","","","","","","","","","","","","","","","","","","","","","","","","","","",""]
[null,null,"Joshua Glenn",null,null,null,null,null,null,null,null,null,null,null,null,null,null,null,null,null,null,null,"Score",{"$f":"ROUND(X21,0)","v":0},{"$f":"IF(X95=\"A\",\"\",ROUND(Y21,0))","v":0},0,0,0,0,0,0,0,0,0,0,0,0,0,0,0,0,0,0,0,0,0,0,0,0,0,0,0,0,0]
[null,null,"Raishawn Hughes*",null,null,null,null,null,null,null,null,null,null,null,null,null,null,null,null,null,null,null,"Score",{"$f":"ROUND(X42,0)","v":0},{"$f":"IF(X95=\"B\",\"\",ROUND(Y42,0))","v":0},0,0,0,0,0,0,0,0,0,0,0,0,0,0,0,0,0,0,0,0,0,0,0,0,0,0,0,0,0]
[null,null,"Tyra Jackson*",null,null,null,null,null,null,null,null,null,null,null,null,null,null,null,null,null,null,null,"Score",{"$f":"ROUND(X63,0)","v":-1},{"$f":"IF(X95=\"C\",\"\",ROUND(Y63,0))","v":""},"","","","","","","","","","","","","","","","","","","","","","","","","","","","",""]
[null,null,"Jordan Hatfield",null,null,null,null,null,null,null,null,null,null,null,null,null,null,null,null,null,null,null,"Answered correctly?",{"$f":"IF(X78=0,-1,IF(ROUND((X63+X42+X21)/10,0)>ROUND((W21+W42+W63)/10,0),1,0))","v":-1},{"$f":"IF(Y78=0,-1,IF(ROUND((Y63+Y42+Y21)/10,0)>ROUND((X21+X42+X63)/10,0),1,0))","v":-1},{"$f":"IF(Z78=0,-1,IF(ROUND((Z63+Z42+Z21)/10,0)>ROUND((Y21+Y42+Y63)/10,0),1,0))","v":-1},{"$f":"IF(AA78=0,-1,IF(ROUND((AA63+AA42+AA21)/10,0)>ROUND((Z21+Z42+Z63)/10,0),1,0))","v":-1},{"$f":"IF(AB78=0,-1,IF(ROUND((AB63+AB42+AB21),-1)>ROUND((AA21+AA42+AA63),-1),1,0))","v":-1},-1,-1,-1,-1,-1,-1,-1,-1,-1,{"$f":"IF(AL78=0,-1,IF(ROUND((AL63+AL42+AL21),-1)>ROUND((AK21+AK42+AK63),-1),1,0))","v":-1},-1,-1,-1,-1,-1,-1,-1,-1,-1,-1,-1,-1,-1,-1,-1,-1]
[null,null,"Brandon Everett",null,null,null,null,null,null,null,null,null,null,null,null,null,null,null,null,null,null,null,"Tie for 1st?",{"$f":"IF(MEDIAN(X88:X90)=MAX(X88:X90),1,0)","v":1},{"$f":"IF(MEDIAN(Y88:Y90)=MAX(Y88:Y90),1,0)","v":1},1,1,1,1,1,1,1,1,1,1,1,1,1,1,1,1,1,1,1,1,1,1,1,1,1,1,1,1,1]
[null,null,"Melody Mayer",null,null,null,null,null,null,null,null,null,null,null,null,null,null,null,null,null,null,null,"Tie for 2nd?",{"$f":"IF(MEDIAN(X88:X90)=MIN(X88:X90),1,0)","v":0},{"$f":"IF(MEDIAN(Y88:Y90)=MIN(Y88:Y90),1,0)","v":1},1,1,1,1,1,1,1,1,1,1,1,1,1,1,1,1,1,1,1,1,1,1,1,1,1,1,1,1,1]
[null,null,"Julia Mayer",null,null,null,null,null,null,null,null,null,null,null,null,null,null,null,null,null,null,null,"3-way tie?",{"$f":"FLOOR(SUM(X92:X93)/2,1)","v":0},{"$f":"FLOOR(SUM(Y92:Y93)/2,1)","v":1},1,1,1,1,1,1,1,1,1,1,1,1,1,1,1,1,1,1,1,1,1,1,1,1,1,1,1,1,1]
[null,null,"Gloria Mayer",null,null,null,null,null,null,null,null,null,null,null,null,null,null,null,null,null,null,null,"Who's out?","C","C","C","C","C","C","C","C","C","C","C","C","C","C","C","C","C","C","C","C","C","C","C","C","C","C","C","C","C","C","C"]
[null,null,"Nate Cox*",null,null,null,null,null,null,null,null,null,null,null,null,null,null,null,null,null,null,null,"Nobody jump?",{"$f":"IF(X17=\"\",0,IF(X17=0,1,0))","v":0},0,0,0,0,0,0,0,0,0,0,0,0,0,0,0,0,0,0,0,0,0,0,0,0,0,0,0,0,0,0]
[null,null,"Alissa Dorie",null,null,null,null,null,null,null,null,null,null,null,null,null,null,null,null,null,null,null,"Next Q Reg?",{"$f":"IF(X100=0,0,IF(W99=1,1,IF(X91=1,1,IF(X96=1,1,0))))","v":0},{"$f":"IF(Y100=0,0,IF(X99=1,1,IF(Y91=1,1,IF(Y96=1,1,0))))","v":0},0,0,0,0,0,0,0,0,0,0,0,0,0,0,0,0,0,0,0,0,0,0,0,0,0,0,0,0,0]
[null,null,"Claire Ogden*",null,null,null,null,null,null,null,null,null,null,null,null,null,null,null,null,null,null,null,"Next Q Tossup?",{"$f":"IF(X97=1,0,IF(X102<3,0,IF(RIGHT(X87,1)=\"a\",0,IF(X91=0,1,0))))","v":0},{"$f":"IF(Y97=1,0,IF(Y102<3,0,IF(RIGHT(Y87,1)=\"a\",0,IF(Y91=0,1,0))))","v":0},0,0,0,0,0,0,0,0,0,0,0,0,0,0,0,0,0,0,0,0,0,0,0,0,0,0,0,0,0]
[null,null,"Cordelia Fike*",null,null,null,null,null,null,null,null,null,null,null,null,null,null,null,null,null,null,null,"Next Q Free?",{"$f":"IF(SUM(X97:X98)=0,IF(X91=0,IF(X98<>1,1,0),0),0)","v":0},{"$f":"IF(SUM(Y97:Y98)=0,IF(Y91=0,IF(Y98<>1,1,0),0),0)","v":0},0,0,0,0,0,0,0,0,0,0,0,0,0,0,0,0,0,0,0,0,0,0,0,0,0,0,0,0,0]
[null,null,"Owen Parker",null,null,null,null,null,null,null,null,null,null,null,null,null,null,null,null,null,null,null,"#teams next Q:",{"$f":"IF(X102=3,IF(X91=1,IF(SUM(X92:X94)=0,0,IF(X94=1,3,2)),X102),IF(X91=1,IF(SUM(X92:X93)=0,0,2),2))","v":2},{"$f":"IF(Y102=0,0,IF(Y102=3,IF(Y91=1,IF(SUM(Y92:Y94)=0,0,IF(Y94=1,3,2)),Y102),IF(Y91=1,IF(SUM(Y92:Y93)=0,0,2),2)))","v":2},{"$f":"IF(Z102=0,0,IF(Z102=3,IF(Z91=1,IF(SUM(Z92:Z94)=0,0,IF(Z94=1,3,2)),Z102),IF(Z91=1,IF(SUM(Z92:Z93)=0,0,2),2)))","v":2},2,2,2,2,2,2,2,2,2,2,2,2,2,2,2,2,2,2,2,2,2,2,2,2,2,2,2,2]
[null,null,"Deven Dorie",null,null,null,null,null,null,null,null,null,null,null,null,null,null,null,null,null,null,null,"Next Question#:",{"$f":"IF(X91=-1,\"\",IF(X100=0,\"\",IF(X97=1,LEFT(X87,2)+1,IF(X98=1,CONCATENATE(X87,\"A\"),IF(X102=3,CONCATENATE(LEFT(X87,2),\"B\"),CONCATENATE(X87,\"A\"))))))","v":""},{"$f":"IF(Y91=-1,\"\",IF(Y100=0,\"\",IF(Y97=1,LEFT(Y87,2)+1,IF(Y98=1,CONCATENATE(Y87,\"A\"),IF(Y102=3,CONCATENATE(LEFT(Y87,2),\"B\"),CONCATENATE(Y87,\"A\"))))))","v":""},"","","","","","","","","","","","","","","","","","","","","","","","","","","","",""]
[null,null,"Averi McCulloch*",null,null,null,null,null,null,null,null,null,null,null,null,null,null,null,null,null,null,null,"# teams in this Q:",2,{"$f":"X100","v":2},{"$f":"Y100","v":2},2,2,2,2,2,2,2,2,2,2,2,2,2,2,2,2,2,2,2,2,2,2,2,2,2,2,2,2]
[null,null,"Nathan Mayer"]
[null,null,"David Hampshire*",null,null,null,null,null,null,null,null,null,null,null,null,null,null,null,null,null,null,null,null,null,{"$f":"IF(Y96=1,0,IF(Y102=3,IF(X97=1,20,IF(X98=1,IF(Y24=1,\".\",20),IF(X99=1,IF(Y23=0,10,\".\"),\"?\"))),IF(Y102=2,IF(X95=\"A\",\".\",IF(X97=1,20,IF(Y24=1,\".\",10))),\".\")))","v":10},10,10,10,10,10,10,10,10,10,10,10,10,10,10,10,10,10,10,10,10,10,10,10,10,10,10,10,10,10]
[null,null,null,null,null,null,null,null,null,null,null,null,null,null,null,null,null,null,null,null,null,null,null,null,{"$f":"IF(Y104=20,\"E\",IF(Y104=10,\"A\",\".\"))","v":"A"},{"$f":"IF(Z104=20,\"E\",IF(Z104=10,\"A\",\".\"))","v":"A"},"A","A","A","A","A","A","A","A","A","A","A","A","A","A","A","A","A","A","A","A","A","A","A","A","A","A","A","A"]
[null,null,null,null,null,null,null,null,null,null,null,null,null,null,null,null,null,null,null,null,null,null,null,null,{"$f":"IF(Y96=1,0,\"\")","v":""},{"$f":"IF(Z96=1,0,\"\")","v":""},"","","","","","","","","","","","","","","","","","","","","","","","","","","",""]
[]
[]
[null,null,null,null,null,null,null,null,null,null,null,null,null,null,null,null,null,null,null,null,null,null,null,null,{"$f":"IF(Y96=1,0,IF(Y102=3,IF(X97=1,20,IF(X98=1,IF(Y45=1,\".\",20),IF(X99=1,IF(Y44=0,10,\".\"),\"?\"))),IF(Y102=2,IF(X95=\"B\",\".\",IF(X97=1,20,IF(Y45=1,\".\",10))),\".\")))","v":10},10,10,10,10,10,10,10,10,10,10,10,10,10,10,10,10,10,10,10,10,10,10,10,10,10,10,10,10,10]
[null,null,null,null,null,null,null,null,null,null,null,null,null,null,null,null,null,null,null,null,null,null,null,null,{"$f":"IF(Y109=20,\"E\",IF(Y109=10,\"A\",\".\"))","v":"A"},{"$f":"IF(Z109=20,\"E\",IF(Z109=10,\"A\",\".\"))","v":"A"},"A","A","A","A","A","A","A","A","A","A","A","A","A","A","A","A","A","A","A","A","A","A","A","A","A","A","A","A"]
[null,null,null,null,null,null,null,null,null,null,null,null,null,null,null,null,null,null,null,null,null,null,null,null,{"$f":"IF(Y96=1,0,\"\")","v":""},{"$f":"IF(Z96=1,0,\"\")","v":""},"","","","","","","","","","","","","","","","","","","","","","","","","","","",""]
[]
[]
[null,null,null,null,null,null,null,null,null,null,null,null,null,null,null,null,null,null,null,null,null,null,null,null,{"$f":"IF(Y96=1,0,IF(Y102=3,IF(X97=1,20,IF(X98=1,IF(Y66=1,\".\",20),IF(X99=1,IF(Y65=0,10,\".\"),\"?\"))),IF(Y102=2,IF(X95=\"C\",\".\",IF(X97=1,20,IF(Y66=1,\".\",10))),\".\")))","v":"."},".",".",".",".",".",".",".",".",".",".",".",".",".",".",".",".",".",".",".",".",".",".",".",".",".",".",".",".","."]
[null,null,null,null,null,null,null,null,null,null,null,null,null,null,null,null,null,null,null,null,null,null,null,null,{"$f":"IF(Y114=20,\"E\",IF(Y114=10,\"A\",\".\"))","v":"."},{"$f":"IF(Z114=20,\"E\",IF(Z114=10,\"A\",\".\"))","v":"."},".",".",".",".",".",".",".",".",".",".",".",".",".",".",".",".",".",".",".",".",".",".",".",".",".",".",".","."]
[null,null,null,null,null,null,null,null,null,null,null,null,null,null,null,null,null,null,null,null,null,null,null,null,{"$f":"IF(Y96=1,0,\"\")","v":""},{"$f":"IF(Z96=1,0,\"\")","v":""},"","","","","","","","","","","","","","","","","","","","","","","","","","","",""]
[]
[null,null,null,null,null,null,null,null,null,null,null,null,null,null,null,null,null,null,null,null,null,null,{"$f":"MAX(X118:BB118)","v":0},{"$f":"IF(X$102-X$100=3,IF(X88=MAX(X$88:X$90),10,IF(X88=MIN(X$88:X$90),1,5)),IF(X$102-X$100=2,\"later\",IF(X$102-X$100=1,IF(X$95=\"A\",IF(X88=MAX(X$88:X$90),10,1),0),0)))","v":0},{"$f":"IF(X118>0,X118,IF(Y$102-Y$100=3,IF(Y88=MAX(Y$88:Y$90),10,IF(Y88=MIN(Y$88:Y$90),1,5)),IF(Y$102-Y$100=2,IF(MAX($X$118:X$120 )=10,IF(Y88=MIN(Y$88:Y$90),1,5),IF(Y88=MIN(Y$88:Y$90),5,10)),IF(Y$102-Y$100=1,IF(Y$95=\"A\",IF(Y88=MAX(Y$88:Y$90),10,1),0),0))))","v":0},{"$f":"IF(Y118>0,Y118,IF(Z$102-Z$100=3,IF(Z88=MAX(Z$88:Z$90),10,IF(Z88=MIN(Z$88:Z$90),1,5)),IF(Z$102-Z$100=2,IF(MAX($X$118:Y$120 )=10,IF(Z88=MIN(Z$88:Z$90),1,5),IF(Z88=MIN(Z$88:Z$90),5,10)),IF(Z$102-Z$100=1,IF(Z$95=\"A\",IF(Z88=MAX(Z$88:Z$90),10,1),0),0))))","v":0},{"$f":"IF(Z118>0,Z118,IF(AA$102-AA$100=3,IF(AA88=MAX(AA$88:AA$90),10,IF(AA88=MIN(AA$88:AA$90),1,5)),IF(AA$102-AA$100=2,IF(MAX($X$118:Z$120 )=10,IF(AA88=MIN(AA$88:AA$90),1,5),IF(AA88=MIN(AA$88:AA$90),5,10)),IF(AA$102-AA$100=1,IF(AA$95=\"A\",IF(AA88=MAX(AA$88:AA$90),10,1),0),0))))","v":0},{"$f":"IF(AA118>0,AA118,IF(AB$102-AB$100=3,IF(AB88=MAX(AB$88:AB$90),10,IF(AB88=MIN(AB$88:AB$90),1,5)),IF(AB$102-AB$100=2,IF(MAX($X$118:AA$120 )=10,IF(AB88=MIN(AB$88:AB$90),1,5),IF(AB88=MIN(AB$88:AB$90),5,10)),IF(AB$102-AB$100=1,IF(AB$95=\"A\",IF(AB88=MAX(AB$88:AB$90),10,1),0),0))))","v":0},{"$f":"IF(AB118>0,AB118,IF(AC$102-AC$100=3,IF(AC88=MAX(AC$88:AC$90),10,IF(AC88=MIN(AC$88:AC$90),1,5)),IF(AC$102-AC$100=2,IF(MAX($X$118:AB$120 )=10,IF(AC88=MIN(AC$88:AC$90),1,5),IF(AC88=MIN(AC$88:AC$90),5,10)),IF(AC$102-AC$100=1,IF(AC$95=\"A\",IF(AC88=MAX(AC$88:AC$90),10,1),0),0))))","v":0},{"$f":"IF(AC118>0,AC118,IF(AD$102-AD$100=3,IF(AD88=MAX(AD$88:AD$90),10,IF(AD88=MIN(AD$88:AD$90),1,5)),IF(AD$102-AD$100=2,IF(MAX($X$118:AC$120 )=10,IF(AD88=MIN(AD$88:AD$90),1,5),IF(AD88=MIN(AD$88:AD$90),5,10)),IF(AD$102-AD$100=1,IF(AD$95=\"A\",IF(AD88=MAX(AD$88:AD$90),10,1),0),0))))","v":0},{"$f":"IF(AD118>0,AD118,IF(AE$102-AE$100=3,IF(AE88=MAX(AE$88:AE$90),10,IF(AE88=MIN(AE$88:AE$90),1,5)),IF(AE$102-AE$100=2,IF(MAX($X$118:AD$120 )=10,IF(AE88=MIN(AE$88:AE$90),1,5),IF(AE88=MIN(AE$88:AE$90),5,10)),IF(AE$102-AE$100=1,IF(AE$95=\"A\",IF(AE88=MAX(AE$88:AE$90),10,1),0),0))))","v":0},{"$f":"IF(AE118>0,AE118,IF(AF$102-AF$100=3,IF(AF88=MAX(AF$88:AF$90),10,IF(AF88=MIN(AF$88:AF$90),1,5)),IF(AF$102-AF$100=2,IF(MAX($X$118:AE$120 )=10,IF(AF88=MIN(AF$88:AF$90),1,5),IF(AF88=MIN(AF$88:AF$90),5,10)),IF(AF$102-AF$100=1,IF(AF$95=\"A\",IF(AF88=MAX(AF$88:AF$90),10,1),0),0))))","v":0},{"$f":"IF(AF118>0,AF118,IF(AG$102-AG$100=3,IF(AG88=MAX(AG$88:AG$90),10,IF(AG88=MIN(AG$88:AG$90),1,5)),IF(AG$102-AG$100=2,IF(MAX($X$118:AF$120 )=10,IF(AG88=MIN(AG$88:AG$90),1,5),IF(AG88=MIN(AG$88:AG$90),5,10)),IF(AG$102-AG$100=1,IF(AG$95=\"A\",IF(AG88=MAX(AG$88:AG$90),10,1),0),0))))","v":0},{"$f":"IF(AG118>0,AG118,IF(AH$102-AH$100=3,IF(AH88=MAX(AH$88:AH$90),10,IF(AH88=MIN(AH$88:AH$90),1,5)),IF(AH$102-AH$100=2,IF(MAX($X$118:AG$120 )=10,IF(AH88=MIN(AH$88:AH$90),1,5),IF(AH88=MIN(AH$88:AH$90),5,10)),IF(AH$102-AH$100=1,IF(AH$95=\"A\",IF(AH88=MAX(AH$88:AH$90),10,1),0),0))))","v":0},{"$f":"IF(AH118>0,AH118,IF(AI$102-AI$100=3,IF(AI88=MAX(AI$88:AI$90),10,IF(AI88=MIN(AI$88:AI$90),1,5)),IF(AI$102-AI$100=2,IF(MAX($X$118:AH$120 )=10,IF(AI88=MIN(AI$88:AI$90),1,5),IF(AI88=MIN(AI$88:AI$90),5,10)),IF(AI$102-AI$100=1,IF(AI$95=\"A\",IF(AI88=MAX(AI$88:AI$90),10,1),0),0))))","v":0},{"$f":"IF(AI118>0,AI118,IF(AJ$102-AJ$100=3,IF(AJ88=MAX(AJ$88:AJ$90),10,IF(AJ88=MIN(AJ$88:AJ$90),1,5)),IF(AJ$102-AJ$100=2,IF(MAX($X$118:AI$120 )=10,IF(AJ88=MIN(AJ$88:AJ$90),1,5),IF(AJ88=MIN(AJ$88:AJ$90),5,10)),IF(AJ$102-AJ$100=1,IF(AJ$95=\"A\",IF(AJ88=MAX(AJ$88:AJ$90),10,1),0),0))))","v":0},{"$f":"IF(AJ118>0,AJ118,IF(AK$102-AK$100=3,IF(AK88=MAX(AK$88:AK$90),10,IF(AK88=MIN(AK$88:AK$90),1,5)),IF(AK$102-AK$100=2,IF(MAX($X$118:AJ$120 )=10,IF(AK88=MIN(AK$88:AK$90),1,5),IF(AK88=MIN(AK$88:AK$90),5,10)),IF(AK$102-AK$100=1,IF(AK$95=\"A\",IF(AK88=MAX(AK$88:AK$90),10,1),0),0))))","v":0},{"$f":"IF(AK118>0,AK118,IF(AL$102-AL$100=3,IF(AL88=MAX(AL$88:AL$90),10,IF(AL88=MIN(AL$88:AL$90),1,5)),IF(AL$102-AL$100=2,IF(MAX($X$118:AK$120 )=10,IF(AL88=MIN(AL$88:AL$90),1,5),IF(AL88=MIN(AL$88:AL$90),5,10)),IF(AL$102-AL$100=1,IF(AL$95=\"A\",IF(AL88=MAX(AL$88:AL$90),10,1),0),0))))","v":0},{"$f":"IF(AL118>0,AL118,IF(AM$102-AM$100=3,IF(AM88=MAX(AM$88:AM$90),10,IF(AM88=MIN(AM$88:AM$90),1,5)),IF(AM$102-AM$100=2,IF(MAX($X$118:AL$120 )=10,IF(AM88=MIN(AM$88:AM$90),1,5),IF(AM88=MIN(AM$88:AM$90),5,10)),IF(AM$102-AM$100=1,IF(AM$95=\"A\",IF(AM88=MAX(AM$88:AM$90),10,1),0),0))))","v":0},{"$f":"IF(AM118>0,AM118,IF(AN$102-AN$100=3,IF(AN88=MAX(AN$88:AN$90),10,IF(AN88=MIN(AN$88:AN$90),1,5)),IF(AN$102-AN$100=2,IF(MAX($X$118:AM$120 )=10,IF(AN88=MIN(AN$88:AN$90),1,5),IF(AN88=MIN(AN$88:AN$90),5,10)),IF(AN$102-AN$100=1,IF(AN$95=\"A\",IF(AN88=MAX(AN$88:AN$90),10,1),0),0))))","v":0},{"$f":"IF(AN118>0,AN118,IF(AO$102-AO$100=3,IF(AO88=MAX(AO$88:AO$90),10,IF(AO88=MIN(AO$88:AO$90),1,5)),IF(AO$102-AO$100=2,IF(MAX($X$118:AN$120 )=10,IF(AO88=MIN(AO$88:AO$90),1,5),IF(AO88=MIN(AO$88:AO$90),5,10)),IF(AO$102-AO$100=1,IF(AO$95=\"A\",IF(AO88=MAX(AO$88:AO$90),10,1),0),0))))","v":0},{"$f":"IF(AO118>0,AO118,IF(AP$102-AP$100=3,IF(AP88=MAX(AP$88:AP$90),10,IF(AP88=MIN(AP$88:AP$90),1,5)),IF(AP$102-AP$100=2,IF(MAX($X$118:AO$120 )=10,IF(AP88=MIN(AP$88:AP$90),1,5),IF(AP88=MIN(AP$88:AP$90),5,10)),IF(AP$102-AP$100=1,IF(AP$95=\"A\",IF(AP88=MAX(AP$88:AP$90),10,1),0),0))))","v":0},{"$f":"IF(AP118>0,AP118,IF(AQ$102-AQ$100=3,IF(AQ88=MAX(AQ$88:AQ$90),10,IF(AQ88=MIN(AQ$88:AQ$90),1,5)),IF(AQ$102-AQ$100=2,IF(MAX($X$118:AP$120 )=10,IF(AQ88=MIN(AQ$88:AQ$90),1,5),IF(AQ88=MIN(AQ$88:AQ$90),5,10)),IF(AQ$102-AQ$100=1,IF(AQ$95=\"A\",IF(AQ88=MAX(AQ$88:AQ$90),10,1),0),0))))","v":0},{"$f":"IF(AQ118>0,AQ118,IF(AR$102-AR$100=3,IF(AR88=MAX(AR$88:AR$90),10,IF(AR88=MIN(AR$88:AR$90),1,5)),IF(AR$102-AR$100=2,IF(MAX($X$118:AQ$120 )=10,IF(AR88=MIN(AR$88:AR$90),1,5),IF(AR88=MIN(AR$88:AR$90),5,10)),IF(AR$102-AR$100=1,IF(AR$95=\"A\",IF(AR88=MAX(AR$88:AR$90),10,1),0),0))))","v":0},{"$f":"IF(AR118>0,AR118,IF(AS$102-AS$100=3,IF(AS88=MAX(AS$88:AS$90),10,IF(AS88=MIN(AS$88:AS$90),1,5)),IF(AS$102-AS$100=2,IF(MAX($X$118:AR$120 )=10,IF(AS88=MIN(AS$88:AS$90),1,5),IF(AS88=MIN(AS$88:AS$90),5,10)),IF(AS$102-AS$100=1,IF(AS$95=\"A\",IF(AS88=MAX(AS$88:AS$90),10,1),0),0))))","v":0},{"$f":"IF(AS118>0,AS118,IF(AT$102-AT$100=3,IF(AT88=MAX(AT$88:AT$90),10,IF(AT88=MIN(AT$88:AT$90),1,5)),IF(AT$102-AT$100=2,IF(MAX($X$118:AS$120 )=10,IF(AT88=MIN(AT$88:AT$90),1,5),IF(AT88=MIN(AT$88:AT$90),5,10)),IF(AT$102-AT$100=1,IF(AT$95=\"A\",IF(AT88=MAX(AT$88:AT$90),10,1),0),0))))","v":0},{"$f":"IF(AT118>0,AT118,IF(AU$102-AU$100=3,IF(AU88=MAX(AU$88:AU$90),10,IF(AU88=MIN(AU$88:AU$90),1,5)),IF(AU$102-AU$100=2,IF(MAX($X$118:AT$120 )=10,IF(AU88=MIN(AU$88:AU$90),1,5),IF(AU88=MIN(AU$88:AU$90),5,10)),IF(AU$102-AU$100=1,IF(AU$95=\"A\",IF(AU88=MAX(AU$88:AU$90),10,1),0),0))))","v":0},{"$f":"IF(AU118>0,AU118,IF(AV$102-AV$100=3,IF(AV88=MAX(AV$88:AV$90),10,IF(AV88=MIN(AV$88:AV$90),1,5)),IF(AV$102-AV$100=2,IF(MAX($X$118:AU$120 )=10,IF(AV88=MIN(AV$88:AV$90),1,5),IF(AV88=MIN(AV$88:AV$90),5,10)),IF(AV$102-AV$100=1,IF(AV$95=\"A\",IF(AV88=MAX(AV$88:AV$90),10,1),0),0))))","v":0},{"$f":"IF(AV118>0,AV118,IF(AW$102-AW$100=3,IF(AW88=MAX(AW$88:AW$90),10,IF(AW88=MIN(AW$88:AW$90),1,5)),IF(AW$102-AW$100=2,IF(MAX($X$118:AV$120 )=10,IF(AW88=MIN(AW$88:AW$90),1,5),IF(AW88=MIN(AW$88:AW$90),5,10)),IF(AW$102-AW$100=1,IF(AW$95=\"A\",IF(AW88=MAX(AW$88:AW$90),10,1),0),0))))","v":0},{"$f":"IF(AW118>0,AW118,IF(AX$102-AX$100=3,IF(AX88=MAX(AX$88:AX$90),10,IF(AX88=MIN(AX$88:AX$90),1,5)),IF(AX$102-AX$100=2,IF(MAX($X$118:AW$120 )=10,IF(AX88=MIN(AX$88:AX$90),1,5),IF(AX88=MIN(AX$88:AX$90),5,10)),IF(AX$102-AX$100=1,IF(AX$95=\"A\",IF(AX88=MAX(AX$88:AX$90),10,1),0),0))))","v":0},{"$f":"IF(AX118>0,AX118,IF(AY$102-AY$100=3,IF(AY88=MAX(AY$88:AY$90),10,IF(AY88=MIN(AY$88:AY$90),1,5)),IF(AY$102-AY$100=2,IF(MAX($X$118:AX$120 )=10,IF(AY88=MIN(AY$88:AY$90),1,5),IF(AY88=MIN(AY$88:AY$90),5,10)),IF(AY$102-AY$100=1,IF(AY$95=\"A\",IF(AY88=MAX(AY$88:AY$90),10,1),0),0))))","v":0},{"$f":"IF(AY118>0,AY118,IF(AZ$102-AZ$100=3,IF(AZ88=MAX(AZ$88:AZ$90),10,IF(AZ88=MIN(AZ$88:AZ$90),1,5)),IF(AZ$102-AZ$100=2,IF(MAX($X$118:AY$120 )=10,IF(AZ88=MIN(AZ$88:AZ$90),1,5),IF(AZ88=MIN(AZ$88:AZ$90),5,10)),IF(AZ$102-AZ$100=1,IF(AZ$95=\"A\",IF(AZ88=MAX(AZ$88:AZ$90),10,1),0),0))))","v":0},{"$f":"IF(AZ118>0,AZ118,IF(BA$102-BA$100=3,IF(BA88=MAX(BA$88:BA$90),10,IF(BA88=MIN(BA$88:BA$90),1,5)),IF(BA$102-BA$100=2,IF(MAX($X$118:AZ$120 )=10,IF(BA88=MIN(BA$88:BA$90),1,5),IF(BA88=MIN(BA$88:BA$90),5,10)),IF(BA$102-BA$100=1,IF(BA$95=\"A\",IF(BA88=MAX(BA$88:BA$90),10,1),0),0))))","v":0},{"$f":"IF(BA118>0,BA118,IF(BB$102-BB$100=3,IF(BB88=MAX(BB$88:BB$90),10,IF(BB88=MIN(BB$88:BB$90),1,5)),IF(BB$102-BB$100=2,IF(MAX($X$118:BA$120 )=10,IF(BB88=MIN(BB$88:BB$90),1,5),IF(BB88=MIN(BB$88:BB$90),5,10)),IF(BB$102-BB$100=1,IF(BB$95=\"A\",IF(BB88=MAX(BB$88:BB$90),10,1),0),0))))","v":0}]
[null,null,null,null,null,null,null,null,null,null,null,null,null,null,null,null,null,null,null,null,null,null,{"$f":"MAX(X119:BB119)","v":0},{"$f":"IF(X$102-X$100=3,IF(X89=MAX(X$88:X$90),10,IF(X89=MIN(X$88:X$90),1,5)),IF(X$102-X$100=2,\"later\",IF(X$102-X$100=1,IF(X$95=\"B\",IF(X89=MAX(X$88:X$90),10,1),0),0)))","v":0},{"$f":"IF(X119>0,X119,IF(Y$102-Y$100=3,IF(Y89=MAX(Y$88:Y$90),10,IF(Y89=MIN(Y$88:Y$90),1,5)),IF(Y$102-Y$100=2,IF(MAX($X$118:X$120 )=10,IF(Y89=MIN(Y$88:Y$90),1,5),IF(Y89=MIN(Y$88:Y$90),5,10)),IF(Y$102-Y$100=1,IF(Y$95=\"B\",IF(Y89=MAX(Y$88:Y$90),10,1),0),0))))","v":0},{"$f":"IF(Y119>0,Y119,IF(Z$102-Z$100=3,IF(Z89=MAX(Z$88:Z$90),10,IF(Z89=MIN(Z$88:Z$90),1,5)),IF(Z$102-Z$100=2,IF(MAX($X$118:Y$120 )=10,IF(Z89=MIN(Z$88:Z$90),1,5),IF(Z89=MIN(Z$88:Z$90),5,10)),IF(Z$102-Z$100=1,IF(Z$95=\"B\",IF(Z89=MAX(Z$88:Z$90),10,1),0),0))))","v":0},{"$f":"IF(Z119>0,Z119,IF(AA$102-AA$100=3,IF(AA89=MAX(AA$88:AA$90),10,IF(AA89=MIN(AA$88:AA$90),1,5)),IF(AA$102-AA$100=2,IF(MAX($X$118:Z$120 )=10,IF(AA89=MIN(AA$88:AA$90),1,5),IF(AA89=MIN(AA$88:AA$90),5,10)),IF(AA$102-AA$100=1,IF(AA$95=\"B\",IF(AA89=MAX(AA$88:AA$90),10,1),0),0))))","v":0},{"$f":"IF(AA119>0,AA119,IF(AB$102-AB$100=3,IF(AB89=MAX(AB$88:AB$90),10,IF(AB89=MIN(AB$88:AB$90),1,5)),IF(AB$102-AB$100=2,IF(MAX($X$118:AA$120 )=10,IF(AB89=MIN(AB$88:AB$90),1,5),IF(AB89=MIN(AB$88:AB$90),5,10)),IF(AB$102-AB$100=1,IF(AB$95=\"B\",IF(AB89=MAX(AB$88:AB$90),10,1),0),0))))","v":0},{"$f":"IF(AB119>0,AB119,IF(AC$102-AC$100=3,IF(AC89=MAX(AC$88:AC$90),10,IF(AC89=MIN(AC$88:AC$90),1,5)),IF(AC$102-AC$100=2,IF(MAX($X$118:AB$120 )=10,IF(AC89=MIN(AC$88:AC$90),1,5),IF(AC89=MIN(AC$88:AC$90),5,10)),IF(AC$102-AC$100=1,IF(AC$95=\"B\",IF(AC89=MAX(AC$88:AC$90),10,1),0),0))))","v":0},{"$f":"IF(AC119>0,AC119,IF(AD$102-AD$100=3,IF(AD89=MAX(AD$88:AD$90),10,IF(AD89=MIN(AD$88:AD$90),1,5)),IF(AD$102-AD$100=2,IF(MAX($X$118:AC$120 )=10,IF(AD89=MIN(AD$88:AD$90),1,5),IF(AD89=MIN(AD$88:AD$90),5,10)),IF(AD$102-AD$100=1,IF(AD$95=\"B\",IF(AD89=MAX(AD$88:AD$90),10,1),0),0))))","v":0},{"$f":"IF(AD119>0,AD119,IF(AE$102-AE$100=3,IF(AE89=MAX(AE$88:AE$90),10,IF(AE89=MIN(AE$88:AE$90),1,5)),IF(AE$102-AE$100=2,IF(MAX($X$118:AD$120 )=10,IF(AE89=MIN(AE$88:AE$90),1,5),IF(AE89=MIN(AE$88:AE$90),5,10)),IF(AE$102-AE$100=1,IF(AE$95=\"B\",IF(AE89=MAX(AE$88:AE$90),10,1),0),0))))","v":0},{"$f":"IF(AE119>0,AE119,IF(AF$102-AF$100=3,IF(AF89=MAX(AF$88:AF$90),10,IF(AF89=MIN(AF$88:AF$90),1,5)),IF(AF$102-AF$100=2,IF(MAX($X$118:AE$120 )=10,IF(AF89=MIN(AF$88:AF$90),1,5),IF(AF89=MIN(AF$88:AF$90),5,10)),IF(AF$102-AF$100=1,IF(AF$95=\"B\",IF(AF89=MAX(AF$88:AF$90),10,1),0),0))))","v":0},{"$f":"IF(AF119>0,AF119,IF(AG$102-AG$100=3,IF(AG89=MAX(AG$88:AG$90),10,IF(AG89=MIN(AG$88:AG$90),1,5)),IF(AG$102-AG$100=2,IF(MAX($X$118:AF$120 )=10,IF(AG89=MIN(AG$88:AG$90),1,5),IF(AG89=MIN(AG$88:AG$90),5,10)),IF(AG$102-AG$100=1,IF(AG$95=\"B\",IF(AG89=MAX(AG$88:AG$90),10,1),0),0))))","v":0},{"$f":"IF(AG119>0,AG119,IF(AH$102-AH$100=3,IF(AH89=MAX(AH$88:AH$90),10,IF(AH89=MIN(AH$88:AH$90),1,5)),IF(AH$102-AH$100=2,IF(MAX($X$118:AG$120 )=10,IF(AH89=MIN(AH$88:AH$90),1,5),IF(AH89=MIN(AH$88:AH$90),5,10)),IF(AH$102-AH$100=1,IF(AH$95=\"B\",IF(AH89=MAX(AH$88:AH$90),10,1),0),0))))","v":0},{"$f":"IF(AH119>0,AH119,IF(AI$102-AI$100=3,IF(AI89=MAX(AI$88:AI$90),10,IF(AI89=MIN(AI$88:AI$90),1,5)),IF(AI$102-AI$100=2,IF(MAX($X$118:AH$120 )=10,IF(AI89=MIN(AI$88:AI$90),1,5),IF(AI89=MIN(AI$88:AI$90),5,10)),IF(AI$102-AI$100=1,IF(AI$95=\"B\",IF(AI89=MAX(AI$88:AI$90),10,1),0),0))))","v":0},{"$f":"IF(AI119>0,AI119,IF(AJ$102-AJ$100=3,IF(AJ89=MAX(AJ$88:AJ$90),10,IF(AJ89=MIN(AJ$88:AJ$90),1,5)),IF(AJ$102-AJ$100=2,IF(MAX($X$118:AI$120 )=10,IF(AJ89=MIN(AJ$88:AJ$90),1,5),IF(AJ89=MIN(AJ$88:AJ$90),5,10)),IF(AJ$102-AJ$100=1,IF(AJ$95=\"B\",IF(AJ89=MAX(AJ$88:AJ$90),10,1),0),0))))","v":0},{"$f":"IF(AJ119>0,AJ119,IF(AK$102-AK$100=3,IF(AK89=MAX(AK$88:AK$90),10,IF(AK89=MIN(AK$88:AK$90),1,5)),IF(AK$102-AK$100=2,IF(MAX($X$118:AJ$120 )=10,IF(AK89=MIN(AK$88:AK$90),1,5),IF(AK89=MIN(AK$88:AK$90),5,10)),IF(AK$102-AK$100=1,IF(AK$95=\"B\",IF(AK89=MAX(AK$88:AK$90),10,1),0),0))))","v":0},{"$f":"IF(AK119>0,AK119,IF(AL$102-AL$100=3,IF(AL89=MAX(AL$88:AL$90),10,IF(AL89=MIN(AL$88:AL$90),1,5)),IF(AL$102-AL$100=2,IF(MAX($X$118:AK$120 )=10,IF(AL89=MIN(AL$88:AL$90),1,5),IF(AL89=MIN(AL$88:AL$90),5,10)),IF(AL$102-AL$100=1,IF(AL$95=\"B\",IF(AL89=MAX(AL$88:AL$90),10,1),0),0))))","v":0},{"$f":"IF(AL119>0,AL119,IF(AM$102-AM$100=3,IF(AM89=MAX(AM$88:AM$90),10,IF(AM89=MIN(AM$88:AM$90),1,5)),IF(AM$102-AM$100=2,IF(MAX($X$118:AL$120 )=10,IF(AM89=MIN(AM$88:AM$90),1,5),IF(AM89=MIN(AM$88:AM$90),5,10)),IF(AM$102-AM$100=1,IF(AM$95=\"B\",IF(AM89=MAX(AM$88:AM$90),10,1),0),0))))","v":0},{"$f":"IF(AM119>0,AM119,IF(AN$102-AN$100=3,IF(AN89=MAX(AN$88:AN$90),10,IF(AN89=MIN(AN$88:AN$90),1,5)),IF(AN$102-AN$100=2,IF(MAX($X$118:AM$120 )=10,IF(AN89=MIN(AN$88:AN$90),1,5),IF(AN89=MIN(AN$88:AN$90),5,10)),IF(AN$102-AN$100=1,IF(AN$95=\"B\",IF(AN89=MAX(AN$88:AN$90),10,1),0),0))))","v":0},{"$f":"IF(AN119>0,AN119,IF(AO$102-AO$100=3,IF(AO89=MAX(AO$88:AO$90),10,IF(AO89=MIN(AO$88:AO$90),1,5)),IF(AO$102-AO$100=2,IF(MAX($X$118:AN$120 )=10,IF(AO89=MIN(AO$88:AO$90),1,5),IF(AO89=MIN(AO$88:AO$90),5,10)),IF(AO$102-AO$100=1,IF(AO$95=\"B\",IF(AO89=MAX(AO$88:AO$90),10,1),0),0))))","v":0},{"$f":"IF(AO119>0,AO119,IF(AP$102-AP$100=3,IF(AP89=MAX(AP$88:AP$90),10,IF(AP89=MIN(AP$88:AP$90),1,5)),IF(AP$102-AP$100=2,IF(MAX($X$118:AO$120 )=10,IF(AP89=MIN(AP$88:AP$90),1,5),IF(AP89=MIN(AP$88:AP$90),5,10)),IF(AP$102-AP$100=1,IF(AP$95=\"B\",IF(AP89=MAX(AP$88:AP$90),10,1),0),0))))","v":0},{"$f":"IF(AP119>0,AP119,IF(AQ$102-AQ$100=3,IF(AQ89=MAX(AQ$88:AQ$90),10,IF(AQ89=MIN(AQ$88:AQ$90),1,5)),IF(AQ$102-AQ$100=2,IF(MAX($X$118:AP$120 )=10,IF(AQ89=MIN(AQ$88:AQ$90),1,5),IF(AQ89=MIN(AQ$88:AQ$90),5,10)),IF(AQ$102-AQ$100=1,IF(AQ$95=\"B\",IF(AQ89=MAX(AQ$88:AQ$90),10,1),0),0))))","v":0},{"$f":"IF(AQ119>0,AQ119,IF(AR$102-AR$100=3,IF(AR89=MAX(AR$88:AR$90),10,IF(AR89=MIN(AR$88:AR$90),1,5)),IF(AR$102-AR$100=2,IF(MAX($X$118:AQ$120 )=10,IF(AR89=MIN(AR$88:AR$90),1,5),IF(AR89=MIN(AR$88:AR$90),5,10)),IF(AR$102-AR$100=1,IF(AR$95=\"B\",IF(AR89=MAX(AR$88:AR$90),10,1),0),0))))","v":0},{"$f":"IF(AR119>0,AR119,IF(AS$102-AS$100=3,IF(AS89=MAX(AS$88:AS$90),10,IF(AS89=MIN(AS$88:AS$90),1,5)),IF(AS$102-AS$100=2,IF(MAX($X$118:AR$120 )=10,IF(AS89=MIN(AS$88:AS$90),1,5),IF(AS89=MIN(AS$88:AS$90),5,10)),IF(AS$102-AS$100=1,IF(AS$95=\"B\",IF(AS89=MAX(AS$88:AS$90),10,1),0),0))))","v":0},{"$f":"IF(AS119>0,AS119,IF(AT$102-AT$100=3,IF(AT89=MAX(AT$88:AT$90),10,IF(AT89=MIN(AT$88:AT$90),1,5)),IF(AT$102-AT$100=2,IF(MAX($X$118:AS$120 )=10,IF(AT89=MIN(AT$88:AT$90),1,5),IF(AT89=MIN(AT$88:AT$90),5,10)),IF(AT$102-AT$100=1,IF(AT$95=\"B\",IF(AT89=MAX(AT$88:AT$90),10,1),0),0))))","v":0},{"$f":"IF(AT119>0,AT119,IF(AU$102-AU$100=3,IF(AU89=MAX(AU$88:AU$90),10,IF(AU89=MIN(AU$88:AU$90),1,5)),IF(AU$102-AU$100=2,IF(MAX($X$118:AT$120 )=10,IF(AU89=MIN(AU$88:AU$90),1,5),IF(AU89=MIN(AU$88:AU$90),5,10)),IF(AU$102-AU$100=1,IF(AU$95=\"B\",IF(AU89=MAX(AU$88:AU$90),10,1),0),0))))","v":0},{"$f":"IF(AU119>0,AU119,IF(AV$102-AV$100=3,IF(AV89=MAX(AV$88:AV$90),10,IF(AV89=MIN(AV$88:AV$90),1,5)),IF(AV$102-AV$100=2,IF(MAX($X$118:AU$120 )=10,IF(AV89=MIN(AV$88:AV$90),1,5),IF(AV89=MIN(AV$88:AV$90),5,10)),IF(AV$102-AV$100=1,IF(AV$95=\"B\",IF(AV89=MAX(AV$88:AV$90),10,1),0),0))))","v":0},{"$f":"IF(AV119>0,AV119,IF(AW$102-AW$100=3,IF(AW89=MAX(AW$88:AW$90),10,IF(AW89=MIN(AW$88:AW$90),1,5)),IF(AW$102-AW$100=2,IF(MAX($X$118:AV$120 )=10,IF(AW89=MIN(AW$88:AW$90),1,5),IF(AW89=MIN(AW$88:AW$90),5,10)),IF(AW$102-AW$100=1,IF(AW$95=\"B\",IF(AW89=MAX(AW$88:AW$90),10,1),0),0))))","v":0},{"$f":"IF(AW119>0,AW119,IF(AX$102-AX$100=3,IF(AX89=MAX(AX$88:AX$90),10,IF(AX89=MIN(AX$88:AX$90),1,5)),IF(AX$102-AX$100=2,IF(MAX($X$118:AW$120 )=10,IF(AX89=MIN(AX$88:AX$90),1,5),IF(AX89=MIN(AX$88:AX$90),5,10)),IF(AX$102-AX$100=1,IF(AX$95=\"B\",IF(AX89=MAX(AX$88:AX$90),10,1),0),0))))","v":0},{"$f":"IF(AX119>0,AX119,IF(AY$102-AY$100=3,IF(AY89=MAX(AY$88:AY$90),10,IF(AY89=MIN(AY$88:AY$90),1,5)),IF(AY$102-AY$100=2,IF(MAX($X$118:AX$120 )=10,IF(AY89=MIN(AY$88:AY$90),1,5),IF(AY89=MIN(AY$88:AY$90),5,10)),IF(AY$102-AY$100=1,IF(AY$95=\"B\",IF(AY89=MAX(AY$88:AY$90),10,1),0),0))))","v":0},{"$f":"IF(AY119>0,AY119,IF(AZ$102-AZ$100=3,IF(AZ89=MAX(AZ$88:AZ$90),10,IF(AZ89=MIN(AZ$88:AZ$90),1,5)),IF(AZ$102-AZ$100=2,IF(MAX($X$118:AY$120 )=10,IF(AZ89=MIN(AZ$88:AZ$90),1,5),IF(AZ89=MIN(AZ$88:AZ$90),5,10)),IF(AZ$102-AZ$100=1,IF(AZ$95=\"B\",IF(AZ89=MAX(AZ$88:AZ$90),10,1),0),0))))","v":0},{"$f":"IF(AZ119>0,AZ119,IF(BA$102-BA$100=3,IF(BA89=MAX(BA$88:BA$90),10,IF(BA89=MIN(BA$88:BA$90),1,5)),IF(BA$102-BA$100=2,IF(MAX($X$118:AZ$120 )=10,IF(BA89=MIN(BA$88:BA$90),1,5),IF(BA89=MIN(BA$88:BA$90),5,10)),IF(BA$102-BA$100=1,IF(BA$95=\"B\",IF(BA89=MAX(BA$88:BA$90),10,1),0),0))))","v":0},{"$f":"IF(BA119>0,BA119,IF(BB$102-BB$100=3,IF(BB89=MAX(BB$88:BB$90),10,IF(BB89=MIN(BB$88:BB$90),1,5)),IF(BB$102-BB$100=2,IF(MAX($X$118:BA$120 )=10,IF(BB89=MIN(BB$88:BB$90),1,5),IF(BB89=MIN(BB$88:BB$90),5,10)),IF(BB$102-BB$100=1,IF(BB$95=\"B\",IF(BB89=MAX(BB$88:BB$90),10,1),0),0))))","v":0}]
[null,null,null,null,null,null,null,null,null,null,null,null,null,null,null,null,null,null,null,null,null,null,0,{"$f":"IF(X$102-X$100=3,IF(X90=MAX(X$88:X$90),10,IF(X90=MIN(X$88:X$90),1,5)),IF(X$102-X$100=2,\"later\",IF(X$102-X$100=1,IF(X$95=\"C\",IF(X90=MAX(X$88:X$90),10,1),0),0)))","v":0},{"$f":"IF(X120>0,X120,IF(Y$102-Y$100=3,IF(Y90=MAX(Y$88:Y$90),10,IF(Y90=MIN(Y$88:Y$90),1,5)),IF(Y$102-Y$100=2,IF(MAX($X$118:X$120 )=10,IF(Y90=MIN(Y$88:Y$90),1,5),IF(Y90=MIN(Y$88:Y$90),5,10)),IF(Y$102-Y$100=1,IF(Y$95=\"C\",IF(Y90=MAX(Y$88:Y$90),10,1),0),0))))","v":0},{"$f":"IF(Y120>0,Y120,IF(Z$102-Z$100=3,IF(Z90=MAX(Z$88:Z$90),10,IF(Z90=MIN(Z$88:Z$90),1,5)),IF(Z$102-Z$100=2,IF(MAX($X$118:Y$120 )=10,IF(Z90=MIN(Z$88:Z$90),1,5),IF(Z90=MIN(Z$88:Z$90),5,10)),IF(Z$102-Z$100=1,IF(Z$95=\"C\",IF(Z90=MAX(Z$88:Z$90),10,1),0),0))))","v":0},{"$f":"IF(Z120>0,Z120,IF(AA$102-AA$100=3,IF(AA90=MAX(AA$88:AA$90),10,IF(AA90=MIN(AA$88:AA$90),1,5)),IF(AA$102-AA$100=2,IF(MAX($X$118:Z$120 )=10,IF(AA90=MIN(AA$88:AA$90),1,5),IF(AA90=MIN(AA$88:AA$90),5,10)),IF(AA$102-AA$100=1,IF(AA$95=\"C\",IF(AA90=MAX(AA$88:AA$90),10,1),0),0))))","v":0},{"$f":"IF(AA120>0,AA120,IF(AB$102-AB$100=3,IF(AB90=MAX(AB$88:AB$90),10,IF(AB90=MIN(AB$88:AB$90),1,5)),IF(AB$102-AB$100=2,IF(MAX($X$118:AA$120 )=10,IF(AB90=MIN(AB$88:AB$90),1,5),IF(AB90=MIN(AB$88:AB$90),5,10)),IF(AB$102-AB$100=1,IF(AB$95=\"C\",IF(AB90=MAX(AB$88:AB$90),10,1),0),0))))","v":0},{"$f":"IF(AB120>0,AB120,IF(AC$102-AC$100=3,IF(AC90=MAX(AC$88:AC$90),10,IF(AC90=MIN(AC$88:AC$90),1,5)),IF(AC$102-AC$100=2,IF(MAX($X$118:AB$120 )=10,IF(AC90=MIN(AC$88:AC$90),1,5),IF(AC90=MIN(AC$88:AC$90),5,10)),IF(AC$102-AC$100=1,IF(AC$95=\"C\",IF(AC90=MAX(AC$88:AC$90),10,1),0),0))))","v":0},{"$f":"IF(AC120>0,AC120,IF(AD$102-AD$100=3,IF(AD90=MAX(AD$88:AD$90),10,IF(AD90=MIN(AD$88:AD$90),1,5)),IF(AD$102-AD$100=2,IF(MAX($X$118:AC$120 )=10,IF(AD90=MIN(AD$88:AD$90),1,5),IF(AD90=MIN(AD$88:AD$90),5,10)),IF(AD$102-AD$100=1,IF(AD$95=\"C\",IF(AD90=MAX(AD$88:AD$90),10,1),0),0))))","v":0},{"$f":"IF(AD120>0,AD120,IF(AE$102-AE$100=3,IF(AE90=MAX(AE$88:AE$90),10,IF(AE90=MIN(AE$88:AE$90),1,5)),IF(AE$102-AE$100=2,IF(MAX($X$118:AD$120 )=10,IF(AE90=MIN(AE$88:AE$90),1,5),IF(AE90=MIN(AE$88:AE$90),5,10)),IF(AE$102-AE$100=1,IF(AE$95=\"C\",IF(AE90=MAX(AE$88:AE$90),10,1),0),0))))","v":0},{"$f":"IF(AE120>0,AE120,IF(AF$102-AF$100=3,IF(AF90=MAX(AF$88:AF$90),10,IF(AF90=MIN(AF$88:AF$90),1,5)),IF(AF$102-AF$100=2,IF(MAX($X$118:AE$120 )=10,IF(AF90=MIN(AF$88:AF$90),1,5),IF(AF90=MIN(AF$88:AF$90),5,10)),IF(AF$102-AF$100=1,IF(AF$95=\"C\",IF(AF90=MAX(AF$88:AF$90),10,1),0),0))))","v":0},{"$f":"IF(AF120>0,AF120,IF(AG$102-AG$100=3,IF(AG90=MAX(AG$88:AG$90),10,IF(AG90=MIN(AG$88:AG$90),1,5)),IF(AG$102-AG$100=2,IF(MAX($X$118:AF$120 )=10,IF(AG90=MIN(AG$88:AG$90),1,5),IF(AG90=MIN(AG$88:AG$90),5,10)),IF(AG$102-AG$100=1,IF(AG$95=\"C\",IF(AG90=MAX(AG$88:AG$90),10,1),0),0))))","v":0},{"$f":"IF(AG120>0,AG120,IF(AH$102-AH$100=3,IF(AH90=MAX(AH$88:AH$90),10,IF(AH90=MIN(AH$88:AH$90),1,5)),IF(AH$102-AH$100=2,IF(MAX($X$118:AG$120 )=10,IF(AH90=MIN(AH$88:AH$90),1,5),IF(AH90=MIN(AH$88:AH$90),5,10)),IF(AH$102-AH$100=1,IF(AH$95=\"C\",IF(AH90=MAX(AH$88:AH$90),10,1),0),0))))","v":0},{"$f":"IF(AH120>0,AH120,IF(AI$102-AI$100=3,IF(AI90=MAX(AI$88:AI$90),10,IF(AI90=MIN(AI$88:AI$90),1,5)),IF(AI$102-AI$100=2,IF(MAX($X$118:AH$120 )=10,IF(AI90=MIN(AI$88:AI$90),1,5),IF(AI90=MIN(AI$88:AI$90),5,10)),IF(AI$102-AI$100=1,IF(AI$95=\"C\",IF(AI90=MAX(AI$88:AI$90),10,1),0),0))))","v":0},{"$f":"IF(AI120>0,AI120,IF(AJ$102-AJ$100=3,IF(AJ90=MAX(AJ$88:AJ$90),10,IF(AJ90=MIN(AJ$88:AJ$90),1,5)),IF(AJ$102-AJ$100=2,IF(MAX($X$118:AI$120 )=10,IF(AJ90=MIN(AJ$88:AJ$90),1,5),IF(AJ90=MIN(AJ$88:AJ$90),5,10)),IF(AJ$102-AJ$100=1,IF(AJ$95=\"C\",IF(AJ90=MAX(AJ$88:AJ$90),10,1),0),0))))","v":0},{"$f":"IF(AJ120>0,AJ120,IF(AK$102-AK$100=3,IF(AK90=MAX(AK$88:AK$90),10,IF(AK90=MIN(AK$88:AK$90),1,5)),IF(AK$102-AK$100=2,IF(MAX($X$118:AJ$120 )=10,IF(AK90=MIN(AK$88:AK$90),1,5),IF(AK90=MIN(AK$88:AK$90),5,10)),IF(AK$102-AK$100=1,IF(AK$95=\"C\",IF(AK90=MAX(AK$88:AK$90),10,1),0),0))))","v":0},{"$f":"IF(AK120>0,AK120,IF(AL$102-AL$100=3,IF(AL90=MAX(AL$88:AL$90),10,IF(AL90=MIN(AL$88:AL$90),1,5)),IF(AL$102-AL$100=2,IF(MAX($X$118:AK$120 )=10,IF(AL90=MIN(AL$88:AL$90),1,5),IF(AL90=MIN(AL$88:AL$90),5,10)),IF(AL$102-AL$100=1,IF(AL$95=\"C\",IF(AL90=MAX(AL$88:AL$90),10,1),0),0))))","v":0},{"$f":"IF(AL120>0,AL120,IF(AM$102-AM$100=3,IF(AM90=MAX(AM$88:AM$90),10,IF(AM90=MIN(AM$88:AM$90),1,5)),IF(AM$102-AM$100=2,IF(MAX($X$118:AL$120 )=10,IF(AM90=MIN(AM$88:AM$90),1,5),IF(AM90=MIN(AM$88:AM$90),5,10)),IF(AM$102-AM$100=1,IF(AM$95=\"C\",IF(AM90=MAX(AM$88:AM$90),10,1),0),0))))","v":0},{"$f":"IF(AM120>0,AM120,IF(AN$102-AN$100=3,IF(AN90=MAX(AN$88:AN$90),10,IF(AN90=MIN(AN$88:AN$90),1,5)),IF(AN$102-AN$100=2,IF(MAX($X$118:AM$120 )=10,IF(AN90=MIN(AN$88:AN$90),1,5),IF(AN90=MIN(AN$88:AN$90),5,10)),IF(AN$102-AN$100=1,IF(AN$95=\"C\",IF(AN90=MAX(AN$88:AN$90),10,1),0),0))))","v":0},{"$f":"IF(AN120>0,AN120,IF(AO$102-AO$100=3,IF(AO90=MAX(AO$88:AO$90),10,IF(AO90=MIN(AO$88:AO$90),1,5)),IF(AO$102-AO$100=2,IF(MAX($X$118:AN$120 )=10,IF(AO90=MIN(AO$88:AO$90),1,5),IF(AO90=MIN(AO$88:AO$90),5,10)),IF(AO$102-AO$100=1,IF(AO$95=\"C\",IF(AO90=MAX(AO$88:AO$90),10,1),0),0))))","v":0},{"$f":"IF(AO120>0,AO120,IF(AP$102-AP$100=3,IF(AP90=MAX(AP$88:AP$90),10,IF(AP90=MIN(AP$88:AP$90),1,5)),IF(AP$102-AP$100=2,IF(MAX($X$118:AO$120 )=10,IF(AP90=MIN(AP$88:AP$90),1,5),IF(AP90=MIN(AP$88:AP$90),5,10)),IF(AP$102-AP$100=1,IF(AP$95=\"C\",IF(AP90=MAX(AP$88:AP$90),10,1),0),0))))","v":0},{"$f":"IF(AP120>0,AP120,IF(AQ$102-AQ$100=3,IF(AQ90=MAX(AQ$88:AQ$90),10,IF(AQ90=MIN(AQ$88:AQ$90),1,5)),IF(AQ$102-AQ$100=2,IF(MAX($X$118:AP$120 )=10,IF(AQ90=MIN(AQ$88:AQ$90),1,5),IF(AQ90=MIN(AQ$88:AQ$90),5,10)),IF(AQ$102-AQ$100=1,IF(AQ$95=\"C\",IF(AQ90=MAX(AQ$88:AQ$90),10,1),0),0))))","v":0},{"$f":"IF(AQ120>0,AQ120,IF(AR$102-AR$100=3,IF(AR90=MAX(AR$88:AR$90),10,IF(AR90=MIN(AR$88:AR$90),1,5)),IF(AR$102-AR$100=2,IF(MAX($X$118:AQ$120 )=10,IF(AR90=MIN(AR$88:AR$90),1,5),IF(AR90=MIN(AR$88:AR$90),5,10)),IF(AR$102-AR$100=1,IF(AR$95=\"C\",IF(AR90=MAX(AR$88:AR$90),10,1),0),0))))","v":0},{"$f":"IF(AR120>0,AR120,IF(AS$102-AS$100=3,IF(AS90=MAX(AS$88:AS$90),10,IF(AS90=MIN(AS$88:AS$90),1,5)),IF(AS$102-AS$100=2,IF(MAX($X$118:AR$120 )=10,IF(AS90=MIN(AS$88:AS$90),1,5),IF(AS90=MIN(AS$88:AS$90),5,10)),IF(AS$102-AS$100=1,IF(AS$95=\"C\",IF(AS90=MAX(AS$88:AS$90),10,1),0),0))))","v":0},{"$f":"IF(AS120>0,AS120,IF(AT$102-AT$100=3,IF(AT90=MAX(AT$88:AT$90),10,IF(AT90=MIN(AT$88:AT$90),1,5)),IF(AT$102-AT$100=2,IF(MAX($X$118:AS$120 )=10,IF(AT90=MIN(AT$88:AT$90),1,5),IF(AT90=MIN(AT$88:AT$90),5,10)),IF(AT$102-AT$100=1,IF(AT$95=\"C\",IF(AT90=MAX(AT$88:AT$90),10,1),0),0))))","v":0},{"$f":"IF(AT120>0,AT120,IF(AU$102-AU$100=3,IF(AU90=MAX(AU$88:AU$90),10,IF(AU90=MIN(AU$88:AU$90),1,5)),IF(AU$102-AU$100=2,IF(MAX($X$118:AT$120 )=10,IF(AU90=MIN(AU$88:AU$90),1,5),IF(AU90=MIN(AU$88:AU$90),5,10)),IF(AU$102-AU$100=1,IF(AU$95=\"C\",IF(AU90=MAX(AU$88:AU$90),10,1),0),0))))","v":0},{"$f":"IF(AU120>0,AU120,IF(AV$102-AV$100=3,IF(AV90=MAX(AV$88:AV$90),10,IF(AV90=MIN(AV$88:AV$90),1,5)),IF(AV$102-AV$100=2,IF(MAX($X$118:AU$120 )=10,IF(AV90=MIN(AV$88:AV$90),1,5),IF(AV90=MIN(AV$88:AV$90),5,10)),IF(AV$102-AV$100=1,IF(AV$95=\"C\",IF(AV90=MAX(AV$88:AV$90),10,1),0),0))))","v":0},{"$f":"IF(AV120>0,AV120,IF(AW$102-AW$100=3,IF(AW90=MAX(AW$88:AW$90),10,IF(AW90=MIN(AW$88:AW$90),1,5)),IF(AW$102-AW$100=2,IF(MAX($X$118:AV$120 )=10,IF(AW90=MIN(AW$88:AW$90),1,5),IF(AW90=MIN(AW$88:AW$90),5,10)),IF(AW$102-AW$100=1,IF(AW$95=\"C\",IF(AW90=MAX(AW$88:AW$90),10,1),0),0))))","v":0},{"$f":"IF(AW120>0,AW120,IF(AX$102-AX$100=3,IF(AX90=MAX(AX$88:AX$90),10,IF(AX90=MIN(AX$88:AX$90),1,5)),IF(AX$102-AX$100=2,IF(MAX($X$118:AW$120 )=10,IF(AX90=MIN(AX$88:AX$90),1,5),IF(AX90=MIN(AX$88:AX$90),5,10)),IF(AX$102-AX$100=1,IF(AX$95=\"C\",IF(AX90=MAX(AX$88:AX$90),10,1),0),0))))","v":0},{"$f":"IF(AX120>0,AX120,IF(AY$102-AY$100=3,IF(AY90=MAX(AY$88:AY$90),10,IF(AY90=MIN(AY$88:AY$90),1,5)),IF(AY$102-AY$100=2,IF(MAX($X$118:AX$120 )=10,IF(AY90=MIN(AY$88:AY$90),1,5),IF(AY90=MIN(AY$88:AY$90),5,10)),IF(AY$102-AY$100=1,IF(AY$95=\"C\",IF(AY90=MAX(AY$88:AY$90),10,1),0),0))))","v":0},{"$f":"IF(AY120>0,AY120,IF(AZ$102-AZ$100=3,IF(AZ90=MAX(AZ$88:AZ$90),10,IF(AZ90=MIN(AZ$88:AZ$90),1,5)),IF(AZ$102-AZ$100=2,IF(MAX($X$118:AY$120 )=10,IF(AZ90=MIN(AZ$88:AZ$90),1,5),IF(AZ90=MIN(AZ$88:AZ$90),5,10)),IF(AZ$102-AZ$100=1,IF(AZ$95=\"C\",IF(AZ90=MAX(AZ$88:AZ$90),10,1),0),0))))","v":0},{"$f":"IF(AZ120>0,AZ120,IF(BA$102-BA$100=3,IF(BA90=MAX(BA$88:BA$90),10,IF(BA90=MIN(BA$88:BA$90),1,5)),IF(BA$102-BA$100=2,IF(MAX($X$118:AZ$120 )=10,IF(BA90=MIN(BA$88:BA$90),1,5),IF(BA90=MIN(BA$88:BA$90),5,10)),IF(BA$102-BA$100=1,IF(BA$95=\"C\",IF(BA90=MAX(BA$88:BA$90),10,1),0),0))))","v":0},{"$f":"IF(BA120>0,BA120,IF(BB$102-BB$100=3,IF(BB90=MAX(BB$88:BB$90),10,IF(BB90=MIN(BB$88:BB$90),1,5)),IF(BB$102-BB$100=2,IF(MAX($X$118:BA$120 )=10,IF(BB90=MIN(BB$88:BB$90),1,5),IF(BB90=MIN(BB$88:BB$90),5,10)),IF(BB$102-BB$100=1,IF(BB$95=\"C\",IF(BB90=MAX(BB$88:BB$90),10,1),0),0))))","v":0}]